Workbook

Sheet DEDUCIBLES
A1: CONSEJO NACIONAL ELECTORAL - CNE
A2: EVALUACIÓN DE DEDUCIBLES 30 PUNTOS
A4: TODO RIESGO DAÑOS MATERIALES
A5: Deducibles | C5: Puntaje máximo otorgable por cada condición
A6: Tablas de calificación | F6: Puntaje | H6: Puntaje
A7: a) Terremoto, temblor y/o erupción volcánica, maremoto, tsunami: | C7: 6
A8: b) HMACCOP, AMIT, sabotaje y terrorismo | C8: 6
A9: c) Hurto calificado y hurto simple | C9: 6
A10: d) Equipos móviles y portátiles | C10: 3
A11: e) Demás eventos equipo eléctrico y electrónico | C11: 3
A12: f) Rotura de Maquinaria | C12: 3
A13: g) Demás eventos | C13: 3
A14: Total puntos: | C14: =SUM(C7:D13) -> 30
A15: a) Terremoto, temblor y/o erupción volcánica, maremoto, tsunami (sin mínimo) 5 puntos
A16: Evaluación de porcentaje:
A17: RANGO DE DEDUCIBLE | B17: Puntaje sobre el valor de la pérdida indemnizable
A18: Sin deducible | B18: 6
A19: Superior a 0% y hasta 1% | B19: 5
A20: Superior a 1% y hasta 2% | B20: 4
A21: Superior a 2% y hasta 3% | B21: 3
A22: Superior a 3% | B22: Se tendrá en cuenta lo establecido en el factor de deducibles indicado en el pliego de condiciones
A23: RANGO DE DEDUCIBLE | B23: Sobre el valor asegurado del bien afectado
A24: Sin deducible | B24: 6
A25: Superior a 0% y hasta 1% | B25: 2
A26: Superior a 1% y hasta 2% | B26: 1.5
A27: Superior a 2% y hasta 3% | B27: 1
A28: Superior a 3% | B28: Se tendrá en cuenta lo establecido en el factor de deducibles indicado en el pliego de condiciones
A29: RANGO DE DEDUCIBLE | B29: Sobre el valor asegurable del bien afectado
A30: Sin deducible | B30: 6
A31: Superior a 0% y hasta 1% | B31: 0.5
A32: Superior a 1% y hasta 2% | B32: 0.3
A33: Superior a 2% y hasta 3% | B33: 0.1
A34: Superior a 3% | B34: Se tendrá en cuenta lo establecido en el factor de deducibles indicado en el pliego de condiciones
A35: b) HAMCCoP, AMIT (incluyendo sabotaje y terrorismo (sin mínimo) 5 puntos
A36: Evaluación de Porcentaje sobre el valor de la pérdida
A37: RANGO DE DEDUCIBLE | B37: Puntaje
A38: Sin deducible | B38: 6
A39: Superior a 0% y hasta 1% | B39: 4
A40: Superior a 1% y hasta 2% | B40: 3
A41: Superior a 2% y hasta 3% | B41: 2
...

Sheet Comp TRDM
A1: CONDICIONES TÉCNICAS COMPLEMENTARIAS
A2: =+DEDUCIBLES!A1 -> CONSEJO NACIONAL ELECTORAL - CNE
A3: PÓLIZA TODO RIESGO DAÑO MATERIAL
A4: Condiciones Complementarias | B4: 30 Puntos | D4: Puntaje
A5: Porcentaje adicional para la condición de anticipo de la indemnización | B5: 3
A6: Se califica con el máximo puntaje el mayor porcentaje establecido en exceso del básico obligatorio, los demás en forma proporcional utilizando una regla de tres
A7: Límite adicional para la cobertura de hurto simple y calificado para equipos móviles y/o portátiles fuera de los predios del asegurado, incluidos los movilizados al exterior. | B7: 3
A8: Se califica con el máximo puntaje el mayor límite en porcentaje establecido en exceso del básico obligatorio para la aplicación de infraseguro, los demás en forma proporcional utilizando una regla de tres
A9: Porcentaje adicional para la condición de no aplicación de infraseguro. Queda entendido, convenido y aceptado que el valor real del interés asegurado es el que se señala en la carátula de la póliza. Por lo tanto, en caso de ocurrir un siniestro amparado bajo la presente póliza, la aseguradora indemnizará la pérdida hasta el monto del valor real de la pérdida, sin hacer aplicación de la regla proporcional por infraseguro, de acuerdo a lo señalado por el artículo 1089 del código de comercio. La regla proporcional se aplicara, siempre y cuando la diferencia entre el valor asegurado y el valor asegurable, sea superior al __%. | B9: 3
A10: Se califica con el máximo puntaje el mayor porcentaje establecido en exceso del básico obligatorio para la aplicación de infraseguro, los demás en forma proporcional utilizando una regla de tres.
A11: Límite adicional para Monto Agregado sin aplicación de deducibles. Para cualquier daño y/o pérdida derivada de los eventos cubiertos. No aplica para pérdidas por terrorismo y terremoto. | B11: 4
A12: Se califica con el máximo puntaje el mayor límite ofrecido adicional al básico obligatorio, los demás en forma proporcional, utilizando una regla de tres.
A13: Calificación para el mayor límite individual: 50% de los puntos
A14: Calificación para el acumulado: 50% de los puntos
A15: Suma adicional a la condición de reparaciones sin previa autorización. | B15: 2
A16: Se califica con el máximo puntaje el mayor límite ofrecido adicional al básico obligatorio, los demás en forma proporcional, utilizando una regla de tres.
A17: Suma adicional a la condición de reparaciones y ajuste de pérdidas en caso de siniestro. Para aquellas pérdidas o daños que no excedan la suma determinada el deducible pactado, la Aseguradora acepta abstenerse de nombrar ajustador y autoriza al asegurado para efectuar las reparaciones necesarias, con el compromiso del asegurado de informar el siniestro a la Asegurador. | B17: 2
A18: Se califica con el máximo puntaje el mayor límite ofrecido adicional al básico obligatorio, los demás en forma proporcional, utilizando una regla de tres.
A19: Suma adicional a la condición de no tasación o inventarios cuando la pérdida sea inferior al monto determinado. | B19: 2
A20: Se califica con el máximo puntaje el mayor límite ofrecido adicional al básico obligatorio, los demás en forma proporcional, utilizando una regla de tres.
A21: Modificación de la Tabla de demérito que opera en caso de pérdidas totales por daño interno en equipos eléctricos y/o electrónicos | B21: 5
A22: La tabla de demérito inicia con un porcentaje de cero (0) por ciento anual para equipos con edad hasta de cinco (5) años. Se califica con el máximo puntaje la mayor cantidad de años ofrecida, los demás en forma proporcional, utilizando una regla de tres. Si indica un (1) año se entenderá que es adicional al rango de cinco (5) años y se interpretará que el primer rango irá hasta seis (6) años.
A23: Suma adicional a la condición de bienes bajo cuidado, tenencia y control | B23: 2
A24: Se califica con el máximo puntaje el mayor límite ofrecido adicional al básico obligatorio, los demás en forma proporcional, utilizando una regla de tres.
A25: Sublímite agregado para gastos adicionales | B25: 2
A26: Se califica con el máximo puntaje el mayor límite ofrecido adicional al básico obligatorio, los demás en forma proporcional, utilizando una regla de tres.
A27: Extensión para la suspensión o reducción de servicios públicos. Bajo esta cobertura se extiende a cubrir los gastos adicionales y extraordinarios por la suspensión o reducción de los servicios de energía, agua y gas entre otros, como consecuencia de la ocurrencia de uno de los riesgos amparados bajo la presente póliza, que afecte, ya sea los intereses asegurados o aquellos bienes de las empresas o entidades que suministren dichos servicios. (Se excluyen torres, postes y líneas de transmisión y/o distribución de energía, así como oleoductos, gasoductos y/o poliductos a menos que estos se encuentren exclusivamente dentro de los predios del asegurado y que sean de su propiedad). La aceptación de esta condición otorgará el puntaje ofrecido, la negación para aceptar esta condición no concederá puntaje. | B27: 2
A28: Total Puntos - Condiciones Complementarias | B28: =SUM(B5:B27) -> 30 | D28: =SUM(D5:D27) -> 0

Sheet Comp AUT
A1: CONDICIONES TÉCNICAS COMPLEMENTARIAS
A2: =DEDUCIBLES!A1 -> CONSEJO NACIONAL ELECTORAL - CNE
A3: PÓLIZA DE SEGURO DE AUTOMÓVILES
A4: Condiciones Complementarias | D4: 30 Puntos | F4: Puntaje
A5: Incremento del límite básico para la cobertura de Responsabilidad Civil Extracontractual, SIN COBRO ADICIONAL DE PRIMA. (Para vehículos y motos) | D5: 15
A6: Al proponente que ofrezca únicamente el límite básico exigido de $2.500.000.000 / $2.500.000.000 / $5.000.000.000, se le asignarán 10 puntos
A7: Al proponente que ofrezca únicamente el límite básico exigido de $3.000.000.000 / $3.000.000.000 / $6.000.000.000, se le asignara 15 puntos
A8: El proponente DEBE presente oferta bajo el esquema de los rangos y límites antes indicados, por lo tanto en caso de presentar oferta bajo otras condiciones (Rangos o montos de límites diferentes), la propuesta no será objeto de asignación de puntaje
A9: Al proponente que no otorgue ninguno de los límite antes indicados se calificará con cero (0) puntos.
A10: Accidentes personales para el conductor con ocasión de accidente de tránsito del vehículo asegurado Se califica con el máximo puntaje el mayor límite ofrecido adicional al básico obligatorio, los demás en forma proporcional, utilizando una regla de tres. | D10: 5
A11: ACCIDENTES PERSONALES A OCUPANTES La cobertura de la Póliza se extiende a amparar muerte o lesiones a ocupantes del vehículo asegurado. El valor por cada ocupante estará definido en la caratula de la póliza y cubrirá únicamente al número de pasajeros establecidos en la licencia de tránsito del vehículo asegurado. Se califica con el máximo puntaje el mayor límite ofrecido en pesos, los demás en forma proporcional, utilizando una regla de tres. | D11: 7
A12: Límite adicional para el Amparo automático de vehículos nuevos y usados. Se califica con el máximo puntaje el mayor límite adicional al básico obligatorio y los demás en forma proporcional, aplicando una regla de tres. | D12: 3
A13: Total Puntos - Condiciones Complementarias | D13: =SUM(D5:D12) -> 30 | F13: =SUM(F5:F12) -> 0

Sheet Comp RCE
A1: CONDICIONES TÉCNICAS COMPLEMENTARIAS
A2: =+DEDUCIBLES!A1 -> CONSEJO NACIONAL ELECTORAL - CNE
A3: PÓLIZA DE SEGURO DE RESPONSABILIDAD CIVIL EXTRACONTRACTUAL
A4: Condiciones Complementarias | B4: 30 Puntos | D4: Puntaje
A5: Limite asegurado adicional al básico sin cobro de prima adicional. Para la calificación de esta condición se asignará el mayor puntaje al proponente que ofrezca el mayor límite asegurado adicional al básico, los demás obtendrán un puntaje proporcional, utilizado una regla de tres. | B5: 4
A6: Límite adicional para la cobertura de Responsabilidad civil derivada de montajes, construcciones y obras civiles para el mantenimiento o ampliación de predios. Se otorgará el mayor puntaje al proponente que ofrezca el mayor límite de cobertura adicional al básico obligatorio y los demás límites puntuarán de manera proporcional, utilizando una regla de tres. | B6: 2
A7: Sublímite de Responsabilidad civil cruzada entre Contratistas. Se califica con el máximo puntaje el mayor límite adicional al básico obligatorio, los demás en forma proporcional, utilizando una regla de tres. | B7: 2
A8: Sublímite de Responsabilidad Civil Parqueaderos y predios del asegurado. incluyendo Daños, Hurto y Hurto Calificado de vehículos y de Accesorios, Se califica con el máximo puntaje el mayor límite adicional al básico obligatorio, los demás en forma proporcional, utilizando una regla de tres. | B8: 3
A9: Sublímite Gastos médicos, hospitalarios y traslado de víctimas. Se califica con el máximo puntaje el mayor límite adicional al básico obligatorio, los demás en forma proporcional, utilizando una regla de tres. | B9: 3
A10: Sublímite Responsabilidad civil derivada del uso de vehículos propios y no propios. Se califica con el máximo puntaje el mayor límite adicional al básico obligatorio, los demás en forma proporcional, utilizando una regla de tres. | B10: 2
A11: Limite adicional para la cobertura de gastos para la demostración del siniestro. Se califica con el máximo puntaje el mayor límite adicional al básico obligatorio, los demás en forma proporcional, utilizando una regla de tres. | B11: 2
A12: Límite adicional en porcentaje para la cobertura de RC Patronal. Se califica con el máximo puntaje el mayor porcentaje adicional al básico obligatorio, los demás en forma proporcional, utilizando una regla de tres. | B12: 2
A13: Responsabilidad civil derivada de actos terroristas. Limite 10% por evento y 20% del limite asegurado por vigencia. La aceptación de esta condición otorgará el puntaje ofrecido, la negación para aceptar esta condición no concederá puntaje. | B13: 4
A14: Disposiciones legales sobre el medio ambiente. La aceptación de esta condición otorgará el puntaje ofrecido, la negación para aceptar esta condición no concederá puntaje. | B14: 3
A15: Límite adicional para bienes de terceros bajo cuidado, tenencia, control y custodia declarados o no por el asegurado, sublímite para daños y hurto a los bienes por evento/vigencia . Se califica con el máximo puntaje el mayor porcentaje adicional al básico obligatorio, los demás en forma proporcional, utilizando una regla de tres. | B15: 3
A16: Total Puntos - Condiciones Complementarias | B16: =SUM(B5:B15) -> 30 | D16: =SUM(D5:D15) -> 0

Sheet Comp RCSP
A1: CONDICIONES TÉCNICAS COMPLEMENTARIAS
A2: =DEDUCIBLES!A1 -> CONSEJO NACIONAL ELECTORAL - CNE
A3: PÓLIZA DE SEGURO RESPONSABILIDAD CIVIL SERVIDORES PÚBLICOS
A4: Condiciones Complementarias | B4: 30 Puntos | D4: Puntaje
A5: Limite para Perjuicios o detrimentos patrimoniales agregado adicional al básico sin cobro de prima adicional Límite Asegurado por evento / agregado Vigencia, incluyendo los gastos de defensa. Para la calificación de esta condición, se asignará el mayor puntaje al proponente que ofrezca el mayor límite ofrecido adicional al básico obligatorio, los demás en forma proporcional aplicando una regla de tres. | B5: 6
A6: Limite para gastos de defensa agregado adicional al básico sin cobro de prima adicional, para cada una de las etapas. Límite combinado con perjuicios o detrimentos patrimoniales Evento/ agregado vigencia Para la calificación de esta condición, se asignará el mayor puntaje al proponente que ofrezca el mayor límite ofrecido adicional al básico obligatorio, los demás en forma proporcional aplicando una regla de tres. | B6: 6
A7: Límite adicional para otros costos procesales, incluyendo cauciones judiciales y agencias en derecho. Para la calificación de esta condición, se asignará el mayor puntaje al proponente que ofrezca el mayor límite ofrecido adicional al básico obligatorio, los demás en forma proporcional aplicando una regla de tres. | B7: 3
A8: INCREMENTO DEL LÍMITE BÁSICO PARA LA COBERTURA DE GASTOS DE DEFENSA. Para los cargos asegurados en los PROCESOS DE INDAGACIÓN Límite adicional para INVESTIGACIONES PRELIMINARES. Para la calificación de esta condición, se asignará el mayor puntaje al proponente que ofrezca el mayor límite ofrecido adicional al básico obligatorio, los demás en forma proporcional aplicando una regla de tres. | B8: 6
A9: INCREMENTO DEL LÍMITE BÁSICO PARA LA COBERTURA DE GASTOS DE DEFENSA. Para los cargos asegurados desde la VINCULACIÓN PROCESAL HASTA FALLO QUE HAGA TRANSITO A COSA JUZGADA. Para la calificación de esta condición, se asignará el mayor puntaje al proponente que ofrezca el mayor límite ofrecido adicional al básico obligatorio, los demás en forma proporcional aplicando una regla de tres. | B9: 6
A10: Pago de indemnizaciones por concepto de perjuicios patrimoniales, antes del fallo de una acción de repetición o una vez se produzca el llamamiento en garantía con fines de repetición. Se otorga siempre y cuando este demostrada la ocurrencia y la cuantía de la pérdida. La aceptación de esta condición otorgará puntaje la negación se evaluará con cero puntos. | B10: 3
A11: Total Puntos - Condiciones Complementarias | B11: =SUM(B5:B10) -> 30 | D11: =SUM(D5:D10) -> 0

Sheet Comp MAN
A1: CONDICIONES TÉCNICAS COMPLEMENTARIAS
A2: =+DEDUCIBLES!A1 -> CONSEJO NACIONAL ELECTORAL - CNE
A3: PÓLIZA DE SEGURO DE MANEJO PARA ENTIDADES OFICIALES
A4: Condiciones Complementarias | B4: 30 Puntos | D4: Puntaje
A5: Limite asegurado adicional al básico sin cobro de prima adicional. Para la calificación de esta condición, se asignará el mayor puntaje al proponente que ofrezca, en adición al límite obligatorio, el mayor límite asegurado, sin cobro de prima adicional, los demás en forma proporcional, utilizando una regla de tres. | B5: 10
A6: Límite adicional para la cobertura de Faltantes de Inventario. Para la calificación de esta condición, se asignará el mayor puntaje al proponente que ofrezca, en adición al límite obligatorio en porcentaje, el mayor límite asegurado, sin cobro de prima adicional, los demás en forma proporcional, utilizando una regla de tres. | B6: 8
A7: Costos en juicios y honorarios profesionales. Para la calificación de esta condición, se asignará el mayor puntaje al proponente que ofrezca, en adición del valor asegurado máximo evento / vigencia , el mayor límite asegurado, sin cobro de prima adicional, los demás en forma proporcional, utilizando una regla de tres. | B7: 5
A8: Apropiación de bienes por parte de empleados del asegurado, al amparo de situaciones creadas por los siguientes eventos: *Incendio, Explosión, AMIT Y AMCCOPH incluido Terrorismo, Terremoto, temblor y/o erupción volcánica y demás eventos de la naturaleza y Actos de Autoridad. evento/vigencia. Para la calificación de esta condición, se asignará el mayor puntaje al proponente que ofrezca, en adición al límite obligatorio, el mayor límite asegurado, sin cobro de prima adicional, los demás en forma proporcional, utilizando una regla de tres | B8: 7
A9: Total Puntos - Condiciones Complementarias | B9: =SUM(B5:B8) -> 30 | D9: =SUM(D5:D8) -> 0

Sheet Comp IRF
A1: INSTITUTO NACIONAL DE VIAS CONDICIONES TÉCNICAS COMPLEMENTARIAS SEGURO DE INCENDIO DEUDORES
A2: CONDICIONES TÉCNICAS COMPLEMENTARIAS
A3: =DEDUCIBLES!A1 -> CONSEJO NACIONAL ELECTORAL - CNE
A4: PÓLIZA DE SEGURO DE INFIDELIDAD Y RIESGOS FINANCIEROS
A5: Condiciones Complementarias | B5: 30 Puntos | D5: Puntaje
A6: Límite adicional de valor asegurado al básico exigido evento / agregado anual. Se califica el límite adicional al básico obligatorio sin cobro de prima de acuerdo con lo siguiente: | B6: 6
A7: Ofrecimiento de límite adicional al básico por evento de $50.000.000 y en el agregado hasta $100.000.000 adicional al básico. Total Puntos 3
A8: Ofrecimiento de límite adicional al básico por evento de $200.000.000 y en el agregado hasta $400.000.000 adicional al básico. Total Puntos 6
A9: Ampliación en meses del periodo máximo de indemnización en la cobertura de costo neto financiero. Se califica con el mayor puntaje al oferente que ofrezca el mayor límite adicional al básico obligatorio en meses y los demás en forma proporcional, aplicando una regla de tres. | B9: 5
A10: Menor límite en días para deducible de costo neto financiero. Se califica con el mayor puntaje al oferente que ofrezca el menor número de días para el deducible de costo neto financiero establecido en condiciones básicas y los demás en forma proporcional, aplicando una regla de tres. | B10: 5
A11: Límite adicional en pesos para Gastos Adicionales. Se califica con el mayor puntaje al oferente que ofrezca el mayor límite en pesos adicional al básico obligatorio y los demás en forma proporcional, aplicando una regla de tres. | B11: 5
A12: No aplicación de garantías, ni subjetividades, queda expresamente acordado y aceptado que la cobertura otorgada bajo la presente póliza no queda sujeta al cumplimiento de ningún tipo de garantía y subjetividad por parte de la entidad asegurada. La aceptación de esta condición otorgará el puntaje ofrecido, la negación para aceptar esta condición no concederá puntaje. | B12: 5
A13: Desaparición misteriosa y destrucción con respecto a dinero y títulos valores. Se califica con el mayor puntaje al oferente que ofrezca el mayor límite en pesos adicional al básico obligatorio y los demás en forma proporcional, aplicando una regla de tres. | B13: 4
A14: Total Puntos - Condiciones Complementarias | B14: =SUM(B6:B13) -> 30 | D14: =+SUM(D6:D13) -> 0
