Workbook
Name _: #REF!
Name _________________________________apu1: #REF!
Name ________________________________apu1: #REF!
Name _______________________________apu1: #REF!
Name ______________________________apu1: #REF!
Name ____________________________apu1: #REF!
Name ___________________________apu1: #REF!
Name __________________________apu1: #REF!
Name _________________________apu1: #REF!
Name ________________________apu1: #REF!
Name _______________________apu1: #REF!
Name _____________________apu1: #REF!
Name ____________________apu1: #REF!
Name ___________________apu1: #REF!
Name __________________apu1: #REF!
Name _________________apu1: #REF!
Name ________________apu1: #REF!
Name _______________apu1: #REF!
Name _______________EST1: #REF!
Name _______________EST10: #REF!
Name _______________EST11: #REF!
Name _______________EST12: #REF!
Name _______________EST13: #REF!
Name _______________EST14: #REF!
Name _______________EST15: #REF!
Name _______________EST16: #REF!
Name _______________EST17: #REF!
Name _______________EST18: #REF!
Name _______________EST19: #REF!
Name _______________EST2: #REF!
Name _______________EST3: #REF!
Name _______________EST4: #REF!
Name _______________EST5: #REF!
Name _______________EST6: #REF!
Name _______________EST7: #REF!
Name _______________EST8: #REF!
Name _______________EST9: #REF!
Name _______________EXC1: #REF!
Name _______________EXC10: #REF!
Name _______________EXC11: #REF!
Name _______________EXC12: #REF!
Name _______________EXC2: #REF!
Name _______________EXC3: #REF!
Name _______________EXC4: #REF!
Name _______________EXC5: #REF!
Name _______________EXC6: #REF!
Name _______________EXC7: #REF!
Name _______________EXC8: #REF!
Name _______________EXC9: #REF!
Name ______________apu1: #REF!
Name _____________apu1: #REF!
Name _____________cua1: #REF!
Name _____________DMD1: #REF!
Name _____________EST1: #REF!
Name _____________EST10: #REF!
Name _____________EST11: #REF!
Name _____________EST12: #REF!
Name _____________EST13: #REF!
Name _____________EST14: #REF!
Name _____________EST15: #REF!

Sheet CAPITULOS
B2: ITEM | C2: DESCRIPCIÓN | D2: VR TOTAL | E2: %
B3: 1 | C3: =IFERROR(INDEX(ACTIVIDADES!$B:$B,MATCH(B3,ACTIVIDADES!$A:$A,0)),"") -> PRELIMINARES | D3: =IFERROR(INDEX(ACTIVIDADES!$F:$F,MATCH(B3,ACTIVIDADES!$A:$A,0)),"") -> 0 | E3: =IFERROR(D3/$D$23,"")
B4: 2 | C4: =IFERROR(INDEX(ACTIVIDADES!$B:$B,MATCH(B4,ACTIVIDADES!$A:$A,0)),"") -> RETIROS Y DEMOLICIONES | D4: =IFERROR(INDEX(ACTIVIDADES!$F:$F,MATCH(B4,ACTIVIDADES!$A:$A,0)),"") -> 0 | E4: =IFERROR(D4/$D$23,"")
B5: 3 | C5: =IFERROR(INDEX(ACTIVIDADES!$B:$B,MATCH(B5,ACTIVIDADES!$A:$A,0)),"") -> VENTANERIA | D5: =IFERROR(INDEX(ACTIVIDADES!$F:$F,MATCH(B5,ACTIVIDADES!$A:$A,0)),"") -> 0 | E5: =IFERROR(D5/$D$23,"")
B6: 4 | C6: =IFERROR(INDEX(ACTIVIDADES!$B:$B,MATCH(B6,ACTIVIDADES!$A:$A,0)),"") | D6: =IFERROR(INDEX(ACTIVIDADES!$F:$F,MATCH(B6,ACTIVIDADES!$A:$A,0)),"") | E6: =IFERROR(D6/$D$23,"")
B7: 5 | C7: =IFERROR(INDEX(ACTIVIDADES!$B:$B,MATCH(B7,ACTIVIDADES!$A:$A,0)),"") -> PISOS | D7: =IFERROR(INDEX(ACTIVIDADES!$F:$F,MATCH(B7,ACTIVIDADES!$A:$A,0)),"") -> 0 | E7: =IFERROR(D7/$D$23,"")
B8: 6 | C8: =IFERROR(INDEX(ACTIVIDADES!$B:$B,MATCH(B8,ACTIVIDADES!$A:$A,0)),"") -> IMPERMEABILIZACIONES | D8: =IFERROR(INDEX(ACTIVIDADES!$F:$F,MATCH(B8,ACTIVIDADES!$A:$A,0)),"") -> 0 | E8: =IFERROR(D8/$D$23,"")
B9: 7 | C9: =IFERROR(INDEX(ACTIVIDADES!$B:$B,MATCH(B9,ACTIVIDADES!$A:$A,0)),"") | D9: =IFERROR(INDEX(ACTIVIDADES!$F:$F,MATCH(B9,ACTIVIDADES!$A:$A,0)),"") | E9: =IFERROR(D9/$D$23,"")
B10: 8 | C10: =IFERROR(INDEX(ACTIVIDADES!$B:$B,MATCH(B10,ACTIVIDADES!$A:$A,0)),"") -> PINTURA | D10: =IFERROR(INDEX(ACTIVIDADES!$F:$F,MATCH(B10,ACTIVIDADES!$A:$A,0)),"") -> 0 | E10: =IFERROR(D10/$D$23,"")
B11: 9 | C11: =IFERROR(INDEX(ACTIVIDADES!$B:$B,MATCH(B11,ACTIVIDADES!$A:$A,0)),"") | D11: =IFERROR(INDEX(ACTIVIDADES!$F:$F,MATCH(B11,ACTIVIDADES!$A:$A,0)),"") | E11: =IFERROR(D11/$D$23,"")
B12: 10 | C12: =IFERROR(INDEX(ACTIVIDADES!$B:$B,MATCH(B12,ACTIVIDADES!$A:$A,0)),"") -> CUBIERTA | D12: =IFERROR(INDEX(ACTIVIDADES!$F:$F,MATCH(B12,ACTIVIDADES!$A:$A,0)),"") -> 0 | E12: =IFERROR(D12/$D$23,"")
B13: 11 | C13: =IFERROR(INDEX(ACTIVIDADES!$B:$B,MATCH(B13,ACTIVIDADES!$A:$A,0)),"") | D13: =IFERROR(INDEX(ACTIVIDADES!$F:$F,MATCH(B13,ACTIVIDADES!$A:$A,0)),"") | E13: =IFERROR(D13/$D$23,"")
B14: 12 | C14: =IFERROR(INDEX(ACTIVIDADES!$B:$B,MATCH(B14,ACTIVIDADES!$A:$A,0)),"") -> APARATOS SANITARIOS Y COCINA | D14: =IFERROR(INDEX(ACTIVIDADES!$F:$F,MATCH(B14,ACTIVIDADES!$A:$A,0)),"") -> 0 | E14: =IFERROR(D14/$D$23,"")
... B20: 18 | C20: =IFERROR(INDEX(ACTIVIDADES!$B:$B,MATCH(B20,ACTIVIDADES!$A:$A,0)),"") | D20: =IFERROR(INDEX(ACTIVIDADES!$F:$F,MATCH(B20,ACTIVIDADES!$A:$A,0)),"") | E20: =IFERROR(D20/$D$23,"")
B21: 19 | C21: =IFERROR(INDEX(ACTIVIDADES!$B:$B,MATCH(B21,ACTIVIDADES!$A:$A,0)),"") | D21: =IFERROR(INDEX(ACTIVIDADES!$F:$F,MATCH(B21,ACTIVIDADES!$A:$A,0)),"")
C23: COSTO OBRA CIVIL E INSTALACIONES ANTES DE A.U. | D23: =SUM(D3:D22) -> 0
C25: ADMINISTRACIÓN | D25: =IFERROR(+'[2]FORM-AU'!I46,"") -> 2.6428578e-09
C26: UTILIDAD | D26: =+ACTIVIDADES!#REF! -> #REF!
C28: COSTO DIRECTO TOTAL | D28: =SUM(D23:D27) -> #REF!
F29: POLIZAS | G29: PGIO
C30: COSTOS REEMBOLSABLES DE OBRA | D30: =SUM(F30:G30) -> 0 | F30: =+[2]POLIZAS!G15 -> 0 | G30: =+[2]PGIO!G53 -> 0
C31: INTERVENTORIA | D31: =+'[2]FORM-INTER'!G36 -> 0
C32: PGIO | D32: =+ACTIVIDADES!#REF! -> #REF!
C33: OTROS | D33: =+ACTIVIDADES!#REF! -> #REF!
C35: COSTOS INDIRECTOS | D35: =SUM(D30:D34) -> #REF!
C37: COSTO TOTAL PROYECTO | D37: =+D35+D28 -> #REF!

Sheet ACTIVIDADES
B3: PRESUPUESTO MEJORAMIENTO COLISEO MUNICIPAL ALCALDIA DE ABEJORRAL ANTIOQUIA
A5: ITEM | B5: DESCRIPCIÓN | C5: UNIDAD | D5: CANTIDAD | E5: VR UNITARIO | F5: VR TOTAL
A6: 1 | B6: PRELIMINARES
A7: =+A6+0.01 -> 1.01 | B7: Suministro e Instalación de CERRAMIENTO PROVISIONAL en tela naranja con una altura de 2,1 m. y estructura en larguero común. Incluye suministro, transporte, instalación y desmonte de la tela , excavación manual en cualquier material y todos los demás elementos necesarios para su correcta instalación. | C7: ml | D7: 85 | E7: =+APU!I7 -> 1779.909 | F7: =D7*E7 -> 151292.26
A8: 2 | B8: RETIROS Y DEMOLICIONES
A9: =+A8+0.01 -> 2.01 | B9: retiro y botada de cubierta en teja de fibrocemento. Incluye andamios certificados y procedimiento de trabajo en alturas | C9: m² | D9: =36*29.1 -> 1047.6 | E9: =+APU!I77 -> 19578.999 | F9: =D9*E9 -> 20510959
A10: 3 | B10: VENTANERIA
A11: 3.01 | B11: Ventaneria en persiana metalica invertida para vanos existentes | C11: und | D11: 48 | E11: 385000 | F11: =+E11*D11 -> 18480000
A12: 5 | B12: PISOS
A13: =+A12+0.1 -> 5.1 | B13: Mejoramiento de piso existente con destronque y sello de juntas | C13: m2 | D13: =+D9*0.9 -> 942.84 | E13: =+APU!I364 -> 34872.172 | F13: =+E13*D13 -> 32878879
A14: =+A13+0.1 -> 5.2 | B14: Pintura de piso en pintura plastica para escenarios deportivos, incluye lineas de demarcacion definidas | C14: m2 | D14: =+D13 -> 942.84 | E14: =+APU!I401 -> 42332.075 | F14: =+E14*D14 -> 39912374
A15: 6 | B15: IMPERMEABILIZACIONES
A16: 6.01 | B16: suministro e instalación de impermeabilizacipon de losa | C16: m² | D16: =26*2.6*2 -> 135.2 | E16: =+APU!I475 -> 64788.688 | F16: =D16*E16 -> 8759430.6
A17: 8 | B17: PINTURA
A18: =+A17+0.1 -> 8.1 | B18: RESANE Y REPINTE PINTURA INTERIOR sobre muros y cielos calidad vinIltex o similar tipo 1 o quivalente para interiores (hidrorepelente) de primera calidad que cumpla con la Norma NTC 1335, 3 manos o las que sean necesarias para obtener una superficie pareja y homogénea, a satisfacción de la interventoría. Incluye suministro de los materiales, preparada y adecuación de la superficie a intervenir. Color a definir según aprobación de la interventoría. | C18: m2 | D18: 1200 | E18: =+APU!I713 -> 21152.999 | F18: =D18*E18 -> 25383599
A19: 10 | B19: CUBIERTA
A20: =+A19+0.01 -> 10.01 | B20: Suministro e instalación de TEJA UPVC espesor de 2.5mm. No incluye caballete,. | C20: m2 | D20: =+D9 -> 1047.6 | E20: =+APU!I823 -> 19868.999 | F20: =D20*E20 -> 20814763
A21: RED DE AGUAS LLUVIAS
A22: 11.01 | B22: Suministro e instalación de TUBERÍA PVC-SANITARIA, COLGADA O EN BAJANTES con un DIÁMETRO DE 3" y/o 4". Incluye suministro de los materiales, bocas, accesorios, pegante, limpiador, wash primer, acabado en esmalte mate, color a definir por parte de interventoría, andamios, abrazaderas y todos los elementos necesarios para su correcta instalación y funcionamiento | C22: ml | D22: 13.06 | E22: =+APU!I1182 -> 59317.287 | F22: =+E22*D22 -> 774683.77
A23: 12 | B23: APARATOS SANITARIOS Y COCINA
A24: 12.01 | B24: Suministro e instalacion de sanitario linea acuaplus o similar | C24: und | D24: 2 | E24: 496700 | F24: =+E24*D24 -> 993400
A25: 12.02 | B25: Suministro de lavamanos | C25: und | D25: 2 | E25: 245600 | F25: =+E25*D25 -> 491200
C27: TOTAL COSTOS DIRECTOS | F27: =SUM(F7:F25) -> 1.6915058e+08
C28: AIU 30% | F28: =+F27*0.3 -> 50745174
C29: TOTAL | F29: =+F27+F28 -> 2.1989575e+08
B33: PRESUPUESTO MEJORAMIENTO CANCHA SINTETICA UNIDAD DEPORTIVA MUNICIPAL ALCALDIA DE ABEJORRAL ANTIOQUIA
A35: ITEM | B35: DESCRIPCIÓN | C35: UNIDAD | D35: CANTIDAD | E35: VR UNITARIO | F35: VR TOTAL
A36: 1 | B36: PRELIMINARES
A37: =+A36+0.01 -> 1.01 | B37: Suministro e Instalación de CERRAMIENTO PROVISIONAL en tela naranja con una altura de 2,1 m. y estructura en larguero común. Incluye suministro, transporte, instalación y desmonte de la tela , excavación manual en cualquier material y todos los demás elementos necesarios para su correcta instalación. | C37: ml | D37: 20 | E37: =+[1]ACTIVIDADES!$E$7 -> 14387.409 | F37: =D37*E37 -> 287748.18
A38: 6 | B38: IMPERMEABILIZACIONES
A39: 6.01 | B39: suministro e instalación de grama para cancha existente | C39: m² | D39: =27*15 -> 405 | E39: =+[1]ACTIVIDADES!$E$16 -> 123807.84 | F39: =D39*E39 -> 50142174
A40: 10 | B40: CUBIERTA
A41: =+A40+0.01 -> 10.01 | B41: Suministro e instalación de TEJA UPVC espesor de 2.5mm. No incluye caballete,. | C41: m2 | D41: 200 | E41: 113562.1 | F41: =D41*E41 -> 22712420
A42: 10.02 | B42: Suminsitro de estructura metalica para cubierta | C42: kg | D42: 1340 | E42: 22345 | F42: =D42*E42 -> 29942300
A43: RED DE AGUAS LLUVIAS
A44: 11.01 | B44: Suministro e instalación de TUBERÍA PVC-SANITARIA, COLGADA O EN BAJANTES con un DIÁMETRO DE 3" y/o 4". Incluye suministro de los materiales, bocas, accesorios, pegante, limpiador, wash primer, acabado en esmalte mate, color a definir por parte de interventoría, andamios, abrazaderas y todos los elementos necesarios para su correcta instalación y funcionamiento | C44: ml | D44: 25.06 | E44: 59317.287 | F44: =+E44*D44 -> 1486491.2
C46: TOTAL COSTOS DIRECTOS | F46: =SUM(F37:F44) -> 1.0457113e+08
C47: AIU 30% | F47: =+F46*0.3 -> 31371340
C48: TOTAL | F48: =+F46+F47 -> 1.3594247e+08

Sheet MEMORIAS
B2: DEPARTAMENTO DE ANTIOQUIA
B3: MEMORIA DE OBRA
B4: =+ACTIVIDADES!#REF! -> #REF!
B5: ITEM | C5: DESCRIPCIÓN | H5: UNIDAD | I5: CANTIDAD
B6: =+ACTIVIDADES!A9 -> 2.01 | C6: =INDEX(ACTIVIDADES!$B:$B,MATCH(B6,ACTIVIDADES!$A:$A,0)) -> retiro y botada de cubierta en teja de fibrocemento. Incluye andamios certificados y procedimiento de trabajo en alturas | H6: =INDEX(ACTIVIDADES!$C:$C,MATCH(B6,ACTIVIDADES!$A:$A,0)) -> m² | I6: =I13 -> 0
B7: DETALLE | D7: FACTOR | E7: CANTIDAD | F7: A (ML) | G7: B (M2) | H7: C (M3) | I7: TOTAL
I8: =+D8*E8*F8*G8 -> 0
I9: =+D9*E9*F9*G9 -> 0
B13: TOTAL CANTIDAD | I13: =SUM(I8:I12) -> 0
B14: INSERTE PLANO, GRÁFICO O ESQUEMA AQUÍ
B26: DEPARTAMENTO DE ANTIOQUIA
B27: MEMORIA DE OBRA
B28: =+ACTIVIDADES!#REF! -> #REF!
B29: ITEM | C29: DESCRIPCIÓN | H29: UNIDAD | I29: CANTIDAD
B30: =+ACTIVIDADES!#REF! -> #REF! | C30: =INDEX(ACTIVIDADES!$B:$B,MATCH(B30,ACTIVIDADES!$A:$A,0)) -> #REF! | H30: =INDEX(ACTIVIDADES!$C:$C,MATCH(B30,ACTIVIDADES!$A:$A,0)) -> #REF! | I30: =I37 -> 0
B31: DETALLE | D31: FACTOR | E31: CANTIDAD | F31: A (ML) | G31: B (M2) | H31: C (M3) | I31: TOTAL
I32: =+D32*E32*F32*G32 -> 0
I33: =+D33*E33*F33*G33 -> 0
B37: TOTAL CANTIDAD | I37: =SUM(I32:I36) -> 0
B38: INSERTE PLANO, GRÁFICO O ESQUEMA AQUÍ
B50: DEPARTAMENTO DE ANTIOQUIA
B51: MEMORIA DE OBRA
B52: =+ACTIVIDADES!#REF! -> #REF!
B53: ITEM | C53: DESCRIPCIÓN | H53: UNIDAD | I53: CANTIDAD
B54: =+ACTIVIDADES!#REF! -> #REF! | C54: =INDEX(ACTIVIDADES!$B:$B,MATCH(B54,ACTIVIDADES!$A:$A,0)) -> #REF! | H54: =INDEX(ACTIVIDADES!$C:$C,MATCH(B54,ACTIVIDADES!$A:$A,0)) -> #REF! | I54: =I61 -> 0
B55: DETALLE | D55: FACTOR | E55: CANTIDAD | F55: A (ML) | G55: B (M2) | H55: C (M3) | I55: TOTAL
I56: =+D56*E56*F56*G56 -> 0
I57: =+D57*E57*F57*G57 -> 0
B61: TOTAL CANTIDAD | I61: =SUM(I56:I60) -> 0
B62: INSERTE PLANO, GRÁFICO O ESQUEMA AQUÍ
B74: DEPARTAMENTO DE ANTIOQUIA
B75: MEMORIA DE OBRA
B76: =+ACTIVIDADES!#REF! -> #REF!
B77: ITEM | C77: DESCRIPCIÓN | H77: UNIDAD | I77: CANTIDAD
B78: =+ACTIVIDADES!#REF! -> #REF! | C78: =INDEX(ACTIVIDADES!$B:$B,MATCH(B78,ACTIVIDADES!$A:$A,0)) -> #REF! | H78: =INDEX(ACTIVIDADES!$C:$C,MATCH(B78,ACTIVIDADES!$A:$A,0)) -> #REF! | I78: =I85 -> 0
B79: DETALLE | D79: FACTOR | E79: CANTIDAD | F79: A (ML) | G79: B (M2) | H79: C (M3) | I79: TOTAL
I80: =+D80*E80*F80*G80 -> 0
I81: =+D81*E81*F81*G81 -> 0
B85: TOTAL CANTIDAD | I85: =SUM(I80:I84) -> 0
B86: INSERTE PLANO, GRÁFICO O ESQUEMA AQUÍ
...

Sheet APU
B3: ITEM | C3: =INDEX(ACTIVIDADES!$B:$B,MATCH(B4,ACTIVIDADES!$A:$A,0)) -> Suministro e Instalación de CERRAMIENTO PROVISIONAL en tela naranja con una altura de 2,1 m. y estructura en larguero común. Incluye suministro, transporte, instalación y desmonte de la tela , excavación manual en cualquier material y todos los demás elementos necesarios para su correcta instalación. | H3: % MAT | I3: % M.O.
B4: =+ACTIVIDADES!A7 -> 1.01 | H4: =IF(I7=0,0,I17/I7) -> 0 | I4: =IF(I7=0,0,I23/I7) -> 0.94339623
H5: % Eq y Hta | I5: % Ttes
B6: UNIDAD | H6: =IF(I7=0,0,I29/I7) -> 0.047169811 | I6: =IF(I7=0,0,I35/I7) -> 0.0094339623
B7: =INDEX(ACTIVIDADES!$C:$C,MATCH(B4,ACTIVIDADES!$A:$A,0)) -> ml | H7: VALOR UNITARIO | I7: =SUM(I17:I35) -> 1779.909
C8: MATERIALES
B9: CODIGO | C9: Descripción | D9: Unidad | E9: Cantidad | F9: Precio Unit. | G9: % Desp | H9: Vr. Unitario
D10: =IFERROR(INDEX(#REF!,MATCH(C11,#REF!,0)),"") | F10: =IFERROR(INDEX(#REF!,MATCH(C11,#REF!,0)),"") | G10: 0.05 | H10: =IFERROR(G10*F10*E10+F10*E10,0) -> 0
C11: Tela cerramiento obra verde, ancho: 2.10 m. Incluye transporte externo e interno. | D11: =IFERROR(INDEX(#REF!,MATCH(C12,#REF!,0)),"") | E11: 0.5 | F11: =IFERROR(INDEX(#REF!,MATCH(C12,#REF!,0)),"") | H11: =IFERROR(G11*F11*E11+F11*E11,0) -> 0
C12: Taco redondo de madera de 3.0m x 2.89m | D12: =IFERROR(INDEX(#REF!,MATCH(C13,#REF!,0)),"") | E12: 0.5 | F12: =IFERROR(INDEX(#REF!,MATCH(C13,#REF!,0)),"") | H12: =IFERROR(G12*F12*E12+F12*E12,0) -> 0
C13: Clavo común de 1". Caja x 500gr. | D13: =IFERROR(INDEX(#REF!,MATCH(C14,#REF!,0)),"") | E13: 0.5 | F13: =IFERROR(INDEX(#REF!,MATCH(C14,#REF!,0)),"") | H13: =IFERROR(G13*F13*E13+F13*E13,0) -> 0
C14: Listón madera común de 2"x1" | D14: =IFERROR(INDEX(#REF!,MATCH(C15,#REF!,0)),"") | E14: 0.5 | F14: =IFERROR(INDEX(#REF!,MATCH(C15,#REF!,0)),"") | H14: =IFERROR(G14*F14*E14+F14*E14,0) -> 0
C15: Alambre recocido C 18 | D15: =IFERROR(INDEX(#REF!,MATCH(#REF!,#REF!,0)),"") | F15: =IFERROR(INDEX(#REF!,MATCH(#REF!,#REF!,0)),"") | H15: =IFERROR(G15*F15*E15+F15*E15,0) -> 0
D16: =IFERROR(INDEX(#REF!,MATCH(C16,#REF!,0)),"") | F16: =IFERROR(INDEX(#REF!,MATCH(C16,#REF!,0)),"") | H16: =IFERROR(G16*F16*E16+F16*E16,0) -> 0
H17: Subtotal | I17: =SUM(H10:H16) -> 0
C18: MANO DE OBRA
B19: CODIGO | C19: Descripción | D19: CANT | E19: Jornal Dia + Prest. | G19: Rend/Dia | H19: Vr. Unitario
C20: Ayudante raso | D20: 2 | E20: =IFERROR(INDEX('MANO DE OBRA'!$F:$F,MATCH(C20,'MANO DE OBRA'!$B:$B,0)),"") -> 0.76939877 | F20: =IFERROR(INDEX('MANO DE OBRA'!$J:$J,MATCH(C20,'MANO DE OBRA'!$B:$B,0)),"") -> 83957.972 | G20: 100 | H20: =IFERROR((F20/G20)*D20,0) -> 1679.1594
D21: 1 | E21: =IFERROR(INDEX('MANO DE OBRA'!$F:$F,MATCH(C21,'MANO DE OBRA'!$B:$B,0)),"") | F21: =IFERROR(INDEX('MANO DE OBRA'!$J:$J,MATCH(C21,'MANO DE OBRA'!$B:$B,0)),"") | H21: =IFERROR((F21/G21)*D21,0) -> 0
E22: =IFERROR(INDEX('MANO DE OBRA'!$F:$F,MATCH(C22,'MANO DE OBRA'!$B:$B,0)),"") | F22: =IFERROR(INDEX('MANO DE OBRA'!$J:$J,MATCH(C22,'MANO DE OBRA'!$B:$B,0)),"") | H22: =IFERROR((F22/G22)*D22,0) -> 0
H23: Subtotal | I23: =SUM(H20:H22) -> 1679.1594
C24: EQUIPOS Y HERRAMIENTA
B25: CODIGO | C25: Descripción | D25: % | E25: UNIDAD | F25: Tarifa/Hora | G25: Rendimiento | H25: Vr. Unitario
C26: HERRAMIENTA MENOR | D26: 0.05 | F26: =+I23 -> 1679.1594 | G26: 1 | H26: =IFERROR(G26*F26*D26,0) -> 83.957972
E27: =IFERROR(INDEX(#REF!,MATCH(C27,#REF!,0)),"") | F27: =+#REF! -> #REF! | G27: 0.5 | H27: =IFERROR(G27*F27,0) -> 0
E28: =IFERROR(INDEX(#REF!,MATCH(C28,#REF!,0)),"") | H28: =IFERROR(G28*F28,0) -> 0
H29: Subtotal | I29: =SUM(H26:H28) -> 83.957972
C30: TRANSPORTE
B31: CODIGO | C31: Descripción | D31: % | E31: UNIDAD | F31: Tarifa/Hora | G31: Rendimiento | H31: Vr. Unitario
C32: ACARREO INTERNO | D32: 0.01 | E32: 1 | F32: =+I23 -> 1679.1594 | G32: 0.01 | H32: =IFERROR(G32*F32,0) -> 16.791594
E33: =IFERROR(INDEX(#REF!,MATCH(C33,#REF!,0)),"") | F33: =IFERROR(INDEX(#REF!,MATCH(C33,#REF!,0)),"") | H33: =IFERROR(G33*F33,0) -> 0
D34: =IFERROR(INDEX(#REF!,MATCH(C34,#REF!,0)),"") | F34: =IFERROR(INDEX(#REF!,MATCH(C34,#REF!,0)),"") | H34: =IFERROR(G34*F34,0) -> 0
H35: Subtotal | I35: =SUM(H32:H34) -> 16.791594
B39: ITEM | C39: =INDEX(ACTIVIDADES!$B:$B,MATCH(B40,ACTIVIDADES!$A:$A,0)) -> #REF! | H39: % MAT | I39: % M.O.
B40: =+ACTIVIDADES!#REF! -> #REF! | H40: =IF(I43=0,0,I53/I43) -> 0 | I40: =IF(I43=0,0,I59/I43) -> 0.94339623
H41: % Eq y Hta | I41: % Ttes
B42: UNIDAD | H42: =IF(I43=0,0,I65/I43) -> 0.047169811 | I42: =IF(I43=0,0,I71/I43) -> 0.0094339623
B43: =INDEX(ACTIVIDADES!$C:$C,MATCH(B40,ACTIVIDADES!$A:$A,0)) -> #REF! | H43: VALOR UNITARIO | I43: =SUM(I53:I71) -> 11124.431
C44: MATERIALES
B45: CODIGO | C45: Descripción | D45: Unidad | E45: Cantidad | F45: Precio Unit. | G45: % Desp | H45: Vr. Unitario
...

Sheet APA
B2: ITEM | C2: CONCRETO 1:2:3 ½ OBRA (3000psi) - 210K/CM2 | H2: % MAT | I2: % M.O.
H3: =IF(I6=0,0,I17/I6) -> 0 | I3: =IF(I6=0,0,I23/I6) -> 0.94339623
H4: % Eq y Hta | I4: % Ttes
B5: Unid. | H5: =IF(I6=0,0,I29/I6) -> 0.047169811 | I5: =IF(I6=0,0,I35/I6) -> 0.0094339623
B6: m3 | H6: VALOR UNITARIO | I6: =SUM(I17:I35) -> 137646.3
C7: MATERIALES
B8: CODIGO | C8: Descripción | D8: Unid. | E8: Cantidad | F8: Precio Unit. | G8: % Desp | H8: Vr. Unitario
C9: TRIRURADO 1/2". | D9: =IFERROR(INDEX(#REF!,MATCH(C9,#REF!,0)),"") | E9: 0.9 | F9: =IFERROR(INDEX(#REF!,MATCH(C9,#REF!,0)),"") | H9: =IFERROR(G9*F9*E9+F9*E9,0) -> 0
C10: AGUA | D10: =IFERROR(INDEX(#REF!,MATCH(C10,#REF!,0)),"") | E10: 182 | F10: =IFERROR(INDEX(#REF!,MATCH(C10,#REF!,0)),"") | H10: =IFERROR(G10*F10*E10+F10*E10,0) -> 0
C11: ARENA DE CONCRETO | D11: =IFERROR(INDEX(#REF!,MATCH(C11,#REF!,0)),"") | E11: 0.515 | F11: =IFERROR(INDEX(#REF!,MATCH(C11,#REF!,0)),"") | H11: =IFERROR(G11*F11*E11+F11*E11,0) -> 0
C12: Cemento Gris | D12: =IFERROR(INDEX(#REF!,MATCH(C12,#REF!,0)),"") | E12: 7 | F12: =IFERROR(INDEX(#REF!,MATCH(C12,#REF!,0)),"") | G12: 0.1 | H12: =IFERROR(G12*F12*E12+F12*E12,0) -> 0
D13: =IFERROR(INDEX(#REF!,MATCH(C13,#REF!,0)),"") | F13: =IFERROR(INDEX(#REF!,MATCH(C13,#REF!,0)),"") | H13: =IFERROR(G13*F13*E13+F13*E13,0) -> 0
D14: =IFERROR(INDEX(#REF!,MATCH(C14,#REF!,0)),"") | F14: =IFERROR(INDEX(#REF!,MATCH(C14,#REF!,0)),"") | H14: =IFERROR(G14*F14*E14+F14*E14,0) -> 0
D15: =IFERROR(INDEX(#REF!,MATCH(C15,#REF!,0)),"") | F15: =IFERROR(INDEX(#REF!,MATCH(C15,#REF!,0)),"") | H15: =IFERROR(G15*F15*E15+F15*E15,0) -> 0
D16: =IFERROR(INDEX(#REF!,MATCH(C16,#REF!,0)),"") | F16: =IFERROR(INDEX(#REF!,MATCH(C16,#REF!,0)),"") | H16: =IFERROR(G16*F16*E16+F16*E16,0) -> 0
H17: Subtotal | I17: =SUM(H9:H16) -> 0
C18: MANO DE OBRA
B19: CODIGO | C19: Descripción | D19: CANT | E19: Jornal Dia + Prest. | G19: Rend/Dia | H19: Vr. Unitario
C20: Ayudante raso | D20: 3 | F20: =IFERROR(INDEX('MANO DE OBRA'!$J:$J,MATCH(C20,'MANO DE OBRA'!$B:$B,0)),"") -> 83957.972 | G20: 3 | H20: =IFERROR((F20/G20)*D20,0) -> 83957.972
C21: Oficial de obra civil | D21: 1 | F21: =IFERROR(INDEX('MANO DE OBRA'!$J:$J,MATCH(C21,'MANO DE OBRA'!$B:$B,0)),"") -> 137691.07 | G21: =+G20 -> 3 | H21: =IFERROR(F21/G21,0) -> 45897.025
F22: =IFERROR(INDEX('MANO DE OBRA'!$J:$J,MATCH(C22,'MANO DE OBRA'!$B:$B,0)),"") | H22: =IFERROR(F22/G22,0) -> 0
H23: Subtotal | I23: =SUM(H20:H22) -> 129855
C24: EQUIPOS Y HERRAMIENTA
B25: CODIGO | C25: Descripción | D25: % | E25: Unidad | F25: Tarifa/Hora | G25: Rendimiento | H25: Vr. Unitario
C26: HERRAMIENTA MENOR | D26: 0.05 | F26: =+I23 -> 129855 | G26: 1 | H26: =IFERROR(G26*F26*D26,0) -> 6492.7498
C27: CONCRETADORA TROMPO ELECT.1SAC | F27: =IFERROR(INDEX(#REF!,MATCH(C27,#REF!,0)),"") | G27: 0.42 | H27: =IFERROR(G27*F27,0) -> 0
F28: =IFERROR(INDEX(#REF!,MATCH(C28,#REF!,0)),"") | H28: =IFERROR(G28*F28,0) -> 0
H29: Subtotal | I29: =SUM(H26:H28) -> 6492.7498
C30: TRANSPORTE
B31: CODIGO | C31: Descripción | D31: Unid. | E31: Distancia Km. | F31: Tarifa | G31: Cantidad | H31: Vr. Unitario
C32: ACARREO INTERNO | D32: 1 | E32: 1 | F32: =+I23 -> 129855 | G32: 0.01 | H32: =IFERROR(G32*F32*E32,0) -> 1298.55
C33: Transporte Materiales | D33: =IFERROR(INDEX(#REF!,MATCH(C33,#REF!,0)),"") | E33: 1 | F33: =IFERROR(INDEX(#REF!,MATCH(C33,#REF!,0)),"") | G33: 1.152 | H33: =IFERROR(G33*F33*E33,0) -> 0
C34: TRANSP. BULTO CEMENTO | D34: =IFERROR(INDEX(#REF!,MATCH(C34,#REF!,0)),"") | E34: 1 | F34: =+H12*0.001 -> 0 | G34: 1 | H34: =IFERROR(G34*F34*E34,0) -> 0
H35: Subtotal | I35: =SUM(H32:H34) -> 1298.55
B37: ITEM | C37: CONCRETO 1:3:3 OBRA (2400psi) - 170K/CM2 | H37: % MAT | I37: % M.O.
H38: =IF(I41=0,0,I52/I41) -> 0 | I38: =IF(I41=0,0,I58/I41) -> 0.94339623
H39: % Eq y Hta | I39: % Ttes
B40: Unid. | H40: =IF(I41=0,0,I64/I41) -> 0.047169811 | I40: =IF(I41=0,0,I70/I41) -> 0.0094339623
B41: m3 | H41: VALOR UNITARIO | I41: =SUM(I52:I70) -> 137646.3
C42: MATERIALES
...

Sheet MANO DE OBRA
B1: CALCULO DE JORNALES
B3: Salario mínimo 2024 | C3: 1423500 | E3: Aux. Transporte | F3: 200000
B5: CARGO | C5: CLASE | D5: # de Salarios mínimos | E5: SALARIO MENSUAL | F5: FACTOR PRESTACIONAL | G5: SALARIO MENSUAL + PRESTACIONES | H5: JORNAL | I5: PRESTACIONES | J5: JORNAL TOTAL | L5: FACTOR PRESTACIONAL | M5: RIESGO
B6: ALMACENISTA | C6: ADMINIST. | D6: 1.8176007 | E6: =$C$3*D6 -> 2587354.6 | F6: =IF($M$8>E6,$M$24,$O$24) -> 0.76939877 | G6: =E6*(1+F6) -> 4578062.1 | H6: =E6/30 -> 86245.155 | I6: =H6*F6 -> 66356.916 | J6: =H6+I6 -> 152602.07 | M6: V | N6: I | O6: V
B7: AUXILIAR DE RESIDENCIA | C7: ADMINIST. | D7: 1.8176007 | E7: =$C$3*D7 -> 2587354.6 | F7: =IF($M$8>E7,$M$24,$O$24) -> 0.76939877 | G7: =E7*(1+F7) -> 4578062.1 | H7: =E7/30 -> 86245.155 | I7: =H7*F7 -> 66356.916 | J7: =H7+I7 -> 152602.07 | M7: HASTA DE 2 SMLV | N7: HASTA DE 2 SMMLV | O7: MAS DE 2 SMMLV
B8: CADENERO 1 | C8: ADMINIST. | D8: 1.8176007 | E8: =$C$3*D8 -> 2587354.6 | F8: =IF($M$8>E8,$M$24,$O$24) -> 0.76939877 | G8: =E8*(1+F8) -> 4578062.1 | H8: =E8/30 -> 86245.155 | I8: =H8*F8 -> 66356.916 | J8: =H8+I8 -> 152602.07 | M8: =+$C$3*2 -> 2847000 | N8: =+M8 -> 2847000 | O8: =+N8+1 -> 2847001
B9: COORDINADOR PROYECTO | C9: ADMINIST. | D9: 5.2682413 | E9: =$C$3*D9 -> 7499341.5 | F9: =IF($M$8>E9,$M$24,$O$24) -> 0.6054 | G9: =E9*(1+F9) -> 12039443 | H9: =E9/30 -> 249978.05 | I9: =H9*F9 -> 151336.71 | J9: =H9+I9 -> 401314.76 | L9: AUXILIO TRANSPORTE | M9: =+F3/C3 -> 0.14049877 | N9: =+F3/C3 -> 0.14049877
B10: CONTADOR | C10: ADMINIST. | D10: 2.16 | E10: =$C$3*D10 -> 3074760 | F10: =IF($M$8>E10,$M$24,$O$24) -> 0.6054 | G10: =E10*(1+F10) -> 4936219.7 | H10: =E10/30 -> 102492 | I10: =H10*F10 -> 62048.657 | J10: =H10+I10 -> 164540.66 | L10: CESANTIAS | M10: 0.0833 | N10: 0.0833 | O10: 0.0833
B11: DIRECTOR DE INTERVENTORÍA | C11: ADMINIST. | D11: 5.2682413 | E11: =$C$3*D11 -> 7499341.5 | F11: =IF($M$8>E11,$M$24,$O$24) -> 0.6054 | G11: =E11*(1+F11) -> 12039443 | H11: =E11/30 -> 249978.05 | I11: =H11*F11 -> 151336.71 | J11: =H11+I11 -> 401314.76 | L11: INT. CESANTIAS | M11: 0.01 | N11: 0.01 | O11: 0.01
B12: DIRECTOR DE OBRA | C12: ADMINIST. | D12: 5.2682413 | E12: =$C$3*D12 -> 7499341.5 | F12: =IF($M$8>E12,$M$24,$O$24) -> 0.6054 | G12: =E12*(1+F12) -> 12039443 | H12: =E12/30 -> 249978.05 | I12: =H12*F12 -> 151336.71 | J12: =H12+I12 -> 401314.76 | L12: PRIMA | M12: 0.0833 | N12: 0.0833 | O12: 0.0833
B13: ING. ELECTRIC. ADMIN | C13: ADMINIST. | D13: 5.2682413 | E13: =$C$3*D13 -> 7499341.5 | F13: =IF($M$8>E13,$M$24,$O$24) -> 0.6054 | G13: =E13*(1+F13) -> 12039443 | H13: =E13/30 -> 249978.05 | I13: =H13*F13 -> 151336.71 | J13: =H13+I13 -> 401314.76 | L13: VACACIONES | M13: 0.0417 | N13: 0.0417 | O13: 0.0417
B14: PERSONAL ADMINISTRATIVO | C14: ADMINIST. | D14: 1.72 | E14: =$C$3*D14 -> 2448420 | F14: =IF($M$8>E14,$M$24,$O$24) -> 0.76939877 | G14: =E14*(1+F14) -> 4332231.3 | H14: =E14/30 -> 81614 | I14: =H14*F14 -> 62793.711 | J14: =H14+I14 -> 144407.71 | L14: SENA | M14: 0.02 | N14: 0.02 | O14: 0.02
B15: PROFESIONAL SST | C15: ADMINIST. | D15: 1.8176007 | E15: =$C$3*D15 -> 2587354.6 | F15: =IF($M$8>E15,$M$24,$O$24) -> 0.76939877 | G15: =E15*(1+F15) -> 4578062.1 | H15: =E15/30 -> 86245.155 | I15: =H15*F15 -> 66356.916 | J15: =H15+I15 -> 152602.07 | L15: ICBF | M15: 0.03 | N15: 0.03 | O15: 0.03
B16: TECNOLOGO EN CONSTRUC O AFIN | C16: ADMINIST. | D16: 1.55 | E16: =$C$3*D16 -> 2206425 | F16: =IF($M$8>E16,$M$24,$O$24) -> 0.76939877 | G16: =E16*(1+F16) -> 3904045.7 | H16: =E16/30 -> 73547.5 | I16: =H16*F16 -> 56587.356 | J16: =H16+I16 -> 130134.86 | L16: CAJAS | M16: 0.04 | N16: 0.04 | O16: 0.04
B17: TECNOLOGO EN SST | C17: ADMINIST. | D17: 1.55 | E17: =$C$3*D17 -> 2206425 | F17: =IF($M$8>E17,$M$24,$O$24) -> 0.76939877 | G17: =E17*(1+F17) -> 3904045.7 | H17: =E17/30 -> 73547.5 | I17: =H17*F17 -> 56587.356 | J17: =H17+I17 -> 130134.86 | L17: FIC | M17: 0.0025 | N17: 0.0025 | O17: 0.0025
B18: RESIDENTE AMBIENTAL | C18: ADMINIST. | D18: 2.33 | E18: =$C$3*D18 -> 3316755 | F18: =IF($M$8>E18,$M$24,$O$24) -> 0.6054 | G18: =E18*(1+F18) -> 5324718.5 | H18: =E18/30 -> 110558.5 | I18: =H18*F18 -> 66932.116 | J18: =H18+I18 -> 177490.62 | L18: SALUD | M18: 0.085 | N18: 0.085 | O18: 0.085
B19: RESIDENTE DE INTERVENTORÍA | C19: ADMINIST. | D19: 2.33 | E19: =$C$3*D19 -> 3316755 | F19: =IF($M$8>E19,$M$24,$O$24) -> 0.6054 | G19: =E19*(1+F19) -> 5324718.5 | H19: =E19/30 -> 110558.5 | I19: =H19*F19 -> 66932.116 | J19: =H19+I19 -> 177490.62 | L19: PENSIONES | M19: 0.12 | N19: 0.12 | O19: 0.12
B20: RESIDENTE DE OBRA | C20: ADMINIST. | D20: 2.33 | E20: =$C$3*D20 -> 3316755 | F20: =IF($M$8>E20,$M$24,$O$24) -> 0.6054 | G20: =E20*(1+F20) -> 5324718.5 | H20: =E20/30 -> 110558.5 | I20: =H20*F20 -> 66932.116 | J20: =H20+I20 -> 177490.62 | L20: ARP | M20: 0.0696 | N20: 0.0052 | O20: 0.0696
B21: TOPÓGRAFO | C21: ADMINIST. | D21: 2.33 | E21: =$C$3*D21 -> 3316755 | F21: =IF($M$8>E21,$M$24,$O$24) -> 0.6054 | G21: =E21*(1+F21) -> 5324718.5 | H21: =E21/30 -> 110558.5 | I21: =H21*F21 -> 66932.116 | J21: =H21+I21 -> 177490.62 | L21: DOTACIÓN | M21: 0.0335 | N21: 0.0335 | O21: 0.01
B22: Ayudante carpintero | C22: OPERATIVO | D22: 1 | E22: =$C$3*D22 -> 1423500 | F22: =IF($M$8>E22,$M$24,$O$24) -> 0.76939877 | G22: =E22*(1+F22) -> 2518739.1 | H22: =E22/30 -> 47450 | I22: =H22*F22 -> 36507.972 | J22: =H22+I22 -> 83957.972 | L22: Examenes médicos ingreso y retiro | M22: 0.01 | N22: 0.01 | O22: 0.01
B23: Ayudante eléctrico | C23: OPERATIVO | D23: 1 | E23: =$C$3*D23 -> 1423500 | F23: =IF($M$8>E23,$M$24,$O$24) -> 0.76939877 | G23: =E23*(1+F23) -> 2518739.1 | H23: =E23/30 -> 47450 | I23: =H23*F23 -> 36507.972 | J23: =H23+I23 -> 83957.972
A24: 60030 | B24: Ayudante entendido | C24: OPERATIVO | D24: 1.29 | E24: =$C$3*D24 -> 1836315 | F24: =IF($M$8>E24,$M$24,$O$24) -> 0.76939877 | G24: =E24*(1+F24) -> 3249173.5 | H24: =E24/30 -> 61210.5 | I24: =H24*F24 -> 47095.283 | J24: =H24+I24 -> 108305.78 | L24: FACTOR PRESTACIONAL | M24: =SUM(M9:M22) -> 0.76939877 | N24: =SUM(N9:N22) -> 0.70499877 | O24: =SUM(O9:O22) -> 0.6054
A25: 60031 | B25: Ayudante plomero | C25: OPERATIVO | D25: 1 | E25: =$C$3*D25 -> 1423500 | F25: =IF($M$8>E25,$M$24,$O$24) -> 0.76939877 | G25: =E25*(1+F25) -> 2518739.1 | H25: =E25/30 -> 47450 | I25: =H25*F25 -> 36507.972 | J25: =H25+I25 -> 83957.972
A26: 60032 | B26: Ayudante raso | C26: OPERATIVO | D26: 1 | E26: =$C$3*D26 -> 1423500 | F26: =IF($M$8>E26,$M$24,$O$24) -> 0.76939877 | G26: =E26*(1+F26) -> 2518739.1 | H26: =E26/30 -> 47450 | I26: =H26*F26 -> 36507.972 | J26: =H26+I26 -> 83957.972
A27: 60033 | B27: Cadenero 1 operat. | C27: OPERATIVO | D27: 1.55 | E27: =$C$3*D27 -> 2206425 | F27: =IF($M$8>E27,$M$24,$O$24) -> 0.76939877 | G27: =E27*(1+F27) -> 3904045.7 | H27: =E27/30 -> 73547.5 | I27: =H27*F27 -> 56587.356 | J27: =H27+I27 -> 130134.86
A28: 60034 | B28: Ing. electric. oper. | C28: OPERATIVO | D28: 4.31 | E28: =$C$3*D28 -> 6135285 | F28: =IF($M$8>E28,$M$24,$O$24) -> 0.6054 | G28: =E28*(1+F28) -> 9849586.5 | H28: =E28/30 -> 204509.5 | I28: =H28*F28 -> 123810.05 | J28: =H28+I28 -> 328319.55
A29: 60035 | B29: Maestro primero | C29: OPERATIVO | D29: 2.3326222 | E29: =$C$3*D29 -> 3320487.7 | F29: =IF($M$8>E29,$M$24,$O$24) -> 0.6054 | G29: =E29*(1+F29) -> 5330711 | H29: =E29/30 -> 110682.92 | I29: =H29*F29 -> 67007.442 | J29: =H29+I29 -> 177690.37
A30: 60036 | B30: Oficial carpintero | C30: OPERATIVO | D30: 2.16 | E30: =$C$3*D30 -> 3074760 | F30: =IF($M$8>E30,$M$24,$O$24) -> 0.6054 | G30: =E30*(1+F30) -> 4936219.7 | H30: =E30/30 -> 102492 | I30: =H30*F30 -> 62048.657 | J30: =H30+I30 -> 164540.66
A31: 60037 | B31: Oficial de obra civil | C31: OPERATIVO | D31: 1.64 | E31: =$C$3*D31 -> 2334540 | F31: =IF($M$8>E31,$M$24,$O$24) -> 0.76939877 | G31: =E31*(1+F31) -> 4130732.2 | H31: =E31/30 -> 77818 | I31: =H31*F31 -> 59873.074 | J31: =H31+I31 -> 137691.07
A32: 60038 | B32: Oficial eléctrico | C32: OPERATIVO | D32: 2.16 | E32: =$C$3*D32 -> 3074760 | F32: =IF($M$8>E32,$M$24,$O$24) -> 0.6054 | G32: =E32*(1+F32) -> 4936219.7 | H32: =E32/30 -> 102492 | I32: =H32*F32 -> 62048.657 | J32: =H32+I32 -> 164540.66
A33: 60039 | B33: Oficial plomero | C33: OPERATIVO | D33: 2.16 | E33: =$C$3*D33 -> 3074760 | F33: =IF($M$8>E33,$M$24,$O$24) -> 0.6054 | G33: =E33*(1+F33) -> 4936219.7 | H33: =E33/30 -> 102492 | I33: =H33*F33 -> 62048.657 | J33: =H33+I33 -> 164540.66
A34: 60040 | B34: Oficial soldador | C34: OPERATIVO | D34: 2.16 | E34: =$C$3*D34 -> 3074760 | F34: =IF($M$8>E34,$M$24,$O$24) -> 0.6054 | G34: =E34*(1+F34) -> 4936219.7 | H34: =E34/30 -> 102492 | I34: =H34*F34 -> 62048.657 | J34: =H34+I34 -> 164540.66
A35: 60041 | B35: Pintor | C35: OPERATIVO | D35: 2.16 | E35: =$C$3*D35 -> 3074760 | F35: =IF($M$8>E35,$M$24,$O$24) -> 0.6054 | G35: =E35*(1+F35) -> 4936219.7 | H35: =E35/30 -> 102492 | I35: =H35*F35 -> 62048.657 | J35: =H35+I35 -> 164540.66
A36: 60042 | B36: Operador equipo liviano | C36: OPERATIVO | D36: 2.16 | E36: =$C$3*D36 -> 3074760 | F36: =IF($M$8>E36,$M$24,$O$24) -> 0.6054 | G36: =E36*(1+F36) -> 4936219.7 | H36: =E36/30 -> 102492 | I36: =H36*F36 -> 62048.657 | J36: =H36+I36 -> 164540.66
... A39: 60045 | B39: Vigilante | C39: OPERATIVO | D39: 2.16 | E39: =$C$3*D39 -> 3074760 | F39: =IF($M$8>E39,$M$24,$O$24) -> 0.6054 | G39: =E39*(1+F39) -> 4936219.7 | H39: =E39/30 -> 102492 | I39: =H39*F39 -> 62048.657 | J39: =H39+I39 -> 164540.66
A40: 60046 | B40: Personal adicional | D40: 0 | E40: =$C$3*D40 -> 0 | F40: =IF($M$8>E40,$M$24,$O$24) -> 0.76939877 | G40: =E40*(1+F40) -> 0 | H40: =E40/30 -> 0 | I40: =H40*F40 -> 0 | J40: =H40+I40 -> 0
A41: 60047 | B41: Personal adicional | D41: 0 | E41: =$C$3*D41 -> 0 | F41: =IF($M$8>E41,$M$24,$O$24) -> 0.76939877 | G41: =E41*(1+F41) -> 0 | H41: =E41/30 -> 0 | I41: =H41*F41 -> 0 | J41: =H41+I41 -> 0
A42: 60048 | B42: Personal adicional | D42: 0 | E42: =$C$3*D42 -> 0 | F42: =IF($M$8>E42,$M$24,$O$24) -> 0.76939877 | G42: =E42*(1+F42) -> 0 | H42: =E42/30 -> 0 | I42: =H42*F42 -> 0 | J42: =H42+I42 -> 0
A43: 60049
A44: 60050

Sheet CRONOGRAMA
A1: Cree una programación para un proyecto en esta hoja de cálculo. Escriba el título de este proyecto en la celda B1. Para obtener información sobre cómo usar esta hoja de cálculo, incluidas las instrucciones para lectores de pantalla y el nombre del autor de este libro, vea la hoja de cálculo Información. Desplácese hacia abajo por la columna A para escuchar más instrucciones. | B1: =+#REF! -> #REF! | J1: NOTA: * Se deberá ingresar la fecha de inicio del proyecto en la casilla azul. * El cronograma se deberá diligenciar en las casillas E y F respectivamente por cada actividad a realizar dentro del proyecto.
A2: Escriba el nombre de la compañía en la celda B2. | B2: PROGRAMACION DE OBRA
A3: Escriba el nombre del responsable del proyecto en la celda B3. Escriba la fecha de comienzo del proyecto en la celda E3. Inicio del proyecto: la etiqueta se encuentra en la celda C3. | B3: Ingresar fecha de Inicio: | E3: 45832
A4: La semana que se muestra en la celda E4 representa la semana inicial para mostrar en la programación del proyecto en la celda I4. La fecha de inicio del proyecto se considera la semana 1. Para cambiar semana que se muestra, simplemente escriba un número de semana nuevo en la celda E4. La fecha de inicio de cada semana, comenzando por la semana mostrada en la celda E4, comienza en la celda I4 y se calcula automáticamente. Hay 8 semanas representadas en esta vista desde la celda I4 hasta la celda BF4. No debería modificar estas celdas. La etiqueta de la semana para mostrar se encuentra en la celda C4. | B4: Semana para mostrar: | E4: 1 | I4: =I5 -> 45831 | P4: =P5 -> 45838 | W4: =W5 -> 45845 | AD4: =AD5 -> 45852 | AK4: =AK5 -> 45859 | AR4: =AR5 -> 45866 | AY4: =AY5 -> 45873 | BF4: =BF5 -> 45880
A5: Las celdas I5 a BL5 contienen el número de días de la semana representado en el bloque de celdas encima de cada celda de fecha y se calculan automáticamente. No debería modificar estas celdas. La fecha actual está rodeada con una línea roja (hex. AD3815) desde la fecha actual en la fila 5 hasta toda la columna de fechas y el fin de la programación del proyecto. | I5: =Inicio_del_proyecto-WEEKDAY(Inicio_del_proyecto,1)+2+7*(Semana_para_mostrar-1) -> 45831 | J5: =I5+1 -> 45832 | K5: =J5+1 -> 45833 | L5: =K5+1 -> 45834 | M5: =L5+1 -> 45835 | N5: =M5+1 -> 45836 | O5: =N5+1 -> 45837 | P5: =O5+1 -> 45838 | Q5: =P5+1 -> 45839 | ... BL5: =BK5+1 -> 45886
A6: Esta fila contiene los encabezados de la programación del proyecto posterior debajo de estos. Navegue desde la celda B6 a BL 6 para escuchar el contenido. La primera letra de cada día de la semana de la fecha encima de ese encabezado empieza en la celda I6 y continúa hasta la celda BL6. Todo el gráficos de escala de tiempo del proyecto está generados automáticamente en función de las fechas de inicio y finalización especificadas, con formatos condicionales. No modifique el contenido de las celdas en las columnas después de la columna I comenzando por la celda I7. | B6: TAREA | C6: ASIGNADO A | D6: % PROGRESO | E6: FECHA INICIO | F6: FECHA FIN | H6: DÍAS | I6: =LEFT(TEXT(I5,"ddd"),1) -> l | J6: =LEFT(TEXT(J5,"ddd"),1) -> m | K6: =LEFT(TEXT(K5,"ddd"),1) -> m | L6: =LEFT(TEXT(L5,"ddd"),1) -> j | M6: =LEFT(TEXT(M5,"ddd"),1) -> v | N6: =LEFT(TEXT(N5,"ddd"),1) -> s | O6: =LEFT(TEXT(O5,"ddd"),1) -> d | P6: =LEFT(TEXT(P5,"ddd"),1) -> l | ... BL6: =LEFT(TEXT(BL5,"ddd"),1) -> d
A7: No elimine esta fila. Esta fila está oculta para conservar una fórmula que se usa para resaltar el día actual dentro de la programación del proyecto. | H7: =IF(OR(ISBLANK(task_start),ISBLANK(task_end)),"",task_end-task_start+1)
A8: La celda B8 contiene el título de ejemplo de la Fase 1. Escriba un nuevo título en la celda B8. Escriba un nombre para asignar la fase, si se aplica para el proyecto, en la celda C8. Escriba el progreso de la fase completa, si se aplica para el proyecto, en la celda D8. Escriba las fechas de inicio y finalización de la fase completa, si se aplica para el proyecto, en las celdas E8 y F8. El gráfico de Gantt rellena automáticamente las fechas adecuadas y aplica un sombreado según el progreso especificado. Para eliminar la fase y trabajar solo con las tareas, elimine esta fila. | B8: RESUMEN | D8: 0 | H8: =IF(OR(ISBLANK(task_start),ISBLANK(task_end)),"",task_end-task_start+1)
B9: =+CAPITULOS!C3 -> PRELIMINARES | D9: 0 | H9: =IF(OR(ISBLANK(task_start),ISBLANK(task_end)),"",task_end-task_start+1)
B10: =+CAPITULOS!C4 -> RETIROS Y DEMOLICIONES | D10: 0 | H10: =IF(OR(ISBLANK(task_start),ISBLANK(task_end)),"",task_end-task_start+1)
B11: =+CAPITULOS!C5 -> VENTANERIA | D11: 0 | H11: =IF(OR(ISBLANK(task_start),ISBLANK(task_end)),"",task_end-task_start+1)
B12: =+CAPITULOS!C6 | D12: 0 | H12: =IF(OR(ISBLANK(task_start),ISBLANK(task_end)),"",task_end-task_start+1)
B13: =+CAPITULOS!C7 -> PISOS | D13: 0
B14: =+CAPITULOS!C8 -> IMPERMEABILIZACIONES | D14: 0
B15: =+CAPITULOS!C9 | D15: 0
B16: =+CAPITULOS!C10 -> PINTURA | D16: 0
B17: =+CAPITULOS!C11 | D17: 0
B18: =+CAPITULOS!C12 -> CUBIERTA | D18: 0
B19: =+CAPITULOS!C13 | D19: 0
B20: =+CAPITULOS!C14 -> APARATOS SANITARIOS Y COCINA | D20: 0
B21: =+CAPITULOS!C15 | D21: 0
B22: =+CAPITULOS!C16 | D22: 0 | H22: =IF(OR(ISBLANK(task_start),ISBLANK(task_end)),"",task_end-task_start+1)
B23: =+CAPITULOS!C17 | D23: 0
B24: =+CAPITULOS!C18 | D24: 0
B25: =+CAPITULOS!C19 | D25: 0
B26: =+CAPITULOS!C20 | D26: 0
B27: NOTA | H27: =+SUM(H8:H26)/30 -> 0
B28: =IF(H27=0,"",IF(H27<>'[2]FORM-AU'!H7,"VERIFICAR. Que el tiempo estimado para las actividades, debe ser el mismo tiempo contemplado en el AU.","OK"))
