Workbook
Name _IPC2018: 'PERSONAL Calculo Tarifas 2021'!#REF!
Name CIO_1: '[1]INSUMOS 2018'!$A$13:$F$15100
Name CLASE: [1]CLASIFICACIÓN!$A$3:$E$13
Name Excel_BuiltIn_Print_Area: #REF!
Name Excel_BuiltIn_Print_Area: #REF!
Name Excel_BuiltIn_Print_Area: 'INSUMOS '!$A$7:$P$33

Sheet ADMINISTRACION
A1: DETERMINACIÓN GASTOS Y ADMINISTRACIÓN DEL CONTRATO PISCINAS
A3: % GASTOS ADMINISTRATIVOS | D3: PORCENTAJE
A4: POLÍZAS
A5: Cumplimiento, Prestaciones sociales Y calidad | D5: 0.00165
A6: Responsabilidad civil extracontractual | D6: 0.00036
A7: IMPUESTOS
A8: ICA (sobre contrato) | D8: 0.0069
A9: Retefuente (sobre contrato) | D9: 0.04
A10: Universidad Distrital | D10: 0.01
A11: Estampilla Tercera Edad | D11: 0.005
A12: Estampilla Procultura | D12: 0.005
A13: SUBTOTAL IMPUESTOS + POLIZAS | D13: =SUM(D5:D12) -> 0.06891
A15: Alquiler de oficina | D15: 0.0006
A16: Servicios públicos y comunicaciones | D16: 0.0004
A17: Papelería | D17: 0.0004
A18: Fotocopias | D18: 0.0004
A19: Equipos de oficina | D19: 0.0004
A20: Vehiculo | D20: 0.0024
A21: Secretaria | D21: 0.0005
A22: Contador | D22: 0.0005
A23: SUBTOTAL | D23: =SUM(D13:D22) -> 0.07451
A25: UTILIDAD | D25: 0.05
A27: TOTAL | D27: =+D23+D25 -> 0.12451
D28: =+D27-D25 -> 0.07451

Sheet CLOROS
B2: PROVEEDOR | C2: MAPROQUIM | F2: ASEQUIMICOS S.A.
B3: CLORO | C3: PRESENTACION | D3: VALOR TOTAL | E3: VALOR UNITARIO | F3: PRESENTACION | G3: VALOR TOTAL | H3: VALOR UNITARIO | I3: PRESENTACION | J3: VALOR TOTAL | K3: VALOR UNITARIO
B4: SHOCK | C4: CANECA X 45 KG | D4: 420000 | E4: =+D4/45 -> 9333.3333 | F4: CANECA X 50 KG | G4: =460000/1.16 -> 396551.72 | I4: CANECA X 45 KG
B5: CLORIDEX | C5: CANECA X 50 KG | F5: CANECA X 50 KG | G5: =485000/1.16 -> 418103.45 | H5: =G5/45 -> 9291.1877 | I5: CANECA X 50 KG
B6: AQUACHLOR | C6: CANECA X 40 KG | F6: CANECA X 40 KG | G6: =272000/1.16 -> 234482.76 | I6: CANECA X 40 KG
D7: PROMEDIO | E7: =+E4 -> 9333.3333 | G7: PROMEDIO | H7: =ROUND(AVERAGE(H4:H6),0) -> 9291 | J7: PROMEDIO
I9: PROMEDIO TOTAL | J9: =AVERAGE(E7,H7) -> 9312.1667
D10: En el complejo acuatico se emplean
D11: Canecas de 50 kg | E11: es decir 1250 kg mensuales
D13: Parques Virrey, Meissen y Patio Bonito
D14: En el contrato anterior se laboraba 224 horas mensuales con el horario adicional horario actual será de 192 horas por esta razón los consumos de reactivos quimicos varian

Sheet PERSONAL Calculo Tarifas 2021
C2: INSTITUTO DISTRITAL DE RECREACIÓN Y DEPORTE
C3: SUBDIRECCIÓN TECNICA DE PARQUES
C4: ADMINISTRACIÓN DE ESCENARIOS
C5: MANTENIMIENTO DE PISCINAS 2020
B8: TARIFAS DE PERSONAL 2021
B9: PERSONAL DEL CONTRATO | C9: CANTIDAD | D9: TARIFAS 2021 | E9: FACTOR PRESTACIONAL | F9: VALOR TOTAL SALARIO | G9: % DEDICACION | H9: VALOR TOTAL MENSUAL
B12: PERSONAL
B13: DIRECTOR DEL PROYECTO - PROFESIONAL CATEGORÍA 4 (E.G.6;E.E.4) | C13: 1 | D13: 6064817.4 | E13: 1.5219 | F13: =ROUND(D13*E13,0) -> 9230046 | G13: 1 | H13: =((C13*D13)*E13)*G13 -> 9230045.6
B14: INGENIERO QUIMICO - PROFESIONAL CATEGORÍA 7 (E.G.2) | C14: 1 | D14: 3794974 | E14: 1.5219 | F14: =ROUND(D14*E14,0) -> 5775571 | G14: 1 | H14: =((C14*D14)*E14)*G14 -> 5775571
B15: INGENIERO ELECTROMECÁNICO - PROFESIONAL CATEGORÍA 7 (E.G.2) | C15: 1 | D15: 3794974 | E15: 1.5219 | F15: =ROUND(D15*E15,0) -> 5775571 | G15: 1 | H15: =((C15*D15)*E15)*G15 -> 5775571
B16: OPERARIOS PISCINAS - Obrero | C16: 35 | D16: 953952 | E16: 1.677 | F16: =ROUND(D16*E16,0) -> 1599778 | G16: 1 | H16: =((C16*D16)*E16)*G16 -> 55992213
B17: SALVAVIDAS -Operador Auxiliar De Equipo | C17: 40 | D17: 1438643.9 | E17: 1.7981 | F17: =ROUND(D17*E17,0) -> 2586826 | G17: 1 | H17: =((C17*D17)*E17)*G17 -> 1.0347302e+08
B18: TECNICO EQUIPOS -Operador De Equipo | C18: 2 | D18: 1946567.8 | E18: =+E17 -> 1.7981 | F18: =ROUND(D18*E18,0) -> 3500124 | G18: 1 | H18: =((C18*D18)*E18)*G18 -> 7000247.1
B19: TECNICO EQUIPOS -Operador Hidraulico | C19: 1 | D19: 1946567.8 | E19: =+E18 -> 1.7981 | F19: =ROUND(D19*E19,0) -> 3500124 | G19: 1 | H19: =((C19*D19)*E19)*G19 -> 3500123.5
B20: MALETERO - Obrero | C20: 31 | D20: 953952 | E20: 1.677 | F20: =ROUND(D20*E20,0) -> 1599778 | G20: 1 | H20: =((C20*D20)*E20)*G20 -> 49593103
B21: PROFESOR-INSTRUCTOR | C21: 1 | D21: 2850000 | E21: 1.5025 | F21: =ROUND(D21*E21,0) -> 4282125 | G21: 1 | H21: =((C21*D21)*E21)*G21 -> 4282125
G23: TOTAL | H23: =H13+H14+H15+H16+H17+H18+H19+H20+H21 -> 2.4462202e+08

Sheet ANALISIS DE INSUMOS
A1: INSTITUTO DISTRITAL DE RECREACION Y DEPORTE
A2: AREA DE COSTOS Y ESTUDIOS ECONÓMICOS
A3: ASIGNACION DE INSUMOS Y REGISTRO DE ACTUALIZACION
A4: CANTIDAD DE INSUMOS ASIGNADOS : 119 | E4: RANGOS ESTABLECIDOS : 10,00% -10,00% | K4: FECHA DE ASIGNACIÓN : 06/05/2020 | Q4: ASIGNADO A : Luis Fernando Guacaneme Porras
A5: ITEM | B5: CIO | C5: DESCRIPCION | E5: UN | F5: VALOR CIO AJUSTADO | G5: ___COTIZACION __ $ INCLUIDO IVA | H5: E-n | I5: F-n | J5: ___COTIZACION __ $ INCLUIDO IVA | K5: E-n | L5: F-n | M5: ___COTIZACION _ $ INCLUIDO IVA | N5: E-n | O5: F-n | P5: ___COTIZACION _ $ INCLUIDO IVA | Q5: E-n | R5: F-n | S5: ___COTIZACION _ $ INCLUIDO IVA | T5: E-n | U5: F-n | V5: VALOR SELECCIONADO | W5: OBSERVACIONES
A6: 1 | B6: 105139 | C6: =IFERROR(VLOOKUP($B6,CIO_1,2,0),"") -> Nasa plastica | E6: =IFERROR(VLOOKUP($B6,CIO_1,3,0),"") -> UN | F6: =[1]CALCULOS!I4 -> 14005.467 | G6: 53431 | H6: E-1 | I6: C-E | J6: 45000 | K6: E-2 | L6: C-E | M6: 34900 | N6: E-4 | O6: P-I | P6: 25000 | Q6: E-5 | R6: P-I | S6: 28560 | T6: E-12 | U6: C-E | V6: 29208 | W6: MEDIA GEOMÉTRICA
A7: 2 | B7: 105125 | C7: =IFERROR(VLOOKUP($B7,CIO_1,2,0),"") -> Aspiradora cabezote en bronce cromado | E7: =IFERROR(VLOOKUP($B7,CIO_1,3,0),"") -> UN | F7: =[1]CALCULOS!I5 -> 1230196.9 | G7: 2300000 | H7: E-1 | I7: C-E | J7: 1590000 | K7: E-2 | L7: C-E | M7: 1142400 | N7: E-12 | O7: C-E | V7: 1366200 | W7: MEDIA ARITMÉTICA
A8: 3 | B8: 105127 | C8: =IFERROR(VLOOKUP($B8,CIO_1,2,0),"") -> Manguera para piscina 2"x50mts | E8: =IFERROR(VLOOKUP($B8,CIO_1,3,0),"") -> UN | F8: =[1]CALCULOS!I6 -> 0 | G8: 147560 | H8: E-1 | I8: C-E | J8: 335000 | K8: E-2 | L8: C-E | M8: 452200 | N8: E-12 | O8: C-E | V8: 393600 | W8: MEDIA ARITMÉTICA
A9: 4 | B9: 105133 | C9: =IFERROR(VLOOKUP($B9,CIO_1,2,0),"") -> Mango telescopico para piscinas o fuentes | E9: =IFERROR(VLOOKUP($B9,CIO_1,3,0),"") -> UN | F9: =[1]CALCULOS!I7 -> 87481.66 | G9: 287268 | H9: E-1 | I9: C-E | J9: 125000 | K9: E-2 | L9: C-E | M9: 209875 | N9: E-7 | O9: P-I | P9: 102340 | Q9: E-12 | R9: C-E | V9: 125000 | W9: MEDIANA
A10: 5 | B10: 105136 | C10: =IFERROR(VLOOKUP($B10,CIO_1,2,0),"") -> Cepillo cerdas de nylon de 18" | E10: =IFERROR(VLOOKUP($B10,CIO_1,3,0),"") -> UN | F10: =[1]CALCULOS!I8 -> 37492.14 | G10: 55228 | H10: E-1 | I10: C-E | J10: 49900 | K10: E-2 | L10: C-E | M10: 65450 | N10: E-6 | O10: P-I | P10: 82046 | Q10: E-8 | R10: P-I | S10: 43792 | T10: E-12 | U10: C-E | V10: 55228 | W10: MEDIANA
A11: 6 | B11: 105137 | C11: =IFERROR(VLOOKUP($B11,CIO_1,2,0),"") -> Cepillo con cerdas acero inoxidable | E11: =IFERROR(VLOOKUP($B11,CIO_1,3,0),"") -> UN | F11: =[1]CALCULOS!I9 -> 43740.83 | G11: 64433 | H11: E-1 | I11: C-E | J11: 70000 | K11: E-2 | L11: C-E | M11: 55625 | N11: E-8 | O11: P-I | P11: 57834 | Q11: E-12 | R11: C-E | V11: 61134 | W11: MEDIANA
A12: 7 | B12: 105144 | C12: =IFERROR(VLOOKUP($B12,CIO_1,2,0),"") -> Hidrolavadora grande 8.2 HP | E12: =IFERROR(VLOOKUP($B12,CIO_1,3,0),"") -> UN | F12: =[1]CALCULOS!I10 -> 0 | G12: 11900000 | H12: E-1 | I12: C-E | J12: 7177990 | K12: E-2 | L12: C-E | M12: 9463351 | N12: E-9 | O12: P-I | P12: 5465318 | Q12: E-10 | R12: C-E | S12: 4641000 | T12: E-12 | U12: C-E | V12: 7010041 | W12: MEDIA ARMÓNICA
A13: 21 | B13: 105147 | C13: =IFERROR(VLOOKUP($B13,CIO_1,2,0),"") -> Cloro tambor Kg | E13: =IFERROR(VLOOKUP($B13,CIO_1,3,0),"") -> kg | F13: =[1]CALCULOS!I11 -> 0 | G13: 117810 | H13: E-1 | I13: C-E | J13: 16866 | K13: E-2 | L13: C-E | M13: 642600 | N13: E-12 | O13: C-E | P13: 18725 | Q13: E-4 | R13: P-I | V13: 17796 | W13: MEDIA ARITMÉTICA
A14: 22 | B14: 105149 | C14: Soda Caustica | E14: kg | F14: =[1]CALCULOS!I12 -> 0 | G14: 4786.18 | H14: E-1 | I14: C-E | J14: 38000 | K14: E-2 | L14: C-E | M14: 107100 | N14: E-12 | O14: C-E | P14: 5006.44 | Q14: E-17 | R14: P-I | V14: 4896 | W14: MEDIA ARITMÉTICA
A15: 23 | B15: 105155 | C15: Kit para determinar parámetros in situ | E15: und | F15: =[1]CALCULOS!I13 -> 0 | G15: 381712.73 | H15: E-1 | I15: C-E | J15: 389900 | K15: E-2 | L15: C-E | M15: 214200 | N15: E-12 | O15: C-E | V15: 304474 | W15: MEDIA ARMÓNICA
A16: 24 | B16: 105152 | C16: =IFERROR(VLOOKUP($B16,CIO_1,2,0),"") -> Desengrasante industrial | E16: =IFERROR(VLOOKUP($B16,CIO_1,3,0),"") -> gln | F16: =[1]CALCULOS!I14 -> 0 | G16: 44863 | H16: E-1 | I16: C-E | J16: 79000 | K16: E-2 | L16: C-E | M16: 29512 | N16: E-12 | O16: C-E | V16: 37188 | W16: MEDIA ARITMÉTICA
A17: 25 | B17: 105148 | C17: =IFERROR(VLOOKUP($B17,CIO_1,2,0),"") -> Clarificador | E17: =IFERROR(VLOOKUP($B17,CIO_1,3,0),"") -> gln | F17: =[1]CALCULOS!I15 -> 0 | G17: 32233.53 | H17: E-1 | I17: C-E | J17: 207990 | K17: E-2 | L17: C-E | M17: 168980 | N17: E-12 | O17: C-E | V17: 188485 | W17: MEDIA ARITMÉTICA
A18: 26 | B18: 100392 | C18: =IFERROR(VLOOKUP($B18,CIO_1,2,0),"") -> Acido muriatico (Clorhidrico) ** | E18: =IFERROR(VLOOKUP($B18,CIO_1,3,0),"") -> GLN | F18: =[1]CALCULOS!I16 -> 0 | G18: 14973.77 | H18: E-1 | I18: C-E | J18: 12150 | K18: E-2 | L18: C-E | M18: 9996 | N18: E-12 | O18: C-E | V18: 12042 | W18: MEDIA ARMÓNICA
A19: 30 | B19: 105470 | C19: =IFERROR(VLOOKUP($B19,CIO_1,2,0),"") -> ANALISIS PH (mant. piscinas) | E19: =IFERROR(VLOOKUP($B19,CIO_1,3,0),"") -> und | F19: =[1]CALCULOS!I17 -> 0 | G19: 6020.21 | H19: E-1 | I19: C-E | J19: 27045 | K19: E-2 | L19: C-E | M19: 9461 | N19: E-12 | O19: C-E | P19: 5800 | Q19: E.18 | R19: C-E | S19: 16000 | T19: E-21 | U19: C-E | V19: 15000 | W19: MEDIANA
A20: 31 | B20: 105471 | C20: =IFERROR(VLOOKUP($B20,CIO_1,2,0),"") -> ANALISIS TURBIDEZ (mante. piscinas) | E20: =IFERROR(VLOOKUP($B20,CIO_1,3,0),"") -> und | F20: =[1]CALCULOS!I18 -> 0 | G20: 11377.59 | H20: E-1 | I20: C-E | J20: 37755 | K20: E-2 | L20: C-E | M20: 19195 | N20: E-12 | O20: C-E | P20: 16000 | Q20: E-21 | R20: C-E | V20: 14816 | W20: MEDIA ARMÓNICA
A21: 77 | B21: 105150 | C21: =IFERROR(VLOOKUP($B21,CIO_1,2,0),"") -> Alguicida | E21: KG | G21: 29294.111 | H21: E_1 | I21: C-E | J21: 12000 | K21: E-2 | L21: C-E | M21: 43316 | N21: E-12 | O21: C-E | V21: 36305 | W21: MEDIA ARITMÉTICA
A22: 83 | B22: 105154 | C22: =IFERROR(VLOOKUP($B22,CIO_1,2,0),"") -> COLIFORMES TERMOTOLERANTES Análisis | E22: und | G22: 51089.556 | H22: E_1 | I22: C-E | J22: 33320 | K22: E-2 | L22: C-E | V22: 42205 | W22: MEDIA ARITMÉTICA
A23: 93 | B23: 105524 | C23: =IFERROR(VLOOKUP($B23,CIO_1,2,0),"") -> COBRE | E23: und | G23: 45696 | H23: E_1 | I23: C-E | J23: 35700 | K23: E-2 | L23: C-E | M23: 39734 | N23: E-12 | O23: C-E | P23: 29000 | Q23: E-21 | R23: C-E | V23: 37717 | W23: MEDIA ARITMÉTICA
A24: 97 | B24: 105530 | C24: =IFERROR(VLOOKUP($B24,CIO_1,2,0),"") -> TOMA DE MUESTRAS (Analisis Fisicoquimicos) | E24: und | G24: 253982.65 | H24: E_1 | I24: C-E | J24: 594984 | K24: E-2 | L24: C-E | M24: 23562 | N24: E-12 | O24: C-E | P24: 72000 | Q24: E-18 | R24: C-E | V24: 162991 | W24: MEDIA ARITMÉTICA
A25: 98 | B25: 105129 | C25: =IFERROR(VLOOKUP($B25,CIO_1,2,0),"") -> Aspiradora plastica de 8 ruedas Cabezote plastico | E25: und | G25: 49980 | H25: E-12 | I25: C-E | J25: 79900 | K25: E-4 | L25: P-I | V25: 64940 | W25: MEDIA ARITMÉTICA
A26: 99 | B26: 105153 | C26: =IFERROR(VLOOKUP($B26,CIO_1,2,0),"") -> Sulfato de Aluminio | E26: kg | G26: 374850 | H26: E-12 | I26: C-E | J26: 3000 | K26: E-18 | L26: C-E | V26: 3000 | W26: MENOR PRECIO
A27: 100 | B27: 105151 | C27: =IFERROR(VLOOKUP($B27,CIO_1,2,0),"") -> Bicarbinato de Sodio | E27: kg | G27: 71400 | H27: E-12 | I27: C-E | J27: 4000 | K27: E-18 | L27: C-E | V27: 4000 | W27: MENOR VALOR
A28: 101 | B28: N/A | C28: ACIDO CIANÚRICO | E28: und | G28: 47600 | H28: E-12 | I28: C-E | J28: 47000 | K28: E-21 | L28: C-E | V28: 47300 | W28: MEDIA ARITMÉTICA
A29: 102 | B29: 105472 | C29: ALCALINIDAD TOTAL | E29: und | G29: 19195 | H29: E-12 | I29: C-E | J29: 29000 | K29: E-21 | L29: C-E | V29: 24098 | W29: MEDIA ARITMÉTICA
A30: 103 | B30: 105473 | C30: =IFERROR(VLOOKUP($B30,CIO_1,2,0),"") -> ANALISIS DUREZA TOTAL (Mant. piscinas) | E30: und | G30: 19195 | H30: E-12 | I30: C-E | J30: 29000 | K30: E-21 | L30: C-E | V30: 24098 | W30: MEDIA ARITMÉTICA
A31: 104 | B31: 105475 | C31: =IFERROR(VLOOKUP($B31,CIO_1,2,0),"") -> ANALISIS CLORO RESIDUAL TOTAL (Mant. | E31: und | G31: 20125 | H31: E-12 | I31: C-E | J31: 29000 | K31: E-21 | L31: C-E | V31: 24563 | W31: MEDIA ARITMÉTICA
A32: 105 | B32: 105474 | C32: =IFERROR(VLOOKUP($B32,CIO_1,2,0),"") -> ANALISIS CLORO RESIDUAL LIBRE | E32: und | G32: 20125 | H32: E-12 | I32: C-E | J32: 29000 | K32: E-21 | L32: C-E | V32: 24563 | W32: MEDIA ARITMÉTICA
A33: 106 | B33: 105128 | C33: =IFERROR(VLOOKUP($B33,CIO_1,2,0),"") -> CONDUCTIVIDAD Análisis Aguas Superficiales | E33: und | G33: 17969 | H33: E-12 | I33: C-E | J33: 29000 | K33: E-21 | L33: C-E | V33: 23485 | W33: MEDIA ARITMÉTICA
A34: 107 | B34: 105130 | C34: =IFERROR(VLOOKUP($B34,CIO_1,2,0),"") -> ALUMINIO Análisis Aguas Superficiales Piscina | E34: und | G34: 35319 | H34: E-12 | I34: C-E | J34: 29000 | K34: E-21 | L34: C-E | V34: 32160 | W34: MEDIA ARITMÉTICA
A35: 108 | B35: N/A | C35: AMONIO Análisis Aguas Superficiales Piscina | E35: und | G35: 24871 | H35: E-12 | I35: C-E | J35: 29000 | K35: E-21 | L35: C-E | V35: 26936 | W35: MEDIA ARITMÉTICA
A36: 109 | B36: 105134 | C36: =IFERROR(VLOOKUP($B36,CIO_1,2,0),"") -> HIERRO TOTAL Análisis Aguas Superficiales | E36: UND | G36: 35700 | H36: E-12 | I36: C-E | J36: 47000 | K36: E-21 | L36: C-E | V36: 41350 | W36: MEDIA ARITMÉTICA
A37: 110 | B37: 105135 | C37: =IFERROR(VLOOKUP($B37,CIO_1,2,0),"") -> PLATA Análisis Aguas Superficiales Piscina | E37: UND | G37: 39734 | H37: E-12 | I37: C-E | J37: 29000 | K37: E-21 | L37: C-E | V37: 34367 | W37: MEDIA ARITMÉTICA
A38: 111 | B38: 105138 | C38: =IFERROR(VLOOKUP($B38,CIO_1,2,0),"") -> RECUENTO HETEROTROFOS Análisis Aguas | E38: UND | G38: 33320 | H38: E-12 | I38: C-E | J38: 29000 | K38: E-21 | L38: C-E | V38: 31160 | W38: MEDIA ARITMÉTICA
A39: 112 | B39: 105739 | C39: =IFERROR(VLOOKUP($B39,CIO_1,2,0),"") -> M-RECUENTO DE ESCHERICHIA COLI | E39: UND | G39: 41650 | H39: E-12 | I39: C-E | J39: 29000 | K39: E-21 | L39: C-E | V39: 35325 | W39: MEDIA ARITMÉTICA
A40: 113 | B40: 105142 | C40: =IFERROR(VLOOKUP($B40,CIO_1,2,0),"") -> PSEUDOMONA AEROUGINOSA Análisis Aguas | E40: UND | G40: 41650 | H40: E-12 | I40: C-E | J40: 29000 | K40: E-21 | L40: C-E | V40: 35325 | W40: MEDIA ARITMÉTICA
...

Sheet INSUMOS 
D2: INSTITUTO DISTRITAL DE RECREACIÓN Y DEPORTE
D3: SUBDIRECCIÓN TECNICA DE PARQUES
D4: ADMINISTRACIÓN DE ESCENARIOS
D5: MANTENIMIENTO DE PISCINAS 2020
D6: ANALISIS DE CANTIDADES | S6: COMPLEJO ACUÁTICO | AA6: CENTROS DEPORTIVOS RECREATIVOS Y CULTURALES
B7: ITEM | C7: OPERACIÓN DE PISCINAS | D7: VALOR UNIT | E7: SAUZALITO | G7: VIRREY | I7: PATIO BONITO | K7: AUTOPISTA SUR | M7: CANDELARIA LA NUEVA | O7: SERENA | Q7: MEISSEN | S7: OLIMPICA | U7: CLAVADOS | W7: ENTRENAMIENTO | Y7: NIÑOS | AA7: TUNAL | AC7: FONTANAR | AE7: SAN CRISTOBAL | AG7: BASE DE DATOS CIO
E8: CANTIDAD | F8: VALOR | G8: CANTIDAD | H8: VALOR | I8: CANTIDAD | J8: VALOR | K8: CANTIDAD | L8: VALOR | M8: CANTIDAD | N8: VALOR | O8: CANTIDAD | P8: VALOR | Q8: CANTIDAD | R8: VALOR | S8: CANTIDAD | T8: VALOR | U8: CANTIDAD | V8: VALOR | W8: CANTIDAD | X8: VALOR | Y8: CANTIDAD | Z8: VALOR | AA8: CANTIDAD | AB8: VALOR | AC8: CANTIDAD | AD8: VALOR | AE8: CANTIDAD | AF8: VALOR
E9: CANTIDADES ANUALES
B10: 1 | C10: SUMINISTROS VARIOS
B11: 1.1 | C11: Aspiradora en bronce cromado | D11: =+ROUND(1366200/1.19,0) -> 1148067 | E11: 0 | F11: =+D11*E11 -> 0 | G11: 0 | H11: =+G11*D11 -> 0 | I11: 0 | J11: =+I11*D11 -> 0 | K11: 0 | L11: =+K11*D11 -> 0 | M11: 0 | N11: =+M11*D11 -> 0 | O11: 0 | P11: =+O11*D11 -> 0 | Q11: 0 | S11: 1 | T11: =D11*S11 -> 1148067 | U11: 1 | V11: =+U11*D11 -> 1148067 | W11: 1 | X11: =+W11*D11 -> 1148067 | Y11: 1 | Z11: =+Y11*D11 -> 1148067 | AA11: 1 | AB11: =+AA11*D11 -> 1148067 | AC11: 1 | AD11: =+AC11*D11 -> 1148067 | AE11: 1 | AF11: =+AE11*D11 -> 1148067 | AG11: 105125
B12: 1.1.2 | C12: Manguera flotante (manguera para piscina de 2" x 50' 15,2 mts (americana) | D12: =+ROUND(393600/1.19,0) -> 330756 | E12: 0 | F12: =+D12*E12 -> 0 | G12: 0 | H12: =+G12*D12 -> 0 | I12: 0 | J12: =+I12*D12 -> 0 | K12: 0 | L12: =+K12*D12 -> 0 | M12: 0 | N12: =+M12*D12 -> 0 | O12: 0 | P12: =+O12*D12 -> 0 | Q12: 0 | S12: 1 | T12: =D12*S12 -> 330756 | U12: 1 | V12: =+U12*D12 -> 330756 | W12: 0 | X12: =+W12*D12 -> 0 | Z12: =+Y12*D12 -> 0 | AA12: 1 | AB12: =+AA12*D12 -> 330756 | AC12: 1 | AD12: =+AC12*D12 -> 330756 | AE12: 1 | AF12: =+AE12*D12 -> 330756 | AG12: 105127
B13: 1.2 | C13: Aspiradora plastica de 8 ruedas incluye: ruedas, mango, manguera, acople y tubo telescopico | D13: =+ROUND(64940/1.19,0) -> 54571 | E13: 1 | F13: =+D13*E13 -> 54571 | G13: 1 | H13: =+G13*D13 -> 54571 | I13: 1 | J13: =+I13*D13 -> 54571 | K13: 1 | L13: =+K13*D13 -> 54571 | M13: 1 | N13: =+M13*D13 -> 54571 | O13: 1 | P13: =+O13*D13 -> 54571 | Q13: 1 | R13: =D13*Q13 -> 54571 | S13: 0 | T13: =D13*S13 -> 0 | U13: 0 | V13: =+U13*D13 -> 0 | W13: 1 | X13: =+W13*D13 -> 54571 | Y13: 1 | Z13: =+Y13*D13 -> 54571 | AA13: 0 | AB13: =+AA13*D13 -> 0 | AC13: 0 | AD13: =+AC13*D13 -> 0 | AE13: 0 | AF13: =+AE13*D13 -> 0 | AG13: 105129
B14: 1.2.1 | C14: Mango telescopico 2x3 mts en aluminio 1.1/4"x1" | D14: =+ROUND(125000/1.19,0) -> 105042 | E14: 2 | F14: =+D14*E14 -> 210084 | G14: 2 | H14: =+G14*D14 -> 210084 | I14: 2 | J14: =+I14*D14 -> 210084 | K14: 2 | L14: =+K14*D14 -> 210084 | M14: 2 | N14: =+M14*D14 -> 210084 | O14: 2 | P14: =+O14*D14 -> 210084 | Q14: 2 | R14: =D14*Q14 -> 210084 | S14: 0 | T14: =D14*S14 -> 0 | U14: 0 | V14: =+U14*D14 -> 0 | W14: 2 | X14: =+W14*D14 -> 210084 | Y14: 2 | Z14: =+Y14*D14 -> 210084 | AA14: 0 | AB14: =+AA14*D14 -> 0 | AC14: 0 | AD14: =+AC14*D14 -> 0 | AE14: 0 | AF14: =+AE14*D14 -> 0 | AG14: 105133
B15: 1.2.2 | C15: Manguera plastica de 1 1/2" x 30" (Americana) | D15: =+ROUND(285600/1.19,0) -> 240000 | E15: 2 | F15: =+D15*E15 -> 480000 | G15: 2 | H15: =+G15*D15 -> 480000 | I15: 2 | J15: =+I15*D15 -> 480000 | K15: 2 | L15: =+K15*D15 -> 480000 | M15: 2 | N15: =+M15*D15 -> 480000 | O15: 2 | P15: =+O15*D15 -> 480000 | Q15: 2 | R15: =D15*Q15 -> 480000 | S15: 0 | T15: =D15*S15 -> 0 | U15: 0 | V15: =+U15*D15 -> 0 | W15: 2 | X15: =+W15*D15 -> 480000 | Y15: 2 | Z15: =+Y15*D15 -> 480000 | AA15: 2 | AB15: =+AA15*D15 -> 480000 | AC15: 2 | AD15: =+AC15*D15 -> 480000 | AE15: 2 | AF15: =+AE15*D15 -> 480000 | AG15: 105146
B16: 1.3 | C16: Cepillos Nylon | D16: =+ROUND(55228/1.19,0) -> 46410 | E16: 5 | F16: =+D16*E16 -> 232050 | G16: 5 | H16: =+G16*D16 -> 232050 | I16: 5 | J16: =+I16*D16 -> 232050 | K16: 5 | L16: =+K16*D16 -> 232050 | M16: 5 | N16: =+M16*D16 -> 232050 | O16: 5 | P16: =+O16*D16 -> 232050 | Q16: 5 | R16: =D16*Q16 -> 232050 | S16: 4 | T16: =D16*S16 -> 185640 | U16: 4 | V16: =+U16*D16 -> 185640 | W16: 4 | X16: =+W16*D16 -> 185640 | Y16: 4 | Z16: =+Y16*D16 -> 185640 | AA16: 4 | AB16: =+AA16*D16 -> 185640 | AC16: 4 | AD16: =+AC16*D16 -> 185640 | AE16: 4 | AF16: =+AE16*D16 -> 185640 | AG16: 105136
B17: 1.4 | C17: Cepillos Acero | D17: =+ROUND(61134/1.19,0) -> 51373 | E17: 5 | F17: =+D17*E17 -> 256865 | G17: 4 | H17: =+G17*D17 -> 205492 | I17: 4 | J17: =+I17*D17 -> 205492 | K17: 4 | L17: =+K17*D17 -> 205492 | M17: 4 | N17: =+M17*D17 -> 205492 | O17: 4 | P17: =+O17*D17 -> 205492 | Q17: 5 | R17: =D17*Q17 -> 256865 | S17: 4 | T17: =D17*S17 -> 205492 | U17: 4 | V17: =+U17*D17 -> 205492 | W17: 4 | X17: =+W17*D17 -> 205492 | Y17: 4 | Z17: =+Y17*D17 -> 205492 | AA17: 4 | AB17: =+AA17*D17 -> 205492 | AC17: 4 | AD17: =+AC17*D17 -> 205492 | AE17: 4 | AF17: =+AE17*D17 -> 205492 | AG17: 105137
B18: 1.5 | C18: Nasa plastica | D18: =ROUND(29208/1.19,0) -> 24545 | E18: 4 | F18: =+D18*E18 -> 98180 | G18: 4 | H18: =+G18*D18 -> 98180 | I18: 4 | J18: =+I18*D18 -> 98180 | K18: 4 | L18: =+K18*D18 -> 98180 | M18: 4 | N18: =+M18*D18 -> 98180 | O18: 4 | P18: =+O18*D18 -> 98180 | Q18: 4 | R18: =D18*Q18 -> 98180 | S18: 4 | T18: =D18*S18 -> 98180 | U18: 4 | V18: =+U18*D18 -> 98180 | W18: 4 | X18: =+W18*D18 -> 98180 | Y18: 4 | Z18: =+Y18*D18 -> 98180 | AA18: 4 | AB18: =+AA18*D18 -> 98180 | AC18: 4 | AD18: =+AC18*D18 -> 98180 | AE18: 4 | AF18: =+AE18*D18 -> 98180 | AG18: 105139
B19: 1.6 | C19: Disco Secchi | D19: =ROUND(203945/1.19,0) -> 171382 | E19: 2 | F19: =+D19*E19 -> 342764 | G19: 1 | H19: =+G19*D19 -> 171382 | I19: 1 | J19: =+I19*D19 -> 171382 | K19: 1 | L19: =+K19*D19 -> 171382 | M19: 1 | N19: =+M19*D19 -> 171382 | O19: 1 | P19: =+O19*D19 -> 171382 | Q19: 1 | R19: =D19*Q19 -> 171382 | S19: 1 | T19: =D19*S19 -> 171382 | U19: 1 | V19: =+U19*D19 -> 171382 | W19: 1 | X19: =+W19*D19 -> 171382 | Y19: 1 | Z19: =+Y19*D19 -> 171382 | AA19: 1 | AB19: =+AA19*D19 -> 171382 | AC19: 1 | AD19: =+AC19*D19 -> 171382 | AE19: 1 | AF19: =+AE19*D19 -> 171382 | AG19: 105156
B20: 1.7 | C20: Kit para medir dureza, alcalinidad, pH, acido cianurico y cloro | D20: =ROUND(304474/1.19,0) -> 255861 | E20: 3 | F20: =+D20*E20 -> 767583 | G20: 3 | H20: =+G20*D20 -> 767583 | I20: 3 | J20: =+I20*D20 -> 767583 | K20: 3 | L20: =+K20*D20 -> 767583 | M20: 3 | N20: =+M20*D20 -> 767583 | O20: 3 | P20: =+O20*D20 -> 767583 | Q20: 3 | R20: =D20*Q20 -> 767583 | S20: 6 | T20: =D20*S20 -> 1535166 | U20: 6 | V20: =+U20*D20 -> 1535166 | W20: 6 | X20: =+W20*D20 -> 1535166 | Y20: 6 | Z20: =+Y20*D20 -> 1535166 | AA20: 6 | AB20: =+AA20*D20 -> 1535166 | AC20: 6 | AD20: =+AC20*D20 -> 1535166 | AE20: 6 | AF20: =+AE20*D20 -> 1535166 | AG20: 105155
B21: 1.8 | C21: Hidrolavadora grande 10.7 HP | D21: =ROUND(5741750/1.19,0) -> 4825000 | E21: 0 | F21: =+D21*E21 -> 0 | H21: =+G21*D21 -> 0 | J21: =+I21*D21 -> 0 | K21: 0 | L21: =+K21*D21 -> 0 | N21: =+M21*D21 -> 0 | P21: =+O21*D21 -> 0 | S21: 0.25 | T21: =D21*S21 -> 1206250 | U21: 0.25 | V21: =+U21*D21 -> 1206250 | W21: 0.25 | X21: =+W21*D21 -> 1206250 | Y21: 0.25 | Z21: =+Y21*D21 -> 1206250 | AA21: 0 | AB21: =+AA21*D21 -> 0 | AC21: 0 | AD21: =+AC21*D21 -> 0 | AE21: 0 | AF21: =+AE21*D21 -> 0 | AG21: 105140
B22: 1.9 | C22: Hidrolavadora grande 8.2 HP | D22: =ROUND(7010041/1.19,0) -> 5890791 | E22: 0.5 | F22: =+D22*E22 -> 2945395.5 | G22: 0.5 | H22: =+G22*D22 -> 2945395.5 | I22: 0.5 | J22: =+I22*D22 -> 2945395.5 | K22: 0.5 | L22: =+K22*D22 -> 2945395.5 | M22: 0.5 | N22: =+M22*D22 -> 2945395.5 | O22: 0.5 | P22: =+O22*D22 -> 2945395.5 | Q22: 0.5 | R22: =D22*Q22 -> 2945395.5 | S22: 0 | T22: =D22*S22 -> 0 | U22: 0 | V22: =+U22*D22 -> 0 | W22: 0 | X22: =+W22*D22 -> 0 | Y22: 0 | Z22: =+Y22*D22 -> 0 | AA22: 0.5 | AB22: =+AA22*D22 -> 2945395.5 | AC22: 0.5 | AD22: =+AC22*D22 -> 2945395.5 | AE22: 0.5 | AF22: =+AE22*D22 -> 2945395.5 | AG22: 105144
B23: TOTAL POR PISCINA | F23: =SUM(F11:F22) -> 5387492.5 | H23: =SUM(H11:H22) -> 5164737.5 | J23: =SUM(J11:J22) -> 5164737.5 | L23: =SUM(L11:L22) -> 5164737.5 | N23: =SUM(N11:N22) -> 5164737.5 | P23: =SUM(P11:P22) -> 5164737.5 | R23: =SUM(R11:R22) -> 5216110.5 | T23: =SUM(T11:T22) -> 4880933 | V23: =SUM(V11:V22) -> 4880933 | X23: =SUM(X11:X22) -> 5294832 | Z23: =SUM(Z11:Z22) -> 5294832 | AB23: =SUM(AB11:AB22) -> 7100078.5 | AD23: =SUM(AD11:AD22) -> 7100078.5 | AF23: =SUM(AF11:AF22) -> 7100078.5
C24: VALOR MENSUAL | F24: =+ROUND(F23/12,0) -> 448958 | H24: =+ROUND(H23/12,0) -> 430395 | J24: =+ROUND(J23/12,0) -> 430395 | L24: =+ROUND(L23/12,0) -> 430395 | N24: =+ROUND(N23/12,0) -> 430395 | P24: =+ROUND(P23/12,0) -> 430395 | R24: =+ROUND(R23/12,0) -> 434676 | S24: =ROUND(SUM(T23:Z23)/12,0) -> 1695961 | AB24: =+ROUND(AB23/12,0) -> 591673 | AD24: =+ROUND(AD23/12,0) -> 591673 | AF24: =+ROUND(AF23/12,0) -> 591673
E25: SAUZALITO | G25: VIRREY | I25: PATIO BONITO | K25: AUTOPISTA SUR | M25: CANDELARIA LA NUEVA | O25: SERENA | Q25: MEISSEN | S25: COMPLEJO ACUÁTICO | AA25: TUNAL | AC25: FONTANAR | AE25: SAN CRISTOBAL | AG25: BASE DE DATOS CIO
E26: CANTIDAD | F26: VALOR | G26: CANTIDAD | H26: VALOR | I26: CANTIDAD | J26: VALOR | K26: CANTIDAD | L26: VALOR | M26: CANTIDAD | N26: VALOR | O26: CANTIDAD | P26: VALOR | Q26: CANTIDAD | R26: VALOR | S26: CANTIDAD | T26: VALOR | AA26: CANTIDAD | AB26: VALOR | AC26: CANTIDAD | AD26: VALOR | AE26: CANTIDAD | AF26: VALOR
B27: 2 | C27: REACTIVOS QUÍMICOS (REQUERIDOS POR 1 MES)
B28: 2.1 | C28: CLORO X KG | D28: =ROUND(17796/1.19,0) -> 14955 | E28: 100 | F28: =+D28*E28 -> 1495500 | G28: 112 | H28: =+G28*D28 -> 1674960 | I28: 96 | J28: =+I28*D28 -> 1435680 | K28: 124 | L28: =+K28*D28 -> 1854420 | M28: 104 | N28: =+M28*D28 -> 1555320 | O28: 93 | P28: =+O28*D28 -> 1390815 | Q28: 104 | R28: =+Q28*D28 -> 1555320 | S28: 1450 | T28: =+S28*D28 -> 21684750 | AA28: 660 | AB28: =+AA28*D28 -> 9870300 | AC28: 660 | AD28: =+AC28*D28 -> 9870300 | AE28: 660 | AF28: =+AE28*D28 -> 9870300 | AG28: 105147
B29: 2.3 | C29: FLOCULANTE CANECA X Kg (clarificador ) | D29: =ROUND(188485/1.19,0) -> 158391 | E29: 40 | F29: =+D29*E29 -> 6335640 | G29: 27 | H29: =+G29*D29 -> 4276557 | I29: 34 | J29: =+I29*D29 -> 5385294 | K29: 27 | L29: =+K29*D29 -> 4276557 | M29: 27 | N29: =+M29*D29 -> 4276557 | O29: 27 | P29: =+O29*D29 -> 4276557 | Q29: 27 | R29: =+Q29*D29 -> 4276557 | S29: 50 | T29: =+S29*D29 -> 7919550 | AA29: 35 | AB29: =+AA29*D29 -> 5543685 | AC29: 35 | AD29: =+AC29*D29 -> 5543685 | AE29: 35 | AF29: =+AE29*D29 -> 5543685 | AG29: 105148
B30: 2.4 | C30: SODA CAUSTICA ESCAMAS BULTO X Kg | D30: =ROUND(4896/1.19,0) -> 4114 | E30: =7*8 -> 56 | F30: =+D30*E30 -> 230384 | G30: =6*7 -> 42 | H30: =+G30*D30 -> 172788 | I30: =6*7 -> 42 | J30: =+I30*D30 -> 172788 | K30: 45 | L30: =+K30*D30 -> 185130 | M30: 45 | N30: =+M30*D30 -> 185130 | O30: 45 | P30: =+O30*D30 -> 185130 | Q30: 45 | R30: =+Q30*D30 -> 185130 | S30: 516 | T30: =+S30*D30 -> 2122824 | AA30: =39*5 -> 195 | AB30: =+AA30*D30 -> 802230 | AC30: =39*5 -> 195 | AD30: =+AC30*D30 -> 802230 | AE30: =39*5 -> 195 | AF30: =+AE30*D30 -> 802230 | AG30: 105149
B31: 2.5 | C31: ACIDO ESTABILIZADOR DE PH DECAPANTE (ACIDO MURIATICO) X L | D31: =ROUND(12042/1.19,0) -> 10119 | E31: 60 | F31: =+D31*E31 -> 607140 | G31: 50 | H31: =+G31*D31 -> 505950 | I31: 45 | J31: =+I31*D31 -> 455355 | K31: 45 | L31: =+K31*D31 -> 455355 | M31: 45 | N31: =+M31*D31 -> 455355 | O31: 45 | P31: =+O31*D31 -> 455355 | Q31: 45 | R31: =+Q31*D31 -> 455355 | S31: 200 | T31: =+S31*D31 -> 2023800 | AA31: 80 | AB31: =+AA31*D31 -> 809520 | AC31: 80 | AD31: =+AC31*D31 -> 809520 | AE31: 80 | AF31: =+AE31*D31 -> 809520 | AG31: 100392
B32: 2.6 | C32: DESENGRASANTE INDUSTRIAL GALON | D32: =ROUND(37188/1.19,0) -> 31250 | E32: =2*4 -> 8 | F32: =+D32*E32 -> 250000 | G32: 8 | H32: =+G32*D32 -> 250000 | I32: 8 | J32: =+I32*D32 -> 250000 | K32: 8 | L32: =+K32*D32 -> 250000 | M32: 8 | N32: =+M32*D32 -> 250000 | O32: 8 | P32: =+O32*D32 -> 250000 | Q32: 8 | R32: =+Q32*D32 -> 250000 | S32: 25 | T32: =+S32*D32 -> 781250 | AA32: 12 | AB32: =+AA32*D32 -> 375000 | AC32: 12 | AD32: =+AC32*D32 -> 375000 | AE32: 12 | AF32: =+AE32*D32 -> 375000 | AG32: 105152
B33: 2.7 | C33: ALGUICIDA GALÓN X 4 L | D33: =ROUND(36305/1.19,0) -> 30508 | E33: =2*3 -> 6 | F33: =+D33*E33 -> 183048 | G33: 5 | H33: =+G33*D33 -> 152540 | I33: 4 | J33: =+I33*D33 -> 122032 | K33: 5 | L33: =+K33*D33 -> 152540 | M33: 5 | N33: =+M33*D33 -> 152540 | O33: 5 | P33: =+O33*D33 -> 152540 | Q33: 5 | R33: =+Q33*D33 -> 152540 | S33: 30 | T33: =+S33*D33 -> 915240 | AA33: 14 | AB33: =+AA33*D33 -> 427112 | AC33: 14 | AD33: =+AC33*D33 -> 427112 | AE33: 14 | AF33: =+AE33*D33 -> 427112 | AG33: 105150
B34: 2.8 | C34: SULFATO DE ALUMINIO TIPO A X Kg | D34: =ROUND(3000/1.19,0) -> 2521 | E34: =4*8 -> 32 | F34: =+D34*E34 -> 80672 | G34: =4.5*8 -> 36 | H34: =+G34*D34 -> 90756 | I34: 30 | J34: =+I34*D34 -> 75630 | K34: 39 | L34: =+K34*D34 -> 98319 | M34: =4*8 -> 32 | N34: =+M34*D34 -> 80672 | O34: 29 | P34: =+O34*D34 -> 73109 | Q34: =4*8 -> 32 | R34: =+Q34*D34 -> 80672 | S34: 456 | T34: =+S34*D34 -> 1149576 | AA34: =26*8 -> 208 | AB34: =+AA34*D34 -> 524368 | AC34: =26*8 -> 208 | AD34: =+AC34*D34 -> 524368 | AE34: =26*8 -> 208 | AF34: =+AE34*D34 -> 524368 | AG34: 105153
B35: 2.9 | C35: BICARBONATO DE SODIO SACO X Kg | D35: =ROUND(4000/1.19,0) -> 3361 | E35: 32 | F35: =+D35*E35 -> 107552 | G35: 36 | H35: =+G35*D35 -> 120996 | I35: 30 | J35: =+I35*D35 -> 100830 | K35: 39 | L35: =+K35*D35 -> 131079 | M35: 32 | N35: =+M35*D35 -> 107552 | O35: 29 | P35: =+O35*D35 -> 97469 | Q35: 32 | R35: =+Q35*D35 -> 107552 | S35: 456 | T35: =+S35*D35 -> 1532616 | AA35: 208 | AB35: =+AA35*D35 -> 699088 | AC35: 208 | AD35: =+AC35*D35 -> 699088 | AE35: 208 | AF35: =+AE35*D35 -> 699088 | AG35: 105151
B36: VALOR MENSUAL TOTAL POR PISCINA | F36: =+SUM(F28:F35) -> 9289936 | H36: =+SUM(H28:H35) -> 7244547 | J36: =+SUM(J28:J35) -> 7997609 | L36: =+SUM(L28:L35) -> 7403400 | N36: =+SUM(N28:N35) -> 7063126 | P36: =+SUM(P28:P35) -> 6880975 | R36: =+SUM(R28:R35) -> 7063126 | T36: =+SUM(T28:T35) -> 38129606 | AB36: =+SUM(AB28:AB35) -> 19051303 | AD36: =+SUM(AD28:AD35) -> 19051303 | AF36: =+SUM(AF28:AF35) -> 19051303 | AI36: =+AH36/8 -> 0 | AJ36: =+AI36*4 -> 0
B37: SUB TOTAL REACTIVOS QUIMICOS
B38: ITEM | C38: OPERACIÓN DE PISCINAS | D38: VALOR UNIT | E38: SAUZALITO | G38: VIRREY | I38: PATIO BONITO | K38: AUTOPISTA SUR | M38: CANDELARIA LA NUEVA | O38: SERENA | Q38: MEISSEN | S38: OLIMPICA | U38: CLAVADOS | W38: ENTRENAMIENTO | Y38: NIÑOS | AA38: TUNAL | AC38: FONTANAR | AE38: SAN CRISTOBAL | AG38: BASE DE DATOS CIO
E39: CANTIDAD | F39: VALOR | G39: CANTIDAD | H39: VALOR | I39: CANTIDAD | J39: VALOR | K39: CANTIDAD | L39: VALOR | M39: CANTIDAD | N39: VALOR | O39: CANTIDAD | P39: VALOR | Q39: CANTIDAD | R39: VALOR | S39: CANTIDAD | T39: VALOR | U39: CANTIDAD | V39: VALOR | W39: CANTIDAD | X39: VALOR | Y39: CANTIDAD | Z39: VALOR | AA39: CANTIDAD | AB39: VALOR | AC39: CANTIDAD | AD39: VALOR | AE39: CANTIDAD | AF39: VALOR
B40: 3 | C40: ANALISIS FISICOQUÍMICOS Y MICROBIOLOGICOS (REQUERIDOS POR UN MES)
B41: 3.1 | C41: ACIDO CIANÚRICO | D41: =ROUND(47300/1.19,0) -> 39748 | E41: 1 | F41: =D41*E41 -> 39748 | G41: 2 | H41: =D41*G41 -> 79496 | I41: 1 | J41: =D41*I41 -> 39748 | K41: 2 | L41: =D41*K41 -> 79496 | M41: 2 | N41: =D41*M41 -> 79496 | O41: 2 | P41: =D41*O41 -> 79496 | Q41: 1 | R41: =D41*Q41 -> 39748 | S41: 1 | T41: =+S41*D41 -> 39748 | U41: 1 | V41: =+U41*D41 -> 39748 | W41: 1 | X41: =+W41*D41 -> 39748 | Y41: 1 | Z41: =+Y41*D41 -> 39748 | AA41: 2 | AB41: =+AA41*D41 -> 79496 | AC41: 2 | AD41: =+AC41*D41 -> 79496 | AE41: 2 | AF41: =+AE41*D41 -> 79496 | AG41: 105469
...

Sheet TOTALES 
B1: INSTITUTO PARA LA RECREACIÓN Y EL DEPORTE
A2: G1 | B2: MANTENIMIENTO DE PISCINAS 2020
B4: ITEM | C4: OPERACIÓN DE PISCINAS | D4: Und | F4: SAUZALITO | H4: VIRREY | J4: PATIO BONITO | L4: AUTOPISTA SUR | N4: CANDELARIA LA NUEVA | P4: SERENA | R4: MEISSEN | T4: COMPLEJO ACUATICO | V4: CDRC TUNAL | X4: CDRC FONTANAR | Z4: CDRC CRISTOBAL
F5: Cantidad | G5: Vr. Parcial | H5: Cantidad | I5: Vr. Parcial | J5: Cantidad | K5: Vr. Parcial | L5: Cantidad | M5: Vr. Parcial | N5: Cantidad | O5: Vr. Parcial | P5: Cantidad | Q5: Vr. Parcial | R5: Cantidad | S5: Vr. Parcial | T5: Cantidad | U5: Vr. Parcial | V5: Cantidad | W5: Vr. Parcial | X5: Cantidad | Y5: Vr. Parcial | Z5: Cantidad | AA5: Vr. Parcial
B6: 1 | C6: SUMINISTROS VARIOS: Mangueras, tubos telescópicos, carro aspiradora, cepillos, nasas, herramienta menor, equipo multiparametro, kit medición de parámetros e hidrolavadoras. | D6: GL | F6: 1 | G6: =+'INSUMOS '!F24 -> 448958 | H6: 1 | I6: =+'INSUMOS '!H24 -> 430395 | J6: 1 | K6: =+'INSUMOS '!J24 -> 430395 | L6: 1 | M6: =+'INSUMOS '!L24 -> 430395 | N6: 1 | O6: =+'INSUMOS '!N24 -> 430395 | P6: 1 | Q6: =+'INSUMOS '!P24 -> 430395 | R6: 1 | S6: =+'INSUMOS '!R24 -> 434676 | T6: 1 | U6: =+'INSUMOS '!S24 -> 1695961 | V6: 1 | W6: =+'INSUMOS '!AB24 -> 591673 | X6: 1 | Y6: =+'INSUMOS '!AD24 -> 591673 | Z6: 1 | AA6: =+'INSUMOS '!AF24 -> 591673
B7: 2 | C7: QUIMICOS: Cloro, cristalin 50, alkalos, klarit plus, sulfato, soda, decapante, alumbre, reactivos, desengrasantes y alguicida. | D7: GL | F7: 1 | G7: =+'INSUMOS '!F36 -> 9289936 | H7: 1 | I7: =+'INSUMOS '!H36 -> 7244547 | J7: 1 | K7: =+'INSUMOS '!J36 -> 7997609 | L7: 1 | M7: =+'INSUMOS '!L36 -> 7403400 | N7: 1 | O7: =+'INSUMOS '!N36 -> 7063126 | P7: 1 | Q7: =+'INSUMOS '!P36 -> 6880975 | R7: 1 | S7: =+'INSUMOS '!R36 -> 7063126 | T7: 1 | U7: =+'INSUMOS '!T36 -> 38129606 | V7: 1 | W7: =+'INSUMOS '!AB36 -> 19051303 | X7: 1 | Y7: =+'INSUMOS '!AD36 -> 19051303 | Z7: 1 | AA7: =+'INSUMOS '!AF36 -> 19051303
B8: 3 | C8: ANALISIS FÍSICOS, QUÍMICOS Y MICROBIOLÓGICOS. (Conductividad, Aluminio, amonio, cobre, Hierro total, plata, Heterotrofos, coliformes totales, coliformes fecales, E-colihongo | D8: GL | F8: 1 | G8: =+'INSUMOS '!F61 -> 606539 | H8: 2 | I8: =+'INSUMOS '!H61 -> 1076111 | J8: 1 | K8: =+'INSUMOS '!J61 -> 606539 | L8: 2 | M8: =+'INSUMOS '!L61 -> 1076111 | N8: 2 | O8: =+'INSUMOS '!N61 -> 1076111 | P8: 2 | Q8: =+'INSUMOS '!P61 -> 1076111 | R8: 1 | S8: =+'INSUMOS '!R61 -> 606539 | T8: 4 | U8: =+'INSUMOS '!T61+'INSUMOS '!V61+'INSUMOS '!X61+'INSUMOS '!Z61 -> 2152222 | V8: 2 | W8: =+'INSUMOS '!AB61 -> 1076111 | X8: 2 | Y8: =+'INSUMOS '!AD61 -> 1076111 | Z8: 2 | AA8: =+'INSUMOS '!AF61 -> 1076111
B9: SUBTOTAL | G9: =ROUND((G6+G7+G8),0) -> 10345433 | I9: =ROUND((I6+I7+I8),0) -> 8751053 | K9: =ROUND((K6+K7+K8),0) -> 9034543 | M9: =ROUND((M6+M7+M8),0) -> 8909906 | O9: =ROUND((O6+O7+O8),0) -> 8569632 | Q9: =ROUND((Q6+Q7+Q8),0) -> 8387481 | S9: =ROUND((S6+S7+S8),0) -> 8104341 | U9: =ROUND((U6+U7+U8),0) -> 41977789 | W9: =ROUND((W6+W7+W8),0) -> 20719087 | Y9: =ROUND((Y6+Y7+Y8),0) -> 20719087 | AA9: =ROUND((AA6+AA7+AA8),0) -> 20719087
B11: Ítem | C11: OPERACIÓN DE PISCINAS | D11: Und | E11: Vr. Unitario | F11: SAUZALITO | H11: VIRREY | J11: PATIO BONITO | L11: AUTOPISTA SUR | N11: CANDELARIA LA NUEVA | P11: SERENA | R11: MEISSEN | T11: COMPLEJO ACUATICO | V11: CDRC TUNAL | X11: CDRC FONTANAR | Z11: CDRC CRISTOBAL
F12: Cantidad | G12: Vr. Parcial | H12: Cantidad | I12: Vr. Parcial | J12: Cantidad | K12: Vr. Parcial | L12: Cantidad | M12: Vr. Parcial | N12: Cantidad | O12: Vr. Parcial | P12: Cantidad | Q12: Vr. Parcial | R12: Cantidad | S12: Vr. Parcial | T12: Cantidad | U12: Vr. Parcial | V12: Cantidad | W12: Vr. Parcial | X12: Cantidad | Y12: Vr. Parcial | Z12: Cantidad | AA12: Vr. Parcial
B13: 4 | C13: PERSONAL
B14: 4.1 | C14: DIRECTOR DEL PROYECTO | D14: DM | E14: =+'INSUMOS '!P67 -> 9230046 | F14: =1/11 -> 0.090909091 | G14: =ROUND(E14*F14,0) -> 839095 | H14: =1/11 -> 0.090909091 | I14: =ROUND(E14*H14,0) -> 839095 | J14: =1/11 -> 0.090909091 | K14: =ROUND(E14*J14,0) -> 839095 | L14: =1/11 -> 0.090909091 | M14: =ROUND(E14*L14,0) -> 839095 | N14: =1/11 -> 0.090909091 | O14: =ROUND(E14*N14,0) -> 839095 | P14: =1/11 -> 0.090909091 | Q14: =ROUND(E14*P14,0) -> 839095 | R14: =1/11 -> 0.090909091 | S14: =+R14*E14 -> 839095.09 | T14: =1/11 -> 0.090909091 | U14: =ROUND(E14*T14,0) -> 839095 | V14: =1/11 -> 0.090909091 | W14: =ROUND(E14*V14,0) -> 839095 | X14: =1/11 -> 0.090909091 | Y14: =ROUND(E14*X14,0) -> 839095 | Z14: =1/11 -> 0.090909091 | AA14: =ROUND(E14*Z14,0) -> 839095
B15: 4.2 | C15: INGENIERO QUÍMICO | D15: DM | E15: =+'INSUMOS '!P68 -> 5775571 | F15: =1/11 -> 0.090909091 | G15: =ROUND(E15*F15,0) -> 525052 | H15: =1/11 -> 0.090909091 | I15: =ROUND(E15*H15,0) -> 525052 | J15: =1/11 -> 0.090909091 | K15: =ROUND(E15*J15,0) -> 525052 | L15: =1/11 -> 0.090909091 | M15: =ROUND(E15*L15,0) -> 525052 | N15: =1/11 -> 0.090909091 | O15: =ROUND(E15*N15,0) -> 525052 | P15: =1/11 -> 0.090909091 | Q15: =ROUND(E15*P15,0) -> 525052 | R15: =1/11 -> 0.090909091 | S15: =+R15*E15 -> 525051.91 | T15: =1/11 -> 0.090909091 | U15: =ROUND(E15*T15,0) -> 525052 | V15: =1/11 -> 0.090909091 | W15: =ROUND(E15*V15,0) -> 525052 | X15: =1/11 -> 0.090909091 | Y15: =ROUND(E15*X15,0) -> 525052 | Z15: =1/11 -> 0.090909091 | AA15: =ROUND(E15*Z15,0) -> 525052
B16: 4.3 | C16: INGENIERO ELECTROMECÁNICO | D16: DM | E16: =+'INSUMOS '!P69 -> 5775571 | F16: =1/11 -> 0.090909091 | G16: =ROUND(E16*F16,0) -> 525052 | H16: =1/11 -> 0.090909091 | I16: =ROUND(E16*H16,0) -> 525052 | J16: =1/11 -> 0.090909091 | K16: =ROUND(E16*J16,0) -> 525052 | L16: =1/11 -> 0.090909091 | M16: =ROUND(E16*L16,0) -> 525052 | N16: =1/11 -> 0.090909091 | O16: =ROUND(E16*N16,0) -> 525052 | P16: =1/11 -> 0.090909091 | Q16: =ROUND(E16*P16,0) -> 525052 | R16: =1/11 -> 0.090909091 | S16: =+R16*E16 -> 525051.91 | T16: =1/11 -> 0.090909091 | U16: =ROUND(E16*T16,0) -> 525052 | V16: =1/11 -> 0.090909091 | W16: =ROUND(E16*V16,0) -> 525052 | X16: =1/11 -> 0.090909091 | Y16: =ROUND(E16*X16,0) -> 525052 | Z16: =1/11 -> 0.090909091 | AA16: =ROUND(E16*Z16,0) -> 525052
B17: 4.4 | C17: OPERARIOS PISCINAS | D17: DM | E17: =+'INSUMOS '!P70 -> 1599778 | F17: 2 | G17: =ROUND(E17*F17,0) -> 3199556 | H17: 1 | I17: =ROUND(E17*H17,0) -> 1599778 | J17: 1 | K17: =ROUND(E17*J17,0) -> 1599778 | L17: 1 | M17: =ROUND(E17*L17,0) -> 1599778 | N17: 1 | O17: =ROUND(E17*N17,0) -> 1599778 | P17: 1 | Q17: =ROUND(E17*P17,0) -> 1599778 | R17: 1 | S17: =+R17*E17 -> 1599778 | T17: 9 | U17: =ROUND(E17*T17,0) -> 14398002 | V17: 6 | W17: =ROUND(E17*V17,0) -> 9598668 | X17: 6 | Y17: =ROUND(E17*X17,0) -> 9598668 | Z17: 6 | AA17: =ROUND(E17*Z17,0) -> 9598668
B18: 4.5 | C18: SALVAVIDAS | D18: DM | E18: =+'INSUMOS '!P71 -> 2586826 | F18: 2 | G18: =ROUND(E18*F18,0) -> 5173652 | H18: 2 | I18: =ROUND(E18*H18,0) -> 5173652 | J18: 2 | K18: =ROUND(E18*J18,0) -> 5173652 | L18: 2 | M18: =ROUND(E18*L18,0) -> 5173652 | N18: 2 | O18: =ROUND(E18*N18,0) -> 5173652 | P18: 2 | Q18: =ROUND(E18*P18,0) -> 5173652 | R18: 2 | S18: =+R18*E18 -> 5173652 | T18: 8 | U18: =ROUND(E18*T18,0) -> 20694608 | V18: 6 | W18: =ROUND(E18*V18,0) -> 15520956 | X18: 6 | Y18: =ROUND(E18*X18,0) -> 15520956 | Z18: 6 | AA18: =ROUND(E18*Z18,0) -> 15520956
B19: 4.6 | C19: TÉCNICO DE EQUIPOS E HIDRAULICO | D19: DM | E19: =+'INSUMOS '!P72 -> 3500124 | F19: 0.14285714 | G19: =ROUND(E19*F19,0) -> 500018 | H19: 0.14285714 | I19: =ROUND(E19*H19,0) -> 500018 | J19: 0.14285714 | K19: =ROUND(E19*J19,0) -> 500018 | L19: 0.14285714 | M19: =ROUND(E19*L19,0) -> 500018 | N19: 0.14285714 | O19: =ROUND(E19*N19,0) -> 500018 | P19: 0.14285714 | Q19: =ROUND(E19*P19,0) -> 500018 | R19: 0.14285714 | S19: =+R19*E19 -> 500017.71 | T19: 0.25 | U19: =ROUND(E19*T19,0) -> 875031 | V19: 0.25 | W19: =ROUND(E19*V19,0) -> 875031 | X19: 0.25 | Y19: =ROUND(E19*X19,0) -> 875031 | Z19: 0.25 | AA19: =ROUND(E19*Z19,0) -> 875031
B20: 4.8 | C20: TÉCNICO HIDRAULICO | D20: DM | E20: =+'INSUMOS '!P72 -> 3500124 | F20: 0.1 | G20: =ROUND(E20*F20,0) -> 350012 | H20: 0.1 | I20: =ROUND(E20*H20,0) -> 350012 | J20: 0.1 | K20: =ROUND(E20*J20,0) -> 350012 | L20: 0.1 | M20: =ROUND(E20*L20,0) -> 350012 | N20: 0.1 | O20: =ROUND(E20*N20,0) -> 350012 | P20: 0.1 | Q20: =ROUND(E20*P20,0) -> 350012 | R20: 0.1 | S20: =+R20*E20 -> 350012.4 | T20: 0.25 | U20: =ROUND(E20*T20,0) -> 875031 | V20: 0.25 | W20: =ROUND(E20*V20,0) -> 875031 | X20: 0.25 | Y20: =ROUND(E20*X20,0) -> 875031 | Z20: 0.25 | AA20: =ROUND(E20*Z20,0) -> 875031
B21: 4.7 | C21: MALETERO | D21: DM | E21: =+'INSUMOS '!P74 -> 1599778 | F21: 1 | G21: =ROUND(E21*F21,0) -> 1599778 | H21: 1 | I21: =ROUND(E21*H21,0) -> 1599778 | J21: 1 | K21: =ROUND(E21*J21,0) -> 1599778 | L21: 1 | M21: =ROUND(E21*L21,0) -> 1599778 | N21: 1 | O21: =ROUND(E21*N21,0) -> 1599778 | P21: 1 | Q21: =ROUND(E21*P21,0) -> 1599778 | R21: 1 | S21: =+R21*E21 -> 1599778 | T21: 6 | U21: =ROUND(E21*T21,0) -> 9598668 | V21: 6 | W21: =ROUND(E21*V21,0) -> 9598668 | X21: 6 | Y21: =ROUND(E21*X21,0) -> 9598668 | Z21: 6 | AA21: =ROUND(E21*Z21,0) -> 9598668
B22: SUBTOTAL | G22: =ROUND((G9+G14+G15+G16+G17+G18+G19+G21),0) -> 22707636 | I22: =ROUND((I9+I14+I15+I16+I17+I18+I19+I21),0) -> 19513478 | K22: =ROUND((K9+K14+K15+K16+K17+K18+K19+K21),0) -> 19796968 | M22: =ROUND((M9+M14+M15+M16+M17+M18+M19+M21),0) -> 19672331 | O22: =ROUND((O9+O14+O15+O16+O17+O18+O19+O21),0) -> 19332057 | Q22: =ROUND((Q9+Q14+Q15+Q16+Q17+Q18+Q19+Q21),0) -> 19149906 | S22: =ROUND((S9+S14+S15+S16+S17+S18+S19+S21),0) -> 18866766 | U22: =+SUM(U14:U21)+U9 -> 90308328 | W22: =ROUND((W9+W14+W15+W16+W17+W18+W19+W21),0) -> 58201609 | Y22: =ROUND((Y9+Y14+Y15+Y16+Y17+Y18+Y19+Y21),0) -> 58201609 | AA22: =ROUND((AA9+AA14+AA15+AA16+AA17+AA18+AA19+AA21),0) -> 58201609
P24: SUB TOTAL MANTENIMIENTO PISCINAS | AA24: =ROUND((G22+I22+K22+M22+O22+Q22+S22+U22+W22+Y22+AA22),0) -> 403952297
P25: Costos indirectos | W25: =+'[2]Factor '!$F$103 -> 0.132854 | Y25: =ROUND((Y24*14.15%),0) -> 0 | AA25: =ROUND((AA24*W25),0) -> 53666678
P26: SUB TOTAL MANTENIMIENTO PISCINAS | Y26: =ROUND((Y24+Y25),0) -> 0 | AA26: =ROUND((AA24+AA25),0) -> 457618975
P27: IVA | W27: 0.19 | Y27: =ROUND((Y26*19%),0) -> 0 | AA27: =ROUND((AA26*19%),0) -> 86947605
P28: TOTAL MES | Y28: =ROUND((Y26+Y27),0) -> 0 | AA28: =ROUND((AA26+AA27),0) -> 544566580

Sheet PUBLICAR 
A1: INSTITUTO PARA LA RECREACIÓN Y EL DEPORTE
A3: MANTENIMIENTO DE PISCINAS G1
A5: Ítem | B5: DESCRIPCIÓN | C5: Und | E5: Sauzalito | F5: Virrey sur | G5: Patio Bonito | H5: Autopista Sur | I5: Candelaria la Nueva | J5: Serena | K5: Meissen | L5: COMPLEJO ACUÁTICO | M5: CDRC TUNAL | N5: CDRC FONTANAR | O5: CDRC CRISTOBAL
D6: Cant | E6: Valor Todo Costo | F6: Valor Todo Costo | G6: Valor Todo Costo | H6: Valor Todo Costo | I6: Valor Todo Costo | J6: Valor Todo Costo | K6: Valor Todo Costo | L6: Valor Todo Costo | M6: Valor Todo Costo | N6: Valor Todo Costo | O6: Valor Todo Costo
A8: 1 | B8: VALOR MENSUAL OPERACIÓN PISCINAS AÑO 2020 EL CUAL INCLUYE: SUMINISTROS VARIOS: Mangueras, tubos telescópicos, carro aspiradora, cepillos, nasas, herramienta menor, equipo multiparametro, kit medicion de parametros e hidrolavadoras. QUÍMICOS: Cloro, cristalin 50, alkalos, klarit plus, sulfato, soda, decapante, alumbre, reactivos, desengrasantes y algicida. ANÁLISIS FÍSICOS, QUÍMICOS Y MICROBIOLOGICOS: (Conductividad, Aluminio, amonio, cobre, Hierro total, plata, Heterotrofos, coliformes totales, coliformes fecales, E-colihongo. PERSONAL: El solicitado en el anexo técnico. Impuestos y Utilidad | C8: MES | D8: 1 | E8: =+ROUND('TOTALES '!G22*1.13285*1.19,0) -> 30611971 | F8: =+ROUND('TOTALES '!I22*1.13285*1.19,0) -> 26305954 | G8: =+ROUND('TOTALES '!K22*1.13285*1.19,0) -> 26688124 | H8: =+ROUND('TOTALES '!M22*1.13285*1.19,0) -> 26520102 | I8: =+ROUND('TOTALES '!O22*1.13285*1.19,0) -> 26061382 | J8: =+ROUND('TOTALES '!Q22*1.13285*1.19,0) -> 25815826 | K8: =+ROUND('TOTALES '!S22*1.13285*1.19,0) -> 25434127 | L8: =+ROUND('TOTALES '!U22*1.13285*1.19,0) -> 121743889 | M8: =+ROUND('TOTALES '!W22*1.13285*1.19,0) -> 78461094 | N8: =+ROUND('TOTALES '!Y22*1.13285*1.19,0) -> 78461094 | O8: =+ROUND('TOTALES '!AA22*1.13285*1.19,0) -> 78461094
L9: VALOR MENSUAL | N9: =+E8+F8+G8+H8+I8+J8+K8+L8+M8+N8+O8 -> 544564657
