Workbook
Name Ancho_base: 'Memorias de cantidades'!$C$42
Name ANCHOPH: 'Memorias de cantidades'!$C$41
Name Ciclopelateral: 'Memorias de cantidades'!$D$15
Name LREAL: 'Memorias de cantidades'!$D$58
Name NUMRAMPAS: 'Memorias de cantidades'!$C$50
Name rielcentral: 'Memorias de cantidades'!$D$16
Name riellateral: 'Memorias de cantidades'!$D$12
Name Sobreancho: 'Memorias de cantidades'!$D$11

Sheet Presupuesto 
B1: FORMULARIO 1
C2: PRESUPUESTO OFICIAL
B3: [El presente formulario aplica para los procesos de contratación que tengan como forma de pago precios unitarios. Tratándose de otras modalidades de precio, la Entidad debe ajustarlo cuando corresponde a: precio global, llave en mano, administración delegada, reembolso de gastos o cualquier otra forma precio]
B4: Adicionalmente, cuando el proceso de contratación es estructurado por precios unitarios, la Entidad debe aplicar las notas 1, 2 y 3 del presente formulario y las casillas de "Descripción", "Porcentaje" de la Administración, Imprevisto, Utilidad y total A.I.U. resaltadas en colo amarillo. Tratándose de otras modalidades de precio, la Entidad puede o no configurar los mismos aspectos.
B5: ' EJECUTAR OBRAS PARA LA CONSTRUCCIÓN DE PLACA HUELLAS EN DIFERENTES SECTORES DELAS VEREDAS DEL MUNICIPIO DE SESQUILÉ, EN EL MARCO DEL PRESUPUESTO PARTICIPATIVO 2026''
B7: ÍTEM | C7: ÍTEM ICCU | D7: DESCRIPCIÓN | E7: UNIDAD | F7: CANTIDADES | G7: VALOR UNITARIO | H7: VALOR TOTAL
B8: SALINAS COLEGIO ALTO | H8: =SUM(H9,H11,H13,H15) -> 33268329 | J8: =+H8*1.33 -> 44246877
B9: 1 | D9: MANTENIMIENTO VIAL | H9: =SUM(H10:H10,0) -> 229824
B10: 1.1 | C10: 6.1 | D10: CONFORMACIÓN DE LA CALZADA EXISTENTE | E10: M2 | F10: =+'Memorias de cantidades'!$I$6 -> 189 | G10: 1216 | H10: =+ROUND(F10*G10,0) -> 229824
B11: 2 | D11: ESTRUCTURA DE PAVIMENTO | H11: =SUM(H12:H12,0) -> 3352926.2
B12: 2.1 | C12: 3.15 | D12: AFIRMADO | E12: M3 | F12: =+'Memorias de cantidades'!$I$25 -> 28.35 | G12: 118269 | H12: =+F12*G12 -> 3352926.2
B13: 3 | D13: EXPLANACIÓN Y EXCAVACIONES | H13: =SUM(H14:H14,0) -> 230725.53
B14: 3.1 | C14: 2.13 | D14: EXCAVACIONES VARIAS EN MATERIAL COMÚN SECO A MANO (INCLUYE RETIRO DE SOBRANTES A UNA DISTANCIA MENOR DE 5 KM) | E14: M3 | F14: =+SUM('Memorias de cantidades'!$I$51:$I$53) -> 3.213 | G14: 71810 | H14: =F14*G14 -> 230725.53
B15: 4 | D15: OBRAS DE ARTE | H15: =SUM(H16:H19,0) -> 29454853
B16: 4.1 | C16: 4.6 | D16: CONCRETOS CLASE D, f´c =3000 PSI (BASES) | E16: M3 | F16: =+SUM('Memorias de cantidades'!I96:I98) -> 11.736 | G16: 841760 | H16: =F16*G16 -> 9878895.4
B17: 4.2 | C17: 4.25 | D17: CONCRETO CICLÓPEO CLASE G, 2000 PSI 40% RAJON PARA BASES | E17: M3 | F17: =+SUM('Memorias de cantidades'!I130:I131) -> 8.33625 | G17: 606157 | H17: =F17*G17 -> 5053076.3
B18: 4.3 | C18: 4.21 | D18: CUNETA DE CONCRETO CLASE E, 2500 PSI FUNDIDA EN EL LUGAR | E18: M3 | F18: =+'Memorias de cantidades'!I161 -> 7.56 | G18: 688802 | H18: =F18*G18 -> 5207343.1
B19: 4.4 | C19: 4.52 | D19: SUMINISTRO FIGURADO Y ARMADO DE ACERO DE REFUERZO 60000 PSI | E19: KG | F19: =+SUM('Memorias de cantidades'!I185:I195) -> 1104.915 | G19: 8431 | H19: =F19*G19 -> 9315538.2
H20: =SUM(H21,H23,H25,H27) -> 30623690
B21: 1 | D21: MANTENIMIENTO VIAL | H21: =SUM(H22:H22,0) -> 230200
B22: 1.1 | C22: 6.1 | D22: CONFORMACIÓN DE LA CALZADA EXISTENTE | E22: M2 | F22: =+'Memorias de cantidades'!$I$8 -> 200 | G22: 1151 | H22: =+ROUND(F22*G22,0) -> 230200
B23: 2 | D23: ESTRUCTURA DE PAVIMENTO | H23: =SUM(H24:H24,0) -> 3374610
B24: 2.1 | C24: 3.15 | D24: AFIRMADO | E24: M3 | F24: =+'Memorias de cantidades'!I27 -> 30 | G24: 112487 | H24: =+F24*G24 -> 3374610
B25: 3 | D25: EXPLANACIÓN Y EXCAVACIONES | H25: =SUM(H26:H26,0) -> 208976.51
B26: 3.1 | C26: 2.13 | D26: EXCAVACIONES VARIAS EN MATERIAL COMÚN SECO A MANO (INCLUYE RETIRO DE SOBRANTES A UNA DISTANCIA MENOR DE 5 KM) | E26: M3 | F26: =+SUM('Memorias de cantidades'!I55:I57) -> 3.198 | G26: 65346 | H26: =F26*G26 -> 208976.51
B27: 4 | D27: OBRAS DE ARTE | H27: =SUM(H28:H31,0) -> 26809904
B28: 4.1 | C28: 4.6 | D28: CONCRETOS CLASE D, f´c =3000 PSI (BASES) | E28: M3 | F28: =+SUM('Memorias de cantidades'!I100:I102) -> 11.0865 | G28: 769961 | H28: =F28*G28 -> 8536172.6
B29: 4.2 | C29: 4.25 | D29: CONCRETO CICLÓPEO CLASE G, 2000 PSI 40% RAJON PARA BASES | E29: M3 | F29: =+SUM('Memorias de cantidades'!I133:I134) -> 10.26 | G29: 551205 | H29: =F29*G29 -> 5655363.3
B30: 4.3 | C30: 4.21 | D30: CUNETA DE CONCRETO CLASE E, 2500 PSI FUNDIDA EN EL LUGAR | E30: M3 | F30: =+SUM('Memorias de cantidades'!I163:I163) -> 7.2 | G30: 625846 | H30: =F30*G30 -> 4506091.2
B31: 4.4 | C31: 4.52 | D31: SUMINISTRO FIGURADO Y ARMADO DE ACERO DE REFUERZO 60000 PSI | E31: KG | F31: =+SUM('Memorias de cantidades'!I209:I219) -> 1020.4121 | G31: 7950 | H31: =F31*G31 -> 8112276.6
H32: =SUM(H33,H35,H37,H39) -> 28058551
B33: 1 | D33: MANTENIMIENTO VIAL | H33: =SUM(H34:H34,0) -> 191642
B34: 1.1 | C34: 6.1 | D34: CONFORMACIÓN DE LA CALZADA EXISTENTE | E34: M2 | F34: =+'Memorias de cantidades'!I10 -> 166.5 | G34: 1151 | H34: =+ROUND(F34*G34,0) -> 191642
B35: 2 | D35: ESTRUCTURA DE PAVIMENTO | H35: =SUM(H36:H36,0) -> 2809362.8
B36: 2.1 | C36: 3.15 | D36: AFIRMADO | E36: M3 | F36: =+'Memorias de cantidades'!I29 -> 24.975 | G36: 112487 | H36: =+F36*G36 -> 2809362.8
B37: 3 | D37: EXPLANACIÓN Y EXCAVACIONES | H37: =SUM(H38:H38,0) -> 187118.27
B38: 3.1 | C38: 2.13 | D38: EXCAVACIONES VARIAS EN MATERIAL COMÚN SECO A MANO (INCLUYE RETIRO DE SOBRANTES A UNA DISTANCIA MENOR DE 5 KM) | E38: M3 | F38: =+SUM('Memorias de cantidades'!I59:I61) -> 2.8635 | G38: 65346 | H38: =F38*G38 -> 187118.27
B39: 4 | D39: OBRAS DE ARTE | H39: =SUM(H40:H43,0) -> 24870428
B40: 4.1 | C40: 4.6 | D40: CONCRETOS CLASE D, f´c =3000 PSI (BASES) | E40: M3 | F40: =+SUM('Memorias de cantidades'!I104:I106) -> 10.84275 | G40: 769961 | H40: =F40*G40 -> 8348494.6
B41: 4.2 | C41: 4.25 | D41: CONCRETO CICLÓPEO CLASE G, 2000 PSI 40% RAJON PARA BASES | E41: M3 | F41: =+SUM('Memorias de cantidades'!I136:I137) -> 7.695 | G41: 551205 | H41: =F41*G41 -> 4241522.5
...

Sheet Memorias de cantidades
A1: ='Presupuesto '!B5:H6 -> #VALUE!
A3: ITEM | B3: LOCALIZACION | C3: DIMENSIONES | F3: AREA | G3: UNIDADES TOTALES | H3: CANT | I3: PARCIAL | J3: TOTAL | K3: UNID.
A4: =+'Presupuesto '!B10 -> 1.1 | C4: LARGO/RADIO PROM | D4: ANCHO PROM | E4: ALTO/ESP
A5: =+'Presupuesto '!D10 -> CONFORMACIÓN DE LA CALZADA EXISTENTE | B5: SALINAS ALTO COLEGIO
B6: SALINAS ALTO COLEGIO | C6: 42 | D6: 4.5 | F6: =+PRODUCT(C6:E6) -> 189 | H6: 1 | I6: =+F6*H6 -> 189
B7: RANCHERIA SECTOR EL RETEN
B8: RANCHERIA SECTOR EL RETEN | C8: 40 | D8: 5 | F8: =+PRODUCT(C8:E8) -> 200 | H8: 1 | I8: =+F8*H8 -> 200
B9: GOBERNADOR MIGUELIN
B10: GOBERNADOR MIGUELIN | C10: 37 | D10: 4.5 | F10: =+PRODUCT(C10:E10) -> 166.5 | H10: 1 | I10: =+F10*H10 -> 166.5
B11: CHALECHE LAS CURVAS
B12: CHALECHE LAS CURVAS | C12: 30 | D12: 6.8 | F12: =+PRODUCT(C12:E12) -> 204 | H12: 1 | I12: =+F12*H12 -> 204
B13: ESPIGAS LA CURVA DEL GATO
B14: ESPIGAS | C14: 42 | D14: 4.5 | F14: =+PRODUCT(C14:E14) -> 189 | H14: 1 | I14: =+F14*H14 -> 189
C17: =C6+C8+C10+C12+C14 -> 191
J20: =SUM(I6:I19,0) -> 948.5 | K20: M2
A22: ITEM | B22: LOCALIZACION | C22: DIMENSIONES | F22: VOL | G22: UNIDADES TOTALES | H22: CANT | I22: PARCIAL | J22: TOTAL | K22: UNID.
A23: =+'Presupuesto '!B12 -> 2.1 | C23: LARGO/RADIO PROM | D23: ANCHO PROM | E23: ALTO/ESP
A24: =+'Presupuesto '!D12 -> AFIRMADO | B24: SALINAS ALTO COLEGIO
B25: SALINAS ALTO COLEGIO | C25: 42 | D25: 4.5 | E25: 0.15 | F25: =+PRODUCT(C25:E25) -> 28.35 | H25: 1 | I25: =+F25*H25 -> 28.35
B26: RANCHERIA SECTOR EL RETEN
B27: RANCHERIA SECTOR EL RETEN | C27: 40 | D27: 5 | E27: 0.15 | F27: =+PRODUCT(C27:E27) -> 30 | H27: 1 | I27: =+F27*H27 -> 30
B28: GOBERNADOR MIGUELIN
B29: GOBERNADOR MIGUELIN | C29: 37 | D29: 4.5 | E29: 0.15 | F29: =+PRODUCT(C29:E29) -> 24.975 | H29: 1 | I29: =+F29*H29 -> 24.975
B30: CHALECHE LAS CURVAS
B31: CHALECHE LAS CURVAS | C31: 30 | D31: 6.8 | E31: 0.15 | F31: =+PRODUCT(C31:E31) -> 30.6 | H31: 1 | I31: =+F31*H31 -> 30.6
B32: ESPIGAS LA CURVA DEL GATO
B33: ESPIGAS LA CURVA DEL GATO | C33: 42 | D33: 4.5 | E33: 0.15 | F33: =+PRODUCT(C33:E33) -> 28.35 | H33: 1 | I33: =+F33*H33 -> 28.35
J46: =SUM(I25:I45,0) -> 142.275 | K46: M3
A48: ITEM | B48: LOCALIZACION | C48: DIMENSIONES | F48: VOL | G48: UNIDADES TOTALES | H48: CANT | I48: PARCIAL | J48: TOTAL | K48: UNID.
A49: =+'Presupuesto '!B14 -> 3.1 | C49: LARGO/RADIO PROM | D49: ANCHO PROM | E49: ALTO/ESP
A50: =+'Presupuesto '!D14 -> EXCAVACIONES VARIAS EN MATERIAL COMÚN SECO A MANO (INCLUYE RETIRO DE SOBRANTES A UNA DISTANCIA MENOR DE 5 KM) | B50: SALINAS ALTO COLEGIO
B51: VIGAS | C51: 3.3 | D51: 0.15 | E51: 0.1 | F51: =+PRODUCT(C51:E51) -> 0.0495 | H51: 14 | I51: =+F51*H51 -> 0.693
B52: CUNETAS | C52: 42 | D52: 0.6 | E52: 0.05 | F52: =+PRODUCT(C52:E52) -> 1.26 | H52: 2 | I52: =+F52*H52 -> 2.52
B53: RAMPAS | C53: 0 | D53: 3.3 | E53: 0.075 | F53: =+PRODUCT(C53:E53) -> 0 | H53: 1 | I53: =+F53*H53 -> 0
B54: RANCHERIA SECTOR EL RETEN
B55: vigas | C55: 3.8 | D55: 0.15 | E55: 0.1 | F55: =+PRODUCT(C55:E55) -> 0.057 | H55: 14 | I55: =+F55*H55 -> 0.798
B56: cunetas | C56: 40 | D56: 0.6 | E56: 0.05 | F56: =+PRODUCT(C56:E56) -> 1.2 | H56: 2 | I56: =+F56*H56 -> 2.4
B57: rampas | F57: =+PRODUCT(C57:E57) -> 0 | H57: 1 | I57: =+F57*H57 -> 0
B58: GOBERNADOR MIGUELIN
B59: vigas | C59: 3.3 | D59: 0.15 | E59: 0.1 | F59: =+PRODUCT(C59:E59) -> 0.0495 | H59: 13 | I59: =+F59*H59 -> 0.6435
...
