Workbook

Sheet TABLERO CONTROL
B1: TABLERO GENERAL DEL PROYECTO
M2: 2.1 - Transporte
M3: 2.2 - Viáticos
B4: Nombre del proyecto | C4: =ECONÓMICA!B2 -> “FORMULACIÓN DEL PLAN DE ORDENAMIENTO DEL RECURSO HÍDRICO (PORH) DE LA CORRIENTE PRINCIPAL DE LA CUENCA DEL RÍO MEDIO Y BAJO SUÁREZ - NSS Y SUS PRINCIPALES TRIBUTARIOS EN LA JURISDICCIÓN DE LA CORPORACIÓN AUTÓNOMA REGIONAL DE SANTANDER (CAS)” | E4: Resumen ejecutivo del proyecto. La formulación del PORH de la cuenca del río Medio y Bajo Suárez – NSS y sus principales tributarios busca ordenar y gestionar sosteniblemente el recurso hídrico superficial, promoviendo su calidad, disponibilidad y uso equitativo. El proceso, basado en la normativa vigente, incluye diagnóstico, definición de usos, metas de reducción de contaminación, monitoreo y análisis de escenarios climáticos e hidrológicos para orientar la protección de los ecosistemas y el aprovechamiento responsable del agua. | M4: 2.3 - Socialización
B5: Periodo de ejecución | C5: EJECUCIÓN 2026 - 2027 (VIGENCIA FUTURA) | M5: 2.4 - (A,B,C y D) LABORATORIO
B6: Tiempo de ejecución | C6: =COUNTA(DISTRIBUCIÓN!F2:BA2)&" MESES" -> 12 MESES | M6: 2.5 (A,B y C) - HIDROBIOLOGÍA
B7: Entidad | C7: CORPORACIÓN AUTÓNOMA REGIONAL DE SANTANDER - CAS | M7: 2.6 - LABORATORIO - VTOs
M8: 2.7 - (A,B y C) logis_Monitoreo
B9: Localización | C9: CUENCA RÍO MEDIO Y BAJO SUÁREZ EN JURISDICCIÓN CAS | E9: Resumen Financiero | H9: Meta PAC | M9: 2.8 - Ofer-Deman-Ind
E10: Valor total Consultoría | F10: =ECONÓMICA!H45 -> 2319047656 | G10: =F10/F12 -> 0.88248737 | H10: 2024 | I10: 2025 | J10: 2026 | K10: 2027 | M10: 2.9 - Zonas de Recarga
E11: Valor total Interventoría | F11: =ECONÓMICA!H46 -> 308805994 | G11: =F11/F12 -> 0.11751263 | H11: 1 | I11: 1 | J11: 1 | K11: 1 | M11: 2.10 - Impresiones
E12: Valor total proyecto | F12: =F10+F11 -> 2627853650 | G12: =G10+G11 -> 1 | H12: 1 PORH PARA EL 2026
E14: Navegación rápida
E15: Consultoría - presupuesto | F15: Ir a ECONÓMICA
E16: Consultoría - entregables | F16: Ir a ENTREGABLES
E17: Consultoría - avance % | F17: Ir a (%) DE AVANCE CONSULTORÍA
E18: Consultoría - Plan de Cargas | F18: Ir a PLAN DE CARGAS
E19: Consultoría - Resumen PC | F19: Ir a RESUMEN PLAN DE CARGAS
E20: Consultoría - cronograma | F20: Ir a CRONOGRAMA CONSULTORÍA
E21: Interventoría - presupuesto | F21: Ir a INTERVENTORÍA
E22: Interventoría - entregables | F22: Ir a ENTREGABLES INTERVENTORÍA
E23: Interventoría - avance % | F23: Ir a (%) DE AVANCE INTERVENTORÍA
E24: Interventoría - cronograma | F24: Ir a CRONOGRAMA INTERVENTORÍA
E25: Distribución general | F25: Ir a DISTRIBUCIÓN
E26: Viáticos y transporte | F26: Ir a VIÁTICOS-TRANSP
E27: Factor Multiplicador | F27: Ir a FM
E28: Estudio de Mercado | F28: 2.3 - Socialización | G28: =IF(F28="","Selecciona arriba",HYPERLINK("#'"&F28&"'!A1","Ir a " &F28)) -> Ir a 2.3 - Socialización

Sheet DISTRIBUCIÓN
F1: FASE UNO (1) | J1: FASE DOS (2) | AH1: FASE TRES (3) | AP1: FASE CUATRO (4)
F2: Mes 1 | J2: Mes 2 | N2: Mes 3 | R2: Mes 4 | V2: Mes 5 | Z2: Mes 6 | AD2: Mes 7 | AH2: Mes 8 | AL2: Mes 9 | AP2: Mes 10 | AT2: Mes 11 | AX2: Mes 12
A3: =INTERVENTORÍA!A3 -> Personal PROFESIONAL | B3: Número | C3: Meses | D3: Salario | E3: Dedicación | F3: 1 | G3: 2 | H3: 3 | I3: 4 | J3: 5 | K3: 6 | L3: 7 | M3: 8 | N3: 9 | O3: 10 | P3: 11 | Q3: 12 | R3: 13 | S3: 14 | T3: 15 | U3: 16 | V3: 17 | W3: 18 | X3: 19 | Y3: 20 | Z3: 21 | AA3: 22 | AB3: 23 | AC3: 24 | AD3: 25 | AE3: 26 | AF3: 27 | AG3: 28 | AH3: 29 | AI3: 30 | AJ3: 31 | AK3: 32 | AL3: 33 | AM3: 34 | AN3: 35 | AO3: 36 | AP3: 37 | AQ3: 38 | AR3: 39 | AS3: 40 | AT3: 41 | AU3: 42 | AV3: 43 | AW3: 44 | AX3: 45 | AY3: 46 | AZ3: 47 | BA3: 48
A4: =ECONÓMICA!B6 -> Director | B4: =ECONÓMICA!C6 -> 1 | C4: =ECONÓMICA!H6 -> 12 | D4: =ECONÓMICA!D6 -> 6977992 | E4: =ECONÓMICA!E6 -> 0.7 | F4: =$D$4*$E$4*$B$4 -> 4884594.4 | J4: =$D$4*$E$4*$B$4 -> 4884594.4 | N4: =$D$4*$E$4*$B$4 -> 4884594.4 | R4: =$D$4*$E$4*$B$4 -> 4884594.4 | V4: =$D$4*$E$4*$B$4 -> 4884594.4 | Z4: =$D$4*$E$4*$B$4 -> 4884594.4 | AD4: =$D$4*$E$4*$B$4 -> 4884594.4 | AH4: =$D$4*$E$4*$B$4 -> 4884594.4 | AL4: =$D$4*$E$4*$B$4 -> 4884594.4 | AP4: =$D$4*$E$4*$B$4 -> 4884594.4 | AT4: =$D$4*$E$4*$B$4 -> 4884594.4 | AX4: =$D$4*$E$4*$B$4 -> 4884594.4 | BB4: =SUM(F4:BA4)*$E$12 -> 1.1957487e+08 | BC4: =ECONÓMICA!I6 -> 1.1957487e+08 | BD4: =BB4-BC4 -> 0
A5: =ECONÓMICA!B7 -> Experto en modelamiento y calidad de agua | B5: =ECONÓMICA!C7 -> 1 | C5: =ECONÓMICA!H7 -> 11 | D5: =ECONÓMICA!D7 -> 5925555 | E5: =ECONÓMICA!E7 -> 0.7 | F5: =$D$5*$E$5*$B$5 -> 4147888.5 | J5: =$D$5*$E$5*$B$5 -> 4147888.5 | N5: =$D$5*$E$5*$B$5 -> 4147888.5 | R5: =$D$5*$E$5*$B$5 -> 4147888.5 | V5: =$D$5*$E$5*$B$5 -> 4147888.5 | Z5: =$D$5*$E$5*$B$5 -> 4147888.5 | AD5: =$D$5*$E$5*$B$5 -> 4147888.5 | AH5: =$D$5*$E$5*$B$5 -> 4147888.5 | AL5: =$D$5*$E$5*$B$5 -> 4147888.5 | AP5: =$D$5*$E$5*$B$5 -> 4147888.5 | AT5: =$D$5*$E$5*$B$5 -> 4147888.5 | BB5: =SUM(F5:BA5)*$E$12 -> 93078618 | BC5: =ECONÓMICA!I7 -> 93078618 | BD5: =BB5-BC5 -> 0
A6: =ECONÓMICA!B8 -> Experto en Hidrología | B6: =ECONÓMICA!C8 -> 1 | C6: =ECONÓMICA!H8 -> 9 | D6: =ECONÓMICA!D8 -> 5925555 | E6: =ECONÓMICA!E8 -> 0.6 | F6: =$D$6*$E$6*$B$6 -> 3555333 | J6: =$D$6*$E$6*$B$6 -> 3555333 | N6: =$D$6*$E$6*$B$6 -> 3555333 | R6: =$D$6*$E$6*$B$6 -> 3555333 | V6: =$D$6*$E$6*$B$6 -> 3555333 | Z6: =$D$6*$E$6*$B$6 -> 3555333 | AD6: =$D$6*$E$6*$B$6 -> 3555333 | AH6: =$D$6*$E$6*$B$6 -> 3555333 | AL6: =$D$6*$E$6*$B$6 -> 3555333 | BB6: =SUM(F6:BA6)*$E$12 -> 65275914 | BC6: =ECONÓMICA!I8 -> 65275914 | BD6: =BB6-BC6 -> 0
A7: =ECONÓMICA!B9 -> Profesional Social | B7: =ECONÓMICA!C9 -> 1 | C7: =ECONÓMICA!H9 -> 5 | D7: =ECONÓMICA!D9 -> 3639162 | E7: =ECONÓMICA!E9 -> 0.9 | F7: =$D$7*$E$7*$B$7 -> 3275245.8 | J7: =$D$7*$E$7*$B$7 -> 3275245.8 | N7: =$D$7*$E$7*$B$7 -> 3275245.8 | R7: =$D$7*$E$7*$B$7 -> 3275245.8 | V7: =$D$7*$E$7*$B$7 -> 3275245.8 | BB7: =SUM(F7:BA7)*$E$12 -> 33407507 | BC7: =ECONÓMICA!I9 -> 33407507 | BD7: =BB7-BC7 -> 0
A8: =ECONÓMICA!B10 -> Personal de Campo | B8: =ECONÓMICA!C10 -> 6 | C8: =ECONÓMICA!H10 -> 4 | D8: =ECONÓMICA!D10 -> 2416246 | E8: =ECONÓMICA!E10 -> 1 | J8: =$D$8*$E$8*$B$8 -> 14497476 | N8: =$D$8*$E$8*$B$8 -> 14497476 | R8: =$D$8*$E$8*$B$8 -> 14497476 | V8: =$D$8*$E$8*$B$8 -> 14497476 | BB8: =SUM(F8:BA8)*$E$12 -> 1.182994e+08 | BC8: =ECONÓMICA!I10 -> 1.182994e+08 | BD8: =BB8-BC8 -> 0
A9: =ECONÓMICA!B11 -> Profesional SIG | B9: =ECONÓMICA!C11 -> 1 | C9: =ECONÓMICA!H11 -> 6 | D9: =ECONÓMICA!D11 -> 3639162 | E9: =ECONÓMICA!E11 -> 0.6 | F9: =$D$9*$E$9*$B$9 -> 2183497.2 | J9: =$D$9*$E$9*$B$9 -> 2183497.2 | Z9: =$D$9*$E$9*$B$9 -> 2183497.2 | AD9: =$D$9*$E$9*$B$9 -> 2183497.2 | AL9: =$D$9*$E$9*$B$9 -> 2183497.2 | AT9: =$D$9*$E$9*$B$9 -> 2183497.2 | BB9: =SUM(F9:BA9)*$E$12 -> 26726006 | BC9: =ECONÓMICA!I11 -> 26726006 | BD9: =BB9-BC9 -> 0
A10: =ECONÓMICA!B12 -> Auxiliar administrativo | B10: =ECONÓMICA!C12 -> 1 | C10: =ECONÓMICA!H12 -> 12 | D10: =ECONÓMICA!D12 -> 2247340 | E10: =ECONÓMICA!E12 -> 0.7 | F10: =$D$10*$E$10*$B$10 -> 1573138 | J10: =$D$10*$E$10*$B$10 -> 1573138 | N10: =$D$10*$E$10*$B$10 -> 1573138 | R10: =$D$10*$E$10*$B$10 -> 1573138 | V10: =$D$10*$E$10*$B$10 -> 1573138 | Z10: =$D$10*$E$10*$B$10 -> 1573138 | AD10: =$D$10*$E$10*$B$10 -> 1573138 | AH10: =$D$10*$E$10*$B$10 -> 1573138 | AL10: =$D$10*$E$10*$B$10 -> 1573138 | AP10: =$D$10*$E$10*$B$10 -> 1573138 | AT10: =$D$10*$E$10*$B$10 -> 1573138 | AX10: =$D$10*$E$10*$B$10 -> 1573138 | BB10: =SUM(F10:BA10)*$E$12 -> 38510418 | BC10: =ECONÓMICA!I12 -> 38510418 | BD10: =BB10-BC10 -> 0
BE11: ECONÓMICA
D12: Factor Multiplicador | E12: =FM!D37 -> 2.04 | F12: =SUM(F4:I10)*$E$12 -> 40024182 | J12: =SUM(J4:M10)*$E$12 -> 69599033 | N12: =SUM(N4:Q10)*$E$12 -> 65144698 | R12: =SUM(R4:U10)*$E$12 -> 65144698 | V12: =SUM(V4:Y10)*$E$12 -> 65144698 | Z12: =SUM(Z4:AC10)*$E$12 -> 33342680 | AD12: =SUM(AD4:AG10)*$E$12 -> 33342680 | AH12: =SUM(AH4:AK10)*$E$12 -> 28888346 | AL12: =SUM(AL4:AO10)*$E$12 -> 33342680 | AP12: =SUM(AP4:AS10)*$E$12 -> 21635467 | AT12: =SUM(AT4:AW10)*$E$12 -> 26089801 | AX12: =SUM(AX4:BA10)*$E$12 -> 13173774 | BC12: =SUM(F12:BA12) -> 4.9487274e+08 | BD12: =IF(ABS(BC12-BE12)<0.001,"OK"," ERROR") -> OK | BE12: =ECONÓMICA!I13 -> 4.9487274e+08
BD13: Control 1
F14: FASE UNO (1) | J14: FASE DOS (2) | AH14: FASE TRES (3) | AP14: FASE CUATRO (4)
F15: Mes 1 | J15: Mes 2 | N15: Mes 3 | R15: Mes 4 | V15: Mes 5 | Z15: Mes 6 | AD15: Mes 7 | AH15: Mes 8 | AL15: Mes 9 | AP15: Mes 10 | AT15: Mes 11 | AX15: Mes 12
F16: 1 | G16: 2 | H16: 3 | I16: 4 | J16: 5 | K16: 6 | L16: 7 | M16: 8 | N16: 9 | O16: 10 | P16: 11 | Q16: 12 | R16: 13 | S16: 14 | T16: 15 | U16: 16 | V16: 17 | W16: 18 | X16: 19 | Y16: 20 | Z16: 21 | AA16: 22 | AB16: 23 | AC16: 24 | AD16: 25 | AE16: 26 | AF16: 27 | AG16: 28 | AH16: 29 | AI16: 30 | AJ16: 31 | AK16: 32 | AL16: 33 | AM16: 34 | AN16: 35 | AO16: 36 | AP16: 37 | AQ16: 38 | AR16: 39 | AS16: 40 | AT16: 41 | AU16: 42 | AV16: 43 | AW16: 44 | AX16: 45 | AY16: 46 | AZ16: 47 | BA16: 48
A17: =ECONÓMICA!B17 -> 2.1. Transporte | F17: ='VIÁTICOS-TRANSP'!D12 -> 7964445.4 | J17: ='VIÁTICOS-TRANSP'!D33 -> 18204447 | N17: ='VIÁTICOS-TRANSP'!E33 -> 37546671 | R17: ='VIÁTICOS-TRANSP'!F33 -> 42097783 | V17: ='VIÁTICOS-TRANSP'!D36 -> 2844444.8 | Z17: ='VIÁTICOS-TRANSP'!E36 -> 0 | AD17: ='VIÁTICOS-TRANSP'!F36 -> 2275555.8 | AH17: ='VIÁTICOS-TRANSP'!D51 -> 0 | AL17: ='VIÁTICOS-TRANSP'!E51 -> 2275555.8 | AP17: ='VIÁTICOS-TRANSP'!D64 -> 0 | AT17: ='VIÁTICOS-TRANSP'!E64 -> 2275555.8 | AX17: ='VIÁTICOS-TRANSP'!F64 -> 0 | BB17: =SUM(F17:BA17)*$E$34 -> 1.2030016e+08 | BC17: =ECONÓMICA!I17 -> 1.2030016e+08 | BD17: =BB17-BC17 -> 0
A18: =ECONÓMICA!B18 -> 2.2. Gastos de Alojamiento, Alimentación e Hidratación | F18: ='VIÁTICOS-TRANSP'!D13 -> 4480000 | J18: ='VIÁTICOS-TRANSP'!D34 -> 16960000 | N18: ='VIÁTICOS-TRANSP'!E34 -> 21120000 | R18: ='VIÁTICOS-TRANSP'!F34 -> 23680000 | V18: ='VIÁTICOS-TRANSP'!D37 -> 1600000 | Z18: ='VIÁTICOS-TRANSP'!E37 -> 0 | AD18: ='VIÁTICOS-TRANSP'!F37 -> 2560000 | AH18: ='VIÁTICOS-TRANSP'!D52 -> 0 | AL18: ='VIÁTICOS-TRANSP'!E52 -> 2560000 | AP18: ='VIÁTICOS-TRANSP'!D65 -> 0 | AT18: ='VIÁTICOS-TRANSP'!E65 -> 1920000 | AX18: ='VIÁTICOS-TRANSP'!F65 -> 0 | BB18: =SUM(F18:BA18)*$E$34 -> 78002496 | BC18: =ECONÓMICA!I18 -> 78002496 | BD18: =BB18-BC18 -> 0
A19: =ECONÓMICA!B19 -> 2.3. Logística de espacios de socialización PORH - 3 fases | AD19: =('2.3 - Socialización'!K5/'2.3 - Socialización'!E5)*4 -> 4300000 | AL19: =('2.3 - Socialización'!K5/'2.3 - Socialización'!E5)*4 -> 4300000 | AX19: =('2.3 - Socialización'!K5/'2.3 - Socialización'!E5)*4 -> 4300000 | BB19: =SUM(F19:BA19)*$E$34 -> 13437930 | BC19: =ECONÓMICA!I19 -> 13437930 | BD19: =BB19-BC19 -> 0
A20: =ECONÓMICA!B20 -> 2.4. (A) Monitoreo puntual Tiempos de Viaje | J20: ='2.4 - (A,B,C y D) LABORATORIO'!C3*'2.4 - (A,B,C y D) LABORATORIO'!E3 -> 46440000 | BB20: =SUM(F20:BA20)*$E$34 -> 48376548 | BC20: =ECONÓMICA!I20 -> 48376548 | BD20: =BB20-BC20 -> 0
A21: =ECONÓMICA!B21 -> 2.4. (B) Monitoreo puntual Matriz de agua + Aforo Molinete | J21: ='2.4 - (A,B,C y D) LABORATORIO'!$C$4*'2.4 - (A,B,C y D) LABORATORIO'!$E$4/3 -> 7012112 | N21: ='2.4 - (A,B,C y D) LABORATORIO'!$C$4*'2.4 - (A,B,C y D) LABORATORIO'!$E$4/3 -> 7012112 | Z21: ='2.4 - (A,B,C y D) LABORATORIO'!$C$4*'2.4 - (A,B,C y D) LABORATORIO'!$E$4/3 -> 7012112 | BB21: =SUM(F21:BA21)*$E$34 -> 21913551 | BC21: =ECONÓMICA!I21 -> 21913551 | BD21: =BB21-BC21 -> 0
A22: =ECONÓMICA!B22 -> 2.4. (C) Monitoreo puntual Matriz de agua + Flujo Magnético | J22: ='2.4 - (A,B,C y D) LABORATORIO'!$C$5*'2.4 - (A,B,C y D) LABORATORIO'!$E$5/3 -> 25410280 | N22: ='2.4 - (A,B,C y D) LABORATORIO'!$C$5*'2.4 - (A,B,C y D) LABORATORIO'!$E$5/3 -> 25410280 | Z22: ='2.4 - (A,B,C y D) LABORATORIO'!$C$5*'2.4 - (A,B,C y D) LABORATORIO'!$E$5/3 -> 25410280 | BB22: =SUM(F22:BA22)*$E$34 -> 79409666 | BC22: =ECONÓMICA!I22 -> 79409666 | BD22: =BB22-BC22 -> 0
A23: =ECONÓMICA!B23 -> 2.4. (D) Monitoreo puntual Matriz de agua + ADCP | J23: ='2.4 - (A,B,C y D) LABORATORIO'!$C$6*'2.4 - (A,B,C y D) LABORATORIO'!$E$6/3 -> 65780560 | N23: ='2.4 - (A,B,C y D) LABORATORIO'!$C$6*'2.4 - (A,B,C y D) LABORATORIO'!$E$6/3 -> 65780560 | Z23: ='2.4 - (A,B,C y D) LABORATORIO'!$C$6*'2.4 - (A,B,C y D) LABORATORIO'!$E$6/3 -> 65780560 | BB23: =SUM(F23:BA23)*$E$34 -> 2.0557083e+08 | BC23: =ECONÓMICA!I23 -> 2.0557083e+08 | BD23: =BB23-BC23 -> 0
A24: =ECONÓMICA!B24 -> 2.5. (A) Matriz Biota | J24: ='2.5 (A,B y C) - HIDROBIOLOGÍA'!$C$3*'2.5 (A,B y C) - HIDROBIOLOGÍA'!$E$3/2 -> 146443100 | Z24: ='2.5 (A,B y C) - HIDROBIOLOGÍA'!$C$3*'2.5 (A,B y C) - HIDROBIOLOGÍA'!$E$3/2 -> 146443100 | BB24: =SUM(F24:BA24)*$E$34 -> 3.0509955e+08 | BC24: =ECONÓMICA!I24 -> 3.0509955e+08 | BD24: =BB24-BC24 -> 0
A25: =ECONÓMICA!B25 -> 2.5. (B) Índices Hidrobiología | N25: ='2.5 (A,B y C) - HIDROBIOLOGÍA'!$C$4*'2.5 (A,B y C) - HIDROBIOLOGÍA'!$E$4/2 -> 21736948 | Z25: ='2.5 (A,B y C) - HIDROBIOLOGÍA'!$C$4*'2.5 (A,B y C) - HIDROBIOLOGÍA'!$E$4/2 -> 21736948 | BB25: =SUM(F25:BA25)*$E$34 -> 45286757 | BC25: =ECONÓMICA!I25 -> 45286757 | BD25: =BB25-BC25 -> 0
A26: =ECONÓMICA!B26 -> 2.5. (C) Informe | N26: ='2.5 (A,B y C) - HIDROBIOLOGÍA'!$C$5*'2.5 (A,B y C) - HIDROBIOLOGÍA'!$E$5/2 -> 10000000 | Z26: ='2.5 (A,B y C) - HIDROBIOLOGÍA'!$C$5*'2.5 (A,B y C) - HIDROBIOLOGÍA'!$E$5/2 -> 10000000 | BB26: =SUM(F26:BA26)*$E$34 -> 20834000 | BC26: =ECONÓMICA!I26 -> 20834000 | BD26: =BB26-BC26 -> 0
A27: =ECONÓMICA!B27 -> 2.6. Monitoreo de Vertimiento | J27: ='2.6 - LABORATORIO - VTOs'!C5*'2.6 - LABORATORIO - VTOs'!E5 -> 41684364 | BB27: =SUM(F27:BA27)*$E$34 -> 43422602 | BC27: =ECONÓMICA!I27 -> 43422602 | BD27: =BB27-BC27 -> 0
A28: =ECONÓMICA!B28 -> 2.7. (A) Logística Monitoreo Agua Residual | J28: ='2.7 - (A,B y C) logis_Monitoreo'!C3*'2.7 - (A,B y C) logis_Monitoreo'!D3 -> 34202997 | BB28: =SUM(F28:BA28)*$E$34 -> 35629262 | BC28: =ECONÓMICA!I28 -> 35629262 | BD28: =BB28-BC28 -> 0
A29: =ECONÓMICA!B29 -> 2.7. (B) Logística Monitoreo Biota | J29: =('2.7 - (A,B y C) logis_Monitoreo'!C4*'2.7 - (A,B y C) logis_Monitoreo'!D4+'2.7 - (A,B y C) logis_Monitoreo'!C5*'2.7 - (A,B y C) logis_Monitoreo'!D5)/2 -> 66624000 | Z29: =('2.7 - (A,B y C) logis_Monitoreo'!C4*'2.7 - (A,B y C) logis_Monitoreo'!D4+'2.7 - (A,B y C) logis_Monitoreo'!C5*'2.7 - (A,B y C) logis_Monitoreo'!D5)/2 -> 66624000 | BB29: =SUM(F29:BA29)*$E$34 -> 1.3880444e+08 | BC29: =ECONÓMICA!I29 -> 1.3880444e+08 | BD29: =BB29-BC29 -> 0
A30: =ECONÓMICA!B30 -> 2.7. (C) Logística Monitoreo Agua Superficial | J30: =('2.7 - (A,B y C) logis_Monitoreo'!C6*'2.7 - (A,B y C) logis_Monitoreo'!D6+'2.7 - (A,B y C) logis_Monitoreo'!C7*'2.7 - (A,B y C) logis_Monitoreo'!D7)/2 -> 98743992 | Z30: =('2.7 - (A,B y C) logis_Monitoreo'!C6*'2.7 - (A,B y C) logis_Monitoreo'!D6+'2.7 - (A,B y C) logis_Monitoreo'!C7*'2.7 - (A,B y C) logis_Monitoreo'!D7)/2 -> 98743992 | BB30: =SUM(F30:BA30)*$E$34 -> 2.0572323e+08 | BC30: =ECONÓMICA!I30 -> 2.0572323e+08 | BD30: =BB30-BC30 -> 0
A31: =ECONÓMICA!B31 -> 2.8. Hidrología (Oferta, Demanda e Indicadores) | N31: =('2.8 - Ofer-Deman-Ind'!H3+'2.8 - Ofer-Deman-Ind'!H4+'2.8 - Ofer-Deman-Ind'!H5+'2.8 - Ofer-Deman-Ind'!H9)/5 -> 12400000 | R31: =('2.8 - Ofer-Deman-Ind'!H3+'2.8 - Ofer-Deman-Ind'!H4+'2.8 - Ofer-Deman-Ind'!H5+'2.8 - Ofer-Deman-Ind'!H9)/5 -> 12400000 | V31: =('2.8 - Ofer-Deman-Ind'!H3+'2.8 - Ofer-Deman-Ind'!H4+'2.8 - Ofer-Deman-Ind'!H5+'2.8 - Ofer-Deman-Ind'!H9)/5 -> 12400000 | Z31: =('2.8 - Ofer-Deman-Ind'!H3+'2.8 - Ofer-Deman-Ind'!H4+'2.8 - Ofer-Deman-Ind'!H5+'2.8 - Ofer-Deman-Ind'!H9)/5 -> 12400000 | AD31: =('2.8 - Ofer-Deman-Ind'!H3+'2.8 - Ofer-Deman-Ind'!H4+'2.8 - Ofer-Deman-Ind'!H5+'2.8 - Ofer-Deman-Ind'!H9)/5 -> 12400000 | AH31: ='2.8 - Ofer-Deman-Ind'!H10/2 -> 2500000 | AL31: ='2.8 - Ofer-Deman-Ind'!H10/2 -> 2500000 | BB31: =SUM(F31:BA31)*$E$34 -> 69793900 | BC31: =ECONÓMICA!I31 -> 69793900 | BD31: =BB31-BC31 -> 0
A32: =ECONÓMICA!B32 -> 2.9. Determinación de zonas de recarga hídrica | V32: ='2.9 - Zonas de Recarga'!H4/2 -> 7500000 | Z32: ='2.9 - Zonas de Recarga'!H4/2 -> 7500000 | BB32: =SUM(F32:BA32)*$E$34 -> 15625500 | BC32: =ECONÓMICA!I32 -> 15625500 | BD32: =BB32-BC32 -> 0
A33: =ECONÓMICA!B33 -> 2.10. Impresión y publicaciones medios | AX33: ='2.10 - Impresiones'!I8 -> 6409115.3 | BB33: =SUM(F33:BA33)*$E$34 -> 6676375.4 | BC33: =ECONÓMICA!I33 -> 6676375.4 | BD33: =BB33-BC33 -> 0
D34: Factor Multiplicador | E34: =FM!D48 -> 1.0417 | F34: =SUM(F17:I33)*E34 -> 12963379 | J34: =SUM(J17:M33)*$E$34 -> 5.9117085e+08 | N34: =SUM(N17:Q33)*$E$34 -> 2.0938855e+08 | R34: =SUM(R17:U33)*$E$34 -> 81437796 | V34: =SUM(V17:Y33)*$E$34 -> 25359608 | Z34: =SUM(Z17:AC33)*$E$34 -> 4.8090184e+08 | AD34: =SUM(AD17:AG33)*$E$34 -> 22433589 | AH34: =SUM(AH17:AK33)*$E$34 -> 2604250 | AL34: =SUM(AL17:AO33)*$E$34 -> 12120759 | AP34: =SUM(AP17:AS33)*$E$34 -> 0 | AT34: =SUM(AT17:AW33)*$E$34 -> 4370510.5 | AX34: =SUM(AX17:BA33)*$E$34 -> 11155685 | BB34: =SUM(BB17:BB33) -> 1.4539068e+09 | BC34: =ECONÓMICA!I34 -> 1.4539068e+09 | BD34: =BB34-BC34 -> 0
BD35: =IF(ABS(BB34-BC34)<0.001,"OK"," ERROR") -> OK
BD36: Control 2
A37: FASE UNO | D37: =SUM(F12)+SUM(F34) -> 52987560 | E37: =D37/$D$41 -> 0.027190126
A38: FASE DOS | D38: =SUM(J12:AG12)+SUM(J34:AG34) -> 1.7424107e+09 | E38: =D38/$D$41 -> 0.89410355
A39: FASE TRES | D39: =ROUND(SUM(AH12:AO12)+SUM(AH34:AO34),4) -> 76956035 | E39: =ROUND(D39/$D$41,4) -> 0.0395
A40: FASE CUATRO | D40: =ROUND(SUM(AP12:BA12)+SUM(AP34:BA34),4) -> 76425238 | E40: =ROUND((D40/$D$41),4) -> 0.0392
...

Sheet PLAN DE CARGAS
A1: PLAN DE CARGAS
A2: ITEM | B2: PROFESIONAL | C2: MES 1 | G2: MES 2 | K2: MES 3 | O2: MES 4 | S2: MES 5 | W2: MES 6 | AA2: MES 7 | AE2: MES 8 | AI2: MES 9 | AM2: MES 10 | AQ2: MES 11 | AU2: MES 12 | AY2: Mes desarrollo | AZ2: % Ocupación | BA2: Meses de ocupación
C3: S1 | D3: S2 | E3: S3 | F3: S4 | G3: S1 | H3: S2 | I3: S3 | J3: S4 | K3: S1 | L3: S2 | M3: S3 | N3: S4 | O3: S1 | P3: S2 | Q3: S3 | R3: S4 | S3: S1 | T3: S2 | U3: S3 | V3: S4 | W3: S1 | X3: S2 | Y3: S3 | Z3: S4 | AA3: S1 | AB3: S2 | AC3: S3 | AD3: S4 | AE3: S1 | AF3: S2 | AG3: S3 | AH3: S4 | AI3: S1 | AJ3: S2 | AK3: S3 | AL3: S4 | AM3: S1 | AN3: S2 | AO3: S3 | AP3: S4 | AQ3: S1 | AR3: S2 | AS3: S3 | AT3: S4 | AU3: S1 | AV3: S2 | AW3: S3 | AX3: S4
A4: =DISTRIBUCIÓN!A47 -> Localización del cuerpo de agua | B4: Director | C4: 0 | D4: 0.09 | E4: 0.09 | F4: 0 | AY4: 1 | AZ4: =IF(COUNTIF(B4:AX4,">0")=0,0,ROUND(SUM(B4:AX4)/COUNTIF(B4:AX4,">0"),4)) -> 0.09 | BA4: =ROUND(SUM(B4:AX4)/4,2) -> 0.05 | BB4: 1
B5: Experto en modelamiento y calidad de agua | C5: 0 | D5: 0 | E5: 0 | F5: 0 | AY5: 1 | AZ5: =IF(COUNTIF(B5:AX5,">0")=0,0,ROUND(SUM(B5:AX5)/COUNTIF(B5:AX5,">0"),4)) -> 0 | BA5: =ROUND(SUM(B5:AX5)/4,2) -> 0 | BB5: =ROUND(1/(COUNT(B5:AX5)/4),2) -> 1
B6: Experto en Hidrología | C6: 0 | D6: 0.2 | E6: 0.2 | F6: 0 | AY6: 1 | AZ6: =IF(COUNTIF(B6:AX6,">0")=0,0,ROUND(SUM(B6:AX6)/COUNTIF(B6:AX6,">0"),4)) -> 0.2 | BA6: =ROUND(SUM(B6:AX6)/4,2) -> 0.1 | BB6: =ROUND(1/(COUNT(B6:AX6)/4),2) -> 1
B7: Profesional Social | C7: 0 | D7: 0 | E7: 0 | F7: 0 | AY7: 1 | AZ7: =IF(COUNTIF(B7:AX7,">0")=0,0,ROUND(SUM(B7:AX7)/COUNTIF(B7:AX7,">0"),4)) -> 0 | BA7: =ROUND(SUM(B7:AX7)/4,2) -> 0 | BB7: =ROUND(1/(COUNT(B7:AX7)/4),2) -> 1
B8: Personal de Campo | C8: 0 | D8: 0 | E8: 0 | F8: 0 | AY8: 1 | AZ8: =IF(COUNTIF(B8:AX8,">0")=0,0,ROUND(SUM(B8:AX8)/COUNTIF(B8:AX8,">0"),4)) -> 0 | BA8: =ROUND(SUM(B8:AX8)/4,2) -> 0 | BB8: =ROUND(1/(COUNT(B8:AX8)/4),2) -> 1
B9: Profesional SIG | C9: 0 | D9: 0.1 | E9: 0.1 | F9: 0 | AY9: 1 | AZ9: =IF(COUNTIF(B9:AX9,">0")=0,0,ROUND(SUM(B9:AX9)/COUNTIF(B9:AX9,">0"),4)) -> 0.1 | BA9: =ROUND(SUM(B9:AX9)/4,2) -> 0.05 | BB9: =ROUND(1/(COUNT(B9:AX9)/4),2) -> 1
B10: Auxiliar administrativo | C10: 0 | D10: 0 | E10: 0 | F10: 0 | AY10: 1 | AZ10: =IF(COUNTIF(B10:AX10,">0")=0,0,ROUND(SUM(B10:AX10)/COUNTIF(B10:AX10,">0"),4)) -> 0 | BA10: =ROUND(SUM(B10:AX10)/4,2) -> 0 | BB10: =AVERAGE(AZ4:AZ10) -> 0.055714286
A11: =DISTRIBUCIÓN!A48 -> Alistamiento Institucional | B11: Director | C11: 0.14 | D11: 0.14 | E11: 0.14 | F11: 0.14 | AY11: 1 | AZ11: =IF(COUNTIF(B11:AX11,">0")=0,0,ROUND(SUM(B11:AX11)/COUNTIF(B11:AX11,">0"),4)) -> 0.14 | BA11: =ROUND(SUM(B11:AX11)/4,2) -> 0.14 | BB11: =ROUND(1/(COUNT(B11:AX11)/4),2) -> 1
B12: Experto en modelamiento y calidad de agua | C12: 0.09 | D12: 0.09 | E12: 0.09 | F12: 0.09 | AY12: 1 | AZ12: =IF(COUNTIF(B12:AX12,">0")=0,0,ROUND(SUM(B12:AX12)/COUNTIF(B12:AX12,">0"),4)) -> 0.09 | BA12: =ROUND(SUM(B12:AX12)/4,2) -> 0.09 | BB12: =ROUND(1/(COUNT(B12:AX12)/4),2) -> 1
B13: Experto en Hidrología | C13: 0.05 | D13: 0.05 | E13: 0.05 | F13: 0.05 | AY13: 1 | AZ13: =IF(COUNTIF(B13:AX13,">0")=0,0,ROUND(SUM(B13:AX13)/COUNTIF(B13:AX13,">0"),4)) -> 0.05 | BA13: =ROUND(SUM(B13:AX13)/4,2) -> 0.05 | BB13: =ROUND(1/(COUNT(B13:AX13)/4),2) -> 1
B14: Profesional Social | C14: 0.18 | D14: 0.18 | E14: 0.18 | F14: 0.18 | AY14: 1 | AZ14: =IF(COUNTIF(B14:AX14,">0")=0,0,ROUND(SUM(B14:AX14)/COUNTIF(B14:AX14,">0"),4)) -> 0.18 | BA14: =ROUND(SUM(B14:AX14)/4,2) -> 0.18 | BB14: =ROUND(1/(COUNT(B14:AX14)/4),2) -> 1
B15: Personal de Campo | C15: 0 | D15: 0 | E15: 0 | F15: 0 | AY15: 1 | AZ15: =IF(COUNTIF(B15:AX15,">0")=0,0,ROUND(SUM(B15:AX15)/COUNTIF(B15:AX15,">0"),4)) -> 0 | BA15: =ROUND(SUM(B15:AX15)/4,2) -> 0 | BB15: =ROUND(1/(COUNT(B15:AX15)/4),2) -> 1
B16: Profesional SIG | C16: 0 | D16: 0 | E16: 0 | F16: 0 | AY16: 1 | AZ16: =IF(COUNTIF(B16:AX16,">0")=0,0,ROUND(SUM(B16:AX16)/COUNTIF(B16:AX16,">0"),4)) -> 0 | BA16: =ROUND(SUM(B16:AX16)/4,2) -> 0 | BB16: =ROUND(1/(COUNT(B16:AX16)/4),2) -> 1
B17: Auxiliar administrativo | C17: 0.15 | D17: 0.15 | E17: 0.15 | F17: 0.15 | AY17: 1 | AZ17: =IF(COUNTIF(B17:AX17,">0")=0,0,ROUND(SUM(B17:AX17)/COUNTIF(B17:AX17,">0"),4)) -> 0.15 | BA17: =ROUND(SUM(B17:AX17)/4,2) -> 0.15 | BB17: =ROUND(1/(COUNT(B17:AX17)/4),2) -> 1
A18: =DISTRIBUCIÓN!A49 -> Identificación de actores relevantes para el ordenamiento | B18: Director | C18: 0 | D18: 0.09 | E18: 0.09 | F18: 0.09 | AY18: 1 | AZ18: =IF(COUNTIF(B18:AX18,">0")=0,0,ROUND(SUM(B18:AX18)/COUNTIF(B18:AX18,">0"),4)) -> 0.09 | BA18: =ROUND(SUM(B18:AX18)/4,2) -> 0.07 | BB18: =ROUND(1/(COUNT(B18:AX18)/4),2) -> 1
B19: Experto en modelamiento y calidad de agua | C19: 0 | D19: 0 | E19: 0 | F19: 0 | AY19: 1 | AZ19: =IF(COUNTIF(B19:AX19,">0")=0,0,ROUND(SUM(B19:AX19)/COUNTIF(B19:AX19,">0"),4)) -> 0 | BA19: =ROUND(SUM(B19:AX19)/4,2) -> 0 | BB19: =ROUND(1/(COUNT(B19:AX19)/4),2) -> 1
B20: Experto en Hidrología | C20: 0 | D20: 0 | E20: 0 | F20: 0 | AY20: 1 | AZ20: =IF(COUNTIF(B20:AX20,">0")=0,0,ROUND(SUM(B20:AX20)/COUNTIF(B20:AX20,">0"),4)) -> 0 | BA20: =ROUND(SUM(B20:AX20)/4,2) -> 0 | BB20: =ROUND(1/(COUNT(B20:AX20)/4),2) -> 1
B21: Profesional Social | C21: 0 | D21: 0.09 | E21: 0.09 | F21: 0.09 | AY21: 1 | AZ21: =IF(COUNTIF(B21:AX21,">0")=0,0,ROUND(SUM(B21:AX21)/COUNTIF(B21:AX21,">0"),4)) -> 0.09 | BA21: =ROUND(SUM(B21:AX21)/4,2) -> 0.07 | BB21: =ROUND(1/(COUNT(B21:AX21)/4),2) -> 1
B22: Personal de Campo | C22: 0 | D22: 0 | E22: 0 | F22: 0 | AY22: 1 | AZ22: =IF(COUNTIF(B22:AX22,">0")=0,0,ROUND(SUM(B22:AX22)/COUNTIF(B22:AX22,">0"),4)) -> 0 | BA22: =ROUND(SUM(B22:AX22)/4,2) -> 0 | BB22: =ROUND(1/(COUNT(B22:AX22)/4),2) -> 1
B23: Profesional SIG | C23: 0 | D23: 0 | E23: 0 | F23: 0 | AY23: 1 | AZ23: =IF(COUNTIF(B23:AX23,">0")=0,0,ROUND(SUM(B23:AX23)/COUNTIF(B23:AX23,">0"),4)) -> 0 | BA23: =ROUND(SUM(B23:AX23)/4,2) -> 0 | BB23: =ROUND(1/(COUNT(B23:AX23)/4),2) -> 1
B24: Auxiliar administrativo | C24: 0 | D24: 0.13 | E24: 0.13 | F24: 0.13 | AY24: 1 | AZ24: =IF(COUNTIF(B24:AX24,">0")=0,0,ROUND(SUM(B24:AX24)/COUNTIF(B24:AX24,">0"),4)) -> 0.13 | BA24: =ROUND(SUM(B24:AX24)/4,2) -> 0.1 | BB24: =ROUND(1/(COUNT(B24:AX24)/4),2) -> 1
A25: =DISTRIBUCIÓN!A50 -> Recopilación de información de instrumentos existentes | B25: Director | C25: 0 | D25: 0 | E25: 0 | F25: 0 | AY25: 1 | AZ25: =IF(COUNTIF(B25:AX25,">0")=0,0,ROUND(SUM(B25:AX25)/COUNTIF(B25:AX25,">0"),4)) -> 0 | BA25: =ROUND(SUM(B25:AX25)/4,2) -> 0 | BB25: =ROUND(1/(COUNT(B25:AX25)/4),2) -> 1
B26: Experto en modelamiento y calidad de agua | C26: 0 | D26: 0 | E26: 0 | F26: 0 | AY26: 1 | AZ26: =IF(COUNTIF(B26:AX26,">0")=0,0,ROUND(SUM(B26:AX26)/COUNTIF(B26:AX26,">0"),4)) -> 0 | BA26: =ROUND(SUM(B26:AX26)/4,2) -> 0 | BB26: =ROUND(1/(COUNT(B26:AX26)/4),2) -> 1
B27: Experto en Hidrología | C27: 0.05 | D27: 0.05 | E27: 0.05 | F27: 0.05 | AY27: 1 | AZ27: =IF(COUNTIF(B27:AX27,">0")=0,0,ROUND(SUM(B27:AX27)/COUNTIF(B27:AX27,">0"),4)) -> 0.05 | BA27: =ROUND(SUM(B27:AX27)/4,2) -> 0.05 | BB27: =ROUND(1/(COUNT(B27:AX27)/4),2) -> 1
B28: Profesional Social | C28: 0.33 | D28: 0.33 | E28: 0.33 | F28: 0.33 | AY28: 1 | AZ28: =IF(COUNTIF(B28:AX28,">0")=0,0,ROUND(SUM(B28:AX28)/COUNTIF(B28:AX28,">0"),4)) -> 0.33 | BA28: =ROUND(SUM(B28:AX28)/4,2) -> 0.33 | BB28: =ROUND(1/(COUNT(B28:AX28)/4),2) -> 1
B29: Personal de Campo | C29: 0 | D29: 0 | E29: 0 | F29: 0 | AY29: 1 | AZ29: =IF(COUNTIF(B29:AX29,">0")=0,0,ROUND(SUM(B29:AX29)/COUNTIF(B29:AX29,">0"),4)) -> 0 | BA29: =ROUND(SUM(B29:AX29)/4,2) -> 0 | BB29: =ROUND(1/(COUNT(B29:AX29)/4),2) -> 1
B30: Profesional SIG | C30: 0.19 | D30: 0.19 | E30: 0.19 | F30: 0.19 | AY30: 1 | AZ30: =IF(COUNTIF(B30:AX30,">0")=0,0,ROUND(SUM(B30:AX30)/COUNTIF(B30:AX30,">0"),4)) -> 0.19 | BA30: =ROUND(SUM(B30:AX30)/4,2) -> 0.19 | BB30: =ROUND(1/(COUNT(B30:AX30)/4),2) -> 1
B31: Auxiliar administrativo | C31: 0.15 | D31: 0.15 | E31: 0.15 | F31: 0.15 | AY31: 1 | AZ31: =IF(COUNTIF(B31:AX31,">0")=0,0,ROUND(SUM(B31:AX31)/COUNTIF(B31:AX31,">0"),4)) -> 0.15 | BA31: =ROUND(SUM(B31:AX31)/4,2) -> 0.15 | BB31: =ROUND(1/(COUNT(B31:AX31)/4),2) -> 1
A32: =DISTRIBUCIÓN!A51 -> Recopilación de información de redes hidrometeorológicas hidrobiológicas y de calidad | B32: Director | C32: 0 | D32: 0 | E32: 0.05 | F32: 0.05 | AY32: 1 | AZ32: =IF(COUNTIF(B32:AX32,">0")=0,0,ROUND(SUM(B32:AX32)/COUNTIF(B32:AX32,">0"),4)) -> 0.05 | BA32: =ROUND(SUM(B32:AX32)/4,2) -> 0.03 | BB32: =ROUND(1/(COUNT(B32:AX32)/4),2) -> 1
B33: Experto en modelamiento y calidad de agua | C33: 0 | D33: 0 | E33: 0.09 | F33: 0.09 | AY33: 1 | AZ33: =IF(COUNTIF(B33:AX33,">0")=0,0,ROUND(SUM(B33:AX33)/COUNTIF(B33:AX33,">0"),4)) -> 0.09 | BA33: =ROUND(SUM(B33:AX33)/4,2) -> 0.05 | BB33: =ROUND(1/(COUNT(B33:AX33)/4),2) -> 1
B34: Experto en Hidrología | C34: 0 | D34: 0 | E34: 0.25 | F34: 0.25 | AY34: 1 | AZ34: =IF(COUNTIF(B34:AX34,">0")=0,0,ROUND(SUM(B34:AX34)/COUNTIF(B34:AX34,">0"),4)) -> 0.25 | BA34: =ROUND(SUM(B34:AX34)/4,2) -> 0.13 | BB34: =ROUND(1/(COUNT(B34:AX34)/4),2) -> 1
B35: Profesional Social | C35: 0 | D35: 0 | E35: 0 | F35: 0 | AY35: 1 | AZ35: =IF(COUNTIF(B35:AX35,">0")=0,0,ROUND(SUM(B35:AX35)/COUNTIF(B35:AX35,">0"),4)) -> 0 | BA35: =ROUND(SUM(B35:AX35)/4,2) -> 0 | BB35: =ROUND(1/(COUNT(B35:AX35)/4),2) -> 1
B36: Personal de Campo | C36: 0 | D36: 0 | E36: 0 | F36: 0 | AY36: 1 | AZ36: =IF(COUNTIF(B36:AX36,">0")=0,0,ROUND(SUM(B36:AX36)/COUNTIF(B36:AX36,">0"),4)) -> 0 | BA36: =ROUND(SUM(B36:AX36)/4,2) -> 0 | BB36: =ROUND(1/(COUNT(B36:AX36)/4),2) -> 1
B37: Profesional SIG | C37: 0 | D37: 0 | E37: 0.05 | F37: 0.05 | AY37: 1 | AZ37: =IF(COUNTIF(B37:AX37,">0")=0,0,ROUND(SUM(B37:AX37)/COUNTIF(B37:AX37,">0"),4)) -> 0.05 | BA37: =ROUND(SUM(B37:AX37)/4,2) -> 0.03 | BB37: =ROUND(1/(COUNT(B37:AX37)/4),2) -> 1
B38: Auxiliar administrativo | C38: 0 | D38: 0 | E38: 0 | F38: 0 | AY38: 1 | AZ38: =IF(COUNTIF(B38:AX38,">0")=0,0,ROUND(SUM(B38:AX38)/COUNTIF(B38:AX38,">0"),4)) -> 0 | BA38: =ROUND(SUM(B38:AX38)/4,2) -> 0 | BB38: =ROUND(1/(COUNT(B38:AX38)/4),2) -> 1
A39: =DISTRIBUCIÓN!A52 -> Identificación preliminar de usuarios y clasificación de los usos actuales | B39: Director | C39: 0 | D39: 0.05 | E39: 0.05 | F39: 0.05 | AY39: 1 | AZ39: =IF(COUNTIF(B39:AX39,">0")=0,0,ROUND(SUM(B39:AX39)/COUNTIF(B39:AX39,">0"),4)) -> 0.05 | BA39: =ROUND(SUM(B39:AX39)/4,2) -> 0.04 | BB39: =ROUND(1/(COUNT(B39:AX39)/4),2) -> 1
B40: Experto en modelamiento y calidad de agua | C40: 0 | D40: 0.09 | E40: 0.09 | F40: 0.09 | AY40: 1 | AZ40: =IF(COUNTIF(B40:AX40,">0")=0,0,ROUND(SUM(B40:AX40)/COUNTIF(B40:AX40,">0"),4)) -> 0.09 | BA40: =ROUND(SUM(B40:AX40)/4,2) -> 0.07 | BB40: =ROUND(1/(COUNT(B40:AX40)/4),2) -> 1
...

Sheet RESUMEN PLAN DE CARGAS
A1: RESUMEN DE PLAN DE CARGAS
A2: PROFESIONAL | B2: MES 1 | F2: MES 2 | J2: MES 3 | N2: MES 4 | R2: MES 5 | V2: MES 6 | Z2: MES 7 | AD2: MES 8 | AH2: MES 9 | AL2: MES 10 | AP2: MES 11 | AT2: MES 12 | AX2: Mes desarrollo | AY2: % Ocupación | AZ2: Meses de ocupación
B3: S1 | C3: S2 | D3: S3 | E3: S4 | F3: S1 | G3: S2 | H3: S3 | I3: S4 | J3: S1 | K3: S2 | L3: S3 | M3: S4 | N3: S1 | O3: S2 | P3: S3 | Q3: S4 | R3: S1 | S3: S2 | T3: S3 | U3: S4 | V3: S1 | W3: S2 | X3: S3 | Y3: S4 | Z3: S1 | AA3: S2 | AB3: S3 | AC3: S4 | AD3: S1 | AE3: S2 | AF3: S3 | AG3: S4 | AH3: S1 | AI3: S2 | AJ3: S3 | AK3: S4 | AL3: S1 | AM3: S2 | AN3: S3 | AO3: S4 | AP3: S1 | AQ3: S2 | AR3: S3 | AS3: S4 | AT3: S1 | AU3: S2 | AV3: S3 | AW3: S4
A4: =DISTRIBUCIÓN!A4 -> Director | B4: =SUMIF('PLAN DE CARGAS'!$B$4:$B$377,"Director",'PLAN DE CARGAS'!C4:C327) -> 0.46 | C4: =SUMIF('PLAN DE CARGAS'!$B$4:$B$377,"Director",'PLAN DE CARGAS'!D4:D327) -> 0.79 | D4: =SUMIF('PLAN DE CARGAS'!$B$4:$B$377,"Director",'PLAN DE CARGAS'!E4:E327) -> 0.84 | E4: =SUMIF('PLAN DE CARGAS'!$B$4:$B$377,"Director",'PLAN DE CARGAS'!F4:F327) -> 0.75 | F4: =SUMIF('PLAN DE CARGAS'!$B$4:$B$377,"Director",'PLAN DE CARGAS'!G4:G327) -> 0.72 | G4: =SUMIF('PLAN DE CARGAS'!$B$4:$B$377,"Director",'PLAN DE CARGAS'!H4:H327) -> 0.72 | H4: =SUMIF('PLAN DE CARGAS'!$B$4:$B$377,"Director",'PLAN DE CARGAS'!I4:I327) -> 0.68 | I4: =SUMIF('PLAN DE CARGAS'!$B$4:$B$377,"Director",'PLAN DE CARGAS'!J4:J327) -> 0.68 | ... AW4: =SUMIF('PLAN DE CARGAS'!$B$4:$B$377,"Director",'PLAN DE CARGAS'!AX4:AX327) -> 0.7 | AX4: =ROUND(COUNTIF(B4:AW4,">0")/4,2) -> 12 | AY4: =IF(COUNTIF(B4:AW4,">0")=0,0,ROUND(SUM(B4:AW4)/COUNTIF(B4:AW4,">0"),4)) -> 0.7 | AZ4: =ROUND(SUM(B4:AW4)/4,2) -> 8.4
A5: =DISTRIBUCIÓN!A5 -> Experto en modelamiento y calidad de agua | B5: =SUMIF('PLAN DE CARGAS'!$B$4:$B$377,"Experto en modelamiento y calidad de agua",'PLAN DE CARGAS'!C4:C327) -> 0.31 | C5: =SUMIF('PLAN DE CARGAS'!$B$4:$B$377,"Experto en modelamiento y calidad de agua",'PLAN DE CARGAS'!D4:D327) -> 0.77 | D5: =SUMIF('PLAN DE CARGAS'!$B$4:$B$377,"Experto en modelamiento y calidad de agua",'PLAN DE CARGAS'!E4:E327) -> 0.86 | E5: =SUMIF('PLAN DE CARGAS'!$B$4:$B$377,"Experto en modelamiento y calidad de agua",'PLAN DE CARGAS'!F4:F327) -> 0.86 | F5: =SUMIF('PLAN DE CARGAS'!$B$4:$B$377,"Experto en modelamiento y calidad de agua",'PLAN DE CARGAS'!G4:G327) -> 0.7 | G5: =SUMIF('PLAN DE CARGAS'!$B$4:$B$377,"Experto en modelamiento y calidad de agua",'PLAN DE CARGAS'!H4:H327) -> 0.7 | H5: =SUMIF('PLAN DE CARGAS'!$B$4:$B$377,"Experto en modelamiento y calidad de agua",'PLAN DE CARGAS'!I4:I327) -> 0.7 | I5: =SUMIF('PLAN DE CARGAS'!$B$4:$B$377,"Experto en modelamiento y calidad de agua",'PLAN DE CARGAS'!J4:J327) -> 0.7 | ... AW5: =SUMIF('PLAN DE CARGAS'!$B$4:$B$377,"Experto en modelamiento y calidad de agua",'PLAN DE CARGAS'!AX4:AX327) -> 0 | AX5: =ROUND(COUNTIF(B5:AW5,">0")/4,2) -> 11 | AY5: =IF(COUNTIF(B5:AW5,">0")=0,0,ROUND(SUM(B5:AW5)/COUNTIF(B5:AW5,">0"),4)) -> 0.7 | AZ5: =ROUND(SUM(B5:AW5)/4,2) -> 7.7
A6: =DISTRIBUCIÓN!A6 -> Experto en Hidrología | B6: =SUMIF('PLAN DE CARGAS'!$B$4:$B$377,"Experto en Hidrología",'PLAN DE CARGAS'!C4:C327) -> 0.26 | C6: =SUMIF('PLAN DE CARGAS'!$B$4:$B$377,"Experto en Hidrología",'PLAN DE CARGAS'!D4:D327) -> 0.6 | D6: =SUMIF('PLAN DE CARGAS'!$B$4:$B$377,"Experto en Hidrología",'PLAN DE CARGAS'!E4:E327) -> 0.85 | E6: =SUMIF('PLAN DE CARGAS'!$B$4:$B$377,"Experto en Hidrología",'PLAN DE CARGAS'!F4:F327) -> 0.65 | F6: =SUMIF('PLAN DE CARGAS'!$B$4:$B$377,"Experto en Hidrología",'PLAN DE CARGAS'!G4:G327) -> 0.6 | G6: =SUMIF('PLAN DE CARGAS'!$B$4:$B$377,"Experto en Hidrología",'PLAN DE CARGAS'!H4:H327) -> 0.6 | H6: =SUMIF('PLAN DE CARGAS'!$B$4:$B$377,"Experto en Hidrología",'PLAN DE CARGAS'!I4:I327) -> 0.6 | I6: =SUMIF('PLAN DE CARGAS'!$B$4:$B$377,"Experto en Hidrología",'PLAN DE CARGAS'!J4:J327) -> 0.6 | ... AW6: =SUMIF('PLAN DE CARGAS'!$B$4:$B$377,"Experto en Hidrología",'PLAN DE CARGAS'!AX4:AX327) -> 0 | AX6: =ROUND(COUNTIF(B6:AW6,">0")/4,2) -> 9 | AY6: =IF(COUNTIF(B6:AW6,">0")=0,0,ROUND(SUM(B6:AW6)/COUNTIF(B6:AW6,">0"),4)) -> 0.6 | AZ6: =ROUND(SUM(B6:AW6)/4,2) -> 5.4
A7: =DISTRIBUCIÓN!A7 -> Profesional Social | B7: =SUMIF('PLAN DE CARGAS'!$B$4:$B$377,"Profesional Social",'PLAN DE CARGAS'!C4:C327) -> 0.6 | C7: =SUMIF('PLAN DE CARGAS'!$B$4:$B$377,"Profesional Social",'PLAN DE CARGAS'!D4:D327) -> 1 | D7: =SUMIF('PLAN DE CARGAS'!$B$4:$B$377,"Profesional Social",'PLAN DE CARGAS'!E4:E327) -> 1 | E7: =SUMIF('PLAN DE CARGAS'!$B$4:$B$377,"Profesional Social",'PLAN DE CARGAS'!F4:F327) -> 1 | F7: =SUMIF('PLAN DE CARGAS'!$B$4:$B$377,"Profesional Social",'PLAN DE CARGAS'!G4:G327) -> 0.9 | G7: =SUMIF('PLAN DE CARGAS'!$B$4:$B$377,"Profesional Social",'PLAN DE CARGAS'!H4:H327) -> 0.9 | H7: =SUMIF('PLAN DE CARGAS'!$B$4:$B$377,"Profesional Social",'PLAN DE CARGAS'!I4:I327) -> 0.9 | I7: =SUMIF('PLAN DE CARGAS'!$B$4:$B$377,"Profesional Social",'PLAN DE CARGAS'!J4:J327) -> 0.9 | ... AW7: =SUMIF('PLAN DE CARGAS'!$B$4:$B$377,"Profesional Social",'PLAN DE CARGAS'!AX4:AX327) -> 0 | AX7: =ROUND(COUNTIF(B7:AW7,">0")/4,2) -> 5 | AY7: =IF(COUNTIF(B7:AW7,">0")=0,0,ROUND(SUM(B7:AW7)/COUNTIF(B7:AW7,">0"),4)) -> 0.9 | AZ7: =ROUND(SUM(B7:AW7)/4,2) -> 4.5
A8: =DISTRIBUCIÓN!A8 -> Personal de Campo | B8: =SUMIF('PLAN DE CARGAS'!$B$4:$B$377,"Personal de Campo",'PLAN DE CARGAS'!C4:C4327) -> 0 | C8: =SUMIF('PLAN DE CARGAS'!$B$4:$B$377,"Personal de Campo",'PLAN DE CARGAS'!D4:D4327) -> 0 | D8: =SUMIF('PLAN DE CARGAS'!$B$4:$B$377,"Personal de Campo",'PLAN DE CARGAS'!E4:E4327) -> 0 | E8: =SUMIF('PLAN DE CARGAS'!$B$4:$B$377,"Personal de Campo",'PLAN DE CARGAS'!F4:F4327) -> 0 | F8: =SUMIF('PLAN DE CARGAS'!$B$4:$B$377,"Personal de Campo",'PLAN DE CARGAS'!G4:G4327) -> 1 | G8: =SUMIF('PLAN DE CARGAS'!$B$4:$B$377,"Personal de Campo",'PLAN DE CARGAS'!H4:H4327) -> 1 | H8: =SUMIF('PLAN DE CARGAS'!$B$4:$B$377,"Personal de Campo",'PLAN DE CARGAS'!I4:I4327) -> 1 | I8: =SUMIF('PLAN DE CARGAS'!$B$4:$B$377,"Personal de Campo",'PLAN DE CARGAS'!J4:J4327) -> 1 | ... AW8: =SUMIF('PLAN DE CARGAS'!$B$4:$B$377,"Personal de Campo",'PLAN DE CARGAS'!AX4:AX4327) -> 0 | AX8: =ROUND(COUNTIF(B8:AW8,">0")/4,2) -> 4 | AY8: =IF(COUNTIF(B8:AW8,">0")=0,0,ROUND(SUM(B8:AW8)/COUNTIF(B8:AW8,">0"),4)) -> 1 | AZ8: =ROUND(SUM(B8:AW8)/4,2) -> 4
A9: =DISTRIBUCIÓN!A9 -> Profesional SIG | B9: =SUMIF('PLAN DE CARGAS'!$B$4:$B$377,"Profesional SIG",'PLAN DE CARGAS'!C4:C327) -> 0.3 | C9: =SUMIF('PLAN DE CARGAS'!$B$4:$B$377,"Profesional SIG",'PLAN DE CARGAS'!D4:D327) -> 0.7 | D9: =SUMIF('PLAN DE CARGAS'!$B$4:$B$377,"Profesional SIG",'PLAN DE CARGAS'!E4:E327) -> 0.75 | E9: =SUMIF('PLAN DE CARGAS'!$B$4:$B$377,"Profesional SIG",'PLAN DE CARGAS'!F4:F327) -> 0.65 | F9: =SUMIF('PLAN DE CARGAS'!$B$4:$B$377,"Profesional SIG",'PLAN DE CARGAS'!G4:G327) -> 0.6 | G9: =SUMIF('PLAN DE CARGAS'!$B$4:$B$377,"Profesional SIG",'PLAN DE CARGAS'!H4:H327) -> 0.6 | H9: =SUMIF('PLAN DE CARGAS'!$B$4:$B$377,"Profesional SIG",'PLAN DE CARGAS'!I4:I327) -> 0.6 | I9: =SUMIF('PLAN DE CARGAS'!$B$4:$B$377,"Profesional SIG",'PLAN DE CARGAS'!J4:J327) -> 0.6 | ... AW9: =SUMIF('PLAN DE CARGAS'!$B$4:$B$377,"Profesional SIG",'PLAN DE CARGAS'!AX4:AX327) -> 0 | AX9: =ROUND(COUNTIF(B9:AW9,">0")/4,2) -> 6 | AY9: =IF(COUNTIF(B9:AW9,">0")=0,0,ROUND(SUM(B9:AW9)/COUNTIF(B9:AW9,">0"),4)) -> 0.6 | AZ9: =ROUND(SUM(B9:AW9)/4,2) -> 3.6
A10: =DISTRIBUCIÓN!A10 -> Auxiliar administrativo | B10: =SUMIF('PLAN DE CARGAS'!$B$4:$B$377,"Auxiliar administrativo",'PLAN DE CARGAS'!C4:C327) -> 0.45 | C10: =SUMIF('PLAN DE CARGAS'!$B$4:$B$377,"Auxiliar administrativo",'PLAN DE CARGAS'!D4:D327) -> 0.77 | D10: =SUMIF('PLAN DE CARGAS'!$B$4:$B$377,"Auxiliar administrativo",'PLAN DE CARGAS'!E4:E327) -> 0.77 | E10: =SUMIF('PLAN DE CARGAS'!$B$4:$B$377,"Auxiliar administrativo",'PLAN DE CARGAS'!F4:F327) -> 0.77 | F10: =SUMIF('PLAN DE CARGAS'!$B$4:$B$377,"Auxiliar administrativo",'PLAN DE CARGAS'!G4:G327) -> 0.7 | G10: =SUMIF('PLAN DE CARGAS'!$B$4:$B$377,"Auxiliar administrativo",'PLAN DE CARGAS'!H4:H327) -> 0.7 | H10: =SUMIF('PLAN DE CARGAS'!$B$4:$B$377,"Auxiliar administrativo",'PLAN DE CARGAS'!I4:I327) -> 0.7 | I10: =SUMIF('PLAN DE CARGAS'!$B$4:$B$377,"Auxiliar administrativo",'PLAN DE CARGAS'!J4:J327) -> 0.7 | ... AW10: =SUMIF('PLAN DE CARGAS'!$B$4:$B$377,"Auxiliar administrativo",'PLAN DE CARGAS'!AX4:AX327) -> 0.7 | AX10: =ROUND(COUNTIF(B10:AW10,">0")/4,2) -> 12 | AY10: =IF(COUNTIF(B10:AW10,">0")=0,0,ROUND(SUM(B10:AW10)/COUNTIF(B10:AW10,">0"),4)) -> 0.7 | AZ10: =ROUND(SUM(B10:AW10)/4,2) -> 8.4
A12: TOTALIZACIÓN DE MESES
A13: PROFESIONAL | B13: TOTAL MESES | C13: Dedicación Mensual | O13: Dedicación Proyecto
C14: Mes 1 | D14: Mes 2 | E14: Mes 3 | F14: Mes 4 | G14: Mes 5 | H14: Mes 6 | I14: Mes 7 | J14: Mes 8 | K14: Mes 9 | L14: Mes 10 | M14: Mes 11 | N14: Mes 12
A15: =A4 -> Director | B15: =ROUND(AZ4,2) -> 8.4 | C15: =AVERAGE(B4:E4) -> 0.71 | D15: =AVERAGE(F4:I4) -> 0.7 | E15: =AVERAGE(J4:M4) -> 0.7 | F15: =AVERAGE(N4:Q4) -> 0.7 | G15: =AVERAGE(R4:U4) -> 0.7 | H15: =AVERAGE(V4:Y4) -> 0.7 | I15: =AVERAGE(Z4:AC4) -> 0.7 | J15: =AVERAGE(AD4:AG4) -> 0.69 | K15: =AVERAGE(AH4:AK4) -> 0.7 | L15: =AVERAGE(AL4:AO4) -> 0.7 | M15: =AVERAGE(AP4:AS4) -> 0.7 | N15: =AVERAGE(AT4:AW4) -> 0.7 | O15: =AVERAGEIF(C15:N15,">0") -> 0.7 | Q15: 70
A16: =A5 -> Experto en modelamiento y calidad de agua | B16: =ROUND(AZ5,2) -> 7.7 | C16: =AVERAGE(B5:E5) -> 0.7 | D16: =AVERAGE(F5:I5) -> 0.7 | E16: =AVERAGE(J5:M5) -> 0.7 | F16: =AVERAGE(N5:Q5) -> 0.7 | G16: =AVERAGE(R5:U5) -> 0.7 | H16: =AVERAGE(V5:Y5) -> 0.7 | I16: =AVERAGE(Z5:AC5) -> 0.71 | J16: =AVERAGE(AD5:AG5) -> 0.69 | K16: =AVERAGE(AH5:AK5) -> 0.7 | L16: =AVERAGE(AL5:AO5) -> 0.7 | M16: =AVERAGE(AP5:AS5) -> 0.7 | N16: =AVERAGE(AT5:AW5) -> 0 | O16: =AVERAGEIF(C16:N16,">0") -> 0.7 | Q16: 70
A17: =A6 -> Experto en Hidrología | B17: =ROUND(AZ6,2) -> 5.4 | C17: =AVERAGE(B6:E6) -> 0.59 | D17: =AVERAGE(F6:I6) -> 0.6 | E17: =AVERAGE(J6:M6) -> 0.6 | F17: =AVERAGE(N6:Q6) -> 0.6 | G17: =AVERAGE(R6:U6) -> 0.6 | H17: =AVERAGE(V6:Y6) -> 0.6 | I17: =AVERAGE(Z6:AC6) -> 0.6 | J17: =AVERAGE(AD6:AG6) -> 0.6 | K17: =AVERAGE(AH6:AK6) -> 0.61 | L17: =AVERAGE(AL6:AO6) -> 0 | M17: =AVERAGE(AP6:AS6) -> 0 | N17: =AVERAGE(AT6:AW6) -> 0 | O17: =AVERAGEIF(C17:N17,">0") -> 0.6 | Q17: 60
A18: =A7 -> Profesional Social | B18: =ROUND(AZ7,2) -> 4.5 | C18: =AVERAGE(B7:E7) -> 0.9 | D18: =AVERAGE(F7:I7) -> 0.9 | E18: =AVERAGE(J7:M7) -> 0.9 | F18: =AVERAGE(N7:Q7) -> 0.9 | G18: =AVERAGE(R7:U7) -> 0.9 | H18: =AVERAGE(V7:Y7) -> 0 | I18: =AVERAGE(Z7:AC7) -> 0 | J18: =AVERAGE(AD7:AG7) -> 0 | K18: =AVERAGE(AH7:AK7) -> 0 | L18: =AVERAGE(AL7:AO7) -> 0 | M18: =AVERAGE(AP7:AS7) -> 0 | N18: =AVERAGE(AT7:AW7) -> 0 | O18: =AVERAGEIF(C18:N18,">0") -> 0.9 | Q18: 90
A19: =A8 -> Personal de Campo | B19: =ROUND(AZ8,2) -> 4 | C19: =AVERAGE(B8:E8) -> 0 | D19: =AVERAGE(F8:I8) -> 1 | E19: =AVERAGE(J8:M8) -> 1 | F19: =AVERAGE(N8:Q8) -> 1 | G19: =AVERAGE(R8:U8) -> 1 | H19: =AVERAGE(V8:Y8) -> 0 | I19: =AVERAGE(Z8:AC8) -> 0 | J19: =AVERAGE(AD8:AG8) -> 0 | K19: =AVERAGE(AH8:AK8) -> 0 | L19: =AVERAGE(AL8:AO8) -> 0 | M19: =AVERAGE(AP8:AS8) -> 0 | N19: =AVERAGE(AT8:AW8) -> 0 | O19: =AVERAGEIF(C19:N19,">0") -> 1 | Q19: 100
A20: =A9 -> Profesional SIG | B20: =ROUND(AZ9,2) -> 3.6 | C20: =AVERAGE(B9:E9) -> 0.6 | D20: =AVERAGE(F9:I9) -> 0.6 | E20: =AVERAGE(J9:M9) -> 0 | F20: =AVERAGE(N9:Q9) -> 0 | G20: =AVERAGE(R9:U9) -> 0 | H20: =AVERAGE(V9:Y9) -> 0.6 | I20: =AVERAGE(Z9:AC9) -> 0.6 | J20: =AVERAGE(AD9:AG9) -> 0 | K20: =AVERAGE(AH9:AK9) -> 0.6 | L20: =AVERAGE(AL9:AO9) -> 0 | M20: =AVERAGE(AP9:AS9) -> 0.6 | N20: =AVERAGE(AT9:AW9) -> 0 | O20: =AVERAGEIF(C20:N20,">0") -> 0.6 | Q20: 60
A21: =A10 -> Auxiliar administrativo | B21: =ROUND(AZ10,2) -> 8.4 | C21: =AVERAGE(B10:E10) -> 0.69 | D21: =AVERAGE(F10:I10) -> 0.7 | E21: =AVERAGE(J10:M10) -> 0.7 | F21: =AVERAGE(N10:Q10) -> 0.7 | G21: =AVERAGE(R10:U10) -> 0.7 | H21: =AVERAGE(V10:Y10) -> 0.7 | I21: =AVERAGE(Z10:AC10) -> 0.7 | J21: =AVERAGE(AD10:AG10) -> 0.7 | K21: =AVERAGE(AH10:AK10) -> 0.71 | L21: =AVERAGE(AL10:AO10) -> 0.7 | M21: =AVERAGE(AP10:AS10) -> 0.7 | N21: =AVERAGE(AT10:AW10) -> 0.7 | O21: =AVERAGEIF(C21:N21,">0") -> 0.7 | Q21: 70

Sheet VIÁTICOS-TRANSP
H1: MES 1
H2: 1 | I2: 2 | J2: 3 | K2: 4 | L2: 5 | M2: 6 | N2: 7 | O2: 8 | P2: 9 | Q2: 10 | R2: 11 | S2: 12 | T2: 13 | U2: 14 | V2: 15 | W2: 16 | X2: 17 | Y2: 18 | Z2: 19 | AA2: 20 | AB2: 21 | AC2: 22 | AD2: 23 | AE2: 24 | AF2: 25 | AG2: 26 | AH2: 27 | AI2: 28 | AJ2: 29 | AK2: 30
A3: FASE UNO (1)
A4: =DISTRIBUCIÓN!A46 -> FASE 1. Declaratoria y Acciones Previas | B4: No. Profesionales | C4: No. Días | D4: No. de vehículos | E4: TOTAL/DÍAS/VEHÍCULO | F4: TOTAL/VIÁTICOS
A5: Identificación preliminar de usuarios y clasificación de los usos actuales (SOCIALIZACIÓN CON ENTIDADES GUBERNAMENTALES) | B5: 2 | C5: =SUM(H5:AK5) -> 6 | D5: 1 | E5: =D5*C5 -> 6 | F5: =B5*C5 -> 12 | I5: 1 | J5: 1 | K5: 1 | L5: 1 | M5: 1 | N5: 1
A6: Prediseño del plan de monitoreo de calidad y cantidad del recurso hídrico (MACROLOCALIZACIÓN PUNTOS DE MONITOREO) | B6: 2 | C6: =SUM(H6:AK6) -> 8 | D6: 1 | E6: =D6*C6 -> 8 | F6: =B6*C6 -> 16 | W6: 1 | X6: 1 | Y6: 1 | Z6: 1 | AA6: 1 | AB6: 1 | AC6: 1 | AD6: 1
A8: SUBTOTAL | C8: =SUM(C5:C7) -> 14 | E8: =SUM(E5:E7) -> 14 | F8: =SUM(F5:F7) -> 28
A9: TOTAL | C9: =C8 -> 14 | E9: =E8 -> 14 | F9: =F8 -> 28
H10: Mes 1 Transporte = | N10: =SUM(H5:AK5)+SUM(H6:AK6)*D6+SUM(H7:AK7)*D7 -> 14 | R10: Viáticos mes 1 | W10: =SUM(H5:AK5)*B5+SUM(H6:AK6)*B6+SUM(H7:AK7)*B7 -> 28
B11: Valor Unitario | C11: Cantidad Total | D11: Mes 1 | F11: Total Fase (I)
A12: Valor día/vehículo | B12: ='2.1 - Transporte'!I20 -> 568888.96 | C12: =N10+AR10 -> 14 | D12: =N10*B12 -> 7964445.4 | F12: =SUM(D12:E12) -> 7964445.4
A13: Valor Viático día | B13: 160000 | C13: =W10 -> 28 | D13: =W10*B13 -> 4480000 | F13: =SUM(D13:E13) -> 4480000
H14: MES 2 | AL14: MES 3 | BP14: MES 4 | CT14: MES 5 | DX14: MES 6 | FB14: MES 7
H15: 31 | I15: 32 | J15: 33 | K15: 34 | L15: 35 | M15: 36 | N15: 37 | O15: 38 | P15: 39 | Q15: 40 | R15: 41 | S15: 42 | T15: 43 | U15: 44 | V15: 45 | W15: 46 | X15: 47 | Y15: 48 | Z15: 49 | AA15: 50 | AB15: 51 | AC15: 52 | AD15: 53 | AE15: 54 | AF15: 55 | AG15: 56 | AH15: 57 | AI15: 58 | AJ15: 59 | AK15: 60 | AL15: 61 | AM15: 62 | AN15: 63 | AO15: 64 | AP15: 65 | AQ15: 66 | AR15: 67 | AS15: 68 | AT15: 69 | AU15: 70 | AV15: 71 | AW15: 72 | AX15: 73 | AY15: 74 | AZ15: 75 | BA15: 76 | BB15: 77 | BC15: 78 | BD15: 79 | BE15: 80 | BF15: 81 | BG15: 82 | BH15: 83 | BI15: 84 | BJ15: 85 | BK15: 86 | BL15: 87 | BM15: 88 | BN15: 89 | BO15: 90 | BP15: 91 | BQ15: 92 | BR15: 93 | BS15: 94 | BT15: 95 | BU15: 96 | BV15: 97 | BW15: 98 | BX15: 99 | BY15: 100 | BZ15: 101 | CA15: 102 | CB15: 103 | CC15: 104 | CD15: 105 | CE15: 106 | CF15: 107 | CG15: 108 | CH15: 109 | CI15: 110 | CJ15: 111 | CK15: 112 | CL15: 113 | CM15: 114 | CN15: 115 | CO15: 116 | CP15: 117 | CQ15: 118 | CR15: 119 | CS15: 120 | CT15: 121 | CU15: 122 | CV15: 123 | CW15: 124 | CX15: 125 | CY15: 126 | CZ15: 127 | DA15: 128 | DB15: 129 | DC15: 130 | DD15: 131 | DE15: 132 | DF15: 133 | DG15: 134 | DH15: 135 | DI15: 136 | DJ15: 137 | DK15: 138 | DL15: 139 | DM15: 140 | DN15: 141 | DO15: 142 | DP15: 143 | DQ15: 144 | DR15: 145 | DS15: 146 | DT15: 147 | DU15: 148 | DV15: 149 | DW15: 150 | DX15: 151 | DY15: 152 | DZ15: 153 | EA15: 154 | EB15: 155 | EC15: 156 | ED15: 157 | EE15: 158 | EF15: 159 | EG15: 160 | EH15: 161 | EI15: 162 | EJ15: 163 | EK15: 164 | EL15: 165 | EM15: 166 | EN15: 167 | EO15: 168 | EP15: 169 | EQ15: 170 | ER15: 171 | ES15: 172 | ET15: 173 | EU15: 174 | EV15: 175 | EW15: 176 | EX15: 177 | EY15: 178 | EZ15: 179 | FA15: 180 | FB15: 181 | FC15: 182 | FD15: 183 | FE15: 184 | FF15: 185 | FG15: 186 | FH15: 187 | FI15: 188 | FJ15: 189 | FK15: 190 | FL15: 191 | FM15: 192 | FN15: 193 | FO15: 194 | FP15: 195 | FQ15: 196 | FR15: 197 | FS15: 198 | FT15: 199 | FU15: 200 | FV15: 201 | FW15: 202 | FX15: 203 | FY15: 204 | FZ15: 205 | GA15: 206 | GB15: 207 | GC15: 208 | GD15: 209 | GE15: 210
A16: FASE DOS (2)
A17: =DISTRIBUCIÓN!A59 -> FASE 2. Diagnóstico | B17: No. Profesionales | C17: No. Días | D17: No. de vehículos | E17: TOTAL/DÍAS/VEHÍCULO | F17: TOTAL/VIÁTICOS
A18: Caracterización Inicial
A19: Paso 1. Diseño e implementación del proceso de participación. IDENTIFICACIÓN DE ACTORES CLAVE - SOCIAL | B19: 1 | C19: =SUM(H19:GE19) -> 18 | D19: 1 | E19: =D19*C19 -> 18 | F19: =C19*B19 -> 18 | O19: 1 | P19: 1 | Q19: 1 | R19: 1 | S19: 1 | T19: 1 | V19: 1 | W19: 1 | X19: 1 | Y19: 1 | Z19: 1 | AA19: 1 | AC19: 1 | AD19: 1 | AE19: 1 | AF19: 1 | AG19: 1 | AH19: 1
A20: Paso 3. Definición para la estructura conceptual para la modelación de calidad del agua (DETERMINACIÓN DE TIEMPOS DE VIAJE) Experto en modelamiento y calidad de agua - Experto en hidrología | B20: 2 | C20: =SUM(H20:GE20) -> 6 | D20: 1 | E20: =D20*C20 -> 6 | F20: =C20*B20 -> 12 | H20: 1 | I20: 1 | J20: 1 | K20: 1 | L20: 1 | M20: 1
A21: Trabajo de Campo
A22: Paso 1. Censo de usuarios y consolidación de información (REVISIÓN INFORMACIÓN AUTORIDAD AMBIENTAL) - Profesionales de campo | B22: 6 | C22: =SUM(H22:GE22) -> 10 | D22: 0 | E22: =D22*C22 -> 0 | F22: =C22*B22 -> 60 | H22: 1 | I22: 1 | J22: 1 | K22: 1 | L22: 1 | O22: 1 | P22: 1 | Q22: 1 | R22: 1 | S22: 1
A23: Paso 1. Censo de usuarios y consolidación de información (RECOLECCIÓN DE INFORMACIÓN EN CAMPO CENSO DE USUARIOS) - Profesionales de campo | B23: 6 | C23: =SUM(H23:GE23) -> 44 | D23: 3 | E23: =D23*C23 -> 132 | F23: =C23*B23 -> 264 | AL23: 1 | AM23: 1 | AN23: 1 | AO23: 1 | AP23: 1 | AS23: 1 | AT23: 1 | AU23: 1 | AV23: 1 | AW23: 1 | AZ23: 1 | BA23: 1 | BB23: 1 | BC23: 1 | BD23: 1 | BG23: 1 | BH23: 1 | BI23: 1 | BJ23: 1 | BK23: 1 | BN23: 1 | BO23: 1 | BP23: 1 | BQ23: 1 | BR23: 1 | BU23: 1 | BV23: 1 | BW23: 1 | BX23: 1 | BY23: 1 | CB23: 1 | CC23: 1 | CD23: 1 | CE23: 1 | CF23: 1 | CI23: 1 | CJ23: 1 | CK23: 1 | CL23: 1 | CM23: 1 | CO23: 1 | CP23: 1 | CQ23: 1 | CR23: 1
A24: Paso 2. Diseño y ejecución del plan de monitoreo Director - Experto en Calidad | B24: 2 | C24: =SUM(H24:GE24) -> 16 | D24: 1 | E24: =D24*C24 -> 16 | F24: =C24*B24 -> 32 | P24: 1 | Q24: 1 | R24: 1 | S24: 1 | T24: 1 | U24: 1 | V24: 1 | W24: 1 | CB24: 1 | CC24: 1 | CD24: 1 | CE24: 1 | CF24: 1 | CG24: 1 | CH24: 1 | CI24: 1
A25: Construcción de Línea Base
A26: Paso 3. Identificación de zonas de recarga del acuífero o interacciones con las aguas superficiales | B26: 2 | C26: =SUM(H26:GE26) -> 5 | D26: 1 | E26: =D26*C26 -> 5 | F26: =C26*B26 -> 10 | CT26: 1 | CU26: 1 | CV26: 1 | CW26: 1 | CX26: 1
A27: Paso 12. Socialización de los resultados de la fase de diagnóstico | B27: 4 | C27: =SUM(H27:GE27) -> 4 | D27: 1 | E27: =D27*C27 -> 4 | F27: =C27*B27 -> 16 | GB27: 1 | GC27: 1 | GD27: 1 | GE27: 1
A29: SUBTOTAL | C29: =SUM(C19:C28) -> 103 | E29: =SUM(E19:E28) -> 181 | F29: =SUM(F19:F28) -> 412
A30: TOTAL | C30: =C29 -> 103 | E30: =E29 -> 181 | F30: =F29 -> 412
H31: Mes 2 Transporte = | N31: =SUM(H19:AK19)*$D$19+SUM(H20:AK20)*D20+SUM(H22:AK22)*$D$22+SUM(H23:AK23)*$D$23+SUM(H24:AK24)*$D$24+SUM(H27:AK27)*$D$27+SUM(H28:AK28)*$D$28 -> 32 | R31: Viáticos mes 2 | W31: =SUM(H19:AK19)*$B$19+SUM(H20:AK20)*$B$20+SUM(H22:AK22)*$B$22+SUM(H23:AK23)*$B$23+SUM(H24:AK24)*$B$24+SUM(H27:AK27)*$B$27+SUM(H28:AK28)*$B$28 -> 106 | AL31: Mes 3 Transporte = | AR31: =SUM(AL19:BO19)*$D$19+SUM(AL20:BO20)*$D$20+SUM(AL22:BO22)*$D$22+SUM(AL23:BO23)*$D$23+SUM(AL24:BO24)*$D$24+SUM(AL27:BO27)*$D$27+SUM(AL28:BO28)*$D$28 -> 66 | AV31: Viáticos mes 3 | BA31: =SUM(AL19:BO19)*$B$19+SUM(AL20:BO20)*$B$20+SUM(AL22:BO22)*$B$22+SUM(AL23:BO23)*$B$23+SUM(AL24:BO24)*$B$24+SUM(AL27:BO27)*$B$27+SUM(AL28:BO28)*$B$28 -> 132 | BP31: Mes 4 Transporte = | BV31: =SUM(BP19:CS19)*$D$19+SUM(BP20:CS20)*$D$20+SUM(BP22:CS22)*$D$22+SUM(BP23:CR23)*$D$23+SUM(BP24:CS24)*$D$24+SUM(BP27:CS27)*$D$27+SUM(BP28:CS28)*$D$28 -> 74 | BZ31: Viáticos mes 4 | CE31: =SUM(BP19:CS19)*$B$19+SUM(BP20:CS20)*$B$20+SUM(BP22:CS22)*$B$22+SUM(BP23:CR23)*$B$23+SUM(BP24:CS24)*$B$24+SUM(BP27:CS27)*$B$27+SUM(BP28:CS28)*$B$28 -> 148 | CT31: Mes 5 Transporte = | CZ31: =SUM(CT19:DW19)*$D$19+SUM(CT20:DW20)*$D$20+SUM(CT22:DW22)*$D$22+SUM(CT23:DW23)*$D$23+SUM(CT24:DW24)*$D$24+SUM(CT26:DW26)*$D$26+SUM(CT27:DW27)*$D$27 -> 5 | DD31: Viáticos mes 5 | DI31: =SUM(CT19:DW19)*$B$19+SUM(CT20:DW20)*$B$20+SUM(CT22:DW22)*$B$22+SUM(CT23:DW23)*$B$23+SUM(CT24:DW24)*$B$24+SUM(CT26:DW26)*$B$26+SUM(CT27:DW27)*$B$27 -> 10 | DX31: Mes 6 Transporte = | ED31: =SUM(DX19:FA19)*$D$19+SUM(DX20:FA20)*$D$20+SUM(DX22:FA22)*$D$22+SUM(DX23:FA23)*$D$23+SUM(DX24:FA24)*$D$24+SUM(DX27:FA27)*$D$27+SUM(DX28:FA28)*$D$28 -> 0 | EH31: Viáticos mes 6 | EM31: =SUM(DX19:FA19)*$B$19+SUM(DX20:FA20)*$B$20+SUM(DX22:FA22)*$B$22+SUM(DX23:FA23)*$B$23+SUM(DX24:FA24)*$B$24+SUM(DX27:FA27)*$B$27+SUM(DX28:FA28)*$B$28 -> 0 | FB31: Mes 7 Transporte = | FH31: =SUM(FB19:GE19)*$D$19+SUM(FB20:GE20)*$D$20+SUM(FB22:GE22)*$D$22+SUM(FB23:GE23)*$D$23+SUM(FB24:GE24)*$D$24+SUM(FB27:GE27)*$D$27+SUM(FB28:GE28)*$D$28 -> 4 | FL31: Viáticos mes 7 | FQ31: =SUM(FB19:GE19)*$B$19+SUM(FB20:GE20)*$B$20+SUM(FB22:GE22)*$B$22+SUM(FB23:GE23)*$B$23+SUM(FB24:GE24)*$B$24+SUM(FB27:GE27)*$B$27+SUM(FB28:GE28)*$B$28 -> 16
B32: Valor Unitrio | C32: Cantidad Total | D32: Mes 2 | E32: Mes 3 | F32: Mes 4
A33: Valor día/vehículo | B33: =B12 -> 568888.96 | C33: =N31+AR31+BV31+CZ31+ED31+FH31 -> 181 | D33: =N31*B33 -> 18204447 | E33: =AR31*B33 -> 37546671 | F33: =BV31*B33 -> 42097783
A34: Valor Viático día | B34: =B13 -> 160000 | C34: =W31+BA31+CE31+DI31+EM31+FQ31 -> 412 | D34: =W31*B34 -> 16960000 | E34: =BA31*B34 -> 21120000 | F34: =B34*CE31 -> 23680000
D35: Mes 5 | E35: Mes 6 | F35: Mes 7 | G35: Total Fase (II)
D36: =B33*CZ31 -> 2844444.8 | E36: =B33*ED31 -> 0 | F36: =B33*FH31 -> 2275555.8 | G36: =SUM(D33:F33)+SUM(D36:F36) -> 1.029689e+08
D37: =B34*DI31 -> 1600000 | E37: =B34*EM31 -> 0 | F37: =B34*FQ31 -> 2560000 | G37: =SUM(D34:F34)+SUM(D37:F37) -> 65920000
H39: MES 8 | AL39: MES 9
H40: 211 | I40: 212 | J40: 213 | K40: 214 | L40: 215 | M40: 216 | N40: 217 | O40: 218 | P40: 219 | Q40: 220 | R40: 221 | S40: 222 | T40: 223 | U40: 224 | V40: 225 | W40: 226 | X40: 227 | Y40: 228 | Z40: 229 | AA40: 230 | AB40: 231 | AC40: 232 | AD40: 233 | AE40: 234 | AF40: 235 | AG40: 236 | AH40: 237 | AI40: 238 | AJ40: 239 | AK40: 240 | AL40: 241 | AM40: 242 | AN40: 243 | AO40: 244 | AP40: 245 | AQ40: 246 | AR40: 247 | AS40: 248 | AT40: 249 | AU40: 250 | AV40: 251 | AW40: 252 | AX40: 253 | AY40: 254 | AZ40: 255 | BA40: 256 | BB40: 257 | BC40: 258 | BD40: 259 | BE40: 260 | BF40: 261 | BG40: 262 | BH40: 263 | BI40: 264 | BJ40: 265 | BK40: 266 | BL40: 267 | BM40: 268 | BN40: 269 | BO40: 270
A41: FASE TRES (3)
A42: FASE III. Proyecto de Distribución de Agua | B42: No. Profesionales | C42: No. Días | D42: No. de vehículos | E42: TOTAL/DÍAS/VEHÍCULO | F42: TOTAL/VIÁTICOS
A43: Paso 5. Socialización de los resultados de la fase de Usos Potenciales (CUATRO TALLERES Equipo Técnico) | B43: 4 | C43: =SUM(H43:CS43) -> 4 | D43: 1 | E43: =D43*C43 -> 4 | F43: =C43*B43 -> 16 | BL43: 1 | BM43: 1 | BN43: 1 | BO43: 1
...

Sheet ECONÓMICA
B2: “FORMULACIÓN DEL PLAN DE ORDENAMIENTO DEL RECURSO HÍDRICO (PORH) DE LA CORRIENTE PRINCIPAL DE LA CUENCA DEL RÍO MEDIO Y BAJO SUÁREZ - NSS Y SUS PRINCIPALES TRIBUTARIOS EN LA JURISDICCIÓN DE LA CORPORACIÓN AUTÓNOMA REGIONAL DE SANTANDER (CAS)”
B3: CONCEPTO | C3: A | D3: B | E3: C | F3: D | G3: E | H3: F
B4: Personal PROFESIONAL | C4: CANTIDAD | D4: SUELDO MES BASICO | E4: DEDICACION | F4: % FM | G4: VALOR MES (AXBXCXD) | H4: No. de meses | I4: TOTAL PARCIAL (EXF)
B6: Director | C6: 1 | D6: 6977992 | E6: =ROUND('RESUMEN PLAN DE CARGAS'!AY4,1) -> 0.7 | F6: =FM!D37 -> 2.04 | G6: =+C6*D6*E6*F6 -> 9964572.6 | H6: ='RESUMEN PLAN DE CARGAS'!AX4 -> 12 | I6: =+G6*H6 -> 1.1957487e+08 | K6: ASESOR GRADO 9 | L6: 26
B7: Experto en modelamiento y calidad de agua | C7: 1 | D7: 5925555 | E7: =ROUND('RESUMEN PLAN DE CARGAS'!AY5,1) -> 0.7 | F7: =F6 -> 2.04 | G7: =+C7*D7*E7*F7 -> 8461692.5 | H7: ='RESUMEN PLAN DE CARGAS'!AX5 -> 11 | I7: =+G7*H7 -> 93078618 | K7: ASESOR GRADO 5 | L7: 26
B8: Experto en Hidrología | C8: 1 | D8: 5925555 | E8: =ROUND('RESUMEN PLAN DE CARGAS'!AY6,1) -> 0.6 | F8: =F7 -> 2.04 | G8: =+C8*D8*E8*F8 -> 7252879.3 | H8: ='RESUMEN PLAN DE CARGAS'!AX6 -> 9 | I8: =+G8*H8 -> 65275914 | K8: ASESOR GRADO 5 | L8: 26
B9: Profesional Social | C9: 1 | D9: 3639162 | E9: =ROUND('RESUMEN PLAN DE CARGAS'!AY7,1) -> 0.9 | F9: =F8 -> 2.04 | G9: =+C9*D9*E9*F9 -> 6681501.4 | H9: ='RESUMEN PLAN DE CARGAS'!AX7 -> 5 | I9: =+G9*H9 -> 33407507 | K9: Profesional GRADO 9 | L9: 26
B10: Personal de Campo | C10: 6 | D10: 2416246 | E10: =ROUND('RESUMEN PLAN DE CARGAS'!AY8,1) -> 1 | F10: =F9 -> 2.04 | G10: =+C10*D10*E10*F10 -> 29574851 | H10: ='RESUMEN PLAN DE CARGAS'!AX8 -> 4 | I10: =+G10*H10 -> 1.182994e+08 | K10: Profesional GRADO 9 | L10: 26
B11: Profesional SIG | C11: 1 | D11: 3639162 | E11: =ROUND('RESUMEN PLAN DE CARGAS'!AY9,1) -> 0.6 | F11: =F10 -> 2.04 | G11: =+C11*D11*E11*F11 -> 4454334.3 | H11: ='RESUMEN PLAN DE CARGAS'!AX9 -> 6 | I11: =+G11*H11 -> 26726006
B12: Auxiliar administrativo | C12: 1 | D12: 2247340 | E12: =ROUND('RESUMEN PLAN DE CARGAS'!AY10,1) -> 0.7 | F12: =F10 -> 2.04 | G12: =+C12*D12*E12*F12 -> 3209201.5 | H12: ='RESUMEN PLAN DE CARGAS'!AX10 -> 12 | I12: =+G12*H12 -> 38510418 | K12: Bachiller GRADO 17 | L12: 26
B13: SUB TOTAL COSTO PERSONAL PROFESIONAL | I13: =SUM(I6:I12) -> 4.9487274e+08
B14: OTROS COSTOS DIRECTOS
B16: ESTUDIOS SOPORTE | D16: UNIDAD | E16: CANTIDAD | F16: % FM | G16: VALOR UNITARIO | I16: VALOR TOTAL
B17: 2.1. Transporte | D17: DÍAS | E17: ='2.1 - Transporte'!K20 -> 203 | F17: =FM!$D$48 -> 1.0417 | G17: ='2.1 - Transporte'!I20 -> 568888.96 | I17: =E17*F17*G17 -> 1.2030016e+08
B18: 2.2. Gastos de Alojamiento, Alimentación e Hidratación | D18: DÍAS | E18: ='2.2 - Viáticos'!G21 -> 468 | F18: =FM!$D$48 -> 1.0417 | G18: ='2.2 - Viáticos'!E21 -> 160000 | I18: =E18*F18*G18 -> 78002496
B19: 2.3. Logística de espacios de socialización PORH - 3 fases | D19: UND | E19: ='2.3 - Socialización'!E5 -> 12 | F19: =FM!$D$48 -> 1.0417 | G19: ='2.3 - Socialización'!J5 -> 1075000 | I19: =E19*F19*G19 -> 13437930
B20: ="2.4. (A) Monitoreo puntual " &'2.4 - (A,B,C y D) LABORATORIO'!A3 -> 2.4. (A) Monitoreo puntual Tiempos de Viaje | D20: UND | E20: ='2.4 - (A,B,C y D) LABORATORIO'!E3 -> 18 | F20: =FM!$D$48 -> 1.0417 | G20: ='2.4 - (A,B,C y D) LABORATORIO'!C3 -> 2580000 | I20: =E20*F20*G20 -> 48376548
B21: ="2.4. (B) Monitoreo puntual " &'2.4 - (A,B,C y D) LABORATORIO'!A4 -> 2.4. (B) Monitoreo puntual Matriz de agua + Aforo Molinete | D21: UND | E21: ='2.4 - (A,B,C y D) LABORATORIO'!E4 -> 8 | F21: =FM!$D$48 -> 1.0417 | G21: ='2.4 - (A,B,C y D) LABORATORIO'!C4 -> 2629542 | I21: =E21*F21*G21 -> 21913551
B22: ="2.4. (C) Monitoreo puntual " &'2.4 - (A,B,C y D) LABORATORIO'!A5 -> 2.4. (C) Monitoreo puntual Matriz de agua + Flujo Magnético | D22: UND | E22: ='2.4 - (A,B,C y D) LABORATORIO'!E5 -> 20 | F22: =FM!$D$48 -> 1.0417 | G22: ='2.4 - (A,B,C y D) LABORATORIO'!C5 -> 3811542 | I22: =E22*F22*G22 -> 79409666
B23: ="2.4. (D) Monitoreo puntual " &'2.4 - (A,B,C y D) LABORATORIO'!A6 -> 2.4. (D) Monitoreo puntual Matriz de agua + ADCP | D23: UND | E23: ='2.4 - (A,B,C y D) LABORATORIO'!E6 -> 40 | F23: =FM!$D$48 -> 1.0417 | G23: ='2.4 - (A,B,C y D) LABORATORIO'!C6 -> 4933542 | I23: =E23*F23*G23 -> 2.0557083e+08
B24: ="2.5. (A) " &'2.5 (A,B y C) - HIDROBIOLOGÍA'!A3 -> 2.5. (A) Matriz Biota | D24: UND | E24: ='2.5 (A,B y C) - HIDROBIOLOGÍA'!E3 -> 68 | F24: =FM!$D$48 -> 1.0417 | G24: ='2.5 (A,B y C) - HIDROBIOLOGÍA'!C3 -> 4307150 | I24: =E24*F24*G24 -> 3.0509955e+08
B25: ="2.5. (B) " &'2.5 (A,B y C) - HIDROBIOLOGÍA'!A4 -> 2.5. (B) Índices Hidrobiología | D25: UND | E25: ='2.5 (A,B y C) - HIDROBIOLOGÍA'!E4 -> 68 | F25: =FM!$D$48 -> 1.0417 | G25: ='2.5 (A,B y C) - HIDROBIOLOGÍA'!C4 -> 639322 | I25: =E25*F25*G25 -> 45286757
B26: ="2.5. (C) " &'2.5 (A,B y C) - HIDROBIOLOGÍA'!A5 -> 2.5. (C) Informe | D26: UND | E26: ='2.5 (A,B y C) - HIDROBIOLOGÍA'!E5 -> 2 | F26: =FM!$D$48 -> 1.0417 | G26: ='2.5 (A,B y C) - HIDROBIOLOGÍA'!C5 -> 10000000 | I26: =E26*F26*G26 -> 20834000
B27: ="2.6. " &'2.6 - LABORATORIO - VTOs'!A4 -> 2.6. Monitoreo de Vertimiento | D27: UND | E27: 9 | F27: =FM!$D$48 -> 1.0417 | G27: ='2.6 - LABORATORIO - VTOs'!C5 -> 4631596 | I27: =E27*F27*G27 -> 43422602
B28: ="2.7. (A) " &'2.7 - (A,B y C) logis_Monitoreo'!A3 -> 2.7. (A) Logística Monitoreo Agua Residual | D28: UND | E28: ='2.7 - (A,B y C) logis_Monitoreo'!D3 -> 9 | F28: =FM!$D$48 -> 1.0417 | G28: ='2.7 - (A,B y C) logis_Monitoreo'!C3 -> 3800333 | I28: =E28*F28*G28 -> 35629262
B29: ="2.7. (B) " &'2.7 - (A,B y C) logis_Monitoreo'!A4 -> 2.7. (B) Logística Monitoreo Biota | D29: UND | E29: =SUM('2.7 - (A,B y C) logis_Monitoreo'!D4:D5) -> 68 | F29: =FM!$D$48 -> 1.0417 | G29: =('2.7 - (A,B y C) logis_Monitoreo'!C4*'2.7 - (A,B y C) logis_Monitoreo'!D4+'2.7 - (A,B y C) logis_Monitoreo'!C5*'2.7 - (A,B y C) logis_Monitoreo'!D5)/68 -> 1959529.4 | I29: =E29*F29*G29 -> 1.3880444e+08
B30: ="2.7. (C) " &'2.7 - (A,B y C) logis_Monitoreo'!A6 -> 2.7. (C) Logística Monitoreo Agua Superficial | D30: UND | E30: =SUM('2.7 - (A,B y C) logis_Monitoreo'!D6:D7) -> 68 | F30: =FM!$D$48 -> 1.0417 | G30: =('2.7 - (A,B y C) logis_Monitoreo'!C6*'2.7 - (A,B y C) logis_Monitoreo'!D6+'2.7 - (A,B y C) logis_Monitoreo'!C7*'2.7 - (A,B y C) logis_Monitoreo'!D7)/68 -> 2904235.1 | I30: =E30*F30*G30 -> 2.0572323e+08
B31: 2.8. Hidrología (Oferta, Demanda e Indicadores) | D31: UND | E31: ='2.8 - Ofer-Deman-Ind'!E13 -> 1 | F31: =FM!$D$48 -> 1.0417 | G31: ='2.8 - Ofer-Deman-Ind'!I13 -> 67000000 | I31: =E31*F31*G31 -> 69793900
B32: 2.9. Determinación de zonas de recarga hídrica | D32: UND | E32: ='2.9 - Zonas de Recarga'!E4 -> 1 | F32: =FM!$D$48 -> 1.0417 | G32: ='2.9 - Zonas de Recarga'!I4 -> 15000000 | I32: =E32*F32*G32 -> 15625500
B33: 2.10. Impresión y publicaciones medios | D33: UND | E33: ='2.10 - Impresiones'!G8 -> 1 | F33: =FM!$D$48 -> 1.0417 | G33: ='2.10 - Impresiones'!I8 -> 6409115.3 | I33: =E33*F33*G33 -> 6676375.4
B34: SUB TOTAL OTROS COSTOS DIRECTOS (2) | I34: =SUM(I17:I33) -> 1.4539068e+09
B36: COSTO TOTAL (1+2) | H36: =ROUND((I34+I13),0) -> 1948779543
B37: CONSULTORÍA IVA (19%) | H37: =ROUND((H36*1.19),0) -> 2319047656
B38: INTERVENTORÍA | H38: =INTERVENTORÍA!G20 -> 259500835
B39: INTERVENTORÍA IVA (19%) | H39: =ROUND((H38*1.19),0) -> 308805994
B40: VALOR TOTAL DE LA OFERTA CON IVA | H40: =ROUND((H37+H39),0) -> 2627853650
E42: % INTERVENTORÍA | F42: =H46*100/H47 -> 11.751263
F44: Valor | G44: Iva | H44: TOTAL
E45: CONSULTORÍA | F45: =H36 -> 1948779543 | G45: =ROUND((F45*0.19),0) -> 370268113 | H45: =ROUND(SUM(F45:G45),0) -> 2319047656
E46: INTERVENTORÍA | F46: =H38 -> 259500835 | G46: =ROUND((F46*0.19),0) -> 49305159 | H46: =SUM(F46:G46) -> 308805994
...

Sheet ENTREGABLES
A1: ACTIVIDADES | B1: % | C1: UND | D1: CANTIDAD | E1: VALOR TOTAL | F1: MES 1 | G1: MES 2 | H1: MES 3 | I1: MES 4 | J1: MES 5 | K1: MES 6 | L1: MES 7 | M1: MES 8 | N1: MES 9 | O1: MES 10 | P1: MES 11 | Q1: MES 12 | R1: VALOR TOTAL
A2: =DISTRIBUCIÓN!A46 -> FASE 1. Declaratoria y Acciones Previas | B2: =DISTRIBUCIÓN!BD56 -> 0.027190126 | E2: =DISTRIBUCIÓN!D37 -> 52987560 | R2: =SUM(R3:R11) -> 52987560 | S2: =IF(ABS(R2-E2)<0.001,"OK"," ERROR") -> OK
A3: =DISTRIBUCIÓN!A47 -> Localización del cuerpo de agua | B3: =DISTRIBUCIÓN!BD47 -> 0.0009558293 | C3: GLB | D3: 1 | E3: =B3*$E$2/$B$2 -> 1862700.6 | F3: =E3 -> 1862700.6 | R3: =SUM(F3:Q3) -> 1862700.6 | S3: Control
A4: =DISTRIBUCIÓN!A48 -> Alistamiento Institucional | B4: =DISTRIBUCIÓN!BD48 -> 0.0029900301 | C4: GLB | D4: 1 | E4: =B4*$E$2/$B$2 -> 5826909.5 | F4: =E4 -> 5826909.5 | R4: =SUM(F4:Q4) -> 5826909.5
A5: =DISTRIBUCIÓN!A49 -> Identificación de actores relevantes para el ordenamiento | B5: =DISTRIBUCIÓN!BD49 -> 0.0044656676 | C5: GLB | D5: 1 | E5: =B5*$E$2/$B$2 -> 8702601.6 | F5: =E5 -> 8702601.6 | R5: =SUM(F5:Q5) -> 8702601.6
A6: =DISTRIBUCIÓN!A50 -> Recopilación de información de instrumentos existentes | B6: =DISTRIBUCIÓN!BD50 -> 0.0035292159 | C6: GLB | D6: 1 | E6: =B6*$E$2/$B$2 -> 6877663.7 | F6: =E6 -> 6877663.7 | R6: =SUM(F6:Q6) -> 6877663.7
