Workbook

Sheet Hoja3
A1: aseo | B1: 59034340 | C1: ='GENERAL 2DO CONTRATO'!D28 -> 0 | D1: =B1-C1 -> 59034340
A2: manipuladoras | B2: =24138348+25235388 -> 49373736 | D2: =B2 -> 49373736
A3: dotacion | B3: 46064 | C3: ='GENERAL 2DO CONTRATO'!D29 -> 0 | D3: =B3 -> 46064
A4: transporte | B4: 72034964 | C4: ='GENERAL 2DO CONTRATO'!D27 -> 19498248 | D4: =B4-C4 -> 52536716
B5: =SUM(B1:B4) -> 180489104 | C5: =SUM(C1:C4) -> 19498248 | D5: =SUM(D1:D4) -> 160990856 | E5: ='procesadoras ADICION 2'!D150 -> 16935257 | F5: =D5-E5 -> 144055599

Sheet GENERAL 2DO CONTRATO
A1: PROYECCIÓN OPERACIÓN PAE 2026
A3: NRO. DEL PROCESO EN SECOP II:
A4: NRO. CONVENIO GOBERNACIÓN: | B4: 4500067339
A5: OBJETO: Integrar esfuerzos para la ejecución del Programa de Alimentación Escolar - PAE, para los niños, niñas y adolescentes de la matrícula oficial del municipio de SONSÓN - Antioquia, no certificado en educación, para la vigencia 2026
A6: DIAS CALENDARIO ESCOLAR: 53
A7: CÓDIGO UNSPSC: 85151601 - Servicios de programación de la nutrición
A8: NRO. BENEFICIARIOS PAE REGULAR: 4.614
A9: NRO. BENEFICIARIOS PAE JORNADA ÚNICA: 849
A10: TOTAL RACIONES PAE REGULAR:
A11: TOTAL RACIONES PAE JORNADA ÚNICA:
A14: Descripción | B14: Valor trabajado en 2025 con impuestos incluidos | C14: Prodeporte no tenido en cuenta | D14: IPC | E14: Valor cotización 2026 incluye descuentos
C15: 0.013 | D15: 0.0551
A16: PAE Regular | B16: 3624 | C16: =B16*$C$15 -> 47.112 | D16: =(B16+C16)*$D$15 -> 202.27827 | E16: 3826
A17: PAE Jornada Única | B17: 4938 | C17: =B17*$C$15 -> 64.194 | D17: =(B17+C17)*$D$15 -> 275.62089 | E17: 5214
A18: Transporte | B18: 3080000 | C18: 0 | D18: =(B18+C18)*$D$15 -> 169708 | E18: 3249708
A19: kits de aseo | B19: 143000 | C19: 0 | D19: =(B19+C19)*$D$15 -> 7879.3 | E19: 150879
A20: Dotación manipuladoras | B20: 229900 | C20: 0 | D20: =(B20+C20)*$D$15 -> 12667.49 | E20: 242567
H22: OTRO SI NRO. 002
A23: PROYECCIÓN X 53 DÍAS CALENDARIO ESCOLAR | E23: APORTES | H23: Aporte total Gobernación | I23: 1661307089
A24: Descripción | B24: Cantidad | C24: Valor Unitario | D24: Valor Total | E24: Gobernación | H24: Raciones OTRO SI 2 | I24: ='proyección general ADICION 2'!E30 -> 529916400
A25: REGULAR | B25: =4614*32 -> 147648 | C25: =E16 -> 3826 | D25: =B25*C25 -> 564901248 | E25: Raciones | F25: Manipuladoras | H25: Manipuladoras OTRO SI 2 | I25: ='proyección general ADICION 2'!F30 -> 2.6103255e+08
A26: ÚNICA | B26: =849*32 -> 27168 | C26: =E17 -> 5214 | D26: =B26*C26 -> 141653952 | E26: =D25+D26 -> 706555200 | F26: =I32 -> 1.6380294e+08 | H26: Total Aporte OTRO SI 2 | I26: =SUM(I24:I25) -> 7.9094895e+08
A27: TRANSPORTE | B27: 6 | C27: =E18 -> 3249708 | D27: =B27*C27 -> 19498248 | E27: =SUM(E26:F26) -> 8.7035814e+08 | J27: =I26+I33 -> 1661307089
A28: KITS DE ASEO (1 kit) | B28: 0 | C28: =E19 -> 150879 | D28: =B28*C28 -> 0
A29: DOTACIÓN MANIPULADORAS | B29: 0 | C29: =E20 -> 242567 | D29: =C29*B29 -> 0 | E29: MUNICIPIO | H29: NUEVO CONTRATO
A30: MANIPULADORAS | B30: GLOBAL | D30: ='PROCESADORAS 2DO CONTRATO'!B32 -> 3.0476646e+08 | E30: Manipuladoras | F30: ='PROCESADORAS 2DO CONTRATO'!B38 -> 1.4096352e+08 | G30: =D30-F26 -> 1.4096352e+08 | H30: Aporte total Gobernación | I30: =I23-I26 -> 8.7035814e+08
A31: TOTAL | D31: =SUM(D25:D30) -> 1.0308199e+09 | E31: Transporte | F31: =D27 -> 19498248 | H31: Raciones | I31: =E26 -> 706555200
E32: Kits de Aseo | F32: =D28 -> 0 | H32: Manipuladoras | I32: =I30-I31 -> 1.6380294e+08
E33: Dotación Manipuladoras | F33: =D29 -> 0 | H33: Total Aporte | I33: =SUM(I31:I32) -> 8.7035814e+08
E34: Total Aporte | F34: =SUM(F30:F33) -> 1.6046177e+08
E37: 559528386 | F37: =E27-E37 -> 3.1082975e+08
E38: =E26-E37 -> 147026814 | F38: =F37-E38 -> 1.6380294e+08
E39: =SUM(E37:E38) -> 706555200
A40: DEDUCCIONES
A41: Nombre Estampilla | B41: Tarifa Gobernación | C41: Tarifa Municipio
A42: Impuesto de timbre | B42: 0.01 | C42: 0.01
A43: Servicios | B43: 0.04 | C43: 0.04
A44: Estampilla Pro-Cultura | B44: 0.015 | C44: 0.015
A45: RETEICA | B45: 0.01 | C45: 0.01
A46: Estampilla Pro-Adulto Mayor | B46: 0.04 | C46: 0.04
...

Sheet PROCESADORAS 2DO CONTRATO
A1: Rango Procesadoras de Alimentos | B1: Salario Base | C1: Honorarios x Día | D1: IBC | E1: Seguridad Social | F1: Cantidad de Procesadoras x Rango
A2: RANGO 1 (1-15 estudiantes) 65% | B2: 1890000 | C2: =(B2*65%)/30 -> 40950 | D2: 1750905 | E2: 541700 | F2: =B72 -> 22
A3: RANGO 2 (16-43 estudiantes) 95% | B3: 1890000 | C3: =(B3*95%)/30 -> 59850 | F3: =D85 -> 35
A4: RANGO 3 (>=44 estudiantes) 130% | B4: 1890000 | C4: =(B4*130%)/30 -> 81900 | F4: =F70 -> 42
E5: Total Procesadoras | F5: =SUM(F2:F4) -> 99
A9: MES | B9: Días laborales | C9: Días de Seguridad | D9: Rango | E9: Cantidad Procesadoras | F9: Valor Día | G9: Valor Honorarios X mes 1 Procesadora | H9: Valor Honorarios Total Procesadoras X Rango | I9: Valor Seguridad X 1 Procesadora | J9: Valor Seguridad Total Procesadoras X Rango | K9: Valor Total Procesadoras X Mes
A10: Octubre | B10: 14 | C10: 18 | D10: 1 | E10: =F2 -> 22 | F10: =C2 -> 40950 | G10: =F10*$B$10 -> 573300 | H10: =G10*E10 -> 12612600 | I10: =$E$2/30*$C$10 -> 325020 | J10: =I10*E10 -> 7150440 | K10: =H13+J13 -> 122273280 | M10: 573300 | N10: 325020 | O10: =SUM(M10:N10) -> 898320 | P10: =O10*22 -> 19763040
D11: 2 | E11: =F3 -> 35 | F11: =C3 -> 59850 | G11: =F11*$B$10 -> 837900 | H11: =G11*E11 -> 29326500 | I11: =$E$2/30*$C$10 -> 325020 | J11: =I11*E11 -> 11375700 | M11: 837900 | N11: 325020 | O11: =SUM(M11:N11) -> 1162920 | P11: =O11*35 -> 40702200
D12: 3 | E12: =F4 -> 42 | F12: =C4 -> 81900 | G12: =F12*$B$10 -> 1146600 | H12: =G12*E12 -> 48157200 | I12: =$E$2/30*$C$10 -> 325020 | J12: =I12*E12 -> 13650840 | M12: 1146600 | N12: 325020 | O12: =SUM(M12:N12) -> 1471620 | P12: =O12*42 -> 61808040
G13: Total Honorarios | H13: =SUM(H10:H12) -> 90096300 | I13: Total Seguridad | J13: =SUM(J10:J12) -> 32176980 | P13: =SUM(P10:P12) -> 122273280
L14: =K10+K18 -> 241686330
A17: MES | B17: Días laborales | C17: Días de Seguridad | D17: Rango | E17: Cantidad Procesadoras | F17: Valor Día | G17: Valor Honorarios X mes 1 Procesadora | H17: Valor Honorarios Total Procesadoras X Rango | I17: Valor Seguridad X 1 Procesadora | J17: Valor Seguridad Total Procesadoras X Rango | K17: Valor Total Procesadoras X Mes
A18: Noviembre | B18: 13 | C18: 20 | D18: 1 | E18: =F2 -> 22 | F18: =C2 -> 40950 | G18: =F18*$B$18 -> 532350 | H18: =G18*E18 -> 11711700 | I18: =$E$2/30*$C$18 -> 361133.33 | J18: =I18*E18 -> 7944933.3 | K18: =H21+J21 -> 119413050 | M18: 532350 | N18: 361133 | O18: =SUM(M18:N18) -> 893483 | P18: =O18*22 -> 19656626
D19: 2 | E19: =F3 -> 35 | F19: =C3 -> 59850 | G19: =F19*$B$18 -> 778050 | H19: =G19*E19 -> 27231750 | I19: =$E$2/30*$C$18 -> 361133.33 | J19: =I19*E19 -> 12639667 | M19: 778050 | N19: 361133 | O19: =SUM(M19:N19) -> 1139183 | P19: =O19*35 -> 39871405
D20: 3 | E20: =F4 -> 42 | F20: =C4 -> 81900 | G20: =F20*$B$18 -> 1064700 | H20: =G20*E20 -> 44717400 | I20: =$E$2/30*$C$18 -> 361133.33 | J20: =I20*E20 -> 15167600 | M20: 1064700 | N20: 361133 | O20: =SUM(M20:N20) -> 1425833 | P20: =O20*42 -> 59884986
G21: Total Honorarios | H21: =SUM(H18:H20) -> 83660850 | I21: Total Seguridad | J21: =SUM(J18:J20) -> 35752200
O23: =O10+O18 -> 1791803 | P23: =O23*22 -> 39419666
O24: =O11+O19 -> 2302103 | P24: =O24*35 -> 80573605
O25: =O12+O20 -> 2897453 | P25: =O25*42 -> 121693026
A26: TOTAL INVERSIÓN MANIPULADORAS (Tabla contrato) | P26: =SUM(P23:P25) -> 241686297
A27: Honorarios | B27: =H13+H21 -> 173757150
A28: Seguridad Social | B28: =J13+J21 -> 67929180
A29: capacitaciones | B29: 0 | C29: ADMINISTRACIÓN 5% neto | D29: =B30*5% -> 12084316
A30: Total Procesadoras | B30: =SUM(B27:B29) -> 241686330
A31: AIU 26,1% | B31: =B30*26.1% -> 63080132 | C31: Total - Deducciones | D31: Total - Administración | E31: Sobra
A32: Total | B32: =SUM(B30:B31) -> 3.0476646e+08 | C32: =B32-C39 -> 2.5478869e+08 | D32: =C32-D29 -> 2.4270437e+08 | E32: =D32-B30 -> 1018042.8
A36: APORTES | C36: DEDUCCIONES
A37: Gobernación | B37: ='GENERAL 2DO CONTRATO'!F26 -> 1.6380294e+08 | C37: =B37*17% -> 27846500
A38: Municipio | B38: =B32-B37 -> 1.4096352e+08 | C38: =B38*15.7% -> 22131273
A39: Total | B39: =SUM(B37:B38) -> 3.0476646e+08 | C39: =SUM(C37:C38) -> 49977773
A47: PROCESADORAS RANGO 1 | C47: PROCESADORAS RANGO 2 | E47: PROCESADORAS RANGO 3
A49: Sede Educativa | B49: Cantidad Procesadoras | C49: Sede Educativa | D49: Cantidad Procesadoras | E49: Sede Educativa | F49: Cantidad Procesadoras
A50: C. E. R. BOQUERON | B50: 1 | C50: C. E. R. LA HONDA | D50: 1 | E50: C. E. R. LA LINDA | F50: 1
A51: C. E. R. SIRGUA ABAJO | B51: 1 | C51: C. E. R. ROBLAL ARRIBA | D51: 1 | E51: I. E. BRAULIO MEJIA | F51: 4
A52: C. E. R. LA MESA | B52: 1 | C52: C. E. R. EL SALADO | D52: 1 | E52: I. E. R. JERUSALEN | F52: 5
A53: C. E. R. MULATO ALTO | B53: 1 | C53: C. E. R. MARIANO OSPINA PEREZ | D53: 1 | E53: I. E. R. LA DANTA | F53: 6
A54: C. E. R. SANTA ROSA LA DANTA | B54: 1 | C54: C. E. R. GREGORIO GUTIERREZ GONZALEZ | D54: 1 | E54: C. E. R. PIEDRAS BLANCAS | F54: 1
A55: C. E. R. SANTO DOMINGO | B55: 1 | C55: C. E. R. LA FRANCIA | D55: 1 | E55: I. E. R. SAN MIGUEL | F55: 2
A56: C. E. R. LOS POTREROS | B56: 1 | C56: C. E. R. LA HONDITA | D56: 1 | E56: C. E. R. ALTO DE SABANA | F56: 1
A57: C. E. R. MAGALLO | B57: 1 | C57: C. E. R. ROBLALITO A | D57: 1 | E57: C. E. R. LAUREANO GOMEZ | F57: 1
...

Sheet sedes industrializadas 2 contra
A1: SEDES INDUSTRIALIZADAS
A2: C. E. R. ALTO DEL RAYO
A3: C. E. R. EL BOSQUE
A4: C. E. R. EL CEDRO
A5: C. E. R. LA FALDA
A6: C. E. R. MEDIA CUESTA
A7: C. E. R. SAN JOSE DE LAS CRUCES
A8: C. E. R. SANTA MARTA
A9: C. E. R. LA PAZ SAN FRANCISCO
A10: C. E. R. SAN ANTONIO
A11: C. E. R. BRASILAL
A12: C. E. R. LA CIENAGA
... A17: COREDI CAUNZAL

Sheet proyección general ADICION 2
A1: PROYECCIÓN OPERACIÓN PAE 2026
A3: NRO. DEL PROCESO EN SECOP II:
A4: NRO. CONVENIO GOBERNACIÓN:
A5: OBJETO: Integrar esfuerzos para la ejecución del Programa de Alimentación Escolar - PAE, para los niños, niñas y adolescentes de la matrícula oficial del municipio de SONSÓN - Antioquia, no certificado en educación, para la vigencia 2026
A6: DIAS CALENDARIO ESCOLAR: 53
A7: CÓDIGO UNSPSC: 85151601 - Servicios de programación de la nutrición
A8: VALOR CONTRATO INICIAL | B8: 3719190517 | C8: 50% del contrato inicial: | D8: =B8/2 -> 1.8595953e+09
A9: VALOR ADICIÓN 001 | B9: 1018201286 | C9: VALOR ADICIÓN 002: | D9: =D8-B9 -> 8.4139397e+08 | E9: =D9-D35 -> 23716203
A10: VALOR APORTADO X GOBERNACIÓN: | B10: Raciones: | C10: 1089444786 | D10: =SUM(C10:C11) -> 1661307089
B11: Manipuladoras: | C11: 571862303
A12: NRO. BENEFICIARIOS PAE REGULAR: 4.614
A13: NRO. BENEFICIARIOS PAE JORNADA ÚNICA: 849
A14: TOTAL RACIONES PAE REGULAR:
A15: TOTAL RACIONES PAE JORNADA ÚNICA:
N16: PLAN DE CAPACITACIÓN
A18: Descripción | B18: Valor trabajado en 2025 con impuestos incluidos | C18: Prodeporte no tenido en cuenta | D18: IPC | E18: Valor cotización 2026 incluye descuentos | N18: Zona Urbana
C19: 0.013 | D19: 0.0551 | N19: Descripción | O19: Unidad | P19: Cantidad | Q19: Valor Unitario | R19: Valor Total
A20: PAE Regular | B20: 3624 | C20: =B20*$C$19 -> 47.112 | D20: =(B20+C20)*$D$19 -> 202.27827 | E20: 3826 | N20: Capacitador | O20: Persona | P20: 2 | Q20: 1500000 | R20: =Q20*P20 -> 3000000
A21: PAE Jornada Única | B21: 4938 | C21: =B21*$C$19 -> 64.194 | D21: =(B21+C21)*$D$19 -> 275.62089 | E21: 5214 | N21: Almuerzo | O21: Unidad | P21: 90 | Q21: 35000 | R21: =Q21*P21 -> 3150000
A22: Transporte | B22: 3080000 | C22: 0 | D22: =(B22+C22)*$D$19 -> 169708 | E22: 3249708 | N22: Refrigerio | O22: Unidad | P22: 90 | Q22: 10000 | R22: =Q22*P22 -> 900000
A23: kits de aseo | B23: 143000 | C23: 0 | D23: =(B23+C23)*$D$19 -> 7879.3 | E23: 150879 | N23: Material para talleres | O23: global | R23: 2500000
A24: Dotación manipuladoras | B24: 229900 | C24: 0 | D24: =(B24+C24)*$D$19 -> 12667.49 | E24: 242567 | N24: TOTAL | R24: =SUM(R20:R23) -> 9550000
N26: Magdalena Medio
A27: PROYECCIÓN X 53 DÍAS CALENDARIO ESCOLAR | E27: APORTES | N27: Descripción | O27: Unidad | P27: Cantidad | Q27: Valor Unitario | R27: Valor Total
A28: Descripción | B28: Cantidad | C28: Valor Unitario | D28: Valor Total | E28: Gobernación | N28: Capacitador | O28: Persona | P28: 1 | Q28: 1500000 | R28: =Q28*P28 -> 1500000
A29: REGULAR | B29: =4614*24 -> 110736 | C29: =E20 -> 3826 | D29: =B29*C29 -> 423675936 | E29: Raciones | F29: Manipuladoras | N29: Almuerzo | O29: Unidad | P29: 26 | Q29: 35000 | R29: =Q29*P29 -> 910000
A30: ÚNICA | B30: =849*24 -> 20376 | C30: =E21 -> 5214 | D30: =B30*C30 -> 106240464 | E30: =D29+D30 -> 529916400 | F30: ='procesadoras ADICION 2'!B140 -> 2.6103255e+08 | N30: Refrigerio | O30: Unidad | P30: 26 | Q30: 10000 | R30: =Q30*P30 -> 260000
A31: TRANSPORTE | B31: 4 | C31: =E22 -> 3249708 | D31: =B31*C31 -> 12998832 | E31: =SUM(E30:F30) -> 7.9094895e+08 | N31: Material para talleres | O31: global | R31: 1000000
A32: KITS DE ASEO (1 kit) | B32: 91 | C32: =E23 -> 150879 | D32: =B32*C32 -> 13729989 | N32: TOTAL | R32: =SUM(R28:R31) -> 3670000
A33: DOTACIÓN MANIPULADORAS | B33: 0 | C33: =E24 -> 242567 | D33: =C33*B33 -> 0 | E33: MUNICIPIO
A34: MANIPULADORAS | B34: GLOBAL | D34: ='procesadoras ADICION 2'!B136 -> 2.6103255e+08 | E34: Manipuladoras | F34: ='procesadoras ADICION 2'!B141 -> 0
A35: TOTAL | D35: =SUM(D29:D34) -> 8.1767777e+08 | E35: Transporte | F35: =D31 -> 12998832
E36: Kits de Aseo | F36: =D32 -> 13729989
E37: Dotación Manipuladoras | F37: =D33 -> 0
E38: Total Aporte | F38: =SUM(F34:F37) -> 26728821
A44: DEDUCCIONES
A45: Nombre Estampilla | B45: Tarifa Gobernación | C45: Tarifa Municipio
A46: Impuesto de timbre | B46: 0.01 | C46: 0.01
A47: Servicios | B47: 0.04 | C47: 0.04
A48: Estampilla Pro-Cultura | B48: 0.015 | C48: 0.015
...

Sheet procesadoras ADICION 2
A1: PROYECCIÓN PROCESADORAS DE ALIMENTOS 2026 | F1: 541660 | G1: =#REF!-F1 -> #REF!
A3: Rango Procesadoras de Alimentos | B3: Salario Base | C3: Honorarios x Día | D3: IBC
A4: RANGO 1 (1-15 estudiantes) 65% | B4: 1890000 | C4: =(B4*65%)/30 -> 40950 | D4: 1750905
A5: RANGO 2 (16-43 estudiantes) 95% | B5: 1890000 | C5: =(B5*95%)/30 -> 59850
A6: RANGO 3 (>=44 estudiantes) 130% | B6: 1890000 | C6: =(B6*130%)/30 -> 81900
F9: SEPTIEMBRE | L9: OCTUBRE (hasta el 15 de octubre, 11 días laborales y 15 de seguridad social) | R9: NOVIEMBRE (hasta el 24 para ajustar los 53 días del convenio)
A10: Sede | B10: Cantidad de Procesadoras | C10: Cantidad Alumnos al 03-08-2026 | D10: Alumnos COREDI | E10: Total Alumnos | F10: Días Laborales | G10: Honorarios | H10: salud 12,5% | I10: riesgos (R3) 2,436% | J10: pensión 16% | K10: Total Manipuladora | L10: Días Laborales | M10: Honorarios | N10: salud 12,5% | O10: riesgos (R3) 2,436% | P10: pensión 16% | Q10: Total Manipuladora | R10: Días Laborales | S10: Honorarios | T10: salud 12,5% | U10: riesgos (R3) 2,436% | V10: pensión 16% | W10: Total Manipuladora
A11: C. E. R. BOQUERON | B11: 1 | C11: 5 | D11: 0 | E11: =C11+D11 -> 5 | F11: 20 | G11: =$C$4*F11 -> 819000 | H11: =$D$4*12.5% -> 218863.12 | I11: =$D$4*2.436% -> 42652.046 | J11: =$D$4*16% -> 280144.8 | K11: =SUM(G11:J11)*B11 -> 1360660 | L11: 2 | M11: =$C$4*L11 -> 81900 | N11: =($D$4*12.5%)/30*2 -> 14590.875 | O11: =($D$4*2.436%)/30*2 -> 2843.4697 | P11: =($D$4*16%)/30*2 -> 18676.32 | Q11: =SUM(M11:P11)*B11 -> 118010.66 | R11: 18 | S11: =$C$4*R11 -> 737100 | T11: =$D$4*12.5% -> 218863.12 | U11: =$D$4*2.436% -> 42652.046 | V11: =$D$4*16% -> 280144.8 | W11: =SUM(S11:V11)*B11 -> 1278760
A12: C. E. R. LA TORRE | B12: 1 | C12: 4 | D12: 0 | E12: =C12+D12 -> 4 | F12: 20 | G12: =$C$4*F12 -> 819000 | H12: =$D$4*12.5% -> 218863.12 | I12: =$D$4*2.436% -> 42652.046 | J12: =$D$4*16% -> 280144.8 | K12: =SUM(G12:J12)*B12 -> 1360660 | L12: 2 | M12: =$C$4*L12 -> 81900 | N12: =($D$4*12.5%)/30*2 -> 14590.875 | O12: =($D$4*2.436%)/30*2 -> 2843.4697 | P12: =($D$4*16%)/30*2 -> 18676.32 | Q12: =SUM(M12:P12)*B12 -> 118010.66 | R12: 18 | S12: =$C$4*R12 -> 737100 | T12: =$D$4*12.5% -> 218863.12 | U12: =$D$4*2.436% -> 42652.046 | V12: =$D$4*16% -> 280144.8 | W12: =SUM(S12:V12)*B12 -> 1278760
A13: C. E. R. SIRGUA ABAJO | B13: 1 | C13: 7 | D13: 0 | E13: =C13+D13 -> 7 | F13: 20 | G13: =$C$4*F13 -> 819000 | H13: =$D$4*12.5% -> 218863.12 | I13: =$D$4*2.436% -> 42652.046 | J13: =$D$4*16% -> 280144.8 | K13: =SUM(G13:J13)*B13 -> 1360660 | L13: 2 | M13: =$C$4*L13 -> 81900 | N13: =($D$4*12.5%)/30*2 -> 14590.875 | O13: =($D$4*2.436%)/30*2 -> 2843.4697 | P13: =($D$4*16%)/30*2 -> 18676.32 | Q13: =SUM(M13:P13)*B13 -> 118010.66 | R13: 18 | S13: =$C$4*R13 -> 737100 | T13: =$D$4*12.5% -> 218863.12 | U13: =$D$4*2.436% -> 42652.046 | V13: =$D$4*16% -> 280144.8 | W13: =SUM(S13:V13)*B13 -> 1278760
A14: C. E. R. LA MESA | B14: 1 | C14: 7 | D14: 0 | E14: =C14+D14 -> 7 | F14: 20 | G14: =$C$4*F14 -> 819000 | H14: =$D$4*12.5% -> 218863.12 | I14: =$D$4*2.436% -> 42652.046 | J14: =$D$4*16% -> 280144.8 | K14: =SUM(G14:J14)*B14 -> 1360660 | L14: 2 | M14: =$C$4*L14 -> 81900 | N14: =($D$4*12.5%)/30*2 -> 14590.875 | O14: =($D$4*2.436%)/30*2 -> 2843.4697 | P14: =($D$4*16%)/30*2 -> 18676.32 | Q14: =SUM(M14:P14)*B14 -> 118010.66 | R14: 18 | S14: =$C$4*R14 -> 737100 | T14: =$D$4*12.5% -> 218863.12 | U14: =$D$4*2.436% -> 42652.046 | V14: =$D$4*16% -> 280144.8 | W14: =SUM(S14:V14)*B14 -> 1278760
A15: C. E. R. MULATO ALTO | B15: 1 | C15: 3 | D15: 0 | E15: =C15+D15 -> 3 | F15: 20 | G15: =$C$4*F15 -> 819000 | H15: =$D$4*12.5% -> 218863.12 | I15: =$D$4*2.436% -> 42652.046 | J15: =$D$4*16% -> 280144.8 | K15: =SUM(G15:J15)*B15 -> 1360660 | L15: 2 | M15: =$C$4*L15 -> 81900 | N15: =($D$4*12.5%)/30*2 -> 14590.875 | O15: =($D$4*2.436%)/30*2 -> 2843.4697 | P15: =($D$4*16%)/30*2 -> 18676.32 | Q15: =SUM(M15:P15)*B15 -> 118010.66 | R15: 18 | S15: =$C$4*R15 -> 737100 | T15: =$D$4*12.5% -> 218863.12 | U15: =$D$4*2.436% -> 42652.046 | V15: =$D$4*16% -> 280144.8 | W15: =SUM(S15:V15)*B15 -> 1278760
A16: C. E. R. SANTA ROSA LA DANTA | B16: 1 | C16: 2 | D16: 0 | E16: =C16+D16 -> 2 | F16: 20 | G16: =$C$4*F16 -> 819000 | H16: =$D$4*12.5% -> 218863.12 | I16: =$D$4*2.436% -> 42652.046 | J16: =$D$4*16% -> 280144.8 | K16: =SUM(G16:J16)*B16 -> 1360660 | L16: 2 | M16: =$C$4*L16 -> 81900 | N16: =($D$4*12.5%)/30*2 -> 14590.875 | O16: =($D$4*2.436%)/30*2 -> 2843.4697 | P16: =($D$4*16%)/30*2 -> 18676.32 | Q16: =SUM(M16:P16)*B16 -> 118010.66 | R16: 18 | S16: =$C$4*R16 -> 737100 | T16: =$D$4*12.5% -> 218863.12 | U16: =$D$4*2.436% -> 42652.046 | V16: =$D$4*16% -> 280144.8 | W16: =SUM(S16:V16)*B16 -> 1278760
A17: C. E. R. SANTO DOMINGO | B17: 1 | C17: 2 | D17: 0 | E17: =C17+D17 -> 2 | F17: 20 | G17: =$C$4*F17 -> 819000 | H17: =$D$4*12.5% -> 218863.12 | I17: =$D$4*2.436% -> 42652.046 | J17: =$D$4*16% -> 280144.8 | K17: =SUM(G17:J17)*B17 -> 1360660 | L17: 2 | M17: =$C$4*L17 -> 81900 | N17: =($D$4*12.5%)/30*2 -> 14590.875 | O17: =($D$4*2.436%)/30*2 -> 2843.4697 | P17: =($D$4*16%)/30*2 -> 18676.32 | Q17: =SUM(M17:P17)*B17 -> 118010.66 | R17: 18 | S17: =$C$4*R17 -> 737100 | T17: =$D$4*12.5% -> 218863.12 | U17: =$D$4*2.436% -> 42652.046 | V17: =$D$4*16% -> 280144.8 | W17: =SUM(S17:V17)*B17 -> 1278760
A18: C. E. R. LOS POTREROS | B18: 1 | C18: 7 | D18: 0 | E18: =C18+D18 -> 7 | F18: 20 | G18: =$C$4*F18 -> 819000 | H18: =$D$4*12.5% -> 218863.12 | I18: =$D$4*2.436% -> 42652.046 | J18: =$D$4*16% -> 280144.8 | K18: =SUM(G18:J18)*B18 -> 1360660 | L18: 2 | M18: =$C$4*L18 -> 81900 | N18: =($D$4*12.5%)/30*2 -> 14590.875 | O18: =($D$4*2.436%)/30*2 -> 2843.4697 | P18: =($D$4*16%)/30*2 -> 18676.32 | Q18: =SUM(M18:P18)*B18 -> 118010.66 | R18: 18 | S18: =$C$4*R18 -> 737100 | T18: =$D$4*12.5% -> 218863.12 | U18: =$D$4*2.436% -> 42652.046 | V18: =$D$4*16% -> 280144.8 | W18: =SUM(S18:V18)*B18 -> 1278760
A19: C. E. R. MAGALLO | B19: 1 | C19: 4 | D19: 0 | E19: =C19+D19 -> 4 | F19: 20 | G19: =$C$4*F19 -> 819000 | H19: =$D$4*12.5% -> 218863.12 | I19: =$D$4*2.436% -> 42652.046 | J19: =$D$4*16% -> 280144.8 | K19: =SUM(G19:J19)*B19 -> 1360660 | L19: 2 | M19: =$C$4*L19 -> 81900 | N19: =($D$4*12.5%)/30*2 -> 14590.875 | O19: =($D$4*2.436%)/30*2 -> 2843.4697 | P19: =($D$4*16%)/30*2 -> 18676.32 | Q19: =SUM(M19:P19)*B19 -> 118010.66 | R19: 18 | S19: =$C$4*R19 -> 737100 | T19: =$D$4*12.5% -> 218863.12 | U19: =$D$4*2.436% -> 42652.046 | V19: =$D$4*16% -> 280144.8 | W19: =SUM(S19:V19)*B19 -> 1278760
A20: C. E. R. EL TIGRE EL CAUNZAL | B20: 1 | C20: 4 | D20: 0 | E20: =C20+D20 -> 4 | F20: 20 | G20: =$C$4*F20 -> 819000 | H20: =$D$4*12.5% -> 218863.12 | I20: =$D$4*2.436% -> 42652.046 | J20: =$D$4*16% -> 280144.8 | K20: =SUM(G20:J20)*B20 -> 1360660 | L20: 2 | M20: =$C$4*L20 -> 81900 | N20: =($D$4*12.5%)/30*2 -> 14590.875 | O20: =($D$4*2.436%)/30*2 -> 2843.4697 | P20: =($D$4*16%)/30*2 -> 18676.32 | Q20: =SUM(M20:P20)*B20 -> 118010.66 | R20: 18 | S20: =$C$4*R20 -> 737100 | T20: =$D$4*12.5% -> 218863.12 | U20: =$D$4*2.436% -> 42652.046 | V20: =$D$4*16% -> 280144.8 | W20: =SUM(S20:V20)*B20 -> 1278760
A21: C. E. R. EL TIGRE LA HABANA | B21: 1 | C21: 2 | D21: 0 | E21: =C21+D21 -> 2 | F21: 20 | G21: =$C$4*F21 -> 819000 | H21: =$D$4*12.5% -> 218863.12 | I21: =$D$4*2.436% -> 42652.046 | J21: =$D$4*16% -> 280144.8 | K21: =SUM(G21:J21)*B21 -> 1360660 | L21: 2 | M21: =$C$4*L21 -> 81900 | N21: =($D$4*12.5%)/30*2 -> 14590.875 | O21: =($D$4*2.436%)/30*2 -> 2843.4697 | P21: =($D$4*16%)/30*2 -> 18676.32 | Q21: =SUM(M21:P21)*B21 -> 118010.66 | R21: 18 | S21: =$C$4*R21 -> 737100 | T21: =$D$4*12.5% -> 218863.12 | U21: =$D$4*2.436% -> 42652.046 | V21: =$D$4*16% -> 280144.8 | W21: =SUM(S21:V21)*B21 -> 1278760
A22: C. E. R. MARTHA PANESSO DE TORO | B22: 1 | C22: 4 | D22: 0 | E22: =C22+D22 -> 4 | F22: 20 | G22: =$C$4*F22 -> 819000 | H22: =$D$4*12.5% -> 218863.12 | I22: =$D$4*2.436% -> 42652.046 | J22: =$D$4*16% -> 280144.8 | K22: =SUM(G22:J22)*B22 -> 1360660 | L22: 2 | M22: =$C$4*L22 -> 81900 | N22: =($D$4*12.5%)/30*2 -> 14590.875 | O22: =($D$4*2.436%)/30*2 -> 2843.4697 | P22: =($D$4*16%)/30*2 -> 18676.32 | Q22: =SUM(M22:P22)*B22 -> 118010.66 | R22: 18 | S22: =$C$4*R22 -> 737100 | T22: =$D$4*12.5% -> 218863.12 | U22: =$D$4*2.436% -> 42652.046 | V22: =$D$4*16% -> 280144.8 | W22: =SUM(S22:V22)*B22 -> 1278760
... A34: C. E. R. EL RODEO | B34: 1 | C34: 10 | D34: 0 | E34: =C34+D34 -> 10 | F34: 20 | G34: =$C$4*F34 -> 819000 | H34: =$D$4*12.5% -> 218863.12 | I34: =$D$4*2.436% -> 42652.046 | J34: =$D$4*16% -> 280144.8 | K34: =SUM(G34:J34)*B34 -> 1360660 | L34: 2 | M34: =$C$4*L34 -> 81900 | N34: =($D$4*12.5%)/30*2 -> 14590.875 | O34: =($D$4*2.436%)/30*2 -> 2843.4697 | P34: =($D$4*16%)/30*2 -> 18676.32 | Q34: =SUM(M34:P34)*B34 -> 118010.66 | R34: 18 | S34: =$C$4*R34 -> 737100 | T34: =$D$4*12.5% -> 218863.12 | U34: =$D$4*2.436% -> 42652.046 | V34: =$D$4*16% -> 280144.8 | W34: =SUM(S34:V34)*B34 -> 1278760
A35: C. E. R. LA HONDA | B35: 1 | C35: 16 | D35: 0 | E35: =C35+D35 -> 16 | F35: 20 | G35: =$C$5*F35 -> 1197000 | H35: =$D$4*12.5% -> 218863.12 | I35: =$D$4*2.436% -> 42652.046 | J35: =$D$4*16% -> 280144.8 | K35: =SUM(G35:J35)*B35 -> 1738660 | L35: 2 | M35: =$C$5*L35 -> 119700 | N35: =($D$4*12.5%)/30*2 -> 14590.875 | O35: =($D$4*2.436%)/30*2 -> 2843.4697 | P35: =($D$4*16%)/30*2 -> 18676.32 | Q35: =SUM(M35:P35)*B35 -> 155810.66 | R35: 18 | S35: =$C$5*R35 -> 1077300 | T35: =$D$4*12.5% -> 218863.12 | U35: =$D$4*2.436% -> 42652.046 | V35: =$D$4*16% -> 280144.8 | W35: =SUM(S35:V35)*B35 -> 1618960
A36: C. E. R. ROBLAL ARRIBA | B36: 1 | C36: 10 | D36: 7 | E36: =C36+D36 -> 17 | F36: 20 | G36: =$C$5*F36 -> 1197000 | H36: =$D$4*12.5% -> 218863.12 | I36: =$D$4*2.436% -> 42652.046 | J36: =$D$4*16% -> 280144.8 | K36: =SUM(G36:J36)*B36 -> 1738660 | L36: 2 | M36: =$C$5*L36 -> 119700 | N36: =($D$4*12.5%)/30*2 -> 14590.875 | O36: =($D$4*2.436%)/30*2 -> 2843.4697 | P36: =($D$4*16%)/30*2 -> 18676.32 | Q36: =SUM(M36:P36)*B36 -> 155810.66 | R36: 18 | S36: =$C$5*R36 -> 1077300 | T36: =$D$4*12.5% -> 218863.12 | U36: =$D$4*2.436% -> 42652.046 | V36: =$D$4*16% -> 280144.8 | W36: =SUM(S36:V36)*B36 -> 1618960
A37: C. E. R. EL SALADO | B37: 1 | C37: 10 | D37: 7 | E37: =C37+D37 -> 17 | F37: 20 | G37: =$C$5*F37 -> 1197000 | H37: =$D$4*12.5% -> 218863.12 | I37: =$D$4*2.436% -> 42652.046 | J37: =$D$4*16% -> 280144.8 | K37: =SUM(G37:J37)*B37 -> 1738660 | L37: 2 | M37: =$C$5*L37 -> 119700 | N37: =($D$4*12.5%)/30*2 -> 14590.875 | O37: =($D$4*2.436%)/30*2 -> 2843.4697 | P37: =($D$4*16%)/30*2 -> 18676.32 | Q37: =SUM(M37:P37)*B37 -> 155810.66 | R37: 18 | S37: =$C$5*R37 -> 1077300 | T37: =$D$4*12.5% -> 218863.12 | U37: =$D$4*2.436% -> 42652.046 | V37: =$D$4*16% -> 280144.8 | W37: =SUM(S37:V37)*B37 -> 1618960
A38: C. E. R. MARIANO OSPINA PEREZ | B38: 1 | C38: 7 | D38: 15 | E38: =C38+D38 -> 22 | F38: 20 | G38: =$C$5*F38 -> 1197000 | H38: =$D$4*12.5% -> 218863.12 | I38: =$D$4*2.436% -> 42652.046 | J38: =$D$4*16% -> 280144.8 | K38: =SUM(G38:J38)*B38 -> 1738660 | L38: 2 | M38: =$C$5*L38 -> 119700 | N38: =($D$4*12.5%)/30*2 -> 14590.875 | O38: =($D$4*2.436%)/30*2 -> 2843.4697 | P38: =($D$4*16%)/30*2 -> 18676.32 | Q38: =SUM(M38:P38)*B38 -> 155810.66 | R38: 18 | S38: =$C$5*R38 -> 1077300 | T38: =$D$4*12.5% -> 218863.12 | U38: =$D$4*2.436% -> 42652.046 | V38: =$D$4*16% -> 280144.8 | W38: =SUM(S38:V38)*B38 -> 1618960
A39: C. E. R. GREGORIO GUTIERREZ GONZALEZ | B39: 1 | C39: 25 | D39: 0 | E39: =C39+D39 -> 25 | F39: 20 | G39: =$C$5*F39 -> 1197000 | H39: =$D$4*12.5% -> 218863.12 | I39: =$D$4*2.436% -> 42652.046 | J39: =$D$4*16% -> 280144.8 | K39: =SUM(G39:J39)*B39 -> 1738660 | L39: 2 | M39: =$C$5*L39 -> 119700 | N39: =($D$4*12.5%)/30*2 -> 14590.875 | O39: =($D$4*2.436%)/30*2 -> 2843.4697 | P39: =($D$4*16%)/30*2 -> 18676.32 | Q39: =SUM(M39:P39)*B39 -> 155810.66 | R39: 18 | S39: =$C$5*R39 -> 1077300 | T39: =$D$4*12.5% -> 218863.12 | U39: =$D$4*2.436% -> 42652.046 | V39: =$D$4*16% -> 280144.8 | W39: =SUM(S39:V39)*B39 -> 1618960
A40: C. E. R. LA FRANCIA | B40: 1 | C40: 25 | D40: 0 | E40: =C40+D40 -> 25 | F40: 20 | G40: =$C$5*F40 -> 1197000 | H40: =$D$4*12.5% -> 218863.12 | I40: =$D$4*2.436% -> 42652.046 | J40: =$D$4*16% -> 280144.8 | K40: =SUM(G40:J40)*B40 -> 1738660 | L40: 2 | M40: =$C$5*L40 -> 119700 | N40: =($D$4*12.5%)/30*2 -> 14590.875 | O40: =($D$4*2.436%)/30*2 -> 2843.4697 | P40: =($D$4*16%)/30*2 -> 18676.32 | Q40: =SUM(M40:P40)*B40 -> 155810.66 | R40: 18 | S40: =$C$5*R40 -> 1077300 | T40: =$D$4*12.5% -> 218863.12 | U40: =$D$4*2.436% -> 42652.046 | V40: =$D$4*16% -> 280144.8 | W40: =SUM(S40:V40)*B40 -> 1618960
A41: C. E. R. LA HONDITA | B41: 1 | C41: 16 | D41: 21 | E41: =C41+D41 -> 37 | F41: 20 | G41: =$C$5*F41 -> 1197000 | H41: =$D$4*12.5% -> 218863.12 | I41: =$D$4*2.436% -> 42652.046 | J41: =$D$4*16% -> 280144.8 | K41: =SUM(G41:J41)*B41 -> 1738660 | L41: 2 | M41: =$C$5*L41 -> 119700 | N41: =($D$4*12.5%)/30*2 -> 14590.875 | O41: =($D$4*2.436%)/30*2 -> 2843.4697 | P41: =($D$4*16%)/30*2 -> 18676.32 | Q41: =SUM(M41:P41)*B41 -> 155810.66 | R41: 18 | S41: =$C$5*R41 -> 1077300 | T41: =$D$4*12.5% -> 218863.12 | U41: =$D$4*2.436% -> 42652.046 | V41: =$D$4*16% -> 280144.8 | W41: =SUM(S41:V41)*B41 -> 1618960
A42: C. E. R. ROBLALITO A | B42: 1 | C42: 31 | D42: 0 | E42: =C42+D42 -> 31 | F42: 20 | G42: =$C$5*F42 -> 1197000 | H42: =$D$4*12.5% -> 218863.12 | I42: =$D$4*2.436% -> 42652.046 | J42: =$D$4*16% -> 280144.8 | K42: =SUM(G42:J42)*B42 -> 1738660 | L42: 2 | M42: =$C$5*L42 -> 119700 | N42: =($D$4*12.5%)/30*2 -> 14590.875 | O42: =($D$4*2.436%)/30*2 -> 2843.4697 | P42: =($D$4*16%)/30*2 -> 18676.32 | Q42: =SUM(M42:P42)*B42 -> 155810.66 | R42: 18 | S42: =$C$5*R42 -> 1077300 | T42: =$D$4*12.5% -> 218863.12 | U42: =$D$4*2.436% -> 42652.046 | V42: =$D$4*16% -> 280144.8 | W42: =SUM(S42:V42)*B42 -> 1618960
A43: C. E. R. SIRGUA ARRIBA | B43: 1 | C43: 43 | D43: 0 | E43: =C43+D43 -> 43 | F43: 20 | G43: =$C$5*F43 -> 1197000 | H43: =$D$4*12.5% -> 218863.12 | I43: =$D$4*2.436% -> 42652.046 | J43: =$D$4*16% -> 280144.8 | K43: =SUM(G43:J43)*B43 -> 1738660 | L43: 2 | M43: =$C$5*L43 -> 119700 | N43: =($D$4*12.5%)/30*2 -> 14590.875 | O43: =($D$4*2.436%)/30*2 -> 2843.4697 | P43: =($D$4*16%)/30*2 -> 18676.32 | Q43: =SUM(M43:P43)*B43 -> 155810.66 | R43: 18 | S43: =$C$5*R43 -> 1077300 | T43: =$D$4*12.5% -> 218863.12 | U43: =$D$4*2.436% -> 42652.046 | V43: =$D$4*16% -> 280144.8 | W43: =SUM(S43:V43)*B43 -> 1618960
A44: C. E. R. SIRGUITA | B44: 1 | C44: 23 | D44: 0 | E44: =C44+D44 -> 23 | F44: 20 | G44: =$C$5*F44 -> 1197000 | H44: =$D$4*12.5% -> 218863.12 | I44: =$D$4*2.436% -> 42652.046 | J44: =$D$4*16% -> 280144.8 | K44: =SUM(G44:J44)*B44 -> 1738660 | L44: 2 | M44: =$C$5*L44 -> 119700 | N44: =($D$4*12.5%)/30*2 -> 14590.875 | O44: =($D$4*2.436%)/30*2 -> 2843.4697 | P44: =($D$4*16%)/30*2 -> 18676.32 | Q44: =SUM(M44:P44)*B44 -> 155810.66 | R44: 18 | S44: =$C$5*R44 -> 1077300 | T44: =$D$4*12.5% -> 218863.12 | U44: =$D$4*2.436% -> 42652.046 | V44: =$D$4*16% -> 280144.8 | W44: =SUM(S44:V44)*B44 -> 1618960
A45: C. E. R. ZURRUMBAL | B45: 1 | C45: 16 | D45: 0 | E45: =C45+D45 -> 16 | F45: 20 | G45: =$C$5*F45 -> 1197000 | H45: =$D$4*12.5% -> 218863.12 | I45: =$D$4*2.436% -> 42652.046 | J45: =$D$4*16% -> 280144.8 | K45: =SUM(G45:J45)*B45 -> 1738660 | L45: 2 | M45: =$C$5*L45 -> 119700 | N45: =($D$4*12.5%)/30*2 -> 14590.875 | O45: =($D$4*2.436%)/30*2 -> 2843.4697 | P45: =($D$4*16%)/30*2 -> 18676.32 | Q45: =SUM(M45:P45)*B45 -> 155810.66 | R45: 18 | S45: =$C$5*R45 -> 1077300 | T45: =$D$4*12.5% -> 218863.12 | U45: =$D$4*2.436% -> 42652.046 | V45: =$D$4*16% -> 280144.8 | W45: =SUM(S45:V45)*B45 -> 1618960
A46: C. E. R. EL PORVENIR | B46: 1 | C46: 16 | D46: 0 | E46: =C46+D46 -> 16 | F46: 20 | G46: =$C$5*F46 -> 1197000 | H46: =$D$4*12.5% -> 218863.12 | I46: =$D$4*2.436% -> 42652.046 | J46: =$D$4*16% -> 280144.8 | K46: =SUM(G46:J46)*B46 -> 1738660 | L46: 2 | M46: =$C$5*L46 -> 119700 | N46: =($D$4*12.5%)/30*2 -> 14590.875 | O46: =($D$4*2.436%)/30*2 -> 2843.4697 | P46: =($D$4*16%)/30*2 -> 18676.32 | Q46: =SUM(M46:P46)*B46 -> 155810.66 | R46: 18 | S46: =$C$5*R46 -> 1077300 | T46: =$D$4*12.5% -> 218863.12 | U46: =$D$4*2.436% -> 42652.046 | V46: =$D$4*16% -> 280144.8 | W46: =SUM(S46:V46)*B46 -> 1618960
... A68: C. E. R. CAÑAVERAL | B68: 1 | C68: 19 | D68: 0 | E68: =C68+D68 -> 19 | F68: 20 | G68: =$C$5*F68 -> 1197000 | H68: =$D$4*12.5% -> 218863.12 | I68: =$D$4*2.436% -> 42652.046 | J68: =$D$4*16% -> 280144.8 | K68: =SUM(G68:J68)*B68 -> 1738660 | L68: 2 | M68: =$C$5*L68 -> 119700 | N68: =($D$4*12.5%)/30*2 -> 14590.875 | O68: =($D$4*2.436%)/30*2 -> 2843.4697 | P68: =($D$4*16%)/30*2 -> 18676.32 | Q68: =SUM(M68:P68)*B68 -> 155810.66 | R68: 18 | S68: =$C$5*R68 -> 1077300 | T68: =$D$4*12.5% -> 218863.12 | U68: =$D$4*2.436% -> 42652.046 | V68: =$D$4*16% -> 280144.8 | W68: =SUM(S68:V68)*B68 -> 1618960
A69: C. E. R. LA LINDA | B69: 1 | C69: 85 | D69: 0 | E69: =C69+D69 -> 85 | F69: 20 | G69: =$C$6*F69 -> 1638000 | H69: =$D$4*12.5% -> 218863.12 | I69: =$D$4*2.436% -> 42652.046 | J69: =$D$4*16% -> 280144.8 | K69: =SUM(G69:J69)*B69 -> 2179660 | L69: 2 | M69: =$C$6*L69 -> 163800 | N69: =($D$4*12.5%)/30*2 -> 14590.875 | O69: =($D$4*2.436%)/30*2 -> 2843.4697 | P69: =($D$4*16%)/30*2 -> 18676.32 | Q69: =SUM(M69:P69)*B69 -> 199910.66 | R69: 18 | S69: =$C$6*R69 -> 1474200 | T69: =$D$4*12.5% -> 218863.12 | U69: =$D$4*2.436% -> 42652.046 | V69: =$D$4*16% -> 280144.8 | W69: =SUM(S69:V69)*B69 -> 2015860
A70: I. E. BRAULIO MEJIA | B70: 5 | C70: 468 | D70: 0 | E70: =C70+D70 -> 468 | F70: 20 | G70: =$C$6*F70 -> 1638000 | H70: =$D$4*12.5% -> 218863.12 | I70: =$D$4*2.436% -> 42652.046 | J70: =$D$4*16% -> 280144.8 | K70: =SUM(G70:J70)*B70 -> 10898300 | L70: 2 | M70: =$C$6*L70 -> 163800 | N70: =($D$4*12.5%)/30*2 -> 14590.875 | O70: =($D$4*2.436%)/30*2 -> 2843.4697 | P70: =($D$4*16%)/30*2 -> 18676.32 | Q70: =SUM(M70:P70)*B70 -> 999553.32 | R70: 18 | S70: =$C$6*R70 -> 1474200 | T70: =$D$4*12.5% -> 218863.12 | U70: =$D$4*2.436% -> 42652.046 | V70: =$D$4*16% -> 280144.8 | W70: =SUM(S70:V70)*B70 -> 10079300
A71: I. E. R. JERUSALEN | B71: 5 | C71: 331 | D71: 0 | E71: =C71+D71 -> 331 | F71: 20 | G71: =$C$6*F71 -> 1638000 | H71: =$D$4*12.5% -> 218863.12 | I71: =$D$4*2.436% -> 42652.046 | J71: =$D$4*16% -> 280144.8 | K71: =SUM(G71:J71)*B71 -> 10898300 | L71: 2 | M71: =$C$6*L71 -> 163800 | N71: =($D$4*12.5%)/30*2 -> 14590.875 | O71: =($D$4*2.436%)/30*2 -> 2843.4697 | P71: =($D$4*16%)/30*2 -> 18676.32 | Q71: =SUM(M71:P71)*B71 -> 999553.32 | R71: 18 | S71: =$C$6*R71 -> 1474200 | T71: =$D$4*12.5% -> 218863.12 | U71: =$D$4*2.436% -> 42652.046 | V71: =$D$4*16% -> 280144.8 | W71: =SUM(S71:V71)*B71 -> 10079300
A72: I. E. R. LA DANTA | B72: 6 | C72: 477 | D72: 0 | E72: =C72+D72 -> 477 | F72: 20 | G72: =$C$6*F72 -> 1638000 | H72: =$D$4*12.5% -> 218863.12 | I72: =$D$4*2.436% -> 42652.046 | J72: =$D$4*16% -> 280144.8 | K72: =SUM(G72:J72)*B72 -> 13077960 | L72: 2 | M72: =$C$6*L72 -> 163800 | N72: =($D$4*12.5%)/30*2 -> 14590.875 | O72: =($D$4*2.436%)/30*2 -> 2843.4697 | P72: =($D$4*16%)/30*2 -> 18676.32 | Q72: =SUM(M72:P72)*B72 -> 1199464 | R72: 18 | S72: =$C$6*R72 -> 1474200 | T72: =$D$4*12.5% -> 218863.12 | U72: =$D$4*2.436% -> 42652.046 | V72: =$D$4*16% -> 280144.8 | W72: =SUM(S72:V72)*B72 -> 12095160
A73: C. E. R. PIEDRAS BLANCAS | B73: 1 | C73: 50 | D73: 0 | E73: =C73+D73 -> 50 | F73: 20 | G73: =$C$6*F73 -> 1638000 | H73: =$D$4*12.5% -> 218863.12 | I73: =$D$4*2.436% -> 42652.046 | J73: =$D$4*16% -> 280144.8 | K73: =SUM(G73:J73)*B73 -> 2179660 | L73: 2 | M73: =$C$6*L73 -> 163800 | N73: =($D$4*12.5%)/30*2 -> 14590.875 | O73: =($D$4*2.436%)/30*2 -> 2843.4697 | P73: =($D$4*16%)/30*2 -> 18676.32 | Q73: =SUM(M73:P73)*B73 -> 199910.66 | R73: 18 | S73: =$C$6*R73 -> 1474200 | T73: =$D$4*12.5% -> 218863.12 | U73: =$D$4*2.436% -> 42652.046 | V73: =$D$4*16% -> 280144.8 | W73: =SUM(S73:V73)*B73 -> 2015860
A74: I. E. R. SAN MIGUEL | B74: 2 | C74: 286 | D74: 0 | E74: =C74+D74 -> 286 | F74: 20 | G74: =$C$6*F74 -> 1638000 | H74: =$D$4*12.5% -> 218863.12 | I74: =$D$4*2.436% -> 42652.046 | J74: =$D$4*16% -> 280144.8 | K74: =SUM(G74:J74)*B74 -> 4359319.9 | L74: 2 | M74: =$C$6*L74 -> 163800 | N74: =($D$4*12.5%)/30*2 -> 14590.875 | O74: =($D$4*2.436%)/30*2 -> 2843.4697 | P74: =($D$4*16%)/30*2 -> 18676.32 | Q74: =SUM(M74:P74)*B74 -> 399821.33 | R74: 18 | S74: =$C$6*R74 -> 1474200 | T74: =$D$4*12.5% -> 218863.12 | U74: =$D$4*2.436% -> 42652.046 | V74: =$D$4*16% -> 280144.8 | W74: =SUM(S74:V74)*B74 -> 4031719.9
A75: C. E. R. ALTO DE SABANA | B75: 1 | C75: 84 | D75: 0 | E75: =C75+D75 -> 84 | F75: 20 | G75: =$C$6*F75 -> 1638000 | H75: =$D$4*12.5% -> 218863.12 | I75: =$D$4*2.436% -> 42652.046 | J75: =$D$4*16% -> 280144.8 | K75: =SUM(G75:J75)*B75 -> 2179660 | L75: 2 | M75: =$C$6*L75 -> 163800 | N75: =($D$4*12.5%)/30*2 -> 14590.875 | O75: =($D$4*2.436%)/30*2 -> 2843.4697 | P75: =($D$4*16%)/30*2 -> 18676.32 | Q75: =SUM(M75:P75)*B75 -> 199910.66 | R75: 18 | S75: =$C$6*R75 -> 1474200 | T75: =$D$4*12.5% -> 218863.12 | U75: =$D$4*2.436% -> 42652.046 | V75: =$D$4*16% -> 280144.8 | W75: =SUM(S75:V75)*B75 -> 2015860
...

Sheet calendario escolar
A1: Contrato Inicial
A2: ENERO | B2: 10 | C2: ok
A3: FEBRERO | B3: 20 | C3: ok
A4: MARZO | B4: 19 | C4: ok
A5: ABRIL | B5: 19 | C5: ok
A6: MAYO | B6: 19 | C6: ok
A7: JUNIO | B7: 9 | C7: ok
A8: JULIO | B8: 15 | C8: Raciones hasta el 28 de julio
B9: =SUM(B2:B8) -> 111
A10: Adición 001
A11: JULIO | B11: 4 | C11: Raciones que agarra la adición del 28 al 31
A12: AGOSTO | B12: 19 | C12: hasta el 31 de Agosto
A14: Segundo Contrato
A15: SEPTIEMBRE | B15: 22
A16: OCTUBRE | B16: 16
A17: NOVIEMBRE | B17: 18 | C17: hasta el 27 de noviembre ya que el calendario escolar va hasta el 29 de noviembre
B18: =SUM(B15:B17) -> 56

Sheet proyección general Ad-1
A1: PROYECCIÓN OPERACIÓN PAE 2026
A3: NRO. DEL PROCESO EN SECOP II: 26AS151F2610
A4: OBJETO: Integrar esfuerzos para la ejecución del Programa de Alimentación Escolar - PAE, para los niños, niñas y adolescentes de la matrícula oficial del municipio de SONSÓN - Antioquia, no certificado en educación, para la vigencia 2026
A5: DIAS CALENDARIO ESCOLAR: 111 + 23 = 134
A6: CÓDIGO UNSPSC: 85151601 - Servicios de programación ed la nutrición
A7: VALOR APORTADO X GOBERNACIÓN: $3.364.200.299 + $833.687.557 = $4.197.887.856
A8: NRO. BENEFICIARIOS PAE REGULAR: 4.614
A9: NRO. BENEFICIARIOS PAE JORNADA ÚNICA: 849
A10: TOTAL RACIONES PAE REGULAR: 512.154 + 106.122 = 618.276
A11: TOTAL RACIONES PAE JORNADA ÚNICA: 94.239 + 19.527 = 113.766
N12: PLAN DE CAPACITACIÓN
A14: Descripción | B14: Valor trabajado en 2025 con impuestos incluidos | C14: Prodeporte no tenido en cuenta | D14: IPC | E14: Valor cotización 2026 incluye descuentos | N14: Zona Urbana
C15: 0.013 | D15: 0.0551 | N15: Descripción | O15: Unidad | P15: Cantidad | Q15: Valor Unitario | R15: Valor Total
A16: PAE Regular | B16: 3624 | C16: =B16*$C$15 -> 47.112 | D16: =(B16+C16)*$D$15 -> 202.27827 | E16: 3826 | N16: Capacitador | O16: Persona | P16: 2 | Q16: 1500000 | R16: =Q16*P16 -> 3000000
A17: PAE Jornada Única | B17: 4938 | C17: =B17*$C$15 -> 64.194 | D17: =(B17+C17)*$D$15 -> 275.62089 | E17: 5214 | N17: Almuerzo | O17: Unidad | P17: 90 | Q17: 35000 | R17: =Q17*P17 -> 3150000
A18: Transporte | B18: 3080000 | C18: 0 | D18: =(B18+C18)*$D$15 -> 169708 | E18: 3249708 | N18: Refrigerio | O18: Unidad | P18: 90 | Q18: 10000 | R18: =Q18*P18 -> 900000
A19: kits de aseo | B19: 143000 | C19: 0 | D19: =(B19+C19)*$D$15 -> 7879.3 | E19: 150879 | N19: Material para talleres | O19: global | R19: 2500000
A20: Dotación manipuladoras | B20: 229900 | C20: 0 | D20: =(B20+C20)*$D$15 -> 12667.49 | E20: 242567 | N20: TOTAL | R20: =SUM(R16:R19) -> 9550000
N22: Magdalena Medio
A23: PROYECCIÓN X 111 DÍAS CALENDARIO ESCOLAR | E23: 23 DÍAS CALENDARIO ESCOLAR MÁS | N23: Descripción | O23: Unidad | P23: Cantidad | Q23: Valor Unitario | R23: Valor Total
A24: Descripción | B24: Cantidad | C24: Valor Unitario | D24: Valor Total | E24: Raciones Aición 001 | N24: Capacitador | O24: Persona | P24: 1 | Q24: 1500000 | R24: =Q24*P24 -> 1500000
A25: REGULAR | B25: 512154 | C25: =E16 -> 3826 | D25: =B25*C25 -> 1959501204 | E25: 106122 | F25: =E25*C25 -> 406022772 | N25: Almuerzo | O25: Unidad | P25: 26 | Q25: 35000 | R25: =Q25*P25 -> 910000
A26: ÚNICA | B26: 94239 | C26: =E17 -> 5214 | D26: =B26*C26 -> 491362146 | E26: 19527 | F26: =E26*C26 -> 101813778 | N26: Refrigerio | O26: Unidad | P26: 26 | Q26: 10000 | R26: =Q26*P26 -> 260000
A27: TRANSPORTE | B27: 10 | C27: =E18 -> 3249708 | D27: =B27*C27 -> 32497080 | N27: Material para talleres | O27: global | R27: 1000000
A28: KITS DE ASEO | B28: =80*2 -> 160 | C28: =E19 -> 150879 | D28: =B28*C28 -> 24140640 | E28: =D28/2 -> 12070320 | N28: TOTAL | R28: =SUM(R24:R27) -> 3670000
A29: DOTACIÓN MANIPULADORAS | B29: =104*2 -> 208 | C29: =E20 -> 242567 | D29: =C29*B29 -> 50453936 | E29: =D29/2 -> 25226968
A30: MANIPULADORAS | B30: GLOBAL | D30: ='proyección inicial procesadoras'!B174 -> 1.1612355e+09
A31: TOTAL | D31: =SUM(D25:D30) -> 3.7191905e+09
A34: DISCRIMINACIÓN APORTES
B35: Aporte Gobernación | D35: Aporte Municipio
A36: Descripción | B36: Contrato Inicial | C36: Adición 001 | D36: Contrato Inicial | E36: Adición 001
A37: Regular | B37: =D25 -> 1959501204 | C37: =F25 -> 406022772 | D37: 0 | E37: 0
A38: Única | B38: =D26 -> 491362146 | C38: =F26 -> 101813778 | D38: 0 | E38: 0
A39: Manipuladoras | B39: =3364200299-(B37+B38) -> 913336949 | C39: =833687557-(C37+C38) -> 325851007 | D39: =D30-B39 -> 2.4789857e+08 | E39: ='proyección Ad-1 procesadoras'!B185-('proyección general Ad-1'!B39+'proyección general Ad-1'!C39+'proyección general Ad-1'!D39) -> 1.747646e+08 | F39: =SUM(B39:E39) -> 1.6618511e+09
A40: Transporte | B40: 0 | C40: 0 | D40: =D27 -> 32497080 | E40: =3*C27 -> 9749124
A41: Kits de Aseo | B41: 0 | C41: 0 | D41: =D28 -> 24140640 | E41: 0
A42: Dotación Manipuladoras | B42: 0 | C42: 0 | D42: =D29 -> 50453936 | E42: 0
A43: Totales | B43: =SUM(B37:B42) -> 3364200299 | C43: =SUM(C37:C42) -> 833687557 | D43: =SUM(D37:D42) -> 3.5499023e+08 | E43: =SUM(E37:E42) -> 1.8451373e+08 | F43: =C43+E43 -> 1.0182013e+09
B44: =SUM(B43:C43) -> 4197887856 | D44: =SUM(D43:E43) -> 5.3950395e+08 | F44: =SUM(B44:E44) -> 4.7373918e+09
B45: =SUM(B44+D44) -> 4.7373918e+09
...

Sheet proyección Ad-1  procesadoras
A1: PROYECCIÓN PROCESADORAS DE ALIMENTOS 2026 | K1: 541800 | L1: 541660 | M1: =K1-L1 -> 140
A3: Rango Procesadoras de Alimentos | B3: Salario Base | C3: Honorarios x Día | D3: IBC
A4: RANGO 1 (1-15 estudiantes) 65% | B4: 1890000 | C4: =(B4*65%)/30 -> 40950 | D4: 1750905
A5: RANGO 2 (16-43 estudiantes) 95% | B5: 1890000 | C5: =(B5*95%)/30 -> 59850
A6: RANGO 3 (>=44 estudiantes) 130% | B6: 1890000 | C6: =(B6*130%)/30 -> 81900
G7: =G12-G11 -> 0
F9: ENERO | L9: FEBRERO | R9: MARZO | X9: ABRIL | AD9: MAYO | AJ9: JUNIO (9 días laborales y todo el mes de seguridad) | AP9: JULIO | AV9: AGOSTO (hasta el 31 de Agosto) hasta esta fecha va la adición 01 de la gobernación
A10: Sede | B10: Cantidad de Procesadoras | C10: Cantidad Alumnos a Noviembre de 2025 | D10: Alumnos COREDI | E10: Total Alumnos | F10: Días Laborales | G10: Honorarios | H10: salud 12,5% | I10: riesgos (R3) 2,436% | J10: pensión 16% | K10: Total Manipuladora | L10: Días Laborales | M10: Honorarios | N10: salud 12,5% | O10: riesgos (R3) 2,436% | P10: pensión 16% | Q10: Total Manipuladora | R10: Días Laborales | S10: Honorarios | T10: salud 12,5% | U10: riesgos (R3) 2,436% | V10: pensión 16% | W10: Total Manipuladora | X10: Días Laborales | Y10: Honorarios | Z10: salud 12,5% | AA10: riesgos (R3) 2,436% | AB10: pensión 16% | AC10: Total Manipuladora | AD10: Días Laborales | AE10: Honorarios | AF10: salud 12,5% | AG10: riesgos (R3) 2,436% | AH10: pensión 16% | AI10: Total Manipuladora | AJ10: Días Laborales | AK10: Honorarios | AL10: salud 12,5% | AM10: riesgos (R3) 2,436% | AN10: pensión 16% | AO10: Total Manipuladora | AP10: Días Laborales | AQ10: Honorarios | AR10: salud 12,5% | AS10: riesgos (R3) 2,436% | AT10: pensión 16% | AU10: Total Manipuladora | AV10: Días Laborales | AW10: Honorarios | AX10: salud 12,5% | AY10: riesgos (R3) 2,436% | AZ10: pensión 16% | BA10: Total Manipuladora
A11: C. E. R. BOQUERON | B11: 1 | C11: 4 | D11: 0 | E11: =C11+D11 -> 4 | F11: 10 | G11: =$C$4*F11 -> 409500 | H11: =($D$4*12.5%)/30*13 -> 94840.688 | I11: =($D$4*2.436%)/30*13 -> 18482.553 | J11: =($D$4*16%)/30*13 -> 121396.08 | K11: =SUM(G11:J11)*B11 -> 644219.32 | L11: 20 | M11: =$C$4*L11 -> 819000 | N11: =$D$4*12.5% -> 218863.12 | O11: =$D$4*2.436% -> 42652.046 | P11: =$D$4*16% -> 280144.8 | Q11: =SUM(M11:P11)*B11 -> 1360660 | R11: 19 | S11: =$C$4*R11 -> 778050 | T11: =$D$4*12.5% -> 218863.12 | U11: =$D$4*2.436% -> 42652.046 | V11: =$D$4*16% -> 280144.8 | W11: =SUM(S11:V11)*B11 -> 1319710 | X11: 19 | Y11: =$C$4*X11 -> 778050 | Z11: =$D$4*12.5% -> 218863.12 | AA11: =$D$4*2.436% -> 42652.046 | AB11: =$D$4*16% -> 280144.8 | AC11: =SUM(Y11:AB11)*B11 -> 1319710 | AD11: 19 | AE11: =$C$4*AD11 -> 778050 | AF11: =$D$4*12.5% -> 218863.12 | AG11: =$D$4*2.436% -> 42652.046 | AH11: =$D$4*16% -> 280144.8 | AI11: =SUM(AE11:AH11)*B11 -> 1319710 | AJ11: 9 | AK11: =$C$4*AJ11 -> 368550 | AL11: =$D$4*12.5% -> 218863.12 | AM11: =$D$4*2.436% -> 42652.046 | AN11: =$D$4*16% -> 280144.8 | AO11: =SUM(AK11:AN11)*B11 -> 910209.97 | AP11: 18 | AQ11: =$C$4*AP11 -> 737100 | AR11: =$D$4*12.5% -> 218863.12 | AS11: =$D$4*2.436% -> 42652.046 | AT11: =$D$4*16% -> 280144.8 | AU11: =SUM(AQ11:AT11)*B11 -> 1278760 | AV11: 19 | AW11: =$C$4*AV11 -> 778050 | AX11: =$D$4*12.5% -> 218863.12 | AY11: =$D$4*2.436% -> 42652.046 | AZ11: =$D$4*16% -> 280144.8 | BA11: =SUM(AW11:AZ11)*B11 -> 1319710
A12: C. E. R. LA TORRE | B12: 1 | C12: 4 | D12: 0 | E12: =C12+D12 -> 4 | F12: 10 | G12: =$C$4*F12 -> 409500 | H12: =($D$4*12.5%)/30*13 -> 94840.688 | I12: =($D$4*2.436%)/30*13 -> 18482.553 | J12: =($D$4*16%)/30*13 -> 121396.08 | K12: =SUM(G12:J12)*B12 -> 644219.32 | L12: 20 | M12: =$C$4*L12 -> 819000 | N12: =$D$4*12.5% -> 218863.12 | O12: =$D$4*2.436% -> 42652.046 | P12: =$D$4*16% -> 280144.8 | Q12: =SUM(M12:P12)*B12 -> 1360660 | R12: 19 | S12: =$C$4*R12 -> 778050 | T12: =$D$4*12.5% -> 218863.12 | U12: =$D$4*2.436% -> 42652.046 | V12: =$D$4*16% -> 280144.8 | W12: =SUM(S12:V12)*B12 -> 1319710 | X12: 19 | Y12: =$C$4*X12 -> 778050 | Z12: =$D$4*12.5% -> 218863.12 | AA12: =$D$4*2.436% -> 42652.046 | AB12: =$D$4*16% -> 280144.8 | AC12: =SUM(Y12:AB12)*B12 -> 1319710 | AD12: 19 | AE12: =$C$4*AD12 -> 778050 | AF12: =$D$4*12.5% -> 218863.12 | AG12: =$D$4*2.436% -> 42652.046 | AH12: =$D$4*16% -> 280144.8 | AI12: =SUM(AE12:AH12)*B12 -> 1319710 | AJ12: 9 | AK12: =$C$4*AJ12 -> 368550 | AL12: =$D$4*12.5% -> 218863.12 | AM12: =$D$4*2.436% -> 42652.046 | AN12: =$D$4*16% -> 280144.8 | AO12: =SUM(AK12:AN12)*B12 -> 910209.97 | AP12: 18 | AQ12: =$C$4*AP12 -> 737100 | AR12: =$D$4*12.5% -> 218863.12 | AS12: =$D$4*2.436% -> 42652.046 | AT12: =$D$4*16% -> 280144.8 | AU12: =SUM(AQ12:AT12)*B12 -> 1278760 | AV12: 19 | AW12: =$C$4*AV12 -> 778050 | AX12: =$D$4*12.5% -> 218863.12 | AY12: =$D$4*2.436% -> 42652.046 | AZ12: =$D$4*16% -> 280144.8 | BA12: =SUM(AW12:AZ12)*B12 -> 1319710
A13: C. E. R. SIRGUA ABAJO | B13: 1 | C13: 7 | D13: 0 | E13: =C13+D13 -> 7 | F13: 10 | G13: =$C$4*F13 -> 409500 | H13: =($D$4*12.5%)/30*13 -> 94840.688 | I13: =($D$4*2.436%)/30*13 -> 18482.553 | J13: =($D$4*16%)/30*13 -> 121396.08 | K13: =SUM(G13:J13)*B13 -> 644219.32 | L13: 20 | M13: =$C$4*L13 -> 819000 | N13: =$D$4*12.5% -> 218863.12 | O13: =$D$4*2.436% -> 42652.046 | P13: =$D$4*16% -> 280144.8 | Q13: =SUM(M13:P13)*B13 -> 1360660 | R13: 19 | S13: =$C$4*R13 -> 778050 | T13: =$D$4*12.5% -> 218863.12 | U13: =$D$4*2.436% -> 42652.046 | V13: =$D$4*16% -> 280144.8 | W13: =SUM(S13:V13)*B13 -> 1319710 | X13: 19 | Y13: =$C$4*X13 -> 778050 | Z13: =$D$4*12.5% -> 218863.12 | AA13: =$D$4*2.436% -> 42652.046 | AB13: =$D$4*16% -> 280144.8 | AC13: =SUM(Y13:AB13)*B13 -> 1319710 | AD13: 19 | AE13: =$C$4*AD13 -> 778050 | AF13: =$D$4*12.5% -> 218863.12 | AG13: =$D$4*2.436% -> 42652.046 | AH13: =$D$4*16% -> 280144.8 | AI13: =SUM(AE13:AH13)*B13 -> 1319710 | AJ13: 9 | AK13: =$C$4*AJ13 -> 368550 | AL13: =$D$4*12.5% -> 218863.12 | AM13: =$D$4*2.436% -> 42652.046 | AN13: =$D$4*16% -> 280144.8 | AO13: =SUM(AK13:AN13)*B13 -> 910209.97 | AP13: 18 | AQ13: =$C$4*AP13 -> 737100 | AR13: =$D$4*12.5% -> 218863.12 | AS13: =$D$4*2.436% -> 42652.046 | AT13: =$D$4*16% -> 280144.8 | AU13: =SUM(AQ13:AT13)*B13 -> 1278760 | AV13: 19 | AW13: =$C$4*AV13 -> 778050 | AX13: =$D$4*12.5% -> 218863.12 | AY13: =$D$4*2.436% -> 42652.046 | AZ13: =$D$4*16% -> 280144.8 | BA13: =SUM(AW13:AZ13)*B13 -> 1319710
A14: C. E. R. LA MESA | B14: 1 | C14: 5 | D14: 0 | E14: =C14+D14 -> 5 | F14: 10 | G14: =$C$4*F14 -> 409500 | H14: =($D$4*12.5%)/30*13 -> 94840.688 | I14: =($D$4*2.436%)/30*13 -> 18482.553 | J14: =($D$4*16%)/30*13 -> 121396.08 | K14: =SUM(G14:J14)*B14 -> 644219.32 | L14: 20 | M14: =$C$4*L14 -> 819000 | N14: =$D$4*12.5% -> 218863.12 | O14: =$D$4*2.436% -> 42652.046 | P14: =$D$4*16% -> 280144.8 | Q14: =SUM(M14:P14)*B14 -> 1360660 | R14: 19 | S14: =$C$4*R14 -> 778050 | T14: =$D$4*12.5% -> 218863.12 | U14: =$D$4*2.436% -> 42652.046 | V14: =$D$4*16% -> 280144.8 | W14: =SUM(S14:V14)*B14 -> 1319710 | X14: 19 | Y14: =$C$4*X14 -> 778050 | Z14: =$D$4*12.5% -> 218863.12 | AA14: =$D$4*2.436% -> 42652.046 | AB14: =$D$4*16% -> 280144.8 | AC14: =SUM(Y14:AB14)*B14 -> 1319710 | AD14: 19 | AE14: =$C$4*AD14 -> 778050 | AF14: =$D$4*12.5% -> 218863.12 | AG14: =$D$4*2.436% -> 42652.046 | AH14: =$D$4*16% -> 280144.8 | AI14: =SUM(AE14:AH14)*B14 -> 1319710 | AJ14: 9 | AK14: =$C$4*AJ14 -> 368550 | AL14: =$D$4*12.5% -> 218863.12 | AM14: =$D$4*2.436% -> 42652.046 | AN14: =$D$4*16% -> 280144.8 | AO14: =SUM(AK14:AN14)*B14 -> 910209.97 | AP14: 18 | AQ14: =$C$4*AP14 -> 737100 | AR14: =$D$4*12.5% -> 218863.12 | AS14: =$D$4*2.436% -> 42652.046 | AT14: =$D$4*16% -> 280144.8 | AU14: =SUM(AQ14:AT14)*B14 -> 1278760 | AV14: 19 | AW14: =$C$4*AV14 -> 778050 | AX14: =$D$4*12.5% -> 218863.12 | AY14: =$D$4*2.436% -> 42652.046 | AZ14: =$D$4*16% -> 280144.8 | BA14: =SUM(AW14:AZ14)*B14 -> 1319710
A15: C. E. R. MULATO ALTO | B15: 1 | C15: 3 | D15: 0 | E15: =C15+D15 -> 3 | F15: 10 | G15: =$C$4*F15 -> 409500 | H15: =($D$4*12.5%)/30*13 -> 94840.688 | I15: =($D$4*2.436%)/30*13 -> 18482.553 | J15: =($D$4*16%)/30*13 -> 121396.08 | K15: =SUM(G15:J15)*B15 -> 644219.32 | L15: 20 | M15: =$C$4*L15 -> 819000 | N15: =$D$4*12.5% -> 218863.12 | O15: =$D$4*2.436% -> 42652.046 | P15: =$D$4*16% -> 280144.8 | Q15: =SUM(M15:P15)*B15 -> 1360660 | R15: 19 | S15: =$C$4*R15 -> 778050 | T15: =$D$4*12.5% -> 218863.12 | U15: =$D$4*2.436% -> 42652.046 | V15: =$D$4*16% -> 280144.8 | W15: =SUM(S15:V15)*B15 -> 1319710 | X15: 19 | Y15: =$C$4*X15 -> 778050 | Z15: =$D$4*12.5% -> 218863.12 | AA15: =$D$4*2.436% -> 42652.046 | AB15: =$D$4*16% -> 280144.8 | AC15: =SUM(Y15:AB15)*B15 -> 1319710 | AD15: 19 | AE15: =$C$4*AD15 -> 778050 | AF15: =$D$4*12.5% -> 218863.12 | AG15: =$D$4*2.436% -> 42652.046 | AH15: =$D$4*16% -> 280144.8 | AI15: =SUM(AE15:AH15)*B15 -> 1319710 | AJ15: 9 | AK15: =$C$4*AJ15 -> 368550 | AL15: =$D$4*12.5% -> 218863.12 | AM15: =$D$4*2.436% -> 42652.046 | AN15: =$D$4*16% -> 280144.8 | AO15: =SUM(AK15:AN15)*B15 -> 910209.97 | AP15: 18 | AQ15: =$C$4*AP15 -> 737100 | AR15: =$D$4*12.5% -> 218863.12 | AS15: =$D$4*2.436% -> 42652.046 | AT15: =$D$4*16% -> 280144.8 | AU15: =SUM(AQ15:AT15)*B15 -> 1278760 | AV15: 19 | AW15: =$C$4*AV15 -> 778050 | AX15: =$D$4*12.5% -> 218863.12 | AY15: =$D$4*2.436% -> 42652.046 | AZ15: =$D$4*16% -> 280144.8 | BA15: =SUM(AW15:AZ15)*B15 -> 1319710
A16: C. E. R. SANTA ROSA LA DANTA | B16: 1 | C16: 4 | D16: 0 | E16: =C16+D16 -> 4 | F16: 10 | G16: =$C$4*F16 -> 409500 | H16: =($D$4*12.5%)/30*13 -> 94840.688 | I16: =($D$4*2.436%)/30*13 -> 18482.553 | J16: =($D$4*16%)/30*13 -> 121396.08 | K16: =SUM(G16:J16)*B16 -> 644219.32 | L16: 20 | M16: =$C$4*L16 -> 819000 | N16: =$D$4*12.5% -> 218863.12 | O16: =$D$4*2.436% -> 42652.046 | P16: =$D$4*16% -> 280144.8 | Q16: =SUM(M16:P16)*B16 -> 1360660 | R16: 19 | S16: =$C$4*R16 -> 778050 | T16: =$D$4*12.5% -> 218863.12 | U16: =$D$4*2.436% -> 42652.046 | V16: =$D$4*16% -> 280144.8 | W16: =SUM(S16:V16)*B16 -> 1319710 | X16: 19 | Y16: =$C$4*X16 -> 778050 | Z16: =$D$4*12.5% -> 218863.12 | AA16: =$D$4*2.436% -> 42652.046 | AB16: =$D$4*16% -> 280144.8 | AC16: =SUM(Y16:AB16)*B16 -> 1319710 | AD16: 19 | AE16: =$C$4*AD16 -> 778050 | AF16: =$D$4*12.5% -> 218863.12 | AG16: =$D$4*2.436% -> 42652.046 | AH16: =$D$4*16% -> 280144.8 | AI16: =SUM(AE16:AH16)*B16 -> 1319710 | AJ16: 9 | AK16: =$C$4*AJ16 -> 368550 | AL16: =$D$4*12.5% -> 218863.12 | AM16: =$D$4*2.436% -> 42652.046 | AN16: =$D$4*16% -> 280144.8 | AO16: =SUM(AK16:AN16)*B16 -> 910209.97 | AP16: 18 | AQ16: =$C$4*AP16 -> 737100 | AR16: =$D$4*12.5% -> 218863.12 | AS16: =$D$4*2.436% -> 42652.046 | AT16: =$D$4*16% -> 280144.8 | AU16: =SUM(AQ16:AT16)*B16 -> 1278760 | AV16: 19 | AW16: =$C$4*AV16 -> 778050 | AX16: =$D$4*12.5% -> 218863.12 | AY16: =$D$4*2.436% -> 42652.046 | AZ16: =$D$4*16% -> 280144.8 | BA16: =SUM(AW16:AZ16)*B16 -> 1319710
A17: C. E. R. SANTO DOMINGO | B17: 1 | C17: 3 | D17: 0 | E17: =C17+D17 -> 3 | F17: 10 | G17: =$C$4*F17 -> 409500 | H17: =($D$4*12.5%)/30*13 -> 94840.688 | I17: =($D$4*2.436%)/30*13 -> 18482.553 | J17: =($D$4*16%)/30*13 -> 121396.08 | K17: =SUM(G17:J17)*B17 -> 644219.32 | L17: 20 | M17: =$C$4*L17 -> 819000 | N17: =$D$4*12.5% -> 218863.12 | O17: =$D$4*2.436% -> 42652.046 | P17: =$D$4*16% -> 280144.8 | Q17: =SUM(M17:P17)*B17 -> 1360660 | R17: 19 | S17: =$C$4*R17 -> 778050 | T17: =$D$4*12.5% -> 218863.12 | U17: =$D$4*2.436% -> 42652.046 | V17: =$D$4*16% -> 280144.8 | W17: =SUM(S17:V17)*B17 -> 1319710 | X17: 19 | Y17: =$C$4*X17 -> 778050 | Z17: =$D$4*12.5% -> 218863.12 | AA17: =$D$4*2.436% -> 42652.046 | AB17: =$D$4*16% -> 280144.8 | AC17: =SUM(Y17:AB17)*B17 -> 1319710 | AD17: 19 | AE17: =$C$4*AD17 -> 778050 | AF17: =$D$4*12.5% -> 218863.12 | AG17: =$D$4*2.436% -> 42652.046 | AH17: =$D$4*16% -> 280144.8 | AI17: =SUM(AE17:AH17)*B17 -> 1319710 | AJ17: 9 | AK17: =$C$4*AJ17 -> 368550 | AL17: =$D$4*12.5% -> 218863.12 | AM17: =$D$4*2.436% -> 42652.046 | AN17: =$D$4*16% -> 280144.8 | AO17: =SUM(AK17:AN17)*B17 -> 910209.97 | AP17: 18 | AQ17: =$C$4*AP17 -> 737100 | AR17: =$D$4*12.5% -> 218863.12 | AS17: =$D$4*2.436% -> 42652.046 | AT17: =$D$4*16% -> 280144.8 | AU17: =SUM(AQ17:AT17)*B17 -> 1278760 | AV17: 19 | AW17: =$C$4*AV17 -> 778050 | AX17: =$D$4*12.5% -> 218863.12 | AY17: =$D$4*2.436% -> 42652.046 | AZ17: =$D$4*16% -> 280144.8 | BA17: =SUM(AW17:AZ17)*B17 -> 1319710
A18: C. E. R. LOS POTREROS | B18: 1 | C18: 6 | D18: 0 | E18: =C18+D18 -> 6 | F18: 10 | G18: =$C$4*F18 -> 409500 | H18: =($D$4*12.5%)/30*13 -> 94840.688 | I18: =($D$4*2.436%)/30*13 -> 18482.553 | J18: =($D$4*16%)/30*13 -> 121396.08 | K18: =SUM(G18:J18)*B18 -> 644219.32 | L18: 20 | M18: =$C$4*L18 -> 819000 | N18: =$D$4*12.5% -> 218863.12 | O18: =$D$4*2.436% -> 42652.046 | P18: =$D$4*16% -> 280144.8 | Q18: =SUM(M18:P18)*B18 -> 1360660 | R18: 19 | S18: =$C$4*R18 -> 778050 | T18: =$D$4*12.5% -> 218863.12 | U18: =$D$4*2.436% -> 42652.046 | V18: =$D$4*16% -> 280144.8 | W18: =SUM(S18:V18)*B18 -> 1319710 | X18: 19 | Y18: =$C$4*X18 -> 778050 | Z18: =$D$4*12.5% -> 218863.12 | AA18: =$D$4*2.436% -> 42652.046 | AB18: =$D$4*16% -> 280144.8 | AC18: =SUM(Y18:AB18)*B18 -> 1319710 | AD18: 19 | AE18: =$C$4*AD18 -> 778050 | AF18: =$D$4*12.5% -> 218863.12 | AG18: =$D$4*2.436% -> 42652.046 | AH18: =$D$4*16% -> 280144.8 | AI18: =SUM(AE18:AH18)*B18 -> 1319710 | AJ18: 9 | AK18: =$C$4*AJ18 -> 368550 | AL18: =$D$4*12.5% -> 218863.12 | AM18: =$D$4*2.436% -> 42652.046 | AN18: =$D$4*16% -> 280144.8 | AO18: =SUM(AK18:AN18)*B18 -> 910209.97 | AP18: 18 | AQ18: =$C$4*AP18 -> 737100 | AR18: =$D$4*12.5% -> 218863.12 | AS18: =$D$4*2.436% -> 42652.046 | AT18: =$D$4*16% -> 280144.8 | AU18: =SUM(AQ18:AT18)*B18 -> 1278760 | AV18: 19 | AW18: =$C$4*AV18 -> 778050 | AX18: =$D$4*12.5% -> 218863.12 | AY18: =$D$4*2.436% -> 42652.046 | AZ18: =$D$4*16% -> 280144.8 | BA18: =SUM(AW18:AZ18)*B18 -> 1319710
A19: C. E. R. MAGALLO | B19: 1 | C19: 6 | D19: 0 | E19: =C19+D19 -> 6 | F19: 10 | G19: =$C$4*F19 -> 409500 | H19: =($D$4*12.5%)/30*13 -> 94840.688 | I19: =($D$4*2.436%)/30*13 -> 18482.553 | J19: =($D$4*16%)/30*13 -> 121396.08 | K19: =SUM(G19:J19)*B19 -> 644219.32 | L19: 20 | M19: =$C$4*L19 -> 819000 | N19: =$D$4*12.5% -> 218863.12 | O19: =$D$4*2.436% -> 42652.046 | P19: =$D$4*16% -> 280144.8 | Q19: =SUM(M19:P19)*B19 -> 1360660 | R19: 19 | S19: =$C$4*R19 -> 778050 | T19: =$D$4*12.5% -> 218863.12 | U19: =$D$4*2.436% -> 42652.046 | V19: =$D$4*16% -> 280144.8 | W19: =SUM(S19:V19)*B19 -> 1319710 | X19: 19 | Y19: =$C$4*X19 -> 778050 | Z19: =$D$4*12.5% -> 218863.12 | AA19: =$D$4*2.436% -> 42652.046 | AB19: =$D$4*16% -> 280144.8 | AC19: =SUM(Y19:AB19)*B19 -> 1319710 | AD19: 19 | AE19: =$C$4*AD19 -> 778050 | AF19: =$D$4*12.5% -> 218863.12 | AG19: =$D$4*2.436% -> 42652.046 | AH19: =$D$4*16% -> 280144.8 | AI19: =SUM(AE19:AH19)*B19 -> 1319710 | AJ19: 9 | AK19: =$C$4*AJ19 -> 368550 | AL19: =$D$4*12.5% -> 218863.12 | AM19: =$D$4*2.436% -> 42652.046 | AN19: =$D$4*16% -> 280144.8 | AO19: =SUM(AK19:AN19)*B19 -> 910209.97 | AP19: 18 | AQ19: =$C$4*AP19 -> 737100 | AR19: =$D$4*12.5% -> 218863.12 | AS19: =$D$4*2.436% -> 42652.046 | AT19: =$D$4*16% -> 280144.8 | AU19: =SUM(AQ19:AT19)*B19 -> 1278760 | AV19: 19 | AW19: =$C$4*AV19 -> 778050 | AX19: =$D$4*12.5% -> 218863.12 | AY19: =$D$4*2.436% -> 42652.046 | AZ19: =$D$4*16% -> 280144.8 | BA19: =SUM(AW19:AZ19)*B19 -> 1319710
A20: C. E. R. EL TIGRE EL CAUNZAL | B20: 1 | C20: 5 | D20: 0 | E20: =C20+D20 -> 5 | F20: 10 | G20: =$C$4*F20 -> 409500 | H20: =($D$4*12.5%)/30*13 -> 94840.688 | I20: =($D$4*2.436%)/30*13 -> 18482.553 | J20: =($D$4*16%)/30*13 -> 121396.08 | K20: =SUM(G20:J20)*B20 -> 644219.32 | L20: 20 | M20: =$C$4*L20 -> 819000 | N20: =$D$4*12.5% -> 218863.12 | O20: =$D$4*2.436% -> 42652.046 | P20: =$D$4*16% -> 280144.8 | Q20: =SUM(M20:P20)*B20 -> 1360660 | R20: 19 | S20: =$C$4*R20 -> 778050 | T20: =$D$4*12.5% -> 218863.12 | U20: =$D$4*2.436% -> 42652.046 | V20: =$D$4*16% -> 280144.8 | W20: =SUM(S20:V20)*B20 -> 1319710 | X20: 19 | Y20: =$C$4*X20 -> 778050 | Z20: =$D$4*12.5% -> 218863.12 | AA20: =$D$4*2.436% -> 42652.046 | AB20: =$D$4*16% -> 280144.8 | AC20: =SUM(Y20:AB20)*B20 -> 1319710 | AD20: 19 | AE20: =$C$4*AD20 -> 778050 | AF20: =$D$4*12.5% -> 218863.12 | AG20: =$D$4*2.436% -> 42652.046 | AH20: =$D$4*16% -> 280144.8 | AI20: =SUM(AE20:AH20)*B20 -> 1319710 | AJ20: 9 | AK20: =$C$4*AJ20 -> 368550 | AL20: =$D$4*12.5% -> 218863.12 | AM20: =$D$4*2.436% -> 42652.046 | AN20: =$D$4*16% -> 280144.8 | AO20: =SUM(AK20:AN20)*B20 -> 910209.97 | AP20: 18 | AQ20: =$C$4*AP20 -> 737100 | AR20: =$D$4*12.5% -> 218863.12 | AS20: =$D$4*2.436% -> 42652.046 | AT20: =$D$4*16% -> 280144.8 | AU20: =SUM(AQ20:AT20)*B20 -> 1278760 | AV20: 19 | AW20: =$C$4*AV20 -> 778050 | AX20: =$D$4*12.5% -> 218863.12 | AY20: =$D$4*2.436% -> 42652.046 | AZ20: =$D$4*16% -> 280144.8 | BA20: =SUM(AW20:AZ20)*B20 -> 1319710
A21: C. E. R. EL TIGRE LA HABANA | B21: 1 | C21: 2 | D21: 0 | E21: =C21+D21 -> 2 | F21: 10 | G21: =$C$4*F21 -> 409500 | H21: =($D$4*12.5%)/30*13 -> 94840.688 | I21: =($D$4*2.436%)/30*13 -> 18482.553 | J21: =($D$4*16%)/30*13 -> 121396.08 | K21: =SUM(G21:J21)*B21 -> 644219.32 | L21: 20 | M21: =$C$4*L21 -> 819000 | N21: =$D$4*12.5% -> 218863.12 | O21: =$D$4*2.436% -> 42652.046 | P21: =$D$4*16% -> 280144.8 | Q21: =SUM(M21:P21)*B21 -> 1360660 | R21: 19 | S21: =$C$4*R21 -> 778050 | T21: =$D$4*12.5% -> 218863.12 | U21: =$D$4*2.436% -> 42652.046 | V21: =$D$4*16% -> 280144.8 | W21: =SUM(S21:V21)*B21 -> 1319710 | X21: 19 | Y21: =$C$4*X21 -> 778050 | Z21: =$D$4*12.5% -> 218863.12 | AA21: =$D$4*2.436% -> 42652.046 | AB21: =$D$4*16% -> 280144.8 | AC21: =SUM(Y21:AB21)*B21 -> 1319710 | AD21: 19 | AE21: =$C$4*AD21 -> 778050 | AF21: =$D$4*12.5% -> 218863.12 | AG21: =$D$4*2.436% -> 42652.046 | AH21: =$D$4*16% -> 280144.8 | AI21: =SUM(AE21:AH21)*B21 -> 1319710 | AJ21: 9 | AK21: =$C$4*AJ21 -> 368550 | AL21: =$D$4*12.5% -> 218863.12 | AM21: =$D$4*2.436% -> 42652.046 | AN21: =$D$4*16% -> 280144.8 | AO21: =SUM(AK21:AN21)*B21 -> 910209.97 | AP21: 18 | AQ21: =$C$4*AP21 -> 737100 | AR21: =$D$4*12.5% -> 218863.12 | AS21: =$D$4*2.436% -> 42652.046 | AT21: =$D$4*16% -> 280144.8 | AU21: =SUM(AQ21:AT21)*B21 -> 1278760 | AV21: 19 | AW21: =$C$4*AV21 -> 778050 | AX21: =$D$4*12.5% -> 218863.12 | AY21: =$D$4*2.436% -> 42652.046 | AZ21: =$D$4*16% -> 280144.8 | BA21: =SUM(AW21:AZ21)*B21 -> 1319710
A22: C. E. R. LA HONDA | B22: 1 | C22: 7 | D22: 0 | E22: =C22+D22 -> 7 | F22: 10 | G22: =$C$4*F22 -> 409500 | H22: =($D$4*12.5%)/30*13 -> 94840.688 | I22: =($D$4*2.436%)/30*13 -> 18482.553 | J22: =($D$4*16%)/30*13 -> 121396.08 | K22: =SUM(G22:J22)*B22 -> 644219.32 | L22: 20 | M22: =$C$4*L22 -> 819000 | N22: =$D$4*12.5% -> 218863.12 | O22: =$D$4*2.436% -> 42652.046 | P22: =$D$4*16% -> 280144.8 | Q22: =SUM(M22:P22)*B22 -> 1360660 | R22: 19 | S22: =$C$4*R22 -> 778050 | T22: =$D$4*12.5% -> 218863.12 | U22: =$D$4*2.436% -> 42652.046 | V22: =$D$4*16% -> 280144.8 | W22: =SUM(S22:V22)*B22 -> 1319710 | X22: 19 | Y22: =$C$4*X22 -> 778050 | Z22: =$D$4*12.5% -> 218863.12 | AA22: =$D$4*2.436% -> 42652.046 | AB22: =$D$4*16% -> 280144.8 | AC22: =SUM(Y22:AB22)*B22 -> 1319710 | AD22: 19 | AE22: =$C$4*AD22 -> 778050 | AF22: =$D$4*12.5% -> 218863.12 | AG22: =$D$4*2.436% -> 42652.046 | AH22: =$D$4*16% -> 280144.8 | AI22: =SUM(AE22:AH22)*B22 -> 1319710 | AJ22: 9 | AK22: =$C$4*AJ22 -> 368550 | AL22: =$D$4*12.5% -> 218863.12 | AM22: =$D$4*2.436% -> 42652.046 | AN22: =$D$4*16% -> 280144.8 | AO22: =SUM(AK22:AN22)*B22 -> 910209.97 | AP22: 18 | AQ22: =$C$4*AP22 -> 737100 | AR22: =$D$4*12.5% -> 218863.12 | AS22: =$D$4*2.436% -> 42652.046 | AT22: =$D$4*16% -> 280144.8 | AU22: =SUM(AQ22:AT22)*B22 -> 1278760 | AV22: 19 | AW22: =$C$4*AV22 -> 778050 | AX22: =$D$4*12.5% -> 218863.12 | AY22: =$D$4*2.436% -> 42652.046 | AZ22: =$D$4*16% -> 280144.8 | BA22: =SUM(AW22:AZ22)*B22 -> 1319710
