Workbook

Sheet RESUMEN
B1: CAMIONETA TOYOTA PRADO TX KHG990 - RUNNER | C1: CANTIDAD | D1: VALOR UNITARIO | E1: IVA | F1: VALOR TOTAL
B2: SISTEMA MOTOR
A3: 1 | B3: REPARACION GENERAL DE MOTOR AL OVERSIDE SIGUIENTE O ENCAMISADA SI SE REQUIERE | C3: 1 | D3: =F3/1.19 -> 24330307 | E3: =D3*19% -> 4622758.4 | F3: 28953066
A4: 2 | B4: ANILLADA DE MOTOR INCLUYE SIPS DE CASQUETERIA, SIPS EMPAQUETADURA DE MOTOR | C4: 1 | D4: =F4/1.19 -> 7361477.6 | E4: =D4*19% -> 1398680.8 | F4: 8760158.4
A5: 3 | B5: REPARACION DE CULATA | C5: 1 | D5: =F5/1.19 -> 2370645.3 | E5: =D5*19% -> 450422.62 | F5: 2821068
A6: 4 | B6: SIPS EMPAQUE DE CULATA | C6: 1 | D6: =F6/1.19 -> 1222753.9 | E6: =D6*19% -> 232323.24 | F6: 1455077.2
A7: 5 | B7: SIPS DE GUIAS DE VALVULAS Y VALVULAS | C7: 1 | D7: =F7/1.19 -> 1472295.5 | E7: =D7*19% -> 279736.15 | F7: 1752031.7
A8: 6 | B8: SIPS JUEGO DE IMPULSADORES HIDRAULICOS | C8: 1 | D8: =F8/1.19 -> 1996332.9 | E8: =D8*19% -> 379303.26 | F8: 2375636.2
A9: 7 | B9: SIPS JUEGO DE BALANCINES | C9: 1 | D9: =F9/1.19 -> 2470462 | E9: =D9*19% -> 469387.78 | F9: 2939849.8
A10: 8 | B10: RECTIFICACION CIGÜEÑAL INCLUYE SIPS CASQUETERIA | C10: 1 | D10: =F10/1.19 -> 1996332.9 | E10: =D10*19% -> 379303.26 | F10: 2375636.2
A11: 9 | B11: SIPS VOLANTE | C11: 1 | D11: =F11/1.19 -> 1597066.3 | E11: =D11*19% -> 303442.6 | F11: 1900508.9
A12: 10 | B12: SIPS RODAMIENTO DEL VOLANTE | C12: 1 | D12: =F12/1.19 -> 798533.17 | E12: =D12*19% -> 151721.3 | F12: 950254.47
A13: 11 | B13: SIPS CREMALLERA DEL VOLANTE | C13: 1 | D13: =F13/1.19 -> 1048052.4 | E13: =D13*19% -> 199129.96 | F13: 1247182.4
A14: 12 | B14: SIPS CORREA REPARTICION | C14: 1 | D14: =F14/1.19 -> 1048052.4 | E14: =D14*19% -> 199129.96 | F14: 1247182.4
... A33: 31 | B33: SINCRONIZACION DE MOTOR INCLUYE REPUESTOS NECESARIOS PARA UNA OPTIMA SINCRONIZACION | C33: 1 | D33: =F33/1.19 -> 524037.39 | E33: =D33*19% -> 99567.104 | F33: 623604.5
B34: SISTEMA ALIMENTACION AIRE/COMBUSTIBLE
A35: 32 | B35: CALIBRACION DE LA BOMBA DE INYECCION E INYECTORES EN BANCO DE PRUEBA | C35: 1 | D35: =F35/1.19 -> 4242207.5 | E35: =D35*19% -> 806019.42 | F35: 5048226.9
A36: 33 | B36: SIPS GUAYA DE ACELERACION | C36: 1 | D36: =F36/1.19 -> 249541.62 | E36: =D36*19% -> 47412.907 | F36: 296954.52
A37: 34 | B37: CALIBRACION DE LA BOMBA DE INYECCION | C37: 1 | D37: =F37/1.19 -> 3493582.6 | E37: =D37*19% -> 663780.7 | F37: 4157363.3
A38: 35 | B38: CALIBRACION JUEGO DE INYECTORES | C38: 1 | D38: =F38/1.19 -> 1372423 | E38: =D38*19% -> 260760.36 | F38: 1633183.3
A39: 36 | B39: LAVADA JUEGO DE INYECTORES POR ULTRASONIDO INCLUYE SIPS DE FILTROS DE INYECTORES Y ORINGS | C39: 1 | D39: =F39/1.19 -> 1048074.8 | E39: =D39*19% -> 199134.21 | F39: 1247209
A40: 37 | B40: SIPS DE UN INYECTOR INCLUYE INSTALACION | C40: 1 | D40: =F40/1.19 -> 1048074.8 | E40: =D40*19% -> 199134.21 | F40: 1247209
A41: 38 | B41: REPARACION DEL TURBO | C41: 1 | D41: =F41/1.19 -> 274495.78 | E41: =D41*19% -> 52154.198 | F41: 326649.97
A42: 39 | B42: LIMPIEZA CUERPO DE ACELERACION Y VALVULA IAC | C42: 1 | D42: =F42/1.19 -> 399266.58 | E42: =D42*19% -> 75860.651 | F42: 475127.24
A43: 40 | B43: SAMBLASTEO MULTIPLE DE ADMISION | C43: 1 | D43: =F43/1.19 -> 324370.54 | E43: =D43*19% -> 61630.403 | F43: 386000.95
A44: 41 | B44: LAVADA TANQUE DE COMBUSTIBLE | C44: 1 | D44: =F44/1.19 -> 212110.37 | E44: =D44*19% -> 40300.971 | F44: 252411.34
A45: 42 | B45: SIPS JUEGO DE FILTROS DE COMBUSTIBLE INCLUYENDO LA TRAMPA PARA LOS CASOS QUE APLIQUE | C45: 1 | D45: =F45/1.19 -> 202398.7 | E45: =D45*19% -> 38455.753 | F45: 240854.45
A46: 43 | B46: SIPS REGULADOR DE PRESION DE COMBUSTIBLE | C46: 1 | D46: =F46/1.19 -> 611376.96 | E46: =D46*19% -> 116161.62 | F46: 727538.58
... A61: 58 | B61: SIPS TUBO DE ADMISION DEL FILTRO AL CUERPO DE ACELERACION O CARBURADOR | C61: 1 | D61: =F61/1.19 -> 524037.39 | E61: =D61*19% -> 99567.104 | F61: 623604.5
B62: SISTEMA DE ESCAPE
A63: 59 | B63: REPARACION DE SILENCIADOR | C63: 1 | D63: =F63/1.19 -> 262018.7 | E63: =D63*19% -> 49783.552 | F63: 311802.25
A64: 60 | B64: REPARACION TUBO DE ESCAPE | C64: 1 | D64: =F64/1.19 -> 255780.16 | E64: =D64*19% -> 48598.23 | F64: 304378.39
A65: 61 | B65: SIPS DE SILINCIADOR | C65: 1 | D65: =F65/1.19 -> 293211.4 | E65: =D65*19% -> 55710.166 | F65: 348921.56
A66: 62 | B66: SIPS FLEXIBLE DEL ESCAPE | C66: 1 | D66: =F66/1.19 -> 274495.78 | E66: =D66*19% -> 52154.198 | F66: 326649.97
A67: 63 | B67: SIPS EMPAQUES O ANILLOS MULTIPLE DE ESCAPE | C67: 1 | D67: =F67/1.19 -> 262018.7 | E67: =D67*19% -> 49783.552 | F67: 311802.25
A68: 64 | B68: SIPS CATALIZADOR | C68: 1 | D68: =F68/1.19 -> 923303.98 | E68: =D68*19% -> 175427.76 | F68: 1098731.7
B69: SISTEMA DE LUBRICACION
A70: 65 | B70: SIPS FILTRO DE ACEITE MOTOR | C70: 1 | D70: =F70/1.19 -> 47936.534 | E70: =D70*19% -> 9107.9414 | F70: 57044.475
A71: 66 | B71: SIPS BOMBA DE ACEITE MOTOR | C71: 1 | D71: =F71/1.19 -> 1210237.7 | E71: =D71*19% -> 229945.16 | F71: 1440182.8
A72: 67 | B72: SIPS SENSOR PRESION DE ACEITE MOTOR | C72: 1 | D72: =F72/1.19 -> 262018.7 | E72: =D72*19% -> 49783.552 | F72: 311802.25
...

Sheet TOYOTA TX-RUNNER
B2: CAMIONETA TOYOTA PRADO TX KHG990 - RUNNER | C2: CANTIDAD | D2: VALOR UNITARIO | E2: IVA | F2: VALOR TOTAL
B3: SISTEMA MOTOR
A4: 1 | B4: REPARACION GENERAL DE MOTOR AL OVERSIDE SIGUIENTE O ENCAMISADA SI SE REQUIERE | C4: 1 | D4: =F4/1.19 -> 24330307 | E4: =D4*19% -> 4622758.4 | F4: 28953066
A5: 2 | B5: ANILLADA DE MOTOR INCLUYE SIPS DE CASQUETERIA, SIPS EMPAQUETADURA DE MOTOR | C5: 1 | D5: =F5/1.19 -> 7361477.6 | E5: =D5*19% -> 1398680.8 | F5: 8760158.4
A6: 3 | B6: REPARACION DE CULATA | C6: 1 | D6: =F6/1.19 -> 2370645.3 | E6: =D6*19% -> 450422.62 | F6: 2821068
A7: 4 | B7: SIPS EMPAQUE DE CULATA | C7: 1 | D7: =F7/1.19 -> 1222753.9 | E7: =D7*19% -> 232323.24 | F7: 1455077.2
A8: 5 | B8: SIPS DE GUIAS DE VALVULAS Y VALVULAS | C8: 1 | D8: =F8/1.19 -> 1472295.5 | E8: =D8*19% -> 279736.15 | F8: 1752031.7
A9: 6 | B9: SIPS JUEGO DE IMPULSADORES HIDRAULICOS | C9: 1 | D9: =F9/1.19 -> 1996332.9 | E9: =D9*19% -> 379303.26 | F9: 2375636.2
A10: 7 | B10: SIPS JUEGO DE BALANCINES | C10: 1 | D10: =F10/1.19 -> 2470462 | E10: =D10*19% -> 469387.78 | F10: 2939849.8
A11: 8 | B11: RECTIFICACION CIGÜEÑAL INCLUYE SIPS CASQUETERIA | C11: 1 | D11: =F11/1.19 -> 1996332.9 | E11: =D11*19% -> 379303.26 | F11: 2375636.2
A12: 9 | B12: SIPS VOLANTE | C12: 1 | D12: =F12/1.19 -> 1597066.3 | E12: =D12*19% -> 303442.6 | F12: 1900508.9
A13: 10 | B13: SIPS RODAMIENTO DEL VOLANTE | C13: 1 | D13: =F13/1.19 -> 798533.17 | E13: =D13*19% -> 151721.3 | F13: 950254.47
A14: 11 | B14: SIPS CREMALLERA DEL VOLANTE | C14: 1 | D14: =F14/1.19 -> 1048052.4 | E14: =D14*19% -> 199129.96 | F14: 1247182.4
A15: 12 | B15: SIPS CORREA REPARTICION | C15: 1 | D15: =F15/1.19 -> 1048052.4 | E15: =D15*19% -> 199129.96 | F15: 1247182.4
... A34: 31 | B34: SINCRONIZACION DE MOTOR INCLUYE REPUESTOS NECESARIOS PARA UNA OPTIMA SINCRONIZACION | C34: 1 | D34: =F34/1.19 -> 524037.39 | E34: =D34*19% -> 99567.104 | F34: 623604.5
B35: SISTEMA ALIMENTACION AIRE/COMBUSTIBLE
A36: 32 | B36: CALIBRACION DE LA BOMBA DE INYECCION E INYECTORES EN BANCO DE PRUEBA | C36: 1 | D36: =F36/1.19 -> 4242207.5 | E36: =D36*19% -> 806019.42 | F36: 5048226.9
A37: 33 | B37: SIPS GUAYA DE ACELERACION | C37: 1 | D37: =F37/1.19 -> 249541.62 | E37: =D37*19% -> 47412.907 | F37: 296954.52
A38: 34 | B38: CALIBRACION DE LA BOMBA DE INYECCION | C38: 1 | D38: =F38/1.19 -> 3493582.6 | E38: =D38*19% -> 663780.7 | F38: 4157363.3
A39: 35 | B39: CALIBRACION JUEGO DE INYECTORES | C39: 1 | D39: =F39/1.19 -> 1372423 | E39: =D39*19% -> 260760.36 | F39: 1633183.3
A40: 36 | B40: LAVADA JUEGO DE INYECTORES POR ULTRASONIDO INCLUYE SIPS DE FILTROS DE INYECTORES Y ORINGS | C40: 1 | D40: =F40/1.19 -> 1048074.8 | E40: =D40*19% -> 199134.21 | F40: 1247209
A41: 37 | B41: SIPS DE UN INYECTOR INCLUYE INSTALACION | C41: 1 | D41: =F41/1.19 -> 1048074.8 | E41: =D41*19% -> 199134.21 | F41: 1247209
A42: 38 | B42: REPARACION DEL TURBO | C42: 1 | D42: =F42/1.19 -> 274495.78 | E42: =D42*19% -> 52154.198 | F42: 326649.97
A43: 39 | B43: LIMPIEZA CUERPO DE ACELERACION Y VALVULA IAC | C43: 1 | D43: =F43/1.19 -> 399266.58 | E43: =D43*19% -> 75860.651 | F43: 475127.24
A44: 40 | B44: SAMBLASTEO MULTIPLE DE ADMISION | C44: 1 | D44: =F44/1.19 -> 324370.54 | E44: =D44*19% -> 61630.403 | F44: 386000.95
A45: 41 | B45: LAVADA TANQUE DE COMBUSTIBLE | C45: 1 | D45: =F45/1.19 -> 212110.37 | E45: =D45*19% -> 40300.971 | F45: 252411.34
A46: 42 | B46: SIPS JUEGO DE FILTROS DE COMBUSTIBLE INCLUYENDO LA TRAMPA PARA LOS CASOS QUE APLIQUE | C46: 1 | D46: =F46/1.19 -> 202398.7 | E46: =D46*19% -> 38455.753 | F46: 240854.45
A47: 43 | B47: SIPS REGULADOR DE PRESION DE COMBUSTIBLE | C47: 1 | D47: =F47/1.19 -> 611376.96 | E47: =D47*19% -> 116161.62 | F47: 727538.58
... A62: 58 | B62: SIPS TUBO DE ADMISION DEL FILTRO AL CUERPO DE ACELERACION O CARBURADOR | C62: 1 | D62: =F62/1.19 -> 524037.39 | E62: =D62*19% -> 99567.104 | F62: 623604.5
B63: SISTEMA DE ESCAPE
A64: 59 | B64: REPARACION DE SILENCIADOR | C64: 1 | D64: =F64/1.19 -> 262018.7 | E64: =D64*19% -> 49783.552 | F64: 311802.25
A65: 60 | B65: REPARACION TUBO DE ESCAPE | C65: 1 | D65: =F65/1.19 -> 255780.16 | E65: =D65*19% -> 48598.23 | F65: 304378.39
A66: 61 | B66: SIPS DE SILINCIADOR | C66: 1 | D66: =F66/1.19 -> 293211.4 | E66: =D66*19% -> 55710.166 | F66: 348921.56
A67: 62 | B67: SIPS FLEXIBLE DEL ESCAPE | C67: 1 | D67: =F67/1.19 -> 274495.78 | E67: =D67*19% -> 52154.198 | F67: 326649.97
A68: 63 | B68: SIPS EMPAQUES O ANILLOS MULTIPLE DE ESCAPE | C68: 1 | D68: =F68/1.19 -> 262018.7 | E68: =D68*19% -> 49783.552 | F68: 311802.25
A69: 64 | B69: SIPS CATALIZADOR | C69: 1 | D69: =F69/1.19 -> 923303.98 | E69: =D69*19% -> 175427.76 | F69: 1098731.7
B70: SISTEMA DE LUBRICACION
A71: 65 | B71: SIPS FILTRO DE ACEITE MOTOR | C71: 1 | D71: =F71/1.19 -> 47936.534 | E71: =D71*19% -> 9107.9414 | F71: 57044.475
A72: 66 | B72: SIPS BOMBA DE ACEITE MOTOR | C72: 1 | D72: =F72/1.19 -> 1210237.7 | E72: =D72*19% -> 229945.16 | F72: 1440182.8
A73: 67 | B73: SIPS SENSOR PRESION DE ACEITE MOTOR | C73: 1 | D73: =F73/1.19 -> 262018.7 | E73: =D73*19% -> 49783.552 | F73: 311802.25
...

Sheet NISSAN FRONTIER
B6: CAMIONETA NISSAN FRONTIER | C6: CANTIDAD | D6: VALOR UNITARIO | E6: IVA | F6: VALOR TOTAL
B7: SISTEMA MOTOR
A8: 1 | B8: REPARACION GENERAL DE MOTOR AL OVERSIDE SIGUIENTE O ENCAMISADA SI SE REQUIERE | C8: 1 | D8: =F8/1.19 -> 17329517 | E8: =D8*19% -> 3292608.2 | F8: 20622125
A9: 2 | B9: ANILLADA DE MOTOR INCLUYE SIPS DE CASQUETERIA, SIPS EMPAQUETADURA DE MOTOR | C9: 1 | D9: =F9/1.19 -> 5739801 | E9: =D9*19% -> 1090562.2 | F9: 6830363.2
A10: 3 | B10: REPARACION DE CULATA | C10: 1 | D10: =F10/1.19 -> 3563459.8 | E10: =D10*19% -> 677057.36 | F10: 4240517.2
A11: 4 | B11: SIPS EMPAQUE DE CULATA | C11: 1 | D11: =F11/1.19 -> 1243623.6 | E11: =D11*19% -> 236288.48 | F11: 1479912
A12: 5 | B12: SIPS DE GUIAS DE VALVULAS Y VALVULAS | C12: 1 | D12: =F12/1.19 -> 1183834 | E12: =D12*19% -> 224928.45 | F12: 1408762.4
A13: 6 | B13: SIPS JUEGO DE IMPULSADORES HIDRAULICOS | C13: 1 | D13: =F13/1.19 -> 1781729.9 | E13: =D13*19% -> 338528.68 | F13: 2120258.6
A14: 7 | B14: SIPS JUEGO DE BALANCINES | C14: 1 | D14: =F14/1.19 -> 1159918.1 | E14: =D14*19% -> 220384.44 | F14: 1380302.6
A15: 8 | B15: RECTIFICACION CIGÜEÑAL INCLUYE SIPS CASQUETERIA | C15: 1 | D15: =F15/1.19 -> 825096.4 | E15: =D15*19% -> 156768.32 | F15: 981864.71
A16: 9 | B16: SIPS VOLANTE | C16: 1 | D16: =F16/1.19 -> 1064254.8 | E16: =D16*19% -> 202208.41 | F16: 1266463.2
A17: 10 | B17: SIPS RODAMIENTO DEL VOLANTE | C17: 1 | D17: =F17/1.19 -> 526148.43 | E17: =D17*19% -> 99968.201 | F17: 626116.63
A18: 11 | B18: SIPS CREMALLERA DEL VOLANTE | C18: 1 | D18: =F18/1.19 -> 705517.21 | E18: =D18*19% -> 134048.27 | F18: 839565.48
A19: 12 | B19: SIPS CORREA REPARTICION | C19: 1 | D19: =F19/1.19 -> 1064254.8 | E19: =D19*19% -> 202208.41 | F19: 1266463.2
... A38: 31 | B38: SINCRONIZACION DE MOTOR INCLUYE REPUESTOS NECESARIOS PARA UNA OPTIMA SINCRONIZACION | C38: 1 | D38: =F38/1.19 -> 475925.17 | E38: =D38*19% -> 90425.782 | F38: 566350.95
B39: SISTEMA ALIMENTACION AIRE/COMBUSTIBLE
A40: 32 | B40: CALIBRACION DE LA BOMBA DE INYECCION E INYECTORES EN BANCO DE PRUEBA | C40: 1 | D40: =F40/1.19 -> 4982466.2 | E40: =D40*19% -> 946668.57 | F40: 5929134.8
A41: 33 | B41: SIPS GUAYA DE ACELERACION | C41: 1 | D41: =F41/1.19 -> 235571 | E41: =D41*19% -> 44758.49 | F41: 280329.49
A42: 34 | B42: CALIBRACION DE LA BOMBA DE INYECCION | C42: 1 | D42: =F42/1.19 -> 2768036.8 | E42: =D42*19% -> 525926.99 | F42: 3293963.8
A43: 35 | B43: CALIBRACION JUEGO DE INYECTORES | C43: 1 | D43: =F43/1.19 -> 2657315.3 | E43: =D43*19% -> 504889.91 | F43: 3162205.2
A44: 36 | B44: SIPS DE UN INYECTOR INCLUYE INSTALACION | C44: 1 | D44: =F44/1.19 -> 2192285.1 | E44: =D44*19% -> 416534.17 | F44: 2608819.3
A45: 37 | B45: REPARACION DEL TURBO | C45: 1 | D45: =F45/1.19 -> 2367667.9 | E45: =D45*19% -> 449856.91 | F45: 2817524.8
A46: 38 | B46: SAMBLASTEO MULTIPLE DE ADMISION | C46: 1 | D46: =F46/1.19 -> 276803.68 | E46: =D46*19% -> 52592.699 | F46: 329396.38
A47: 39 | B47: LAVADA TANQUE DE COMBUSTIBLE | C47: 1 | D47: =F47/1.19 -> 275032.13 | E47: =D47*19% -> 52256.105 | F47: 327288.24
A48: 40 | B48: SIPS JUEGO DE FILTROS DE COMBUSTIBLE INCLUYENDO LA TRAMPA PARA LOS CASOS QUE APLIQUE | C48: 1 | D48: =F48/1.19 -> 126547.9 | E48: =D48*19% -> 24044.101 | F48: 150592
A49: 41 | B49: SIPS REGULADOR DE PRESION DE COMBUSTIBLE | C49: 1 | D49: =F49/1.19 -> 417331.37 | E49: =D49*19% -> 79292.96 | F49: 496624.33
A50: 42 | B50: SIPS JUEGO DE FILTROS DE AIRE | C50: 1 | D50: =F50/1.19 -> 84359.216 | E50: =D50*19% -> 16028.251 | F50: 100387.47
A51: 43 | B51: SIPS SENSOR MAP | C51: 1 | D51: =F51/1.19 -> 380261.82 | E51: =D51*19% -> 72249.746 | F51: 452511.56
... A62: 54 | B62: SIPS TUBO DE ADMISION DEL FILTRO AL CUERPO DE ACELERACION O CARBURADOR | C62: 1 | D62: =F62/1.19 -> 472337.79 | E62: =D62*19% -> 89744.181 | F62: 562081.97
B63: SISTEMA DE ESCAPE
A64: 55 | B64: REPARACION DE SILENCIADOR | C64: 1 | D64: =F64/1.19 -> 251116.3 | E64: =D64*19% -> 47712.096 | F64: 298828.39
A65: 56 | B65: REPARACION TUBO DE ESCAPE | C65: 1 | D65: =F65/1.19 -> 251116.3 | E65: =D65*19% -> 47712.096 | F65: 298828.39
A66: 57 | B66: SIPS DE SILINCIADOR | C66: 1 | D66: =F66/1.19 -> 747369.93 | E66: =D66*19% -> 142000.29 | F66: 889370.21
A67: 58 | B67: SIPS FLEXIBLE DEL ESCAPE | C67: 1 | D67: =F67/1.19 -> 292969.01 | E67: =D67*19% -> 55664.112 | F67: 348633.12
A68: 59 | B68: SIPS EMPAQUES O ANILLOS MULTIPLE DE ESCAPE | C68: 1 | D68: =F68/1.19 -> 286990.05 | E68: =D68*19% -> 54528.11 | F68: 341518.16
B69: SISTEMA DE LUBRICACION
A70: 60 | B70: SERVICIO DE CAMBIO DE ACEITE MOTOR NO INCLUYE EL ACEITE | C70: 1 | D70: =F70/1.19 -> 17936.878 | E70: =D70*19% -> 3408.0069 | F70: 21344.885
A71: 61 | B71: SIPS FILTRO DE ACEITE MOTOR | C71: 1 | D71: =F71/1.19 -> 43138.235 | E71: =D71*19% -> 8196.2647 | F71: 51334.5
A72: 62 | B72: SIPS BOMBA DE ACEITE MOTOR | C72: 1 | D72: =F72/1.19 -> 1192204.5 | E72: =D72*19% -> 226518.86 | F72: 1418723.4
A73: 63 | B73: SIPS SENSOR PRESION DE ACEITE MOTOR | C73: 1 | D73: =F73/1.19 -> 224808.87 | E73: =D73*19% -> 42713.686 | F73: 267522.56
...

Sheet RENAULT DUSTER
B7: CAMPERO RENAULT DUSTER BVM6 4X4 2, MODELO 214 GASOLINA | C7: CANTIDAD | D7: VALOR UNITARIO | E7: IVA | F7: VALOR TOTAL
B8: SISTEMA MOTOR
A9: 1 | B9: REPARACION GENERAL DE MOTOR AL OVERSIDE SIGUIENTE O ENCAMISADA SI SE REQUIERE | C9: 1 | D9: =F9/1.19 -> 14827518 | E9: =D9*19% -> 2817228.5 | F9: 17644747
A10: 2 | B10: ANILLADA DE MOTOR INCLUYE SIPS DE CASQUETERIA, SIPS EMPAQUETADURA DE MOTOR | C10: 1 | D10: =F10/1.19 -> 4207415.9 | E10: =D10*19% -> 799409.02 | F10: 5006824.9
A11: 3 | B11: REPARACION DE CULATA | C11: 1 | D11: =F11/1.19 -> 2272004.6 | E11: =D11*19% -> 431680.87 | F11: 2703685.4
A12: 4 | B12: SIPS EMPAQUE DE CULATA | C12: 1 | D12: =F12/1.19 -> 1439379.1 | E12: =D12*19% -> 273482.03 | F12: 1712861.2
A13: 5 | B13: SIPS DE GUIAS DE VALVULAS Y VALVULAS | C13: 1 | D13: =F13/1.19 -> 466358.83 | E13: =D13*19% -> 88608.178 | F13: 554967.01
A14: 6 | B14: SIPS JUEGO DE IMPULSADORES HIDRAULICOS | C14: 1 | D14: =F14/1.19 -> 595504.36 | E14: =D14*19% -> 113145.83 | F14: 708650.19
A15: 7 | B15: SIPS JUEGO DE BALANCINES | C15: 1 | D15: =F15/1.19 -> 860970.16 | E15: =D15*19% -> 163584.33 | F15: 1024554.5
A16: 8 | B16: RECTIFICACION CIGÜEÑAL INCLUYE SIPS CASQUETERIA | C16: 1 | D16: =F16/1.19 -> 1028381 | E16: =D16*19% -> 195392.39 | F16: 1223773.4
A17: 9 | B17: SIPS VOLANTE | C17: 1 | D17: =F17/1.19 -> 884885.99 | E17: =D17*19% -> 168128.34 | F17: 1053014.3
A18: 10 | B18: SIPS RODAMIENTO DEL VOLANTE | C18: 1 | D18: =F18/1.19 -> 406569.24 | E18: =D18*19% -> 77248.156 | F18: 483817.4
A19: 11 | B19: SIPS CREMALLERA DEL VOLANTE | C19: 1 | D19: =F19/1.19 -> 562022.18 | E19: =D19*19% -> 106784.22 | F19: 668806.4
A20: 12 | B20: SIPS CORREA REPARTICION | C20: 1 | D20: =F20/1.19 -> 697545.26 | E20: =D20*19% -> 132533.6 | F20: 830078.86
... A38: 30 | B38: REVISION TECNICO MECANICA Y DE GASES | C38: 1 | D38: =F38/1.19 -> 300819.44 | E38: =D38*19% -> 57155.694 | F38: 357975.13
B39: SISTEMA ALIMENTACION AIRE/COMBUSTIBLE
A40: 31 | B40: SIPS GUAYA DE ACELERACION | C40: 1 | D40: =F40/1.19 -> 310905.89 | E40: =D40*19% -> 59072.119 | F40: 369978.01
A41: 32 | B41: LAVADA JUEGO DE INYECTORES POR ULTRASONIDO INCLUYE SIPS DE FILTROS DE INYECTORES Y ORINGS | C41: 1 | D41: =F41/1.19 -> 346779.65 | E41: =D41*19% -> 65888.133 | F41: 412667.78
A42: 33 | B42: SIPS DE UN INYECTOR INCLUYE INSTALACION | C42: 1 | D42: =F42/1.19 -> 550064.27 | E42: =D42*19% -> 104512.21 | F42: 654576.48
A43: 34 | B43: LIMPIEZA CUERPO DE ACELERACION Y VALVULA IAC | C43: 1 | D43: =F43/1.19 -> 346779.65 | E43: =D43*19% -> 65888.133 | F43: 412667.78
A44: 35 | B44: SAMBLASTEO MULTIPLE DE ADMISION | C44: 1 | D44: =F44/1.19 -> 131537.11 | E44: =D44*19% -> 24992.05 | F44: 156529.16
A45: 36 | B45: LAVADA TANQUE DE COMBUSTIBLE | C45: 1 | D45: =F45/1.19 -> 263074.21 | E45: =D45*19% -> 49984.101 | F45: 313058.31
A46: 37 | B46: SIPS JUEGO DE FILTROS DE COMBUSTIBLE INCLUYENDO LA TRAMPA PARA LOS CASOS QUE APLIQUE | C46: 1 | D46: =F46/1.19 -> 49848.627 | E46: =D46*19% -> 9471.2392 | F46: 59319.867
A47: 38 | B47: SIPS REGULADOR DE PRESION DE COMBUSTIBLE | C47: 1 | D47: =F47/1.19 -> 191326.7 | E47: =D47*19% -> 36352.073 | F47: 227678.77
A48: 39 | B48: SIPS RIEL DE INYECTORES | C48: 1 | D48: =F48/1.19 -> 693559.29 | E48: =D48*19% -> 131776.27 | F48: 825335.56
A49: 40 | B49: SIPS JUEGO DE FILTROS DE AIRE | C49: 1 | D49: =F49/1.19 -> 43138.235 | E49: =D49*19% -> 8196.2647 | F49: 51334.5
A50: 41 | B50: SIPS SENSOR MAP | C50: 1 | D50: =F50/1.19 -> 203284.62 | E50: =D50*19% -> 38624.078 | F50: 241908.7
A51: 42 | B51: SIPS SENSOR MAF | C51: 1 | D51: =F51/1.19 -> 251116.3 | E51: =D51*19% -> 47712.096 | F51: 298828.39
... A63: 54 | B63: SIPS TUBO DE ADMISION DEL FILTRO AL CUERPO DE ACELERACION O CARBURADOR | C63: 1 | D63: =F63/1.19 -> 310905.89 | E63: =D63*19% -> 59072.119 | F63: 369978.01
B64: SISTEMA DE ESCAPE
A65: 55 | B65: REPARACION DE SILENCIADOR | C65: 1 | D65: =F65/1.19 -> 243587.24 | E65: =D65*19% -> 46281.575 | F65: 289868.81
A66: 56 | B66: REPARACION TUBO DE ESCAPE | C66: 1 | D66: =F66/1.19 -> 199298.65 | E66: =D66*19% -> 37866.743 | F66: 237165.39
A67: 57 | B67: SIPS DE SILINCIADOR | C67: 1 | D67: =F67/1.19 -> 585938.02 | E67: =D67*19% -> 111328.22 | F67: 697266.25
A68: 58 | B68: SIPS FLEXIBLE DEL ESCAPE | C68: 1 | D68: =F68/1.19 -> 334821.73 | E68: =D68*19% -> 63616.128 | F68: 398437.86
A69: 59 | B69: SIPS EMPAQUES O ANILLOS MULTIPLE DE ESCAPE | C69: 1 | D69: =F69/1.19 -> 215242.54 | E69: =D69*19% -> 40896.082 | F69: 256138.62
A70: 60 | B70: SIPS CATALIZADOR | C70: 1 | D70: =F70/1.19 -> 765306.8 | E70: =D70*19% -> 145408.29 | F70: 910715.1
B71: SISTEMA DE LUBRICACION
A72: 61 | B72: SERVICIO DE CAMBIO DE ACEITE MOTOR NO INCLUYE EL ACEITE | C72: 1 | D72: =F72/1.19 -> 23915.838 | E72: =D72*19% -> 4544.0092 | F72: 28459.847
A73: 62 | B73: SIPS FILTRO DE ACEITE MOTOR | C73: 1 | D73: =F73/1.19 -> 33551.961 | E73: =D73*19% -> 6374.8725 | F73: 39926.833
A74: 63 | B74: SIPS BOMBA DE ACEITE MOTOR | C74: 1 | D74: =F74/1.19 -> 573980.1 | E74: =D74*19% -> 109056.22 | F74: 683036.32
...

Sheet RENAULT TRAFFIC
B2: RENAULT TRAFFIC MODELO 22 CC 1,6 | C2: CANTIDAD | D2: VALOR UNITARIO | E2: IVA | F2: VALOR TOTAL
B3: SISTEMA MOTOR
A4: 1 | B4: REPARACION GENERAL DE MOTOR AL OVERSIDE SIGUIENTE O ENCAMISADA SI SE REQUIERE | C4: 1 | D4: =F4/1.19 -> 18176037 | E4: =D4*19% -> 3453447 | F4: 21629484
A5: 2 | B5: ANILLADA DE MOTOR INCLUYE SIPS DE CASQUETERIA, SIPS EMPAQUETADURA DE MOTOR | C5: 1 | D5: =F5/1.19 -> 6337697 | E5: =D5*19% -> 1204162.4 | F5: 7541859.4
A6: 3 | B6: REPARACION DE CULATA | C6: 1 | D6: =F6/1.19 -> 3467796.5 | E6: =D6*19% -> 658881.33 | F6: 4126677.8
A7: 4 | B7: SIPS EMPAQUE DE CULATA | C7: 1 | D7: =F7/1.19 -> 1046317.9 | E7: =D7*19% -> 198800.4 | F7: 1245118.3
A8: 5 | B8: SIPS DE GUIAS DE VALVULAS Y VALVULAS | C8: 1 | D8: =F8/1.19 -> 1064254.8 | E8: =D8*19% -> 202208.41 | F8: 1266463.2
A9: 6 | B9: SIPS JUEGO DE IMPULSADORES HIDRAULICOS | C9: 1 | D9: =F9/1.19 -> 1185029.8 | E9: =D9*19% -> 225155.65 | F9: 1410185.4
A10: 7 | B10: SIPS JUEGO DE BALANCINES | C10: 1 | D10: =F10/1.19 -> 988919.89 | E10: =D10*19% -> 187894.78 | F10: 1176814.7
A11: 8 | B11: RECTIFICACION CIGÜEÑAL INCLUYE SIPS CASQUETERIA | C11: 1 | D11: =F11/1.19 -> 753348.89 | E11: =D11*19% -> 143136.29 | F11: 896485.17
A12: 9 | B12: SIPS VOLANTE | C12: 1 | D12: =F12/1.19 -> 978157.76 | E12: =D12*19% -> 185849.97 | F12: 1164007.7
A13: 10 | B13: SIPS RODAMIENTO DEL VOLANTE | C13: 1 | D13: =F13/1.19 -> 571588.52 | E13: =D13*19% -> 108601.82 | F13: 680190.34
A14: 11 | B14: SIPS CREMALLERA DEL VOLANTE | C14: 1 | D14: =F14/1.19 -> 585938.02 | E14: =D14*19% -> 111328.22 | F14: 697266.25
A15: 12 | B15: SIPS CORREA REPARTICION | C15: 1 | D15: =F15/1.19 -> 961416.67 | E15: =D15*19% -> 182669.17 | F15: 1144085.8
... A34: 31 | B34: SINCRONIZACION DE MOTOR INCLUYE REPUESTOS NECESARIOS PARA UNA OPTIMA SINCRONIZACION | C34: 1 | D34: =F34/1.19 -> 394611.32 | E34: =D34*19% -> 74976.151 | F34: 469587.47
B35: SISTEMA ALIMENTACION AIRE/COMBUSTIBLE
A36: 32 | B36: CALIBRACION DE LA BOMBA DE INYECCION E INYECTORES EN BANCO DE PRUEBA | C36: 1 | D36: =F36/1.19 -> 3875251.5 | E36: =D36*19% -> 736297.78 | F36: 4611549.2
A37: 33 | B37: SIPS GUAYA DE ACELERACION | C37: 1 | D37: =F37/1.19 -> 197305.66 | E37: =D37*19% -> 37488.076 | F37: 234793.74
A38: 34 | B38: CALIBRACION DE LA BOMBA DE INYECCION | C38: 1 | D38: =F38/1.19 -> 2546593.8 | E38: =D38*19% -> 483852.83 | F38: 3030446.6
A39: 35 | B39: CALIBRACION JUEGO DE INYECTORES | C39: 1 | D39: =F39/1.19 -> 2657315.3 | E39: =D39*19% -> 504889.91 | F39: 3162205.2
A40: 36 | B40: SIPS DE UN INYECTOR INCLUYE INSTALACION | C40: 1 | D40: =F40/1.19 -> 2325150.9 | E40: =D40*19% -> 441778.67 | F40: 2766929.6
A41: 37 | B41: REPARACION DEL TURBO | C41: 1 | D41: =F41/1.19 -> 2768036.8 | E41: =D41*19% -> 525926.99 | F41: 3293963.8
A42: 38 | B42: SAMBLASTEO MULTIPLE DE ADMISION | C42: 1 | D42: =F42/1.19 -> 387525.15 | E42: =D42*19% -> 73629.778 | F42: 461154.92
A43: 39 | B43: LAVADA TANQUE DE COMBUSTIBLE | C43: 1 | D43: =F43/1.19 -> 286990.05 | E43: =D43*19% -> 54528.11 | F43: 341518.16
A44: 40 | B44: SIPS JUEGO DE FILTROS DE COMBUSTIBLE INCLUYENDO LA TRAMPA PARA LOS CASOS QUE APLIQUE | C44: 1 | D44: =F44/1.19 -> 314429.8 | E44: =D44*19% -> 59741.663 | F44: 374171.47
A45: 41 | B45: SIPS REGULADOR DE PRESION DE COMBUSTIBLE | C45: 1 | D45: =F45/1.19 -> 480708.34 | E45: =D45*19% -> 91334.584 | F45: 572042.92
A46: 42 | B46: SIPS JUEGO DE FILTROS DE AIRE | C46: 1 | D46: =F46/1.19 -> 201311.76 | E46: =D46*19% -> 38249.235 | F46: 239561
A47: 43 | B47: SIPS SENSOR MAP | C47: 1 | D47: =F47/1.19 -> 454400.92 | E47: =D47*19% -> 86336.174 | F47: 540737.09
... A58: 54 | B58: SIPS TUBO DE ADMISION DEL FILTRO AL CUERPO DE ACELERACION O CARBURADOR | C58: 1 | D58: =F58/1.19 -> 370695.48 | E58: =D58*19% -> 70432.142 | F58: 441127.63
B59: SISTEMA DE ESCAPE
A60: 55 | B60: REPARACION DE SILENCIADOR | C60: 1 | D60: =F60/1.19 -> 286990.05 | E60: =D60*19% -> 54528.11 | F60: 341518.16
A61: 56 | B61: REPARACION TUBO DE ESCAPE | C61: 1 | D61: =F61/1.19 -> 203284.62 | E61: =D61*19% -> 38624.078 | F61: 241908.7
A62: 57 | B62: SIPS DE SILINCIADOR | C62: 1 | D62: =F62/1.19 -> 562022.18 | E62: =D62*19% -> 106784.22 | F62: 668806.4
A63: 58 | B63: SIPS FLEXIBLE DEL ESCAPE | C63: 1 | D63: =F63/1.19 -> 227200.46 | E63: =D63*19% -> 43168.087 | F63: 270368.54
A64: 59 | B64: SIPS EMPAQUES O ANILLOS MULTIPLE DE ESCAPE | C64: 1 | D64: =F64/1.19 -> 221221.5 | E64: =D64*19% -> 42032.085 | F64: 263253.58
B65: SISTEMA DE LUBRICACION
A66: 60 | B66: SERVICIO DE CAMBIO DE ACEITE MOTOR NO INCLUYE EL ACEITE | C66: 1 | D66: =F66/1.19 -> 33216.441 | E66: =D66*19% -> 6311.1238 | F66: 39527.565
A67: 61 | B67: SIPS FILTRO DE ACEITE MOTOR | C67: 1 | D67: =F67/1.19 -> 76690.196 | E67: =D67*19% -> 14571.137 | F67: 91261.333
A68: 62 | B68: SIPS BOMBA DE ACEITE MOTOR | C68: 1 | D68: =F68/1.19 -> 771285.76 | E68: =D68*19% -> 146544.3 | F68: 917830.06
A69: 63 | B69: SIPS SENSOR PRESION DE ACEITE MOTOR | C69: 1 | D69: =F69/1.19 -> 131537.11 | E69: =D69*19% -> 24992.05 | F69: 156529.16
...

Sheet RENAULT LOGAN
B2: AUTOMOVIL RENAULT LOGAN MODELO 2018 | C2: CANTIDAD | D2: VALOR UNITARIO | E2: IVA | F2: VALOR TOTAL
B3: SISTEMA MOTOR
A4: 1 | B4: REPARACION GENERAL DE MOTOR AL OVERSIDE SIGUIENTE O ENCAMISADA SI SE REQUIERE | C4: 1 | D4: =F4/1.19 -> 9528203.7 | E4: =D4*19% -> 1810358.7 | F4: 11338562
A5: 2 | B5: ANILLADA DE MOTOR INCLUYE SIPS DE CASQUETERIA, SIPS EMPAQUETADURA DE MOTOR | C5: 1 | D5: =F5/1.19 -> 3826534 | E5: =D5*19% -> 727041.46 | F5: 4553575.5
A6: 3 | B6: REPARACION DE CULATA | C6: 1 | D6: =F6/1.19 -> 2152425.4 | E6: =D6*19% -> 408960.82 | F6: 2561386.2
A7: 4 | B7: SIPS EMPAQUE DE CULATA | C7: 1 | D7: =F7/1.19 -> 1016423.1 | E7: =D7*19% -> 193120.39 | F7: 1209543.5
A8: 5 | B8: SIPS DE GUIAS DE VALVULAS Y VALVULAS | C8: 1 | D8: =F8/1.19 -> 753348.89 | E8: =D8*19% -> 143136.29 | F8: 896485.17
A9: 6 | B9: SIPS JUEGO DE IMPULSADORES HIDRAULICOS | C9: 1 | D9: =F9/1.19 -> 837054.32 | E9: =D9*19% -> 159040.32 | F9: 996094.64
A10: 7 | B10: SIPS JUEGO DE BALANCINES | C10: 1 | D10: =F10/1.19 -> 585938.02 | E10: =D10*19% -> 111328.22 | F10: 697266.25
A11: 8 | B11: RECTIFICACION CIGÜEÑAL INCLUYE SIPS CASQUETERIA | C11: 1 | D11: =F11/1.19 -> 1064254.8 | E11: =D11*19% -> 202208.41 | F11: 1266463.2
A12: 9 | B12: SIPS VOLANTE | C12: 1 | D12: =F12/1.19 -> 777264.72 | E12: =D12*19% -> 147680.3 | F12: 924945.02
A13: 10 | B13: SIPS RODAMIENTO DEL VOLANTE | C13: 1 | D13: =F13/1.19 -> 292969.01 | E13: =D13*19% -> 55664.112 | F13: 348633.12
A14: 11 | B14: SIPS CREMALLERA DEL VOLANTE | C14: 1 | D14: =F14/1.19 -> 418527.16 | E14: =D14*19% -> 79520.16 | F14: 498047.32
A15: 12 | B15: SIPS CORREA REPARTICION | C15: 1 | D15: =F15/1.19 -> 896843.91 | E15: =D15*19% -> 170400.34 | F15: 1067244.3
... A33: 30 | B33: SINCRONIZACION DE MOTOR INCLUYE REPUESTOS NECESARIOS PARA UNA OPTIMA SINCRONIZACION | C33: 1 | D33: =F33/1.19 -> 394611.32 | E33: =D33*19% -> 74976.151 | F33: 469587.47
B34: SISTEMA ALIMENTACION AIRE/COMBUSTIBLE
A35: 31 | B35: SIPS GUAYA DE ACELERACION | C35: 1 | D35: =F35/1.19 -> 227200.46 | E35: =D35*19% -> 43168.087 | F35: 270368.54
A36: 32 | B36: LAVADA JUEGO DE INYECTORES POR ULTRASONIDO INCLUYE SIPS DE FILTROS DE INYECTORES Y ORINGS | C36: 1 | D36: =F36/1.19 -> 478316.75 | E36: =D36*19% -> 90880.183 | F36: 569196.94
A37: 33 | B37: SIPS DE UN INYECTOR INCLUYE INSTALACION | C37: 1 | D37: =F37/1.19 -> 376674.44 | E37: =D37*19% -> 71568.144 | F37: 448242.59
A38: 34 | B38: LIMPIEZA CUERPO DE ACELERACION Y VALVULA IAC | C38: 1 | D38: =F38/1.19 -> 298947.97 | E38: =D38*19% -> 56800.114 | F38: 355748.08
A39: 35 | B39: SAMBLASTEO MULTIPLE DE ADMISION | C39: 1 | D39: =F39/1.19 -> 370695.48 | E39: =D39*19% -> 70432.142 | F39: 441127.63
A40: 36 | B40: LAVADA TANQUE DE COMBUSTIBLE | C40: 1 | D40: =F40/1.19 -> 466358.83 | E40: =D40*19% -> 88608.178 | F40: 554967.01
A41: 37 | B41: SIPS JUEGO DE FILTROS DE COMBUSTIBLE INCLUYENDO LA TRAMPA PARA LOS CASOS QUE APLIQUE | C41: 1 | D41: =F41/1.19 -> 43138.235 | E41: =D41*19% -> 8196.2647 | F41: 51334.5
A42: 38 | B42: SIPS REGULADOR DE PRESION DE COMBUSTIBLE | C42: 1 | D42: =F42/1.19 -> 263074.21 | E42: =D42*19% -> 49984.101 | F42: 313058.31
A43: 39 | B43: SIPS RIEL DE INYECTORES | C43: 1 | D43: =F43/1.19 -> 538106.35 | E43: =D43*19% -> 102240.21 | F43: 640346.55
A44: 40 | B44: SIPS JUEGO DE FILTROS DE AIRE | C44: 1 | D44: =F44/1.19 -> 43138.235 | E44: =D44*19% -> 8196.2647 | F44: 51334.5
A45: 41 | B45: SIPS SENSOR MAP | C45: 1 | D45: =F45/1.19 -> 215242.54 | E45: =D45*19% -> 40896.082 | F45: 256138.62
A46: 42 | B46: SIPS SENSOR MAF | C46: 1 | D46: =F46/1.19 -> 410156.62 | E46: =D46*19% -> 77929.757 | F46: 488086.37
... A58: 54 | B58: SIPS TUBO DE ADMISION DEL FILTRO AL CUERPO DE ACELERACION O CARBURADOR | C58: 1 | D58: =F58/1.19 -> 227200.46 | E58: =D58*19% -> 43168.087 | F58: 270368.54
B59: SISTEMA DE ESCAPE
A60: 55 | B60: REPARACION DE SILENCIADOR | C60: 1 | D60: =F60/1.19 -> 310905.89 | E60: =D60*19% -> 59072.119 | F60: 369978.01
A61: 56 | B61: REPARACION TUBO DE ESCAPE | C61: 1 | D61: =F61/1.19 -> 286990.05 | E61: =D61*19% -> 54528.11 | F61: 341518.16
A62: 57 | B62: SIPS DE SILINCIADOR | C62: 1 | D62: =F62/1.19 -> 693559.29 | E62: =D62*19% -> 131776.27 | F62: 825335.56
A63: 58 | B63: SIPS FLEXIBLE DEL ESCAPE | C63: 1 | D63: =F63/1.19 -> 263074.21 | E63: =D63*19% -> 49984.101 | F63: 313058.31
A64: 59 | B64: SIPS EMPAQUES O ANILLOS MULTIPLE DE ESCAPE | C64: 1 | D64: =F64/1.19 -> 215242.54 | E64: =D64*19% -> 40896.082 | F64: 256138.62
A65: 60 | B65: SIPS CATALIZADOR | C65: 1 | D65: =F65/1.19 -> 705517.21 | E65: =D65*19% -> 134048.27 | F65: 839565.48
B66: SISTEMA DE LUBRICACION
A67: 61 | B67: SERVICIO DE CAMBIO DE ACEITE MOTOR NO INCLUYE EL ACEITE | C67: 1 | D67: =F67/1.19 -> 17936.878 | E67: =D67*19% -> 3408.0069 | F67: 21344.885
A68: 62 | B68: SIPS FILTRO DE ACEITE MOTOR | C68: 1 | D68: =F68/1.19 -> 32593.333 | E68: =D68*19% -> 6192.7333 | F68: 38786.067
A69: 63 | B69: SIPS BOMBA DE ACEITE MOTOR | C69: 1 | D69: =F69/1.19 -> 753348.89 | E69: =D69*19% -> 143136.29 | F69: 896485.17
...

Sheet CHEVROLET
B2: CAMIONETA CHEVROLET DMAX - COLORADO | C2: CANTIDAD | D2: VALOR UNITARIO | E2: IVA | F2: VALOR TOTAL
B3: SISTEMA MOTOR
A4: 1 | B4: REPARACION GENERAL DE MOTOR AL OVERSIDE SIGUIENTE O ENCAMISADA SI SE REQUIERE | C4: 1 | D4: =F4/1.19 -> 13256303 | E4: =D4*19% -> 2518697.5 | F4: 15775000
A5: 2 | B5: ANILLADA DE MOTOR INCLUYE SIPS DE CASQUETERIA, SIPS EMPAQUETADURA DE MOTOR | C5: 1 | D5: =F5/1.19 -> 5291491.8 | E5: =D5*19% -> 1005383.4 | F5: 6296875.2
A6: 3 | B6: REPARACION DE CULATA | C6: 1 | D6: =F6/1.19 -> 3285134.5 | E6: =D6*19% -> 624175.55 | F6: 3909310
A7: 4 | B7: SIPS EMPAQUE DE CULATA | C7: 1 | D7: =F7/1.19 -> 1146489.9 | E7: =D7*19% -> 217833.08 | F7: 1364323
A8: 5 | B8: SIPS DE GUIAS DE VALVULAS Y VALVULAS | C8: 1 | D8: =F8/1.19 -> 1091370.2 | E8: =D8*19% -> 207360.33 | F8: 1298730.5
A9: 6 | B9: SIPS JUEGO DE IMPULSADORES HIDRAULICOS | C9: 1 | D9: =F9/1.19 -> 1642567.2 | E9: =D9*19% -> 312087.77 | F9: 1954655
A10: 7 | B10: SIPS JUEGO DE BALANCINES | C10: 1 | D10: =F10/1.19 -> 1069322.3 | E10: =D10*19% -> 203171.24 | F10: 1272493.5
A11: 8 | B11: RECTIFICACION CIGÜEÑAL INCLUYE SIPS CASQUETERIA | C11: 1 | D11: =F11/1.19 -> 760651.94 | E11: =D11*19% -> 144523.87 | F11: 905175.81
A12: 9 | B12: SIPS VOLANTE | C12: 1 | D12: =F12/1.19 -> 981130.76 | E12: =D12*19% -> 186414.85 | F12: 1167545.6
A13: 10 | B13: SIPS RODAMIENTO DEL VOLANTE | C13: 1 | D13: =F13/1.19 -> 485053.41 | E13: =D13*19% -> 92160.148 | F13: 577213.56
A14: 11 | B14: SIPS CREMALLERA DEL VOLANTE | C14: 1 | D14: =F14/1.19 -> 650412.53 | E14: =D14*19% -> 123578.38 | F14: 773990.91
A15: 12 | B15: SIPS CORREA REPARTICION | C15: 1 | D15: =F15/1.19 -> 981130.76 | E15: =D15*19% -> 186414.85 | F15: 1167545.6
... A34: 31 | B34: SINCRONIZACION DE MOTOR INCLUYE REPUESTOS NECESARIOS PARA UNA OPTIMA SINCRONIZACION | C34: 1 | D34: =F34/1.19 -> 438752.86 | E34: =D34*19% -> 83363.043 | F34: 522115.9
B35: SISTEMA ALIMENTACION AIRE/COMBUSTIBLE
A36: 32 | B36: CALIBRACION DE LA BOMBA DE INYECCION E INYECTORES EN BANCO DE PRUEBA | C36: 1 | D36: =F36/1.19 -> 4593308.8 | E36: =D36*19% -> 872728.68 | F36: 5466037.5
A37: 33 | B37: SIPS GUAYA DE ACELERACION | C37: 1 | D37: =F37/1.19 -> 217171.64 | E37: =D37*19% -> 41262.612 | F37: 258434.25
A38: 34 | B38: CALIBRACION DE LA BOMBA DE INYECCION | C38: 1 | D38: =F38/1.19 -> 2551838.2 | E38: =D38*19% -> 484849.26 | F38: 3036687.5
A39: 35 | B39: CALIBRACION JUEGO DE INYECTORES | C39: 1 | D39: =F39/1.19 -> 2449764.7 | E39: =D39*19% -> 465455.29 | F39: 2915220
A40: 36 | B40: SIPS DE UN INYECTOR INCLUYE INSTALACION | C40: 1 | D40: =F40/1.19 -> 2021055.9 | E40: =D40*19% -> 384000.62 | F40: 2405056.5
A41: 37 | B41: REPARACION DEL TURBO | C41: 1 | D41: =F41/1.19 -> 2182740.4 | E41: =D41*19% -> 414720.67 | F41: 2597461
A42: 38 | B42: SAMBLASTEO MULTIPLE DE ADMISION | C42: 1 | D42: =F42/1.19 -> 255183.82 | E42: =D42*19% -> 48484.926 | F42: 303668.75
A43: 39 | B43: LAVADA TANQUE DE COMBUSTIBLE | C43: 1 | D43: =F43/1.19 -> 253550.65 | E43: =D43*19% -> 48174.623 | F43: 301725.27
A44: 40 | B44: SIPS JUEGO DE FILTROS DE COMBUSTIBLE INCLUYENDO LA TRAMPA PARA LOS CASOS QUE APLIQUE | C44: 1 | D44: =F44/1.19 -> 123725.49 | E44: =D44*19% -> 23507.843 | F44: 147233.33
A45: 41 | B45: SIPS REGULADOR DE PRESION DE COMBUSTIBLE | C45: 1 | D45: =F45/1.19 -> 384735.55 | E45: =D45*19% -> 73099.754 | F45: 457835.3
A46: 42 | B46: SIPS JUEGO DE FILTROS DE AIRE | C46: 1 | D46: =F46/1.19 -> 77770.308 | E46: =D46*19% -> 14776.359 | F46: 92546.667
A47: 43 | B47: SIPS SENSOR MAP | C47: 1 | D47: =F47/1.19 -> 350561.33 | E47: =D47*19% -> 66606.653 | F47: 417167.98
... A58: 54 | B58: SIPS TUBO DE ADMISION DEL FILTRO AL CUERPO DE ACELERACION O CARBURADOR | C58: 1 | D58: =F58/1.19 -> 435445.68 | E58: =D58*19% -> 82734.679 | F58: 518180.35
B59: SISTEMA DE ESCAPE
A60: 55 | B60: REPARACION DE SILENCIADOR | C60: 1 | D60: =F60/1.19 -> 231502.76 | E60: =D60*19% -> 43985.525 | F60: 275488.29
A61: 56 | B61: REPARACION TUBO DE ESCAPE | C61: 1 | D61: =F61/1.19 -> 231502.76 | E61: =D61*19% -> 43985.525 | F61: 275488.29
A62: 57 | B62: SIPS DE SILINCIADOR | C62: 1 | D62: =F62/1.19 -> 688996.32 | E62: =D62*19% -> 130909.3 | F62: 819905.62
A63: 58 | B63: SIPS FLEXIBLE DEL ESCAPE | C63: 1 | D63: =F63/1.19 -> 270086.56 | E63: =D63*19% -> 51316.446 | F63: 321403.01
A64: 59 | B64: SIPS EMPAQUES O ANILLOS MULTIPLE DE ESCAPE | C64: 1 | D64: =F64/1.19 -> 264574.59 | E64: =D64*19% -> 50269.172 | F64: 314843.76
B65: SISTEMA DE LUBRICACION
A66: 60 | B66: SERVICIO DE CAMBIO DE ACEITE MOTOR NO INCLUYE EL ACEITE | C66: 1 | D66: =F66/1.19 -> 16535.912 | E66: =D66*19% -> 3141.8232 | F66: 19677.735
A67: 61 | B67: SIPS FILTRO DE ACEITE MOTOR | C67: 1 | D67: =F67/1.19 -> 39768.908 | E67: =D67*19% -> 7556.0924 | F67: 47325
A68: 62 | B68: SIPS BOMBA DE ACEITE MOTOR | C68: 1 | D68: =F68/1.19 -> 1099086.9 | E68: =D68*19% -> 208826.52 | F68: 1307913.5
A69: 63 | B69: SIPS SENSOR PRESION DE ACEITE MOTOR | C69: 1 | D69: =F69/1.19 -> 207250.09 | E69: =D69*19% -> 39377.518 | F69: 246627.61
...

Sheet AMAROK
B5: CAMIONETA VOLSWAGUEN AMAROK | C5: CANTIDAD | D5: VALOR UNITARIO | E5: IVA | F5: VALOR TOTAL
A6: 1 | B6: SIPS JUEGO DE FILTROS DE COMBUSTIBLE INCLUYENDO LA TRAMPA PARA LOS CASOS QUE APLIQUE | C6: 1 | D6: =F6/1.19 -> 162610.64 | E6: =D6*19% -> 30896.022 | F6: 193506.67
A7: 2 | B7: SIPS JUEGO DE FILTROS DE AIRE | C7: 1 | D7: =F7/1.19 -> 86607.843 | E7: =D7*19% -> 16455.49 | F7: 103063.33
A8: 3 | B8: SERVICIO DE CAMBIO DE ACEITE MOTOR NO INCLUYE EL ACEITE | C8: 1 | D8: =F8/1.19 -> 17675.07 | E8: =D8*19% -> 3358.2633 | F8: 21033.333
A9: 4 | B9: SIPS FILTRO DE ACEITE MOTOR | C9: 1 | D9: =F9/1.19 -> 42420.168 | E9: =D9*19% -> 8059.8319 | F9: 50480
A10: 5 | B10: SERVICIO DE ENGRASE GENERAL | C10: 1 | D10: =F10/1.19 -> 22093.838 | E10: =D10*19% -> 4197.8291 | F10: 26291.667
A11: 6 | B11: ALINEACION | C11: 1 | D11: =F11/1.19 -> 79537.815 | E11: =D11*19% -> 15112.185 | F11: 94650
A12: 7 | B12: BALANCEO | C12: 1 | D12: =F12/1.19 -> 51257.703 | E12: =D12*19% -> 9738.9636 | F12: 60996.667
A13: 8 | B13: SIPS DE BANDAS DE DOS RUEDAS | C13: 1 | D13: =F13/1.19 -> 371176.47 | E13: =D13*19% -> 70523.529 | F13: 441700
A14: 9 | B14: SIPS PASTILLAS DE FRENOS DELANTERAS DE DOS RUEDAS | C14: 1 | D14: =F14/1.19 -> 282801.12 | E14: =D14*19% -> 53732.213 | F14: 336533.33
A15: 10 | B15: SERVICIO DE REVISION Y LIMPIEZA GENERAL DE FRENOS DELANTERO Y TRASEROS NO INCLUYE REPUESTOS | C15: 1 | D15: =F15/1.19 -> 150238.1 | E15: =D15*19% -> 28545.238 | F15: 178783.33
A16: 11 | B16: SIPS DE LLANTA DE ACUERDO REFERENCIA DEL FABRICANTE | C16: 1 | D16: =F16/1.19 -> 866078.43 | E16: =D16*19% -> 164554.9 | F16: 1030633.3
A17: 12 | B17: SIPS DE VALVULA SELLOMATICA | C17: 1 | D17: =F17/1.19 -> 12372.549 | E17: =D17*19% -> 2350.7843 | F17: 14723.333
... A22: 17 | B22: BATERIA ELECTRICA | C22: 1 | D22: =F22/1.19 -> 636302.52 | E22: =D22*19% -> 120897.48 | F22: 757200
F23: =SUM(F6:F22) -> 3672420

Sheet FORD
B6: CAMIONETA FORD RANGER | C6: CANTIDAD | D6: VALOR UNITARIO | E6: IVA | F6: VALOR TOTAL
A7: 1 | B7: SIPS JUEGO DE FILTROS DE COMBUSTIBLE INCLUYENDO LA TRAMPA PARA LOS CASOS QUE APLIQUE | C7: 1 | D7: =F7/1.19 -> 130795.52 | E7: =D7*19% -> 24851.148 | F7: 155646.67
A8: 2 | B8: SIPS JUEGO DE FILTROS DE AIRE | C8: 1 | D8: =F8/1.19 -> 86607.843 | E8: =D8*19% -> 16455.49 | F8: 103063.33
A9: 3 | B9: SERVICIO DE CAMBIO DE ACEITE MOTOR NO INCLUYE EL ACEITE | C9: 1 | D9: =F9/1.19 -> 17675.07 | E9: =D9*19% -> 3358.2633 | F9: 21033.333
A10: 4 | B10: SIPS FILTRO DE ACEITE MOTOR | C10: 1 | D10: =F10/1.19 -> 42420.168 | E10: =D10*19% -> 8059.8319 | F10: 50480
A11: 5 | B11: SERVICIO DE ENGRASE GENERAL | C11: 1 | D11: =F11/1.19 -> 22093.838 | E11: =D11*19% -> 4197.8291 | F11: 26291.667
A12: 6 | B12: ALINEACION | C12: 1 | D12: =F12/1.19 -> 79537.815 | E12: =D12*19% -> 15112.185 | F12: 94650
A13: 7 | B13: BALANCEO | C13: 1 | D13: =F13/1.19 -> 51257.703 | E13: =D13*19% -> 9738.9636 | F13: 60996.667
A14: 8 | B14: SIPS DE BANDAS DE DOS RUEDAS | C14: 1 | D14: =F14/1.19 -> 388851.54 | E14: =D14*19% -> 73881.793 | F14: 462733.33
A15: 9 | B15: SIPS DE DISCO DE UNA RUEDA | C15: 1 | D15: =F15/1.19 -> 424201.68 | E15: =D15*19% -> 80598.319 | F15: 504800
A16: 10 | B16: SIPS PASTILLAS DE FRENOS DELANTERAS DE DOS RUEDAS | C16: 1 | D16: =F16/1.19 -> 282801.12 | E16: =D16*19% -> 53732.213 | F16: 336533.33
A17: 11 | B17: SERVICIO DE REVISION Y LIMPIEZA GENERAL DE FRENOS DELANTERO Y TRASEROS NO INCLUYE REPUESTOS | C17: 1 | D17: =F17/1.19 -> 150238.1 | E17: =D17*19% -> 28545.238 | F17: 178783.33
A18: 12 | B18: SIPS DE LLANTA DE ACUERDO REFERENCIA DEL FABRICANTE | C18: 1 | D18: =F18/1.19 -> 866078.43 | E18: =D18*19% -> 164554.9 | F18: 1030633.3
... A23: 17 | B23: BATERIA ELECTRICA | C23: 1 | D23: =F23/1.19 -> 600952.38 | E23: =D23*19% -> 114180.95 | F23: 715133.33
F24: =SUM(F7:F23) -> 4093086.7

Sheet HONDA XRE
B4: HONDA XRE 190 - 300 | C4: CANTIDAD | D4: VALOR UNITARIO | E4: IVA | F4: VALOR TOTAL
B5: SISTEMA MOTOR
A6: 1 | B6: REPARACION GENERAL DE MOTOR AL OVERSIDE SIGUIENTE O ENCAMISADA SI SE REQUIERE | C6: 1 | D6: =F6/1.19 -> 7261909.4 | E6: =D6*19% -> 1379762.8 | F6: 8641672.2
A7: 2 | B7: SIPS EMPAQUE DE CULATA | C7: 1 | D7: =F7/1.19 -> 338508.63 | E7: =D7*19% -> 64316.639 | F7: 402825.26
A8: 3 | B8: CALIBRACION DE VALVULAS | C8: 1 | D8: =F8/1.19 -> 110733.39 | E8: =D8*19% -> 21039.345 | F8: 131772.74
A9: 4 | B9: SIPS CADENA REPARTICION | C9: 1 | D9: =F9/1.19 -> 559841.19 | E9: =D9*19% -> 106369.83 | F9: 666211.01
A10: 5 | B10: SIPS EMPAQUE TAPA VALVULAS | C10: 1 | D10: =F10/1.19 -> 117176.06 | E10: =D10*19% -> 22263.452 | F10: 139439.51
A11: 6 | B11: SIPS TAPON DE CARTER | C11: 1 | D11: =F11/1.19 -> 71585.224 | E11: =D11*19% -> 13601.192 | F11: 85186.416
A12: 7 | B12: REVISION TECNICOMECANICA Y DE GASES | C12: 1 | D12: =F12/1.19 -> 215161.18 | E12: =D12*19% -> 40880.624 | F12: 256041.8
A13: 8 | B13: SCANEO | C13: 1 | D13: =F13/1.19 -> 78117.375 | E13: =D13*19% -> 14842.301 | F13: 92959.676
A14: 9 | B14: SIPS JUEGO DE ANILLOS DE MOTOR | C14: 1 | D14: =F14/1.19 -> 833252 | E14: =D14*19% -> 158317.88 | F14: 991569.88
A15: 10 | B15: SIPS EJE DE LEVAS | C15: 1 | D15: =F15/1.19 -> 1275917.1 | E15: =D15*19% -> 242424.25 | F15: 1518341.4
A16: 11 | B16: SINCRONIZACION DE MOTOR INCLUYE REPUESTOS NECESARIOS PARA UNA OPTIMA SINCRONIZACION | C16: 1 | D16: =F16/1.19 -> 364547.75 | E16: =D16*19% -> 69264.073 | F16: 433811.82
B17: SISTEMA ALIMENTACION AIRE/COMBUSTIBLE
A18: 12 | B18: LAVADA DE INYECTORES POR ULTRASONIDO INCLUYE SIPS DE FILTROS DE INYECTORES Y ORINGS | C18: 1 | D18: =F18/1.19 -> 286340.89 | E18: =D18*19% -> 54404.77 | F18: 340745.66
A19: 13 | B19: LIMPIEZA CUERPO DE ACELERACION | C19: 1 | D19: =F19/1.19 -> 182318.62 | E19: =D19*19% -> 34640.537 | F19: 216959.15
A20: 14 | B20: SIPS DE GUAYA DE ACELERADOR HOMOLOGADA DE ALTA CALIDAD | C20: 1 | D20: =F20/1.19 -> 182318.62 | E20: =D20*19% -> 34640.537 | F20: 216959.15
A21: 15 | B21: SIPS DE GUAYA DE ACELERADOR ORIGINAL | C21: 1 | D21: =F21/1.19 -> 325489.06 | E21: =D21*19% -> 61842.922 | F21: 387331.99
A22: 16 | B22: LAVADA TANQUE DE COMBUSTIBLE | C22: 1 | D22: =F22/1.19 -> 156234.75 | E22: =D22*19% -> 29684.603 | F22: 185919.35
A23: 17 | B23: SIPS REGULADOR DE PRESION DE COMBUSTIBLE | C23: 1 | D23: =F23/1.19 -> 937319.02 | E23: =D23*19% -> 178090.61 | F23: 1115409.6
A24: 18 | B24: SIPS INYECTOR | C24: 1 | D24: =F24/1.19 -> 846271.56 | E24: =D24*19% -> 160791.6 | F24: 1007063.2
A25: 19 | B25: SIPS FILTROS DE AIRE | C25: 1 | D25: =F25/1.19 -> 79894.223 | E25: =D25*19% -> 15179.902 | F25: 95074.125
A26: 20 | B26: SIPS BOMBA DE COMBUSTIBLE COMPLETA | C26: 1 | D26: =F26/1.19 -> 1497249.7 | E26: =D26*19% -> 284477.44 | F26: 1781727.1
A27: 21 | B27: SIPS FLOTADOR Y MECANISMOS DE INDICACION DE NIVEL DE COMBUSTIBLE | C27: 1 | D27: =F27/1.19 -> 585880.31 | E27: =D27*19% -> 111317.26 | F27: 697197.57
A28: 22 | B28: SIPS DE UNA MANGUERA DE COMBUSTIBLE | C28: 1 | D28: =F28/1.19 -> 45568.469 | E28: =D28*19% -> 8658.0091 | F28: 54226.478
A29: 23 | B29: SIPS DE TODAS LAS MANGUERAS DE COMBUSTIBLE | C29: 1 | D29: =F29/1.19 -> 234352.13 | E29: =D29*19% -> 44526.904 | F29: 278879.03
... A32: 26 | B32: SIPS DE UNA MANGUERA DE VACIO | C32: 1 | D32: =F32/1.19 -> 45568.469 | E32: =D32*19% -> 8658.0091 | F32: 54226.478
B33: SISTEMA DE ESCAPE
A34: 27 | B34: ARREGLO DE SILENCIADOR | C34: 1 | D34: =F34/1.19 -> 338508.63 | E34: =D34*19% -> 64316.639 | F34: 402825.26
A35: 28 | B35: ARREGLO TUBO DE ESCAPE | C35: 1 | D35: =F35/1.19 -> 312469.5 | E35: =D35*19% -> 59369.205 | F35: 371838.71
A36: 29 | B36: SIPS EMPAQUES O ANILLOS MULTIPLE DE ESCAPE | C36: 1 | D36: =F36/1.19 -> 117176.06 | E36: =D36*19% -> 22263.452 | F36: 139439.51
A37: 30 | B37: SIPS ESCAPE COMPLETO | C37: 1 | D37: =F37/1.19 -> 2083130 | E37: =D37*19% -> 395794.7 | F37: 2478924.7
B38: SISTEMA DE LUBRICACION
A39: 31 | B39: SIPS DE LA BOMBA DE ACEITE | C39: 1 | D39: =F39/1.19 -> 976467.19 | E39: =D39*19% -> 185528.77 | F39: 1161996
A40: 32 | B40: SIPS FILTRO DE ACEITE | C40: 1 | D40: =F40/1.19 -> 61784.866 | E40: =D40*19% -> 11739.124 | F40: 73523.99
B41: SISTEMA REFRIGERACION
A42: 33 | B42: SONDEADA DE RADIADOR | C42: 1 | D42: =F42/1.19 -> 156234.75 | E42: =D42*19% -> 29684.603 | F42: 185919.35
A43: 34 | B43: REPARACION DE RADIADOR | C43: 1 | D43: =F43/1.19 -> 188783.66 | E43: =D43*19% -> 35868.895 | F43: 224652.55
A44: 35 | B44: SIPS DE UNA MANGUERA RADIADOR | C44: 1 | D44: =F44/1.19 -> 104022.28 | E44: =D44*19% -> 19764.233 | F44: 123786.51
B45: SISTEMA DE DIRECCION
...

Sheet YAMAHA 
B2: YAMAHA XTZ 125 - 250- FZ 125 | C2: CANTIDAD | D2: VALOR UNITARIO | E2: IVA | F2: VALOR TOTAL
B3: SISTEMA MOTOR
A4: 1 | B4: REPARACION GENERAL DE MOTOR AL OVERSIDE SIGUIENTE O ENCAMISADA SI SE REQUIERE | C4: 1 | D4: =F4/1.19 -> 7261909.4 | E4: =D4*19% -> 1379762.8 | F4: 8641672.2
A5: 2 | B5: SIPS EMPAQUE DE CULATA | C5: 1 | D5: =F5/1.19 -> 338508.63 | E5: =D5*19% -> 64316.639 | F5: 402825.26
A6: 3 | B6: CALIBRACION DE VALVULAS | C6: 1 | D6: =F6/1.19 -> 110733.39 | E6: =D6*19% -> 21039.345 | F6: 131772.74
A7: 4 | B7: SIPS CADENA REPARTICION | C7: 1 | D7: =F7/1.19 -> 559841.19 | E7: =D7*19% -> 106369.83 | F7: 666211.01
A8: 5 | B8: SIPS EMPAQUE TAPA VALVULAS | C8: 1 | D8: =F8/1.19 -> 117176.06 | E8: =D8*19% -> 22263.452 | F8: 139439.51
A9: 6 | B9: SIPS TAPON DE CARTER | C9: 1 | D9: =F9/1.19 -> 71585.224 | E9: =D9*19% -> 13601.192 | F9: 85186.416
A10: 7 | B10: REVISION TECNICOMECANICA Y DE GASES | C10: 1 | D10: =F10/1.19 -> 215161.18 | E10: =D10*19% -> 40880.624 | F10: 256041.8
A11: 8 | B11: SCANEO | C11: 1 | D11: =F11/1.19 -> 78117.375 | E11: =D11*19% -> 14842.301 | F11: 92959.676
A12: 9 | B12: SIPS JUEGO DE ANILLOS DE MOTOR | C12: 1 | D12: =F12/1.19 -> 833252 | E12: =D12*19% -> 158317.88 | F12: 991569.88
A13: 10 | B13: SIPS EJE DE LEVAS | C13: 1 | D13: =F13/1.19 -> 1275917.1 | E13: =D13*19% -> 242424.25 | F13: 1518341.4
A14: 11 | B14: SINCRONIZACION DE MOTOR INCLUYE REPUESTOS NECESARIOS PARA UNA OPTIMA SINCRONIZACION | C14: 1 | D14: =F14/1.19 -> 364547.75 | E14: =D14*19% -> 69264.073 | F14: 433811.82
B15: SISTEMA ALIMENTACION AIRE/COMBUSTIBLE
A16: 12 | B16: LAVADA DE INYECTORES POR ULTRASONIDO INCLUYE SIPS DE FILTROS DE INYECTORES Y ORINGS | C16: 1 | D16: =F16/1.19 -> 286340.89 | E16: =D16*19% -> 54404.77 | F16: 340745.66
A17: 13 | B17: LIMPIEZA CUERPO DE ACELERACION | C17: 1 | D17: =F17/1.19 -> 182318.62 | E17: =D17*19% -> 34640.537 | F17: 216959.15
A18: 14 | B18: SIPS DE GUAYA DE ACELERADOR HOMOLOGADA DE ALTA CALIDAD | C18: 1 | D18: =F18/1.19 -> 182318.62 | E18: =D18*19% -> 34640.537 | F18: 216959.15
A19: 15 | B19: SIPS DE GUAYA DE ACELERADOR ORIGINAL | C19: 1 | D19: =F19/1.19 -> 325489.06 | E19: =D19*19% -> 61842.922 | F19: 387331.99
A20: 16 | B20: LAVADA TANQUE DE COMBUSTIBLE | C20: 1 | D20: =F20/1.19 -> 156234.75 | E20: =D20*19% -> 29684.603 | F20: 185919.35
A21: 17 | B21: SIPS REGULADOR DE PRESION DE COMBUSTIBLE | C21: 1 | D21: =F21/1.19 -> 937319.02 | E21: =D21*19% -> 178090.61 | F21: 1115409.6
A22: 18 | B22: SIPS INYECTOR | C22: 1 | D22: =F22/1.19 -> 846271.56 | E22: =D22*19% -> 160791.6 | F22: 1007063.2
A23: 19 | B23: SIPS FILTROS DE AIRE | C23: 1 | D23: =F23/1.19 -> 78117.375 | E23: =D23*19% -> 14842.301 | F23: 92959.676
A24: 20 | B24: SIPS BOMBA DE COMBUSTIBLE COMPLETA | C24: 1 | D24: =F24/1.19 -> 1497249.7 | E24: =D24*19% -> 284477.44 | F24: 1781727.1
A25: 21 | B25: SIPS FLOTADOR Y MECANISMOS DE INDICACION DE NIVEL DE COMBUSTIBLE | C25: 1 | D25: =F25/1.19 -> 585880.31 | E25: =D25*19% -> 111317.26 | F25: 697197.57
A26: 22 | B26: SIPS DE UNA MANGUERA DE COMBUSTIBLE | C26: 1 | D26: =F26/1.19 -> 45568.469 | E26: =D26*19% -> 8658.0091 | F26: 54226.478
A27: 23 | B27: SIPS DE TODAS LAS MANGUERAS DE COMBUSTIBLE | C27: 1 | D27: =F27/1.19 -> 234352.13 | E27: =D27*19% -> 44526.904 | F27: 278879.03
... A30: 26 | B30: SIPS DE UNA MANGUERA DE VACIO | C30: 1 | D30: =F30/1.19 -> 45568.469 | E30: =D30*19% -> 8658.0091 | F30: 54226.478
B31: SISTEMA DE ESCAPE
A32: 27 | B32: ARREGLO DE SILENCIADOR | C32: 1 | D32: =F32/1.19 -> 338508.63 | E32: =D32*19% -> 64316.639 | F32: 402825.26
A33: 28 | B33: ARREGLO TUBO DE ESCAPE | C33: 1 | D33: =F33/1.19 -> 312469.5 | E33: =D33*19% -> 59369.205 | F33: 371838.71
A34: 29 | B34: SIPS EMPAQUES O ANILLOS MULTIPLE DE ESCAPE | C34: 1 | D34: =F34/1.19 -> 117176.06 | E34: =D34*19% -> 22263.452 | F34: 139439.51
A35: 30 | B35: SIPS ESCAPE COMPLETO | C35: 1 | D35: =F35/1.19 -> 2083130 | E35: =D35*19% -> 395794.7 | F35: 2478924.7
B36: SISTEMA DE LUBRICACION
A37: 31 | B37: SIPS DE LA BOMBA DE ACEITE | C37: 1 | D37: =F37/1.19 -> 976467.19 | E37: =D37*19% -> 185528.77 | F37: 1161996
A38: 32 | B38: SIPS FILTRO DE ACEITE | C38: 1 | D38: =F38/1.19 -> 58588.031 | E38: =D38*19% -> 11131.726 | F38: 69719.757
B39: SISTEMA REFRIGERACION
A40: 33 | B40: SONDEADA DE RADIADOR | C40: 1 | D40: =F40/1.19 -> 156234.75 | E40: =D40*19% -> 29684.603 | F40: 185919.35
A41: 34 | B41: REPARACION DE RADIADOR | C41: 1 | D41: =F41/1.19 -> 188783.66 | E41: =D41*19% -> 35868.895 | F41: 224652.55
A42: 35 | B42: SIPS DE UNA MANGUERA RADIADOR | C42: 1 | D42: =F42/1.19 -> 104022.28 | E42: =D42*19% -> 19764.233 | F42: 123786.51
B43: SISTEMA DE DIRECCION
...

Sheet INSUMOS
B2: SERVICIOS GENERALES MAQUINARIA Y VEHICULOS Y MOTOCICLETAS | C2: CANTIDAD | D2: VALOR UNITARIO | E2: IVA | F2: VALOR TOTAL
B3: SOLDADURAS Y LLANTAS
A4: 1 | B4: SERVICIO DE SOLDADURA | C4: 1 | D4: =F4/1.19 -> 136723.81 | E4: =D4*19% -> 25977.524 | F4: 162701.33
A5: 2 | B5: SERVICIO DE MAQUINADO DE PIEZAS EN TORNO | C5: 1 | D5: =F5/1.19 -> 120095.24 | E5: =D5*19% -> 22818.095 | F5: 142913.33
A6: 3 | B6: vulcanizada de llanta R16 | C6: 1 | D6: =F6/1.19 -> 203238.1 | E6: =D6*19% -> 38615.238 | F6: 241853.33
A7: 4 | B7: Valvula sellomatic 1" | C7: 1 | D7: =F7/1.19 -> 25866.667 | E7: =D7*19% -> 4914.6667 | F7: 30781.333
A8: 5 | B8: Valvula sellomatic 3" | C8: 1 | D8: =F8/1.19 -> 44342.857 | E8: =D8*19% -> 8425.1429 | F8: 52768
A9: 6 | B9: Servicio de despinche de llanta Parche Nro. 5 en frio para llantas sellomatic | C9: 1 | D9: =F9/1.19 -> 27714.286 | E9: =D9*19% -> 5265.7143 | F9: 32980
A10: 7 | B10: Servicio de despinche de llanta Parche Nro. 7 en frio para llantas sellomatic | C10: 1 | D10: =F10/1.19 -> 166285.71 | E10: =D10*19% -> 31594.286 | F10: 197880
A11: 8 | B11: Ensamble de manguera hidraulica R2 - 5/8 incluye Adaptadores, acoples, uniones, racores y sellos | C11: 1 | D11: =F11/1.19 -> 114347.37 | E11: =D11*19% -> 21726.001 | F11: 136073.37
A12: 9 | B12: RECTIFICACION DE ROSCA | C12: 1 | D12: =F12/1.19 -> 36952.381 | E12: =D12*19% -> 7020.9524 | F12: 43973.333
A13: 10 | B13: SERVICIO DE ENGRASE GENERAL | C13: 1 | D13: =F13/1.19 -> 36952.381 | E13: =D13*19% -> 7020.9524 | F13: 43973.333
A14: 11 | B14: CINTA REFLECTIVA | C14: 1 | D14: =F14/1.19 -> 24019.048 | E14: =D14*19% -> 4563.619 | F14: 28582.667
B15: SISTEMA DE LUBRICACION
A16: 1 | B16: SERVICIO DE CAMBIO DE ACEITE MOTOR NO INCLUYE EL ACEITE | C16: 1 | D16: =F16/1.19 -> 33950 | E16: =D16*19% -> 6450.5 | F16: 40400.5
A17: 2 | B17: SIPS BOMBA DE ACEITE MOTOR | C17: 1 | D17: =F17/1.19 -> 1435600 | E17: =D17*19% -> 272764 | F17: 1708364
A18: 3 | B18: SIPS SENSOR PRESION DE ACEITE MOTOR | C18: 1 | D18: =F18/1.19 -> 376360 | E18: =D18*19% -> 71508.4 | F18: 447868.4
A19: 4 | B19: SERVICIO DE ENGRASE GENERAL | C19: 1 | D19: =F19/1.19 -> 36952.381 | E19: =D19*19% -> 7020.9524 | F19: 43973.333
A20: 5 | B20: SERVICIO DE CAMBIO DE ACEITE DE DIFERENCIAL | C20: 1 | D20: =F20/1.19 -> 29100 | E20: =D20*19% -> 5529 | F20: 34629
A21: 6 | B21: SERVICIO DE CAMBIO DE ACEITE DE LA CAJA | C21: 1 | D21: =F21/1.19 -> 29100 | E21: =D21*19% -> 5529 | F21: 34629
A22: 7 | B22: UREA A GRANEL AUS32 | C22: 1 | D22: =F22/1.19 -> 4526.6667 | E22: =D22*19% -> 860.06667 | F22: 5386.7333
A23: 8 | B23: SERVICIO DE CAMBIO DE ACEITE HIDRAHULICO DE DIRECCION | C23: 1 | D23: =F23/1.19 -> 38800 | E23: =D23*19% -> 7372 | F23: 46172
A24: 9 | B24: GRASA MULTIPROPOSITO EP2 | C24: 1 | D24: =F24/1.19 -> 623425.59 | E24: =D24*19% -> 118450.86 | F24: 741876.45
A25: 10 | B25: DESENGRASANTE INDUSTRIAL #2 | C25: 1 | D25: =F25/1.19 -> 56167.619 | E25: =D25*19% -> 10671.848 | F25: 66839.467
A26: 11 | B26: LIQUIDO REFRIGENRANTE 50/50 | C26: 1 | D26: =F26/1.19 -> 37192.571 | E26: =D26*19% -> 7066.5886 | F26: 44259.16
A27: 12 | B27: SERVICIO DE CAMBIO DE ACEITE GENERAL NO INCLUYE EL ACEITE | C27: 1 | D27: =F27/1.19 -> 29100 | E27: =D27*19% -> 5529 | F27: 34629
... A45: 30 | B45: ADITIVO GASOLINA | C45: 1 | D45: =F45/1.19 -> 19441.571 | E45: =D45*19% -> 3693.8986 | F45: 23135.47
B46: GENERALES Y ASEO
A47: 1 | B47: SERVICIO DE MECANICO A DOMICILIO | C47: 1 | D47: =F47/1.19 -> 174600 | E47: =D47*19% -> 33174 | F47: 207774
A48: 2 | B48: SERVICIO DE GRUA DESDE SONSON HASTA EL TALLER | C48: 1 | D48: =F48/1.19 -> 659600 | E48: =D48*19% -> 125324 | F48: 784924
A49: 3 | B49: SERVICIO DE GRUA DESDE VEREDA SONSON HASTA EL TALLER | C49: 1 | D49: =F49/1.19 -> 824500 | E49: =D49*19% -> 156655 | F49: 981155
A50: 4 | B50: SERVICIO DE GRUA DESDE ZONA URBANA HASTA EL TALLER | C50: 1 | D50: =F50/1.19 -> 659600 | E50: =D50*19% -> 125324 | F50: 784924
A51: 5 | B51: DESMANCHADA GENERAL DE TAPICERIA DE ACIENTOS, TECHO E INTERIORES, RESTAURACION DE PINTURA; FAROS Y VIDRIOS; LAVADA Y GRAFITADA DE MOTOR Y CHASIS | C51: 1 | D51: =F51/1.19 -> 601400 | E51: =D51*19% -> 114266 | F51: 715666
A52: 6 | B52: LAVADA GENERAL CON POLICHADA (MOTOR - CHASIS - INTERIOR) | C52: 1 | D52: =F52/1.19 -> 292788.24 | E52: =D52*19% -> 55629.765 | F52: 348418
A53: 7 | B53: KIT DE ASEO COMPLETO (Jabon liquido y en polvo - jabon en crema - betun - Shampoo - escoba - cepillo - cera - estopa - cilicona - dulce abrigo - desmanchador) | C53: 1 | D53: =F53/1.19 -> 145500 | E53: =D53*19% -> 27645 | F53: 173145
A54: 8 | B54: LAVADA SENCILLA | C54: 1 | D54: =F54/1.19 -> 48212.185 | E54: =D54*19% -> 9160.3151 | F54: 57372.5
A55: 9 | B55: SIPS EMBLEMAS GENERAL | C55: 1 | D55: =F55/1.19 -> 864270 | E55: =D55*19% -> 164211.3 | F55: 1028481.3
A56: 10 | B56: VALOR MANO DE OBRA MECANICA GENERAL TRABAJO NO DETERMINADO | C56: 1 | D56: =F56/1.19 -> 137311.54 | E56: =D56*19% -> 26089.192 | F56: 163400.73
A57: 11 | B57: VALOR MANO DE OBRA ELECTRICIDAD TRABAJO NO DETERMINADO | C57: 1 | D57: =F57/1.19 -> 137311.54 | E57: =D57*19% -> 26089.192 | F57: 163400.73
B58: ELEMENTOS DE PROTECCION
...

Sheet CONSOLIDADO
B5: TOYOTA TX - RUNNER | C5: ='TOYOTA TX-RUNNER'!F320 -> 2.849898e+08
B6: HONDA XRE | C6: ='HONDA XRE'!F155 -> 74155890
B7: YAMAHA | C7: ='YAMAHA '!F153 -> 74199971
B8: NISSAN FRONTIER | C8: ='NISSAN FRONTIER'!F337 -> 2.3428798e+08
B9: RENAULT DUSTER | C9: ='RENAULT DUSTER'!F318 -> 1.4863177e+08
B10: RENAULT TRAFFIC | C10: ='RENAULT TRAFFIC'!F321 -> 2.407048e+08
B11: RENAULT LOGAN | C11: ='RENAULT LOGAN'!F294 -> 1.6268996e+08
B12: CHVEROLET | C12: =CHEVROLET!F333 -> 2.09527e+08
B13: AMAROK | C13: =AMAROK!F23 -> 3672420
B14: FORD | C14: =FORD!F24 -> 4093086.7
B15: INSUMOS | C15: =INSUMOS!F61 -> 13188136
C16: =SUM(C5:C15) -> 1.4501408e+09
