Workbook

Sheet RESUMEN
B1: CAMIONETA TOYOTA PRADO TX KHG990 - RUNNER | C1: CANTIDAD | D1: VALOR UNITARIO | E1: IVA | F1: VALOR TOTAL
B2: SISTEMA MOTOR
A3: 1 | B3: REPARACION GENERAL DE MOTOR AL OVERSIDE SIGUIENTE O ENCAMISADA SI SE REQUIERE | C3: 1 | D3: =F3/1.19 -> 24330307 | E3: =D3*19% -> 4622758.4 | F3: 28953066
A4: 2 | B4: ANILLADA DE MOTOR INCLUYE SIPS DE CASQUETERIA, SIPS EMPAQUETADURA DE MOTOR | C4: 1 | D4: =F4/1.19 -> 7361477.6 | E4: =D4*19% -> 1398680.8 | F4: 8760158.4
A5: 3 | B5: REPARACION DE CULATA | C5: 1 | D5: =F5/1.19 -> 2370645.3 | E5: =D5*19% -> 450422.62 | F5: 2821068
A6: 4 | B6: SIPS EMPAQUE DE CULATA | C6: 1 | D6: =F6/1.19 -> 1222753.9 | E6: =D6*19% -> 232323.24 | F6: 1455077.2
A7: 5 | B7: SIPS DE GUIAS DE VALVULAS Y VALVULAS | C7: 1 | D7: =F7/1.19 -> 1472295.5 | E7: =D7*19% -> 279736.15 | F7: 1752031.7
A8: 6 | B8: SIPS JUEGO DE IMPULSADORES HIDRAULICOS | C8: 1 | D8: =F8/1.19 -> 1996332.9 | E8: =D8*19% -> 379303.26 | F8: 2375636.2
A9: 7 | B9: SIPS JUEGO DE BALANCINES | C9: 1 | D9: =F9/1.19 -> 2470462 | E9: =D9*19% -> 469387.78 | F9: 2939849.8
A10: 8 | B10: RECTIFICACION CIGÜEÑAL INCLUYE SIPS CASQUETERIA | C10: 1 | D10: =F10/1.19 -> 1996332.9 | E10: =D10*19% -> 379303.26 | F10: 2375636.2
A11: 9 | B11: SIPS VOLANTE | C11: 1 | D11: =F11/1.19 -> 1597066.3 | E11: =D11*19% -> 303442.6 | F11: 1900508.9
A12: 10 | B12: SIPS RODAMIENTO DEL VOLANTE | C12: 1 | D12: =F12/1.19 -> 798533.17 | E12: =D12*19% -> 151721.3 | F12: 950254.47
A13: 11 | B13: SIPS CREMALLERA DEL VOLANTE | C13: 1 | D13: =F13/1.19 -> 1048052.4 | E13: =D13*19% -> 199129.96 | F13: 1247182.4
A14: 12 | B14: SIPS CORREA REPARTICION | C14: 1 | D14: =F14/1.19 -> 1048052.4 | E14: =D14*19% -> 199129.96 | F14: 1247182.4
... A33: 31 | B33: SINCRONIZACION DE MOTOR INCLUYE REPUESTOS NECESARIOS PARA UNA OPTIMA SINCRONIZACION | C33: 1 | D33: =F33/1.19 -> 524037.39 | E33: =D33*19% -> 99567.104 | F33: 623604.5
B34: SISTEMA ALIMENTACION AIRE/COMBUSTIBLE
A35: 32 | B35: CALIBRACION DE LA BOMBA DE INYECCION E INYECTORES EN BANCO DE PRUEBA | C35: 1 | D35: =F35/1.19 -> 4242207.5 | E35: =D35*19% -> 806019.42 | F35: 5048226.9
A36: 33 | B36: SIPS GUAYA DE ACELERACION | C36: 1 | D36: =F36/1.19 -> 249541.62 | E36: =D36*19% -> 47412.907 | F36: 296954.52
A37: 34 | B37: CALIBRACION DE LA BOMBA DE INYECCION | C37: 1 | D37: =F37/1.19 -> 3493582.6 | E37: =D37*19% -> 663780.7 | F37: 4157363.3
A38: 35 | B38: CALIBRACION JUEGO DE INYECTORES | C38: 1 | D38: =F38/1.19 -> 1372423 | E38: =D38*19% -> 260760.36 | F38: 1633183.3
A39: 36 | B39: LAVADA JUEGO DE INYECTORES POR ULTRASONIDO INCLUYE SIPS DE FILTROS DE INYECTORES Y ORINGS | C39: 1 | D39: =F39/1.19 -> 1048074.8 | E39: =D39*19% -> 199134.21 | F39: 1247209
A40: 37 | B40: SIPS DE UN INYECTOR INCLUYE INSTALACION | C40: 1 | D40: =F40/1.19 -> 1048074.8 | E40: =D40*19% -> 199134.21 | F40: 1247209
A41: 38 | B41: REPARACION DEL TURBO | C41: 1 | D41: =F41/1.19 -> 274495.78 | E41: =D41*19% -> 52154.198 | F41: 326649.97
A42: 39 | B42: LIMPIEZA CUERPO DE ACELERACION Y VALVULA IAC | C42: 1 | D42: =F42/1.19 -> 399266.58 | E42: =D42*19% -> 75860.651 | F42: 475127.24
A43: 40 | B43: SAMBLASTEO MULTIPLE DE ADMISION | C43: 1 | D43: =F43/1.19 -> 324370.54 | E43: =D43*19% -> 61630.403 | F43: 386000.95
A44: 41 | B44: LAVADA TANQUE DE COMBUSTIBLE | C44: 1 | D44: =F44/1.19 -> 212110.37 | E44: =D44*19% -> 40300.971 | F44: 252411.34
A45: 42 | B45: SIPS JUEGO DE FILTROS DE COMBUSTIBLE INCLUYENDO LA TRAMPA PARA LOS CASOS QUE APLIQUE | C45: 1 | D45: =F45/1.19 -> 202398.7 | E45: =D45*19% -> 38455.753 | F45: 240854.45
A46: 43 | B46: SIPS REGULADOR DE PRESION DE COMBUSTIBLE | C46: 1 | D46: =F46/1.19 -> 611376.96 | E46: =D46*19% -> 116161.62 | F46: 727538.58
... A61: 58 | B61: SIPS TUBO DE ADMISION DEL FILTRO AL CUERPO DE ACELERACION O CARBURADOR | C61: 1 | D61: =F61/1.19 -> 524037.39 | E61: =D61*19% -> 99567.104 | F61: 623604.5
B62: SISTEMA DE ESCAPE
A63: 59 | B63: REPARACION DE SILENCIADOR | C63: 1 | D63: =F63/1.19 -> 262018.7 | E63: =D63*19% -> 49783.552 | F63: 311802.25
A64: 60 | B64: REPARACION TUBO DE ESCAPE | C64: 1 | D64: =F64/1.19 -> 255780.16 | E64: =D64*19% -> 48598.23 | F64: 304378.39
A65: 61 | B65: SIPS DE SILINCIADOR | C65: 1 | D65: =F65/1.19 -> 293211.4 | E65: =D65*19% -> 55710.166 | F65: 348921.56
A66: 62 | B66: SIPS FLEXIBLE DEL ESCAPE | C66: 1 | D66: =F66/1.19 -> 274495.78 | E66: =D66*19% -> 52154.198 | F66: 326649.97
A67: 63 | B67: SIPS EMPAQUES O ANILLOS MULTIPLE DE ESCAPE | C67: 1 | D67: =F67/1.19 -> 262018.7 | E67: =D67*19% -> 49783.552 | F67: 311802.25
A68: 64 | B68: SIPS CATALIZADOR | C68: 1 | D68: =F68/1.19 -> 923303.98 | E68: =D68*19% -> 175427.76 | F68: 1098731.7
B69: SISTEMA DE LUBRICACION
A70: 65 | B70: SIPS FILTRO DE ACEITE MOTOR | C70: 1 | D70: =F70/1.19 -> 47936.534 | E70: =D70*19% -> 9107.9414 | F70: 57044.475
A71: 66 | B71: SIPS BOMBA DE ACEITE MOTOR | C71: 1 | D71: =F71/1.19 -> 1210237.7 | E71: =D71*19% -> 229945.16 | F71: 1440182.8
A72: 67 | B72: SIPS SENSOR PRESION DE ACEITE MOTOR | C72: 1 | D72: =F72/1.19 -> 262018.7 | E72: =D72*19% -> 49783.552 | F72: 311802.25
B73: SISTEMA REFRIGERACION
A74: 68 | B74: SONDEADA DE RADIADOR | C74: 1 | D74: =F74/1.19 -> 262018.7 | E74: =D74*19% -> 49783.552 | F74: 311802.25
A75: 69 | B75: REPARACION DE RADIADOR INCLUYE PINTADA DONDE APLIQUE | C75: 1 | D75: =F75/1.19 -> 349358.26 | E75: =D75*19% -> 66378.07 | F75: 415736.33
A76: 70 | B76: LAVADA DEL INTERCOOLER | C76: 1 | D76: =F76/1.19 -> 199633.29 | E76: =D76*19% -> 37930.326 | F76: 237563.62
A77: 71 | B77: SIPS DE REFRIGERANTE MOTOR POR CUARTOS ALTA CALIDAD | C77: 1 | D77: =F77/1.19 -> 23706.453 | E77: =D77*19% -> 4504.2262 | F77: 28210.68
A78: 72 | B78: SIPS BOMBA DE AGUA | C78: 1 | D78: =F78/1.19 -> 798533.17 | E78: =D78*19% -> 151721.3 | F78: 950254.47
A79: 73 | B79: SIPS MANGUERA SUPERIOR RADIADOR | C79: 1 | D79: =F79/1.19 -> 199633.29 | E79: =D79*19% -> 37930.326 | F79: 237563.62
A80: 74 | B80: SIPS MANGUERA INFERIOR RADIADOR | C80: 1 | D80: =F80/1.19 -> 187156.21 | E80: =D80*19% -> 35559.68 | F80: 222715.89
A81: 75 | B81: SIPS MANGUERA DE CALEFACCION | C81: 1 | D81: =F81/1.19 -> 243303.07 | E81: =D81*19% -> 46227.584 | F81: 289530.66
A82: 76 | B82: SIPS SENSOR DE TEMPERATURA | C82: 1 | D82: =F82/1.19 -> 162185.27 | E82: =D82*19% -> 30815.202 | F82: 193000.47
A83: 77 | B83: SIPS DE RADIADOR | C83: 1 | D83: =F83/1.19 -> 1010643.5 | E83: =D83*19% -> 192022.27 | F83: 1202665.8
A84: 78 | B84: SIPS DEL TERMOSTATO | C84: 1 | D84: =F84/1.19 -> 262018.7 | E84: =D84*19% -> 49783.552 | F84: 311802.25
A85: 79 | B85: SIPS DE TAPA DE RADIADOR | C85: 1 | D85: =F85/1.19 -> 49908.323 | E85: =D85*19% -> 9482.5814 | F85: 59390.904
A86: 80 | B86: SIPS DEL DEPOSITO AUXILIAR DE REFRIGERANTE MOTOR | C86: 1 | D86: =F86/1.19 -> 296954.52 | E86: =D86*19% -> 56421.359 | F86: 353375.88
B87: SISTEMA DE DIRECCION
A88: 81 | B88: ALINEACION Y BALANCEO DE TODAS LAS RUEDAS | C88: 1 | D88: =F88/1.19 -> 149724.97 | E88: =D88*19% -> 28447.744 | F88: 178172.71
A89: 82 | B89: ALINEACION | C89: 1 | D89: =F89/1.19 -> 99816.646 | E89: =D89*19% -> 18965.163 | F89: 118781.81
A90: 83 | B90: BALANCEO | C90: 1 | D90: =F90/1.19 -> 49908.323 | E90: =D90*19% -> 9482.5814 | F90: 59390.904
A91: 84 | B91: SIPS DE CINTILLA DEL SISTEMA AIR-BAG | C91: 1 | D91: =F91/1.19 -> 661285.28 | E91: =D91*19% -> 125644.2 | F91: 786929.48
A92: 85 | B92: SIPS DE TODOS LOS TERMINALES DE DIRECCION | C92: 1 | D92: =F92/1.19 -> 1147891.4 | E92: =D92*19% -> 218099.37 | F92: 1365990.8
A93: 86 | B93: SIPS DE UN TERMINAL DE DIRECCION | C93: 1 | D93: =F93/1.19 -> 174679.13 | E93: =D93*19% -> 33189.035 | F93: 207868.17
A94: 87 | B94: SIPS DE TODOS LOS BRAZOS DE DIRECCION | C94: 1 | D94: =F94/1.19 -> 1135296.9 | E94: =D94*19% -> 215706.41 | F94: 1351003.3
A95: 88 | B95: SIPS DE UN BRAZO DE DIRECCION | C95: 1 | D95: =F95/1.19 -> 486606.15 | E95: =D95*19% -> 92455.168 | F95: 579061.32
A96: 89 | B96: SIPS CAÑA DE DIRECCION INCLUYENDO CRUCETAS Y RODAMIENTOS | C96: 1 | D96: =F96/1.19 -> 611376.96 | E96: =D96*19% -> 116161.62 | F96: 727538.58
A97: 90 | B97: SIPS BRAZO PITMAN | C97: 1 | D97: =F97/1.19 -> 386789.5 | E97: =D97*19% -> 73490.006 | F97: 460279.51
A98: 91 | B98: SIPS BIELA DE DIRECCION | C98: 1 | D98: =F98/1.19 -> 486555.82 | E98: =D98*19% -> 92445.605 | F98: 579001.42
A99: 92 | B99: SIPS DE LA CAJA DE DIRECCION | C99: 1 | D99: =F99/1.19 -> 3718170.1 | E99: =D99*19% -> 706452.31 | F99: 4424622.4
... A111: 104 | B111: SIPS DE UN BOCIN | C111: 1 | D111: =F111/1.19 -> 617615.5 | E111: =D111*19% -> 117346.94 | F111: 734962.44
B112: SISTEMA DE FRENOS
A113: 105 | B113: SIPS PASTILLAS DE FRENO TRASERO DE DOS RUEDAS | C113: 1 | D113: =F113/1.19 -> 223703.82 | E113: =D113*19% -> 42503.726 | F113: 266207.55
A114: 106 | B114: RECTIFICADA DE CAMPANA DE UNA RUEDA | C114: 1 | D114: =F114/1.19 -> 87244.491 | E114: =D114*19% -> 16576.453 | F114: 103820.94
A115: 107 | B115: RECTIFICADA DE DISCO DE UNA RUEDA | C115: 1 | D115: =F115/1.19 -> 87244.491 | E115: =D115*19% -> 16576.453 | F115: 103820.94
A116: 108 | B116: SIPS DE BANDAS DE DOS RUEDAS | C116: 1 | D116: =F116/1.19 -> 399311.33 | E116: =D116*19% -> 75869.152 | F116: 475180.48
A117: 109 | B117: SIPS DE CAMPANA DE UNA RUEDA | C117: 1 | D117: =F117/1.19 -> 371817.01 | E117: =D117*19% -> 70645.231 | F117: 442462.24
A118: 110 | B118: SIPS DE DISCO DE UNA RUEDA | C118: 1 | D118: =F118/1.19 -> 496587.81 | E118: =D118*19% -> 94351.685 | F118: 590939.5
A119: 111 | B119: SIPS PASTILLAS DE FRENOS DELANTERAS DE DOS RUEDAS | C119: 1 | D119: =F119/1.19 -> 311927.02 | E119: =D119*19% -> 59266.134 | F119: 371193.15
A120: 112 | B120: SIPS KIT CALIPER | C120: 1 | D120: =F120/1.19 -> 149724.97 | E120: =D120*19% -> 28447.744 | F120: 178172.71
A121: 113 | B121: SIPS CALIPER | C121: 1 | D121: =F121/1.19 -> 286972.86 | E121: =D121*19% -> 54524.843 | F121: 341497.7
A122: 114 | B122: SIPS DEL PISTON DE LA MORDAZA | C122: 1 | D122: =F122/1.19 -> 212110.37 | E122: =D122*19% -> 40300.971 | F122: 252411.34
A123: 115 | B123: SIPS CONJUNTO DE MECANISMOS DE ACCIONAMIENTO DE BANDAS | C123: 1 | D123: =F123/1.19 -> 174679.13 | E123: =D123*19% -> 33189.035 | F123: 207868.17
A124: 116 | B124: SIPS BOMBA DE FRENO | C124: 1 | D124: =F124/1.19 -> 860918.57 | E124: =D124*19% -> 163574.53 | F124: 1024493.1
... A134: 126 | B134: SIPS DEL BLOQUE HIDRAULICO DEL ABS | C134: 1 | D134: =F134/1.19 -> 2470462 | E134: =D134*19% -> 469387.78 | F134: 2939849.8
B135: SISTEMA DE SUSPENSION
A136: 127 | B136: SIPS AMORTIGUADOR DELANTERO | C136: 1 | D136: =F136/1.19 -> 496587.81 | E136: =D136*19% -> 94351.685 | F136: 590939.5
A137: 128 | B137: SIPS AMORTIGUADOR TRASERO | C137: 1 | D137: =F137/1.19 -> 449174.91 | E137: =D137*19% -> 85343.232 | F137: 534518.14
A138: 129 | B138: SIPS RESORTE ESPIRAL | C138: 1 | D138: =F138/1.19 -> 361835.34 | E138: =D138*19% -> 68748.715 | F138: 430584.06
A139: 130 | B139: SIPS ROTULA SUPERIOR | C139: 1 | D139: =F139/1.19 -> 336881.18 | E139: =D139*19% -> 64007.424 | F139: 400888.6
A140: 131 | B140: SIPS ROTULA INFERIOR | C140: 1 | D140: =F140/1.19 -> 361835.34 | E140: =D140*19% -> 68748.715 | F140: 430584.06
A141: 132 | B141: SIPS TIJERA SUPERIOR | C141: 1 | D141: =F141/1.19 -> 736147.76 | E141: =D141*19% -> 139868.08 | F141: 876015.84
A142: 133 | B142: SIPS TIJERA INFERIOR | C142: 1 | D142: =F142/1.19 -> 761101.93 | E142: =D142*19% -> 144609.37 | F142: 905711.29
A143: 134 | B143: SIPS BUJES DE TIJERA | C143: 1 | D143: =F143/1.19 -> 157657.93 | E143: =D143*19% -> 29955.007 | F143: 187612.94
A144: 135 | B144: SIPS BARRA DE TORSION | C144: 1 | D144: =F144/1.19 -> 773579.01 | E144: =D144*19% -> 146980.01 | F144: 920559.02
A145: 136 | B145: SIPS BUJES BARRA DE TORSION | C145: 1 | D145: =F145/1.19 -> 237064.53 | E145: =D145*19% -> 45042.262 | F145: 282106.8
A146: 137 | B146: SIPS DE TEMPLETE O BRAZO DE TORSION | C146: 1 | D146: =F146/1.19 -> 361835.34 | E146: =D146*19% -> 68748.715 | F146: 430584.06
A147: 138 | B147: SIPS BASES DE AMORTIGUADORES | C147: 1 | D147: =F147/1.19 -> 262018.7 | E147: =D147*19% -> 49783.552 | F147: 311802.25
B148: SISTEMA DE EMBRAGUE
A149: 139 | B149: SIPS BOMBA DE EMBRAGUE | C149: 1 | D149: =F149/1.19 -> 536514.47 | E149: =D149*19% -> 101937.75 | F149: 638452.22
A150: 140 | B150: SIPS BOMBA AUXILIAR DE EMBRAGUE | C150: 1 | D150: =F150/1.19 -> 449174.91 | E150: =D150*19% -> 85343.232 | F150: 534518.14
A151: 141 | B151: SIPS CONJUNTO BALINERA, PRENSA Y DISCOS DE EMBRAGUE | C151: 1 | D151: =F151/1.19 -> 5614686.3 | E151: =D151*19% -> 1066790.4 | F151: 6681476.7
A152: 142 | B152: SIPS BALINERA DE EMBRAGUE | C152: 1 | D152: =F152/1.19 -> 611376.96 | E152: =D152*19% -> 116161.62 | F152: 727538.58
...

Sheet TOYOTA TX-RUNNER
B2: CAMIONETA TOYOTA PRADO TX KHG990 - RUNNER | C2: CANTIDAD | D2: VALOR UNITARIO | E2: IVA | F2: VALOR TOTAL
B3: SISTEMA MOTOR
A4: 1 | B4: REPARACION GENERAL DE MOTOR AL OVERSIDE SIGUIENTE O ENCAMISADA SI SE REQUIERE | C4: 1 | D4: =F4/1.19 -> 24330307 | E4: =D4*19% -> 4622758.4 | F4: 28953066
A5: 2 | B5: ANILLADA DE MOTOR INCLUYE SIPS DE CASQUETERIA, SIPS EMPAQUETADURA DE MOTOR | C5: 1 | D5: =F5/1.19 -> 7361477.6 | E5: =D5*19% -> 1398680.8 | F5: 8760158.4
A6: 3 | B6: REPARACION DE CULATA | C6: 1 | D6: =F6/1.19 -> 2370645.3 | E6: =D6*19% -> 450422.62 | F6: 2821068
A7: 4 | B7: SIPS EMPAQUE DE CULATA | C7: 1 | D7: =F7/1.19 -> 1222753.9 | E7: =D7*19% -> 232323.24 | F7: 1455077.2
A8: 5 | B8: SIPS DE GUIAS DE VALVULAS Y VALVULAS | C8: 1 | D8: =F8/1.19 -> 1472295.5 | E8: =D8*19% -> 279736.15 | F8: 1752031.7
A9: 6 | B9: SIPS JUEGO DE IMPULSADORES HIDRAULICOS | C9: 1 | D9: =F9/1.19 -> 1996332.9 | E9: =D9*19% -> 379303.26 | F9: 2375636.2
A10: 7 | B10: SIPS JUEGO DE BALANCINES | C10: 1 | D10: =F10/1.19 -> 2470462 | E10: =D10*19% -> 469387.78 | F10: 2939849.8
A11: 8 | B11: RECTIFICACION CIGÜEÑAL INCLUYE SIPS CASQUETERIA | C11: 1 | D11: =F11/1.19 -> 1996332.9 | E11: =D11*19% -> 379303.26 | F11: 2375636.2
A12: 9 | B12: SIPS VOLANTE | C12: 1 | D12: =F12/1.19 -> 1597066.3 | E12: =D12*19% -> 303442.6 | F12: 1900508.9
A13: 10 | B13: SIPS RODAMIENTO DEL VOLANTE | C13: 1 | D13: =F13/1.19 -> 798533.17 | E13: =D13*19% -> 151721.3 | F13: 950254.47
A14: 11 | B14: SIPS CREMALLERA DEL VOLANTE | C14: 1 | D14: =F14/1.19 -> 1048052.4 | E14: =D14*19% -> 199129.96 | F14: 1247182.4
A15: 12 | B15: SIPS CORREA REPARTICION | C15: 1 | D15: =F15/1.19 -> 1048052.4 | E15: =D15*19% -> 199129.96 | F15: 1247182.4
... A34: 31 | B34: SINCRONIZACION DE MOTOR INCLUYE REPUESTOS NECESARIOS PARA UNA OPTIMA SINCRONIZACION | C34: 1 | D34: =F34/1.19 -> 524037.39 | E34: =D34*19% -> 99567.104 | F34: 623604.5
B35: SISTEMA ALIMENTACION AIRE/COMBUSTIBLE
A36: 32 | B36: CALIBRACION DE LA BOMBA DE INYECCION E INYECTORES EN BANCO DE PRUEBA | C36: 1 | D36: =F36/1.19 -> 4242207.5 | E36: =D36*19% -> 806019.42 | F36: 5048226.9
A37: 33 | B37: SIPS GUAYA DE ACELERACION | C37: 1 | D37: =F37/1.19 -> 249541.62 | E37: =D37*19% -> 47412.907 | F37: 296954.52
A38: 34 | B38: CALIBRACION DE LA BOMBA DE INYECCION | C38: 1 | D38: =F38/1.19 -> 3493582.6 | E38: =D38*19% -> 663780.7 | F38: 4157363.3
A39: 35 | B39: CALIBRACION JUEGO DE INYECTORES | C39: 1 | D39: =F39/1.19 -> 1372423 | E39: =D39*19% -> 260760.36 | F39: 1633183.3
A40: 36 | B40: LAVADA JUEGO DE INYECTORES POR ULTRASONIDO INCLUYE SIPS DE FILTROS DE INYECTORES Y ORINGS | C40: 1 | D40: =F40/1.19 -> 1048074.8 | E40: =D40*19% -> 199134.21 | F40: 1247209
A41: 37 | B41: SIPS DE UN INYECTOR INCLUYE INSTALACION | C41: 1 | D41: =F41/1.19 -> 1048074.8 | E41: =D41*19% -> 199134.21 | F41: 1247209
A42: 38 | B42: REPARACION DEL TURBO | C42: 1 | D42: =F42/1.19 -> 274495.78 | E42: =D42*19% -> 52154.198 | F42: 326649.97
A43: 39 | B43: LIMPIEZA CUERPO DE ACELERACION Y VALVULA IAC | C43: 1 | D43: =F43/1.19 -> 399266.58 | E43: =D43*19% -> 75860.651 | F43: 475127.24
A44: 40 | B44: SAMBLASTEO MULTIPLE DE ADMISION | C44: 1 | D44: =F44/1.19 -> 324370.54 | E44: =D44*19% -> 61630.403 | F44: 386000.95
A45: 41 | B45: LAVADA TANQUE DE COMBUSTIBLE | C45: 1 | D45: =F45/1.19 -> 212110.37 | E45: =D45*19% -> 40300.971 | F45: 252411.34
A46: 42 | B46: SIPS JUEGO DE FILTROS DE COMBUSTIBLE INCLUYENDO LA TRAMPA PARA LOS CASOS QUE APLIQUE | C46: 1 | D46: =F46/1.19 -> 202398.7 | E46: =D46*19% -> 38455.753 | F46: 240854.45
A47: 43 | B47: SIPS REGULADOR DE PRESION DE COMBUSTIBLE | C47: 1 | D47: =F47/1.19 -> 611376.96 | E47: =D47*19% -> 116161.62 | F47: 727538.58
... A62: 58 | B62: SIPS TUBO DE ADMISION DEL FILTRO AL CUERPO DE ACELERACION O CARBURADOR | C62: 1 | D62: =F62/1.19 -> 524037.39 | E62: =D62*19% -> 99567.104 | F62: 623604.5
B63: SISTEMA DE ESCAPE
A64: 59 | B64: REPARACION DE SILENCIADOR | C64: 1 | D64: =F64/1.19 -> 262018.7 | E64: =D64*19% -> 49783.552 | F64: 311802.25
A65: 60 | B65: REPARACION TUBO DE ESCAPE | C65: 1 | D65: =F65/1.19 -> 255780.16 | E65: =D65*19% -> 48598.23 | F65: 304378.39
A66: 61 | B66: SIPS DE SILINCIADOR | C66: 1 | D66: =F66/1.19 -> 293211.4 | E66: =D66*19% -> 55710.166 | F66: 348921.56
A67: 62 | B67: SIPS FLEXIBLE DEL ESCAPE | C67: 1 | D67: =F67/1.19 -> 274495.78 | E67: =D67*19% -> 52154.198 | F67: 326649.97
A68: 63 | B68: SIPS EMPAQUES O ANILLOS MULTIPLE DE ESCAPE | C68: 1 | D68: =F68/1.19 -> 262018.7 | E68: =D68*19% -> 49783.552 | F68: 311802.25
A69: 64 | B69: SIPS CATALIZADOR | C69: 1 | D69: =F69/1.19 -> 923303.98 | E69: =D69*19% -> 175427.76 | F69: 1098731.7
B70: SISTEMA DE LUBRICACION
A71: 65 | B71: SIPS FILTRO DE ACEITE MOTOR | C71: 1 | D71: =F71/1.19 -> 47936.534 | E71: =D71*19% -> 9107.9414 | F71: 57044.475
A72: 66 | B72: SIPS BOMBA DE ACEITE MOTOR | C72: 1 | D72: =F72/1.19 -> 1210237.7 | E72: =D72*19% -> 229945.16 | F72: 1440182.8
A73: 67 | B73: SIPS SENSOR PRESION DE ACEITE MOTOR | C73: 1 | D73: =F73/1.19 -> 262018.7 | E73: =D73*19% -> 49783.552 | F73: 311802.25
B74: SISTEMA REFRIGERACION
A75: 68 | B75: SONDEADA DE RADIADOR | C75: 1 | D75: =F75/1.19 -> 262018.7 | E75: =D75*19% -> 49783.552 | F75: 311802.25
A76: 69 | B76: REPARACION DE RADIADOR INCLUYE PINTADA DONDE APLIQUE | C76: 1 | D76: =F76/1.19 -> 349358.26 | E76: =D76*19% -> 66378.07 | F76: 415736.33
A77: 70 | B77: LAVADA DEL INTERCOOLER | C77: 1 | D77: =F77/1.19 -> 199633.29 | E77: =D77*19% -> 37930.326 | F77: 237563.62
A78: 71 | B78: SIPS DE REFRIGERANTE MOTOR POR CUARTOS ALTA CALIDAD | C78: 1 | D78: =F78/1.19 -> 23706.453 | E78: =D78*19% -> 4504.2262 | F78: 28210.68
A79: 72 | B79: SIPS BOMBA DE AGUA | C79: 1 | D79: =F79/1.19 -> 798533.17 | E79: =D79*19% -> 151721.3 | F79: 950254.47
A80: 73 | B80: SIPS MANGUERA SUPERIOR RADIADOR | C80: 1 | D80: =F80/1.19 -> 199633.29 | E80: =D80*19% -> 37930.326 | F80: 237563.62
A81: 74 | B81: SIPS MANGUERA INFERIOR RADIADOR | C81: 1 | D81: =F81/1.19 -> 187156.21 | E81: =D81*19% -> 35559.68 | F81: 222715.89
A82: 75 | B82: SIPS MANGUERA DE CALEFACCION | C82: 1 | D82: =F82/1.19 -> 243303.07 | E82: =D82*19% -> 46227.584 | F82: 289530.66
A83: 76 | B83: SIPS SENSOR DE TEMPERATURA | C83: 1 | D83: =F83/1.19 -> 162185.27 | E83: =D83*19% -> 30815.202 | F83: 193000.47
A84: 77 | B84: SIPS DE RADIADOR | C84: 1 | D84: =F84/1.19 -> 1010643.5 | E84: =D84*19% -> 192022.27 | F84: 1202665.8
A85: 78 | B85: SIPS DEL TERMOSTATO | C85: 1 | D85: =F85/1.19 -> 262018.7 | E85: =D85*19% -> 49783.552 | F85: 311802.25
A86: 79 | B86: SIPS DE TAPA DE RADIADOR | C86: 1 | D86: =F86/1.19 -> 49908.323 | E86: =D86*19% -> 9482.5814 | F86: 59390.904
A87: 80 | B87: SIPS DEL DEPOSITO AUXILIAR DE REFRIGERANTE MOTOR | C87: 1 | D87: =F87/1.19 -> 296954.52 | E87: =D87*19% -> 56421.359 | F87: 353375.88
B88: SISTEMA DE DIRECCION
A89: 81 | B89: ALINEACION Y BALANCEO DE TODAS LAS RUEDAS | C89: 1 | D89: =F89/1.19 -> 149724.97 | E89: =D89*19% -> 28447.744 | F89: 178172.71
A90: 82 | B90: ALINEACION | C90: 1 | D90: =F90/1.19 -> 99816.646 | E90: =D90*19% -> 18965.163 | F90: 118781.81
A91: 83 | B91: BALANCEO | C91: 1 | D91: =F91/1.19 -> 49908.323 | E91: =D91*19% -> 9482.5814 | F91: 59390.904
A92: 84 | B92: SIPS DE CINTILLA DEL SISTEMA AIR-BAG | C92: 1 | D92: =F92/1.19 -> 661285.28 | E92: =D92*19% -> 125644.2 | F92: 786929.48
A93: 85 | B93: SIPS DE TODOS LOS TERMINALES DE DIRECCION | C93: 1 | D93: =F93/1.19 -> 1147891.4 | E93: =D93*19% -> 218099.37 | F93: 1365990.8
A94: 86 | B94: SIPS DE UN TERMINAL DE DIRECCION | C94: 1 | D94: =F94/1.19 -> 174679.13 | E94: =D94*19% -> 33189.035 | F94: 207868.17
A95: 87 | B95: SIPS DE TODOS LOS BRAZOS DE DIRECCION | C95: 1 | D95: =F95/1.19 -> 1135296.9 | E95: =D95*19% -> 215706.41 | F95: 1351003.3
A96: 88 | B96: SIPS DE UN BRAZO DE DIRECCION | C96: 1 | D96: =F96/1.19 -> 486606.15 | E96: =D96*19% -> 92455.168 | F96: 579061.32
A97: 89 | B97: SIPS CAÑA DE DIRECCION INCLUYENDO CRUCETAS Y RODAMIENTOS | C97: 1 | D97: =F97/1.19 -> 611376.96 | E97: =D97*19% -> 116161.62 | F97: 727538.58
A98: 90 | B98: SIPS BRAZO PITMAN | C98: 1 | D98: =F98/1.19 -> 386789.5 | E98: =D98*19% -> 73490.006 | F98: 460279.51
A99: 91 | B99: SIPS BIELA DE DIRECCION | C99: 1 | D99: =F99/1.19 -> 486555.82 | E99: =D99*19% -> 92445.605 | F99: 579001.42
A100: 92 | B100: SIPS DE LA CAJA DE DIRECCION | C100: 1 | D100: =F100/1.19 -> 3718170.1 | E100: =D100*19% -> 706452.31 | F100: 4424622.4
... A112: 104 | B112: SIPS DE UN BOCIN | C112: 1 | D112: =F112/1.19 -> 617615.5 | E112: =D112*19% -> 117346.94 | F112: 734962.44
B113: SISTEMA DE FRENOS
A114: 105 | B114: SIPS PASTILLAS DE FRENO TRASERO DE DOS RUEDAS | C114: 1 | D114: =F114/1.19 -> 223703.82 | E114: =D114*19% -> 42503.726 | F114: 266207.55
A115: 106 | B115: RECTIFICADA DE CAMPANA DE UNA RUEDA | C115: 1 | D115: =F115/1.19 -> 87244.491 | E115: =D115*19% -> 16576.453 | F115: 103820.94
A116: 107 | B116: RECTIFICADA DE DISCO DE UNA RUEDA | C116: 1 | D116: =F116/1.19 -> 87244.491 | E116: =D116*19% -> 16576.453 | F116: 103820.94
A117: 108 | B117: SIPS DE BANDAS DE DOS RUEDAS | C117: 1 | D117: =F117/1.19 -> 399311.33 | E117: =D117*19% -> 75869.152 | F117: 475180.48
A118: 109 | B118: SIPS DE CAMPANA DE UNA RUEDA | C118: 1 | D118: =F118/1.19 -> 371817.01 | E118: =D118*19% -> 70645.231 | F118: 442462.24
A119: 110 | B119: SIPS DE DISCO DE UNA RUEDA | C119: 1 | D119: =F119/1.19 -> 496587.81 | E119: =D119*19% -> 94351.685 | F119: 590939.5
A120: 111 | B120: SIPS PASTILLAS DE FRENOS DELANTERAS DE DOS RUEDAS | C120: 1 | D120: =F120/1.19 -> 311927.02 | E120: =D120*19% -> 59266.134 | F120: 371193.15
A121: 112 | B121: SIPS KIT CALIPER | C121: 1 | D121: =F121/1.19 -> 149724.97 | E121: =D121*19% -> 28447.744 | F121: 178172.71
A122: 113 | B122: SIPS CALIPER | C122: 1 | D122: =F122/1.19 -> 286972.86 | E122: =D122*19% -> 54524.843 | F122: 341497.7
A123: 114 | B123: SIPS DEL PISTON DE LA MORDAZA | C123: 1 | D123: =F123/1.19 -> 212110.37 | E123: =D123*19% -> 40300.971 | F123: 252411.34
A124: 115 | B124: SIPS CONJUNTO DE MECANISMOS DE ACCIONAMIENTO DE BANDAS | C124: 1 | D124: =F124/1.19 -> 174679.13 | E124: =D124*19% -> 33189.035 | F124: 207868.17
A125: 116 | B125: SIPS BOMBA DE FRENO | C125: 1 | D125: =F125/1.19 -> 860918.57 | E125: =D125*19% -> 163574.53 | F125: 1024493.1
... A135: 126 | B135: SIPS DEL BLOQUE HIDRAULICO DEL ABS | C135: 1 | D135: =F135/1.19 -> 2470462 | E135: =D135*19% -> 469387.78 | F135: 2939849.8
B136: SISTEMA DE SUSPENSION
A137: 127 | B137: SIPS AMORTIGUADOR DELANTERO | C137: 1 | D137: =F137/1.19 -> 496587.81 | E137: =D137*19% -> 94351.685 | F137: 590939.5
A138: 128 | B138: SIPS AMORTIGUADOR TRASERO | C138: 1 | D138: =F138/1.19 -> 449174.91 | E138: =D138*19% -> 85343.232 | F138: 534518.14
A139: 129 | B139: SIPS RESORTE ESPIRAL | C139: 1 | D139: =F139/1.19 -> 361835.34 | E139: =D139*19% -> 68748.715 | F139: 430584.06
A140: 130 | B140: SIPS ROTULA SUPERIOR | C140: 1 | D140: =F140/1.19 -> 336881.18 | E140: =D140*19% -> 64007.424 | F140: 400888.6
A141: 131 | B141: SIPS ROTULA INFERIOR | C141: 1 | D141: =F141/1.19 -> 361835.34 | E141: =D141*19% -> 68748.715 | F141: 430584.06
A142: 132 | B142: SIPS TIJERA SUPERIOR | C142: 1 | D142: =F142/1.19 -> 736147.76 | E142: =D142*19% -> 139868.08 | F142: 876015.84
A143: 133 | B143: SIPS TIJERA INFERIOR | C143: 1 | D143: =F143/1.19 -> 761101.93 | E143: =D143*19% -> 144609.37 | F143: 905711.29
A144: 134 | B144: SIPS BUJES DE TIJERA | C144: 1 | D144: =F144/1.19 -> 157657.93 | E144: =D144*19% -> 29955.007 | F144: 187612.94
A145: 135 | B145: SIPS BARRA DE TORSION | C145: 1 | D145: =F145/1.19 -> 773579.01 | E145: =D145*19% -> 146980.01 | F145: 920559.02
A146: 136 | B146: SIPS BUJES BARRA DE TORSION | C146: 1 | D146: =F146/1.19 -> 237064.53 | E146: =D146*19% -> 45042.262 | F146: 282106.8
A147: 137 | B147: SIPS DE TEMPLETE O BRAZO DE TORSION | C147: 1 | D147: =F147/1.19 -> 361835.34 | E147: =D147*19% -> 68748.715 | F147: 430584.06
A148: 138 | B148: SIPS BASES DE AMORTIGUADORES | C148: 1 | D148: =F148/1.19 -> 262018.7 | E148: =D148*19% -> 49783.552 | F148: 311802.25
B149: SISTEMA DE EMBRAGUE
A150: 139 | B150: SIPS BOMBA DE EMBRAGUE | C150: 1 | D150: =F150/1.19 -> 536514.47 | E150: =D150*19% -> 101937.75 | F150: 638452.22
A151: 140 | B151: SIPS BOMBA AUXILIAR DE EMBRAGUE | C151: 1 | D151: =F151/1.19 -> 449174.91 | E151: =D151*19% -> 85343.232 | F151: 534518.14
A152: 141 | B152: SIPS CONJUNTO BALINERA, PRENSA Y DISCOS DE EMBRAGUE | C152: 1 | D152: =F152/1.19 -> 5614686.3 | E152: =D152*19% -> 1066790.4 | F152: 6681476.7
A153: 142 | B153: SIPS BALINERA DE EMBRAGUE | C153: 1 | D153: =F153/1.19 -> 611376.96 | E153: =D153*19% -> 116161.62 | F153: 727538.58
...

Sheet NISSAN FRONTIER
B6: CAMIONETA NISSAN FRONTIER | C6: CANTIDAD | D6: VALOR UNITARIO | E6: IVA | F6: VALOR TOTAL
B7: SISTEMA MOTOR
A8: 1 | B8: REPARACION GENERAL DE MOTOR AL OVERSIDE SIGUIENTE O ENCAMISADA SI SE REQUIERE | C8: 1 | D8: =F8/1.19 -> 17329517 | E8: =D8*19% -> 3292608.2 | F8: 20622125
A9: 2 | B9: ANILLADA DE MOTOR INCLUYE SIPS DE CASQUETERIA, SIPS EMPAQUETADURA DE MOTOR | C9: 1 | D9: =F9/1.19 -> 5739801 | E9: =D9*19% -> 1090562.2 | F9: 6830363.2
A10: 3 | B10: REPARACION DE CULATA | C10: 1 | D10: =F10/1.19 -> 3563459.8 | E10: =D10*19% -> 677057.36 | F10: 4240517.2
A11: 4 | B11: SIPS EMPAQUE DE CULATA | C11: 1 | D11: =F11/1.19 -> 1243623.6 | E11: =D11*19% -> 236288.48 | F11: 1479912
A12: 5 | B12: SIPS DE GUIAS DE VALVULAS Y VALVULAS | C12: 1 | D12: =F12/1.19 -> 1183834 | E12: =D12*19% -> 224928.45 | F12: 1408762.4
A13: 6 | B13: SIPS JUEGO DE IMPULSADORES HIDRAULICOS | C13: 1 | D13: =F13/1.19 -> 1781729.9 | E13: =D13*19% -> 338528.68 | F13: 2120258.6
A14: 7 | B14: SIPS JUEGO DE BALANCINES | C14: 1 | D14: =F14/1.19 -> 1159918.1 | E14: =D14*19% -> 220384.44 | F14: 1380302.6
A15: 8 | B15: RECTIFICACION CIGÜEÑAL INCLUYE SIPS CASQUETERIA | C15: 1 | D15: =F15/1.19 -> 825096.4 | E15: =D15*19% -> 156768.32 | F15: 981864.71
A16: 9 | B16: SIPS VOLANTE | C16: 1 | D16: =F16/1.19 -> 1064254.8 | E16: =D16*19% -> 202208.41 | F16: 1266463.2
A17: 10 | B17: SIPS RODAMIENTO DEL VOLANTE | C17: 1 | D17: =F17/1.19 -> 526148.43 | E17: =D17*19% -> 99968.201 | F17: 626116.63
A18: 11 | B18: SIPS CREMALLERA DEL VOLANTE | C18: 1 | D18: =F18/1.19 -> 705517.21 | E18: =D18*19% -> 134048.27 | F18: 839565.48
A19: 12 | B19: SIPS CORREA REPARTICION | C19: 1 | D19: =F19/1.19 -> 1064254.8 | E19: =D19*19% -> 202208.41 | F19: 1266463.2
... A38: 31 | B38: SINCRONIZACION DE MOTOR INCLUYE REPUESTOS NECESARIOS PARA UNA OPTIMA SINCRONIZACION | C38: 1 | D38: =F38/1.19 -> 475925.17 | E38: =D38*19% -> 90425.782 | F38: 566350.95
B39: SISTEMA ALIMENTACION AIRE/COMBUSTIBLE
A40: 32 | B40: CALIBRACION DE LA BOMBA DE INYECCION E INYECTORES EN BANCO DE PRUEBA | C40: 1 | D40: =F40/1.19 -> 4982466.2 | E40: =D40*19% -> 946668.57 | F40: 5929134.8
A41: 33 | B41: SIPS GUAYA DE ACELERACION | C41: 1 | D41: =F41/1.19 -> 235571 | E41: =D41*19% -> 44758.49 | F41: 280329.49
A42: 34 | B42: CALIBRACION DE LA BOMBA DE INYECCION | C42: 1 | D42: =F42/1.19 -> 2768036.8 | E42: =D42*19% -> 525926.99 | F42: 3293963.8
A43: 35 | B43: CALIBRACION JUEGO DE INYECTORES | C43: 1 | D43: =F43/1.19 -> 2657315.3 | E43: =D43*19% -> 504889.91 | F43: 3162205.2
A44: 36 | B44: SIPS DE UN INYECTOR INCLUYE INSTALACION | C44: 1 | D44: =F44/1.19 -> 2192285.1 | E44: =D44*19% -> 416534.17 | F44: 2608819.3
A45: 37 | B45: REPARACION DEL TURBO | C45: 1 | D45: =F45/1.19 -> 2367667.9 | E45: =D45*19% -> 449856.91 | F45: 2817524.8
A46: 38 | B46: SAMBLASTEO MULTIPLE DE ADMISION | C46: 1 | D46: =F46/1.19 -> 276803.68 | E46: =D46*19% -> 52592.699 | F46: 329396.38
A47: 39 | B47: LAVADA TANQUE DE COMBUSTIBLE | C47: 1 | D47: =F47/1.19 -> 275032.13 | E47: =D47*19% -> 52256.105 | F47: 327288.24
A48: 40 | B48: SIPS JUEGO DE FILTROS DE COMBUSTIBLE INCLUYENDO LA TRAMPA PARA LOS CASOS QUE APLIQUE | C48: 1 | D48: =F48/1.19 -> 126547.9 | E48: =D48*19% -> 24044.101 | F48: 150592
A49: 41 | B49: SIPS REGULADOR DE PRESION DE COMBUSTIBLE | C49: 1 | D49: =F49/1.19 -> 417331.37 | E49: =D49*19% -> 79292.96 | F49: 496624.33
A50: 42 | B50: SIPS JUEGO DE FILTROS DE AIRE | C50: 1 | D50: =F50/1.19 -> 84359.216 | E50: =D50*19% -> 16028.251 | F50: 100387.47
A51: 43 | B51: SIPS SENSOR MAP | C51: 1 | D51: =F51/1.19 -> 380261.82 | E51: =D51*19% -> 72249.746 | F51: 452511.56
... A62: 54 | B62: SIPS TUBO DE ADMISION DEL FILTRO AL CUERPO DE ACELERACION O CARBURADOR | C62: 1 | D62: =F62/1.19 -> 472337.79 | E62: =D62*19% -> 89744.181 | F62: 562081.97
B63: SISTEMA DE ESCAPE
A64: 55 | B64: REPARACION DE SILENCIADOR | C64: 1 | D64: =F64/1.19 -> 251116.3 | E64: =D64*19% -> 47712.096 | F64: 298828.39
A65: 56 | B65: REPARACION TUBO DE ESCAPE | C65: 1 | D65: =F65/1.19 -> 251116.3 | E65: =D65*19% -> 47712.096 | F65: 298828.39
A66: 57 | B66: SIPS DE SILINCIADOR | C66: 1 | D66: =F66/1.19 -> 747369.93 | E66: =D66*19% -> 142000.29 | F66: 889370.21
A67: 58 | B67: SIPS FLEXIBLE DEL ESCAPE | C67: 1 | D67: =F67/1.19 -> 292969.01 | E67: =D67*19% -> 55664.112 | F67: 348633.12
A68: 59 | B68: SIPS EMPAQUES O ANILLOS MULTIPLE DE ESCAPE | C68: 1 | D68: =F68/1.19 -> 286990.05 | E68: =D68*19% -> 54528.11 | F68: 341518.16
B69: SISTEMA DE LUBRICACION
A70: 60 | B70: SERVICIO DE CAMBIO DE ACEITE MOTOR NO INCLUYE EL ACEITE | C70: 1 | D70: =F70/1.19 -> 17936.878 | E70: =D70*19% -> 3408.0069 | F70: 21344.885
A71: 61 | B71: SIPS FILTRO DE ACEITE MOTOR | C71: 1 | D71: =F71/1.19 -> 43138.235 | E71: =D71*19% -> 8196.2647 | F71: 51334.5
A72: 62 | B72: SIPS BOMBA DE ACEITE MOTOR | C72: 1 | D72: =F72/1.19 -> 1192204.5 | E72: =D72*19% -> 226518.86 | F72: 1418723.4
A73: 63 | B73: SIPS SENSOR PRESION DE ACEITE MOTOR | C73: 1 | D73: =F73/1.19 -> 224808.87 | E73: =D73*19% -> 42713.686 | F73: 267522.56
A74: 64 | B74: SERVICIO DE ENGRASE GENERAL | C74: 1 | D74: =F74/1.19 -> 23915.838 | E74: =D74*19% -> 4544.0092 | F74: 28459.847
A75: 65 | B75: SERVICIO DE CAMBIO DE ACEITE DE DIFERENCIAL | C75: 1 | D75: =F75/1.19 -> 19172.549 | E75: =D75*19% -> 3642.7843 | F75: 22815.333
A76: 66 | B76: SERVICIO DE CAMBIO DE ACEITE DE LA CAJA | C76: 1 | D76: =F76/1.19 -> 19172.549 | E76: =D76*19% -> 3642.7843 | F76: 22815.333
B77: SISTEMA REFRIGERACION
A78: 67 | B78: SONDEADA DE RADIADOR | C78: 1 | D78: =F78/1.19 -> 387525.15 | E78: =D78*19% -> 73629.778 | F78: 461154.92
A79: 68 | B79: REPARACION DE RADIADOR INCLUYE PINTADA DONDE APLIQUE | C79: 1 | D79: =F79/1.19 -> 620040.24 | E79: =D79*19% -> 117807.64 | F79: 737847.88
A80: 69 | B80: LAVADA DEL INTERCOOLER | C80: 1 | D80: =F80/1.19 -> 276803.68 | E80: =D80*19% -> 52592.699 | F80: 329396.38
A81: 70 | B81: SIPS DE REFRIGERANTE MOTOR POR CUARTOS ALTA CALIDAD | C81: 1 | D81: =F81/1.19 -> 29894.797 | E81: =D81*19% -> 5680.0114 | F81: 35574.808
A82: 71 | B82: SIPS BOMBA DE AGUA | C82: 1 | D82: =F82/1.19 -> 681601.37 | E82: =D82*19% -> 129504.26 | F82: 811105.63
A83: 72 | B83: SIPS MANGUERA SUPERIOR RADIADOR | C83: 1 | D83: =F83/1.19 -> 191326.7 | E83: =D83*19% -> 36352.073 | F83: 227678.77
A84: 73 | B84: SIPS MANGUERA INFERIOR RADIADOR | C84: 1 | D84: =F84/1.19 -> 227200.46 | E84: =D84*19% -> 43168.087 | F84: 270368.54
A85: 74 | B85: SIPS MANGUERA DE CALEFACCION | C85: 1 | D85: =F85/1.19 -> 257095.25 | E85: =D85*19% -> 48848.098 | F85: 305943.35
A86: 75 | B86: SIPS SENSOR DE TEMPERATURA | C86: 1 | D86: =F86/1.19 -> 236766.79 | E86: =D86*19% -> 44985.691 | F86: 281752.48
A87: 76 | B87: SIPS DE RADIADOR | C87: 1 | D87: =F87/1.19 -> 1527956.3 | E87: =D87*19% -> 290311.7 | F87: 1818268
A88: 77 | B88: SIPS DEL TERMOSTATO | C88: 1 | D88: =F88/1.19 -> 356345.98 | E88: =D88*19% -> 67705.736 | F88: 424051.72
A89: 78 | B89: SIPS DE TAPA DE RADIADOR | C89: 1 | D89: =F89/1.19 -> 66432.882 | E89: =D89*19% -> 12622.248 | F89: 79055.13
A90: 79 | B90: SIPS DEL DEPOSITO AUXILIAR DE REFRIGERANTE MOTOR | C90: 1 | D90: =F90/1.19 -> 382653.4 | E90: =D90*19% -> 72704.146 | F90: 455357.55
B91: SISTEMA DE DIRECCION
A92: 80 | B92: ALINEACION Y BALANCEO DE TODAS LAS RUEDAS | C92: 1 | D92: =F92/1.19 -> 143495.03 | E92: =D92*19% -> 27264.055 | F92: 170759.08
A93: 81 | B93: ALINEACION | C93: 1 | D93: =F93/1.19 -> 83705.432 | E93: =D93*19% -> 15904.032 | F93: 99609.464
A94: 82 | B94: BALANCEO | C94: 1 | D94: =F94/1.19 -> 47831.675 | E94: =D94*19% -> 9088.0183 | F94: 56919.694
A95: 83 | B95: SIPS DE CINTILLA DEL SISTEMA AIR-BAG | C95: 1 | D95: =F95/1.19 -> 825096.4 | E95: =D95*19% -> 156768.32 | F95: 981864.71
A96: 84 | B96: SIPS DE TODOS LOS TERMINALES DE DIRECCION | C96: 1 | D96: =F96/1.19 -> 1040338.9 | E96: =D96*19% -> 197664.4 | F96: 1238003.3
A97: 85 | B97: SIPS DE UN TERMINAL DE DIRECCION | C97: 1 | D97: =F97/1.19 -> 275032.13 | E97: =D97*19% -> 52256.105 | F97: 327288.24
A98: 86 | B98: SIPS DE TODOS LOS BRAZOS DE DIRECCION | C98: 1 | D98: =F98/1.19 -> 950654.55 | E98: =D98*19% -> 180624.36 | F98: 1131278.9
A99: 87 | B99: SIPS DE UN BRAZO DE DIRECCION | C99: 1 | D99: =F99/1.19 -> 346779.65 | E99: =D99*19% -> 65888.133 | F99: 412667.78
A100: 88 | B100: SIPS CAÑA DE DIRECCION INCLUYENDO CRUCETAS Y RODAMIENTOS | C100: 1 | D100: =F100/1.19 -> 609853.86 | E100: =D100*19% -> 115872.23 | F100: 725726.09
A101: 89 | B101: SIPS BRAZO PITMAN | C101: 1 | D101: =F101/1.19 -> 406569.24 | E101: =D101*19% -> 77248.156 | F101: 483817.4
A102: 90 | B102: SIPS BIELA DE DIRECCION | C102: 1 | D102: =F102/1.19 -> 404177.66 | E102: =D102*19% -> 76793.755 | F102: 480971.41
A103: 91 | B103: SIPS DE LA CAJA DE DIRECCION | C103: 1 | D103: =F103/1.19 -> 399394.49 | E103: =D103*19% -> 75884.953 | F103: 475279.44
... A116: 104 | B116: SIPS DE UN BOCIN | C116: 1 | D116: =F116/1.19 -> 643336.03 | E116: =D116*19% -> 122233.85 | F116: 765569.88
B117: SISTEMA DE FRENOS
A118: 105 | B118: REMACHADA DE BANDAS TRASERAS DE DOS RUEDAS | C118: 1 | D118: =F118/1.19 -> 215242.54 | E118: =D118*19% -> 40896.082 | F118: 256138.62
A119: 106 | B119: RECTIFICADA DE CAMPANA DE UNA RUEDA | C119: 1 | D119: =F119/1.19 -> 107621.27 | E119: =D119*19% -> 20448.041 | F119: 128069.31
A120: 107 | B120: RECTIFICADA DE DISCO DE UNA RUEDA | C120: 1 | D120: =F120/1.19 -> 107621.27 | E120: =D120*19% -> 20448.041 | F120: 128069.31
A121: 108 | B121: SIPS DE BANDAS DE DOS RUEDAS | C121: 1 | D121: =F121/1.19 -> 378657.84 | E121: =D121*19% -> 71944.99 | F121: 450602.83
A122: 109 | B122: SIPS DE CAMPANA DE UNA RUEDA | C122: 1 | D122: =F122/1.19 -> 406569.24 | E122: =D122*19% -> 77248.156 | F122: 483817.4
A123: 110 | B123: SIPS DE DISCO DE UNA RUEDA | C123: 1 | D123: =F123/1.19 -> 405373.45 | E123: =D123*19% -> 77020.955 | F123: 482394.4
A124: 111 | B124: SIPS PASTILLAS DE FRENOS DELANTERAS DE DOS RUEDAS | C124: 1 | D124: =F124/1.19 -> 285670.98 | E124: =D124*19% -> 54277.486 | F124: 339948.47
A125: 112 | B125: SIPS KIT CALIPER | C125: 1 | D125: =F125/1.19 -> 155452.94 | E125: =D125*19% -> 29536.059 | F125: 184989
A126: 113 | B126: SIPS CALIPER | C126: 1 | D126: =F126/1.19 -> 452009.33 | E126: =D126*19% -> 85881.773 | F126: 537891.1
A127: 114 | B127: SIPS DEL PISTON DE LA MORDAZA | C127: 1 | D127: =F127/1.19 -> 285794.26 | E127: =D127*19% -> 54300.909 | F127: 340095.17
A128: 115 | B128: SIPS CONJUNTO DE MECANISMOS DE ACCIONAMIENTO DE BANDAS | C128: 1 | D128: =F128/1.19 -> 167410.86 | E128: =D128*19% -> 31808.064 | F128: 199218.93
A129: 116 | B129: SIPS BOMBA DE FRENO | C129: 1 | D129: =F129/1.19 -> 834662.73 | E129: =D129*19% -> 158585.92 | F129: 993248.65
... A138: 125 | B138: SIPS DEL BLOQUE HIDRAULICO DEL ABS | C138: 1 | D138: =F138/1.19 -> 1566487.4 | E138: =D138*19% -> 297632.6 | F138: 1864120
B139: SISTEMA DE SUSPENSION
A140: 126 | B140: SIPS AMORTIGUADOR DELANTERO | C140: 1 | D140: =F140/1.19 -> 575751.65 | E140: =D140*19% -> 109392.81 | F140: 685144.46
A141: 127 | B141: SIPS AMORTIGUADOR TRASERO | C141: 1 | D141: =F141/1.19 -> 332430.14 | E141: =D141*19% -> 63161.727 | F141: 395591.87
A142: 128 | B142: SIPS HOJA DE RESORTE PRINCIPAL | C142: 1 | D142: =F142/1.19 -> 357541.77 | E142: =D142*19% -> 67932.937 | F142: 425474.71
A143: 129 | B143: SIPS HOJA DE RESORTE SECUNDARIA | C143: 1 | D143: =F143/1.19 -> 356345.98 | E143: =D143*19% -> 67705.736 | F143: 424051.72
A144: 130 | B144: SIPS MUELLE TRASERO COMPLETO | C144: 1 | D144: =F144/1.19 -> 860970.16 | E144: =D144*19% -> 163584.33 | F144: 1024554.5
A145: 131 | B145: SIPS RESORTE ESPIRAL | C145: 1 | D145: =F145/1.19 -> 551392.92 | E145: =D145*19% -> 104764.66 | F145: 656157.58
A146: 132 | B146: SIPS ROTULA SUPERIOR | C146: 1 | D146: =F146/1.19 -> 302926.27 | E146: =D146*19% -> 57555.992 | F146: 360482.27
A147: 133 | B147: SIPS ROTULA INFERIOR | C147: 1 | D147: =F147/1.19 -> 361129.15 | E147: =D147*19% -> 68614.538 | F147: 429743.69
A148: 134 | B148: SIPS TIJERA SUPERIOR | C148: 1 | D148: =F148/1.19 -> 834662.73 | E148: =D148*19% -> 158585.92 | F148: 993248.65
A149: 135 | B149: SIPS TIJERA INFERIOR | C149: 1 | D149: =F149/1.19 -> 944675.59 | E149: =D149*19% -> 179488.36 | F149: 1124163.9
A150: 136 | B150: SIPS BUJES DE TIJERA | C150: 1 | D150: =F150/1.19 -> 387525.15 | E150: =D150*19% -> 73629.778 | F150: 461154.92
A151: 137 | B151: SIPS BUJES DE BALLESTAS | C151: 1 | D151: =F151/1.19 -> 176977.2 | E151: =D151*19% -> 33625.668 | F151: 210602.87
... A157: 143 | B157: SIPS PIN PASADOR BALLESTAS | C157: 1 | D157: =F157/1.19 -> 83705.432 | E157: =D157*19% -> 15904.032 | F157: 99609.464
B158: SISTEMA DE EMBRAGUE
...

Sheet RENAULT DUSTER
B7: CAMPERO RENAULT DUSTER BVM6 4X4 2, MODELO 214 GASOLINA | C7: CANTIDAD | D7: VALOR UNITARIO | E7: IVA | F7: VALOR TOTAL
B8: SISTEMA MOTOR
A9: 1 | B9: REPARACION GENERAL DE MOTOR AL OVERSIDE SIGUIENTE O ENCAMISADA SI SE REQUIERE | C9: 1 | D9: =F9/1.19 -> 14827518 | E9: =D9*19% -> 2817228.5 | F9: 17644747
A10: 2 | B10: ANILLADA DE MOTOR INCLUYE SIPS DE CASQUETERIA, SIPS EMPAQUETADURA DE MOTOR | C10: 1 | D10: =F10/1.19 -> 4207415.9 | E10: =D10*19% -> 799409.02 | F10: 5006824.9
A11: 3 | B11: REPARACION DE CULATA | C11: 1 | D11: =F11/1.19 -> 2272004.6 | E11: =D11*19% -> 431680.87 | F11: 2703685.4
A12: 4 | B12: SIPS EMPAQUE DE CULATA | C12: 1 | D12: =F12/1.19 -> 1439379.1 | E12: =D12*19% -> 273482.03 | F12: 1712861.2
A13: 5 | B13: SIPS DE GUIAS DE VALVULAS Y VALVULAS | C13: 1 | D13: =F13/1.19 -> 466358.83 | E13: =D13*19% -> 88608.178 | F13: 554967.01
A14: 6 | B14: SIPS JUEGO DE IMPULSADORES HIDRAULICOS | C14: 1 | D14: =F14/1.19 -> 595504.36 | E14: =D14*19% -> 113145.83 | F14: 708650.19
A15: 7 | B15: SIPS JUEGO DE BALANCINES | C15: 1 | D15: =F15/1.19 -> 860970.16 | E15: =D15*19% -> 163584.33 | F15: 1024554.5
A16: 8 | B16: RECTIFICACION CIGÜEÑAL INCLUYE SIPS CASQUETERIA | C16: 1 | D16: =F16/1.19 -> 1028381 | E16: =D16*19% -> 195392.39 | F16: 1223773.4
A17: 9 | B17: SIPS VOLANTE | C17: 1 | D17: =F17/1.19 -> 884885.99 | E17: =D17*19% -> 168128.34 | F17: 1053014.3
A18: 10 | B18: SIPS RODAMIENTO DEL VOLANTE | C18: 1 | D18: =F18/1.19 -> 406569.24 | E18: =D18*19% -> 77248.156 | F18: 483817.4
A19: 11 | B19: SIPS CREMALLERA DEL VOLANTE | C19: 1 | D19: =F19/1.19 -> 562022.18 | E19: =D19*19% -> 106784.22 | F19: 668806.4
A20: 12 | B20: SIPS CORREA REPARTICION | C20: 1 | D20: =F20/1.19 -> 697545.26 | E20: =D20*19% -> 132533.6 | F20: 830078.86
... A38: 30 | B38: REVISION TECNICO MECANICA Y DE GASES | C38: 1 | D38: =F38/1.19 -> 300819.44 | E38: =D38*19% -> 57155.694 | F38: 357975.13
B39: SISTEMA ALIMENTACION AIRE/COMBUSTIBLE
A40: 31 | B40: SIPS GUAYA DE ACELERACION | C40: 1 | D40: =F40/1.19 -> 310905.89 | E40: =D40*19% -> 59072.119 | F40: 369978.01
A41: 32 | B41: LAVADA JUEGO DE INYECTORES POR ULTRASONIDO INCLUYE SIPS DE FILTROS DE INYECTORES Y ORINGS | C41: 1 | D41: =F41/1.19 -> 346779.65 | E41: =D41*19% -> 65888.133 | F41: 412667.78
A42: 33 | B42: SIPS DE UN INYECTOR INCLUYE INSTALACION | C42: 1 | D42: =F42/1.19 -> 550064.27 | E42: =D42*19% -> 104512.21 | F42: 654576.48
A43: 34 | B43: LIMPIEZA CUERPO DE ACELERACION Y VALVULA IAC | C43: 1 | D43: =F43/1.19 -> 346779.65 | E43: =D43*19% -> 65888.133 | F43: 412667.78
A44: 35 | B44: SAMBLASTEO MULTIPLE DE ADMISION | C44: 1 | D44: =F44/1.19 -> 131537.11 | E44: =D44*19% -> 24992.05 | F44: 156529.16
A45: 36 | B45: LAVADA TANQUE DE COMBUSTIBLE | C45: 1 | D45: =F45/1.19 -> 263074.21 | E45: =D45*19% -> 49984.101 | F45: 313058.31
A46: 37 | B46: SIPS JUEGO DE FILTROS DE COMBUSTIBLE INCLUYENDO LA TRAMPA PARA LOS CASOS QUE APLIQUE | C46: 1 | D46: =F46/1.19 -> 49848.627 | E46: =D46*19% -> 9471.2392 | F46: 59319.867
A47: 38 | B47: SIPS REGULADOR DE PRESION DE COMBUSTIBLE | C47: 1 | D47: =F47/1.19 -> 191326.7 | E47: =D47*19% -> 36352.073 | F47: 227678.77
A48: 39 | B48: SIPS RIEL DE INYECTORES | C48: 1 | D48: =F48/1.19 -> 693559.29 | E48: =D48*19% -> 131776.27 | F48: 825335.56
A49: 40 | B49: SIPS JUEGO DE FILTROS DE AIRE | C49: 1 | D49: =F49/1.19 -> 43138.235 | E49: =D49*19% -> 8196.2647 | F49: 51334.5
A50: 41 | B50: SIPS SENSOR MAP | C50: 1 | D50: =F50/1.19 -> 203284.62 | E50: =D50*19% -> 38624.078 | F50: 241908.7
A51: 42 | B51: SIPS SENSOR MAF | C51: 1 | D51: =F51/1.19 -> 251116.3 | E51: =D51*19% -> 47712.096 | F51: 298828.39
... A63: 54 | B63: SIPS TUBO DE ADMISION DEL FILTRO AL CUERPO DE ACELERACION O CARBURADOR | C63: 1 | D63: =F63/1.19 -> 310905.89 | E63: =D63*19% -> 59072.119 | F63: 369978.01
B64: SISTEMA DE ESCAPE
A65: 55 | B65: REPARACION DE SILENCIADOR | C65: 1 | D65: =F65/1.19 -> 243587.24 | E65: =D65*19% -> 46281.575 | F65: 289868.81
A66: 56 | B66: REPARACION TUBO DE ESCAPE | C66: 1 | D66: =F66/1.19 -> 199298.65 | E66: =D66*19% -> 37866.743 | F66: 237165.39
A67: 57 | B67: SIPS DE SILINCIADOR | C67: 1 | D67: =F67/1.19 -> 585938.02 | E67: =D67*19% -> 111328.22 | F67: 697266.25
A68: 58 | B68: SIPS FLEXIBLE DEL ESCAPE | C68: 1 | D68: =F68/1.19 -> 334821.73 | E68: =D68*19% -> 63616.128 | F68: 398437.86
A69: 59 | B69: SIPS EMPAQUES O ANILLOS MULTIPLE DE ESCAPE | C69: 1 | D69: =F69/1.19 -> 215242.54 | E69: =D69*19% -> 40896.082 | F69: 256138.62
A70: 60 | B70: SIPS CATALIZADOR | C70: 1 | D70: =F70/1.19 -> 765306.8 | E70: =D70*19% -> 145408.29 | F70: 910715.1
B71: SISTEMA DE LUBRICACION
A72: 61 | B72: SERVICIO DE CAMBIO DE ACEITE MOTOR NO INCLUYE EL ACEITE | C72: 1 | D72: =F72/1.19 -> 23915.838 | E72: =D72*19% -> 4544.0092 | F72: 28459.847
A73: 62 | B73: SIPS FILTRO DE ACEITE MOTOR | C73: 1 | D73: =F73/1.19 -> 33551.961 | E73: =D73*19% -> 6374.8725 | F73: 39926.833
A74: 63 | B74: SIPS BOMBA DE ACEITE MOTOR | C74: 1 | D74: =F74/1.19 -> 573980.1 | E74: =D74*19% -> 109056.22 | F74: 683036.32
A75: 64 | B75: SIPS SENSOR PRESION DE ACEITE MOTOR | C75: 1 | D75: =F75/1.19 -> 117187.6 | E75: =D75*19% -> 22265.645 | F75: 139453.25
A76: 65 | B76: SERVICIO DE ENGRASE GENERAL | C76: 1 | D76: =F76/1.19 -> 14349.503 | E76: =D76*19% -> 2726.4055 | F76: 17075.908
A77: 66 | B77: SERVICIO DE CAMBIO DE ACEITE DE DIFERENCIAL | C77: 1 | D77: =F77/1.19 -> 17936.878 | E77: =D77*19% -> 3408.0069 | F77: 21344.885
A78: 67 | B78: SERVICIO DE CAMBIO DE ACEITE DE LA CAJA | C78: 1 | D78: =F78/1.19 -> 17936.878 | E78: =D78*19% -> 3408.0069 | F78: 21344.885
B79: SISTEMA REFRIGERACION
A80: 68 | B80: SONDEADA DE RADIADOR | C80: 1 | D80: =F80/1.19 -> 354308.71 | E80: =D80*19% -> 67318.654 | F80: 421627.36
A81: 69 | B81: REPARACION DE RADIADOR INCLUYE PINTADA DONDE APLIQUE | C81: 1 | D81: =F81/1.19 -> 420741.59 | E81: =D81*19% -> 79940.902 | F81: 500682.49
A82: 70 | B82: SIPS DE REFRIGERANTE MOTOR POR CUARTOS ALTA CALIDAD | C82: 1 | D82: =F82/1.19 -> 28699.005 | E82: =D82*19% -> 5452.811 | F82: 34151.816
A83: 71 | B83: SIPS BOMBA DE AGUA | C83: 1 | D83: =F83/1.19 -> 645727.62 | E83: =D83*19% -> 122688.25 | F83: 768415.86
A84: 72 | B84: SIPS MANGUERA SUPERIOR RADIADOR | C84: 1 | D84: =F84/1.19 -> 173389.82 | E84: =D84*19% -> 32944.066 | F84: 206333.89
A85: 73 | B85: SIPS MANGUERA INFERIOR RADIADOR | C85: 1 | D85: =F85/1.19 -> 173389.82 | E85: =D85*19% -> 32944.066 | F85: 206333.89
A86: 74 | B86: SIPS MANGUERA DE CALEFACCION | C86: 1 | D86: =F86/1.19 -> 310020.12 | E86: =D86*19% -> 58903.822 | F86: 368923.94
A87: 75 | B87: SIPS SENSOR DE TEMPERATURA | C87: 1 | D87: =F87/1.19 -> 215242.54 | E87: =D87*19% -> 40896.082 | F87: 256138.62
A88: 76 | B88: SIPS DE RADIADOR | C88: 1 | D88: =F88/1.19 -> 1040338.9 | E88: =D88*19% -> 197664.4 | F88: 1238003.3
A89: 77 | B89: SIPS DEL TERMOSTATO | C89: 1 | D89: =F89/1.19 -> 209263.58 | E89: =D89*19% -> 39760.08 | F89: 249023.66
A90: 78 | B90: SIPS DEL MOTOVENTILADOR | C90: 1 | D90: =F90/1.19 -> 538106.35 | E90: =D90*19% -> 102240.21 | F90: 640346.55
A91: 79 | B91: SIPS DE TAPA DE RADIADOR | C91: 1 | D91: =F91/1.19 -> 38265.34 | E91: =D91*19% -> 7270.4146 | F91: 45535.755
A92: 80 | B92: SIPS DEL DEPOSITO AUXILIAR DE REFRIGERANTE MOTOR | C92: 1 | D92: =F92/1.19 -> 203284.62 | E92: =D92*19% -> 38624.078 | F92: 241908.7
B93: SISTEMA DE DIRECCION
A94: 81 | B94: ALINEACION Y BALANCEO DE TODAS LAS RUEDAS | C94: 1 | D94: =F94/1.19 -> 143495.03 | E94: =D94*19% -> 27264.055 | F94: 170759.08
A95: 82 | B95: ALINEACION | C95: 1 | D95: =F95/1.19 -> 83705.432 | E95: =D95*19% -> 15904.032 | F95: 99609.464
A96: 83 | B96: BALANCEO | C96: 1 | D96: =F96/1.19 -> 47831.675 | E96: =D96*19% -> 9088.0183 | F96: 56919.694
A97: 84 | B97: SIPS DE CINTILLA DEL SISTEMA AIR-BAG | C97: 1 | D97: =F97/1.19 -> 813138.48 | E97: =D97*19% -> 154496.31 | F97: 967634.79
A98: 85 | B98: SIPS DE TODOS LOS TERMINALES DE DIRECCION | C98: 1 | D98: =F98/1.19 -> 346779.65 | E98: =D98*19% -> 65888.133 | F98: 412667.78
A99: 86 | B99: SIPS DE UN TERMINAL DE DIRECCION | C99: 1 | D99: =F99/1.19 -> 167410.86 | E99: =D99*19% -> 31808.064 | F99: 199218.93
A100: 87 | B100: SIPS DE TODOS LOS BRAZOS DE DIRECCION | C100: 1 | D100: =F100/1.19 -> 346779.65 | E100: =D100*19% -> 65888.133 | F100: 412667.78
A101: 88 | B101: SIPS DE UN BRAZO DE DIRECCION | C101: 1 | D101: =F101/1.19 -> 179368.78 | E101: =D101*19% -> 34080.069 | F101: 213448.85
A102: 89 | B102: SIPS CAÑA DE DIRECCION INCLUYENDO CRUCETAS Y RODAMIENTOS | C102: 1 | D102: =F102/1.19 -> 825096.4 | E102: =D102*19% -> 156768.32 | F102: 981864.71
A103: 90 | B103: SIPS BRAZO PITMAN | C103: 1 | D103: =F103/1.19 -> 263074.21 | E103: =D103*19% -> 49984.101 | F103: 313058.31
A104: 91 | B104: SIPS BIELA DE DIRECCION | C104: 1 | D104: =F104/1.19 -> 185347.74 | E104: =D104*19% -> 35216.071 | F104: 220563.81
A105: 92 | B105: SIPS DE LA CAJA DE DIRECCION | C105: 1 | D105: =F105/1.19 -> 1411034.4 | E105: =D105*19% -> 268096.54 | F105: 1679131
... A117: 104 | B117: SIPS DE UN BOCIN | C117: 1 | D117: =F117/1.19 -> 382653.4 | E117: =D117*19% -> 72704.146 | F117: 455357.55
B118: SISTEMA DE FRENOS
A119: 105 | B119: REMACHADA DE BANDAS TRASERAS DE DOS RUEDAS | C119: 1 | D119: =F119/1.19 -> 199298.65 | E119: =D119*19% -> 37866.743 | F119: 237165.39
A120: 106 | B120: RECTIFICADA DE CAMPANA DE UNA RUEDA | C120: 1 | D120: =F120/1.19 -> 95663.351 | E120: =D120*19% -> 18176.037 | F120: 113839.39
A121: 107 | B121: RECTIFICADA DE DISCO DE UNA RUEDA | C121: 1 | D121: =F121/1.19 -> 95663.351 | E121: =D121*19% -> 18176.037 | F121: 113839.39
A122: 108 | B122: SIPS DE BANDAS DE DOS RUEDAS | C122: 1 | D122: =F122/1.19 -> 311553.92 | E122: =D122*19% -> 59195.245 | F122: 370749.17
A123: 109 | B123: SIPS DE CAMPANA DE UNA RUEDA | C123: 1 | D123: =F123/1.19 -> 381989.07 | E123: =D123*19% -> 72577.924 | F123: 454567
A124: 110 | B124: SIPS DE DISCO DE UNA RUEDA | C124: 1 | D124: =F124/1.19 -> 346779.65 | E124: =D124*19% -> 65888.133 | F124: 412667.78
A125: 111 | B125: SIPS PASTILLAS DE FRENOS DELANTERAS DE DOS RUEDAS | C125: 1 | D125: =F125/1.19 -> 256912.16 | E125: =D125*19% -> 48813.31 | F125: 305725.47
A126: 112 | B126: SIPS KIT CALIPER | C126: 1 | D126: =F126/1.19 -> 310905.89 | E126: =D126*19% -> 59072.119 | F126: 369978.01
A127: 113 | B127: SIPS CALIPER | C127: 1 | D127: =F127/1.19 -> 334821.73 | E127: =D127*19% -> 63616.128 | F127: 398437.86
A128: 114 | B128: SIPS DEL PISTON DE LA MORDAZA | C128: 1 | D128: =F128/1.19 -> 191326.7 | E128: =D128*19% -> 36352.073 | F128: 227678.77
A129: 115 | B129: SIPS CONJUNTO DE MECANISMOS DE ACCIONAMIENTO DE BANDAS | C129: 1 | D129: =F129/1.19 -> 215242.54 | E129: =D129*19% -> 40896.082 | F129: 256138.62
A130: 116 | B130: SIPS BOMBA DE FRENO | C130: 1 | D130: =F130/1.19 -> 585938.02 | E130: =D130*19% -> 111328.22 | F130: 697266.25
... A137: 123 | B137: SERVICIO DE CALIBRACION GENERAL DE FRENOS | C137: 1 | D137: =F137/1.19 -> 33216.441 | E137: =D137*19% -> 6311.1238 | F137: 39527.565
B138: SISTEMA DE SUSPENSION
A139: 124 | B139: SIPS AMORTIGUADOR DELANTERO | C139: 1 | D139: =F139/1.19 -> 431813.74 | E139: =D139*19% -> 82044.61 | F139: 513858.35
A140: 125 | B140: SIPS AMORTIGUADOR TRASERO | C140: 1 | D140: =F140/1.19 -> 420741.59 | E140: =D140*19% -> 79940.902 | F140: 500682.49
A141: 126 | B141: SIPS HOJA DE RESORTE PRINCIPAL | C141: 1 | D141: =F141/1.19 -> 143495.03 | E141: =D141*19% -> 27264.055 | F141: 170759.08
A142: 127 | B142: SIPS HOJA DE RESORTE SECUNDARIA | C142: 1 | D142: =F142/1.19 -> 107621.27 | E142: =D142*19% -> 20448.041 | F142: 128069.31
A143: 128 | B143: SIPS MUELLE TRASERO COMPLETO | C143: 1 | D143: =F143/1.19 -> 322863.81 | E143: =D143*19% -> 61344.124 | F143: 384207.93
A144: 129 | B144: SIPS ROTULA SUPERIOR | C144: 1 | D144: =F144/1.19 -> 119579.19 | E144: =D144*19% -> 22720.046 | F144: 142299.23
A145: 130 | B145: SIPS ROTULA INFERIOR | C145: 1 | D145: =F145/1.19 -> 155452.94 | E145: =D145*19% -> 29536.059 | F145: 184989
A146: 131 | B146: SIPS TIJERA SUPERIOR | C146: 1 | D146: =F146/1.19 -> 215242.54 | E146: =D146*19% -> 40896.082 | F146: 256138.62
A147: 132 | B147: SIPS TIJERA INFERIOR | C147: 1 | D147: =F147/1.19 -> 420741.59 | E147: =D147*19% -> 79940.902 | F147: 500682.49
A148: 133 | B148: SIPS BUJES DE TIJERA | C148: 1 | D148: =F148/1.19 -> 354308.71 | E148: =D148*19% -> 67318.654 | F148: 421627.36
A149: 134 | B149: SIPS BUJES DE BALLESTAS | C149: 1 | D149: =F149/1.19 -> 95663.351 | E149: =D149*19% -> 18176.037 | F149: 113839.39
A150: 135 | B150: SIPS BARRA DE TORSION | C150: 1 | D150: =F150/1.19 -> 143495.03 | E150: =D150*19% -> 27264.055 | F150: 170759.08
... A154: 139 | B154: SIPS PIN PASADOR BALLESTAS | C154: 1 | D154: =F154/1.19 -> 41852.716 | E154: =D154*19% -> 7952.016 | F154: 49804.732
...

Sheet RENAULT TRAFFIC
B2: RENAULT TRAFFIC MODELO 22 CC 1,6 | C2: CANTIDAD | D2: VALOR UNITARIO | E2: IVA | F2: VALOR TOTAL
B3: SISTEMA MOTOR
A4: 1 | B4: REPARACION GENERAL DE MOTOR AL OVERSIDE SIGUIENTE O ENCAMISADA SI SE REQUIERE | C4: 1 | D4: =F4/1.19 -> 18176037 | E4: =D4*19% -> 3453447 | F4: 21629484
A5: 2 | B5: ANILLADA DE MOTOR INCLUYE SIPS DE CASQUETERIA, SIPS EMPAQUETADURA DE MOTOR | C5: 1 | D5: =F5/1.19 -> 6337697 | E5: =D5*19% -> 1204162.4 | F5: 7541859.4
A6: 3 | B6: REPARACION DE CULATA | C6: 1 | D6: =F6/1.19 -> 3467796.5 | E6: =D6*19% -> 658881.33 | F6: 4126677.8
A7: 4 | B7: SIPS EMPAQUE DE CULATA | C7: 1 | D7: =F7/1.19 -> 1046317.9 | E7: =D7*19% -> 198800.4 | F7: 1245118.3
A8: 5 | B8: SIPS DE GUIAS DE VALVULAS Y VALVULAS | C8: 1 | D8: =F8/1.19 -> 1064254.8 | E8: =D8*19% -> 202208.41 | F8: 1266463.2
A9: 6 | B9: SIPS JUEGO DE IMPULSADORES HIDRAULICOS | C9: 1 | D9: =F9/1.19 -> 1185029.8 | E9: =D9*19% -> 225155.65 | F9: 1410185.4
A10: 7 | B10: SIPS JUEGO DE BALANCINES | C10: 1 | D10: =F10/1.19 -> 988919.89 | E10: =D10*19% -> 187894.78 | F10: 1176814.7
A11: 8 | B11: RECTIFICACION CIGÜEÑAL INCLUYE SIPS CASQUETERIA | C11: 1 | D11: =F11/1.19 -> 753348.89 | E11: =D11*19% -> 143136.29 | F11: 896485.17
A12: 9 | B12: SIPS VOLANTE | C12: 1 | D12: =F12/1.19 -> 978157.76 | E12: =D12*19% -> 185849.97 | F12: 1164007.7
A13: 10 | B13: SIPS RODAMIENTO DEL VOLANTE | C13: 1 | D13: =F13/1.19 -> 571588.52 | E13: =D13*19% -> 108601.82 | F13: 680190.34
A14: 11 | B14: SIPS CREMALLERA DEL VOLANTE | C14: 1 | D14: =F14/1.19 -> 585938.02 | E14: =D14*19% -> 111328.22 | F14: 697266.25
A15: 12 | B15: SIPS CORREA REPARTICION | C15: 1 | D15: =F15/1.19 -> 961416.67 | E15: =D15*19% -> 182669.17 | F15: 1144085.8
... A34: 31 | B34: SINCRONIZACION DE MOTOR INCLUYE REPUESTOS NECESARIOS PARA UNA OPTIMA SINCRONIZACION | C34: 1 | D34: =F34/1.19 -> 394611.32 | E34: =D34*19% -> 74976.151 | F34: 469587.47
B35: SISTEMA ALIMENTACION AIRE/COMBUSTIBLE
A36: 32 | B36: CALIBRACION DE LA BOMBA DE INYECCION E INYECTORES EN BANCO DE PRUEBA | C36: 1 | D36: =F36/1.19 -> 3875251.5 | E36: =D36*19% -> 736297.78 | F36: 4611549.2
A37: 33 | B37: SIPS GUAYA DE ACELERACION | C37: 1 | D37: =F37/1.19 -> 197305.66 | E37: =D37*19% -> 37488.076 | F37: 234793.74
A38: 34 | B38: CALIBRACION DE LA BOMBA DE INYECCION | C38: 1 | D38: =F38/1.19 -> 2546593.8 | E38: =D38*19% -> 483852.83 | F38: 3030446.6
A39: 35 | B39: CALIBRACION JUEGO DE INYECTORES | C39: 1 | D39: =F39/1.19 -> 2657315.3 | E39: =D39*19% -> 504889.91 | F39: 3162205.2
A40: 36 | B40: SIPS DE UN INYECTOR INCLUYE INSTALACION | C40: 1 | D40: =F40/1.19 -> 2325150.9 | E40: =D40*19% -> 441778.67 | F40: 2766929.6
A41: 37 | B41: REPARACION DEL TURBO | C41: 1 | D41: =F41/1.19 -> 2768036.8 | E41: =D41*19% -> 525926.99 | F41: 3293963.8
A42: 38 | B42: SAMBLASTEO MULTIPLE DE ADMISION | C42: 1 | D42: =F42/1.19 -> 387525.15 | E42: =D42*19% -> 73629.778 | F42: 461154.92
A43: 39 | B43: LAVADA TANQUE DE COMBUSTIBLE | C43: 1 | D43: =F43/1.19 -> 286990.05 | E43: =D43*19% -> 54528.11 | F43: 341518.16
A44: 40 | B44: SIPS JUEGO DE FILTROS DE COMBUSTIBLE INCLUYENDO LA TRAMPA PARA LOS CASOS QUE APLIQUE | C44: 1 | D44: =F44/1.19 -> 314429.8 | E44: =D44*19% -> 59741.663 | F44: 374171.47
A45: 41 | B45: SIPS REGULADOR DE PRESION DE COMBUSTIBLE | C45: 1 | D45: =F45/1.19 -> 480708.34 | E45: =D45*19% -> 91334.584 | F45: 572042.92
A46: 42 | B46: SIPS JUEGO DE FILTROS DE AIRE | C46: 1 | D46: =F46/1.19 -> 201311.76 | E46: =D46*19% -> 38249.235 | F46: 239561
A47: 43 | B47: SIPS SENSOR MAP | C47: 1 | D47: =F47/1.19 -> 454400.92 | E47: =D47*19% -> 86336.174 | F47: 540737.09
... A58: 54 | B58: SIPS TUBO DE ADMISION DEL FILTRO AL CUERPO DE ACELERACION O CARBURADOR | C58: 1 | D58: =F58/1.19 -> 370695.48 | E58: =D58*19% -> 70432.142 | F58: 441127.63
B59: SISTEMA DE ESCAPE
A60: 55 | B60: REPARACION DE SILENCIADOR | C60: 1 | D60: =F60/1.19 -> 286990.05 | E60: =D60*19% -> 54528.11 | F60: 341518.16
A61: 56 | B61: REPARACION TUBO DE ESCAPE | C61: 1 | D61: =F61/1.19 -> 203284.62 | E61: =D61*19% -> 38624.078 | F61: 241908.7
A62: 57 | B62: SIPS DE SILINCIADOR | C62: 1 | D62: =F62/1.19 -> 562022.18 | E62: =D62*19% -> 106784.22 | F62: 668806.4
A63: 58 | B63: SIPS FLEXIBLE DEL ESCAPE | C63: 1 | D63: =F63/1.19 -> 227200.46 | E63: =D63*19% -> 43168.087 | F63: 270368.54
A64: 59 | B64: SIPS EMPAQUES O ANILLOS MULTIPLE DE ESCAPE | C64: 1 | D64: =F64/1.19 -> 221221.5 | E64: =D64*19% -> 42032.085 | F64: 263253.58
B65: SISTEMA DE LUBRICACION
A66: 60 | B66: SERVICIO DE CAMBIO DE ACEITE MOTOR NO INCLUYE EL ACEITE | C66: 1 | D66: =F66/1.19 -> 33216.441 | E66: =D66*19% -> 6311.1238 | F66: 39527.565
A67: 61 | B67: SIPS FILTRO DE ACEITE MOTOR | C67: 1 | D67: =F67/1.19 -> 76690.196 | E67: =D67*19% -> 14571.137 | F67: 91261.333
A68: 62 | B68: SIPS BOMBA DE ACEITE MOTOR | C68: 1 | D68: =F68/1.19 -> 771285.76 | E68: =D68*19% -> 146544.3 | F68: 917830.06
A69: 63 | B69: SIPS SENSOR PRESION DE ACEITE MOTOR | C69: 1 | D69: =F69/1.19 -> 131537.11 | E69: =D69*19% -> 24992.05 | F69: 156529.16
A70: 64 | B70: SERVICIO DE ENGRASE GENERAL | C70: 1 | D70: =F70/1.19 -> 22144.294 | E70: =D70*19% -> 4207.4159 | F70: 26351.71
A71: 65 | B71: SERVICIO DE CAMBIO DE ACEITE DE DIFERENCIAL | C71: 1 | D71: =F71/1.19 -> 11957.919 | E71: =D71*19% -> 2272.0046 | F71: 14229.923
A72: 66 | B72: SERVICIO DE CAMBIO DE ACEITE DE LA CAJA | C72: 1 | D72: =F72/1.19 -> 11957.919 | E72: =D72*19% -> 2272.0046 | F72: 14229.923
B73: SISTEMA REFRIGERACION
A74: 67 | B74: SONDEADA DE RADIADOR | C74: 1 | D74: =F74/1.19 -> 620040.24 | E74: =D74*19% -> 117807.64 | F74: 737847.88
A75: 68 | B75: REPARACION DE RADIADOR INCLUYE PINTADA DONDE APLIQUE | C75: 1 | D75: =F75/1.19 -> 719689.56 | E75: =D75*19% -> 136741.02 | F75: 856430.58
A76: 69 | B76: LAVADA DEL INTERCOOLER | C76: 1 | D76: =F76/1.19 -> 387525.15 | E76: =D76*19% -> 73629.778 | F76: 461154.92
A77: 70 | B77: SIPS DE REFRIGERANTE MOTOR POR CUARTOS ALTA CALIDAD | C77: 1 | D77: =F77/1.19 -> 28699.005 | E77: =D77*19% -> 5452.811 | F77: 34151.816
A78: 71 | B78: SIPS BOMBA DE AGUA | C78: 1 | D78: =F78/1.19 -> 830411.03 | E78: =D78*19% -> 157778.1 | F78: 988189.12
A79: 72 | B79: SIPS MANGUERA SUPERIOR RADIADOR | C79: 1 | D79: =F79/1.19 -> 1064254.8 | E79: =D79*19% -> 202208.41 | F79: 1266463.2
A80: 73 | B80: SIPS MANGUERA INFERIOR RADIADOR | C80: 1 | D80: =F80/1.19 -> 994278.81 | E80: =D80*19% -> 188912.97 | F80: 1183191.8
A81: 74 | B81: SIPS MANGUERA DE CALEFACCION | C81: 1 | D81: =F81/1.19 -> 839268.75 | E81: =D81*19% -> 159461.06 | F81: 998729.81
A82: 75 | B82: SIPS SENSOR DE TEMPERATURA | C82: 1 | D82: =F82/1.19 -> 318877.84 | E82: =D82*19% -> 60586.789 | F82: 379464.62
A83: 76 | B83: SIPS DE RADIADOR | C83: 1 | D83: =F83/1.19 -> 2325150.9 | E83: =D83*19% -> 441778.67 | F83: 2766929.6
A84: 77 | B84: SIPS DEL TERMOSTATO | C84: 1 | D84: =F84/1.19 -> 573980.1 | E84: =D84*19% -> 109056.22 | F84: 683036.32
A85: 78 | B85: SIPS DE TAPA DE RADIADOR | C85: 1 | D85: =F85/1.19 -> 53810.635 | E85: =D85*19% -> 10224.021 | F85: 64034.655
A86: 79 | B86: SIPS DEL DEPOSITO AUXILIAR DE REFRIGERANTE MOTOR | C86: 1 | D86: =F86/1.19 -> 514190.51 | E86: =D86*19% -> 97696.197 | F86: 611886.71
B87: SISTEMA DE DIRECCION
A88: 80 | B88: ALINEACION Y BALANCEO DE TODAS LAS RUEDAS | C88: 1 | D88: =F88/1.19 -> 143495.03 | E88: =D88*19% -> 27264.055 | F88: 170759.08
A89: 81 | B89: ALINEACION | C89: 1 | D89: =F89/1.19 -> 95663.351 | E89: =D89*19% -> 18176.037 | F89: 113839.39
A90: 82 | B90: BALANCEO | C90: 1 | D90: =F90/1.19 -> 47831.675 | E90: =D90*19% -> 9088.0183 | F90: 56919.694
A91: 83 | B91: SIPS DE CINTILLA DEL SISTEMA AIR-BAG | C91: 1 | D91: =F91/1.19 -> 1913267 | E91: =D91*19% -> 363520.73 | F91: 2276787.7
A92: 84 | B92: SIPS DE TODOS LOS TERMINALES DE DIRECCION | C92: 1 | D92: =F92/1.19 -> 860970.16 | E92: =D92*19% -> 163584.33 | F92: 1024554.5
A93: 85 | B93: SIPS DE UN TERMINAL DE DIRECCION | C93: 1 | D93: =F93/1.19 -> 286990.05 | E93: =D93*19% -> 54528.11 | F93: 341518.16
A94: 86 | B94: SIPS DE TODOS LOS BRAZOS DE DIRECCION | C94: 1 | D94: =F94/1.19 -> 645727.62 | E94: =D94*19% -> 122688.25 | F94: 768415.86
A95: 87 | B95: SIPS DE UN BRAZO DE DIRECCION | C95: 1 | D95: =F95/1.19 -> 275032.13 | E95: =D95*19% -> 52256.105 | F95: 327288.24
A96: 88 | B96: SIPS CAÑA DE DIRECCION INCLUYENDO CRUCETAS Y RODAMIENTOS | C96: 1 | D96: =F96/1.19 -> 490274.67 | E96: =D96*19% -> 93152.188 | F96: 583426.86
A97: 89 | B97: SIPS BRAZO PITMAN | C97: 1 | D97: =F97/1.19 -> 430485.08 | E97: =D97*19% -> 81792.165 | F97: 512277.24
A98: 90 | B98: SIPS BIELA DE DIRECCION | C98: 1 | D98: =F98/1.19 -> 364716.52 | E98: =D98*19% -> 69296.14 | F98: 434012.66
A99: 91 | B99: SIPS DE LA CAJA DE DIRECCION | C99: 1 | D99: =F99/1.19 -> 3324301.4 | E99: =D99*19% -> 631617.27 | F99: 3955918.7
... A111: 103 | B111: SIPS DE UN BOCIN | C111: 1 | D111: =F111/1.19 -> 705517.21 | E111: =D111*19% -> 134048.27 | F111: 839565.48
B112: SISTEMA DE FRENOS
A113: 104 | B113: REMACHADA DE BANDAS TRASERAS DE DOS RUEDAS | C113: 1 | D113: =F113/1.19 -> 173389.82 | E113: =D113*19% -> 32944.066 | F113: 206333.89
A114: 105 | B114: SIPS PASTILLAS DE FRENO TRASERAS DE DOS RUEDAS | C114: 1 | D114: =F114/1.19 -> 285670.98 | E114: =D114*19% -> 54277.486 | F114: 339948.47
A115: 106 | B115: RECTIFICADA DE DISCO DE UNA RUEDA | C115: 1 | D115: =F115/1.19 -> 107621.27 | E115: =D115*19% -> 20448.041 | F115: 128069.31
A116: 107 | B116: SIPS DE BANDAS DE DOS RUEDAS | C116: 1 | D116: =F116/1.19 -> 322863.81 | E116: =D116*19% -> 61344.124 | F116: 384207.93
A117: 108 | B117: SIPS DE DISCO TRASERO DE UNA RUEDA | C117: 1 | D117: =F117/1.19 -> 597895.94 | E117: =D117*19% -> 113600.23 | F117: 711496.17
A118: 109 | B118: SIPS DE DISCO DELANTERO DE UNA RUEDA | C118: 1 | D118: =F118/1.19 -> 487174.47 | E118: =D118*19% -> 92563.149 | F118: 579737.62
A119: 110 | B119: SIPS PASTILLAS DE FRENOS DELANTERAS DE DOS RUEDAS | C119: 1 | D119: =F119/1.19 -> 354308.71 | E119: =D119*19% -> 67318.654 | F119: 421627.36
A120: 111 | B120: SIPS KIT CALIPER | C120: 1 | D120: =F120/1.19 -> 117187.6 | E120: =D120*19% -> 22265.645 | F120: 139453.25
A121: 112 | B121: SIPS CALIPER | C121: 1 | D121: =F121/1.19 -> 436464.04 | E121: =D121*19% -> 82928.167 | F121: 519392.2
A122: 113 | B122: SIPS DEL PISTON DE LA MORDAZA | C122: 1 | D122: =F122/1.19 -> 233179.42 | E122: =D122*19% -> 44304.089 | F122: 277483.51
A123: 114 | B123: SIPS CONJUNTO DE MECANISMOS DE ACCIONAMIENTO DE BANDAS | C123: 1 | D123: =F123/1.19 -> 167410.86 | E123: =D123*19% -> 31808.064 | F123: 199218.93
A124: 115 | B124: SIPS BOMBA DE FRENO | C124: 1 | D124: =F124/1.19 -> 834662.73 | E124: =D124*19% -> 158585.92 | F124: 993248.65
... A131: 122 | B131: SERVICIO DE CALIBRACION GENERAL DE FRENOS | C131: 1 | D131: =F131/1.19 -> 33216.441 | E131: =D131*19% -> 6311.1238 | F131: 39527.565
B132: SISTEMA DE SUSPENSION
A133: 123 | B133: SIPS AMORTIGUADOR DELANTERO | C133: 1 | D133: =F133/1.19 -> 608968.09 | E133: =D133*19% -> 115703.94 | F133: 724672.03
A134: 124 | B134: SIPS AMORTIGUADOR TRASERO | C134: 1 | D134: =F134/1.19 -> 465030.18 | E134: =D134*19% -> 88355.734 | F134: 553385.91
A135: 125 | B135: SIPS HOJA DE RESORTE PRINCIPAL | C135: 1 | D135: =F135/1.19 -> 344388.06 | E135: =D135*19% -> 65433.732 | F135: 409821.79
A136: 126 | B136: SIPS HOJA DE RESORTE SECUNDARIA | C136: 1 | D136: =F136/1.19 -> 310905.89 | E136: =D136*19% -> 59072.119 | F136: 369978.01
A137: 127 | B137: SIPS MUELLE TRASERO COMPLETO | C137: 1 | D137: =F137/1.19 -> 741390.97 | E137: =D137*19% -> 140864.28 | F137: 882255.25
A138: 128 | B138: SIPS RESORTE ESPIRAL | C138: 1 | D138: =F138/1.19 -> 642184.53 | E138: =D138*19% -> 122015.06 | F138: 764199.59
A139: 129 | B139: SIPS ROTULA SUPERIOR | C139: 1 | D139: =F139/1.19 -> 272640.55 | E139: =D139*19% -> 51801.704 | F139: 324442.25
A140: 130 | B140: SIPS ROTULA INFERIOR | C140: 1 | D140: =F140/1.19 -> 321092.26 | E140: =D140*19% -> 61007.53 | F140: 382099.79
A141: 131 | B141: SIPS TIJERA SUPERIOR | C141: 1 | D141: =F141/1.19 -> 609853.86 | E141: =D141*19% -> 115872.23 | F141: 725726.09
A142: 132 | B142: SIPS TIJERA INFERIOR | C142: 1 | D142: =F142/1.19 -> 763978.15 | E142: =D142*19% -> 145155.85 | F142: 909134
A143: 133 | B143: SIPS BUJES DE TIJERA | C143: 1 | D143: =F143/1.19 -> 642184.53 | E143: =D143*19% -> 122015.06 | F143: 764199.59
A144: 134 | B144: SIPS BUJES DE BALLESTAS | C144: 1 | D144: =F144/1.19 -> 191326.7 | E144: =D144*19% -> 36352.073 | F144: 227678.77
... A150: 140 | B150: SIPS PIN PASADOR BALLESTAS | C150: 1 | D150: =F150/1.19 -> 107621.27 | E150: =D150*19% -> 20448.041 | F150: 128069.31
B151: SISTEMA DE EMBRAGUE
...

Sheet RENAULT LOGAN
B2: AUTOMOVIL RENAULT LOGAN MODELO 2018 | C2: CANTIDAD | D2: VALOR UNITARIO | E2: IVA | F2: VALOR TOTAL
B3: SISTEMA MOTOR
A4: 1 | B4: REPARACION GENERAL DE MOTOR AL OVERSIDE SIGUIENTE O ENCAMISADA SI SE REQUIERE | C4: 1 | D4: =F4/1.19 -> 9528203.7 | E4: =D4*19% -> 1810358.7 | F4: 11338562
A5: 2 | B5: ANILLADA DE MOTOR INCLUYE SIPS DE CASQUETERIA, SIPS EMPAQUETADURA DE MOTOR | C5: 1 | D5: =F5/1.19 -> 3826534 | E5: =D5*19% -> 727041.46 | F5: 4553575.5
A6: 3 | B6: REPARACION DE CULATA | C6: 1 | D6: =F6/1.19 -> 2152425.4 | E6: =D6*19% -> 408960.82 | F6: 2561386.2
A7: 4 | B7: SIPS EMPAQUE DE CULATA | C7: 1 | D7: =F7/1.19 -> 1016423.1 | E7: =D7*19% -> 193120.39 | F7: 1209543.5
A8: 5 | B8: SIPS DE GUIAS DE VALVULAS Y VALVULAS | C8: 1 | D8: =F8/1.19 -> 753348.89 | E8: =D8*19% -> 143136.29 | F8: 896485.17
A9: 6 | B9: SIPS JUEGO DE IMPULSADORES HIDRAULICOS | C9: 1 | D9: =F9/1.19 -> 837054.32 | E9: =D9*19% -> 159040.32 | F9: 996094.64
A10: 7 | B10: SIPS JUEGO DE BALANCINES | C10: 1 | D10: =F10/1.19 -> 585938.02 | E10: =D10*19% -> 111328.22 | F10: 697266.25
A11: 8 | B11: RECTIFICACION CIGÜEÑAL INCLUYE SIPS CASQUETERIA | C11: 1 | D11: =F11/1.19 -> 1064254.8 | E11: =D11*19% -> 202208.41 | F11: 1266463.2
A12: 9 | B12: SIPS VOLANTE | C12: 1 | D12: =F12/1.19 -> 777264.72 | E12: =D12*19% -> 147680.3 | F12: 924945.02
A13: 10 | B13: SIPS RODAMIENTO DEL VOLANTE | C13: 1 | D13: =F13/1.19 -> 292969.01 | E13: =D13*19% -> 55664.112 | F13: 348633.12
A14: 11 | B14: SIPS CREMALLERA DEL VOLANTE | C14: 1 | D14: =F14/1.19 -> 418527.16 | E14: =D14*19% -> 79520.16 | F14: 498047.32
A15: 12 | B15: SIPS CORREA REPARTICION | C15: 1 | D15: =F15/1.19 -> 896843.91 | E15: =D15*19% -> 170400.34 | F15: 1067244.3
... A33: 30 | B33: SINCRONIZACION DE MOTOR INCLUYE REPUESTOS NECESARIOS PARA UNA OPTIMA SINCRONIZACION | C33: 1 | D33: =F33/1.19 -> 394611.32 | E33: =D33*19% -> 74976.151 | F33: 469587.47
B34: SISTEMA ALIMENTACION AIRE/COMBUSTIBLE
A35: 31 | B35: SIPS GUAYA DE ACELERACION | C35: 1 | D35: =F35/1.19 -> 227200.46 | E35: =D35*19% -> 43168.087 | F35: 270368.54
A36: 32 | B36: LAVADA JUEGO DE INYECTORES POR ULTRASONIDO INCLUYE SIPS DE FILTROS DE INYECTORES Y ORINGS | C36: 1 | D36: =F36/1.19 -> 478316.75 | E36: =D36*19% -> 90880.183 | F36: 569196.94
A37: 33 | B37: SIPS DE UN INYECTOR INCLUYE INSTALACION | C37: 1 | D37: =F37/1.19 -> 376674.44 | E37: =D37*19% -> 71568.144 | F37: 448242.59
A38: 34 | B38: LIMPIEZA CUERPO DE ACELERACION Y VALVULA IAC | C38: 1 | D38: =F38/1.19 -> 298947.97 | E38: =D38*19% -> 56800.114 | F38: 355748.08
A39: 35 | B39: SAMBLASTEO MULTIPLE DE ADMISION | C39: 1 | D39: =F39/1.19 -> 370695.48 | E39: =D39*19% -> 70432.142 | F39: 441127.63
A40: 36 | B40: LAVADA TANQUE DE COMBUSTIBLE | C40: 1 | D40: =F40/1.19 -> 466358.83 | E40: =D40*19% -> 88608.178 | F40: 554967.01
A41: 37 | B41: SIPS JUEGO DE FILTROS DE COMBUSTIBLE INCLUYENDO LA TRAMPA PARA LOS CASOS QUE APLIQUE | C41: 1 | D41: =F41/1.19 -> 43138.235 | E41: =D41*19% -> 8196.2647 | F41: 51334.5
A42: 38 | B42: SIPS REGULADOR DE PRESION DE COMBUSTIBLE | C42: 1 | D42: =F42/1.19 -> 263074.21 | E42: =D42*19% -> 49984.101 | F42: 313058.31
A43: 39 | B43: SIPS RIEL DE INYECTORES | C43: 1 | D43: =F43/1.19 -> 538106.35 | E43: =D43*19% -> 102240.21 | F43: 640346.55
A44: 40 | B44: SIPS JUEGO DE FILTROS DE AIRE | C44: 1 | D44: =F44/1.19 -> 43138.235 | E44: =D44*19% -> 8196.2647 | F44: 51334.5
A45: 41 | B45: SIPS SENSOR MAP | C45: 1 | D45: =F45/1.19 -> 215242.54 | E45: =D45*19% -> 40896.082 | F45: 256138.62
A46: 42 | B46: SIPS SENSOR MAF | C46: 1 | D46: =F46/1.19 -> 410156.62 | E46: =D46*19% -> 77929.757 | F46: 488086.37
... A58: 54 | B58: SIPS TUBO DE ADMISION DEL FILTRO AL CUERPO DE ACELERACION O CARBURADOR | C58: 1 | D58: =F58/1.19 -> 227200.46 | E58: =D58*19% -> 43168.087 | F58: 270368.54
B59: SISTEMA DE ESCAPE
A60: 55 | B60: REPARACION DE SILENCIADOR | C60: 1 | D60: =F60/1.19 -> 310905.89 | E60: =D60*19% -> 59072.119 | F60: 369978.01
A61: 56 | B61: REPARACION TUBO DE ESCAPE | C61: 1 | D61: =F61/1.19 -> 286990.05 | E61: =D61*19% -> 54528.11 | F61: 341518.16
A62: 57 | B62: SIPS DE SILINCIADOR | C62: 1 | D62: =F62/1.19 -> 693559.29 | E62: =D62*19% -> 131776.27 | F62: 825335.56
A63: 58 | B63: SIPS FLEXIBLE DEL ESCAPE | C63: 1 | D63: =F63/1.19 -> 263074.21 | E63: =D63*19% -> 49984.101 | F63: 313058.31
A64: 59 | B64: SIPS EMPAQUES O ANILLOS MULTIPLE DE ESCAPE | C64: 1 | D64: =F64/1.19 -> 215242.54 | E64: =D64*19% -> 40896.082 | F64: 256138.62
A65: 60 | B65: SIPS CATALIZADOR | C65: 1 | D65: =F65/1.19 -> 705517.21 | E65: =D65*19% -> 134048.27 | F65: 839565.48
B66: SISTEMA DE LUBRICACION
A67: 61 | B67: SERVICIO DE CAMBIO DE ACEITE MOTOR NO INCLUYE EL ACEITE | C67: 1 | D67: =F67/1.19 -> 17936.878 | E67: =D67*19% -> 3408.0069 | F67: 21344.885
A68: 62 | B68: SIPS FILTRO DE ACEITE MOTOR | C68: 1 | D68: =F68/1.19 -> 32593.333 | E68: =D68*19% -> 6192.7333 | F68: 38786.067
A69: 63 | B69: SIPS BOMBA DE ACEITE MOTOR | C69: 1 | D69: =F69/1.19 -> 753348.89 | E69: =D69*19% -> 143136.29 | F69: 896485.17
A70: 64 | B70: SIPS SENSOR PRESION DE ACEITE MOTOR | C70: 1 | D70: =F70/1.19 -> 298947.97 | E70: =D70*19% -> 56800.114 | F70: 355748.08
A71: 65 | B71: SERVICIO DE ENGRASE GENERAL | C71: 1 | D71: =F71/1.19 -> 17936.878 | E71: =D71*19% -> 3408.0069 | F71: 21344.885
A72: 66 | B72: SERVICIO DE CAMBIO DE ACEITE DE DIFERENCIAL | C72: 1 | D72: =F72/1.19 -> 29894.797 | E72: =D72*19% -> 5680.0114 | F72: 35574.808
A73: 67 | B73: SERVICIO DE CAMBIO DE ACEITE DE LA CAJA | C73: 1 | D73: =F73/1.19 -> 29894.797 | E73: =D73*19% -> 5680.0114 | F73: 35574.808
B74: SISTEMA REFRIGERACION
A75: 68 | B75: SONDEADA DE RADIADOR | C75: 1 | D75: =F75/1.19 -> 321092.26 | E75: =D75*19% -> 61007.53 | F75: 382099.79
A76: 69 | B76: REPARACION DE RADIADOR INCLUYE PINTADA DONDE APLIQUE | C76: 1 | D76: =F76/1.19 -> 418527.16 | E76: =D76*19% -> 79520.16 | F76: 498047.32
A77: 70 | B77: LAVADA DEL INTERCOOLER | C77: 1 | D77: =F77/1.19 -> 167410.86 | E77: =D77*19% -> 31808.064 | F77: 199218.93
A78: 71 | B78: SIPS DE REFRIGERANTE MOTOR POR CUARTOS ALTA CALIDAD | C78: 1 | D78: =F78/1.19 -> 28699.005 | E78: =D78*19% -> 5452.811 | F78: 34151.816
A79: 72 | B79: SIPS BOMBA DE AGUA | C79: 1 | D79: =F79/1.19 -> 531463.06 | E79: =D79*19% -> 100977.98 | F79: 632441.04
A80: 73 | B80: SIPS MANGUERA SUPERIOR RADIADOR | C80: 1 | D80: =F80/1.19 -> 155452.94 | E80: =D80*19% -> 29536.059 | F80: 184989
A81: 74 | B81: SIPS MANGUERA INFERIOR RADIADOR | C81: 1 | D81: =F81/1.19 -> 143495.03 | E81: =D81*19% -> 27264.055 | F81: 170759.08
A82: 75 | B82: SIPS MANGUERA DE CALEFACCION | C82: 1 | D82: =F82/1.19 -> 215242.54 | E82: =D82*19% -> 40896.082 | F82: 256138.62
A83: 76 | B83: SIPS SENSOR DE TEMPERATURA | C83: 1 | D83: =F83/1.19 -> 334821.73 | E83: =D83*19% -> 63616.128 | F83: 398437.86
A84: 77 | B84: SIPS DE RADIADOR | C84: 1 | D84: =F84/1.19 -> 863627.47 | E84: =D84*19% -> 164089.22 | F84: 1027716.7
A85: 78 | B85: SIPS DEL TERMOSTATO | C85: 1 | D85: =F85/1.19 -> 466358.83 | E85: =D85*19% -> 88608.178 | F85: 554967.01
A86: 79 | B86: SIPS DE TAPA DE RADIADOR | C86: 1 | D86: =F86/1.19 -> 53810.635 | E86: =D86*19% -> 10224.021 | F86: 64034.655
A87: 80 | B87: SIPS DEL DEPOSITO AUXILIAR DE REFRIGERANTE MOTOR | C87: 1 | D87: =F87/1.19 -> 292969.01 | E87: =D87*19% -> 55664.112 | F87: 348633.12
B88: SISTEMA DE DIRECCION
A89: 81 | B89: ALINEACION Y BALANCEO DE TODAS LAS RUEDAS | C89: 1 | D89: =F89/1.19 -> 143495.03 | E89: =D89*19% -> 27264.055 | F89: 170759.08
A90: 82 | B90: ALINEACION | C90: 1 | D90: =F90/1.19 -> 76690.196 | E90: =D90*19% -> 14571.137 | F90: 91261.333
A91: 83 | B91: BALANCEO | C91: 1 | D91: =F91/1.19 -> 38345.098 | E91: =D91*19% -> 7285.5686 | F91: 45630.667
A92: 84 | B92: SIPS DE CINTILLA DEL SISTEMA AIR-BAG | C92: 1 | D92: =F92/1.19 -> 932717.67 | E92: =D92*19% -> 177216.36 | F92: 1109934
A93: 85 | B93: SIPS DE TODOS LOS TERMINALES DE DIRECCION | C93: 1 | D93: =F93/1.19 -> 538106.35 | E93: =D93*19% -> 102240.21 | F93: 640346.55
A94: 86 | B94: SIPS DE UN TERMINAL DE DIRECCION | C94: 1 | D94: =F94/1.19 -> 191326.7 | E94: =D94*19% -> 36352.073 | F94: 227678.77
A95: 87 | B95: SIPS DE TODOS LOS BRAZOS DE DIRECCION | C95: 1 | D95: =F95/1.19 -> 597895.94 | E95: =D95*19% -> 113600.23 | F95: 711496.17
A96: 88 | B96: SIPS DE UN BRAZO DE DIRECCION | C96: 1 | D96: =F96/1.19 -> 298947.97 | E96: =D96*19% -> 56800.114 | F96: 355748.08
A97: 89 | B97: SIPS CAÑA DE DIRECCION INCLUYENDO CRUCETAS Y RODAMIENTOS | C97: 1 | D97: =F97/1.19 -> 1016423.1 | E97: =D97*19% -> 193120.39 | F97: 1209543.5
A98: 90 | B98: SIPS BRAZO PITMAN | C98: 1 | D98: =F98/1.19 -> 394611.32 | E98: =D98*19% -> 74976.151 | F98: 469587.47
A99: 91 | B99: SIPS BIELA DE DIRECCION | C99: 1 | D99: =F99/1.19 -> 251116.3 | E99: =D99*19% -> 47712.096 | F99: 298828.39
A100: 92 | B100: SIPS BARRA DE DIRECCION | C100: 1 | D100: =F100/1.19 -> 191326.7 | E100: =D100*19% -> 36352.073 | F100: 227678.77
... A113: 105 | B113: SIPS DE UN BOCIN | C113: 1 | D113: =F113/1.19 -> 514190.51 | E113: =D113*19% -> 97696.197 | F113: 611886.71
B114: SISTEMA DE FRENOS
A115: 106 | B115: RECTIFICADA DE DISCO DE UNA RUEDA | C115: 1 | D115: =F115/1.19 -> 83705.432 | E115: =D115*19% -> 15904.032 | F115: 99609.464
A116: 107 | B116: SIPS DE DISCO DE UNA RUEDA | C116: 1 | D116: =F116/1.19 -> 310905.89 | E116: =D116*19% -> 59072.119 | F116: 369978.01
A117: 108 | B117: SIPS PASTILLAS DE FRENOS DELANTERAS DE DOS RUEDAS | C117: 1 | D117: =F117/1.19 -> 256912.16 | E117: =D117*19% -> 48813.31 | F117: 305725.47
A118: 109 | B118: SIPS BANDAS DE FRENOS TRASERAS DE DOS RUEDAS | C118: 1 | D118: =F118/1.19 -> 285670.98 | E118: =D118*19% -> 54277.486 | F118: 339948.47
A119: 110 | B119: SIPS KIT CALIPER | C119: 1 | D119: =F119/1.19 -> 215242.54 | E119: =D119*19% -> 40896.082 | F119: 256138.62
A120: 111 | B120: SIPS CALIPER | C120: 1 | D120: =F120/1.19 -> 71747.513 | E120: =D120*19% -> 13632.027 | F120: 85379.54
A121: 112 | B121: SIPS DEL PISTON DE LA MORDAZA | C121: 1 | D121: =F121/1.19 -> 227200.46 | E121: =D121*19% -> 43168.087 | F121: 270368.54
A122: 113 | B122: SIPS BOMBA DE FRENO | C122: 1 | D122: =F122/1.19 -> 609853.86 | E122: =D122*19% -> 115872.23 | F122: 725726.09
A123: 114 | B123: REPARACION BOMBA DE FRENO | C123: 1 | D123: =F123/1.19 -> 346779.65 | E123: =D123*19% -> 65888.133 | F123: 412667.78
A124: 115 | B124: SIPS DE TODAS LAS GUAYAS DEL FRENO DE MANO | C124: 1 | D124: =F124/1.19 -> 585938.02 | E124: =D124*19% -> 111328.22 | F124: 697266.25
A125: 116 | B125: SIPS INTERRUPTOR LUZ DE FRENO | C125: 1 | D125: =F125/1.19 -> 155452.94 | E125: =D125*19% -> 29536.059 | F125: 184989
A126: 117 | B126: SIPS SENSOR DE RUEDA FRENO ABS | C126: 1 | D126: =F126/1.19 -> 466358.83 | E126: =D126*19% -> 88608.178 | F126: 554967.01
... A131: 122 | B131: SIPS DEL BLOQUE HIDRAULICO DEL ABS | C131: 1 | D131: =F131/1.19 -> 1494739.9 | E131: =D131*19% -> 284000.57 | F131: 1778740.4
B132: SISTEMA DE SUSPENSION
A133: 123 | B133: SIPS AMORTIGUADOR DELANTERO | C133: 1 | D133: =F133/1.19 -> 478316.75 | E133: =D133*19% -> 90880.183 | F133: 569196.94
A134: 124 | B134: SIPS AMORTIGUADOR TRASERO | C134: 1 | D134: =F134/1.19 -> 454400.92 | E134: =D134*19% -> 86336.174 | F134: 540737.09
A135: 125 | B135: SIPS RESORTE ESPIRAL | C135: 1 | D135: =F135/1.19 -> 394611.32 | E135: =D135*19% -> 74976.151 | F135: 469587.47
A136: 126 | B136: SIPS ROTULA INFERIOR | C136: 1 | D136: =F136/1.19 -> 227200.46 | E136: =D136*19% -> 43168.087 | F136: 270368.54
A137: 127 | B137: SIPS TIJERA INFERIOR | C137: 1 | D137: =F137/1.19 -> 538106.35 | E137: =D137*19% -> 102240.21 | F137: 640346.55
A138: 128 | B138: SIPS BUJES DE TIJERA | C138: 1 | D138: =F138/1.19 -> 76690.196 | E138: =D138*19% -> 14571.137 | F138: 91261.333
A139: 129 | B139: SIPS PASADOR DE TIJERA | C139: 1 | D139: =F139/1.19 -> 191326.7 | E139: =D139*19% -> 36352.073 | F139: 227678.77
A140: 130 | B140: SIPS BARRA DE TORSION | C140: 1 | D140: =F140/1.19 -> 346779.65 | E140: =D140*19% -> 65888.133 | F140: 412667.78
A141: 131 | B141: SIPS BUJES BARRA DE TORSION | C141: 1 | D141: =F141/1.19 -> 215242.54 | E141: =D141*19% -> 40896.082 | F141: 256138.62
A142: 132 | B142: SIPS DE TEMPLETE O BRAZO DE TORSION | C142: 1 | D142: =F142/1.19 -> 334821.73 | E142: =D142*19% -> 63616.128 | F142: 398437.86
A143: 133 | B143: SIPS BASES DE AMORTIGUADORES | C143: 1 | D143: =F143/1.19 -> 139000.98 | E143: =D143*19% -> 26410.186 | F143: 165411.17
B144: SISTEMA TRASMISION DE POTENCIA
A145: 134 | B145: SIPS CAJA DE VELOCIDADES COMPLETA | C145: 1 | D145: =F145/1.19 -> 5381063.5 | E145: =D145*19% -> 1022402.1 | F145: 6403465.5
...

Sheet CHEVROLET
B2: CAMIONETA CHEVROLET DMAX - COLORADO | C2: CANTIDAD | D2: VALOR UNITARIO | E2: IVA | F2: VALOR TOTAL
B3: SISTEMA MOTOR
A4: 1 | B4: REPARACION GENERAL DE MOTOR AL OVERSIDE SIGUIENTE O ENCAMISADA SI SE REQUIERE | C4: 1 | D4: =F4/1.19 -> 13256303 | E4: =D4*19% -> 2518697.5 | F4: 15775000
A5: 2 | B5: ANILLADA DE MOTOR INCLUYE SIPS DE CASQUETERIA, SIPS EMPAQUETADURA DE MOTOR | C5: 1 | D5: =F5/1.19 -> 5291491.8 | E5: =D5*19% -> 1005383.4 | F5: 6296875.2
A6: 3 | B6: REPARACION DE CULATA | C6: 1 | D6: =F6/1.19 -> 3285134.5 | E6: =D6*19% -> 624175.55 | F6: 3909310
A7: 4 | B7: SIPS EMPAQUE DE CULATA | C7: 1 | D7: =F7/1.19 -> 1146489.9 | E7: =D7*19% -> 217833.08 | F7: 1364323
A8: 5 | B8: SIPS DE GUIAS DE VALVULAS Y VALVULAS | C8: 1 | D8: =F8/1.19 -> 1091370.2 | E8: =D8*19% -> 207360.33 | F8: 1298730.5
A9: 6 | B9: SIPS JUEGO DE IMPULSADORES HIDRAULICOS | C9: 1 | D9: =F9/1.19 -> 1642567.2 | E9: =D9*19% -> 312087.77 | F9: 1954655
A10: 7 | B10: SIPS JUEGO DE BALANCINES | C10: 1 | D10: =F10/1.19 -> 1069322.3 | E10: =D10*19% -> 203171.24 | F10: 1272493.5
A11: 8 | B11: RECTIFICACION CIGÜEÑAL INCLUYE SIPS CASQUETERIA | C11: 1 | D11: =F11/1.19 -> 760651.94 | E11: =D11*19% -> 144523.87 | F11: 905175.81
A12: 9 | B12: SIPS VOLANTE | C12: 1 | D12: =F12/1.19 -> 981130.76 | E12: =D12*19% -> 186414.85 | F12: 1167545.6
A13: 10 | B13: SIPS RODAMIENTO DEL VOLANTE | C13: 1 | D13: =F13/1.19 -> 485053.41 | E13: =D13*19% -> 92160.148 | F13: 577213.56
A14: 11 | B14: SIPS CREMALLERA DEL VOLANTE | C14: 1 | D14: =F14/1.19 -> 650412.53 | E14: =D14*19% -> 123578.38 | F14: 773990.91
A15: 12 | B15: SIPS CORREA REPARTICION | C15: 1 | D15: =F15/1.19 -> 981130.76 | E15: =D15*19% -> 186414.85 | F15: 1167545.6
... A34: 31 | B34: SINCRONIZACION DE MOTOR INCLUYE REPUESTOS NECESARIOS PARA UNA OPTIMA SINCRONIZACION | C34: 1 | D34: =F34/1.19 -> 438752.86 | E34: =D34*19% -> 83363.043 | F34: 522115.9
B35: SISTEMA ALIMENTACION AIRE/COMBUSTIBLE
A36: 32 | B36: CALIBRACION DE LA BOMBA DE INYECCION E INYECTORES EN BANCO DE PRUEBA | C36: 1 | D36: =F36/1.19 -> 4593308.8 | E36: =D36*19% -> 872728.68 | F36: 5466037.5
A37: 33 | B37: SIPS GUAYA DE ACELERACION | C37: 1 | D37: =F37/1.19 -> 217171.64 | E37: =D37*19% -> 41262.612 | F37: 258434.25
A38: 34 | B38: CALIBRACION DE LA BOMBA DE INYECCION | C38: 1 | D38: =F38/1.19 -> 2551838.2 | E38: =D38*19% -> 484849.26 | F38: 3036687.5
A39: 35 | B39: CALIBRACION JUEGO DE INYECTORES | C39: 1 | D39: =F39/1.19 -> 2449764.7 | E39: =D39*19% -> 465455.29 | F39: 2915220
A40: 36 | B40: SIPS DE UN INYECTOR INCLUYE INSTALACION | C40: 1 | D40: =F40/1.19 -> 2021055.9 | E40: =D40*19% -> 384000.62 | F40: 2405056.5
A41: 37 | B41: REPARACION DEL TURBO | C41: 1 | D41: =F41/1.19 -> 2182740.4 | E41: =D41*19% -> 414720.67 | F41: 2597461
A42: 38 | B42: SAMBLASTEO MULTIPLE DE ADMISION | C42: 1 | D42: =F42/1.19 -> 255183.82 | E42: =D42*19% -> 48484.926 | F42: 303668.75
A43: 39 | B43: LAVADA TANQUE DE COMBUSTIBLE | C43: 1 | D43: =F43/1.19 -> 253550.65 | E43: =D43*19% -> 48174.623 | F43: 301725.27
A44: 40 | B44: SIPS JUEGO DE FILTROS DE COMBUSTIBLE INCLUYENDO LA TRAMPA PARA LOS CASOS QUE APLIQUE | C44: 1 | D44: =F44/1.19 -> 123725.49 | E44: =D44*19% -> 23507.843 | F44: 147233.33
A45: 41 | B45: SIPS REGULADOR DE PRESION DE COMBUSTIBLE | C45: 1 | D45: =F45/1.19 -> 384735.55 | E45: =D45*19% -> 73099.754 | F45: 457835.3
A46: 42 | B46: SIPS JUEGO DE FILTROS DE AIRE | C46: 1 | D46: =F46/1.19 -> 77770.308 | E46: =D46*19% -> 14776.359 | F46: 92546.667
A47: 43 | B47: SIPS SENSOR MAP | C47: 1 | D47: =F47/1.19 -> 350561.33 | E47: =D47*19% -> 66606.653 | F47: 417167.98
... A58: 54 | B58: SIPS TUBO DE ADMISION DEL FILTRO AL CUERPO DE ACELERACION O CARBURADOR | C58: 1 | D58: =F58/1.19 -> 435445.68 | E58: =D58*19% -> 82734.679 | F58: 518180.35
B59: SISTEMA DE ESCAPE
A60: 55 | B60: REPARACION DE SILENCIADOR | C60: 1 | D60: =F60/1.19 -> 231502.76 | E60: =D60*19% -> 43985.525 | F60: 275488.29
A61: 56 | B61: REPARACION TUBO DE ESCAPE | C61: 1 | D61: =F61/1.19 -> 231502.76 | E61: =D61*19% -> 43985.525 | F61: 275488.29
A62: 57 | B62: SIPS DE SILINCIADOR | C62: 1 | D62: =F62/1.19 -> 688996.32 | E62: =D62*19% -> 130909.3 | F62: 819905.62
A63: 58 | B63: SIPS FLEXIBLE DEL ESCAPE | C63: 1 | D63: =F63/1.19 -> 270086.56 | E63: =D63*19% -> 51316.446 | F63: 321403.01
A64: 59 | B64: SIPS EMPAQUES O ANILLOS MULTIPLE DE ESCAPE | C64: 1 | D64: =F64/1.19 -> 264574.59 | E64: =D64*19% -> 50269.172 | F64: 314843.76
B65: SISTEMA DE LUBRICACION
A66: 60 | B66: SERVICIO DE CAMBIO DE ACEITE MOTOR NO INCLUYE EL ACEITE | C66: 1 | D66: =F66/1.19 -> 16535.912 | E66: =D66*19% -> 3141.8232 | F66: 19677.735
A67: 61 | B67: SIPS FILTRO DE ACEITE MOTOR | C67: 1 | D67: =F67/1.19 -> 39768.908 | E67: =D67*19% -> 7556.0924 | F67: 47325
A68: 62 | B68: SIPS BOMBA DE ACEITE MOTOR | C68: 1 | D68: =F68/1.19 -> 1099086.9 | E68: =D68*19% -> 208826.52 | F68: 1307913.5
A69: 63 | B69: SIPS SENSOR PRESION DE ACEITE MOTOR | C69: 1 | D69: =F69/1.19 -> 207250.09 | E69: =D69*19% -> 39377.518 | F69: 246627.61
A70: 64 | B70: SERVICIO DE ENGRASE GENERAL | C70: 1 | D70: =F70/1.19 -> 22047.882 | E70: =D70*19% -> 4189.0976 | F70: 26236.98
A71: 65 | B71: SERVICIO DE CAMBIO DE ACEITE DE DIFERENCIAL | C71: 1 | D71: =F71/1.19 -> 17675.07 | E71: =D71*19% -> 3358.2633 | F71: 21033.333
A72: 66 | B72: SERVICIO DE CAMBIO DE ACEITE DE LA CAJA | C72: 1 | D72: =F72/1.19 -> 17675.07 | E72: =D72*19% -> 3358.2633 | F72: 21033.333
B73: SISTEMA REFRIGERACION
A74: 67 | B74: SONDEADA DE RADIADOR | C74: 1 | D74: =F74/1.19 -> 357257.35 | E74: =D74*19% -> 67878.897 | F74: 425136.25
A75: 68 | B75: REPARACION DE RADIADOR INCLUYE PINTADA DONDE APLIQUE | C75: 1 | D75: =F75/1.19 -> 571611.76 | E75: =D75*19% -> 108606.24 | F75: 680218
A76: 69 | B76: LAVADA DEL INTERCOOLER | C76: 1 | D76: =F76/1.19 -> 255183.82 | E76: =D76*19% -> 48484.926 | F76: 303668.75
A77: 70 | B77: SIPS DE REFRIGERANTE MOTOR POR CUARTOS ALTA CALIDAD | C77: 1 | D77: =F77/1.19 -> 27559.853 | E77: =D77*19% -> 5236.3721 | F77: 32796.225
A78: 71 | B78: SIPS BOMBA DE AGUA | C78: 1 | D78: =F78/1.19 -> 628364.65 | E78: =D78*19% -> 119389.28 | F78: 747753.93
A79: 72 | B79: SIPS MANGUERA SUPERIOR RADIADOR | C79: 1 | D79: =F79/1.19 -> 176383.06 | E79: =D79*19% -> 33512.781 | F79: 209895.84
A80: 73 | B80: SIPS MANGUERA INFERIOR RADIADOR | C80: 1 | D80: =F80/1.19 -> 209454.88 | E80: =D80*19% -> 39796.428 | F80: 249251.31
A81: 74 | B81: SIPS MANGUERA DE CALEFACCION | C81: 1 | D81: =F81/1.19 -> 237014.74 | E81: =D81*19% -> 45032.8 | F81: 282047.54
A82: 75 | B82: SIPS SENSOR DE TEMPERATURA | C82: 1 | D82: =F82/1.19 -> 218274.04 | E82: =D82*19% -> 41472.067 | F82: 259746.1
A83: 76 | B83: SIPS DE RADIADOR | C83: 1 | D83: =F83/1.19 -> 1408614.7 | E83: =D83*19% -> 267636.79 | F83: 1676251.5
A84: 77 | B84: SIPS DEL TERMOSTATO | C84: 1 | D84: =F84/1.19 -> 328513.45 | E84: =D84*19% -> 62417.555 | F84: 390931
A85: 78 | B85: SIPS DE TAPA DE RADIADOR | C85: 1 | D85: =F85/1.19 -> 61244.118 | E85: =D85*19% -> 11636.382 | F85: 72880.5
A86: 79 | B86: SIPS DEL DEPOSITO AUXILIAR DE REFRIGERANTE MOTOR | C86: 1 | D86: =F86/1.19 -> 352766.12 | E86: =D86*19% -> 67025.562 | F86: 419791.68
B87: SISTEMA DE DIRECCION
A88: 80 | B88: ALINEACION Y BALANCEO DE TODAS LAS RUEDAS | C88: 1 | D88: =F88/1.19 -> 132287.29 | E88: =D88*19% -> 25134.586 | F88: 157421.88
A89: 81 | B89: ALINEACION | C89: 1 | D89: =F89/1.19 -> 79537.815 | E89: =D89*19% -> 15112.185 | F89: 94650
A90: 82 | B90: BALANCEO | C90: 1 | D90: =F90/1.19 -> 44187.675 | E90: =D90*19% -> 8395.6583 | F90: 52583.333
A91: 83 | B91: SIPS DE CINTILLA DEL SISTEMA AIR-BAG | C91: 1 | D91: =F91/1.19 -> 760651.94 | E91: =D91*19% -> 144523.87 | F91: 905175.81
A92: 84 | B92: SIPS DE TODOS LOS TERMINALES DE DIRECCION | C92: 1 | D92: =F92/1.19 -> 959082.88 | E92: =D92*19% -> 182225.75 | F92: 1141308.6
A93: 85 | B93: SIPS DE UN TERMINAL DE DIRECCION | C93: 1 | D93: =F93/1.19 -> 253550.65 | E93: =D93*19% -> 48174.623 | F93: 301725.27
A94: 86 | B94: SIPS DE TODOS LOS BRAZOS DE DIRECCION | C94: 1 | D94: =F94/1.19 -> 876403.32 | E94: =D94*19% -> 166516.63 | F94: 1042920
A95: 87 | B95: SIPS DE UN BRAZO DE DIRECCION | C95: 1 | D95: =F95/1.19 -> 319694.29 | E95: =D95*19% -> 60741.916 | F95: 380436.21
A96: 88 | B96: SIPS CAÑA DE DIRECCION INCLUYENDO CRUCETAS Y RODAMIENTOS | C96: 1 | D96: =F96/1.19 -> 562221 | E96: =D96*19% -> 106821.99 | F96: 669042.99
A97: 89 | B97: SIPS BRAZO PITMAN | C97: 1 | D97: =F97/1.19 -> 374814 | E97: =D97*19% -> 71214.66 | F97: 446028.66
A98: 90 | B98: SIPS BIELA DE DIRECCION | C98: 1 | D98: =F98/1.19 -> 372609.21 | E98: =D98*19% -> 70795.75 | F98: 443404.96
A99: 91 | B99: SIPS DE LA CAJA DE DIRECCION | C99: 1 | D99: =F99/1.19 -> 368199.64 | E99: =D99*19% -> 69957.931 | F99: 438157.57
... A112: 104 | B112: SIPS DE UN BOCIN | C112: 1 | D112: =F112/1.19 -> 593088.04 | E112: =D112*19% -> 112686.73 | F112: 705774.76
B113: SISTEMA DE FRENOS
A114: 105 | B114: REMACHADA DE BANDAS TRASERAS DE DOS RUEDAS | C114: 1 | D114: =F114/1.19 -> 198430.94 | E114: =D114*19% -> 37701.879 | F114: 236132.82
A115: 106 | B115: RECTIFICADA DE CAMPANA DE UNA RUEDA | C115: 1 | D115: =F115/1.19 -> 99215.471 | E115: =D115*19% -> 18850.939 | F115: 118066.41
A116: 107 | B116: RECTIFICADA DE DISCO DE UNA RUEDA | C116: 1 | D116: =F116/1.19 -> 99215.471 | E116: =D116*19% -> 18850.939 | F116: 118066.41
A117: 108 | B117: SIPS DE BANDAS DE DOS RUEDAS | C117: 1 | D117: =F117/1.19 -> 349082.63 | E117: =D117*19% -> 66325.7 | F117: 415408.33
A118: 109 | B118: SIPS DE CAMPANA DE UNA RUEDA | C118: 1 | D118: =F118/1.19 -> 374814 | E118: =D118*19% -> 71214.66 | F118: 446028.66
A119: 110 | B119: SIPS DE DISCO DE UNA RUEDA | C119: 1 | D119: =F119/1.19 -> 373711.61 | E119: =D119*19% -> 71005.205 | F119: 444716.81
A120: 111 | B120: SIPS PASTILLAS DE FRENOS DELANTERAS DE DOS RUEDAS | C120: 1 | D120: =F120/1.19 -> 263358.54 | E120: =D120*19% -> 50038.123 | F120: 313396.67
A121: 112 | B121: SIPS KIT CALIPER | C121: 1 | D121: =F121/1.19 -> 143311.24 | E121: =D121*19% -> 27229.135 | F121: 170540.37
A122: 113 | B122: SIPS CALIPER | C122: 1 | D122: =F122/1.19 -> 416704.98 | E122: =D122*19% -> 79173.946 | F122: 495878.92
A123: 114 | B123: SIPS DEL PISTON DE LA MORDAZA | C123: 1 | D123: =F123/1.19 -> 263472.19 | E123: =D123*19% -> 50059.717 | F123: 313531.91
A124: 115 | B124: SIPS CONJUNTO DE MECANISMOS DE ACCIONAMIENTO DE BANDAS | C124: 1 | D124: =F124/1.19 -> 154335.18 | E124: =D124*19% -> 29323.684 | F124: 183658.86
A125: 116 | B125: SIPS BOMBA DE FRENO | C125: 1 | D125: =F125/1.19 -> 769471.09 | E125: =D125*19% -> 146199.51 | F125: 915670.6
... A134: 125 | B134: SIPS DEL BLOQUE HIDRAULICO DEL ABS | C134: 1 | D134: =F134/1.19 -> 1444136.3 | E134: =D134*19% -> 274385.9 | F134: 1718522.2
B135: SISTEMA DE SUSPENSION
A136: 126 | B136: SIPS AMORTIGUADOR DELANTERO | C136: 1 | D136: =F136/1.19 -> 530782.35 | E136: =D136*19% -> 100848.65 | F136: 631631
A137: 127 | B137: SIPS AMORTIGUADOR TRASERO | C137: 1 | D137: =F137/1.19 -> 306465.56 | E137: =D137*19% -> 58228.457 | F137: 364694.02
A138: 128 | B138: SIPS HOJA DE RESORTE PRINCIPAL | C138: 1 | D138: =F138/1.19 -> 329615.84 | E138: =D138*19% -> 62627.01 | F138: 392242.85
A139: 129 | B139: SIPS HOJA DE RESORTE SECUNDARIA | C139: 1 | D139: =F139/1.19 -> 328513.45 | E139: =D139*19% -> 62417.555 | F139: 390931
A140: 130 | B140: SIPS MUELLE TRASERO COMPLETO | C140: 1 | D140: =F140/1.19 -> 793723.76 | E140: =D140*19% -> 150807.52 | F140: 944531.28
A141: 131 | B141: SIPS RESORTE ESPIRAL | C141: 1 | D141: =F141/1.19 -> 508326.18 | E141: =D141*19% -> 96581.974 | F141: 604908.15
A142: 132 | B142: SIPS ROTULA SUPERIOR | C142: 1 | D142: =F142/1.19 -> 279266.11 | E142: =D142*19% -> 53060.56 | F142: 332326.67
A143: 133 | B143: SIPS ROTULA INFERIOR | C143: 1 | D143: =F143/1.19 -> 332923.02 | E143: =D143*19% -> 63255.374 | F143: 396178.4
A144: 134 | B144: SIPS TIJERA SUPERIOR | C144: 1 | D144: =F144/1.19 -> 769471.09 | E144: =D144*19% -> 146199.51 | F144: 915670.6
A145: 135 | B145: SIPS TIJERA INFERIOR | C145: 1 | D145: =F145/1.19 -> 870891.35 | E145: =D145*19% -> 165469.36 | F145: 1036360.7
A146: 136 | B146: SIPS BUJES DE TIJERA | C146: 1 | D146: =F146/1.19 -> 357257.35 | E146: =D146*19% -> 67878.897 | F146: 425136.25
A147: 137 | B147: SIPS BUJES DE BALLESTAS | C147: 1 | D147: =F147/1.19 -> 163154.33 | E147: =D147*19% -> 30999.323 | F147: 194153.65
... A153: 143 | B153: SIPS PIN PASADOR BALLESTAS | C153: 1 | D153: =F153/1.19 -> 77167.588 | E153: =D153*19% -> 14661.842 | F153: 91829.43
B154: SISTEMA DE EMBRAGUE
...

Sheet AMAROK
B5: CAMIONETA VOLSWAGUEN AMAROK | C5: CANTIDAD | D5: VALOR UNITARIO | E5: IVA | F5: VALOR TOTAL
A6: 1 | B6: SIPS JUEGO DE FILTROS DE COMBUSTIBLE INCLUYENDO LA TRAMPA PARA LOS CASOS QUE APLIQUE | C6: 1 | D6: =F6/1.19 -> 162610.64 | E6: =D6*19% -> 30896.022 | F6: 193506.67
A7: 2 | B7: SIPS JUEGO DE FILTROS DE AIRE | C7: 1 | D7: =F7/1.19 -> 86607.843 | E7: =D7*19% -> 16455.49 | F7: 103063.33
A8: 3 | B8: SERVICIO DE CAMBIO DE ACEITE MOTOR NO INCLUYE EL ACEITE | C8: 1 | D8: =F8/1.19 -> 17675.07 | E8: =D8*19% -> 3358.2633 | F8: 21033.333
A9: 4 | B9: SIPS FILTRO DE ACEITE MOTOR | C9: 1 | D9: =F9/1.19 -> 42420.168 | E9: =D9*19% -> 8059.8319 | F9: 50480
A10: 5 | B10: SERVICIO DE ENGRASE GENERAL | C10: 1 | D10: =F10/1.19 -> 22093.838 | E10: =D10*19% -> 4197.8291 | F10: 26291.667
A11: 6 | B11: ALINEACION | C11: 1 | D11: =F11/1.19 -> 79537.815 | E11: =D11*19% -> 15112.185 | F11: 94650
A12: 7 | B12: BALANCEO | C12: 1 | D12: =F12/1.19 -> 51257.703 | E12: =D12*19% -> 9738.9636 | F12: 60996.667
A13: 8 | B13: SIPS DE BANDAS DE DOS RUEDAS | C13: 1 | D13: =F13/1.19 -> 371176.47 | E13: =D13*19% -> 70523.529 | F13: 441700
A14: 9 | B14: SIPS PASTILLAS DE FRENOS DELANTERAS DE DOS RUEDAS | C14: 1 | D14: =F14/1.19 -> 282801.12 | E14: =D14*19% -> 53732.213 | F14: 336533.33
A15: 10 | B15: SERVICIO DE REVISION Y LIMPIEZA GENERAL DE FRENOS DELANTERO Y TRASEROS NO INCLUYE REPUESTOS | C15: 1 | D15: =F15/1.19 -> 150238.1 | E15: =D15*19% -> 28545.238 | F15: 178783.33
A16: 11 | B16: SIPS DE LLANTA DE ACUERDO REFERENCIA DEL FABRICANTE | C16: 1 | D16: =F16/1.19 -> 866078.43 | E16: =D16*19% -> 164554.9 | F16: 1030633.3
A17: 12 | B17: SIPS DE VALVULA SELLOMATICA | C17: 1 | D17: =F17/1.19 -> 12372.549 | E17: =D17*19% -> 2350.7843 | F17: 14723.333
... A22: 17 | B22: BATERIA ELECTRICA | C22: 1 | D22: =F22/1.19 -> 636302.52 | E22: =D22*19% -> 120897.48 | F22: 757200
F23: =SUM(F6:F22) -> 3672420

Sheet FORD
B6: CAMIONETA FORD RANGER | C6: CANTIDAD | D6: VALOR UNITARIO | E6: IVA | F6: VALOR TOTAL
A7: 1 | B7: SIPS JUEGO DE FILTROS DE COMBUSTIBLE INCLUYENDO LA TRAMPA PARA LOS CASOS QUE APLIQUE | C7: 1 | D7: =F7/1.19 -> 130795.52 | E7: =D7*19% -> 24851.148 | F7: 155646.67
A8: 2 | B8: SIPS JUEGO DE FILTROS DE AIRE | C8: 1 | D8: =F8/1.19 -> 86607.843 | E8: =D8*19% -> 16455.49 | F8: 103063.33
A9: 3 | B9: SERVICIO DE CAMBIO DE ACEITE MOTOR NO INCLUYE EL ACEITE | C9: 1 | D9: =F9/1.19 -> 17675.07 | E9: =D9*19% -> 3358.2633 | F9: 21033.333
A10: 4 | B10: SIPS FILTRO DE ACEITE MOTOR | C10: 1 | D10: =F10/1.19 -> 42420.168 | E10: =D10*19% -> 8059.8319 | F10: 50480
A11: 5 | B11: SERVICIO DE ENGRASE GENERAL | C11: 1 | D11: =F11/1.19 -> 22093.838 | E11: =D11*19% -> 4197.8291 | F11: 26291.667
A12: 6 | B12: ALINEACION | C12: 1 | D12: =F12/1.19 -> 79537.815 | E12: =D12*19% -> 15112.185 | F12: 94650
A13: 7 | B13: BALANCEO | C13: 1 | D13: =F13/1.19 -> 51257.703 | E13: =D13*19% -> 9738.9636 | F13: 60996.667
A14: 8 | B14: SIPS DE BANDAS DE DOS RUEDAS | C14: 1 | D14: =F14/1.19 -> 388851.54 | E14: =D14*19% -> 73881.793 | F14: 462733.33
A15: 9 | B15: SIPS DE DISCO DE UNA RUEDA | C15: 1 | D15: =F15/1.19 -> 424201.68 | E15: =D15*19% -> 80598.319 | F15: 504800
A16: 10 | B16: SIPS PASTILLAS DE FRENOS DELANTERAS DE DOS RUEDAS | C16: 1 | D16: =F16/1.19 -> 282801.12 | E16: =D16*19% -> 53732.213 | F16: 336533.33
A17: 11 | B17: SERVICIO DE REVISION Y LIMPIEZA GENERAL DE FRENOS DELANTERO Y TRASEROS NO INCLUYE REPUESTOS | C17: 1 | D17: =F17/1.19 -> 150238.1 | E17: =D17*19% -> 28545.238 | F17: 178783.33
A18: 12 | B18: SIPS DE LLANTA DE ACUERDO REFERENCIA DEL FABRICANTE | C18: 1 | D18: =F18/1.19 -> 866078.43 | E18: =D18*19% -> 164554.9 | F18: 1030633.3
... A23: 17 | B23: BATERIA ELECTRICA | C23: 1 | D23: =F23/1.19 -> 600952.38 | E23: =D23*19% -> 114180.95 | F23: 715133.33
F24: =SUM(F7:F23) -> 4093086.7

Sheet HONDA XRE
B4: HONDA XRE 190 - 300 | C4: CANTIDAD | D4: VALOR UNITARIO | E4: IVA | F4: VALOR TOTAL
B5: SISTEMA MOTOR
A6: 1 | B6: REPARACION GENERAL DE MOTOR AL OVERSIDE SIGUIENTE O ENCAMISADA SI SE REQUIERE | C6: 1 | D6: =F6/1.19 -> 7261909.4 | E6: =D6*19% -> 1379762.8 | F6: 8641672.2
A7: 2 | B7: SIPS EMPAQUE DE CULATA | C7: 1 | D7: =F7/1.19 -> 338508.63 | E7: =D7*19% -> 64316.639 | F7: 402825.26
A8: 3 | B8: CALIBRACION DE VALVULAS | C8: 1 | D8: =F8/1.19 -> 110733.39 | E8: =D8*19% -> 21039.345 | F8: 131772.74
A9: 4 | B9: SIPS CADENA REPARTICION | C9: 1 | D9: =F9/1.19 -> 559841.19 | E9: =D9*19% -> 106369.83 | F9: 666211.01
A10: 5 | B10: SIPS EMPAQUE TAPA VALVULAS | C10: 1 | D10: =F10/1.19 -> 117176.06 | E10: =D10*19% -> 22263.452 | F10: 139439.51
A11: 6 | B11: SIPS TAPON DE CARTER | C11: 1 | D11: =F11/1.19 -> 71585.224 | E11: =D11*19% -> 13601.192 | F11: 85186.416
A12: 7 | B12: REVISION TECNICOMECANICA Y DE GASES | C12: 1 | D12: =F12/1.19 -> 215161.18 | E12: =D12*19% -> 40880.624 | F12: 256041.8
A13: 8 | B13: SCANEO | C13: 1 | D13: =F13/1.19 -> 78117.375 | E13: =D13*19% -> 14842.301 | F13: 92959.676
A14: 9 | B14: SIPS JUEGO DE ANILLOS DE MOTOR | C14: 1 | D14: =F14/1.19 -> 833252 | E14: =D14*19% -> 158317.88 | F14: 991569.88
A15: 10 | B15: SIPS EJE DE LEVAS | C15: 1 | D15: =F15/1.19 -> 1275917.1 | E15: =D15*19% -> 242424.25 | F15: 1518341.4
A16: 11 | B16: SINCRONIZACION DE MOTOR INCLUYE REPUESTOS NECESARIOS PARA UNA OPTIMA SINCRONIZACION | C16: 1 | D16: =F16/1.19 -> 364547.75 | E16: =D16*19% -> 69264.073 | F16: 433811.82
B17: SISTEMA ALIMENTACION AIRE/COMBUSTIBLE
A18: 12 | B18: LAVADA DE INYECTORES POR ULTRASONIDO INCLUYE SIPS DE FILTROS DE INYECTORES Y ORINGS | C18: 1 | D18: =F18/1.19 -> 286340.89 | E18: =D18*19% -> 54404.77 | F18: 340745.66
A19: 13 | B19: LIMPIEZA CUERPO DE ACELERACION | C19: 1 | D19: =F19/1.19 -> 182318.62 | E19: =D19*19% -> 34640.537 | F19: 216959.15
A20: 14 | B20: SIPS DE GUAYA DE ACELERADOR HOMOLOGADA DE ALTA CALIDAD | C20: 1 | D20: =F20/1.19 -> 182318.62 | E20: =D20*19% -> 34640.537 | F20: 216959.15
A21: 15 | B21: SIPS DE GUAYA DE ACELERADOR ORIGINAL | C21: 1 | D21: =F21/1.19 -> 325489.06 | E21: =D21*19% -> 61842.922 | F21: 387331.99
A22: 16 | B22: LAVADA TANQUE DE COMBUSTIBLE | C22: 1 | D22: =F22/1.19 -> 156234.75 | E22: =D22*19% -> 29684.603 | F22: 185919.35
A23: 17 | B23: SIPS REGULADOR DE PRESION DE COMBUSTIBLE | C23: 1 | D23: =F23/1.19 -> 937319.02 | E23: =D23*19% -> 178090.61 | F23: 1115409.6
A24: 18 | B24: SIPS INYECTOR | C24: 1 | D24: =F24/1.19 -> 846271.56 | E24: =D24*19% -> 160791.6 | F24: 1007063.2
A25: 19 | B25: SIPS FILTROS DE AIRE | C25: 1 | D25: =F25/1.19 -> 79894.223 | E25: =D25*19% -> 15179.902 | F25: 95074.125
A26: 20 | B26: SIPS BOMBA DE COMBUSTIBLE COMPLETA | C26: 1 | D26: =F26/1.19 -> 1497249.7 | E26: =D26*19% -> 284477.44 | F26: 1781727.1
A27: 21 | B27: SIPS FLOTADOR Y MECANISMOS DE INDICACION DE NIVEL DE COMBUSTIBLE | C27: 1 | D27: =F27/1.19 -> 585880.31 | E27: =D27*19% -> 111317.26 | F27: 697197.57
A28: 22 | B28: SIPS DE UNA MANGUERA DE COMBUSTIBLE | C28: 1 | D28: =F28/1.19 -> 45568.469 | E28: =D28*19% -> 8658.0091 | F28: 54226.478
A29: 23 | B29: SIPS DE TODAS LAS MANGUERAS DE COMBUSTIBLE | C29: 1 | D29: =F29/1.19 -> 234352.13 | E29: =D29*19% -> 44526.904 | F29: 278879.03
... A32: 26 | B32: SIPS DE UNA MANGUERA DE VACIO | C32: 1 | D32: =F32/1.19 -> 45568.469 | E32: =D32*19% -> 8658.0091 | F32: 54226.478
B33: SISTEMA DE ESCAPE
A34: 27 | B34: ARREGLO DE SILENCIADOR | C34: 1 | D34: =F34/1.19 -> 338508.63 | E34: =D34*19% -> 64316.639 | F34: 402825.26
A35: 28 | B35: ARREGLO TUBO DE ESCAPE | C35: 1 | D35: =F35/1.19 -> 312469.5 | E35: =D35*19% -> 59369.205 | F35: 371838.71
A36: 29 | B36: SIPS EMPAQUES O ANILLOS MULTIPLE DE ESCAPE | C36: 1 | D36: =F36/1.19 -> 117176.06 | E36: =D36*19% -> 22263.452 | F36: 139439.51
A37: 30 | B37: SIPS ESCAPE COMPLETO | C37: 1 | D37: =F37/1.19 -> 2083130 | E37: =D37*19% -> 395794.7 | F37: 2478924.7
B38: SISTEMA DE LUBRICACION
A39: 31 | B39: SIPS DE LA BOMBA DE ACEITE | C39: 1 | D39: =F39/1.19 -> 976467.19 | E39: =D39*19% -> 185528.77 | F39: 1161996
A40: 32 | B40: SIPS FILTRO DE ACEITE | C40: 1 | D40: =F40/1.19 -> 61784.866 | E40: =D40*19% -> 11739.124 | F40: 73523.99
B41: SISTEMA REFRIGERACION
A42: 33 | B42: SONDEADA DE RADIADOR | C42: 1 | D42: =F42/1.19 -> 156234.75 | E42: =D42*19% -> 29684.603 | F42: 185919.35
A43: 34 | B43: REPARACION DE RADIADOR | C43: 1 | D43: =F43/1.19 -> 188783.66 | E43: =D43*19% -> 35868.895 | F43: 224652.55
A44: 35 | B44: SIPS DE UNA MANGUERA RADIADOR | C44: 1 | D44: =F44/1.19 -> 104022.28 | E44: =D44*19% -> 19764.233 | F44: 123786.51
B45: SISTEMA DE DIRECCION
A46: 36 | B46: SIPS DE COJINETES DE DIRECCION | C46: 1 | D46: =F46/1.19 -> 442665.13 | E46: =D46*19% -> 84106.374 | F46: 526771.5
A47: 37 | B47: ALINEACION BARRAS DE DIRECCION Y SIPS DE AMPAQUETADURA | C47: 1 | D47: =F47/1.19 -> 559841.19 | E47: =D47*19% -> 106369.83 | F47: 666211.01
A48: 38 | B48: SIPS MANUBRIO DE DIRECCION | C48: 1 | D48: =F48/1.19 -> 286340.89 | E48: =D48*19% -> 54404.77 | F48: 340745.66
A49: 39 | B49: SIPS MANGOS MANUBRIO DE DIRECCION | C49: 1 | D49: =F49/1.19 -> 78117.375 | E49: =D49*19% -> 14842.301 | F49: 92959.676
A50: 40 | B50: REPARACION TELESCOPICOS | C50: 1 | D50: =F50/1.19 -> 364547.75 | E50: =D50*19% -> 69264.073 | F50: 433811.82
A51: 41 | B51: SIPS DE TODOS LOS RODAMIENTOS DE RUEDA DELANTERA INCLUYE RETENEDORES | C51: 1 | D51: =F51/1.19 -> 188783.66 | E51: =D51*19% -> 35868.895 | F51: 224652.55
A52: 42 | B52: SIPS DE TODOS LOS RODAMIENTOS DE RUEDA TRASERA INCLUYE RETENEDORES | C52: 1 | D52: =F52/1.19 -> 188783.66 | E52: =D52*19% -> 35868.895 | F52: 224652.55
A53: 43 | B53: SIPS 2 BARRAS TELESCOPICOS (incluye dos retenedores, aceite hidráulico y mano de obra.) | C53: 1 | D53: =F53/1.19 -> 2343521.3 | E53: =D53*19% -> 445269.04 | F53: 2788790.3
B54: SISTEMA DE FRENOS
A55: 44 | B55: SIPS DE MANILAR DE FRENO | C55: 1 | D55: =F55/1.19 -> 117176.06 | E55: =D55*19% -> 22263.452 | F55: 139439.51
A56: 45 | B56: SIPS PALANCA INFERIO DE FRENO | C56: 1 | D56: =F56/1.19 -> 188783.66 | E56: =D56*19% -> 35868.895 | F56: 224652.55
A57: 46 | B57: SIPS MORDAZA DE FRENO DELANTERO | C57: 1 | D57: =F57/1.19 -> 1275917.1 | E57: =D57*19% -> 242424.25 | F57: 1518341.4
A58: 47 | B58: SIPS MORDAZA DE FRENO TRASERO | C58: 1 | D58: =F58/1.19 -> 1275917.1 | E58: =D58*19% -> 242424.25 | F58: 1518341.4
A59: 48 | B59: RECTIFICADA DE CAMPANA DE UNA RUEDA | C59: 1 | D59: =F59/1.19 -> 175764.09 | E59: =D59*19% -> 33395.178 | F59: 209159.27
A60: 49 | B60: RECTIFICADA DE DISCO DE UNA RUEDA | C60: 1 | D60: =F60/1.19 -> 71585.224 | E60: =D60*19% -> 13601.192 | F60: 85186.416
A61: 50 | B61: SIPS DE CAMPANA DE FRENO DELANTERA | C61: 1 | D61: =F61/1.19 -> 175764.09 | E61: =D61*19% -> 33395.178 | F61: 209159.27
A62: 51 | B62: SIPS DE CAMPANA DE FRENO TRASERA | C62: 1 | D62: =F62/1.19 -> 1106662.8 | E62: =D62*19% -> 210265.93 | F62: 1316928.7
A63: 52 | B63: SIPS DE DISCO DE FRENO DELANTERO | C63: 1 | D63: =F63/1.19 -> 325489.06 | E63: =D63*19% -> 61842.922 | F63: 387331.99
A64: 53 | B64: SIPS DE DISCO DE FRENO TRASERO | C64: 1 | D64: =F64/1.19 -> 325489.06 | E64: =D64*19% -> 61842.922 | F64: 387331.99
A65: 54 | B65: RECTIFICACION DISCO DE FRENO DELANTERO | C65: 1 | D65: =F65/1.19 -> 58588.031 | E65: =D65*19% -> 11131.726 | F65: 69719.757
A66: 55 | B66: RECTIFICACION DISCO DE FRENO TRASERO | C66: 1 | D66: =F66/1.19 -> 58588.031 | E66: =D66*19% -> 11131.726 | F66: 69719.757
... A73: 62 | B73: SIPS DE UN CILINDRO DE FRENO | C73: 1 | D73: =F73/1.19 -> 188783.66 | E73: =D73*19% -> 35868.895 | F73: 224652.55
B74: SISTEMA DE SUSPENSION
A75: 63 | B75: SIPS AMORTIGUADOR TRASERO | C75: 1 | D75: =F75/1.19 -> 1304556.9 | E75: =D75*19% -> 247865.81 | F75: 1552422.7
A76: 64 | B76: SIPS KIT BUJES DE SUSPENSIÓN TRASERA | C76: 1 | D76: =F76/1.19 -> 585880.31 | E76: =D76*19% -> 111317.26 | F76: 697197.57
A77: 65 | B77: SIPS EJE Y BUJES DE TIJERA | C77: 1 | D77: =F77/1.19 -> 364547.75 | E77: =D77*19% -> 69264.073 | F77: 433811.82
B78: SISTEMA DE EMBRAGUE
A79: 66 | B79: SIPS GUAYA DE EMBRAGUE | C79: 1 | D79: =F79/1.19 -> 188783.66 | E79: =D79*19% -> 35868.895 | F79: 224652.55
A80: 67 | B80: SIPS PRENSA EMBRAGUE (incluye discos de embrague, empaques, retenedores, discos separadores.) | C80: 1 | D80: =F80/1.19 -> 1275917.1 | E80: =D80*19% -> 242424.25 | F80: 1518341.4
A81: 68 | B81: REPARACION GENERAL DE EMBRAGUE | C81: 1 | D81: =F81/1.19 -> 1497249.7 | E81: =D81*19% -> 284477.44 | F81: 1781727.1
A82: 69 | B82: SIPS DE PALANCA INFERIOR DE EMBRAGUE | C82: 1 | D82: =F82/1.19 -> 286430.38 | E82: =D82*19% -> 54421.771 | F82: 340852.15
A83: 70 | B83: SIPS DE MANILAR DE EMBRGAUE | C83: 1 | D83: =F83/1.19 -> 156234.75 | E83: =D83*19% -> 29684.603 | F83: 185919.35
A84: 71 | B84: SIPS RETENEDOR PALANCA INFERIOR DE EMBRAGUE | C84: 1 | D84: =F84/1.19 -> 117176.06 | E84: =D84*19% -> 22263.452 | F84: 139439.51
A85: 72 | B85: SIPS DISCOS DE EMBRAGUE ( Incluye el empaque de la tapa ) | C85: 1 | D85: =F85/1.19 -> 846271.56 | E85: =D85*19% -> 160791.6 | F85: 1007063.2
A86: 73 | B86: SIPS EMPAQUE TAPA DEL EMBRAGUE | C86: 1 | D86: =F86/1.19 -> 188783.66 | E86: =D86*19% -> 35868.895 | F86: 224652.55
B87: SISTEMA TRASMISION DE POTENCIA
A88: 74 | B88: REPARACION GENERAL CAJA DE CAMBIOS | C88: 1 | D88: =F88/1.19 -> 2083130 | E88: =D88*19% -> 395794.7 | F88: 2478924.7
A89: 75 | B89: SIPS PALANCA DE VELOCIDADES | C89: 1 | D89: =F89/1.19 -> 195293.44 | E89: =D89*19% -> 37105.753 | F89: 232399.19
A90: 76 | B90: SIPS RETENEDOR PALANCA DE VELOCIDADES | C90: 1 | D90: =F90/1.19 -> 104022.28 | E90: =D90*19% -> 19764.233 | F90: 123786.51
A91: 77 | B91: SIPS CADENA DE TRASMISION | C91: 1 | D91: =F91/1.19 -> 286430.38 | E91: =D91*19% -> 54421.771 | F91: 340852.15
A92: 78 | B92: SIPS KIT DE ARRASTRE COMPLETO DOS PIÑONES Y CADENA | C92: 1 | D92: =F92/1.19 -> 624939 | E92: =D92*19% -> 118738.41 | F92: 743677.41
A93: 79 | B93: TENSIONADA DE CADENA Y LUBRICACION DE ARRASTRE | C93: 1 | D93: =F93/1.19 -> 13019.563 | E93: =D93*19% -> 2473.7169 | F93: 15493.279
A94: 80 | B94: SIPS RETENEDOR EJE DE SALIDA | C94: 1 | D94: =F94/1.19 -> 123685.84 | E94: =D94*19% -> 23500.31 | F94: 147186.15
A95: 81 | B95: SIPS EJE DE SALIDA AL ARRASTRE | C95: 1 | D95: =F95/1.19 -> 1106662.8 | E95: =D95*19% -> 210265.93 | F95: 1316928.7
A96: 82 | B96: SIPS EJE DE LA PALANCA DE VELOCIDADES | C96: 1 | D96: =F96/1.19 -> 585880.31 | E96: =D96*19% -> 111317.26 | F96: 697197.57
A97: 83 | B97: SIPS TORNILLOS TUERCAS Y CHAVETAS DE PIÑON DE ARRASTRE TRASERO | C97: 1 | D97: =F97/1.19 -> 104022.28 | E97: =D97*19% -> 19764.233 | F97: 123786.51
A98: 84 | B98: SIPS DE DOS TENSORES DE CADENA | C98: 1 | D98: =F98/1.19 -> 273410.81 | E98: =D98*19% -> 51948.054 | F98: 325358.87
A99: 85 | B99: SIPS DE NEUMATICO INCLUYE NEUMATICO | C99: 1 | D99: =F99/1.19 -> 58588.031 | E99: =D99*19% -> 11131.726 | F99: 69719.757
... A108: 94 | B108: SIPS DE GUAYA DE VELOCIMETRO ORIGINAL | C108: 1 | D108: =F108/1.19 -> 286430.38 | E108: =D108*19% -> 54421.771 | F108: 340852.15
B109: SISTEMA ELECTRICO Y ACCESORIOS
A110: 95 | B110: REPARACION INSTALACION ELECTRICA GENERAL | C110: 1 | D110: =F110/1.19 -> 273410.81 | E110: =D110*19% -> 51948.054 | F110: 325358.87
A111: 96 | B111: SIPS BOMBILLO FAROLA | C111: 1 | D111: =F111/1.19 -> 39058.688 | E111: =D111*19% -> 7421.1506 | F111: 46479.838
A112: 97 | B112: SIPS BOMBILLO DIRECCIONAL | C112: 1 | D112: =F112/1.19 -> 13019.563 | E112: =D112*19% -> 2473.7169 | F112: 15493.279
A113: 98 | B113: SIPS BOMBILLO LUZ DE FRENO | C113: 1 | D113: =F113/1.19 -> 13019.563 | E113: =D113*19% -> 2473.7169 | F113: 15493.279
A114: 99 | B114: SIPS FAROLA DELANTERA IMCLUYE FAROLA Y BOMBILLO | C114: 1 | D114: =F114/1.19 -> 846271.56 | E114: =D114*19% -> 160791.6 | F114: 1007063.2
A115: 100 | B115: SIPS LUZ DIRECCIONAL INCLUYE FAROLA Y BOMBILLO HOMOLOGADA DE BUENA CALIDAD | C115: 1 | D115: =F115/1.19 -> 78117.375 | E115: =D115*19% -> 14842.301 | F115: 92959.676
A116: 101 | B116: SIPS LUZ DIRECCIONAL INCLUYE FAROLA Y BOMBILLO ORIGINAL | C116: 1 | D116: =F116/1.19 -> 156234.75 | E116: =D116*19% -> 29684.603 | F116: 185919.35
A117: 102 | B117: SIPS STOP TRASERO INCLUYE FAROLA Y BOMBILLO | C117: 1 | D117: =F117/1.19 -> 377567.31 | E117: =D117*19% -> 71737.79 | F117: 449305.1
A118: 103 | B118: SIPS TAPA O TALCO DEL STOP | C118: 1 | D118: =F118/1.19 -> 117176.06 | E118: =D118*19% -> 22263.452 | F118: 139439.51
A119: 104 | B119: REPARACION SISTEMA DE LUCES EN GENERAL | C119: 1 | D119: =F119/1.19 -> 195293.44 | E119: =D119*19% -> 37105.753 | F119: 232399.19
...

Sheet YAMAHA 
B2: YAMAHA XTZ 125 - 250- FZ 125 | C2: CANTIDAD | D2: VALOR UNITARIO | E2: IVA | F2: VALOR TOTAL
B3: SISTEMA MOTOR
A4: 1 | B4: REPARACION GENERAL DE MOTOR AL OVERSIDE SIGUIENTE O ENCAMISADA SI SE REQUIERE | C4: 1 | D4: =F4/1.19 -> 7261909.4 | E4: =D4*19% -> 1379762.8 | F4: 8641672.2
A5: 2 | B5: SIPS EMPAQUE DE CULATA | C5: 1 | D5: =F5/1.19 -> 338508.63 | E5: =D5*19% -> 64316.639 | F5: 402825.26
A6: 3 | B6: CALIBRACION DE VALVULAS | C6: 1 | D6: =F6/1.19 -> 110733.39 | E6: =D6*19% -> 21039.345 | F6: 131772.74
A7: 4 | B7: SIPS CADENA REPARTICION | C7: 1 | D7: =F7/1.19 -> 559841.19 | E7: =D7*19% -> 106369.83 | F7: 666211.01
A8: 5 | B8: SIPS EMPAQUE TAPA VALVULAS | C8: 1 | D8: =F8/1.19 -> 117176.06 | E8: =D8*19% -> 22263.452 | F8: 139439.51
A9: 6 | B9: SIPS TAPON DE CARTER | C9: 1 | D9: =F9/1.19 -> 71585.224 | E9: =D9*19% -> 13601.192 | F9: 85186.416
A10: 7 | B10: REVISION TECNICOMECANICA Y DE GASES | C10: 1 | D10: =F10/1.19 -> 215161.18 | E10: =D10*19% -> 40880.624 | F10: 256041.8
A11: 8 | B11: SCANEO | C11: 1 | D11: =F11/1.19 -> 78117.375 | E11: =D11*19% -> 14842.301 | F11: 92959.676
A12: 9 | B12: SIPS JUEGO DE ANILLOS DE MOTOR | C12: 1 | D12: =F12/1.19 -> 833252 | E12: =D12*19% -> 158317.88 | F12: 991569.88
A13: 10 | B13: SIPS EJE DE LEVAS | C13: 1 | D13: =F13/1.19 -> 1275917.1 | E13: =D13*19% -> 242424.25 | F13: 1518341.4
A14: 11 | B14: SINCRONIZACION DE MOTOR INCLUYE REPUESTOS NECESARIOS PARA UNA OPTIMA SINCRONIZACION | C14: 1 | D14: =F14/1.19 -> 364547.75 | E14: =D14*19% -> 69264.073 | F14: 433811.82
B15: SISTEMA ALIMENTACION AIRE/COMBUSTIBLE
A16: 12 | B16: LAVADA DE INYECTORES POR ULTRASONIDO INCLUYE SIPS DE FILTROS DE INYECTORES Y ORINGS | C16: 1 | D16: =F16/1.19 -> 286340.89 | E16: =D16*19% -> 54404.77 | F16: 340745.66
A17: 13 | B17: LIMPIEZA CUERPO DE ACELERACION | C17: 1 | D17: =F17/1.19 -> 182318.62 | E17: =D17*19% -> 34640.537 | F17: 216959.15
A18: 14 | B18: SIPS DE GUAYA DE ACELERADOR HOMOLOGADA DE ALTA CALIDAD | C18: 1 | D18: =F18/1.19 -> 182318.62 | E18: =D18*19% -> 34640.537 | F18: 216959.15
A19: 15 | B19: SIPS DE GUAYA DE ACELERADOR ORIGINAL | C19: 1 | D19: =F19/1.19 -> 325489.06 | E19: =D19*19% -> 61842.922 | F19: 387331.99
A20: 16 | B20: LAVADA TANQUE DE COMBUSTIBLE | C20: 1 | D20: =F20/1.19 -> 156234.75 | E20: =D20*19% -> 29684.603 | F20: 185919.35
A21: 17 | B21: SIPS REGULADOR DE PRESION DE COMBUSTIBLE | C21: 1 | D21: =F21/1.19 -> 937319.02 | E21: =D21*19% -> 178090.61 | F21: 1115409.6
A22: 18 | B22: SIPS INYECTOR | C22: 1 | D22: =F22/1.19 -> 846271.56 | E22: =D22*19% -> 160791.6 | F22: 1007063.2
A23: 19 | B23: SIPS FILTROS DE AIRE | C23: 1 | D23: =F23/1.19 -> 78117.375 | E23: =D23*19% -> 14842.301 | F23: 92959.676
A24: 20 | B24: SIPS BOMBA DE COMBUSTIBLE COMPLETA | C24: 1 | D24: =F24/1.19 -> 1497249.7 | E24: =D24*19% -> 284477.44 | F24: 1781727.1
A25: 21 | B25: SIPS FLOTADOR Y MECANISMOS DE INDICACION DE NIVEL DE COMBUSTIBLE | C25: 1 | D25: =F25/1.19 -> 585880.31 | E25: =D25*19% -> 111317.26 | F25: 697197.57
A26: 22 | B26: SIPS DE UNA MANGUERA DE COMBUSTIBLE | C26: 1 | D26: =F26/1.19 -> 45568.469 | E26: =D26*19% -> 8658.0091 | F26: 54226.478
A27: 23 | B27: SIPS DE TODAS LAS MANGUERAS DE COMBUSTIBLE | C27: 1 | D27: =F27/1.19 -> 234352.13 | E27: =D27*19% -> 44526.904 | F27: 278879.03
... A30: 26 | B30: SIPS DE UNA MANGUERA DE VACIO | C30: 1 | D30: =F30/1.19 -> 45568.469 | E30: =D30*19% -> 8658.0091 | F30: 54226.478
B31: SISTEMA DE ESCAPE
A32: 27 | B32: ARREGLO DE SILENCIADOR | C32: 1 | D32: =F32/1.19 -> 338508.63 | E32: =D32*19% -> 64316.639 | F32: 402825.26
A33: 28 | B33: ARREGLO TUBO DE ESCAPE | C33: 1 | D33: =F33/1.19 -> 312469.5 | E33: =D33*19% -> 59369.205 | F33: 371838.71
A34: 29 | B34: SIPS EMPAQUES O ANILLOS MULTIPLE DE ESCAPE | C34: 1 | D34: =F34/1.19 -> 117176.06 | E34: =D34*19% -> 22263.452 | F34: 139439.51
A35: 30 | B35: SIPS ESCAPE COMPLETO | C35: 1 | D35: =F35/1.19 -> 2083130 | E35: =D35*19% -> 395794.7 | F35: 2478924.7
B36: SISTEMA DE LUBRICACION
A37: 31 | B37: SIPS DE LA BOMBA DE ACEITE | C37: 1 | D37: =F37/1.19 -> 976467.19 | E37: =D37*19% -> 185528.77 | F37: 1161996
A38: 32 | B38: SIPS FILTRO DE ACEITE | C38: 1 | D38: =F38/1.19 -> 58588.031 | E38: =D38*19% -> 11131.726 | F38: 69719.757
B39: SISTEMA REFRIGERACION
A40: 33 | B40: SONDEADA DE RADIADOR | C40: 1 | D40: =F40/1.19 -> 156234.75 | E40: =D40*19% -> 29684.603 | F40: 185919.35
A41: 34 | B41: REPARACION DE RADIADOR | C41: 1 | D41: =F41/1.19 -> 188783.66 | E41: =D41*19% -> 35868.895 | F41: 224652.55
A42: 35 | B42: SIPS DE UNA MANGUERA RADIADOR | C42: 1 | D42: =F42/1.19 -> 104022.28 | E42: =D42*19% -> 19764.233 | F42: 123786.51
B43: SISTEMA DE DIRECCION
A44: 36 | B44: SIPS DE COJINETES DE DIRECCION | C44: 1 | D44: =F44/1.19 -> 442665.13 | E44: =D44*19% -> 84106.374 | F44: 526771.5
A45: 37 | B45: ALINEACION BARRAS DE DIRECCION Y SIPS DE AMPAQUETADURA | C45: 1 | D45: =F45/1.19 -> 559841.19 | E45: =D45*19% -> 106369.83 | F45: 666211.01
A46: 38 | B46: SIPS MANUBRIO DE DIRECCION | C46: 1 | D46: =F46/1.19 -> 286340.89 | E46: =D46*19% -> 54404.77 | F46: 340745.66
A47: 39 | B47: SIPS MANGOS MANUBRIO DE DIRECCION | C47: 1 | D47: =F47/1.19 -> 78117.375 | E47: =D47*19% -> 14842.301 | F47: 92959.676
A48: 40 | B48: REPARACION TELESCOPICOS | C48: 1 | D48: =F48/1.19 -> 364547.75 | E48: =D48*19% -> 69264.073 | F48: 433811.82
A49: 41 | B49: SIPS DE TODOS LOS RODAMIENTOS DE RUEDA DELANTERA INCLUYE RETENEDORES | C49: 1 | D49: =F49/1.19 -> 188783.66 | E49: =D49*19% -> 35868.895 | F49: 224652.55
A50: 42 | B50: SIPS DE TODOS LOS RODAMIENTOS DE RUEDA TRASERA INCLUYE RETENEDORES | C50: 1 | D50: =F50/1.19 -> 188783.66 | E50: =D50*19% -> 35868.895 | F50: 224652.55
A51: 43 | B51: SIPS 2 BARRAS TELESCOPICOS (incluye dos retenedores, aceite hidráulico y mano de obra.) | C51: 1 | D51: =F51/1.19 -> 2343521.3 | E51: =D51*19% -> 445269.04 | F51: 2788790.3
B52: SISTEMA DE FRENOS
A53: 44 | B53: SIPS DE MANILAR DE FRENO | C53: 1 | D53: =F53/1.19 -> 117176.06 | E53: =D53*19% -> 22263.452 | F53: 139439.51
A54: 45 | B54: SIPS PALANCA INFERIO DE FRENO | C54: 1 | D54: =F54/1.19 -> 188783.66 | E54: =D54*19% -> 35868.895 | F54: 224652.55
A55: 46 | B55: SIPS MORDAZA DE FRENO DELANTERO | C55: 1 | D55: =F55/1.19 -> 1275917.1 | E55: =D55*19% -> 242424.25 | F55: 1518341.4
A56: 47 | B56: SIPS MORDAZA DE FRENO TRASERO | C56: 1 | D56: =F56/1.19 -> 1275917.1 | E56: =D56*19% -> 242424.25 | F56: 1518341.4
A57: 48 | B57: RECTIFICADA DE CAMPANA DE UNA RUEDA | C57: 1 | D57: =F57/1.19 -> 175764.09 | E57: =D57*19% -> 33395.178 | F57: 209159.27
A58: 49 | B58: RECTIFICADA DE DISCO DE UNA RUEDA | C58: 1 | D58: =F58/1.19 -> 71585.224 | E58: =D58*19% -> 13601.192 | F58: 85186.416
A59: 50 | B59: SIPS DE CAMPANA DE FRENO DELANTERA | C59: 1 | D59: =F59/1.19 -> 175764.09 | E59: =D59*19% -> 33395.178 | F59: 209159.27
A60: 51 | B60: SIPS DE CAMPANA DE FRENO TRASERA | C60: 1 | D60: =F60/1.19 -> 1106662.8 | E60: =D60*19% -> 210265.93 | F60: 1316928.7
A61: 52 | B61: SIPS DE DISCO DE FRENO DELANTERO | C61: 1 | D61: =F61/1.19 -> 325489.06 | E61: =D61*19% -> 61842.922 | F61: 387331.99
A62: 53 | B62: SIPS DE DISCO DE FRENO TRASERO | C62: 1 | D62: =F62/1.19 -> 325489.06 | E62: =D62*19% -> 61842.922 | F62: 387331.99
A63: 54 | B63: RECTIFICACION DISCO DE FRENO DELANTERO | C63: 1 | D63: =F63/1.19 -> 58588.031 | E63: =D63*19% -> 11131.726 | F63: 69719.757
A64: 55 | B64: RECTIFICACION DISCO DE FRENO TRASERO | C64: 1 | D64: =F64/1.19 -> 58588.031 | E64: =D64*19% -> 11131.726 | F64: 69719.757
... A71: 62 | B71: SIPS DE UN CILINDRO DE FRENO | C71: 1 | D71: =F71/1.19 -> 188783.66 | E71: =D71*19% -> 35868.895 | F71: 224652.55
B72: SISTEMA DE SUSPENSION
A73: 63 | B73: SIPS AMORTIGUADOR TRASERO | C73: 1 | D73: =F73/1.19 -> 1346573.7 | E73: =D73*19% -> 255849 | F73: 1602422.7
A74: 64 | B74: SIPS KIT BUJES DE SUSPENSIÓN TRASERA | C74: 1 | D74: =F74/1.19 -> 585880.31 | E74: =D74*19% -> 111317.26 | F74: 697197.57
A75: 65 | B75: SIPS EJE Y BUJES DE TIJERA | C75: 1 | D75: =F75/1.19 -> 364547.75 | E75: =D75*19% -> 69264.073 | F75: 433811.82
B76: SISTEMA DE EMBRAGUE
A77: 66 | B77: SIPS GUAYA DE EMBRAGUE | C77: 1 | D77: =F77/1.19 -> 188783.66 | E77: =D77*19% -> 35868.895 | F77: 224652.55
A78: 67 | B78: SIPS PRENSA EMBRAGUE (incluye discos de embrague, empaques, retenedores, discos separadores.) | C78: 1 | D78: =F78/1.19 -> 1275917.1 | E78: =D78*19% -> 242424.25 | F78: 1518341.4
A79: 68 | B79: REPARACION GENERAL DE EMBRAGUE | C79: 1 | D79: =F79/1.19 -> 1497249.7 | E79: =D79*19% -> 284477.44 | F79: 1781727.1
A80: 69 | B80: SIPS DE PALANCA INFERIOR DE EMBRAGUE | C80: 1 | D80: =F80/1.19 -> 286430.38 | E80: =D80*19% -> 54421.771 | F80: 340852.15
A81: 70 | B81: SIPS DE MANILAR DE EMBRGAUE | C81: 1 | D81: =F81/1.19 -> 156234.75 | E81: =D81*19% -> 29684.603 | F81: 185919.35
A82: 71 | B82: SIPS RETENEDOR PALANCA INFERIOR DE EMBRAGUE | C82: 1 | D82: =F82/1.19 -> 117176.06 | E82: =D82*19% -> 22263.452 | F82: 139439.51
A83: 72 | B83: SIPS DISCOS DE EMBRAGUE ( Incluye el empaque de la tapa ) | C83: 1 | D83: =F83/1.19 -> 846271.56 | E83: =D83*19% -> 160791.6 | F83: 1007063.2
A84: 73 | B84: SIPS EMPAQUE TAPA DEL EMBRAGUE | C84: 1 | D84: =F84/1.19 -> 188783.66 | E84: =D84*19% -> 35868.895 | F84: 224652.55
B85: SISTEMA TRASMISION DE POTENCIA
A86: 74 | B86: REPARACION GENERAL CAJA DE CAMBIOS | C86: 1 | D86: =F86/1.19 -> 2083130 | E86: =D86*19% -> 395794.7 | F86: 2478924.7
A87: 75 | B87: SIPS PALANCA DE VELOCIDADES | C87: 1 | D87: =F87/1.19 -> 195293.44 | E87: =D87*19% -> 37105.753 | F87: 232399.19
A88: 76 | B88: SIPS RETENEDOR PALANCA DE VELOCIDADES | C88: 1 | D88: =F88/1.19 -> 104022.28 | E88: =D88*19% -> 19764.233 | F88: 123786.51
A89: 77 | B89: SIPS CADENA DE TRASMISION | C89: 1 | D89: =F89/1.19 -> 286430.38 | E89: =D89*19% -> 54421.771 | F89: 340852.15
A90: 78 | B90: SIPS KIT DE ARRASTRE COMPLETO DOS PIÑONES Y CADENA | C90: 1 | D90: =F90/1.19 -> 624939 | E90: =D90*19% -> 118738.41 | F90: 743677.41
A91: 79 | B91: TENSIONADA DE CADENA Y LUBRICACION DE ARRASTRE | C91: 1 | D91: =F91/1.19 -> 13019.563 | E91: =D91*19% -> 2473.7169 | F91: 15493.279
A92: 80 | B92: SIPS RETENEDOR EJE DE SALIDA | C92: 1 | D92: =F92/1.19 -> 123685.84 | E92: =D92*19% -> 23500.31 | F92: 147186.15
A93: 81 | B93: SIPS EJE DE SALIDA AL ARRASTRE | C93: 1 | D93: =F93/1.19 -> 1106662.8 | E93: =D93*19% -> 210265.93 | F93: 1316928.7
A94: 82 | B94: SIPS EJE DE LA PALANCA DE VELOCIDADES | C94: 1 | D94: =F94/1.19 -> 585880.31 | E94: =D94*19% -> 111317.26 | F94: 697197.57
A95: 83 | B95: SIPS TORNILLOS TUERCAS Y CHAVETAS DE PIÑON DE ARRASTRE TRASERO | C95: 1 | D95: =F95/1.19 -> 104022.28 | E95: =D95*19% -> 19764.233 | F95: 123786.51
A96: 84 | B96: SIPS DE DOS TENSORES DE CADENA | C96: 1 | D96: =F96/1.19 -> 273410.81 | E96: =D96*19% -> 51948.054 | F96: 325358.87
A97: 85 | B97: SIPS DE NEUMATICO INCLUYE NEUMATICO | C97: 1 | D97: =F97/1.19 -> 58588.031 | E97: =D97*19% -> 11131.726 | F97: 69719.757
... A106: 94 | B106: SIPS DE GUAYA DE VELOCIMETRO ORIGINAL | C106: 1 | D106: =F106/1.19 -> 286430.38 | E106: =D106*19% -> 54421.771 | F106: 340852.15
B107: SISTEMA ELECTRICO Y ACCESORIOS
A108: 95 | B108: REPARACION INSTALACION ELECTRICA GENERAL | C108: 1 | D108: =F108/1.19 -> 273410.81 | E108: =D108*19% -> 51948.054 | F108: 325358.87
A109: 96 | B109: SIPS BOMBILLO FAROLA | C109: 1 | D109: =F109/1.19 -> 39058.688 | E109: =D109*19% -> 7421.1506 | F109: 46479.838
A110: 97 | B110: SIPS BOMBILLO DIRECCIONAL | C110: 1 | D110: =F110/1.19 -> 13019.563 | E110: =D110*19% -> 2473.7169 | F110: 15493.279
A111: 98 | B111: SIPS BOMBILLO LUZ DE FRENO | C111: 1 | D111: =F111/1.19 -> 13019.563 | E111: =D111*19% -> 2473.7169 | F111: 15493.279
A112: 99 | B112: SIPS FAROLA DELANTERA IMCLUYE FAROLA Y BOMBILLO | C112: 1 | D112: =F112/1.19 -> 846271.56 | E112: =D112*19% -> 160791.6 | F112: 1007063.2
A113: 100 | B113: SIPS LUZ DIRECCIONAL INCLUYE FAROLA Y BOMBILLO HOMOLOGADA DE BUENA CALIDAD | C113: 1 | D113: =F113/1.19 -> 78117.375 | E113: =D113*19% -> 14842.301 | F113: 92959.676
A114: 101 | B114: SIPS LUZ DIRECCIONAL INCLUYE FAROLA Y BOMBILLO ORIGINAL | C114: 1 | D114: =F114/1.19 -> 156234.75 | E114: =D114*19% -> 29684.603 | F114: 185919.35
A115: 102 | B115: SIPS STOP TRASERO INCLUYE FAROLA Y BOMBILLO | C115: 1 | D115: =F115/1.19 -> 377567.31 | E115: =D115*19% -> 71737.79 | F115: 449305.1
A116: 103 | B116: SIPS TAPA O TALCO DEL STOP | C116: 1 | D116: =F116/1.19 -> 117176.06 | E116: =D116*19% -> 22263.452 | F116: 139439.51
A117: 104 | B117: REPARACION SISTEMA DE LUCES EN GENERAL | C117: 1 | D117: =F117/1.19 -> 195293.44 | E117: =D117*19% -> 37105.753 | F117: 232399.19
...

Sheet INSUMOS
B2: SERVICIOS GENERALES MAQUINARIA Y VEHICULOS Y MOTOCICLETAS | C2: CANTIDAD | D2: VALOR UNITARIO | E2: IVA | F2: VALOR TOTAL
B3: SOLDADURAS Y LLANTAS
A4: 1 | B4: SERVICIO DE SOLDADURA | C4: 1 | D4: =F4/1.19 -> 136723.81 | E4: =D4*19% -> 25977.524 | F4: 162701.33
A5: 2 | B5: SERVICIO DE MAQUINADO DE PIEZAS EN TORNO | C5: 1 | D5: =F5/1.19 -> 120095.24 | E5: =D5*19% -> 22818.095 | F5: 142913.33
A6: 3 | B6: vulcanizada de llanta R16 | C6: 1 | D6: =F6/1.19 -> 203238.1 | E6: =D6*19% -> 38615.238 | F6: 241853.33
A7: 4 | B7: Valvula sellomatic 1" | C7: 1 | D7: =F7/1.19 -> 25866.667 | E7: =D7*19% -> 4914.6667 | F7: 30781.333
A8: 5 | B8: Valvula sellomatic 3" | C8: 1 | D8: =F8/1.19 -> 44342.857 | E8: =D8*19% -> 8425.1429 | F8: 52768
A9: 6 | B9: Servicio de despinche de llanta Parche Nro. 5 en frio para llantas sellomatic | C9: 1 | D9: =F9/1.19 -> 27714.286 | E9: =D9*19% -> 5265.7143 | F9: 32980
A10: 7 | B10: Servicio de despinche de llanta Parche Nro. 7 en frio para llantas sellomatic | C10: 1 | D10: =F10/1.19 -> 166285.71 | E10: =D10*19% -> 31594.286 | F10: 197880
A11: 8 | B11: Ensamble de manguera hidraulica R2 - 5/8 incluye Adaptadores, acoples, uniones, racores y sellos | C11: 1 | D11: =F11/1.19 -> 114347.37 | E11: =D11*19% -> 21726.001 | F11: 136073.37
A12: 9 | B12: RECTIFICACION DE ROSCA | C12: 1 | D12: =F12/1.19 -> 36952.381 | E12: =D12*19% -> 7020.9524 | F12: 43973.333
A13: 10 | B13: SERVICIO DE ENGRASE GENERAL | C13: 1 | D13: =F13/1.19 -> 36952.381 | E13: =D13*19% -> 7020.9524 | F13: 43973.333
A14: 11 | B14: CINTA REFLECTIVA | C14: 1 | D14: =F14/1.19 -> 24019.048 | E14: =D14*19% -> 4563.619 | F14: 28582.667
B15: SISTEMA DE LUBRICACION
A16: 1 | B16: SERVICIO DE CAMBIO DE ACEITE MOTOR NO INCLUYE EL ACEITE | C16: 1 | D16: =F16/1.19 -> 33950 | E16: =D16*19% -> 6450.5 | F16: 40400.5
A17: 2 | B17: SIPS BOMBA DE ACEITE MOTOR | C17: 1 | D17: =F17/1.19 -> 1435600 | E17: =D17*19% -> 272764 | F17: 1708364
A18: 3 | B18: SIPS SENSOR PRESION DE ACEITE MOTOR | C18: 1 | D18: =F18/1.19 -> 376360 | E18: =D18*19% -> 71508.4 | F18: 447868.4
A19: 4 | B19: SERVICIO DE ENGRASE GENERAL | C19: 1 | D19: =F19/1.19 -> 36952.381 | E19: =D19*19% -> 7020.9524 | F19: 43973.333
A20: 5 | B20: SERVICIO DE CAMBIO DE ACEITE DE DIFERENCIAL | C20: 1 | D20: =F20/1.19 -> 29100 | E20: =D20*19% -> 5529 | F20: 34629
A21: 6 | B21: SERVICIO DE CAMBIO DE ACEITE DE LA CAJA | C21: 1 | D21: =F21/1.19 -> 29100 | E21: =D21*19% -> 5529 | F21: 34629
A22: 7 | B22: UREA A GRANEL AUS32 | C22: 1 | D22: =F22/1.19 -> 4526.6667 | E22: =D22*19% -> 860.06667 | F22: 5386.7333
A23: 8 | B23: SERVICIO DE CAMBIO DE ACEITE HIDRAHULICO DE DIRECCION | C23: 1 | D23: =F23/1.19 -> 38800 | E23: =D23*19% -> 7372 | F23: 46172
A24: 9 | B24: GRASA MULTIPROPOSITO EP2 | C24: 1 | D24: =F24/1.19 -> 623425.59 | E24: =D24*19% -> 118450.86 | F24: 741876.45
A25: 10 | B25: DESENGRASANTE INDUSTRIAL #2 | C25: 1 | D25: =F25/1.19 -> 56167.619 | E25: =D25*19% -> 10671.848 | F25: 66839.467
A26: 11 | B26: LIQUIDO REFRIGENRANTE 50/50 | C26: 1 | D26: =F26/1.19 -> 37192.571 | E26: =D26*19% -> 7066.5886 | F26: 44259.16
A27: 12 | B27: SERVICIO DE CAMBIO DE ACEITE GENERAL NO INCLUYE EL ACEITE | C27: 1 | D27: =F27/1.19 -> 29100 | E27: =D27*19% -> 5529 | F27: 34629
... A45: 30 | B45: ADITIVO GASOLINA | C45: 1 | D45: =F45/1.19 -> 19441.571 | E45: =D45*19% -> 3693.8986 | F45: 23135.47
B46: GENERALES Y ASEO
A47: 1 | B47: SERVICIO DE MECANICO A DOMICILIO | C47: 1 | D47: =F47/1.19 -> 174600 | E47: =D47*19% -> 33174 | F47: 207774
A48: 2 | B48: SERVICIO DE GRUA DESDE SONSON HASTA EL TALLER | C48: 1 | D48: =F48/1.19 -> 659600 | E48: =D48*19% -> 125324 | F48: 784924
A49: 3 | B49: SERVICIO DE GRUA DESDE VEREDA SONSON HASTA EL TALLER | C49: 1 | D49: =F49/1.19 -> 824500 | E49: =D49*19% -> 156655 | F49: 981155
A50: 4 | B50: SERVICIO DE GRUA DESDE ZONA URBANA HASTA EL TALLER | C50: 1 | D50: =F50/1.19 -> 659600 | E50: =D50*19% -> 125324 | F50: 784924
A51: 5 | B51: DESMANCHADA GENERAL DE TAPICERIA DE ACIENTOS, TECHO E INTERIORES, RESTAURACION DE PINTURA; FAROS Y VIDRIOS; LAVADA Y GRAFITADA DE MOTOR Y CHASIS | C51: 1 | D51: =F51/1.19 -> 601400 | E51: =D51*19% -> 114266 | F51: 715666
A52: 6 | B52: LAVADA GENERAL CON POLICHADA (MOTOR - CHASIS - INTERIOR) | C52: 1 | D52: =F52/1.19 -> 292788.24 | E52: =D52*19% -> 55629.765 | F52: 348418
A53: 7 | B53: KIT DE ASEO COMPLETO (Jabon liquido y en polvo - jabon en crema - betun - Shampoo - escoba - cepillo - cera - estopa - cilicona - dulce abrigo - desmanchador) | C53: 1 | D53: =F53/1.19 -> 145500 | E53: =D53*19% -> 27645 | F53: 173145
A54: 8 | B54: LAVADA SENCILLA | C54: 1 | D54: =F54/1.19 -> 48212.185 | E54: =D54*19% -> 9160.3151 | F54: 57372.5
A55: 9 | B55: SIPS EMBLEMAS GENERAL | C55: 1 | D55: =F55/1.19 -> 864270 | E55: =D55*19% -> 164211.3 | F55: 1028481.3
A56: 10 | B56: VALOR MANO DE OBRA MECANICA GENERAL TRABAJO NO DETERMINADO | C56: 1 | D56: =F56/1.19 -> 137311.54 | E56: =D56*19% -> 26089.192 | F56: 163400.73
A57: 11 | B57: VALOR MANO DE OBRA ELECTRICIDAD TRABAJO NO DETERMINADO | C57: 1 | D57: =F57/1.19 -> 137311.54 | E57: =D57*19% -> 26089.192 | F57: 163400.73
B58: ELEMENTOS DE PROTECCION
A59: 1 | B59: CASCO REGLAMENTARIO | C59: 1 | D59: =F59/1.19 -> 368600 | E59: =D59*19% -> 70034 | F59: 438634
A60: 2 | B60: MALETERO - MOTO | C60: 1 | D60: =F60/1.19 -> 242500 | E60: =D60*19% -> 46075 | F60: 288575
F61: =SUM(F4:F60) -> 13188136

Sheet CONSOLIDADO
B5: TOYOTA TX - RUNNER | C5: ='TOYOTA TX-RUNNER'!F320 -> 2.849898e+08
B6: HONDA XRE | C6: ='HONDA XRE'!F155 -> 74155890
B7: YAMAHA | C7: ='YAMAHA '!F153 -> 74199971
B8: NISSAN FRONTIER | C8: ='NISSAN FRONTIER'!F337 -> 2.3428798e+08
B9: RENAULT DUSTER | C9: ='RENAULT DUSTER'!F318 -> 1.4863177e+08
B10: RENAULT TRAFFIC | C10: ='RENAULT TRAFFIC'!F321 -> 2.407048e+08
B11: RENAULT LOGAN | C11: ='RENAULT LOGAN'!F294 -> 1.6268996e+08
B12: CHVEROLET | C12: =CHEVROLET!F333 -> 2.09527e+08
B13: AMAROK | C13: =AMAROK!F23 -> 3672420
B14: FORD | C14: =FORD!F24 -> 4093086.7
B15: INSUMOS | C15: =INSUMOS!F61 -> 13188136
C16: =SUM(C5:C15) -> 1.4501408e+09
