Workbook

Sheet ANEXO
A1: ANEXO 1.
A3: CUADRO COMPARATIVO DE PRECOTIZACIONES EN COMPRAS
A4: ESTUDIO DE MERCADO
A6: En atencion a las directrices emanadas por el Sena, se solicitaron las precotizaciones por la pagina www.contratacion.sena.edu.co
A7: en cuyo termino, se presentaron las siguientes cotizaciones y cuyo estudio comparativo se evidencia en el siguiente cuadro:
A9: Ítem | B9: Codigos UNSPSC | C9: DENOMINACION GENERAL DEL BIEN O SERVICIO | D9: DESCRIPCION TECNICA DEL BIEN O SERVICIO | E9: Unidad de Medida | F9: Cant | G9: SCINTIFIC PRODUCTS | I9: AS ANALITYCAL | K9: GRUPO LABSERVIS LTDA | M9: PROMEDIO
G10: VALOR UNITARIO | H10: VALOR TOTAL | I10: VALOR UNITARIO | J10: VALOR TOTAL | K10: VALOR UNITARIO | L10: VALOR TOTAL | M10: VR UNITARIO PROMEDIO | N10: VALOR TOTAL
A11: 1 | B11: 41116104 | C11: Servicio de Ensayo de aptitud o pruebas Inter comparación para la comprobación de la competencia técnica, el desempeño de medición y validación de los métodos ofertados en el Laboratorio de Biotecnología Acuícola. Aguas Superficiales/Continentales: MODALIDAD RAPID RETURN | D11: Matriz: agua continental para los ensayos de: Alcalinidad (Titulación potenciométrico) Conductividad (Electrométrico) Turbiedad (Nefelométrico) Sulfato (Turbidimétrico) Cloruro (Argentométrico/de Mohr) Amonio (Espectrofotométrico) Fosfatos (Colorimétrico) Sólidos Suspendidos Totales (Gravimétrico) Cromo hexavalente (Colorimétrico) DQO (Titulación reflujo cerrado). Acidez (Titulométrico). Métodos: Ensayo: Alcalinidad Método: Titulación potenciométrico Rango: 25 a 700 mg CaCO3/L Ensayo: Conductiividad Método: Electrométrico Rango: 146 a 10000 uS/cm Ensayo: Turbiedad Método: Nefelométrico Rango: 5 - 2000 NTU Ensayo: Sulfato Método: Turbidimétrico Rango: 10 mg/L hasta 500 mg/L Ensayo: Cloruro Método: Argentométrico/de Mohr Rango: 3 a 450 mg/L Ensayo: Amonio Método: Espectrofotométrico Rango: 30 - 20000 ug N/L Ensayo: Fosfatos Método: Colorimétrico Rango: 0,05 a 1,10 mg PO4-3/L Ensayo: Solidos Suspendidos Totales Método: Gravimétrico Rango: 20 - 1000 mg SST/L Ensayo: Cromo hexavalente Método: Colorimétrico Rango: 0,10 a 1,00 mg Cr+6/L Ensayo: Demanda Química de Oxígeno -DQO Método: Titulación - Reflujo cerrado Rango: 50 a 400 mg O2/L Ensayo: Acidez Método: Titulométrico Rango: 10 - 1500 mg CaCO3/L | E11: UN | F11: 1 | G11: ='VERSION CORREGIDA'!B16 -> 7939204 | H11: =+F11*G11 -> 7939204 | I11: ='VERSION CORREGIDA'!E16 -> 6232149 | J11: =+F11*I11 -> 6232149 | K11: ='VERSION CORREGIDA'!H16 -> 9373392 | L11: =+F11*K11 -> 9373392 | M11: =AVERAGE(G11,I11,K11) -> 7848248.3 | N11: =+F11*M11 -> 7848248.3
H13: =SUM(H11:H12) -> 7939204 | J13: =SUM(J11:J12) -> 6232149 | L13: =SUM(L11:L12) -> 9373392 | N13: =SUM(N11:N12) -> 7848248.3
H14: =+H13*19/100 -> 1508448.8 | J14: =+J13*19/100 -> 1184108.3 | L14: =+L13*19/100 -> 1780944.5 | N14: =+N13*19/100 -> 1491167.2
H15: =+H13+H14 -> 9447652.8 | J15: =+J13+J14 -> 7416257.3 | L15: =+L13+L14 -> 11154336 | N15: =+N13+N14 -> 9339415.5

Sheet CUADRO CON IVA INCLUIDO
A1: ANEXO 1.
A3: CUADRO COMPARATIVO DE PRECOTIZACIONES EN COMPRAS
A4: ESTUDIO DE MERCADO
A6: En atencion a las directrices emanadas por el Sena, se solicitaron las precotizaciones por la pagina www.contratacion.sena.edu.co
A7: en cuyo termino, se presentaron las siguientes cotizaciones y cuyo estudio comparativo se evidencia en el siguiente cuadro:
A9: Ítem | B9: Codigos UNSPSC | C9: DENOMINACION GENERAL DEL BIEN O SERVICIO | D9: DESCRIPCION TECNICA DEL BIEN O SERVICIO | E9: Unidad de Medida | F9: Cant | G9: SCINTIFIC PRODUCTS | I9: AS ANALITYCAL | K9: GRUPO LABSERVIS LTDA | M9: PROMEDIO
G10: VALOR UNITARIO | H10: VALOR TOTAL | I10: VALOR UNITARIO | J10: VALOR TOTAL | K10: VALOR UNITARIO | L10: VALOR TOTAL | M10: VR UNITARIO PROMEDIO | N10: VALOR TOTAL
A11: 1 | B11: 41116104 | C11: Servicio de Ensayo de aptitud o pruebas Inter comparación para la comprobación de la competencia técnica, el desempeño de medición y validación de los métodos ofertados en el Laboratorio de Biotecnología Acuícola. Aguas Superficiales/Continentales: MODALIDAD RAPID RETURN | D11: Matriz: agua continental para los ensayos de: Alcalinidad (Titulación potenciométrico) Conductividad (Electrométrico) Turbiedad (Nefelométrico) Sulfato (Turbidimétrico) Cloruro (Argentométrico/de Mohr) Amonio (Espectrofotométrico) Fosfatos (Colorimétrico) Sólidos Suspendidos Totales (Gravimétrico) Cromo hexavalente (Colorimétrico) DQO (Titulación reflujo cerrado). Acidez (Titulométrico). Métodos: Ensayo: Alcalinidad Método: Titulación potenciométrico Rango: 25 a 700 mg CaCO3/L Ensayo: Conductiividad Método: Electrométrico Rango: 146 a 10000 uS/cm Ensayo: Turbiedad Método: Nefelométrico Rango: 5 - 2000 NTU Ensayo: Sulfato Método: Turbidimétrico Rango: 10 mg/L hasta 500 mg/L Ensayo: Cloruro Método: Argentométrico/de Mohr Rango: 3 a 450 mg/L Ensayo: Amonio Método: Espectrofotométrico Rango: 30 - 20000 ug N/L Ensayo: Fosfatos Método: Colorimétrico Rango: 0,05 a 1,10 mg PO4-3/L Ensayo: Solidos Suspendidos Totales Método: Gravimétrico Rango: 20 - 1000 mg SST/L Ensayo: Cromo hexavalente Método: Colorimétrico Rango: 0,10 a 1,00 mg Cr+6/L Ensayo: Demanda Química de Oxígeno -DQO Método: Titulación - Reflujo cerrado Rango: 50 a 400 mg O2/L Ensayo: Acidez Método: Titulométrico Rango: 10 - 1500 mg CaCO3/L | E11: UN | F11: 1 | G11: ='VERSION CORREGIDA'!B16 -> 7939204 | H11: =+F11*G11 -> 7939204 | I11: ='VERSION CORREGIDA'!E16 -> 6232149 | J11: =+F11*I11 -> 6232149 | K11: ='VERSION CORREGIDA'!H16 -> 9373392 | L11: =+F11*K11 -> 9373392 | M11: =AVERAGE(G11,I11,K11) -> 7848248.3 | N11: =+F11*M11 -> 7848248.3
H13: =SUM(H11:H12) -> 7939204 | J13: =SUM(J11:J12) -> 6232149 | L13: =SUM(L11:L12) -> 9373392 | N13: =SUM(N11:N12) -> 7848248.3
H14: =+H13*19/100 -> 1508448.8 | J14: =+J13*19/100 -> 1184108.3 | L14: =+L13*19/100 -> 1780944.5 | N14: =+N13*19/100 -> 1491167.2
H15: =+H13+H14 -> 9447652.8 | J15: =+J13+J14 -> 7416257.3 | L15: =+L13+L14 -> 11154336 | N15: =+N13+N14 -> 9339415.5
N18: 9339415.5

Sheet CUADRO SIN SIGNOS
A1: ANEXO 1.
A3: CUADRO COMPARATIVO DE PRECOTIZACIONES EN COMPRAS
A4: ESTUDIO DE MERCADO
A6: En atencion a las directrices emanadas por el Sena, se solicitaron las precotizaciones por la pagina www.contratacion.sena.edu.co
A7: en cuyo termino, se presentaron las siguientes cotizaciones y cuyo estudio comparativo se evidencia en el siguiente cuadro:
A9: Ítem | B9: Codigos UNSPSC | C9: DENOMINACION GENERAL DEL BIEN O SERVICIO | D9: DESCRIPCION TECNICA DEL BIEN O SERVICIO | E9: Unidad de Medida | F9: Cant | G9: SCINTIFIC PRODUCTS | I9: AS ANALITYCAL | K9: GRUPO LABSERVIS LTDA | M9: PROMEDIO
G10: VALOR UNITARIO | H10: VALOR TOTAL | I10: VALOR UNITARIO | J10: VALOR TOTAL | K10: VALOR UNITARIO | L10: VALOR TOTAL | M10: VR UNITARIO PROMEDIO | N10: VALOR TOTAL
A11: 1 | B11: 41116104 | C11: Servicio de Ensayo de aptitud o pruebas Inter comparación para la comprobación de la competencia técnica, el desempeño de medición y validación de los métodos ofertados en el Laboratorio de Biotecnología Acuícola. Aguas Superficiales/Continentales: MODALIDAD RAPID RETURN | D11: Matriz: agua continental para los ensayos de: Alcalinidad (Titulación potenciométrico) Conductividad (Electrométrico) Turbiedad (Nefelométrico) Sulfato (Turbidimétrico) Cloruro (Argentométrico/de Mohr) Amonio (Espectrofotométrico) Fosfatos (Colorimétrico) Sólidos Suspendidos Totales (Gravimétrico) Cromo hexavalente (Colorimétrico) DQO (Titulación reflujo cerrado). Acidez (Titulométrico). Métodos: Ensayo: Alcalinidad Método: Titulación potenciométrico Rango: 25 a 700 mg CaCO3/L Ensayo: Conductiividad Método: Electrométrico Rango: 146 a 10000 uS/cm Ensayo: Turbiedad Método: Nefelométrico Rango: 5 - 2000 NTU Ensayo: Sulfato Método: Turbidimétrico Rango: 10 mg/L hasta 500 mg/L Ensayo: Cloruro Método: Argentométrico/de Mohr Rango: 3 a 450 mg/L Ensayo: Amonio Método: Espectrofotométrico Rango: 30 - 20000 ug N/L Ensayo: Fosfatos Método: Colorimétrico Rango: 0,05 a 1,10 mg PO4-3/L Ensayo: Solidos Suspendidos Totales Método: Gravimétrico Rango: 20 - 1000 mg SST/L Ensayo: Cromo hexavalente Método: Colorimétrico Rango: 0,10 a 1,00 mg Cr+6/L Ensayo: Demanda Química de Oxígeno -DQO Método: Titulación - Reflujo cerrado Rango: 50 a 400 mg O2/L Ensayo: Acidez Método: Titulométrico Rango: 10 - 1500 mg CaCO3/L | E11: UN | F11: 1 | G11: ='VERSION CORREGIDA'!B16 -> 7939204 | H11: =+F11*G11 -> 7939204 | I11: ='VERSION CORREGIDA'!E16 -> 6232149 | J11: =+F11*I11 -> 6232149 | K11: ='VERSION CORREGIDA'!H16 -> 9373392 | L11: =+F11*K11 -> 9373392 | M11: =AVERAGE(G11,I11,K11) -> 7848248.3 | N11: =+F11*M11 -> 7848248.3
H13: =SUM(H11:H12) -> 7939204 | J13: =SUM(J11:J12) -> 6232149 | L13: =SUM(L11:L12) -> 9373392 | N13: =SUM(N11:N12) -> 7848248.3
H14: =+H13*19/100 -> 1508448.8 | J14: =+J13*19/100 -> 1184108.3 | L14: =+L13*19/100 -> 1780944.5 | N14: =+N13*19/100 -> 1491167.2
H15: =+H13+H14 -> 9447652.8 | J15: =+J13+J14 -> 7416257.3 | L15: =+L13+L14 -> 11154336 | N15: =+N13+N14 -> 9339415.5

Sheet VERSION CORREGIDA
A1: SCIENTIFIC PRODUCTS | D1: AS ANALYTICAL - 2026 | G1: LAB SERVIS - 2026
B2: CON | E2: CON | H2: CON
A3: Conductividad (Electrométrico); | B3: 754000 | D3: Turbiedad (Nefelométrico). | E3: 702900 | G3: Turbiedad (Nefelométrico). | H3: 1022400
A4: Turbiedad (Nefelométrico). | B4: 842400 | D4: Alcalinidad (Titulación potenciométrico); | E4: 990000 | G4: Conductividad (Electrométrico); | H4: 1440000
A5: Alcalinidad (Titulación potenciométrico); | B5: 962000 | D5: Conductividad (Electrométrico); | G5: Alcalinidad (Titulación potenciométrico);
A6: Sulfato (Turbidimétrico) | D6: Sulfato (Turbidimétrico) | G6: Sulfato (Turbidimétrico)
A7: Cloruro (Argentométrico/de Mohr) | D7: Cloruro (Argentométrico/de Mohr) | G7: Cloruro (Argentométrico/de Mohr)
A8: Amonio (Espectrofotométrico) | B8: 754000 | D8: Amonio (Espectrofotométrico) | E8: 653400 | G8: Amonio (Espectrofotométrico) | H8: 950400
A9: Fosfatos (Colorimétrico) | D9: Fosfatos (Colorimétrico) | G9: Fosfatos (Colorimétrico)
A10: Sólidos Suspendidos Totales (Gravimétrico) | B10: 868400 | D10: Sólidos Suspendidos Totales (Gravimétrico) | E10: 792000 | G10: Sólidos Suspendidos Totales (Gravimétrico) | H10: 1152000
A11: Cromo hexavalente (Colorimétrico) | B11: 800800 | D11: Cromo hexavalente (Colorimétrico) | E11: 712800 | G11: Cromo hexavalente (Colorimétrico) | H11: 1296000
A12: DQO (Titulación reflujo cerrado). | B12: 889200 | D12: DQO (Titulación reflujo cerrado). | E12: 712800 | G12: DQO (Titulación reflujo cerrado). | H12: 1036800
A13: Acidez (Titulométrico). | B13: 800800 | D13: Acidez (Titulométrico). | E13: 673200 | G13: Acidez (Titulométrico). | H13: 979200
B14: =SUM(B3:B13) -> 6671600 | E14: =SUM(E3:E13) -> 5237100 | H14: =SUM(H3:H13) -> 7876800
B15: =B14*0.19 -> 1267604 | E15: =E14*0.19 -> 995049 | H15: =H14*0.19 -> 1496592
B16: =SUM(B14:B15) -> 7939204 | E16: =SUM(E14:E15) -> 6232149 | H16: =SUM(H14:H15) -> 9373392
