Workbook
Name _IPC2018: Tarifas!#REF!
Name _IPC2018: Tarifas!#REF!
Name AMPAROS_DIS: Tabla2[#All]
Name AMPAROS_DIS: Tabla2[#All]
Name AMPAROS_DIS: Tabla2[#All]
Name AMPAROS_DIS: Tabla2[#All]
Name AMPAROS_OBR: Tabla5[#All]
Name AMPAROS_OBR: Tabla5[#All]
Name AMPAROS_OBR: Tabla5[#All]
Name AMPAROS_OBR: Tabla5[#All]
Name CIO: CIO!$A:$F
Name DETALLE: #REF!
Name ESPE2: Tarifas!#REF!
Name PERS_OBRA: Tabla1[#All]
Name PERS_OBRA: Tabla1[#All]
Name PERS_OBRA: Tabla1[#All]
Name PERS_OBRA: Tabla1[#All]
Name Personal1: Tabla1[#All]
Name Personal1: Tabla1[#All]
Name PROF3: Tarifas!#REF!
Name PROF4: Tarifas!#REF!
Name PROF5: Tarifas!#REF!
Name PROF6: Tarifas!#REF!
Name PROF7: Tarifas!#REF!
Name PROF8: Tarifas!#REF!
Name PROFAUX: Tarifas!#REF!
Name TARIFA_IDRD: Tarifas!$A$2:$I$50
Name Tipo_Ensayo: #REF!
Name TODINSDET: #REF!
Name TODINSDET30ABR: #REF!

Sheet SMMLV
A1: Salario mínimo legal en Colombia
A2: 1.1.1. Serie histórica en pesos colombianos_periodicidad anual
A4: Información disponible desde el 1 de julio de 1984.
A6: Año (aaaa) | B6: Salario mínimo diario (COP) | C6: Salario mínimo mensual (COP) | D6: Variación porcentual anual % | E6: Decretos del Gobierno Nacional
A7: 1984 | B7: 376.6 | C7: 11298 | E7: 3506 de diciembre 27 de 1983
A8: 1985 | B8: 451.92 | C8: 13558 | D8: 20 | E8: 0001 de enero de 1985
A9: 1986 | B9: 560.38 | C9: 16811 | D9: 24 | E9: 3754 de diciembre de 1985
A10: 1987 | B10: 683.66 | C10: 20510 | D10: 22 | E10: 3732 de diciembre de 1986
A11: 1988 | B11: 854.58 | C11: 25637 | D11: 25 | E11: 2545 de diciembre de 1987
A12: 1989 | B12: 1085.32 | C12: 32560 | D12: 27 | E12: 2662 de diciembre de 1988
A13: 1990 | B13: 1367.5 | C13: 41025 | D13: 26 | E13: 3000 de diciembre de 1989
A14: 1991 | B14: 1724 | C14: 51720 | D14: 26.1 | E14: 3074 de diciembre de 1990
A15: 1992 | B15: 2173 | C15: 65190 | D15: 26.044 | E15: 2867 de diciembre de 1991
A16: 1993 | B16: 2717 | C16: 81510 | D16: 25 | E16: 2061 de diciembre de 1992
A17: 1994 | B17: 3290 | C17: 98700 | D17: 21.1 | E17: 2548 de diciembre de 1993
A18: 1995 | B18: 3964.45 | C18: 118934 | D18: 20.5 | E18: 2872 de diciembre de 1994
A19: 1996 | B19: 4737.5 | C19: 142125 | D19: 19.5 | E19: 2310 de diciembre de 1995
... A47: 2024 | B47: 43333.33 | C47: 1300000 | D47: 12.07 | E47: 2292 de diciembre 29 de 2023
A48: 2025 | B48: =+C48/30 -> 47450 | C48: 1423500 | D48: 9.54 | E48: 1572 de dic 24 de 2024
A49: 2026 | B49: =+C49/30 -> 58363.5 | C49: 1750905 | D49: 23 | E49: 1469 de dic 29 de 2025
A51: Fuente: Ministerio del Trabajo (www.mintrabajo.gov.co) y decretos del Gobierno Nacional (www.presidencia.gov.co).
A53: Notas:
A55: desde el 1 de julio de 1984 se unificó el salario mínimo para todos los sectores de la economía. En los años en que se decretó el salario mínimo diario, este se multiplica por 30 días y se redondea a la unidad para determinar el valor mensual. Cuando se decretó el salario mínimo mensual, se divide por 30 y se redondea a dos decimales para obtener el salario diario.
A57: Variación porcentual con respecto al dato del año inmediatamente anterior.
A58: (N/A) No aplica
A60: Banco de la República - Gerencia Técnica - información extraída de la bodega de datos -Serankua- el 19/09/2024 14:23:43
A61: https://www.banrep.gov.co/es/estadisticas/salarios

Sheet IPC DIC
A1: IPC. Variación mensual, año corrido y anual
A3: Total IPC (2011 - 2025)
A5: 2011 - 2023 (Diciembre)
A6: Años | B6: Variación %
B7: Mensual | C7: Año corrido | D7: Anual
A8: 2011 | B8: 0.42 | C8: 3.73 | D8: 3.73
A9: 2012 | B9: 0.09 | C9: 2.44 | D9: 2.44
A10: 2013 | B10: 0.26 | C10: 1.94 | D10: 1.94
A11: 2014 | B11: 0.27 | C11: 3.66 | D11: 3.66
A12: 2015 | B12: 0.62 | C12: 6.77 | D12: 6.77
A13: 2016 | B13: 0.42 | C13: 5.75 | D13: 5.75
A14: 2017 | B14: 0.38 | C14: 4.09 | D14: 4.09
A15: 2018 | B15: 0.3 | C15: 3.18 | D15: 3.18
A16: 2019 | B16: 0.26 | C16: 3.8 | D16: 3.8
A17: 2020 | B17: 0.38 | C17: 1.61 | D17: 1.61
A18: 2021 | B18: 0.73 | C18: 5.62 | D18: 5.62
A19: 2022 | B19: 1.26 | C19: 13.12 | D19: 13.12
... A22: 2025 | B22: 0.27 | C22: 5.1 | D22: 5.1
A25: Fuente: DANE.
A26: Nota: La diferencia en la suma de las variables, obedece al sistema de aproximación y redondeo.
A27: Actualizado el 20 de enero de 2026

Sheet portada
A5: Anexo No. 001
A9: FUNDACIÓN GILBERTO ALZATE AVENDAÑO
A16: CÁLCULOS DE PRESUPUESTO PARA
A17: ESTUDIOS Y DISEÑOS EL MUELLE
A18: PARA EL PROCESO QUE TIENE COMO OBJETO
A19: REALIZAR LOS ESTUDIOS Y DISEÑOS TÉCNICOS INTEGRALES PARA LA COMPLEMENTACIÓN DE LA MEMBRANA ARQUITECTÓNICA, LAS SOLUCIONES DE ACCESIBILIDAD PARA PERSONAS CON MOVILIDAD REDUCIDA (PMR) Y LAS ADECUACIONES TÉCNICAS DEL ESCENARIO “EL MUELLE” DE LA FUNDACIÓN GILBERTO ALZATE AVENDAÑO – FUGA.
A20: ESCENARIO EL MUELLE DE LA FUGA
A21: SUBDIRECCIÓN ARTÍSTICA Y CULTURAL
A30: Julio de 2026
A32: ,

Sheet Resumen
B2: FUNDACIÓN GILBERTO ALZATE AVENDAÑO
B3: =+portada!A21 -> SUBDIRECCIÓN ARTÍSTICA Y CULTURAL
B4: RESUMEN CÁLCULO PRESUPUESTAL - COSTOS GLOBALES INTERVENTORÍA/CONSULTORÍA
B5: ="PROYECTO: "&portada!$A$23 -> PROYECTO:
B6: =portada!A19 -> REALIZAR LOS ESTUDIOS Y DISEÑOS TÉCNICOS INTEGRALES PARA LA COMPLEMENTACIÓN DE LA MEMBRANA ARQUITECTÓNICA, LAS SOLUCIONES DE ACCESIBILIDAD PARA PERSONAS CON MOVILIDAD REDUCIDA (PMR) Y LAS ADECUACIONES TÉCNICAS DEL ESCENARIO “EL MUELLE” DE LA FUNDACIÓN GILBERTO ALZATE AVENDAÑO – FUGA. | C6: CANTIDAD DE PROYECTOS
C8: 1
B10: 1. PERSONAL | C10: Consultoría
B11: A – PERSONAL PROFESIONAL | C11: =SUMIF(Tabla1[[#All],[Columna3]],"PERSONAL PROFESIONAL",Tabla1[[#All],[Columna62]]) -> 15310340 | G11: Estudios y Diseños
B12: B – PERSONAL TÉCNICO – TECNÓLOGO | C12: =SUMIF(Tabla1[[#All],[Columna3]],"PERSONAL TÉCNICO O TECNÓLOGO",Tabla1[[#All],[Columna62]]) -> 3894401 | G12: Obra
B13: C – OPERARIO Y DE APOYO A LA GESTIÓN | C13: =SUMIF(Tabla1[[#All],[Columna3]],"PERSONAL OPERARIO Y DE APOYO A LA GESTIÓN",Tabla1[[#All],[Columna62]]) -> 0 | G13: Interventoría a Estudios y Diseños
B14: SUBTOTAL PERSONAL | C14: =SUM(C11:C13) -> 19204741 | G14: Interventoría a Obra
B15: FACTOR MULTIPLICADOR - PERSONAL ARQUITECTURA | C15: =IFERROR('Factor Multiplicador'!G120,"") -> 1.7963 | G15: Interventoría a llave en mano
B16: I. TOTAL PERSONAL DE ARQUITECTURA | C16: =IFERROR((C15*C14),"") -> 34497476 | G16: Consultoría
G17: Llave en Mano
B18: 2. COSTOS DIRECTOS OPERACIONALES: ALQUILER DE EQUIPOS Y ENSAYOS DE LABORATORIO | G18: Otras consultorías
B19: D. ALQUILER DE EQUIPOS | C19: ='EQUIPOS Y OTROS'!L14 -> 1282382
B20: E. ENSAYOS DE LABORATORIO | C20: ='EQUIPOS Y OTROS'!L47 -> 0
B21: II. + III. SUBTOTAL EQUIPOS Y ENSAYOS DE LABORATORIO | C21: =SUM(C19:C20) -> 1282382
B23: 3. COSTOS DIRECTOS OPERACIONALES: SUMINISTROS Y OTROS ELEMENTOS (CAMPAMENTO, CERRAMIENTOS, VIGILANCIA, ETC.)
B24: F. OTROS COSTOS DIRECTOS OPERACIONALES: CAMPAMENTO, CERRAMIENTOS, VIGILANCIA, ETC. Y OTROS GASTOS | C24: ='EQUIPOS Y OTROS'!L70 -> 5000000
B25: IV. SUBTOTAL DE PERSONAL Y COSTOS DIRECTOS OPERACIONALES | C25: =C24+C21+C16 -> 40779858
B26: VALOR IVA | C26: =C25*19% -> 7748173.1
B27: V. VALOR TOTAL ESTUDIOS Y DISEÑOS DE ARQUITECTURA (Sin Redondeo) | C27: =SUM(C25:C26) -> 48528031
B29: 4. PERSONAL | C29: Otras consultorías
B30: A – PERSONAL PROFESIONAL | C30: =SUMIF(Tabla14[[#All],[Columna3]],"PERSONAL PROFESIONAL",Tabla14[[#All],[Columna62]]) -> 0
B31: B – PERSONAL TÉCNICO – TECNÓLOGO | C31: =SUMIF(Tabla14[[#All],[Columna3]],"PERSONAL TÉCNICO O TECNÓLOGO",Tabla14[[#All],[Columna62]]) -> 0
B32: C – OPERARIO Y DE APOYO A LA GESTIÓN | C32: =SUMIF(Tabla14[[#All],[Columna3]],"PERSONAL OPERARIO Y DE APOYO A LA GESTIÓN",Tabla14[[#All],[Columna62]]) -> 0
B33: SUBTOTAL PERSONAL | C33: =SUM(C30:C32) -> 0
B34: FACTOR MULTIPLICADOR - PERSONAL INGENIERÍA | C34: =IFERROR('Factor Multiplicador'!I120,"") -> 1.8774
B35: VI. TOTAL PERSONAL DE INGENIERIA | C35: =IFERROR((C34*C33),"") -> 0
B37: 5. COSTOS DIRECTOS OPERACIONALES: ALQUILER DE EQUIPOS Y ENSAYOS DE LABORATORIO
B38: D. ALQUILER DE EQUIPOS | C38: ='EQUIPOS Y OTROS'!P14 -> 0
B39: E. ENSAYOS DE LABORATORIO | C39: ='EQUIPOS Y OTROS'!P47 -> 0
B40: VII. SUBTOTAL EQUIPOS Y ENSAYOS DE LABORATORIO | C40: =SUM(C38:C39) -> 0
B42: 6. COSTOS DIRECTOS OPERACIONALES: SUMINISTROS Y OTROS ELEMENTOS (CAMPAMENTO, CERRAMIENTOS, VIGILANCIA, ETC.)
B43: F. SUMINISTROS Y OTROS ELEMENTOS: CAMPAMENTO, CERRAMIENTOS, VIGILANCIA, ETC. Y OTROS GASTOS | C43: ='EQUIPOS Y OTROS'!P70 -> 0
B44: VIII. SUBTOTAL DE PERSONAL Y COSTOS DIRECTOS OPERACIONALES | C44: =IFERROR((C43+C40+C35),"") -> 0
B45: VALOR IVA | C45: =IFERROR((C44*19%),"") -> 0
B46: IX. VALOR TOTAL ESTUDIOS Y DISEÑOS DE INGENIERIA (Sin Redondeo) | C46: =SUM(C44:C45) -> 0
B48: RESUMEN
...

Sheet Tarifas
A1: TARIFAS DE PERSONAL 2026 | K1: EQUIVALENCIAS POSIBLES POR PROFESIÓN
A2: DESCRIPCIÓN FUNCIONAL | B2: CÓDIGO CIO | C2: CATEGORÍA | D2: NIVEL | E2: EQUIV | F2: HONORARIOS | G2: TARIFA SALARIAL | K2: =A6 -> ASESOR | L2: =A7 -> ESPECIALISTA (I) CATEGORÍA 1 (E.G.12;E.E.10) | M2: =A8 -> ESPECIALISTA (I) CATEGORÍA 1 (E.G.12;E.E.8) | N2: =A9 -> ESPECIALISTA (I) CATEGORÍA 1 (E.G.12;E.E.5) | O2: =A10 -> ESPECIALISTA (II) CATEGORÍA 2 (E.G.10;E.E.7) | P2: =A11 -> ESPECIALISTA (II) CATEGORÍA 2 (E.G.10;E.E.4) | Q2: =A12 -> PROFESIONAL CATEGORÍA 3 (E.G.8;E.E.6) | R2: =A13 -> PROFESIONAL CATEGORÍA 3 (E.G.8;E.E.5) | S2: =A14 -> PROFESIONAL CATEGORÍA 3 (E.G.8;E.E.3) | T2: =A15 -> PROFESIONAL ESPECIALISTA CONSTRUCCIÓN VELÓDROMOS CATEGORÍA 3A (E.G.8;E.E.5) | U2: =A16 -> PROFESIONAL ESPECIALISTA/COORDINADOR BIM CATEGORÍA 3B (E.G.8;E.E.5) | V2: =A17 -> PROFESIONAL ESPECIALISTA HIDROGEÓLOGO CATEGORÍA 3C (E.G.8;E.E.5) | W2: =A18 -> PROFESIONAL CATEGORÍA 4 (E.G.6;E.E.4) | X2: =A19 -> PROFESIONAL CATEGORÍA 4 (E.G.6;E.E.2) | Y2: =A20 -> PROFESIONAL CATEGORÍA 5 (E.G.4;E.E.3) | Z2: =A21 -> PROFESIONAL CATEGORÍA 5 (E.G.4;E.E.2) | AA2: =A22 -> PROFESIONAL CATEGORÍA 6 (E.G.3;E.E.1) | AB2: =A24 -> PROFESIONAL CATEGORÍA 6 (E.G.2;E.E.1) | AC2: =A23 -> PROFESIONAL CATEGORÍA 6A (E.G.3;E.E.1) | AD2: =A25 -> PROFESIONAL CATEGORÍA 7 (E.G.2) | AE2: =A26 -> PROFESIONAL CATEGORÍA 8 (E.G.2) | AF2: =A27 -> PROFESIONAL AUXILIAR
F3: 2026 | G3: 2026 | H3: 2027 | I3: 2028 | O3: Asesor Director | Q3: Director | W3: Ing. Ambiental | Y3: Residente | AA3: Abogado | AD3: Residente 2 | AE3: Ing. Calidad | AF3: Ingeniero Auxiliar
H4: IPC 2026 PROY 6,19% | I4: IPC PROY 2027 4,71%
A5: Columna1 | B5: Columna12 | C5: Columna2 | D5: Columna3 | E5: Columna4 | F5: Columna5 | G5: Columna6 | H5: Columna7 | I5: Columna8
A6: ASESOR | B6: 100054 | C6: 0 | D6: PERSONAL PROFESIONAL | E6: =IF(A6=$K$2,"ASESOR",IF(A6=$L$2,"ESPE1", IF(A6=$M$2,"ESPE1",IF(A6=$N$2,"ESPE1",IF(A6=$O$2,"ESPE2",IF(A6=$P$2,"ESPE2",IF(A6=$Q$2,"PROF3",IF(A6=$R$2,"PROF3",IF(A6=$S$2,"PROF3",IF(A6=$S$2,"PROF3",IF(A6=$T$2,"PROF3",IF(A6=$U$2,"PROF3",IF(A6=$V$2,"PROF3",IF(A6=$W$2,"PROF4",IF(A6=$X$2,"PROF4",IF(A6=$Y$2,"PROF5",IF(A6=$Z$2,"PROF5",IF(A6=$AA$2,"PROF6",IF(A6=$AB$2,"PROF6",IF(A6=$AC$2,"PROF6A",IF(A6=$AD$2,"PROF7",IF(A6=$AE$2,"PROF8",IF(A6=$AF$2,"PROFAUX",A6))))))))))))))))))))))) -> ASESOR | F6: 18624000 | G6: 14729721 | H6: =ROUNDUP((G6*1.0619),0) -> 15641491 | I6: =ROUNDUP((H6*1.0471),0) -> 16378206 | O6: Director de Interventoría | Q6: Especialista Geotecnista | W6: Especialista Arq. Diseñador Junior | Y6: Calidad | AA6: Especialista Hidrosanitario y Gas | AD6: Ing. Eléctrico | AF6: Auxiliar Administrativo
A7: ESPECIALISTA (I) CATEGORÍA 1 (E.G.12;E.E.10) | B7: 100125 | C7: 1 | D7: PERSONAL PROFESIONAL | E7: =IF(A7=$K$2,"ASESOR",IF(A7=$L$2,"ESPE1", IF(A7=$M$2,"ESPE1",IF(A7=$N$2,"ESPE1",IF(A7=$O$2,"ESPE2",IF(A7=$P$2,"ESPE2",IF(A7=$Q$2,"PROF3",IF(A7=$R$2,"PROF3",IF(A7=$S$2,"PROF3",IF(A7=$S$2,"PROF3",IF(A7=$T$2,"PROF3",IF(A7=$U$2,"PROF3",IF(A7=$V$2,"PROF3",IF(A7=$W$2,"PROF4",IF(A7=$X$2,"PROF4",IF(A7=$Y$2,"PROF5",IF(A7=$Z$2,"PROF5",IF(A7=$AA$2,"PROF6",IF(A7=$AB$2,"PROF6",IF(A7=$AC$2,"PROF6A",IF(A7=$AD$2,"PROF7",IF(A7=$AE$2,"PROF8",IF(A7=$AF$2,"PROFAUX",A7))))))))))))))))))))))) -> ESPE1 | F7: 18624000 | G7: 14729721 | H7: =ROUNDUP((G7*1.0619),0) -> 15641491 | I7: =ROUNDUP((H7*1.0471),0) -> 16378206 | O7: Abogado espe. En contratación pública | Q7: Diseñador Estructural | W7: Especialista Arq. Paisajista | Y7: Profesional SISOMA | AA7: Esp. Presupuestos y Porgramación | AD7: Ing. Calidad | AF7: Arquitecto Auxiliar
A8: ESPECIALISTA (I) CATEGORÍA 1 (E.G.12;E.E.8) | B8: 14492 | C8: 1 | D8: PERSONAL PROFESIONAL | E8: =IF(A8=$K$2,"ASESOR",IF(A8=$L$2,"ESPE1", IF(A8=$M$2,"ESPE1",IF(A8=$N$2,"ESPE1",IF(A8=$O$2,"ESPE2",IF(A8=$P$2,"ESPE2",IF(A8=$Q$2,"PROF3",IF(A8=$R$2,"PROF3",IF(A8=$S$2,"PROF3",IF(A8=$S$2,"PROF3",IF(A8=$T$2,"PROF3",IF(A8=$U$2,"PROF3",IF(A8=$V$2,"PROF3",IF(A8=$W$2,"PROF4",IF(A8=$X$2,"PROF4",IF(A8=$Y$2,"PROF5",IF(A8=$Z$2,"PROF5",IF(A8=$AA$2,"PROF6",IF(A8=$AB$2,"PROF6",IF(A8=$AC$2,"PROF6A",IF(A8=$AD$2,"PROF7",IF(A8=$AE$2,"PROF8",IF(A8=$AF$2,"PROFAUX",A8))))))))))))))))))))))) -> ESPE1 | F8: 18161560 | G8: 14363978 | H8: =ROUNDUP((G8*1.0619),0) -> 15253109 | I8: =ROUNDUP((H8*1.0471),0) -> 15971531 | O8: Biólogo | Q8: Ingeniero Residente | W8: Arq. o Ing. Bioclimático | Y8: Especialista Estructural | AA8: Profesional Calidad | AD8: Ing. Transito
A9: ESPECIALISTA (I) CATEGORÍA 1 (E.G.12;E.E.5) | B9: 14493 | C9: 1 | D9: PERSONAL PROFESIONAL | E9: =IF(A9=$K$2,"ASESOR",IF(A9=$L$2,"ESPE1", IF(A9=$M$2,"ESPE1",IF(A9=$N$2,"ESPE1",IF(A9=$O$2,"ESPE2",IF(A9=$P$2,"ESPE2",IF(A9=$Q$2,"PROF3",IF(A9=$R$2,"PROF3",IF(A9=$S$2,"PROF3",IF(A9=$S$2,"PROF3",IF(A9=$T$2,"PROF3",IF(A9=$U$2,"PROF3",IF(A9=$V$2,"PROF3",IF(A9=$W$2,"PROF4",IF(A9=$X$2,"PROF4",IF(A9=$Y$2,"PROF5",IF(A9=$Z$2,"PROF5",IF(A9=$AA$2,"PROF6",IF(A9=$AB$2,"PROF6",IF(A9=$AC$2,"PROF6A",IF(A9=$AD$2,"PROF7",IF(A9=$AE$2,"PROF8",IF(A9=$AF$2,"PROFAUX",A9))))))))))))))))))))))) -> ESPE1 | F9: 17467900 | G9: 13815362 | H9: =ROUNDUP((G9*1.0619),0) -> 14670533 | I9: =ROUNDUP((H9*1.0471),0) -> 15361516 | O9: Arquitecto Asesor - Maestria | Q9: Especialista Hidráulico | W9: Director | Y9: Abogado Contratación | AA9: Profesional Seguridad | AD9: Ing. Fiorestal
A10: ESPECIALISTA (II) CATEGORÍA 2 (E.G.10;E.E.7) | B10: 100142 | C10: 2 | D10: PERSONAL PROFESIONAL | E10: =IF(A10=$K$2,"ASESOR",IF(A10=$L$2,"ESPE1", IF(A10=$M$2,"ESPE1",IF(A10=$N$2,"ESPE1",IF(A10=$O$2,"ESPE2",IF(A10=$P$2,"ESPE2",IF(A10=$Q$2,"PROF3",IF(A10=$R$2,"PROF3",IF(A10=$S$2,"PROF3",IF(A10=$S$2,"PROF3",IF(A10=$T$2,"PROF3",IF(A10=$U$2,"PROF3",IF(A10=$V$2,"PROF3",IF(A10=$W$2,"PROF4",IF(A10=$X$2,"PROF4",IF(A10=$Y$2,"PROF5",IF(A10=$Z$2,"PROF5",IF(A10=$AA$2,"PROF6",IF(A10=$AB$2,"PROF6",IF(A10=$AC$2,"PROF6A",IF(A10=$AD$2,"PROF7",IF(A10=$AE$2,"PROF8",IF(A10=$AF$2,"PROFAUX",A10))))))))))))))))))))))) -> ESPE2 | F10: 10955302 | G10: 8664548 | H10: =ROUNDUP((G10*1.0619),0) -> 9200884 | I10: =ROUNDUP((H10*1.0471),0) -> 9634246 | O10: Arquitecto Diseñador Senior - Maestria | Q10: Ing. Ambiental | W10: Especialista Eléctrico | Y10: Especialista Geotecnia | AA10: Residente | AD10: Ing. Programación
A11: ESPECIALISTA (II) CATEGORÍA 2 (E.G.10;E.E.4) | B11: 14494 | C11: 2 | D11: PERSONAL PROFESIONAL | E11: =IF(A11=$K$2,"ASESOR",IF(A11=$L$2,"ESPE1", IF(A11=$M$2,"ESPE1",IF(A11=$N$2,"ESPE1",IF(A11=$O$2,"ESPE2",IF(A11=$P$2,"ESPE2",IF(A11=$Q$2,"PROF3",IF(A11=$R$2,"PROF3",IF(A11=$S$2,"PROF3",IF(A11=$S$2,"PROF3",IF(A11=$T$2,"PROF3",IF(A11=$U$2,"PROF3",IF(A11=$V$2,"PROF3",IF(A11=$W$2,"PROF4",IF(A11=$X$2,"PROF4",IF(A11=$Y$2,"PROF5",IF(A11=$Z$2,"PROF5",IF(A11=$AA$2,"PROF6",IF(A11=$AB$2,"PROF6",IF(A11=$AC$2,"PROF6A",IF(A11=$AD$2,"PROF7",IF(A11=$AE$2,"PROF8",IF(A11=$AF$2,"PROFAUX",A11))))))))))))))))))))))) -> ESPE2 | F11: 10261643 | G11: 8115933 | H11: =ROUNDUP((G11*1.0619),0) -> 8618310 | I11: =ROUNDUP((H11*1.0471),0) -> 9024233
A12: PROFESIONAL CATEGORÍA 3 (E.G.8;E.E.6) | B12: 14495 | C12: 3 | D12: PERSONAL PROFESIONAL | E12: =IF(A12=$K$2,"ASESOR",IF(A12=$L$2,"ESPE1", IF(A12=$M$2,"ESPE1",IF(A12=$N$2,"ESPE1",IF(A12=$O$2,"ESPE2",IF(A12=$P$2,"ESPE2",IF(A12=$Q$2,"PROF3",IF(A12=$R$2,"PROF3",IF(A12=$S$2,"PROF3",IF(A12=$S$2,"PROF3",IF(A12=$T$2,"PROF3",IF(A12=$U$2,"PROF3",IF(A12=$V$2,"PROF3",IF(A12=$W$2,"PROF4",IF(A12=$X$2,"PROF4",IF(A12=$Y$2,"PROF5",IF(A12=$Z$2,"PROF5",IF(A12=$AA$2,"PROF6",IF(A12=$AB$2,"PROF6",IF(A12=$AC$2,"PROF6A",IF(A12=$AD$2,"PROF7",IF(A12=$AE$2,"PROF8",IF(A12=$AF$2,"PROFAUX",A12))))))))))))))))))))))) -> PROF3 | F12: 10408783 | G12: 8232306 | H12: =ROUNDUP((G12*1.0619),0) -> 8741886 | I12: =ROUNDUP((H12*1.0471),0) -> 9153629
A13: PROFESIONAL CATEGORÍA 3 (E.G.8;E.E.5) | B13: 106852 - 100143 | C13: 3 | D13: PERSONAL PROFESIONAL | E13: =IF(A13=$K$2,"ASESOR",IF(A13=$L$2,"ESPE1", IF(A13=$M$2,"ESPE1",IF(A13=$N$2,"ESPE1",IF(A13=$O$2,"ESPE2",IF(A13=$P$2,"ESPE2",IF(A13=$Q$2,"PROF3",IF(A13=$R$2,"PROF3",IF(A13=$S$2,"PROF3",IF(A13=$S$2,"PROF3",IF(A13=$T$2,"PROF3",IF(A13=$U$2,"PROF3",IF(A13=$V$2,"PROF3",IF(A13=$W$2,"PROF4",IF(A13=$X$2,"PROF4",IF(A13=$Y$2,"PROF5",IF(A13=$Z$2,"PROF5",IF(A13=$AA$2,"PROF6",IF(A13=$AB$2,"PROF6",IF(A13=$AC$2,"PROF6A",IF(A13=$AD$2,"PROF7",IF(A13=$AE$2,"PROF8",IF(A13=$AF$2,"PROFAUX",A13))))))))))))))))))))))) -> PROF3 | F13: 10177562 | G13: 8049434 | H13: =ROUNDUP((G13*1.0619),0) -> 8547694 | I13: =ROUNDUP((H13*1.0471),0) -> 8950291
A14: PROFESIONAL CATEGORÍA 3 (E.G.8;E.E.3) | B14: 14496 | C14: 3 | D14: PERSONAL PROFESIONAL | E14: =IF(A14=$K$2,"ASESOR",IF(A14=$L$2,"ESPE1", IF(A14=$M$2,"ESPE1",IF(A14=$N$2,"ESPE1",IF(A14=$O$2,"ESPE2",IF(A14=$P$2,"ESPE2",IF(A14=$Q$2,"PROF3",IF(A14=$R$2,"PROF3",IF(A14=$S$2,"PROF3",IF(A14=$S$2,"PROF3",IF(A14=$T$2,"PROF3",IF(A14=$U$2,"PROF3",IF(A14=$V$2,"PROF3",IF(A14=$W$2,"PROF4",IF(A14=$X$2,"PROF4",IF(A14=$Y$2,"PROF5",IF(A14=$Z$2,"PROF5",IF(A14=$AA$2,"PROF6",IF(A14=$AB$2,"PROF6",IF(A14=$AC$2,"PROF6A",IF(A14=$AD$2,"PROF7",IF(A14=$AE$2,"PROF8",IF(A14=$AF$2,"PROFAUX",A14))))))))))))))))))))))) -> PROF3 | F14: 9715123 | G14: 7683691 | H14: =ROUNDUP((G14*1.0619),0) -> 8159312 | I14: =ROUNDUP((H14*1.0471),0) -> 8543616 | O14: Arquitecto Diseñador Junior - Especialización | Q14: Arquitecto Urbanista | W14: Especialista Estructural | Y14: Ing. En Informática o Telecomunic. O Electrico o Electrónico o Experto en seguridad | AA14: SISO | AD14: Ing. Ambiental
A15: PROFESIONAL ESPECIALISTA CONSTRUCCIÓN VELÓDROMOS CATEGORÍA 3A (E.G.8;E.E.5) | B15: 13338 | C15: 3 | D15: PERSONAL PROFESIONAL | E15: =IF(A15=$K$2,"ASESOR",IF(A15=$L$2,"ESPE1", IF(A15=$M$2,"ESPE1",IF(A15=$N$2,"ESPE1",IF(A15=$O$2,"ESPE2",IF(A15=$P$2,"ESPE2",IF(A15=$Q$2,"PROF3",IF(A15=$R$2,"PROF3",IF(A15=$S$2,"PROF3",IF(A15=$S$2,"PROF3",IF(A15=$T$2,"PROF3",IF(A15=$U$2,"PROF3",IF(A15=$V$2,"PROF3",IF(A15=$W$2,"PROF4",IF(A15=$X$2,"PROF4",IF(A15=$Y$2,"PROF5",IF(A15=$Z$2,"PROF5",IF(A15=$AA$2,"PROF6",IF(A15=$AB$2,"PROF6",IF(A15=$AC$2,"PROF6A",IF(A15=$AD$2,"PROF7",IF(A15=$AE$2,"PROF8",IF(A15=$AF$2,"PROFAUX",A15))))))))))))))))))))))) -> PROF3 | F15: 16837299 | G15: 13316620 | H15: =ROUNDUP((G15*1.0619),0) -> 14140919 | I15: =ROUNDUP((H15*1.0471),0) -> 14806957 | O15: Arquitecto Urbanista | Q15: Arquitecto Paisajista | W15: Especialista Hidráulico | Y15: Esp. Eléctrico | AA15: Ing. Geotecnista | AD15: Arqueólogo
A16: PROFESIONAL ESPECIALISTA/COORDINADOR BIM CATEGORÍA 3B (E.G.8;E.E.5) | B16: 13339 | C16: 3 | D16: PERSONAL PROFESIONAL | E16: =IF(A16=$K$2,"ASESOR",IF(A16=$L$2,"ESPE1", IF(A16=$M$2,"ESPE1",IF(A16=$N$2,"ESPE1",IF(A16=$O$2,"ESPE2",IF(A16=$P$2,"ESPE2",IF(A16=$Q$2,"PROF3",IF(A16=$R$2,"PROF3",IF(A16=$S$2,"PROF3",IF(A16=$S$2,"PROF3",IF(A16=$T$2,"PROF3",IF(A16=$U$2,"PROF3",IF(A16=$V$2,"PROF3",IF(A16=$W$2,"PROF4",IF(A16=$X$2,"PROF4",IF(A16=$Y$2,"PROF5",IF(A16=$Z$2,"PROF5",IF(A16=$AA$2,"PROF6",IF(A16=$AB$2,"PROF6",IF(A16=$AC$2,"PROF6A",IF(A16=$AD$2,"PROF7",IF(A16=$AE$2,"PROF8",IF(A16=$AF$2,"PROFAUX",A16))))))))))))))))))))))) -> PROF3 | F16: 13168614 | G16: 10415057 | H16: =ROUNDUP((G16*1.0619),0) -> 11059750 | I16: =ROUNDUP((H16*1.0471),0) -> 11580665 | O16: Especialista Geotecnista | Q16: Esp. Eléctrico | W16: Trabajador Social | Y16: Esp. Hidráulico | AA16: Especialista Eléctrico | AD16: SISO
A17: PROFESIONAL ESPECIALISTA HIDROGEÓLOGO CATEGORÍA 3C (E.G.8;E.E.5) | B17: 13340 | C17: 3 | D17: PERSONAL PROFESIONAL | E17: =IF(A17=$K$2,"ASESOR",IF(A17=$L$2,"ESPE1", IF(A17=$M$2,"ESPE1",IF(A17=$N$2,"ESPE1",IF(A17=$O$2,"ESPE2",IF(A17=$P$2,"ESPE2",IF(A17=$Q$2,"PROF3",IF(A17=$R$2,"PROF3",IF(A17=$S$2,"PROF3",IF(A17=$S$2,"PROF3",IF(A17=$T$2,"PROF3",IF(A17=$U$2,"PROF3",IF(A17=$V$2,"PROF3",IF(A17=$W$2,"PROF4",IF(A17=$X$2,"PROF4",IF(A17=$Y$2,"PROF5",IF(A17=$Z$2,"PROF5",IF(A17=$AA$2,"PROF6",IF(A17=$AB$2,"PROF6",IF(A17=$AC$2,"PROF6A",IF(A17=$AD$2,"PROF7",IF(A17=$AE$2,"PROF8",IF(A17=$AF$2,"PROFAUX",A17))))))))))))))))))))))) -> PROF3 | F17: 13168614 | G17: 10415057 | H17: =ROUNDUP((G17*1.0619),0) -> 11059750 | I17: =ROUNDUP((H17*1.0471),0) -> 11580665 | O17: Diseñador Estructural | Q17: Esp. Bioclimático | W17: Ing. Geotecnista | Y17: Ing. Mecánico | AA17: Arquitecto | AD17: Trabajador Social
A18: PROFESIONAL CATEGORÍA 4 (E.G.6;E.E.4) | B18: 100144 | C18: 4 | D18: PERSONAL PROFESIONAL | E18: =IF(A18=$K$2,"ASESOR",IF(A18=$L$2,"ESPE1", IF(A18=$M$2,"ESPE1",IF(A18=$N$2,"ESPE1",IF(A18=$O$2,"ESPE2",IF(A18=$P$2,"ESPE2",IF(A18=$Q$2,"PROF3",IF(A18=$R$2,"PROF3",IF(A18=$S$2,"PROF3",IF(A18=$S$2,"PROF3",IF(A18=$T$2,"PROF3",IF(A18=$U$2,"PROF3",IF(A18=$V$2,"PROF3",IF(A18=$W$2,"PROF4",IF(A18=$X$2,"PROF4",IF(A18=$Y$2,"PROF5",IF(A18=$Z$2,"PROF5",IF(A18=$AA$2,"PROF6",IF(A18=$AB$2,"PROF6",IF(A18=$AC$2,"PROF6A",IF(A18=$AD$2,"PROF7",IF(A18=$AE$2,"PROF8",IF(A18=$AF$2,"PROFAUX",A18))))))))))))))))))))))) -> PROF4 | F18: 9631043 | G18: 7617192 | H18: =ROUNDUP((G18*1.0619),0) -> 8088697 | I18: =ROUNDUP((H18*1.0471),0) -> 8469675 | O18: Especialista PMI | Q18: Esp. Electrónico (sonido, video) | W18: Ingeniero Residente de Interventoría | Y18: Esp. Presupuestos y Porgramación | AA18: Ing. Forestal | AD18: Ing. Hidráulico
A19: PROFESIONAL CATEGORÍA 4 (E.G.6;E.E.2) | B19: 14497 | C19: 4 | D19: PERSONAL PROFESIONAL | E19: =IF(A19=$K$2,"ASESOR",IF(A19=$L$2,"ESPE1", IF(A19=$M$2,"ESPE1",IF(A19=$N$2,"ESPE1",IF(A19=$O$2,"ESPE2",IF(A19=$P$2,"ESPE2",IF(A19=$Q$2,"PROF3",IF(A19=$R$2,"PROF3",IF(A19=$S$2,"PROF3",IF(A19=$S$2,"PROF3",IF(A19=$T$2,"PROF3",IF(A19=$U$2,"PROF3",IF(A19=$V$2,"PROF3",IF(A19=$W$2,"PROF4",IF(A19=$X$2,"PROF4",IF(A19=$Y$2,"PROF5",IF(A19=$Z$2,"PROF5",IF(A19=$AA$2,"PROF6",IF(A19=$AB$2,"PROF6",IF(A19=$AC$2,"PROF6A",IF(A19=$AD$2,"PROF7",IF(A19=$AE$2,"PROF8",IF(A19=$AF$2,"PROFAUX",A19))))))))))))))))))))))) -> PROF4 | F19: 9168603 | G19: 7251448 | H19: =ROUNDUP((G19*1.0619),0) -> 7700313 | I19: =ROUNDUP((H19*1.0471),0) -> 8062998 | Q19: Esp. Seguridad y control CCTV | W19: Ing. Residente Especializado en Estructuras | Y19: Trabajador Social | AA19: Diseñador Gráfico. (Señalitica y señalizacion) | AD19: Presupuesto y cantificacion de obra
A20: PROFESIONAL CATEGORÍA 5 (E.G.4;E.E.3) | B20: 100145 | C20: 5 | D20: PERSONAL PROFESIONAL | E20: =IF(A20=$K$2,"ASESOR",IF(A20=$L$2,"ESPE1", IF(A20=$M$2,"ESPE1",IF(A20=$N$2,"ESPE1",IF(A20=$O$2,"ESPE2",IF(A20=$P$2,"ESPE2",IF(A20=$Q$2,"PROF3",IF(A20=$R$2,"PROF3",IF(A20=$S$2,"PROF3",IF(A20=$S$2,"PROF3",IF(A20=$T$2,"PROF3",IF(A20=$U$2,"PROF3",IF(A20=$V$2,"PROF3",IF(A20=$W$2,"PROF4",IF(A20=$X$2,"PROF4",IF(A20=$Y$2,"PROF5",IF(A20=$Z$2,"PROF5",IF(A20=$AA$2,"PROF6",IF(A20=$AB$2,"PROF6",IF(A20=$AC$2,"PROF6A",IF(A20=$AD$2,"PROF7",IF(A20=$AE$2,"PROF8",IF(A20=$AF$2,"PROFAUX",A20))))))))))))))))))))))) -> PROF5 | F20: 9084523 | G20: 7184949 | H20: =ROUNDUP((G20*1.0619),0) -> 7629698 | I20: =ROUNDUP((H20*1.0471),0) -> 7989057 | Q20: Ingeniero Mecánico | W20: Arquitecto Residente de Interventoría | Y20: Coordinador | AA20: Ing. Tránsito | AD20: Arq. o Ing. Auxiliar
A21: PROFESIONAL CATEGORÍA 5 (E.G.4;E.E.2) | B21: 14498 | C21: 5 | D21: PERSONAL PROFESIONAL | E21: =IF(A21=$K$2,"ASESOR",IF(A21=$L$2,"ESPE1", IF(A21=$M$2,"ESPE1",IF(A21=$N$2,"ESPE1",IF(A21=$O$2,"ESPE2",IF(A21=$P$2,"ESPE2",IF(A21=$Q$2,"PROF3",IF(A21=$R$2,"PROF3",IF(A21=$S$2,"PROF3",IF(A21=$S$2,"PROF3",IF(A21=$T$2,"PROF3",IF(A21=$U$2,"PROF3",IF(A21=$V$2,"PROF3",IF(A21=$W$2,"PROF4",IF(A21=$X$2,"PROF4",IF(A21=$Y$2,"PROF5",IF(A21=$Z$2,"PROF5",IF(A21=$AA$2,"PROF6",IF(A21=$AB$2,"PROF6",IF(A21=$AC$2,"PROF6A",IF(A21=$AD$2,"PROF7",IF(A21=$AE$2,"PROF8",IF(A21=$AF$2,"PROFAUX",A21))))))))))))))))))))))) -> PROF5 | F21: 8853303 | G21: 7002077 | H21: =ROUNDUP((G21*1.0619),0) -> 7435506 | I21: =ROUNDUP((H21*1.0471),0) -> 7785719 | Q21: Asesor | W21: Esp. Presupuestos y Porgramación | Y21: Arq. Diseñador | AA21: Coordinador de Estudios y Diseños
A22: PROFESIONAL CATEGORÍA 6 (E.G.3;E.E.1) | B22: 100014 | C22: 6 | D22: PERSONAL PROFESIONAL | E22: =IF(A22=$K$2,"ASESOR",IF(A22=$L$2,"ESPE1", IF(A22=$M$2,"ESPE1",IF(A22=$N$2,"ESPE1",IF(A22=$O$2,"ESPE2",IF(A22=$P$2,"ESPE2",IF(A22=$Q$2,"PROF3",IF(A22=$R$2,"PROF3",IF(A22=$S$2,"PROF3",IF(A22=$S$2,"PROF3",IF(A22=$T$2,"PROF3",IF(A22=$U$2,"PROF3",IF(A22=$V$2,"PROF3",IF(A22=$W$2,"PROF4",IF(A22=$X$2,"PROF4",IF(A22=$Y$2,"PROF5",IF(A22=$Z$2,"PROF5",IF(A22=$AA$2,"PROF6",IF(A22=$AB$2,"PROF6",IF(A22=$AC$2,"PROF6A",IF(A22=$AD$2,"PROF7",IF(A22=$AE$2,"PROF8",IF(A22=$AF$2,"PROFAUX",A22))))))))))))))))))))))) -> PROF6 | F22: 8464433 | G22: 6694520 | H22: =ROUNDUP((G22*1.0619),0) -> 7108911 | I22: =ROUNDUP((H22*1.0471),0) -> 7443741 | Q22: Prof. En Calidad de Obra Ing o Arq | W22: Esp. Seguridad y control CCTV | Y22: Arq. Paisajista | AA22: Biologo
A23: PROFESIONAL CATEGORÍA 6A (E.G.3;E.E.1) | B23: 100148 | C23: 6 | D23: PERSONAL PROFESIONAL | E23: =IF(A23=$K$2,"ASESOR",IF(A23=$L$2,"ESPE1", IF(A23=$M$2,"ESPE1",IF(A23=$N$2,"ESPE1",IF(A23=$O$2,"ESPE2",IF(A23=$P$2,"ESPE2",IF(A23=$Q$2,"PROF3",IF(A23=$R$2,"PROF3",IF(A23=$S$2,"PROF3",IF(A23=$S$2,"PROF3",IF(A23=$T$2,"PROF3",IF(A23=$U$2,"PROF3",IF(A23=$V$2,"PROF3",IF(A23=$W$2,"PROF4",IF(A23=$X$2,"PROF4",IF(A23=$Y$2,"PROF5",IF(A23=$Z$2,"PROF5",IF(A23=$AA$2,"PROF6",IF(A23=$AB$2,"PROF6",IF(A23=$AC$2,"PROF6A",IF(A23=$AD$2,"PROF7",IF(A23=$AE$2,"PROF8",IF(A23=$AF$2,"PROFAUX",A23))))))))))))))))))))))) -> PROF6A | F23: 8464433 | G23: 6694520 | H23: =ROUNDUP((G23*1.0619),0) -> 7108911 | I23: =ROUNDUP((H23*1.0471),0) -> 7443741 | Q23: Diseñador Grafico (señalética y señalización) | W23: Ing. Mecánico | Y23: Contador | AA23: Esp. Ambiental
A24: PROFESIONAL CATEGORÍA 6 (E.G.2;E.E.1) | B24: 14499 | C24: 6 | D24: PERSONAL PROFESIONAL | E24: =IF(A24=$K$2,"ASESOR",IF(A24=$L$2,"ESPE1", IF(A24=$M$2,"ESPE1",IF(A24=$N$2,"ESPE1",IF(A24=$O$2,"ESPE2",IF(A24=$P$2,"ESPE2",IF(A24=$Q$2,"PROF3",IF(A24=$R$2,"PROF3",IF(A24=$S$2,"PROF3",IF(A24=$S$2,"PROF3",IF(A24=$T$2,"PROF3",IF(A24=$U$2,"PROF3",IF(A24=$V$2,"PROF3",IF(A24=$W$2,"PROF4",IF(A24=$X$2,"PROF4",IF(A24=$Y$2,"PROF5",IF(A24=$Z$2,"PROF5",IF(A24=$AA$2,"PROF6",IF(A24=$AB$2,"PROF6",IF(A24=$AC$2,"PROF6A",IF(A24=$AD$2,"PROF7",IF(A24=$AE$2,"PROF8",IF(A24=$AF$2,"PROFAUX",A24))))))))))))))))))))))) -> PROF6 | F24: 8306783 | G24: 6569834 | H24: =ROUNDUP((G24*1.0619),0) -> 6976507 | I24: =ROUNDUP((H24*1.0471),0) -> 7305101 | Q24: Coordinador Estudios Diseños | W24: SISO Ingeniero o arq. | Y24: Esp. Geotecnista | AA24: Contador Publico
A25: PROFESIONAL CATEGORÍA 7 (E.G.2) | B25: 100149 | C25: 7 | D25: PERSONAL PROFESIONAL | E25: =IF(A25=$K$2,"ASESOR",IF(A25=$L$2,"ESPE1", IF(A25=$M$2,"ESPE1",IF(A25=$N$2,"ESPE1",IF(A25=$O$2,"ESPE2",IF(A25=$P$2,"ESPE2",IF(A25=$Q$2,"PROF3",IF(A25=$R$2,"PROF3",IF(A25=$S$2,"PROF3",IF(A25=$S$2,"PROF3",IF(A25=$T$2,"PROF3",IF(A25=$U$2,"PROF3",IF(A25=$V$2,"PROF3",IF(A25=$W$2,"PROF4",IF(A25=$X$2,"PROF4",IF(A25=$Y$2,"PROF5",IF(A25=$Z$2,"PROF5",IF(A25=$AA$2,"PROF6",IF(A25=$AB$2,"PROF6",IF(A25=$AC$2,"PROF6A",IF(A25=$AD$2,"PROF7",IF(A25=$AE$2,"PROF8",IF(A25=$AF$2,"PROFAUX",A25))))))))))))))))))))))) -> PROF7 | F25: 5762145 | G25: 4557281 | H25: =ROUNDUP((G25*1.0619),0) -> 4839377 | I25: =ROUNDUP((H25*1.0471),0) -> 5067312 | Q25: Presupuesto y Programación | W25: Ing. En Informatica o telecomunicaciones o Eléctrico | Y25: Ing. Forestal
A26: PROFESIONAL CATEGORÍA 8 (E.G.2) | B26: 100150 | C26: 8 | D26: PERSONAL PROFESIONAL | E26: =IF(A26=$K$2,"ASESOR",IF(A26=$L$2,"ESPE1", IF(A26=$M$2,"ESPE1",IF(A26=$N$2,"ESPE1",IF(A26=$O$2,"ESPE2",IF(A26=$P$2,"ESPE2",IF(A26=$Q$2,"PROF3",IF(A26=$R$2,"PROF3",IF(A26=$S$2,"PROF3",IF(A26=$S$2,"PROF3",IF(A26=$T$2,"PROF3",IF(A26=$U$2,"PROF3",IF(A26=$V$2,"PROF3",IF(A26=$W$2,"PROF4",IF(A26=$X$2,"PROF4",IF(A26=$Y$2,"PROF5",IF(A26=$Z$2,"PROF5",IF(A26=$AA$2,"PROF6",IF(A26=$AB$2,"PROF6",IF(A26=$AC$2,"PROF6A",IF(A26=$AD$2,"PROF7",IF(A26=$AE$2,"PROF8",IF(A26=$AF$2,"PROFAUX",A26))))))))))))))))))))))) -> PROF8 | F26: 5762145 | G26: 4557281 | H26: =ROUNDUP((G26*1.0619),0) -> 4839377 | I26: =ROUNDUP((H26*1.0471),0) -> 5067312 | W26: Coordinador Estudios | Y26: Abogado
A27: PROFESIONAL AUXILIAR | B27: 100023 | C27: 9 | D27: PERSONAL PROFESIONAL | E27: =IF(A27=$K$2,"ASESOR",IF(A27=$L$2,"ESPE1", IF(A27=$M$2,"ESPE1",IF(A27=$N$2,"ESPE1",IF(A27=$O$2,"ESPE2",IF(A27=$P$2,"ESPE2",IF(A27=$Q$2,"PROF3",IF(A27=$R$2,"PROF3",IF(A27=$S$2,"PROF3",IF(A27=$S$2,"PROF3",IF(A27=$T$2,"PROF3",IF(A27=$U$2,"PROF3",IF(A27=$V$2,"PROF3",IF(A27=$W$2,"PROF4",IF(A27=$X$2,"PROF4",IF(A27=$Y$2,"PROF5",IF(A27=$Z$2,"PROF5",IF(A27=$AA$2,"PROF6",IF(A27=$AB$2,"PROF6",IF(A27=$AC$2,"PROF6A",IF(A27=$AD$2,"PROF7",IF(A27=$AE$2,"PROF8",IF(A27=$AF$2,"PROFAUX",A27))))))))))))))))))))))) -> PROFAUX | F27: 5446845 | G27: 4307910 | H27: =ROUNDUP((G27*1.0619),0) -> 4574570 | I27: =ROUNDUP((H27*1.0471),0) -> 4790033 | W27: Diseñador Grafico (señalética y señalización) | Y27: Ing. Residente
A28: CONTADOR | B28: 13341 | C28: A | D28: PERSONAL PROFESIONAL | E28: =IF(A28=$L$2,"ESPE1", IF(A28=$M$2,"ESPE1",IF(A28=$N$2,"ESPE1",IF(A28=$O$2,"ESPE2",IF(A28=$P$2,"ESPE2",IF(A28=$Q$2,"PROF3",IF(A29=$R$2,"PROF3",IF(A27=$S$2,"PROF3",IF(A28=$W$2,"PROF4",IF(A28=$Y$2,"PROF5",IF(A28=$AA$2,"PROF6",IF(A28=$AC$2,"PROF6A",IF(A28=$AD$2,"PROF7",IF(A28=$AE$2,"PROF8",IF(A28=$AF$2,"PROFAUX",A28))))))))))))))) -> CONTADOR | F28: 8464433 | G28: 6694520 | H28: =ROUNDUP((G28*1.0619),0) -> 7108911 | I28: =ROUNDUP((H28*1.0471),0) -> 7443741 | W28: Contador Publico | Y28: Ing. Residente Especializado en Estrcuturas
A29: TRABAJADOR SOCIAL | B29: 13342 | C29: B | D29: PERSONAL PROFESIONAL | E29: =IF(A29=$L$2,"ESPE1", IF(A29=$M$2,"ESPE1",IF(A29=$N$2,"ESPE1",IF(A29=$O$2,"ESPE2",IF(A29=$P$2,"ESPE2",IF(A29=$Q$2,"PROF3",IF(A27=$R$2,"PROF3",IF(A30=$S$2,"PROF3",IF(A29=$W$2,"PROF4",IF(A29=$Y$2,"PROF5",IF(A29=$AA$2,"PROF6",IF(A29=$AC$2,"PROF6A",IF(A29=$AD$2,"PROF7",IF(A29=$AE$2,"PROF8",IF(A29=$AF$2,"PROFAUX",A29))))))))))))))) -> TRABAJADOR SOCIAL | F29: 8075563 | G29: 6386963 | H29: =ROUNDUP((G29*1.0619),0) -> 6782317 | I29: =ROUNDUP((H29*1.0471),0) -> 7101765 | Q29: Arq. Escenografo | W29: Profesional en Pedagogía Infantil | Y29: Esp. Ambiental
A30: Topógrafo 1 | B30: 598 | C30: C | D30: PERSONAL TÉCNICO O TECNÓLOGO | E30: =IF(A30=$L$2,"ESPE1", IF(A30=$M$2,"ESPE1",IF(A30=$N$2,"ESPE1",IF(A30=$O$2,"ESPE2",IF(A30=$P$2,"ESPE2",IF(A30=$Q$2,"PROF3",IF(A31=$R$2,"PROF3",IF(A32=$S$2,"PROF3",IF(A30=$W$2,"PROF4",IF(A30=$Y$2,"PROF5",IF(A30=$AA$2,"PROF6",IF(A30=$AC$2,"PROF6A",IF(A30=$AD$2,"PROF7",IF(A30=$AE$2,"PROF8",IF(A30=$AF$2,"PROFAUX",A30))))))))))))))) -> Topógrafo 1 | G30: 4212989 | H30: =ROUNDUP((G30*1.0619),0) -> 4473774 | I30: =ROUNDUP((H30*1.0471),0) -> 4684489
A31: Topógrafo Auxiliar | B31: 13343 | C31: D | D31: PERSONAL TÉCNICO O TECNÓLOGO | E31: =IF(A31=$L$2,"ESPE1", IF(A31=$M$2,"ESPE1",IF(A31=$N$2,"ESPE1",IF(A31=$O$2,"ESPE2",IF(A31=$P$2,"ESPE2",IF(A31=$Q$2,"PROF3",IF(A32=$R$2,"PROF3",IF(A33=$S$2,"PROF3",IF(A31=$W$2,"PROF4",IF(A31=$Y$2,"PROF5",IF(A31=$AA$2,"PROF6",IF(A31=$AC$2,"PROF6A",IF(A31=$AD$2,"PROF7",IF(A31=$AE$2,"PROF8",IF(A31=$AF$2,"PROFAUX",A31))))))))))))))) -> Topógrafo Auxiliar | G31: 3450561 | H31: =ROUNDUP((G31*1.0619),0) -> 3664151 | I31: =ROUNDUP((H31*1.0471),0) -> 3836733 | W31: Abogado. Con postgrado en contratación estatal o derecho administrativo. Experiencia especifica en auditoría de contratos estatales | Y31: Arq. Residente
A32: Tecnólogo En Ingeniería | B32: 13344 | C32: E | D32: PERSONAL TÉCNICO O TECNÓLOGO | E32: =IF(A32=$L$2,"ESPE1", IF(A32=$M$2,"ESPE1",IF(A32=$N$2,"ESPE1",IF(A32=$O$2,"ESPE2",IF(A32=$P$2,"ESPE2",IF(A32=$Q$2,"PROF3",IF(A33=$R$2,"PROF3",IF(A34=$S$2,"PROF3",IF(A32=$W$2,"PROF4",IF(A32=$Y$2,"PROF5",IF(A32=$AA$2,"PROF6",IF(A32=$AC$2,"PROF6A",IF(A32=$AD$2,"PROF7",IF(A32=$AE$2,"PROF8",IF(A32=$AF$2,"PROFAUX",A32))))))))))))))) -> Tecnólogo En Ingeniería | G32: 3894401 | H32: =ROUNDUP((G32*1.0619),0) -> 4135465 | I32: =ROUNDUP((H32*1.0471),0) -> 4330246 | Y32: Ing. O Arq. Experto en Piscinas
A33: Maestro O Inspector 1 Categoría 1 | B33: 13345 | C33: F | D33: PERSONAL OPERARIO Y DE APOYO A LA GESTIÓN | E33: =IF(A33=$L$2,"ESPE1", IF(A33=$M$2,"ESPE1",IF(A33=$N$2,"ESPE1",IF(A33=$O$2,"ESPE2",IF(A33=$P$2,"ESPE2",IF(A33=$Q$2,"PROF3",IF(A34=$R$2,"PROF3",IF(A35=$S$2,"PROF3",IF(A33=$W$2,"PROF4",IF(A33=$Y$2,"PROF5",IF(A33=$AA$2,"PROF6",IF(A33=$AC$2,"PROF6A",IF(A33=$AD$2,"PROF7",IF(A33=$AE$2,"PROF8",IF(A33=$AF$2,"PROFAUX",A33))))))))))))))) -> Maestro O Inspector 1 Categoría 1 | G33: 3442276 | H33: =ROUNDUP((G33*1.0619),0) -> 3655353 | I33: =ROUNDUP((H33*1.0471),0) -> 3827521 | Y33: Diseñador Grafico (señalética y señalización)
A34: Maestro O Inspector Categorìa 2 | B34: 13346 | C34: G | D34: PERSONAL OPERARIO Y DE APOYO A LA GESTIÓN | E34: =IF(A34=$L$2,"ESPE1", IF(A34=$M$2,"ESPE1",IF(A34=$N$2,"ESPE1",IF(A34=$O$2,"ESPE2",IF(A34=$P$2,"ESPE2",IF(A34=$Q$2,"PROF3",IF(A35=$R$2,"PROF3",IF(A37=$S$2,"PROF3",IF(A34=$W$2,"PROF4",IF(A34=$Y$2,"PROF5",IF(A34=$AA$2,"PROF6",IF(A34=$AC$2,"PROF6A",IF(A34=$AD$2,"PROF7",IF(A34=$AE$2,"PROF8",IF(A34=$AF$2,"PROFAUX",A34))))))))))))))) -> Maestro O Inspector Categorìa 2 | G34: 5117127 | H34: =ROUNDUP((G34*1.0619),0) -> 5433878 | I34: =ROUNDUP((H34*1.0471),0) -> 5689814 | Y34: Ing. o Arq. Auxiliares (Arqueologo)
A35: Laboratorista Inspector | B35: 13347 | C35: H | D35: PERSONAL OPERARIO Y DE APOYO A LA GESTIÓN | E35: =IF(A35=$L$2,"ESPE1", IF(A35=$M$2,"ESPE1",IF(A35=$N$2,"ESPE1",IF(A35=$O$2,"ESPE2",IF(A35=$P$2,"ESPE2",IF(A35=$Q$2,"PROF3",IF(A37=$R$2,"PROF3",IF(A38=$S$2,"PROF3",IF(A35=$W$2,"PROF4",IF(A35=$Y$2,"PROF5",IF(A35=$AA$2,"PROF6",IF(A35=$AC$2,"PROF6A",IF(A35=$AD$2,"PROF7",IF(A35=$AE$2,"PROF8",IF(A35=$AF$2,"PROFAUX",A35))))))))))))))) -> Laboratorista Inspector | G35: 3743724 | H35: =ROUNDUP((G35*1.0619),0) -> 3975461 | I35: =ROUNDUP((H35*1.0471),0) -> 4162706 | Y35: Ing. Transito
A36: Laboratorista Auxiliar | B36: 13351 | C36: I | D36: PERSONAL OPERARIO Y DE APOYO A LA GESTIÓN | E36: =IF(A36=$L$2,"ESPE1", IF(A36=$M$2,"ESPE1",IF(A36=$N$2,"ESPE1",IF(A36=$O$2,"ESPE2",IF(A36=$P$2,"ESPE2",IF(A36=$Q$2,"PROF3",IF(A40=$R$2,"PROF3",IF(A42=$S$2,"PROF3",IF(A36=$W$2,"PROF4",IF(A36=$Y$2,"PROF5",IF(A36=$AA$2,"PROF6",IF(A36=$AC$2,"PROF6A",IF(A36=$AD$2,"PROF7",IF(A36=$AE$2,"PROF8",IF(A36=$AF$2,"PROFAUX",A36))))))))))))))) -> Laboratorista Auxiliar | G36: 2888833 | H36: =ROUNDUP((G36*1.0619),0) -> 3067652 | I36: =ROUNDUP((H36*1.0471),0) -> 3212139
A37: Operador De Equipo | B37: 13348 | C37: J | D37: PERSONAL OPERARIO Y DE APOYO A LA GESTIÓN | E37: =IF(A37=$L$2,"ESPE1", IF(A37=$M$2,"ESPE1",IF(A37=$N$2,"ESPE1",IF(A37=$O$2,"ESPE2",IF(A37=$P$2,"ESPE2",IF(A37=$Q$2,"PROF3",IF(A38=$R$2,"PROF3",IF(A39=$S$2,"PROF3",IF(A37=$W$2,"PROF4",IF(A37=$Y$2,"PROF5",IF(A37=$AA$2,"PROF6",IF(A37=$AC$2,"PROF6A",IF(A37=$AD$2,"PROF7",IF(A37=$AE$2,"PROF8",IF(A37=$AF$2,"PROFAUX",A37))))))))))))))) -> Operador De Equipo | G37: 3325631 | H37: =ROUNDUP((G37*1.0619),0) -> 3531488 | I37: =ROUNDUP((H37*1.0471),0) -> 3697822
A38: Operador Auxiliar De Equipo | B38: 13349 | C38: K | D38: PERSONAL OPERARIO Y DE APOYO A LA GESTIÓN | E38: =IF(A38=$L$2,"ESPE1", IF(A38=$M$2,"ESPE1",IF(A38=$N$2,"ESPE1",IF(A38=$O$2,"ESPE2",IF(A38=$P$2,"ESPE2",IF(A38=$Q$2,"PROF3",IF(A39=$R$2,"PROF3",IF(A36=$S$2,"PROF3",IF(A38=$W$2,"PROF4",IF(A38=$Y$2,"PROF5",IF(A38=$AA$2,"PROF6",IF(A38=$AC$2,"PROF6A",IF(A38=$AD$2,"PROF7",IF(A38=$AE$2,"PROF8",IF(A38=$AF$2,"PROFAUX",A38))))))))))))))) -> Operador Auxiliar De Equipo | G38: 3078946 | H38: =ROUNDUP((G38*1.0619),0) -> 3269533 | I38: =ROUNDUP((H38*1.0471),0) -> 3423529
A39: Oficial O Inspector 2 | B39: 13350 | C39: L | D39: PERSONAL OPERARIO Y DE APOYO A LA GESTIÓN | E39: =IF(A39=$L$2,"ESPE1", IF(A39=$M$2,"ESPE1",IF(A39=$N$2,"ESPE1",IF(A39=$O$2,"ESPE2",IF(A39=$P$2,"ESPE2",IF(A39=$Q$2,"PROF3",IF(A36=$R$2,"PROF3",IF(A40=$S$2,"PROF3",IF(A39=$W$2,"PROF4",IF(A39=$Y$2,"PROF5",IF(A39=$AA$2,"PROF6",IF(A39=$AC$2,"PROF6A",IF(A39=$AD$2,"PROF7",IF(A39=$AE$2,"PROF8",IF(A39=$AF$2,"PROFAUX",A39))))))))))))))) -> Oficial O Inspector 2 | G39: 3092957 | H39: =ROUNDUP((G39*1.0619),0) -> 3284412 | I39: =ROUNDUP((H39*1.0471),0) -> 3439108
A40: Cadenero 1 | B40: 642 | C40: M | D40: PERSONAL OPERARIO Y DE APOYO A LA GESTIÓN | E40: =IF(A40=$L$2,"ESPE1", IF(A40=$M$2,"ESPE1",IF(A40=$N$2,"ESPE1",IF(A40=$O$2,"ESPE2",IF(A40=$P$2,"ESPE2",IF(A40=$Q$2,"PROF3",IF(A42=$R$2,"PROF3",IF(A43=$S$2,"PROF3",IF(A40=$W$2,"PROF4",IF(A40=$Y$2,"PROF5",IF(A40=$AA$2,"PROF6",IF(A40=$AC$2,"PROF6A",IF(A40=$AD$2,"PROF7",IF(A40=$AE$2,"PROF8",IF(A40=$AF$2,"PROFAUX",A40))))))))))))))) -> Cadenero 1 | G40: 2849242 | H40: =ROUNDUP((G40*1.0619),0) -> 3025611 | I40: =ROUNDUP((H40*1.0471),0) -> 3168118
...

Sheet Escala Salarial
B2: FUNDACIÓN GILBERTO ALZATE AVENDAÑO
B3: =+portada!A21 -> SUBDIRECCIÓN ARTÍSTICA Y CULTURAL
B4: CÁLCULO ESCALAS SALARIALES - INTERVENTORÍA/CONSULTORÍA
B5: Las escalas salariales del personal mínimo requerido para la presente contratación, según la estructuración establecida por la Subdirección XXXXXXXX, se encuentran dentro las siguientes categorías con sus valores correspondientes: | L5: EQUIVALENCIAS POSIBLES POR PROFESIÓN
B8: Proyecto | D8: =portada!A19 -> REALIZAR LOS ESTUDIOS Y DISEÑOS TÉCNICOS INTEGRALES PARA LA COMPLEMENTACIÓN DE LA MEMBRANA ARQUITECTÓNICA, LAS SOLUCIONES DE ACCESIBILIDAD PARA PERSONAS CON MOVILIDAD REDUCIDA (PMR) Y LAS ADECUACIONES TÉCNICAS DEL ESCENARIO “EL MUELLE” DE LA FUNDACIÓN GILBERTO ALZATE AVENDAÑO – FUGA. | L8: ASESOR | M8: ESPECIALISTA (I) CATEGORÍA 1 (E.G.12;E.E.10) | N8: ESPECIALISTA (I) CATEGORÍA 1 (E.G.12;E.E.8) | O8: ESPECIALISTA (I) CATEGORÍA 1 (E.G.12;E.E.5) | P8: ESPECIALISTA (II) CATEGORÍA 2 (E.G.10;E.E.7) | Q8: ESPECIALISTA (II) CATEGORÍA 2 (E.G.10;E.E.4) | R8: PROFESIONAL CATEGORÍA 3 (E.G.8;E.E.6) | S8: PROFESIONAL CATEGORÍA 3 (E.G.8;E.E.5) | T8: PROFESIONAL CATEGORÍA 3 (E.G.8;E.E.3) | U8: PROFESIONAL ESPECIALISTA CONSTRUCCIÓN VELÓDROMOS CATEGORÍA 3A (E.G.8;E.E.5) | V8: PROFESIONAL ESPECIALISTA/COORDINADOR BIM CATEGORÍA 3B (E.G.8;E.E.5) | W8: PROFESIONAL ESPECIALISTA HIDROGEÓLOGO CATEGORÍA 3C (E.G.8;E.E.5) | X8: PROFESIONAL CATEGORÍA 4 (E.G.6;E.E.4) | Y8: PROFESIONAL CATEGORÍA 4 (E.G.6;E.E.2) | Z8: PROFESIONAL CATEGORÍA 5 (E.G.4;E.E.3) | AA8: PROFESIONAL CATEGORÍA 5 (E.G.4;E.E.2) | AB8: PROFESIONAL CATEGORÍA 6 (E.G.3;E.E.1) | AC8: PROFESIONAL CATEGORÍA 6 (E.G.2;E.E.1) | AD8: PROFESIONAL CATEGORÍA 6A (E.G.3;E.E.1) | AE8: PROFESIONAL CATEGORÍA 7 (E.G.2) | AF8: PROFESIONAL CATEGORÍA 8 (E.G.2) | AG8: PROFESIONAL AUXILIAR
B9: Observaciones | P9: Asesor Director | R9: Director | X9: Ing. Ambiental | Z9: Residente | AB9: Abogado | AE9: Residente 2 | AF9: Ing. Calidad | AG9: Ingeniero Auxiliar
P12: Director de Interventoría | R12: Especialista Geotecnista | X12: Especialista Arq. Diseñador Junior | Z12: Calidad | AB12: Especialista Hidrosanitario y Gas | AE12: Ing. Eléctrico | AG12: Auxiliar Administrativo
B13: CODIGO INTERNO | C13: DESCRIPCIÓN FUNCIONAL | D13: EQUIV | F13: CARGO | G13: VALOR HOMBRE/MES SEGÚN CATEGORÍA | P13: Abogado espe. En contratación pública | R13: Diseñador Estructural | X13: Especialista Arq. Paisajista | Z13: Profesional SISOMA | AB13: Esp. Presupuestos y Porgramación | AE13: Ing. Calidad | AG13: Arquitecto Auxiliar
G14: =Tarifas!G3 -> 2026 | H14: =Tarifas!H3 -> 2027 | I14: =Tarifas!I3 -> 2028 | P14: Biólogo | R14: Ingeniero Residente | X14: Arq. o Ing. Bioclimático | Z14: Especialista Estructural | AB14: Profesional Calidad | AE14: Ing. Transito
B15: A. PERSONAL MINIMO REQUERIDO PARA | D15: =+Resumen!C10 -> Consultoría | E15: =+portada!A17 -> ESTUDIOS Y DISEÑOS EL MUELLE | P15: Arquitecto Asesor - Maestria | R15: Especialista Hidráulico | X15: Director | Z15: Abogado Contratación | AB15: Profesional Seguridad | AE15: Ing. Fiorestal
B16: =IFERROR(VLOOKUP($C16,TARIFA_IDRD,3,0),"") -> 9 | C16: PROFESIONAL AUXILIAR | D16: =IFERROR(VLOOKUP($C16,TARIFA_IDRD,4,0),"") -> PERSONAL PROFESIONAL | E16: =IFERROR(VLOOKUP($C16,TARIFA_IDRD,5,0),"") -> PROFAUX | F16: ARQUITECTO O INGENIERO RESIDENTE DE INTERVENTORIA | G16: =IFERROR(VLOOKUP($C16,TARIFA_IDRD,7,0),0) -> 4307910 | H16: =IFERROR(VLOOKUP($C16,TARIFA_IDRD,8,0),0) -> 4574570 | I16: =IFERROR(VLOOKUP($C16,TARIFA_IDRD,9,0),0) -> 4790033 | P16: Arquitecto Diseñador Senior - Maestria | R16: Ing. Ambiental | X16: Especialista Eléctrico | Z16: Especialista Geotecnia | AB16: Residente | AE16: Ing. Programación
B17: =IFERROR(VLOOKUP($C17,TARIFA_IDRD,3,0),"") -> 6 | C17: PROFESIONAL CATEGORÍA 6 (E.G.3;E.E.1) | D17: =IFERROR(VLOOKUP($C17,TARIFA_IDRD,4,0),"") -> PERSONAL PROFESIONAL | E17: =IFERROR(VLOOKUP($C17,TARIFA_IDRD,5,0),"") -> PROF6 | F17: DIRECTOR DEL PROYECTO | G17: =IFERROR(VLOOKUP($C17,TARIFA_IDRD,7,0),0) -> 6694520 | H17: =IFERROR(VLOOKUP($C17,TARIFA_IDRD,8,0),0) -> 7108911 | I17: =IFERROR(VLOOKUP($C17,TARIFA_IDRD,9,0),0) -> 7443741
B18: =IFERROR(VLOOKUP($C18,TARIFA_IDRD,3,0),"") -> E | C18: Tecnólogo En Ingeniería | D18: =IFERROR(VLOOKUP($C18,TARIFA_IDRD,4,0),"") -> PERSONAL TÉCNICO O TECNÓLOGO | E18: =IFERROR(VLOOKUP($C18,TARIFA_IDRD,5,0),"") -> Tecnólogo En Ingeniería | F18: ESPECILIASTA ELÉCTRICO | G18: =IFERROR(VLOOKUP($C18,TARIFA_IDRD,7,0),0) -> 3894401 | H18: =IFERROR(VLOOKUP($C18,TARIFA_IDRD,8,0),0) -> 4135465 | I18: =IFERROR(VLOOKUP($C18,TARIFA_IDRD,9,0),0) -> 4330246
B19: =IFERROR(VLOOKUP($C19,TARIFA_IDRD,3,0),"") | D19: =IFERROR(VLOOKUP($C19,TARIFA_IDRD,4,0),"") | E19: =IFERROR(VLOOKUP($C19,TARIFA_IDRD,5,0),"") | G19: =IFERROR(VLOOKUP($C19,TARIFA_IDRD,7,0),0) -> 0 | H19: =IFERROR(VLOOKUP($C19,TARIFA_IDRD,8,0),0) -> 0 | I19: =IFERROR(VLOOKUP($C19,TARIFA_IDRD,9,0),0) -> 0
B20: =IFERROR(VLOOKUP($C20,TARIFA_IDRD,3,0),"") | D20: =IFERROR(VLOOKUP($C20,TARIFA_IDRD,4,0),"") | E20: =IFERROR(VLOOKUP($C20,TARIFA_IDRD,5,0),"") | G20: =IFERROR(VLOOKUP($C20,TARIFA_IDRD,7,0),0) -> 0 | H20: =IFERROR(VLOOKUP($C20,TARIFA_IDRD,8,0),0) -> 0 | I20: =IFERROR(VLOOKUP($C20,TARIFA_IDRD,9,0),0) -> 0 | P20: Arquitecto Diseñador Junior - Especialización | R20: Arquitecto Urbanista | X20: Especialista Estructural | Z20: Ing. En Informática o Telecomunic. O Electrico o Electrónico o Experto en seguridad | AB20: SISO | AE20: Ing. Ambiental
B21: =IFERROR(VLOOKUP($C21,TARIFA_IDRD,3,0),"") | D21: =IFERROR(VLOOKUP($C21,TARIFA_IDRD,4,0),"") | E21: =IFERROR(VLOOKUP($C21,TARIFA_IDRD,5,0),"") | G21: =IFERROR(VLOOKUP($C21,TARIFA_IDRD,7,0),0) -> 0 | H21: =IFERROR(VLOOKUP($C21,TARIFA_IDRD,8,0),0) -> 0 | I21: =IFERROR(VLOOKUP($C21,TARIFA_IDRD,9,0),0) -> 0 | P21: Arquitecto Urbanista | R21: Arquitecto Paisajista | X21: Especialista Hidráulico | Z21: Esp. Eléctrico | AB21: Ing. Geotecnista | AE21: Arqueólogo
B22: =IFERROR(VLOOKUP($C22,TARIFA_IDRD,3,0),"") | D22: =IFERROR(VLOOKUP($C22,TARIFA_IDRD,4,0),"") | E22: =IFERROR(VLOOKUP($C22,TARIFA_IDRD,5,0),"") | G22: =IFERROR(VLOOKUP($C22,TARIFA_IDRD,7,0),0) -> 0 | H22: =IFERROR(VLOOKUP($C22,TARIFA_IDRD,8,0),0) -> 0 | I22: =IFERROR(VLOOKUP($C22,TARIFA_IDRD,9,0),0) -> 0 | P22: Especialista Geotecnista | R22: Esp. Eléctrico | X22: Trabajador Social | Z22: Esp. Hidráulico | AB22: Especialista Eléctrico | AE22: SISO
B23: =IFERROR(VLOOKUP($C23,TARIFA_IDRD,3,0),"") | D23: =IFERROR(VLOOKUP($C23,TARIFA_IDRD,4,0),"") | E23: =IFERROR(VLOOKUP($C23,TARIFA_IDRD,5,0),"") | G23: =IFERROR(VLOOKUP($C23,TARIFA_IDRD,7,0),0) -> 0 | H23: =IFERROR(VLOOKUP($C23,TARIFA_IDRD,8,0),0) -> 0 | I23: =IFERROR(VLOOKUP($C23,TARIFA_IDRD,9,0),0) -> 0 | P23: Diseñador Estructural | R23: Esp. Bioclimático | X23: Ing. Geotecnista | Z23: Ing. Mecánico | AB23: Arquitecto | AE23: Trabajador Social
B24: =IFERROR(VLOOKUP($C24,TARIFA_IDRD,3,0),"") | D24: =IFERROR(VLOOKUP($C24,TARIFA_IDRD,4,0),"") | E24: =IFERROR(VLOOKUP($C24,TARIFA_IDRD,5,0),"") | G24: =IFERROR(VLOOKUP($C24,TARIFA_IDRD,7,0),0) -> 0 | H24: =IFERROR(VLOOKUP($C24,TARIFA_IDRD,8,0),0) -> 0 | I24: =IFERROR(VLOOKUP($C24,TARIFA_IDRD,9,0),0) -> 0 | P24: Especialista PMI | R24: Esp. Electrónico (sonido, video) | X24: Ingeniero Residente de Interventoría | Z24: Esp. Presupuestos y Porgramación | AB24: Ing. Forestal | AE24: Ing. Hidráulico
B25: =IFERROR(VLOOKUP($C25,TARIFA_IDRD,3,0),"") | D25: =IFERROR(VLOOKUP($C25,TARIFA_IDRD,4,0),"") | E25: =IFERROR(VLOOKUP($C25,TARIFA_IDRD,5,0),"") | G25: =IFERROR(VLOOKUP($C25,TARIFA_IDRD,7,0),0) -> 0 | H25: =IFERROR(VLOOKUP($C25,TARIFA_IDRD,8,0),0) -> 0 | I25: =IFERROR(VLOOKUP($C25,TARIFA_IDRD,9,0),0) -> 0 | R25: Esp. Seguridad y control CCTV | X25: Ing. Residente Especializado en Estructuras | Z25: Trabajador Social | AB25: Diseñador Gráfico. (Señalitica y señalizacion) | AE25: Presupuesto y cantificacion de obra
B26: =IFERROR(VLOOKUP($C26,TARIFA_IDRD,3,0),"") | D26: =IFERROR(VLOOKUP($C26,TARIFA_IDRD,4,0),"") | E26: =IFERROR(VLOOKUP($C26,TARIFA_IDRD,5,0),"") | G26: =IFERROR(VLOOKUP($C26,TARIFA_IDRD,7,0),0) -> 0 | H26: =IFERROR(VLOOKUP($C26,TARIFA_IDRD,8,0),0) -> 0 | I26: =IFERROR(VLOOKUP($C26,TARIFA_IDRD,9,0),0) -> 0 | R26: Ingeniero Mecánico | X26: Arquitecto Residente de Interventoría | Z26: Coordinador | AB26: Ing. Tránsito | AE26: Arq. o Ing. Auxiliar
B27: =IFERROR(VLOOKUP($C27,TARIFA_IDRD,3,0),"") | D27: =IFERROR(VLOOKUP($C27,TARIFA_IDRD,4,0),"") | E27: =IFERROR(VLOOKUP($C27,TARIFA_IDRD,5,0),"") | G27: =IFERROR(VLOOKUP($C27,TARIFA_IDRD,7,0),0) -> 0 | H27: =IFERROR(VLOOKUP($C27,TARIFA_IDRD,8,0),0) -> 0 | I27: =IFERROR(VLOOKUP($C27,TARIFA_IDRD,9,0),0) -> 0 | R27: Asesor | X27: Esp. Presupuestos y Porgramación | Z27: Arq. Diseñador | AB27: Coordinador de Estudios y Diseños
B28: =IFERROR(VLOOKUP($C28,TARIFA_IDRD,3,0),"") | D28: =IFERROR(VLOOKUP($C28,TARIFA_IDRD,4,0),"") | E28: =IFERROR(VLOOKUP($C28,TARIFA_IDRD,5,0),"") | G28: =IFERROR(VLOOKUP($C28,TARIFA_IDRD,7,0),0) -> 0 | H28: =IFERROR(VLOOKUP($C28,TARIFA_IDRD,8,0),0) -> 0 | I28: =IFERROR(VLOOKUP($C28,TARIFA_IDRD,9,0),0) -> 0 | R28: Prof. En Calidad de Obra Ing o Arq | X28: Esp. Seguridad y control CCTV | Z28: Arq. Paisajista | AB28: Biologo
B29: =IFERROR(VLOOKUP($C29,TARIFA_IDRD,3,0),"") | D29: =IFERROR(VLOOKUP($C29,TARIFA_IDRD,4,0),"") | E29: =IFERROR(VLOOKUP($C29,TARIFA_IDRD,5,0),"") | G29: =IFERROR(VLOOKUP($C29,TARIFA_IDRD,7,0),0) -> 0 | H29: =IFERROR(VLOOKUP($C29,TARIFA_IDRD,8,0),0) -> 0 | I29: =IFERROR(VLOOKUP($C29,TARIFA_IDRD,9,0),0) -> 0 | R29: Coordinador Estudios Diseños | X29: SISO Ingeniero o arq. | Z29: Esp. Geotecnista | AB29: Contador Publico
B30: =IFERROR(VLOOKUP($C30,TARIFA_IDRD,3,0),"") | D30: =IFERROR(VLOOKUP($C30,TARIFA_IDRD,4,0),"") | E30: =IFERROR(VLOOKUP($C30,TARIFA_IDRD,5,0),"") | G30: =IFERROR(VLOOKUP($C30,TARIFA_IDRD,7,0),0) -> 0 | H30: =IFERROR(VLOOKUP($C30,TARIFA_IDRD,8,0),0) -> 0 | I30: =IFERROR(VLOOKUP($C30,TARIFA_IDRD,9,0),0) -> 0 | R30: Diseñador Grafico (señalética y señalización) | X30: Ing. Mecánico | Z30: Contador | AB30: Esp. Ambiental
B31: =IFERROR(VLOOKUP($C31,TARIFA_IDRD,3,0),"") | D31: =IFERROR(VLOOKUP($C31,TARIFA_IDRD,4,0),"") | E31: =IFERROR(VLOOKUP($C31,TARIFA_IDRD,5,0),"") | G31: =IFERROR(VLOOKUP($C31,TARIFA_IDRD,7,0),0) -> 0 | H31: =IFERROR(VLOOKUP($C31,TARIFA_IDRD,8,0),0) -> 0 | I31: =IFERROR(VLOOKUP($C31,TARIFA_IDRD,9,0),0) -> 0 | R31: Presupuesto y Programación | X31: Ing. En Informatica o telecomunicaciones o Eléctrico | Z31: Ing. Forestal
B32: =IFERROR(VLOOKUP($C32,TARIFA_IDRD,3,0),"") | D32: =IFERROR(VLOOKUP($C32,TARIFA_IDRD,4,0),"") | E32: =IFERROR(VLOOKUP($C32,TARIFA_IDRD,5,0),"") | G32: =IFERROR(VLOOKUP($C32,TARIFA_IDRD,7,0),0) -> 0 | H32: =IFERROR(VLOOKUP($C32,TARIFA_IDRD,8,0),0) -> 0 | I32: =IFERROR(VLOOKUP($C32,TARIFA_IDRD,9,0),0) -> 0 | X32: Coordinador Estudios | Z32: Abogado
B33: =IFERROR(VLOOKUP($C33,TARIFA_IDRD,3,0),"") | D33: =IFERROR(VLOOKUP($C33,TARIFA_IDRD,4,0),"") | E33: =IFERROR(VLOOKUP($C33,TARIFA_IDRD,5,0),"") | G33: =IFERROR(VLOOKUP($C33,TARIFA_IDRD,7,0),0) -> 0 | H33: =IFERROR(VLOOKUP($C33,TARIFA_IDRD,8,0),0) -> 0 | I33: =IFERROR(VLOOKUP($C33,TARIFA_IDRD,9,0),0) -> 0 | X33: Diseñador Grafico (señalética y señalización) | Z33: Ing. Residente
B34: =IFERROR(VLOOKUP($C34,TARIFA_IDRD,3,0),"") | D34: =IFERROR(VLOOKUP($C34,TARIFA_IDRD,4,0),"") | E34: =IFERROR(VLOOKUP($C34,TARIFA_IDRD,5,0),"") | G34: =IFERROR(VLOOKUP($C34,TARIFA_IDRD,7,0),0) -> 0 | H34: =IFERROR(VLOOKUP($C34,TARIFA_IDRD,8,0),0) -> 0 | I34: =IFERROR(VLOOKUP($C34,TARIFA_IDRD,9,0),0) -> 0 | X34: Contador Publico | Z34: Ing. Residente Especializado en Estrcuturas
B35: =IFERROR(VLOOKUP($C35,TARIFA_IDRD,3,0),"") | D35: =IFERROR(VLOOKUP($C35,TARIFA_IDRD,4,0),"") | E35: =IFERROR(VLOOKUP($C35,TARIFA_IDRD,5,0),"") | G35: =IFERROR(VLOOKUP($C35,TARIFA_IDRD,7,0),0) -> 0 | H35: =IFERROR(VLOOKUP($C35,TARIFA_IDRD,8,0),0) -> 0 | I35: =IFERROR(VLOOKUP($C35,TARIFA_IDRD,9,0),0) -> 0 | R35: Arq. Escenografo | X35: Profesional en Pedagogía Infantil | Z35: Esp. Ambiental
B36: =IFERROR(VLOOKUP($C36,TARIFA_IDRD,3,0),"") | D36: =IFERROR(VLOOKUP($C36,TARIFA_IDRD,4,0),"") | E36: =IFERROR(VLOOKUP($C36,TARIFA_IDRD,5,0),"") | G36: =IFERROR(VLOOKUP($C36,TARIFA_IDRD,7,0),0) -> 0 | H36: =IFERROR(VLOOKUP($C36,TARIFA_IDRD,8,0),0) -> 0 | I36: =IFERROR(VLOOKUP($C36,TARIFA_IDRD,9,0),0) -> 0
B37: =IFERROR(VLOOKUP($C37,TARIFA_IDRD,3,0),"") | D37: =IFERROR(VLOOKUP($C37,TARIFA_IDRD,4,0),"") | E37: =IFERROR(VLOOKUP($C37,TARIFA_IDRD,5,0),"") | G37: =IFERROR(VLOOKUP($C37,TARIFA_IDRD,7,0),0) -> 0 | H37: =IFERROR(VLOOKUP($C37,TARIFA_IDRD,8,0),0) -> 0 | I37: =IFERROR(VLOOKUP($C37,TARIFA_IDRD,9,0),0) -> 0 | X37: Abogado. Con postgrado en contratación estatal o derecho administrativo. Experiencia especifica en auditoría de contratos estatales | Z37: Arq. Residente
B38: =IFERROR(VLOOKUP($C38,TARIFA_IDRD,3,0),"") | D38: =IFERROR(VLOOKUP($C38,TARIFA_IDRD,4,0),"") | E38: =IFERROR(VLOOKUP($C38,TARIFA_IDRD,5,0),"") | G38: =IFERROR(VLOOKUP($C38,TARIFA_IDRD,7,0),0) -> 0 | H38: =IFERROR(VLOOKUP($C38,TARIFA_IDRD,8,0),0) -> 0 | I38: =IFERROR(VLOOKUP($C38,TARIFA_IDRD,9,0),0) -> 0 | Z38: Ing. O Arq. Experto en Piscinas
B39: =IFERROR(VLOOKUP($C39,TARIFA_IDRD,3,0),"") | D39: =IFERROR(VLOOKUP($C39,TARIFA_IDRD,4,0),"") | E39: =IFERROR(VLOOKUP($C39,TARIFA_IDRD,5,0),"") | G39: =IFERROR(VLOOKUP($C39,TARIFA_IDRD,7,0),0) -> 0 | H39: =IFERROR(VLOOKUP($C39,TARIFA_IDRD,8,0),0) -> 0 | I39: =IFERROR(VLOOKUP($C39,TARIFA_IDRD,9,0),0) -> 0 | Z39: Diseñador Grafico (señalética y señalización)
B40: =IFERROR(VLOOKUP($C40,TARIFA_IDRD,3,0),"") | D40: =IFERROR(VLOOKUP($C40,TARIFA_IDRD,4,0),"") | E40: =IFERROR(VLOOKUP($C40,TARIFA_IDRD,5,0),"") | G40: =IFERROR(VLOOKUP($C40,TARIFA_IDRD,7,0),0) -> 0 | H40: =IFERROR(VLOOKUP($C40,TARIFA_IDRD,8,0),0) -> 0 | I40: =IFERROR(VLOOKUP($C40,TARIFA_IDRD,9,0),0) -> 0 | Z40: Ing. o Arq. Auxiliares (Arqueologo)
B41: =IFERROR(VLOOKUP($C41,TARIFA_IDRD,3,0),"") | D41: =IFERROR(VLOOKUP($C41,TARIFA_IDRD,4,0),"") | E41: =IFERROR(VLOOKUP($C41,TARIFA_IDRD,5,0),"") | G41: =IFERROR(VLOOKUP($C41,TARIFA_IDRD,7,0),0) -> 0 | H41: =IFERROR(VLOOKUP($C41,TARIFA_IDRD,8,0),0) -> 0 | I41: =IFERROR(VLOOKUP($C41,TARIFA_IDRD,9,0),0) -> 0 | Z41: Ing. Transito
B42: =IFERROR(VLOOKUP($C42,TARIFA_IDRD,3,0),"") | D42: =IFERROR(VLOOKUP($C42,TARIFA_IDRD,4,0),"") | E42: =IFERROR(VLOOKUP($C42,TARIFA_IDRD,5,0),"") | G42: =IFERROR(VLOOKUP($C42,TARIFA_IDRD,7,0),0) -> 0 | H42: =IFERROR(VLOOKUP($C42,TARIFA_IDRD,8,0),0) -> 0 | I42: =IFERROR(VLOOKUP($C42,TARIFA_IDRD,9,0),0) -> 0
C43: B. PERSONAL MINIMO REQUERIDO PARA | D43: =+Resumen!C29 -> Otras consultorías | E43: =+E15 -> ESTUDIOS Y DISEÑOS EL MUELLE
B44: =IFERROR(VLOOKUP($C44,TARIFA_IDRD,3,0),"") | D44: =IFERROR(VLOOKUP($C44,TARIFA_IDRD,4,0),"") | E44: =IFERROR(VLOOKUP($C44,TARIFA_IDRD,5,0),"") | G44: =IFERROR(VLOOKUP($C44,TARIFA_IDRD,7,0),0) -> 0 | H44: =IFERROR(VLOOKUP($C44,TARIFA_IDRD,8,0),0) -> 0 | I44: =IFERROR(VLOOKUP($C44,TARIFA_IDRD,9,0),0) -> 0
B45: =IFERROR(VLOOKUP($C45,TARIFA_IDRD,3,0),"") | D45: =IFERROR(VLOOKUP($C45,TARIFA_IDRD,4,0),"") | E45: =IFERROR(VLOOKUP($C45,TARIFA_IDRD,5,0),"") | G45: =IFERROR(VLOOKUP($C45,TARIFA_IDRD,7,0),0) -> 0 | H45: =IFERROR(VLOOKUP($C45,TARIFA_IDRD,8,0),0) -> 0 | I45: =IFERROR(VLOOKUP($C45,TARIFA_IDRD,9,0),0) -> 0
...

Sheet Personal
A1: ="CRONOGRAMA PERSONAL PROYECTO: "&portada!$A$17 -> CRONOGRAMA PERSONAL PROYECTO: ESTUDIOS Y DISEÑOS EL MUELLE | F1: DEDICACIÓN PERSONAL | AU1: TOTAL DE DEDICACIÓN PERSONAL | BJ1: tabla 1
A2: =+'Escala Salarial'!B15 -> A. PERSONAL MINIMO REQUERIDO PARA | D2: =+'Escala Salarial'!D15 -> Consultoría | F2: AÑO
F3: ="PERIODOS "&Tarifas!G3 -> PERIODOS 2026 | T3: ="PERIODOS "&Tarifas!H3 -> PERIODOS 2027 | AG3: ="PERIODOS "&Tarifas!I3 -> PERIODOS 2028 | AT3: TOTAL PROY / MESES
A4: Observaciones | B4: =+'Escala Salarial'!D9 -> 0 | F4: CANTIDAD DE PERSONAS POR ACTIVIDAD | G4: 1 | H4: 2 | I4: 3 | J4: 4 | K4: 5 | L4: 6 | M4: 7 | N4: 8 | O4: 9 | P4: 10 | Q4: 11 | R4: 12 | S4: TOTAL DEDICACIÓN PROM / MES | T4: 1 | U4: 2 | V4: 3 | W4: 4 | X4: 5 | Y4: 6 | Z4: 7 | AA4: 8 | AB4: 9 | AC4: 10 | AD4: 11 | AE4: 12 | AF4: TOTAL DEDICACIÓN PROM / MES | AG4: 1 | AH4: 2 | AI4: 3 | AJ4: 4 | AK4: 5 | AL4: 6 | AM4: 7 | AN4: 8 | AO4: 9 | AP4: 10 | AQ4: 11 | AR4: 12 | AS4: TOTAL DEDICACIÓN PROM / MES | AU4: VALOR HOMBRE/MES SEGÚN CATEGORÍA | AX4: PLAZO | BA4: DEDICACIÓN PROMEDIO MES % | BF4: DEDICACIÓN TOTAL HOMBRES EN EL PROYECTO | BI4: COSTO ($) TOTAL HOMBRES EN EL PROYECTO
O5: 30 | P5: 30 | S5: =(SUM(G5:R5)/30) -> 2 | AF5: =(SUM(T5:AE5)/30) -> 0 | AS5: =(SUM(AG5:AR5)/30) -> 0 | AT5: =((SUM(G5:R5)/30)+(SUM(T5:AE5)/30)+(SUM(AG5:AR5)/30)) -> 2 | AU5: =Tarifas!G3 -> 2026 | AV5: =Tarifas!H3 -> 2027 | AW5: =Tarifas!I3 -> 2028 | AX5: ="MESES "&Tarifas!G3 -> MESES 2026 | AY5: ="MESES "&Tarifas!H3 -> MESES 2027 | AZ5: ="MESES "&Tarifas!I3 -> MESES 2028 | BA5: =AU5 -> 2026 | BB5: =AV5 -> 2027 | BC5: =AW5 -> 2028 | BD5: DÍAS EFECTIVOS | BE5: TOTAL | BF5: =AU5 -> 2026 | BG5: =AV5 -> 2027 | BH5: =AW5 -> 2028
A6: CODIGO INTERNO | B6: DESCRIPCIÓN FUNCIONAL | C6: EQUIV | E6: CARGO | G6: =IF(G5=0,0,IF(G5=15,0.5,1)) -> 0 | H6: =IF(H5=0,0,IF(H5=15,0.5,1)) -> 0 | I6: =IF(I5=0,0,IF(I5=15,0.5,IF(I5=30,1,IF(I5=45,1.5,0)))) -> 0 | J6: =IF(J5=0,0,IF(J5=15,0.5,IF(J5=30,1,IF(J5=45,1.5,0)))) -> 0 | K6: =IF(K5=0,0,IF(K5=15,0.5,IF(K5=30,1,IF(K5=45,1.5,0)))) -> 0 | L6: =IF(L5=0,0,IF(L5=15,0.5,IF(L5=30,1,IF(L5=45,1.5,0)))) -> 0 | M6: =IF(M5=0,0,IF(M5=15,0.5,IF(M5=30,1,IF(M5=45,1.5,0)))) -> 0 | N6: =IF(N5=0,0,IF(N5=15,0.5,IF(N5=30,1,IF(N5=45,1.5,0)))) -> 0 | O6: =IF(O5=0,0,IF(O5=15,0.5,IF(O5=30,1,IF(O5=45,1.5,0)))) -> 1 | P6: =IF(P5=0,0,IF(P5=15,0.5,IF(P5=30,1,IF(P5=45,1.5,0)))) -> 1 | ... R6: =IF(R5=0,0,IF(R5=15,0.5,IF(R5=30,1,IF(R5=45,1.5,0)))) -> 0 | S6: =(SUM(G5:R5)/30) -> 2 | T6: =IF(T5=0,0,IF(T5=15,0.5,IF(T5=30,1,IF(T5=45,1.5,0)))) -> 0 | U6: =IF(U5=0,0,IF(U5=15,0.5,IF(U5=30,1,IF(U5=45,1.5,0)))) -> 0 | V6: =IF(V5=0,0,IF(V5=15,0.5,IF(V5=30,1,IF(V5=45,1.5,0)))) -> 0 | W6: =IF(W5=0,0,IF(W5=15,0.5,IF(W5=30,1,IF(W5=45,1.5,0)))) -> 0 | X6: =IF(X5=0,0,IF(X5=15,0.5,IF(X5=30,1,IF(X5=45,1.5,0)))) -> 0 | Y6: =IF(Y5=0,0,IF(Y5=15,0.5,IF(Y5=30,1,IF(Y5=45,1.5,0)))) -> 0 | Z6: =IF(Z5=0,0,IF(Z5=15,0.5,IF(Z5=30,1,IF(Z5=45,1.5,0)))) -> 0 | AA6: =IF(AA5=0,0,IF(AA5=15,0.5,IF(AA5=30,1,IF(AA5=45,1.5,0)))) -> 0 | ... AE6: =IF(AE5=0,0,IF(AE5=15,0.5,IF(AE5=30,1,IF(AE5=45,1.5,0)))) -> 0 | AF6: =SUM(T5:AE5)/30 -> 0 | AG6: =IF(AG5=0,0,IF(AG5=15,0.5,IF(AG5=30,1,IF(AG5=45,1.5,0)))) -> 0 | AH6: =IF(AH5=0,0,IF(AH5=15,0.5,IF(AH5=30,1,IF(AH5=45,1.5,0)))) -> 0 | AI6: =IF(AI5=0,0,IF(AI5=15,0.5,IF(AI5=30,1,IF(AI5=45,1.5,0)))) -> 0 | AJ6: =IF(AJ5=0,0,IF(AJ5=15,0.5,IF(AJ5=30,1,IF(AJ5=45,1.5,0)))) -> 0 | AK6: =IF(AK5=0,0,IF(AK5=15,0.5,IF(AK5=30,1,IF(AK5=45,1.5,0)))) -> 0 | AL6: =IF(AL5=0,0,IF(AL5=15,0.5,IF(AL5=30,1,IF(AL5=45,1.5,0)))) -> 0 | AM6: =IF(AM5=0,0,IF(AM5=15,0.5,IF(AM5=30,1,IF(AM5=45,1.5,0)))) -> 0 | AN6: =IF(AN5=0,0,IF(AN5=15,0.5,IF(AN5=30,1,IF(AN5=45,1.5,0)))) -> 0 | ... AR6: =IF(AR5=0,0,IF(AR5=15,0.5,IF(AR5=30,1,IF(AR5=45,1.5,0)))) -> 0 | AS6: =SUM(AG5:AR5)/30 -> 0 | AT6: =SUM(G6:R6)/30+SUM(T6:AE6)/30+SUM(AG6:AR6)/30 -> 0.066666667
A7: =IFERROR(VLOOKUP($B7,TARIFA_IDRD,3,0),"") -> 9 | B7: ='Escala Salarial'!C16 -> PROFESIONAL AUXILIAR | C7: =IFERROR(VLOOKUP($B7,TARIFA_IDRD,4,0),"") -> PERSONAL PROFESIONAL | D7: =IFERROR(VLOOKUP($B7,TARIFA_IDRD,5,0),"") -> PROFAUX | E7: =+'Escala Salarial'!F16 -> ARQUITECTO O INGENIERO RESIDENTE DE INTERVENTORIA | F7: 1 | O7: 1 | P7: 1 | S7: =IF(SUM($G$5:$R$5)=0,0,((Tabla1[[#This Row],[Columna5]]*$G$6)/$S$6)+((Tabla1[[#This Row],[Columna6]]*$H$6)/$S$6)+((Tabla1[[#This Row],[Columna7]]*$I$6)/$S$6)+((Tabla1[[#This Row],[Columna8]]*$J$6)/$S$6)+((Tabla1[[#This Row],[Columna9]]*$K$6)/$S$6)+((Tabla1[[#This Row],[Columna10]]*$L$6)/$S$6)+((Tabla1[[#This Row],[Columna11]]*$M$6)/$S$6)+((Tabla1[[#This Row],[Columna12]]*$N$6)/$S$6)+((Tabla1[[#This Row],[Columna13]]*$O$6)/$S$6)+((Tabla1[[#This Row],[Columna14]]*$P$6)/$S$6)+((Tabla1[[#This Row],[Columna15]]*$Q$6)/$S$6)+((Tabla1[[#This Row],[Columna16]]*$R$6)/$S$6)) -> 1 | AF7: =IF(SUM($T$5:$AE$5)=0,0,((Tabla1[[#This Row],[Columna18]]*$T$6)/$AF$6)+((Tabla1[[#This Row],[Columna19]]*$U$6)/$AF$6)+((Tabla1[[#This Row],[Columna20]]*$V$6)/$AF$6)+((Tabla1[[#This Row],[Columna21]]*$W$6)/$AF$6)+((Tabla1[[#This Row],[Columna22]]*$X$6)/$AF$6)+((Tabla1[[#This Row],[Columna23]]*$Y$6)/$AF$6)+((Tabla1[[#This Row],[Columna24]]*$Z$6)/$AF$6)+((Tabla1[[#This Row],[Columna25]]*$AA$6)/$AF$6)+((Tabla1[[#This Row],[Columna26]]*$AB$6)/$AF$6)+((Tabla1[[#This Row],[Columna27]]*$AC$6)/$AF$6)+((Tabla1[[#This Row],[Columna28]]*$AD$6)/$AF$6)+((Tabla1[[#This Row],[Columna29]]*$AE$6)/$AF$6)) -> 0 | AS7: =IF(SUM(AG5:AR5)=0,0,((Tabla1[[#This Row],[Columna33]]*$AG$6)/$AS$6)+((Tabla1[[#This Row],[Columna34]]*$AH$6)/$AS$6)+((Tabla1[[#This Row],[Columna35]]*$AI$6)/$AS$6)+((Tabla1[[#This Row],[Columna36]]*$AJ$6)/$AS$6)+((Tabla1[[#This Row],[Columna37]]*$AK$6)/$AS$6)+((Tabla1[[#This Row],[Columna38]]*$AL$6)/$AS$6)+((Tabla1[[#This Row],[Columna39]]*$AM$6)/$AS$6)+((Tabla1[[#This Row],[Columna40]]*$AN$6)/$AS$6)+((Tabla1[[#This Row],[Columna41]]*$AO$6)/$AS$6)+((Tabla1[[#This Row],[Columna42]]*$AP$6)/$AS$6)+((Tabla1[[#This Row],[Columna44]]*$AQ$6)/$AS$6)+((Tabla1[[#This Row],[Columna45]]*$AR$6)/$AS$6)) -> 0 | AT7: =(Tabla1[[#This Row],[Columna46]]+Tabla1[[#This Row],[Columna30]]+Tabla1[[#This Row],[Columna17]])/3 -> 0.33333333 | AU7: =IFERROR(VLOOKUP($B7,TARIFA_IDRD,7,0),0) -> 4307910 | AV7: =IFERROR(VLOOKUP($B7,TARIFA_IDRD,8,0),0) -> 4574570 | AW7: =IFERROR(VLOOKUP($B7,TARIFA_IDRD,9,0),0) -> 4790033 | AX7: =$S$6 -> 2 | AY7: =$AF$6 -> 0 | AZ7: =$AS$6 -> 0 | BA7: =Tabla1[[#This Row],[Columna17]] -> 1 | BB7: =Tabla1[[#This Row],[Columna30]] -> 0 | BC7: =Tabla1[[#This Row],[Columna46]] -> 0 | BD7: =(((Tabla1[[#This Row],[Columna17]]*30)*$S$6)+((AF7*30)*$AF$6)+((AS7*30)*$AS$6))*Tabla1[[#This Row],[Columna32]] -> 60 | BE7: =Tabla1[[#This Row],[Columna47]] -> 0.33333333 | BF7: =Tabla1[[#This Row],[Columna51]]*Tabla1[[#This Row],[Columna54]] -> 2 | BG7: =Tabla1[[#This Row],[Columna52]]*Tabla1[[#This Row],[Columna55]] -> 0 | BH7: =Tabla1[[#This Row],[Columna53]]*Tabla1[[#This Row],[Columna56]] -> 0 | BI7: =(Tabla1[[#This Row],[Columna48]]*Tabla1[[#This Row],[Columna59]]*Tabla1[[#This Row],[Columna32]])+(Tabla1[[#This Row],[Columna49]]*Tabla1[[#This Row],[Columna60]]*Tabla1[[#This Row],[Columna32]])+(Tabla1[[#This Row],[Columna50]]*Tabla1[[#This Row],[Columna61]]*Tabla1[[#This Row],[Columna32]]) -> 8615820
