Workbook
Name contratación: 'IDENTIFICACION Y ANALISIS'!$B$45:$B$49
Name ejecución: 'IDENTIFICACION Y ANALISIS'!$B$51:$B$75
Name OPCIONES: 'ASIGNACION Y TRATAMIENTO'!$B$51:$B$53
Name planeación: 'IDENTIFICACION Y ANALISIS'!$B$21:$B$31
Name selección: 'IDENTIFICACION Y ANALISIS'!$B$33:$B$39

Sheet CONTEXTO
C2: MATRIZ DE RIESGOS EN CONTRATACIÓN | F2: Código: GCO-GCI-F164 Versión: 02 Vigencia: 01 de diciembre de 2022 Caso HOLA: 280117
B6: ESTABLECER EL CONTEXTO
B7: El punto inicial es identificar el contexto en el cual interactúa la Entidad Estatal para conocer el ambiente social, económico y político, e identificar (i) sus propios Riesgos; (ii) los Riesgos comunes a sus Procesos de Contratación; y (iii) los Riesgos del Proceso de Contratación en particular. (Aplica igual para contratos interadministrativos) En este paso la Entidad Estatal debe identificar los aspectos que se mencionan a continuación y los posibles efectos adversos que estos pueden generar.
B8: Objeto del Proceso de Contratación: “PRESTAR SERVICIOS PARA IMPLEMENTAR ESTRATEGIAS DE FORTALECIMIENTO Y DESARROLLO EMPRESARIAL, DIRIGIDAS A LAS MICRO, PEQUEÑAS Y MEDIANAS EMPRESAS (MIPYMES), EMPRENDI-MIENTOS Y ACTORES DE LA ECONOMÍA POPULAR Y/O INFORMAL Y DEL SECTOR TURÍSTICO DE LA LOCALIDAD DE CHAPINERO
B9: Partícipes del Proceso de Contratación: Agentes externos (Organismos de control, veedurías ciudadanas), agentes internos (supervisores, funcionarios y demás usuarios).
B10: Ciudadanía que se beneficia del Proceso de Contratación: Agentes internos (funcionarios, pasantes) y externos (contratistas, visitantes y usuarios externos en general)
B11: Capacidad de la Entidad Estatal entendida como la disponibilidad de recursos y conocimientos para el Proceso de Contratación: La Entidad cuenta con la disponibilidad de recursos humanos, técnicos, administrativos y presupuestales necesarios para adelantar el presente proceso de contratación cuyo objeto es "PRESTAR SERVICIOS PARA IMPLEMENTAR ESTRATEGIAS DE FORTALECIMIENTO Y DESARROLLO EMPRESARIAL, DIRIGIDAS A LAS MICRO, PEQUEÑAS Y MEDIANAS EMPRESAS (MIPYMES), EMPRENDI-MIENTOS Y ACTORES DE LA ECONOMÍA POPULAR Y/O INFORMAL Y DEL SECTOR TURÍSTICO DE LA LOCALIDAD DE CHAPINERO". La capacidad institucional se evidencia en la participación de las áreas usuarias que identifican y consolidan los requerimientos de papelería e insumos de oficina durante la etapa de planeación; el área encargada de la gestión contractual, responsable de adelantar el proceso de selección y contratación; el comité evaluador, encargado de verificar el cumplimiento de los requisitos establecidos en la invitación pública; y el supervisor del contrato, quien realizará el seguimiento técnico, administrativo, financiero y jurídico a la ejecución contractual, verificando la entrega oportuna y el cumplimiento de las especificaciones técnicas de los bienes adquiridos.
B12: Suficiencia del presupuesto oficial del Proceso de Contratación: De acuerdo al Plan Anual de Adquisiciones se deben estimar los recursos necesarios para el desarrollo del proceso de la contratación, el cual tendrá el soporte presupuestal suficiente para su desarrollo.
B13: Condiciones geográficas y de acceso del lugar en el cual se debe cumplir el objeto del Proceso de Contratación: La prestación del servicio se realizará en la Localidad de Chapinero.
B14: Entorno socio ambiental: Si aplican
B15: Condiciones políticas: Si aplican
B16: Factores ambientales.
B17: Sector del objeto del Proceso de Contratación y su mercado.
... B19: Experiencia propia y de otras Entidades Estatales en Procesos de Contratación del mismo tipo.

Sheet IDENTIFICACION Y ANALISIS
C2: MATRIZ DE RIESGOS DE CONTRATACIÓN | F2: Código: GCO-GCI-F164 Versión: 02 Vigencia: 01 de diciembre de 2022 Caso HOLA: 280117
B6: DEFINICIONES
B7: RIESGO: Evento que puede generar efectos adversos y de distinta magnitud en el logro de los objetivos del Proceso de Contratación o en la ejecución de un contrato RIESGOS PREVISIBLES: Son los posibles hechos o circunstancias que por la naturaleza del contrato y de la actividad a ejecutar es factible su ocurrencia. ETAPA DE PLANEACIÓN: Está comprendida desde el momento en que se identifican las necesidades que debe satisfacer la Secretaría Distrital de Gobierno y los Fondos de Desarrollo Local, a través del abastecimiento de bienes, obras o servicios, la elaboración del Plan Anual de Adquisiciones y la estructuración de los documentos y estudios previos. ETAPA DE SELECCIÓN: Está comprendida entre el acto de Apertura del Proceso de Contratación y la Adjudicación o la declaración de desierto del Proceso de Contratación ETAPA DE CONTRATACIÓN: Una vez adjudicado el contrato objeto del Proceso de Contratación, inicia la etapa para la celebración del contrato y el cumplimiento de los requisitos para de perfeccionamiento y ejecución. ETAPA DE EJECUCIÓN: Inicia una vez cumplidos los requisitos previstos para iniciar la ejecución del contrato respectivo y termina con el vencimiento del plazo del contrato o la fecha de liquidación si hay lugar a ella. RIESGO GENERAL: Es un riesgo de todos los procesos de contratación adelantados por la Entidad Estatal, por lo cual está presente en toda su actividad contractual. RIESGO ESPECÍFICO: Es un riesgo propio del proceso de contratación objeto de análisis. RIESGOS ECONÓMICOS: Son los derivados del comportamiento del mercado, tales como la fluctuación de los precios de los insumos, desabastecimiento y especulación de los mismos, entre otros. RIESGOS SOCIALES O POLÍTICOS: son los derivados de los cambios de las políticas gubernamentales y de cambios en las condiciones sociales que tengan impacto en la ejecución del contrato. RIESGOS OPERACIONALES: Son los asociados a la operatividad del contrato, tales como la suficiencia del presupuesto oficial, del plazo o los derivados de procesos, procedimientos, parámetros, sistemas de información y tecnológicos, equipos humanos o técnicos inadecuados o insuficientes. RIESGOS FINANCIEROS: Son (i) el riesgo de consecución de financiación o riesgo de liquidez para obtener recursos para cumplir con el objeto del contrato, y (ii) el riesgo de las condiciones financieras establecidas para la obtención de los recursos, tales como plazos, tasas, garantías, contragarantías, y refinanciaciones, entre otros. RIESGOS REGULATORIOS: Derivados de cambios regulatorios o reglamentarios que afecten la ecuación económica del contrato. RIESGOS DE LA NATURALEZA: Son los eventos naturales previsibles en los cuales no hay intervención humana que puedan tener impacto en la ejecución del contrato, por ejemplo los temblores, inundaciones, lluvias, sequías, entre otros. RIESGOS AMBIENTALES: Son los derivados de las obligaciones legales o reglamentarias de carácter ambiental, así como de las licencias, planes de manejo o de permisos y autorizaciones ambientales, incluyendo tasas retributivas y compensatorias, obligaciones de mitigación, tareas de monitoreo y control, entre otras. RIESGOS TECNOLÓGICOS: Son los derivados de fallas en los sistemas de comunicación de voz y de datos, suspensión de servicios públicos, nuevos desarrollos tecnológicos o estándares que deben ser tenidos en cuenta para la ejecución del contrato, obsolescencia tecnológica.
B15: INSTRUCCIONES PARA LA IDENTIFICACIÓN, ANALISIS, EVALUACIÓN , ASIGNACIÓN Y TRATAMIENTO DE RIESGOS EN LA CONTRATACIÓN
B16: 1) Identifique los riesgos previsibles que le apliquen al objeto contractual que se adelante. Los relacionados a continuación se establecen de manera general y como proforma. No obstante, si del objeto contractual se identifican otros riesgos diferentes a los aquí determinados, por favor reemplace el texto de la casilla teniendo en cuenta la etapa del proceso. Así mismo, seleccione la clase, fuente y el tipo (Operacional, Económico, Sociales o Políticos, Regulatorios, Financieros, Tecnológicos, De la naturaleza, Ambientales) 2) Continúe en la hoja de "EVALUACIÓN" (SI EXISTEN DUDAS CONCEPTUALES PARA LA ELABORACIÓN DE LA MATRIZ DE RIESGO CONSULTE EL MANUAL PARA LA IDENTIFICACIÓN Y COBERTURA DEL RIESGO EN LOS PROCESOS DE CONTRATACIÓN EXPEDIDO POR COLOMBIA COMPRA EFICIENTE Y LA GUÍA DE RIESGOS PREVISIBLES CONTRACTUALES, EXPEDIDA POR LA VEEDURÍA DISTRITAL)
C17: ETAPAS | D17: CLASE | E17: FUENTE | F17: TIPO
C18: PLANEACIÓN
B19: Errores en la formulación o los documentos del proceso por equivocación, falta de exactitud o imprecisión de la información | D19: General | E19: Interno | F19: Operacionales
B20: Declaratoria de Desierta del Proceso de Contratación, por la No Presentación de propuestas, debido a errores Involuntarios que hayan quedado en los Estudios Previos, Pliegos de Condiciones, Estudio de Sector y en general a cualquier documento que forme parte integral del mismo | D20: General | E20: Interno | F20: Operacionales
B21: Inadecuada escogencia de la modalidad de contratación | D21: General | E21: Interno | F21: Operacionales
B22: Requisitos habilitantes inapropiados para el proceso de selección | D22: Especifico | E22: Interno | F22: Operacionales
B23: Inadecuado análisis económico estimativo del valor del contrato | D23: Especifico | E23: Interno | F23: Economicos
B24: Inadecuada descripción del bien o servicio requerido | D24: Especifico | E24: Interno | F24: Operacionales
B25: Inadecuada elaboración de estudios y diseños | D25: Especifico | E25: Interno | F25: Operacionales
B26: Requisitos habilitantes que impidan la selección objetiva | D26: Especifico | E26: Interno | F26: Operacionales
B27: Falta de profundidad en el estudio de sector no identificandose claramente aspectos de oferta y demanda | D27: Especifico | E27: Interno | F27: Economicos
B28: Ausencia de fundamentación de la justificación y conveniencia de la contratación | D28: Especifico | E28: Interno | F28: Operacionales
B29: Inadecuada identificación de las condiciones contractuales | D29: Especifico | E29: Interno | F29: Operacionales
B30: No aprobación o demoras en la expedición vigencias futuras | D30: Especifico | E30: Interno | F30: Operacionales
B31: Apertura de procesos sin disponibilidad presupuestal | D31: Especifico | E31: Interno | F31: Operacionales
C32: SELECCIÓN
B33: Inadecuada evaluación de las ofertas y/o verificación de requisitos habilitantes | D33: Especifico | E33: Interno | F33: Operacionales
B34: Inadecuado manejo administrativo del proceso contractual | D34: Especifico | E34: Interno | F34: Operacionales
B35: Falta de claridad en la elaboración de los actos administrativos | D35: Especifico | E35: Interno | F35: Operacionales
B36: Contestación inoportuna a todas las observaciones formuladas a los documentos de la contratación | D36: Especifico | E36: Interno | F36: Operacionales
B37: No publicación de la documentación del proceso de selección en el SECOP | D37: Especifico | E37: Interno | F37: Operacionales
B38: Confabulación de los proponentes (Colusión) | D38: Especifico | E38: Externo | F38: Operacionales
B39: Selección de ofertas con precios artificialmente bajos. | D39: Especifico | E39: Externo | F39: Operacionales
C40: CONTRATACIÓN
B41: Riesgo que no se presenten las garantías requeridas con los documentos del proceso de contratación o que su presentación sea tardía | D41: General | E41: Interno | F41: Operacionales
B45: Riesgo de que no se firme el contrato. | D45: Especifico | E45: Externo | F45: Operacionales
B46: Falta de constitución o constitución tardía de la garantía única. Aceptación de garantías que no se ajustan a lo contemplado en el contrato | D46: Especifico | E46: Externo | F46: Operacionales
B47: Falta de solicitud o solicitud tardía del registro presupuestal | D47: Especifico | E47: Interno | F47: Operacionales
B48: No publicación de la documentación del proceso de selección en el SECOP | D48: Especifico | E48: Interno | F48: Operacionales
B49: Presentación de reclamos de terceros sobre la selección del oferente que retrasen el perfeccionamiento del contrato. | D49: Especifico | E49: Externo | F49: Operacionales
C50: EJECUCIÓN
B51: Fluctuaciones del valor de la moneda | D51: General | E51: Externo | F51: Economicos
B52: Cambio de precios en factores de producción. | D52: General | E52: Externo | F52: Economicos
B53: Variación de los precios del mercado | D53: General | E53: Externo | F53: Economicos
B54: Factores políticos o macroeconómicos. | D54: General | E54: Externo | F54: Sociales o Políticos
...

Sheet EVALUACION
C2: MATRIZ DE RIESGOS DE CONTRATACIÓN | K2: Código: GCO-GCI-F164 Versión: 02 Vigencia: 01 de diciembre de 2022 Caso HOLA: 280117
B6: OBJETO: “PRESTAR SERVICIOS PARA IMPLEMENTAR ESTRATEGIAS DE FORTALECIMIENTO Y DESARROLLO EMPRESARIAL, DIRIGIDAS A LAS MICRO, PEQUEÑAS Y MEDIANAS EMPRESAS (MIPYMES), EMPRENDI-MIENTOS Y ACTORES DE LA ECONOMÍA POPULAR Y/O INFORMAL Y DEL SECTOR TURÍSTICO DE LA LOCALIDAD DE CHAPINERO
B7: CALIFICACIÓN | H7: Cualitativa
B8: ETAPA | C8: Descripción (Que puede pasar y, cómo puede ocurrir) | H8: Consecuencias de la ocurrencia del evento | I8: Probabilidad de Ocurrencia | J8: Impacto | K8: Calificación Total | L8: Prioridad
B9: PLANEACIÓN | C9: Errores en la formulación o los documentos del proceso por equivocacion, falta de exactitud o impresición de la información | H9: Posible incumplimiento del contrato, necesidad de modificar alcance, actividades o presupuesto. | I9: 3 | J9: 2 | K9: =I9+J9 -> 5 | L9: =IF(K9<=4,"BAJO",IF(K9=5,"MEDIO",IF(K9=6,"ALTO",IF(K9=7,"ALTO","EXTREMO")))) -> MEDIO
B10: PLANEACIÓN | C10: Declaratoria de Desierta del Proceso de Contratación, por la No Presentación de propuestas, debido a errores Involuntarios que hayan quedado en los Estudios Previos, Pliegos de Condiciones, Estudio de Sector y en general a cualquier documento que forme parte integral del mismo | H10: Limitación de la pluralidad de oferentes, declaratoria de desierto del proceso, retraso en el cumplimiento de las metas del proyecto, necesidad de adelantar un nuevo proceso de selección y posible afectación de la ejecución de los recursos asignados a la vigencia. | I10: 1 | J10: 5 | K10: =I10+J10 -> 6 | L10: =IF(K10<=4,"BAJO",IF(K10=5,"MEDIO",IF(K10=6,"ALTO",IF(K10=7,"ALTO","EXTREMO")))) -> ALTO
B11: PLANEACIÓN | C11: Inadecuado análisis económico estimativo del valor del contrato | H11: Posible sobreestimación o subestimación del presupuesto oficial debido a variaciones no representativas en el estudio de mercado, generando afectación a la selección objetiva, la eficiencia del gasto público y la adecuada ejecución contractual. | I11: 3 | J11: 3 | K11: =I11+J11 -> 6 | L11: =IF(K11<=4,"BAJO",IF(K11=5,"MEDIO",IF(K11=6,"ALTO",IF(K11=7,"ALTO","EXTREMO")))) -> ALTO
B12: PLANEACIÓN | C12: Requisitos habilitantes que impidan la selección objetiva | H12: Restricción indebida a la pluralidad de oferentes por requisitos mal definidos o desproporcionados. | I12: 3 | J12: 2 | K12: =+I12+J12 -> 5 | L12: =IF(K12<=4,"BAJO",IF(K12=5,"MEDIO",IF(K12=6,"ALTO",IF(K12=7,"ALTO","EXTREMO")))) -> MEDIO
B13: SELECCIÓN | C13: Inadecuada evaluación de las ofertas y/o verificación de requisitos habilitantes | H13: Retrasos en el cronograma por necesidad de aclaraciones, subsanaciones o reclamaciones. | I13: 2 | J13: 2 | K13: =+I13+J13 -> 4 | L13: =IF(K13<=4,"BAJO",IF(K13=5,"MEDIO",IF(K13=6,"ALTO",IF(K13=7,"ALTO","EXTREMO")))) -> BAJO
B14: SELECCIÓN | C14: Confabulación de los proponentes (Colusión) | H14: Necesidad de declarar desierto o repetir el proceso; retrasos e impacto en la calidad de la contratación.. | I14: 2 | J14: 2 | K14: =+I14+J14 -> 4 | L14: =IF(K14<=4,"BAJO",IF(K14=5,"MEDIO",IF(K14=6,"ALTO",IF(K14=7,"ALTO","EXTREMO")))) -> BAJO
B15: SELECCIÓN | C15: Contestación inoportuna a todas las observaciones formuladas a los documentos de la contratación | H15: Posibilidad de reclamaciones, pérdida de transparencia, y afectación de la confianza del proceso. | I15: 1 | J15: 2 | K15: =+I15+J15 -> 3 | L15: =IF(K15<=4,"BAJO",IF(K15=5,"MEDIO",IF(K15=6,"ALTO",IF(K15=7,"ALTO","EXTREMO")))) -> BAJO
B16: CONTRATACIÓN | C16: Riesgo de que no se firme el contrato. | H16: Imposibilidad de dar continuidad a la necesidad; riesgo de pérdida de oportunidad para la ejecución del proyecto. | I16: 3 | J16: 3 | K16: =+I16+J16 -> 6 | L16: =IF(K16<=4,"BAJO",IF(K16=5,"MEDIO",IF(K16=6,"ALTO",IF(K16=7,"ALTO","EXTREMO")))) -> ALTO
B17: CONTRATACIÓN | C17: Presentación de reclamos de terceros sobre la selección del oferente que retrasen el perfeccionamiento del contrato. | H17: Demora en el inicio del contrato y en la ejecución de actividades; impacto en el cumplimiento de metas. | I17: 2 | J17: 4 | K17: =+I17+J17 -> 6 | L17: =IF(K17<=4,"BAJO",IF(K17=5,"MEDIO",IF(K17=6,"ALTO",IF(K17=7,"ALTO","EXTREMO")))) -> ALTO
B18: CONTRATACIÓN | C18: Falta de constitución o constitución tardía de la garantía única. Aceptación de garantías que no se ajustan a lo contemplado en el contrato | H18: Riesgo de afectación patrimonial para la entidad debido a la inexistencia, constitución tardía o aceptación de garantías que no cumplen las condiciones contractuales exigidas, limitando la posibilidad de hacer efectivas las coberturas ante incumplimientos del contratista. | I18: 3 | J18: 2 | K18: =+I18+J18 -> 5 | L18: =IF(K18<=4,"BAJO",IF(K18=5,"MEDIO",IF(K18=6,"ALTO",IF(K18=7,"ALTO","EXTREMO")))) -> MEDIO
B19: EJECUCIÓN | C19: Variación de los precios del mercado | H19: Incremento de los costos de ejecución y afectación de la planeación financiera del contratista. | I19: 3 | J19: 3 | K19: =+I19+J19 -> 6 | L19: =IF(K19<=4,"BAJO",IF(K19=5,"MEDIO",IF(K19=6,"ALTO",IF(K19=7,"ALTO","EXTREMO")))) -> ALTO
B20: EJECUCIÓN | C20: Imposición de nuevos tributos | H20: Incremento de los costos de ejecución y afectación de la planeación financiera del contratista. | I20: 2 | J20: 2 | K20: =+I20+J20 -> 4 | L20: =IF(K20<=4,"BAJO",IF(K20=5,"MEDIO",IF(K20=6,"ALTO",IF(K20=7,"ALTO","EXTREMO")))) -> BAJO
B21: EJECUCIÓN | C21: Incumplimiento de compromisos adquiridos por el contratista seleccionado con sus subcontratistas, suministradores de bienes y servicios. | H21: Afectación operativa, técnica y económica del contrato derivado del incumplimiento de compromisos entre el contratista y sus proveedores o subcontratistas, ocasionando posibles retrasos, desabastecimiento, incumplimiento de obligaciones y afectación en la calidad de los bienes o servicios contratados. | I21: 3 | J21: 3 | K21: =+I21+J21 -> 6 | L21: =IF(K21<=4,"BAJO",IF(K21=5,"MEDIO",IF(K21=6,"ALTO",IF(K21=7,"ALTO","EXTREMO")))) -> ALTO
B22: EJECUCIÓN | C22: Calidad del Servicio | H22: Incumplimiento de las obligaciones contractuales, afectación de la calidad de las actividades desarrolladas, insatisfacción de los beneficiarios y posible afectación en el cumplimiento de las metas del proyecto | I22: 3 | J22: 3 | K22: =+I22+J22 -> 6 | L22: =IF(K22<=4,"BAJO",IF(K22=5,"MEDIO",IF(K22=6,"ALTO",IF(K22=7,"ALTO","EXTREMO")))) -> ALTO
B23: EJECUCIÓN | C23: Demora en la entrega del producto | H23: Retrasos en el cumplimiento de metas; incumplimiento de indicadores y cronograma. | I23: 2 | J23: 2 | K23: =+I23+J23 -> 4 | L23: =IF(K23<=4,"BAJO",IF(K23=5,"MEDIO",IF(K23=6,"ALTO",IF(K23=7,"ALTO","EXTREMO")))) -> BAJO
... B27: EJECUCIÓN | C27: Falta de trazabilidad presupuestal y de ejecución de recursos entre los dos proyectos de inversión (2475 y 2500) financiados a través del contrato, que dificulte identificar el gasto, los productos y los beneficiarios asociados a cada proyecto. | H27: Dificultad para el seguimiento presupuestal, financiero y de productos por proyecto de inversión, incumplimiento de los reportes exigidos ante los entes de control y de planeación, y riesgo de ejecución de recursos de un proyecto en actividades o beneficiarios de otro. | I27: 2 | J27: 2 | K27: =+I27+J27 -> 4 | L27: =IF(K27<=4,"BAJO",IF(K27=5,"MEDIO",IF(K27=6,"ALTO",IF(K27=7,"ALTO","EXTREMO")))) -> BAJO
B31: Probabilidad | C31: Catagoría | E31: Valoración | G31: Impacto | H31: Catagoría | I31: Valoración
C32: Raro (puede ocurrir excepcionalmente) | E32: 1 | H32: Insignificante | I32: 1
C33: Improbable (puede ocurrir ocasionalmente) | E33: 2 | H33: Menor | I33: 2
C34: Posible (puede ocurrir en cualquier momento futuro) | E34: 3 | H34: Moderado | I34: 3
C35: Probable (probablemente va a ocurrir) | E35: 4 | H35: Mayor | I35: 4
C36: Casi cierto (ocurre en la mayoria de circunstancias) | E36: 5 | H36: Catastrófico | I36: 5
C38: Valoración del Riesgo
C39: Calificación Cualitativa | F39: Obstruye la ejecución del contrato de manera intrascendente. | G39: Dificulta la ejecución del contrato de manera baja, aplicando medidas mínimas se pueden lograr el objeto contractual | H39: Afecta la ejecución del contrato sin alterar el beneficio para las partes | I39: Obstruye la ejecución del contrato sustancialmente pero aun así permite la consecución del objeto contractual | K39: Perturba la ejecución del contrato de manera grave imposibilitando la consecución del objeto contractual.
C40: Calificación Monetaria | F40: Los sobrecostos no representan más del uno por ciento (1%) del valor del contrato. | G40: Los sobrecostos no representan más del cinco por ciento (5%) del valor del contrato. | H40: Genera un impacto sobre el valor del contrato entre el cinco (5%) y el quince por ciento (15%). | I40: Incrementa el valor del contrato entre el quince (15%) y el treinta por ciento (30%). | K40: Impacto sobre el valor del contrato en más del treinta por ciento (30%).
C41: Categoría | E41: Valoración | F41: Insignificante | G41: Menor | H41: Moderado | I41: Mayor | K41: Catastrófico
F42: 1 | G42: 2 | H42: 3 | I42: 4 | K42: 5
C43: Raro (puede ocurrir excepcionalmente) | E43: 1 | F43: 2 | G43: 3 | H43: 4 | I43: 5 | K43: 6
C44: Improbable (puede ocurrir ocasionalmente) | E44: 2 | F44: 3 | G44: 4 | H44: 5 | I44: 6 | K44: 7
C45: Posible (puede ocurrir en cualquier momento futuro) | E45: 3 | F45: 4 | G45: 5 | H45: 6 | I45: 7 | K45: 8
C46: Probable (probablemente va a ocurrir) | E46: 4 | F46: 5 | G46: 6 | H46: 7 | I46: 8 | K46: 9
C47: Casi cierto (ocurre en la mayoria de circunstancias) | E47: 5 | F47: 6 | G47: 7 | H47: 8 | I47: 9 | K47: 10
G49: Catagoría del Riesgo
G50: Valoración del Riesgo | H50: Categoría
G51: 8, 9 y 10 | H51: Riesgo extremo
G52: 6 y 7 | H52: Riesgo alto
...

Sheet EVALUACION CON CONTROLES
C2: MATRIZ DE RIESGOS DE CONTRATACIÓN | Q2: Código: GCO-GCI-F164 Versión: 02 Vigencia: 01 de diciembre de 2022 Caso HOLA: 280117
B6: =+EVALUACION!B6 -> OBJETO: “PRESTAR SERVICIOS PARA IMPLEMENTAR ESTRATEGIAS DE FORTALECIMIENTO Y DESARROLLO EMPRESARIAL, DIRIGIDAS A LAS MICRO, PEQUEÑAS Y MEDIANAS EMPRESAS (MIPYMES), EMPRENDI-MIENTOS Y ACTORES DE LA ECONOMÍA POPULAR Y/O INFORMAL Y DEL SECTOR TURÍSTICO DE LA LOCALIDAD DE CHAPINERO
B7: INSTRUCCIONES PARA LA IDENTIFICACIÓN, ANALISIS, EVALUACIÓN , ASIGNACIÓN Y TRATAMIENTO DE RIESGOS EN LA CONTRATACIÓN
B8: 1) Describa el tratamiento/controles a ser implementados
B9: 2) Diligencie la información de las siguientes columnas, de acuerdo con el análisis realizado a cada riesgo: Afecta el equilibrio económico, persona responsable de implementar el tratamiento, fecha estimada de inicio del tratamiento, fecha estimada en la que se completa el tratamiento, cómo se realiza el monitoreo y la periodicidad.
B10: 3) Continúe en la hoja de "ASIGNACIÓN Y TRATAMIENTO" y diligencie las siguientes casillas: A quien se le asigna y el porcentaje que asume cada una de las partes en caso de que sea compartido.
B15: ETAPA | C15: Descripción (Que puede pasar y, cómo puede ocurrir) | G15: Tratamiento/Controles a ser implementados | I15: Probabilidad de Ocurrencia | J15: Impacto | K15: Calificación Total | L15: Prioridad | M15: ¿Afecta el equilibrio económico del contrato? | N15: Persona responsable por implementar el tratamiento | O15: Fecha estimada en que se inicia el tratamiento | P15: Fecha estimada en que se completa el tratamiento | Q15: ¿Cómo se realiza el monitoreo? | R15: Periodicidad ¿Cuándo?
B16: =+EVALUACION!B9 -> PLANEACIÓN | C16: =+EVALUACION!C9 -> Errores en la formulación o los documentos del proceso por equivocacion, falta de exactitud o impresición de la información | G16: Revisión detallada por parte del equipo técnico y jurídico del Fondo de Desarrollo Local de Chapinero, con validación previa por el comité de contratación antes de la publicación en SECOP II. | I16: 2 | J16: 2 | K16: =+I16+J16 -> 4 | L16: =IF(K16<=4,"BAJO",IF(K16=5,"MEDIO",IF(K16=6,"ALTO",IF(K16=7,"ALTO","EXTREMO")))) -> BAJO | M16: NO | N16: FDLCH | O16: Durante la etapa precontractual | P16: Fecha en la que finaliza la etapa precontractual | Q16: Revisión técnica, jurídica, financiera de los documentos contractuales con retroalimentación comunitaria | R16: Etapa precontractual
B17: =+EVALUACION!B10 -> PLANEACIÓN | C17: =+EVALUACION!C10 -> Declaratoria de Desierta del Proceso de Contratación, por la No Presentación de propuestas, debido a errores Involuntarios que hayan quedado en los Estudios Previos, Pliegos de Condiciones, Estudio de Sector y en general a cualquier documento que forme parte integral del mismo | G17: Realizar revisión integral de los documentos del proceso por parte de los componentes técnico, jurídico, financiero y contractual antes de su publicación; efectuar validaciones de consistencia entre los diferentes documentos; atender oportunamente observaciones de los interesados; y realizar las aclaraciones o ajustes mediante adendas cuando resulte procedente. | I17: 1 | J17: 5 | K17: =+I17+J17 -> 6 | L17: =IF(K17<=4,"BAJO",IF(K17=5,"MEDIO",IF(K17=6,"ALTO",IF(K17=7,"ALTO","EXTREMO")))) -> ALTO | M17: NO | N17: FDLCH | O17: Durante la etapa precontractual | P17: Fecha en la que finaliza la etapa precontractual | Q17: Muestreos aleatorios de calidad | R17: Etapa precontractual
B18: =+EVALUACION!B11 -> PLANEACIÓN | C18: =+EVALUACION!C11 -> Inadecuado análisis económico estimativo del valor del contrato | G18: Realizar estudio de mercado con análisis comparativo de cotizaciones, validación financiera de los valores obtenidos y revisión de posibles desviaciones o valores atípicos, garantizando que el presupuesto oficial se ajuste a las condiciones reales del mercado. | I18: 2 | J18: 3 | K18: =+I18+J18 -> 5 | L18: =IF(K18<=4,"BAJO",IF(K18=5,"MEDIO",IF(K18=6,"ALTO",IF(K18=7,"ALTO","EXTREMO")))) -> MEDIO | M18: SI | N18: FDLCH | O18: Durante formulación | P18: Durante la etapa precontractual | Q18: Seguimiento por comité técnico y revisión del mercado | R18: Mensual.
B19: =+EVALUACION!B12 -> PLANEACIÓN | C19: =+EVALUACION!C12 -> Requisitos habilitantes que impidan la selección objetiva | G19: Diseño de requisitos habilitantes proporcionales y justificados, con base en estudios previos, análisis de riesgos y estudio de sector. | I19: 2 | J19: 2 | K19: =+I19+J19 -> 4 | L19: =IF(K19<=4,"BAJO",IF(K19=5,"MEDIO",IF(K19=6,"ALTO",IF(K19=7,"ALTO","EXTREMO")))) -> BAJO | M19: NO | N19: FDLCH | O19: Durante la etapa precontractual | P19: Durante la etapa precontractual | Q19: Revisión del Decreto 1082 de 2015 y Ley 1150 de 2007 | R19: Etapa precontractual
B20: =+EVALUACION!B13 -> SELECCIÓN | C20: =+EVALUACION!C13 -> Inadecuada evaluación de las ofertas y/o verificación de requisitos habilitantes | G20: Realizar la verificación integral de las ofertas y de los requisitos habilitantes conforme a las condiciones establecidas en los documentos del proceso, mediante revisión por parte del comité evaluador y aplicación de los criterios definidos para la evaluación, dejando constancia de los resultados y de las verificaciones efectuadas. | I20: 1 | J20: 2 | K20: =+I20+J20 -> 3 | L20: =IF(K20<=4,"BAJO",IF(K20=5,"MEDIO",IF(K20=6,"ALTO",IF(K20=7,"ALTO","EXTREMO")))) -> BAJO | M20: NO | N20: FDLCH | O20: Durante evaluación | P20: Durante evaluación | Q20: Verificación cruzada en comité técnico | R20: Durante evaluación
B21: =+EVALUACION!B14 -> SELECCIÓN | C21: =+EVALUACION!C14 -> Confabulación de los proponentes (Colusión) | G21: Seguimiento continuo desde publicación hasta adjudicación y firma; plan de contingencia para segunda oferta elegible en caso de no aceptación. | I21: 1 | J21: 1 | K21: =+I21+J21 -> 2 | L21: =IF(K21<=4,"BAJO",IF(K21=5,"MEDIO",IF(K21=6,"ALTO",IF(K21=7,"ALTO","EXTREMO")))) -> BAJO | M21: NO | N21: FDLCH | O21: Durante evaluación | P21: Durante evaluación | Q21: Análisis de comportamiento en SECOP y reporte al comité | R21: Durante evaluación
B22: =+EVALUACION!B15 -> SELECCIÓN | C22: =+EVALUACION!C15 -> Contestación inoportuna a todas las observaciones formuladas a los documentos de la contratación | G22: Realizar seguimiento continuo al cronograma del proceso y a las publicaciones efectuadas en SECOP II por parte de las áreas responsables de la estructuración, el comité evaluador y demás actores que intervengan en el proceso, verificando oportunamente los plazos establecidos para la recepción, análisis y respuesta de las observaciones. | I22: 1 | J22: 2 | K22: =+I22+J22 -> 3 | L22: =IF(K22<=4,"BAJO",IF(K22=5,"MEDIO",IF(K22=6,"ALTO",IF(K22=7,"ALTO","EXTREMO")))) -> BAJO | M22: NO | N22: FDLCH | O22: Durante publicación | P22: Antes del cierre | Q22: Seguimiento del cronograma de observaciones | R22: Durante etapa de observaciones
B23: =+EVALUACION!B16 -> CONTRATACIÓN | C23: =+EVALUACION!C16 -> Riesgo de que no se firme el contrato. | G23: Exigir al proponente la constitución y presentación de la garantía de seriedad de la oferta, cuando sea exigible, en los términos y condiciones establecidos en los documentos del proceso, verificando su vigencia, suficiencia y cumplimiento de los requisitos previstos. | I23: 2 | J23: 3 | K23: =+I23+J23 -> 5 | L23: =IF(K23<=4,"BAJO",IF(K23=5,"MEDIO",IF(K23=6,"ALTO",IF(K23=7,"ALTO","EXTREMO")))) -> MEDIO | M23: NO | N23: FDLCH | O23: Tras adjudicación | P23: Previo a la ejecución | Q23: Comité técnico y supervisión jurídica | R23: Mensual.
B24: =+EVALUACION!B17 -> CONTRATACIÓN | C24: =+EVALUACION!C17 -> Presentación de reclamos de terceros sobre la selección del oferente que retrasen el perfeccionamiento del contrato. | G24: Valoración jurídica anticipada de los riesgos, socialización de resultados del proceso y publicación clara de evaluaciones para mitigar reclamaciones. | I24: 1 | J24: 4 | K24: =+I24+J24 -> 5 | L24: =IF(K24<=4,"BAJO",IF(K24=5,"MEDIO",IF(K24=6,"ALTO",IF(K24=7,"ALTO","EXTREMO")))) -> MEDIO | M24: NO | N24: FDLCH | O24: Durante adjudicación | P24: Antes de firma | Q24: Decisiones del Comité Técnico del proyecto | R24: Durante adjudicación
B25: =+EVALUACION!B18 -> CONTRATACIÓN | C25: =+EVALUACION!C18 -> Falta de constitución o constitución tardía de la garantía única. Aceptación de garantías que no se ajustan a lo contemplado en el contrato | G25: Verificación jurídica y contractual previa de las garantías presentadas por el contratista, validando su vigencia, suficiencia, amparos, valores asegurados y cumplimiento de las condiciones establecidas en el contrato antes de la suscripción del acta de inicio. | I25: 2 | J25: 2 | K25: =+I25+J25 -> 4 | L25: =IF(K25<=4,"BAJO",IF(K25=5,"MEDIO",IF(K25=6,"ALTO",IF(K25=7,"ALTO","EXTREMO")))) -> BAJO | M25: NO | N25: FDLCH | O25: Durante etapa precontractual | P25: Previo a la firma | Q25: Control del comité técnico y asesoría jurídica | R25: Etapa contractual
B26: =+EVALUACION!B19 -> EJECUCIÓN | C26: =+EVALUACION!C19 -> Variación de los precios del mercado | G26: Planeación adecuada de compras, gestión de proveedores y administración eficiente de los recursos asignados al contrato. | I26: 2 | J26: 3 | K26: =+I26+J26 -> 5 | L26: =IF(K26<=4,"BAJO",IF(K26=5,"MEDIO",IF(K26=6,"ALTO",IF(K26=7,"ALTO","EXTREMO")))) -> MEDIO | M26: SI | N26: FDLCH / Jurídica | O26: Inicio de ejecución | P26: Durante ejecución | Q26: Seguimiento técnico y presupuestal por parte del supervisor del contrato | R26: Mensual.
B27: =+EVALUACION!B20 -> EJECUCIÓN | C27: =+EVALUACION!C20 -> Imposición de nuevos tributos | G27: Seguimiento normativo por parte del supervisor y ajustes presupuestales si hay lugar, previa validación jurídica. | I27: 1 | J27: 2 | K27: =+I27+J27 -> 3 | L27: =IF(K27<=4,"BAJO",IF(K27=5,"MEDIO",IF(K27=6,"ALTO",IF(K27=7,"ALTO","EXTREMO")))) -> BAJO | M27: SI | N27: FDLCH / Jurídica | O27: Durante ejecución | P27: Durante ejecución | Q27: Análisis normativo y presupuestal del supervisor del contrato | R27: Mensual.
... B34: =+EVALUACION!B27 -> EJECUCIÓN | C34: =+EVALUACION!C27 -> Falta de trazabilidad presupuestal y de ejecución de recursos entre los dos proyectos de inversión (2475 y 2500) financiados a través del contrato, que dificulte identificar el gasto, los productos y los beneficiarios asociados a cada proyecto. | G34: Identificación diferenciada por proyecto de inversión (2475 y 2500) en los formatos de planeación, seguimiento, actas de entrega y reportes de ejecución; supervisión de la correspondencia entre cada iniciativa, beneficiario y proyecto de inversión; y consolidación de una base de datos que discrimine la ejecución física y presupuestal por proyecto. | I34: 1 | J34: 1 | K34: =+I34+J34 -> 2 | L34: =IF(K34<=4,"BAJO",IF(K34=5,"MEDIO",IF(K34=6,"ALTO",IF(K34=7,"ALTO","EXTREMO")))) -> BAJO | M34: NO | N34: FDLCH / Contratista | O34: Desde el inicio de la ejecución | P34: Hasta la liquidación del contrato | Q34: Revisión de reportes de ejecución física y presupuestal discriminados por proyecto de inversión | R34: Mensual
C37: Catagoría del Riesgo | H37: Impacto del Riesgo
B38: Probabilidad | C38: Catagoría | F38: Valoración | H38: Catagoría | J38: Valoración | N38: Catagoría del Riesgo
C39: Raro (puede ocurrir excepcionalmente) | F39: 1 | H39: Insignificante | J39: 1 | N39: Valoración del Riesgo | P39: Categoría
C40: Improbable (puede ocurrir ocasionalmente) | F40: 2 | H40: Menor | J40: 2 | N40: 8, 9 y 10 | P40: Riesgo extremo
C41: Posible (puede ocurrir en cualquier momento futuro) | F41: 3 | H41: Moderado | J41: 3 | N41: 6 y 7 | P41: Riesgo alto
C42: Probable (probablemente va a ocurrir) | F42: 4 | H42: Mayor | J42: 4 | N42: 5 | P42: Riesgo medio
C43: Casi cierto (ocurre en la mayoria de circunstancias) | F43: 5 | H43: Catastrófico | J43: 5 | N43: 2, 3 y 4 | P43: Riesgo bajo
C45: Valoración del Riesgo
C46: Calificación Cualitativa | G46: Obstruye la ejecución del contrato de manera intrascendente. | I46: Dificulta la ejecución del contrato de manera baja, aplicando medidas mínimas se pueden lograr el objeto contractual | L46: Afecta la ejecución del contrato sin alterar el beneficio para las partes | N46: Obstruye la ejecución del contrato sustancialmente pero aun así permite la consecución del objeto contractual | P46: Perturba la ejecución del contrato de manera grave imposibilitando la consecución del objeto contractual.
C47: Calificación Monetaria | G47: Los sobrecostos no representan más del uno por ciento (1%) del valor del contrato. | I47: Los sobrecostos no representan más del cinco por ciento (5%) del valor del contrato. | L47: Genera un impacto sobre el valor del contrato entre el cinco (5%) y el quince por ciento (15%). | N47: Incrementa el valor del contrato entre el quince (15%) y el treinta por ciento (30%). | P47: Impacto sobre el valor del contrato en más del treinta por ciento (30%).
C48: Catagoría | F48: Valoración | G48: Insignificante | I48: Menor | L48: Moderado | N48: Mayor | P48: Catastrófico
G49: 1 | I49: 2 | L49: 3 | N49: 4 | P49: 5
C50: Raro (puede ocurrir excepcionalmente) | F50: 1 | G50: 2 | I50: 3 | L50: 4 | N50: 5 | P50: 6
C51: Improbable (puede ocurrir ocasionalmente) | F51: 2 | G51: 3 | I51: 4 | L51: 5 | N51: 6 | P51: 7
C52: Posible (puede ocurrir en cualquier momento futuro) | F52: 3 | G52: 4 | I52: 5 | L52: 6 | N52: 7 | P52: 8
C53: Probable (probablemente va a ocurrir) | F53: 4 | G53: 5 | I53: 6 | L53: 7 | N53: 8 | P53: 9
C54: Casi cierto (ocurre en la mayoria de circunstancias) | F54: 5 | G54: 6 | I54: 7 | L54: 8 | N54: 9 | P54: 10

Sheet ASIGNACION Y TRATAMIENTO
C2: MATRIZ DE RIESGOS DE CONTRATACIÓN | W2: Código: GCO-GCI-F164 Versión: 02 Vigencia: 01 de diciembre de 2022 Caso HOLA: 280117
B6: =+EVALUACION!B6 -> OBJETO: “PRESTAR SERVICIOS PARA IMPLEMENTAR ESTRATEGIAS DE FORTALECIMIENTO Y DESARROLLO EMPRESARIAL, DIRIGIDAS A LAS MICRO, PEQUEÑAS Y MEDIANAS EMPRESAS (MIPYMES), EMPRENDI-MIENTOS Y ACTORES DE LA ECONOMÍA POPULAR Y/O INFORMAL Y DEL SECTOR TURÍSTICO DE LA LOCALIDAD DE CHAPINERO
B7: Esta matriz es un documento anexo del Estudio Previo
B10: No | C10: Descripción (Que puede pasar y, cómo puede ocurrir) | D10: Etapa | E10: Clase | F10: Fuente | G10: Consecuencias de la ocurrencia del evento | H10: Probabilidad | I10: Impacto | J10: Calificación total | K10: Prioridad | L10: ¿A quien se le asigna? | M10: % | N10: Tratamiento/Controles a ser implementados | O10: Probabilidad | P10: Impacto | Q10: Calificación total | R10: Prioridad | S10: ¿Afecta el equilibrio económico del contrato? | T10: Persona responsable por implementar el tratamiento | U10: Fecha estimada en que se inicia el tratamiento | V10: Fecha estimada en que se completa el tratamiento | W10: ¿Cómo se realiza el monitoreo | X10: Periodicidad ¿Cuándo?
B11: 1 | C11: =+'EVALUACION CON CONTROLES'!C16:F16 -> Errores en la formulación o los documentos del proceso por equivocacion, falta de exactitud o impresición de la información | D11: PLANEACIÓN | E11: =+'IDENTIFICACION Y ANALISIS'!D19 -> General | F11: =+'IDENTIFICACION Y ANALISIS'!E19 -> Interno | G11: =+EVALUACION!H9 -> Posible incumplimiento del contrato, necesidad de modificar alcance, actividades o presupuesto. | H11: =+EVALUACION!I9 -> 3 | I11: =+EVALUACION!J9 -> 2 | J11: =+EVALUACION!K9 -> 5 | K11: =+EVALUACION!L9 -> MEDIO | L11: =+'EVALUACION CON CONTROLES'!N16 -> FDLCH | M11: 100 | N11: =+'EVALUACION CON CONTROLES'!G16 -> Revisión detallada por parte del equipo técnico y jurídico del Fondo de Desarrollo Local de Chapinero, con validación previa por el comité de contratación antes de la publicación en SECOP II. | O11: =+'EVALUACION CON CONTROLES'!I16 -> 2 | P11: =+'EVALUACION CON CONTROLES'!J16 -> 2 | Q11: =+'EVALUACION CON CONTROLES'!K16 -> 4 | R11: =+'EVALUACION CON CONTROLES'!L16 -> BAJO | S11: =+'EVALUACION CON CONTROLES'!M16 -> NO | T11: =+'EVALUACION CON CONTROLES'!N16 -> FDLCH | U11: =+'EVALUACION CON CONTROLES'!O16 -> Durante la etapa precontractual | V11: =+'EVALUACION CON CONTROLES'!P16 -> Fecha en la que finaliza la etapa precontractual | ... X11: =+'EVALUACION CON CONTROLES'!R16 -> Etapa precontractual
B12: 2 | C12: =+'EVALUACION CON CONTROLES'!C17:F17 -> Declaratoria de Desierta del Proceso de Contratación, por la No Presentación de propuestas, debido a errores Involuntarios que hayan quedado en los Estudios Previos, Pliegos de Condiciones, Estudio de Sector y en general a cualquier documento que forme parte integral del mismo | D12: PLANEACIÓN | E12: =+'IDENTIFICACION Y ANALISIS'!D20 -> General | F12: =+'IDENTIFICACION Y ANALISIS'!E20 -> Interno | G12: =+EVALUACION!H10 -> Limitación de la pluralidad de oferentes, declaratoria de desierto del proceso, retraso en el cumplimiento de las metas del proyecto, necesidad de adelantar un nuevo proceso de selección y posible afectación de la ejecución de los recursos asignados a la vigencia. | H12: =+EVALUACION!I10 -> 1 | I12: =+EVALUACION!J10 -> 5 | J12: =+EVALUACION!K10 -> 6 | K12: =+EVALUACION!L10 -> ALTO | L12: =+'EVALUACION CON CONTROLES'!N17 -> FDLCH | M12: 100 | N12: =+'EVALUACION CON CONTROLES'!G17 -> Realizar revisión integral de los documentos del proceso por parte de los componentes técnico, jurídico, financiero y contractual antes de su publicación; efectuar validaciones de consistencia entre los diferentes documentos; atender oportunamente observaciones de los interesados; y realizar las aclaraciones o ajustes mediante adendas cuando resulte procedente. | O12: =+'EVALUACION CON CONTROLES'!I17 -> 1 | P12: =+'EVALUACION CON CONTROLES'!J17 -> 5 | Q12: =+'EVALUACION CON CONTROLES'!K17 -> 6 | R12: =+'EVALUACION CON CONTROLES'!L17 -> ALTO | S12: =+'EVALUACION CON CONTROLES'!M17 -> NO | T12: =+'EVALUACION CON CONTROLES'!N17 -> FDLCH | U12: =+'EVALUACION CON CONTROLES'!O17 -> Durante la etapa precontractual | V12: =+'EVALUACION CON CONTROLES'!P17 -> Fecha en la que finaliza la etapa precontractual | ... X12: =+'EVALUACION CON CONTROLES'!R17 -> Etapa precontractual
B13: 3 | C13: =+'EVALUACION CON CONTROLES'!C18:F18 -> Inadecuado análisis económico estimativo del valor del contrato | D13: PLANEACIÓN | E13: =VLOOKUP(C13,'IDENTIFICACION Y ANALISIS'!$B$21:$F$75,3,FALSE()) -> Especifico | F13: =VLOOKUP(C13,'IDENTIFICACION Y ANALISIS'!$B$21:$F$75,4,FALSE()) -> Interno | G13: =+EVALUACION!H11 -> Posible sobreestimación o subestimación del presupuesto oficial debido a variaciones no representativas en el estudio de mercado, generando afectación a la selección objetiva, la eficiencia del gasto público y la adecuada ejecución contractual. | H13: =+EVALUACION!I11 -> 3 | I13: =+EVALUACION!J11 -> 3 | J13: =+EVALUACION!K11 -> 6 | K13: =+EVALUACION!L11 -> ALTO | L13: =+'EVALUACION CON CONTROLES'!N18 -> FDLCH | M13: 100 | N13: =+'EVALUACION CON CONTROLES'!G18 -> Realizar estudio de mercado con análisis comparativo de cotizaciones, validación financiera de los valores obtenidos y revisión de posibles desviaciones o valores atípicos, garantizando que el presupuesto oficial se ajuste a las condiciones reales del mercado. | O13: =+'EVALUACION CON CONTROLES'!I18 -> 2 | P13: =+'EVALUACION CON CONTROLES'!J18 -> 3 | Q13: =+'EVALUACION CON CONTROLES'!K18 -> 5 | R13: =+'EVALUACION CON CONTROLES'!L18 -> MEDIO | S13: =+'EVALUACION CON CONTROLES'!M18 -> SI | T13: =+'EVALUACION CON CONTROLES'!N18 -> FDLCH | U13: =+'EVALUACION CON CONTROLES'!O18 -> Durante formulación | V13: =+'EVALUACION CON CONTROLES'!P18 -> Durante la etapa precontractual | ... X13: =+'EVALUACION CON CONTROLES'!R18 -> Mensual.
B14: 4 | C14: =+'EVALUACION CON CONTROLES'!C19:F19 -> Requisitos habilitantes que impidan la selección objetiva | D14: PLANEACIÓN | E14: =VLOOKUP(C14,'IDENTIFICACION Y ANALISIS'!$B$21:$F$75,3,FALSE()) -> Especifico | F14: =VLOOKUP(C14,'IDENTIFICACION Y ANALISIS'!$B$21:$F$75,4,FALSE()) -> Interno | G14: =+EVALUACION!H12 -> Restricción indebida a la pluralidad de oferentes por requisitos mal definidos o desproporcionados. | H14: =+EVALUACION!I12 -> 3 | I14: =+EVALUACION!J12 -> 2 | J14: =+EVALUACION!K12 -> 5 | K14: =+EVALUACION!L12 -> MEDIO | L14: =+'EVALUACION CON CONTROLES'!N19 -> FDLCH | M14: 100 | N14: =+'EVALUACION CON CONTROLES'!G19 -> Diseño de requisitos habilitantes proporcionales y justificados, con base en estudios previos, análisis de riesgos y estudio de sector. | O14: =+'EVALUACION CON CONTROLES'!I19 -> 2 | P14: =+'EVALUACION CON CONTROLES'!J19 -> 2 | Q14: =+'EVALUACION CON CONTROLES'!K19 -> 4 | R14: =+'EVALUACION CON CONTROLES'!L19 -> BAJO | S14: =+'EVALUACION CON CONTROLES'!M19 -> NO | T14: =+'EVALUACION CON CONTROLES'!N19 -> FDLCH | U14: =+'EVALUACION CON CONTROLES'!O19 -> Durante la etapa precontractual | V14: =+'EVALUACION CON CONTROLES'!P19 -> Durante la etapa precontractual | ... X14: =+'EVALUACION CON CONTROLES'!R19 -> Etapa precontractual
B15: 5 | C15: =+'EVALUACION CON CONTROLES'!C20:F20 -> Inadecuada evaluación de las ofertas y/o verificación de requisitos habilitantes | D15: =+'EVALUACION CON CONTROLES'!B20 -> SELECCIÓN | E15: =VLOOKUP(C15,'IDENTIFICACION Y ANALISIS'!$B$21:$F$75,3,FALSE()) -> Especifico | F15: =VLOOKUP(C15,'IDENTIFICACION Y ANALISIS'!$B$21:$F$75,4,FALSE()) -> Interno | G15: =+EVALUACION!H13 -> Retrasos en el cronograma por necesidad de aclaraciones, subsanaciones o reclamaciones. | H15: =+EVALUACION!I13 -> 2 | I15: =+EVALUACION!J13 -> 2 | J15: =+EVALUACION!K13 -> 4 | K15: =+EVALUACION!L13 -> BAJO | L15: =+'EVALUACION CON CONTROLES'!N20 -> FDLCH | M15: 100 | N15: =+'EVALUACION CON CONTROLES'!G20 -> Realizar la verificación integral de las ofertas y de los requisitos habilitantes conforme a las condiciones establecidas en los documentos del proceso, mediante revisión por parte del comité evaluador y aplicación de los criterios definidos para la evaluación, dejando constancia de los resultados y de las verificaciones efectuadas. | O15: =+'EVALUACION CON CONTROLES'!I20 -> 1 | P15: =+'EVALUACION CON CONTROLES'!J20 -> 2 | Q15: =+'EVALUACION CON CONTROLES'!K20 -> 3 | R15: =+'EVALUACION CON CONTROLES'!L20 -> BAJO | S15: =+'EVALUACION CON CONTROLES'!M20 -> NO | T15: =+'EVALUACION CON CONTROLES'!N20 -> FDLCH | U15: =+'EVALUACION CON CONTROLES'!O20 -> Durante evaluación | V15: =+'EVALUACION CON CONTROLES'!P20 -> Durante evaluación | ... X15: =+'EVALUACION CON CONTROLES'!R20 -> Durante evaluación
B16: 6 | C16: =+'EVALUACION CON CONTROLES'!C21:F21 -> Confabulación de los proponentes (Colusión) | D16: =+'EVALUACION CON CONTROLES'!B21 -> SELECCIÓN | E16: =VLOOKUP(C16,'IDENTIFICACION Y ANALISIS'!$B$21:$F$75,3,FALSE()) -> Especifico | F16: =VLOOKUP(C16,'IDENTIFICACION Y ANALISIS'!$B$21:$F$75,4,FALSE()) -> Externo | G16: =+EVALUACION!H14 -> Necesidad de declarar desierto o repetir el proceso; retrasos e impacto en la calidad de la contratación.. | H16: =+EVALUACION!I14 -> 2 | I16: =+EVALUACION!J14 -> 2 | J16: =+EVALUACION!K14 -> 4 | K16: =+EVALUACION!L14 -> BAJO | L16: =+'EVALUACION CON CONTROLES'!N21 -> FDLCH | M16: 100 | N16: =+'EVALUACION CON CONTROLES'!G21 -> Seguimiento continuo desde publicación hasta adjudicación y firma; plan de contingencia para segunda oferta elegible en caso de no aceptación. | O16: =+'EVALUACION CON CONTROLES'!I21 -> 1 | P16: =+'EVALUACION CON CONTROLES'!J21 -> 1 | Q16: =+'EVALUACION CON CONTROLES'!K21 -> 2 | R16: =+'EVALUACION CON CONTROLES'!L21 -> BAJO | S16: =+'EVALUACION CON CONTROLES'!M21 -> NO | T16: =+'EVALUACION CON CONTROLES'!N21 -> FDLCH | U16: =+'EVALUACION CON CONTROLES'!O21 -> Durante evaluación | V16: =+'EVALUACION CON CONTROLES'!P21 -> Durante evaluación | ... X16: =+'EVALUACION CON CONTROLES'!R21 -> Durante evaluación
B17: 7 | C17: =+'EVALUACION CON CONTROLES'!C22:F22 -> Contestación inoportuna a todas las observaciones formuladas a los documentos de la contratación | D17: =+'EVALUACION CON CONTROLES'!B22 -> SELECCIÓN | E17: =VLOOKUP(C17,'IDENTIFICACION Y ANALISIS'!$B$21:$F$75,3,FALSE()) -> Especifico | F17: =VLOOKUP(C17,'IDENTIFICACION Y ANALISIS'!$B$21:$F$75,4,FALSE()) -> Interno | G17: =+EVALUACION!H15 -> Posibilidad de reclamaciones, pérdida de transparencia, y afectación de la confianza del proceso. | H17: =+EVALUACION!I15 -> 1 | I17: =+EVALUACION!J15 -> 2 | J17: =+EVALUACION!K15 -> 3 | K17: =+EVALUACION!L15 -> BAJO | L17: =+'EVALUACION CON CONTROLES'!N22 -> FDLCH | M17: 100 | N17: =+'EVALUACION CON CONTROLES'!G22 -> Realizar seguimiento continuo al cronograma del proceso y a las publicaciones efectuadas en SECOP II por parte de las áreas responsables de la estructuración, el comité evaluador y demás actores que intervengan en el proceso, verificando oportunamente los plazos establecidos para la recepción, análisis y respuesta de las observaciones. | O17: =+'EVALUACION CON CONTROLES'!I22 -> 1 | P17: =+'EVALUACION CON CONTROLES'!J22 -> 2 | Q17: =+'EVALUACION CON CONTROLES'!K22 -> 3 | R17: =+'EVALUACION CON CONTROLES'!L22 -> BAJO | S17: =+'EVALUACION CON CONTROLES'!M22 -> NO | T17: =+'EVALUACION CON CONTROLES'!N22 -> FDLCH | U17: =+'EVALUACION CON CONTROLES'!O22 -> Durante publicación | V17: =+'EVALUACION CON CONTROLES'!P22 -> Antes del cierre | ... X17: =+'EVALUACION CON CONTROLES'!R22 -> Durante etapa de observaciones
B18: 8 | C18: =+'EVALUACION CON CONTROLES'!C23:F23 -> Riesgo de que no se firme el contrato. | D18: =+'EVALUACION CON CONTROLES'!B23 -> CONTRATACIÓN | E18: =VLOOKUP(C18,'IDENTIFICACION Y ANALISIS'!$B$21:$F$75,3,FALSE()) -> Especifico | F18: =VLOOKUP(C18,'IDENTIFICACION Y ANALISIS'!$B$21:$F$75,4,FALSE()) -> Externo | G18: =+EVALUACION!H16 -> Imposibilidad de dar continuidad a la necesidad; riesgo de pérdida de oportunidad para la ejecución del proyecto. | H18: =+EVALUACION!I16 -> 3 | I18: =+EVALUACION!J16 -> 3 | J18: =+EVALUACION!K16 -> 6 | K18: =+EVALUACION!L16 -> ALTO | L18: =+'EVALUACION CON CONTROLES'!N23 -> FDLCH | M18: 100 | N18: =+'EVALUACION CON CONTROLES'!G23 -> Exigir al proponente la constitución y presentación de la garantía de seriedad de la oferta, cuando sea exigible, en los términos y condiciones establecidos en los documentos del proceso, verificando su vigencia, suficiencia y cumplimiento de los requisitos previstos. | O18: =+'EVALUACION CON CONTROLES'!I23 -> 2 | P18: =+'EVALUACION CON CONTROLES'!J23 -> 3 | Q18: =+'EVALUACION CON CONTROLES'!K23 -> 5 | R18: =+'EVALUACION CON CONTROLES'!L23 -> MEDIO | S18: =+'EVALUACION CON CONTROLES'!M23 -> NO | T18: =+'EVALUACION CON CONTROLES'!N23 -> FDLCH | U18: =+'EVALUACION CON CONTROLES'!O23 -> Tras adjudicación | V18: =+'EVALUACION CON CONTROLES'!P23 -> Previo a la ejecución | ... X18: =+'EVALUACION CON CONTROLES'!R23 -> Mensual.
B19: 9 | C19: =+'EVALUACION CON CONTROLES'!C24:F24 -> Presentación de reclamos de terceros sobre la selección del oferente que retrasen el perfeccionamiento del contrato. | D19: =+'EVALUACION CON CONTROLES'!B24 -> CONTRATACIÓN | E19: =VLOOKUP(C19,'IDENTIFICACION Y ANALISIS'!$B$21:$F$75,3,FALSE()) -> Especifico | F19: =VLOOKUP(C19,'IDENTIFICACION Y ANALISIS'!$B$21:$F$75,4,FALSE()) -> Externo | G19: =+EVALUACION!H17 -> Demora en el inicio del contrato y en la ejecución de actividades; impacto en el cumplimiento de metas. | H19: =+EVALUACION!I17 -> 2 | I19: =+EVALUACION!J17 -> 4 | J19: =+EVALUACION!K17 -> 6 | K19: =+EVALUACION!L17 -> ALTO | L19: =+'EVALUACION CON CONTROLES'!N24 -> FDLCH | M19: 100 | N19: =+'EVALUACION CON CONTROLES'!G24 -> Valoración jurídica anticipada de los riesgos, socialización de resultados del proceso y publicación clara de evaluaciones para mitigar reclamaciones. | O19: =+'EVALUACION CON CONTROLES'!I24 -> 1 | P19: =+'EVALUACION CON CONTROLES'!J24 -> 4 | Q19: =+'EVALUACION CON CONTROLES'!K24 -> 5 | R19: =+'EVALUACION CON CONTROLES'!L24 -> MEDIO | S19: =+'EVALUACION CON CONTROLES'!M24 -> NO | T19: =+'EVALUACION CON CONTROLES'!N24 -> FDLCH | U19: =+'EVALUACION CON CONTROLES'!O24 -> Durante adjudicación | V19: =+'EVALUACION CON CONTROLES'!P24 -> Antes de firma | ... X19: =+'EVALUACION CON CONTROLES'!R24 -> Durante adjudicación
B20: 10 | C20: =+'EVALUACION CON CONTROLES'!C25:F25 -> Falta de constitución o constitución tardía de la garantía única. Aceptación de garantías que no se ajustan a lo contemplado en el contrato | D20: =+'EVALUACION CON CONTROLES'!B25 -> CONTRATACIÓN | E20: =VLOOKUP(C20,'IDENTIFICACION Y ANALISIS'!$B$21:$F$75,3,FALSE()) -> Especifico | F20: =VLOOKUP(C20,'IDENTIFICACION Y ANALISIS'!$B$21:$F$75,4,FALSE()) -> Externo | G20: =+EVALUACION!H18 -> Riesgo de afectación patrimonial para la entidad debido a la inexistencia, constitución tardía o aceptación de garantías que no cumplen las condiciones contractuales exigidas, limitando la posibilidad de hacer efectivas las coberturas ante incumplimientos del contratista. | H20: =+EVALUACION!I18 -> 3 | I20: =+EVALUACION!J18 -> 2 | J20: =+EVALUACION!K18 -> 5 | K20: =+EVALUACION!L18 -> MEDIO | L20: =+'EVALUACION CON CONTROLES'!N25 -> FDLCH | M20: 100 | N20: =+'EVALUACION CON CONTROLES'!G25 -> Verificación jurídica y contractual previa de las garantías presentadas por el contratista, validando su vigencia, suficiencia, amparos, valores asegurados y cumplimiento de las condiciones establecidas en el contrato antes de la suscripción del acta de inicio. | O20: =+'EVALUACION CON CONTROLES'!I25 -> 2 | P20: =+'EVALUACION CON CONTROLES'!J25 -> 2 | Q20: =+'EVALUACION CON CONTROLES'!K25 -> 4 | R20: =+'EVALUACION CON CONTROLES'!L25 -> BAJO | S20: =+'EVALUACION CON CONTROLES'!M25 -> NO | T20: =+'EVALUACION CON CONTROLES'!N25 -> FDLCH | U20: =+'EVALUACION CON CONTROLES'!O25 -> Durante etapa precontractual | V20: =+'EVALUACION CON CONTROLES'!P25 -> Previo a la firma | ... X20: =+'EVALUACION CON CONTROLES'!R25 -> Etapa contractual
B21: 11 | C21: =+'EVALUACION CON CONTROLES'!C26:F26 -> Variación de los precios del mercado | D21: =+'EVALUACION CON CONTROLES'!B26 -> EJECUCIÓN | E21: =VLOOKUP(C21,'IDENTIFICACION Y ANALISIS'!$B$21:$F$75,3,FALSE()) -> General | F21: =VLOOKUP(C21,'IDENTIFICACION Y ANALISIS'!$B$21:$F$75,4,FALSE()) -> Externo | G21: =+EVALUACION!H19 -> Incremento de los costos de ejecución y afectación de la planeación financiera del contratista. | H21: =+EVALUACION!I19 -> 3 | I21: =+EVALUACION!J19 -> 3 | J21: =+EVALUACION!K19 -> 6 | K21: =+EVALUACION!L19 -> ALTO | L21: =+'EVALUACION CON CONTROLES'!N26 -> FDLCH / Jurídica | M21: 50/50 | N21: =+'EVALUACION CON CONTROLES'!G26 -> Planeación adecuada de compras, gestión de proveedores y administración eficiente de los recursos asignados al contrato. | O21: =+'EVALUACION CON CONTROLES'!I26 -> 2 | P21: =+'EVALUACION CON CONTROLES'!J26 -> 3 | Q21: =+'EVALUACION CON CONTROLES'!K26 -> 5 | R21: =+'EVALUACION CON CONTROLES'!L26 -> MEDIO | S21: =+'EVALUACION CON CONTROLES'!M26 -> SI | T21: =+'EVALUACION CON CONTROLES'!N26 -> FDLCH / Jurídica | U21: =+'EVALUACION CON CONTROLES'!O26 -> Inicio de ejecución | V21: =+'EVALUACION CON CONTROLES'!P26 -> Durante ejecución | ... X21: =+'EVALUACION CON CONTROLES'!R26 -> Mensual.
B22: 12 | C22: =+'EVALUACION CON CONTROLES'!C27:F27 -> Imposición de nuevos tributos | D22: =+'EVALUACION CON CONTROLES'!B27 -> EJECUCIÓN | E22: =VLOOKUP(C22,'IDENTIFICACION Y ANALISIS'!$B$21:$F$75,3,FALSE()) -> Estatal | F22: =VLOOKUP(C22,'IDENTIFICACION Y ANALISIS'!$B$21:$F$75,4,FALSE()) -> Externo | G22: =+EVALUACION!H20 -> Incremento de los costos de ejecución y afectación de la planeación financiera del contratista. | H22: =+EVALUACION!I20 -> 2 | I22: =+EVALUACION!J20 -> 2 | J22: =+EVALUACION!K20 -> 4 | K22: =+EVALUACION!L20 -> BAJO | L22: =+'EVALUACION CON CONTROLES'!N27 -> FDLCH / Jurídica | M22: 50/50 | N22: =+'EVALUACION CON CONTROLES'!G27 -> Seguimiento normativo por parte del supervisor y ajustes presupuestales si hay lugar, previa validación jurídica. | O22: =+'EVALUACION CON CONTROLES'!I27 -> 1 | P22: =+'EVALUACION CON CONTROLES'!J27 -> 2 | Q22: =+'EVALUACION CON CONTROLES'!K27 -> 3 | R22: =+'EVALUACION CON CONTROLES'!L27 -> BAJO | S22: =+'EVALUACION CON CONTROLES'!M27 -> SI | T22: =+'EVALUACION CON CONTROLES'!N27 -> FDLCH / Jurídica | U22: =+'EVALUACION CON CONTROLES'!O27 -> Durante ejecución | V22: =+'EVALUACION CON CONTROLES'!P27 -> Durante ejecución | ... X22: =+'EVALUACION CON CONTROLES'!R27 -> Mensual.
B23: 13 | C23: =+'EVALUACION CON CONTROLES'!C28:F28 -> Incumplimiento de compromisos adquiridos por el contratista seleccionado con sus subcontratistas, suministradores de bienes y servicios. | D23: =+'EVALUACION CON CONTROLES'!B28 -> EJECUCIÓN | E23: =VLOOKUP(C23,'IDENTIFICACION Y ANALISIS'!$B$21:$F$75,3,FALSE()) -> General | F23: =VLOOKUP(C23,'IDENTIFICACION Y ANALISIS'!$B$21:$F$75,4,FALSE()) -> Externo | G23: =+EVALUACION!H21 -> Afectación operativa, técnica y económica del contrato derivado del incumplimiento de compromisos entre el contratista y sus proveedores o subcontratistas, ocasionando posibles retrasos, desabastecimiento, incumplimiento de obligaciones y afectación en la calidad de los bienes o servicios contratados. | H23: =+EVALUACION!I21 -> 3 | I23: =+EVALUACION!J21 -> 3 | J23: =+EVALUACION!K21 -> 6 | K23: =+EVALUACION!L21 -> ALTO | L23: =+'EVALUACION CON CONTROLES'!N28 -> Contratista | M23: 100 | N23: =+'EVALUACION CON CONTROLES'!G28 -> Implementar seguimiento técnico y administrativo a la ejecución contractual, exigiendo al contratista garantizar la adecuada gestión de sus proveedores y subcontratistas, así como la disponibilidad oportuna de los bienes y servicios necesarios para el cumplimiento del contrato. | O23: =+'EVALUACION CON CONTROLES'!I28 -> 2 | P23: =+'EVALUACION CON CONTROLES'!J28 -> 3 | Q23: =+'EVALUACION CON CONTROLES'!K28 -> 5 | R23: =+'EVALUACION CON CONTROLES'!L28 -> MEDIO | S23: =+'EVALUACION CON CONTROLES'!M28 -> NO | T23: =+'EVALUACION CON CONTROLES'!N28 -> Contratista | U23: =+'EVALUACION CON CONTROLES'!O28 -> Desde ejecución | V23: =+'EVALUACION CON CONTROLES'!P28 -> Durante ejecución | ... X23: =+'EVALUACION CON CONTROLES'!R28 -> Mensual.
B24: 14 | C24: =+'EVALUACION CON CONTROLES'!C29:F29 -> Calidad del Servicio | D24: =+'EVALUACION CON CONTROLES'!B29 -> EJECUCIÓN | E24: =VLOOKUP(C24,'IDENTIFICACION Y ANALISIS'!$B$21:$F$75,3,FALSE()) -> General | F24: =VLOOKUP(C24,'IDENTIFICACION Y ANALISIS'!$B$21:$F$75,4,FALSE()) -> Externo | G24: =+EVALUACION!H22 -> Incumplimiento de las obligaciones contractuales, afectación de la calidad de las actividades desarrolladas, insatisfacción de los beneficiarios y posible afectación en el cumplimiento de las metas del proyecto | H24: =+EVALUACION!I22 -> 3 | I24: =+EVALUACION!J22 -> 3 | J24: =+EVALUACION!K22 -> 6 | K24: =+EVALUACION!L22 -> ALTO | L24: =+'EVALUACION CON CONTROLES'!N29 -> Contratista | M24: 100 | N24: =+'EVALUACION CON CONTROLES'!G29 -> Supervisión permanente, seguimiento a indicadores de gestión y verificación del cumplimiento de las obligaciones contractuales. | O24: =+'EVALUACION CON CONTROLES'!I29 -> 2 | P24: =+'EVALUACION CON CONTROLES'!J29 -> 3 | Q24: =+'EVALUACION CON CONTROLES'!K29 -> 5 | R24: =+'EVALUACION CON CONTROLES'!L29 -> MEDIO | S24: =+'EVALUACION CON CONTROLES'!M29 -> NO | T24: =+'EVALUACION CON CONTROLES'!N29 -> Contratista | U24: =+'EVALUACION CON CONTROLES'!O29 -> Durante ejecución | V24: =+'EVALUACION CON CONTROLES'!P29 -> Durante entrega | ... X24: =+'EVALUACION CON CONTROLES'!R29 -> Mensual.
B25: 15 | C25: =+'EVALUACION CON CONTROLES'!C30:F30 -> Demora en la entrega del producto | D25: =+'EVALUACION CON CONTROLES'!B30 -> EJECUCIÓN | E25: =VLOOKUP(C25,'IDENTIFICACION Y ANALISIS'!$B$21:$F$75,3,FALSE()) -> General | F25: =VLOOKUP(C25,'IDENTIFICACION Y ANALISIS'!$B$21:$F$75,4,FALSE()) -> Externo | G25: =+EVALUACION!H23 -> Retrasos en el cumplimiento de metas; incumplimiento de indicadores y cronograma. | H25: =+EVALUACION!I23 -> 2 | I25: =+EVALUACION!J23 -> 2 | J25: =+EVALUACION!K23 -> 4 | K25: =+EVALUACION!L23 -> BAJO | L25: =+'EVALUACION CON CONTROLES'!N30 -> Contratista | M25: 100 | N25: =+'EVALUACION CON CONTROLES'!G30 -> Control de entregas por cronograma, seguimiento desde el acta de inicio y plan de acción con supervisión y apoyo financiero si aplica. | O25: =+'EVALUACION CON CONTROLES'!I30 -> 1 | P25: =+'EVALUACION CON CONTROLES'!J30 -> 1 | Q25: =+'EVALUACION CON CONTROLES'!K30 -> 2 | R25: =+'EVALUACION CON CONTROLES'!L30 -> BAJO | S25: =+'EVALUACION CON CONTROLES'!M30 -> NO | T25: =+'EVALUACION CON CONTROLES'!N30 -> Contratista | U25: =+'EVALUACION CON CONTROLES'!O30 -> Desde acta de inicio | V25: =+'EVALUACION CON CONTROLES'!P30 -> Hasta entrega final | ... X25: =+'EVALUACION CON CONTROLES'!R30 -> Mensual
