Workbook
Name \a: #REF!
Name \a: #REF!
Name \L: #REF!
Name \L: #REF!
Name \P: #REF!
Name \P: #REF!
Name _______cua1: #REF!
Name _______DMD1: #REF!
Name _______DMD1: #REF!
Name _______VPD1: #REF!
Name _______VPI1: #REF!
Name _______VRA1: #REF!
Name ______cua1: #REF!
Name ______DMD1: #REF!
Name ______DMD1: #REF!
Name ______INF1: #REF!
Name ______INF1: #REF!
Name ______VPD1: #REF!
Name ______VPI1: #REF!
Name ______VRA1: #REF!
Name _____cua1: #REF!
Name _____DMD1: #REF!
Name _____DMD1: #REF!
Name _____VPD1: #REF!
Name _____VPI1: #REF!
Name _____VRA1: #REF!
Name ____cua1: #REF!
Name ____DMD1: #REF!
Name ____DMD1: #REF!
Name ____VPD1: #REF!
Name ____VPI1: #REF!
Name ____VRA1: #REF!
Name ___AFC1: #REF!
Name ___AFC3: #REF!
Name ___AFC5: #REF!
Name ___BGC1: #REF!
Name ___BGC3: #REF!
Name ___BGC5: #REF!
Name ___CAC1: #REF!
Name ___CAC3: #REF!
Name ___CAC5: #REF!
Name ___Cod1: #REF!
Name ___Cod1: #REF!
Name ___cua1: #REF!
Name ___DMD1: #REF!
Name ___DMD1: #REF!
Name ___f: #REF!
Name ___INF1: #REF!
Name ___INF1: #REF!
Name ___MA2: #REF!
Name ___MA2: #REF!
Name ___MSC1: #REF!
Name ___MSC1: #REF!
Name ___SBC1: #REF!
Name ___SBC3: #REF!
Name ___SBC5: #REF!
Name ___VPD1: #REF!
Name ___VPI1: #REF!
Name ___VRA1: #REF!
Name __2008_Database: #REF!

Sheet PRESUPUESTO GENERAL
A2: RESTAURACIÓN DE LOS BOSQUES DE GALERÍA DEL CAÑO BUGRE DESDE EL BARRIO CARACAS AL CORREGIMIENTO RABOLARGO EN EL MUNICIPIO DE CERETÉ - DEPARTAMENTO DE CÓRDOBA
A3: ARREGLO PREVISTO | C3: PLANTACIONES PROTECTORAS
A5: METAS TOTALES DEL PROYECTO | C5: NÚMERO DE HECTAREAS A REFORESTAR | F5: 2
C6: AISLAMIENTOS TOTALES EN KM | F6: 6
A7: ITEM | B7: ACTIVIDAD | C7: Unidad | D7: Cant. | E7: V. Unitario | F7: V. Parcial
A8: 1 | B8: ADECUACIÓN DE TERRENO Y ESTABLECIMINETO DE PLANTACIONES PROTECTORAS. | C8: Ha | D8: 2 | E8: ='APU ESTABLECIMIENTO'!AA63 -> 47430600 | F8: =ROUND(E8*D8,0) -> 94861200 | H8: =+F8*G8 -> 0
A9: 2 | B9: REALIZAR AISLAMIENTO DE PLANTACIONES PROTECTORAS | C9: KM | D9: 6 | E9: ='APU AISLAMIENTO'!F60 -> 8033655.7 | F9: =ROUND(E9*D9,0) -> 48201934 | H9: =+F9*G9 -> 0
A10: 3 | B10: REALIZAR MANTENIMIENTO DE PLANTACIONES PROTECTORAS | C10: Ha | D10: =D8 -> 2 | E10: ='APU MANTENIMIENTO'!AA61 -> 7037676.8 | F10: =ROUND(E10*D10,0) -> 14075354 | H10: =+F10*G10 -> 0
A11: 4 | B11: CAPACITACIONES | C11: Taller | D11: 5 | E11: 2623890.5 | F11: =ROUND(E11*D11,0) -> 13119453
A12: 5 | B12: ASISTENCIA TECNICA | C12: Global | D12: 1 | E12: =F12/2 -> 9700000 | F12: ='ASISTENCIA TECNICA'!G22 -> 19400000
B13: SUBTOTAL COSTOS DIRECTOS | F13: =SUM(F8:F12) -> 189657941
B17: ADMINISTRACIÓN | C17: 0.23 | F17: =ROUND(F13*C17,0) -> 43621326
B18: IMPREVISTOS | C18: 0.02 | F18: =ROUND(F13*C18,0) -> 3793159
B19: UTILIDAD | C19: 0.05 | F19: =ROUND(F13*C19,0) -> 9482897
B20: SUBTOTAL COSTOS INDIRECTOS | F20: =SUM(F17:F19) -> 56897382
B21: PLAN DE GESTION INTEGRAL DE OBRA | F21: =PGIO!G21 -> 707900
B22: COSTO DIRECTOS + INDEIRECTOS | F22: =F13+F20+F21 -> 247263223
B26: TOTAL COSTO DEL PROYECTO | F26: =F22 -> 247263223
B33: JORGE ABRAHAM ASSIS BURGOS
B34: SECRETARIO DE PLANEACION (E)

Sheet APU ESTABLECIMIENTO
C2: COSTOS DE ESTABLECIMIENTO | F2: Versión: | J2: COSTOS DE ESTABLECIMIENTO | M2: =+F2 -> Versión: | Q2: =+J2 -> COSTOS DE ESTABLECIMIENTO | T2: =+M2 -> Versión: | X2: COSTOS DE ESTABLECIMIENTO | AA2: =+T2 -> Versión: | AD2: =+#REF! -> #REF! | AG2: =+#REF! -> #REF! | AK2: =+AD2 -> #REF! | AO2: =+AG2 -> #REF! | AS2: =+AL2 -> 0 | AW2: =+AO2 -> #REF!
C4: FONAM | F4: Última actualización: 6/09/2020 | J4: FONAM | M4: =+F4 -> Última actualización: 6/09/2020 | T4: =+M4 -> Última actualización: 6/09/2020 | AA4: =+T4 -> Última actualización: 6/09/2020 | AG4: =+#REF! -> #REF! | AK4: FONAM | AO4: =+AG4 -> #REF! | AW4: =+AO4 -> #REF!
B6: COSTO DE ESTABLECIMIENTO | I6: =+B6 -> COSTO DE ESTABLECIMIENTO | P6: =+I6 -> COSTO DE ESTABLECIMIENTO | W6: =+P6 -> COSTO DE ESTABLECIMIENTO | AC6: =+#REF! -> #REF! | AJ6: COSTO AISLAMIENTO INCLUYENDO MATERIAL VEGETAL | AR6: COSTO CONSERVACIÓN DE BOSQUE NATURAL - AISLAMIENTO
B7: SISTEMA A IMPLEMENTAR: | C7: Plantación de Material Vegetal en sistema tradicional | I7: =+B7 -> SISTEMA A IMPLEMENTAR: | J7: Plantación de Material Vegetal al azar o por núcleos | P7: =+I7 -> SISTEMA A IMPLEMENTAR: | Q7: 0 | W7: =+P7 -> SISTEMA A IMPLEMENTAR: | X7: Reforestación protectora (Bosque de Galeria) | AC7: =+#REF! -> #REF! | AD7: 0 | AJ7: =+AC7 -> #REF! | AK7: Aislamiento con material vegetal | AR7: =+AK7 -> Aislamiento con material vegetal | AS7: =+AK7 -> Aislamiento con material vegetal
B8: Entidad Formuladora | C8: CARDIQUE | I8: =+B8 -> Entidad Formuladora | J8: =+C8 -> CARDIQUE | P8: CORPORACIÓN / AAU: | Q8: =+J8 -> CARDIQUE | W8: =+B8 -> Entidad Formuladora | X8: ALCALDIA DE CERETE | AC8: CORPORACIÓN / AAU: | AD8: =+#REF! -> #REF! | AJ8: =+B8 -> Entidad Formuladora | AK8: =+AD8 -> #REF! | AR8: =+B8 -> Entidad Formuladora | AS8: =+AK8 -> #REF!
B9: NOMBRE DEL PROYECTO: | C9: REHABILITACIÓN ECOLÓGICA DE ÁREAS AFECTADAS POR LA ACTIVIDAD GANADERA EN LOS MUNICIPIOS DE SAN JACINTO Y EL CARMEN DE BOLÍVAR - DEPARTAMENTO DE BOLÍVAR | I9: NOMBRE DEL PROYECTO: | J9: =+C9 -> REHABILITACIÓN ECOLÓGICA DE ÁREAS AFECTADAS POR LA ACTIVIDAD GANADERA EN LOS MUNICIPIOS DE SAN JACINTO Y EL CARMEN DE BOLÍVAR - DEPARTAMENTO DE BOLÍVAR | P9: NOMBRE DEL PROYECTO: | Q9: =+J9 -> REHABILITACIÓN ECOLÓGICA DE ÁREAS AFECTADAS POR LA ACTIVIDAD GANADERA EN LOS MUNICIPIOS DE SAN JACINTO Y EL CARMEN DE BOLÍVAR - DEPARTAMENTO DE BOLÍVAR | W9: NOMBRE DEL PROYECTO: | X9: RESTAURACIÓN DE LOS BOSQUES DE GALERÍA DEL CAÑO BUGRE DESDE EL BARRIO CARACAS AL CORREGIMIENTO RABOLARGO EN EL MUNICIPIO DE CERETÉ - DEPARTAMENTO DE CÓRDOBA | AC9: NOMBRE DEL PROYECTO: | AD9: =+#REF! -> #REF! | AJ9: NOMBRE DEL PROYECTO: | AK9: =+AD9 -> #REF! | AR9: NOMBRE DEL PROYECTO: | AS9: =+AK9 -> #REF!
B11: DISEÑO DE PLANTACION: | D11: Cuadro | E11: x | F11: Tresbolillo | I11: DISEÑO DE PLANTACION: | K11: Aleatorio | L11: X | P11: DISEÑO DE PLANTACION: | R11: Cuadro | T11: Tresbolillo | W11: DISEÑO DE PLANTACION: | Y11: TRESBOLILLO | AB11: X | AC11: DISEÑO DE PLANTACION: | AE11: Aleatorio | AF11: X | AJ11: DISEÑO DE AISLAMIENTO | AM11: Costo Unitario $ | AR11: DISEÑO DE AISLAMIENTO | AU11: Costo Unitario $
B13: 1. Distancias de Siembra (mts) | C13: 3 | D13: 3 | E13: Costo Unitario $ | L13: Costo Unitario $ | P13: 1. Distancias de Siembra (mts) | Q13: 0 | R13: 0 | S13: Costo Unitario $ | W13: 1. Distancias de Siembra (mts) | X13: 2.5 | Y13: 2.5 | Z13: Costo Unitario ($) | AF13: Costo Unitario $ | AJ13: 1. Distancia entre postes mts. | AL13: 3 | AR13: 1. Distancia entre postes mts.
B14: 2. Número de Plántulas por Ha | D14: =((IF(E11="x",(10000/(C13*D13)),IF(G11="x",(10000*1.15/(C13*D13)),0)))) -> 1111.1111 | E14: 2300 | I14: 1. Número de Plántulas Arbóreas por Ha | K14: 800 | L14: 2300 | M14: =K14*L14 -> 1840000 | P14: 2. Número de Plántulas por Ha | R14: =((IF(S11="x",(10000/(Q13*R13)),IF(U11="x",(10000*1.15/(Q13*R13)),0)))) -> 0 | S14: 0 | W14: 2. Número de Plántulas por Ha | Y14: 1847 | Z14: 15850 | AC14: 1. Número de Plántulas Arboreas por Ha | AE14: 0 | AF14: 0 | AG14: =AE14*AF14 -> 0 | AJ14: 2. Distancia pie amigos mts. | AL14: 30 | AR14: 2. Distancia pie amigos mts.
B15: 3. Porcentaje de reposición % | D15: 0.1 | I15: 2. Número de Plántulas Arbustivas por Ha | K15: 200 | L15: 2000 | M15: =K15*L15 -> 400000 | P15: 3. Porcentaje de reposición % | R15: 0.1 | W15: 3. Porcentaje de reposición % | Y15: 0.1 | Z15: 15850 | AC15: Número de Plántulas Arbustivas por Ha | AE15: 0 | AF15: 0 | AG15: =AE15*AF15 -> 0 | AJ15: 3. Hilos alambre | AL15: 3 | AR15: 3. Hilos alambre
B16: 4. Cantidad de Fertilizantes / Arbol (gr.) | C16: 15-15-15 | D16: 80 | E16: 2000 | I16: 3. Número de Plántulas Herbaceas por Ha | K16: 111 | L16: 1000 | M16: =K16*L16 -> 111000 | P16: 4. Cantidad de Fertilizantes / Arbol (gr.) | R16: 0 | S16: 0 | W16: 4. Cantidad de Fertilizantes / Arbol (gr.) | X16: 15-15-15 | Y16: 50 | Z16: ='COTIZACIÓN 1'!N5 -> 0 | AC16: 2. Porcentaje de reposición % | AE16: 0.1 | AJ16: 4. # Postes/KM | AL16: =+IF(AL13=0,0,1000/AL13) -> 333.33333 | AM16: 15000 | AR16: 4. # Postes/KM | AT16: =+IF(AT13=0,0,1000/AT13) -> 0
B17: 5. Cantidad de Hidroretenedor / Árbol (gr.) | I17: 2. Porcentaje de reposición % | K17: 0.1 | P17: 5. Cantidad de Hidroretenedor / Árbol (gr.) | R17: 0 | S17: 0 | W17: 5. Cantidad de Hidroretenedor / Árbol (gr.) | AC17: 3. Cantidad de Fertilizantes / Arbol (gr.) | AE17: 0 | AF17: 0 | AJ17: 5. # Postes Piamigo/KM | AL17: =+IF(AL14=0,0,1000/AL14) -> 33.333333 | AM17: 15000 | AR17: 5. # Postes Piamigo/KM | AT17: =+IF(AT14=0,0,1000/AT14) -> 0
B18: 6. Cantidad de Correctivos / Arbol (gr.) | C18: Cal dolomita | D18: 150 | E18: 300 | I18: 3. Cantidad de Fertilizantes / Arbol (gr.) | J18: 15-15-15 | K18: 80 | L18: 2000 | P18: 6. Cantidad de Correctivos / Arbol (gr.) | R18: 0 | S18: 0 | W18: 6. Cantidad de Correctivos / Arbol (gr.) | X18: Cal dolomita | Y18: 200 | Z18: ='COTIZACIÓN 1'!N12 -> 0 | AC18: 4. Cantidad de Hidroretenedor / Árbol (gr.) | AE18: 0 | AF18: 0 | AI18: =+(AL15*1000)/AP56 -> 8.5714286 | AJ18: 6. Rollos alambre/KM | AL18: =+ROUND(AI18,0) -> 9 | AM18: 150000 | AR18: 6. Rollos alambre/KM | AT18: =+ROUND(AQ18,0) -> 0
B19: 7. Cantidad de Microelementos / Arbol (gr.) | C19: Boro natural | D19: 3 | E19: 30000 | I19: 4. Cantidad de Hidroretenedor / Árbol (gr.) | P19: 7. Cantidad de Abono Orgánico / Arbol (gr.) | R19: 0 | S19: 0 | W19: 7. Cantidad de Microelementos / Arbol (gr.) | X19: Boro natural | Y19: 5 | Z19: ='COTIZACIÓN 1'!N7 -> 0 | AC19: 5. Cantidad de Correctivos / Arbol (gr.) | AE19: 0 | AF19: 0 | AI19: =+(AL16*AL15)/AP58 -> 6.6666667 | AJ19: 7. Grapas/km en kg. | AL19: =+ROUND(AI19,0) -> 7 | AM19: 8000 | AR19: 7. Grapas/km en kg. | AT19: =+ROUND(AQ19,0) -> 0
B20: 8. Cantidad de Insecticida / Ha (Kg - Lt.) | C20: Lorsban polvo | D20: 2 | E20: 8000 | I20: 5. Cantidad de Correctivos / Arbol (gr.) | J20: Cal dolomita | K20: 150 | L20: 300 | P20: 8. Cantidad de Insecticida / Ha (Kg - Lt.) | R20: 0 | S20: 0 | W20: 8. Cantidad de Insecticida / Ha (Kg - Lt.) | X20: Lorsban polvo | Y20: 2 | Z20: ='COTIZACIÓN 1'!N13 -> 0 | AC20: 6. Cantidad de Microelementos / Arbol (gr.) | AE20: 0 | AF20: 0 | AJ20: 8. MV para cerco vivo (árboles/estacas) con reposición | AL20: =+AL16+(AL16*AP61) -> 366.66667 | AR20: 8. MV para cerco vivo (árboles/estacas) con reposición | AT20: =+AT16+(AT16*AX61) -> 0 | AU20: 0
B21: 9. Costo por Jornal | E21: 53118 | I21: 6. Cantidad de Microelementos / Arbol (gr.) | J21: Boro natural | K21: 3 | L21: 30000 | P21: 9. Costo por Jornal | S21: 0 | W21: 9. Costo por Jornal | Z21: 75000 | AC21: 7. Cantidad de Insecticida / Ha (Kg - Lt.) | AE21: 0 | AF21: 0 | AJ21: 9. Insumo 1 Fertilizante (g/ árbol). | AK21: 15-15-15 | AM21: 2000 | AR21: 9. Insumo 1 Fertilizante (g/ árbol). | AT21: 0 | AU21: 0
B22: 10. Herramientas (2% de la MO) | D22: 0.02 | I22: 7. Cantidad de Insecticida / Ha (Kg - Lt.) | J22: Lorsban polvo | K22: 2 | L22: 8000 | P22: 10. Herramientas (2% de la MO) | R22: 0.02 | W22: 10. Herramientas (5% de la MO) | Y22: 0.05 | AC22: 8. Costo por Jornal | AF22: 0 | AJ22: 10. Insumo 2 Microelementos (g/ árbol). | AK22: Boro natural | AM22: 30000 | AR22: 10. Insumo 2 Microelementos (g/ árbol). | AT22: 0 | AU22: 0
B23: 11. Transporte Insumos ( % de Insumos) | D23: 0.1 | I23: 8. Costo por Jornal | L23: 53118 | P23: 11. Transporte Insumos ( % de Insumos) | R23: 0.1 | W23: 11. Transporte Insumos ( % de Insumos) | Y23: 0.15 | AC23: 9. Herramientas (2% de la MO) | AE23: 0.02 | AJ23: 11. Costo por Jornal | AM23: 53118 | AR23: 11. Costo por Jornal
A24: (0% costos directos) | B24: =CONCATENATE(B53," ",A24) -> IPC proyectado 2021 (0% costos directos) | D24: 0 | E24: METAS TOTALES | F24: 0 | G24: Has. | I24: 9. Herramientas (2% de la MO) | K24: 0.02 | P24: =+I26 -> IPC proyectado 2021 (0% costos directos) | R24: =+K26 -> 0 | S24: METAS TOTALES | T24: 0 | U24: Has. | W24: IPC proyectado 2025 (% costos directos) | Y24: 0.0535 | Z24: METAS TOTALES | AA24: 2 | AB24: Has. | AC24: 10. Transporte Insumos ( % de Insumos) | AE24: 0.15 | AJ24: 12. Costo Transp. mayor ( % de insumos) | AL24: 0.1 | AR24: 12. Costo Transp. mayor ( % de insumos) | AT24: 0.1
I25: 10. Transporte Insumos ( % de Insumos) | K25: 0.1 | AC25: =+#REF! -> #REF! | AE25: =+D24 -> 0 | AF25: METAS TOTALES | AG25: 0 | AH25: Has. | AJ25: 13. Herramientas (2% M.O.) | AL25: 0.02 | AR25: 13. Herramientas (2% M.O.) | AT25: 0.02
B26: Costos proyectados en pesos | C26: 2021 | I26: =+B24 -> IPC proyectado 2021 (0% costos directos) | K26: 0 | L26: METAS TOTALES | M26: 0 | N26: Has. | P26: Costos proyectados en pesos | Q26: 2020 | W26: Costos proyectados en pesos | X26: 2026 | AJ26: =+AC25 -> #REF! | AL26: 0 | AN26: METAS AISLAMIENTO Rest. Pasiva | AR26: =+AK25 -> 0 | AT26: =+L24 -> 0 | AV26: METAS AISLAMIENTO Rest. Pasiva
B27: CATEGORIA DE INVERSIÓN | C27: Unidad | D27: Cantidad | E27: Valor Unitario ($) | F27: Valor Total/Ha ($) | G27: Valor Total Proyecto ($) | P27: CATEGORIA DE INVERSIÓN | Q27: Unidad | R27: Cantidad | S27: Valor Unitario ($) | T27: Valor Total/Ha ($) | U27: Valor Total Proyecto ($) | W27: CATEGORIA DE INVERSIÓN | X27: Unidad | Y27: Cantidad | Z27: Valor Unitario ($) | AA27: Valor Total/Ha ($) | AB27: Valor Total Proyecto ($) | AC27: Costos proyectados en pesos | AD27: 2020 | AJ27: META RESTAURACIÓN PASIVA | AK27: 0 | AL27: HAS | AN27: 0 | AP27: KM. | AR27: META RESTAURACIÓN PASIVA | AS27: 0 | AT27: HAS | AX27: KM.
B28: 1. COSTOS DIRECTOS | I28: Costos proyectados en pesos | J28: 2021 | P28: 1. COSTOS DIRECTOS | W28: 1. COSTOS DIRECTOS | AC28: CATEGORIA DE INVERSIÓN | AD28: Unidad | AE28: Cantidad | AF28: Valor Unitario ($) | AG28: Valor Total/Ha ($) | AH28: Valor Total Proyecto ($)
B29: 1.1. MANO DE OBRA | C29: RENDIMIENTO | I29: CATEGORIA DE INVERSIÓN | J29: Unidad | K29: Cantidad | L29: Valor Unitario ($) | M29: Valor Total/Ha ($) | N29: Valor Total Proyecto ($) | P29: 1.1. MANO DE OBRA | Q29: RENDIMIENTO | W29: 1.1. MANO DE OBRA | X29: RENDIMIENTO | AC29: 1. COSTOS DIRECTOS | AJ29: Costos proyectados en pesos | AK29: 2021 | AR29: Costos proyectados en pesos | AS29: 2021
B30: Reconocimiento o preparación del área a Restaurar | C30: M2 | D30: =+IF(F24>0,D105,0) -> 0 | E30: =IF(D30>0,E21/(D30/D108),0) -> 0 | F30: =+D30*E30 -> 0 | I30: 1. COSTOS DIRECTOS | P30: Rocería (Preparación de terreno) | Q30: M2 | R30: =+IF(T24>0,R105,0) -> 0 | S30: =IF(R30>0,S21/(R30/R108),0) -> 0 | T30: =+R30*S30 -> 0 | W30: Rocería (Preparación de terreno) | X30: M2 | Y30: =+IF(AA24>0,Y105,0) -> 10000 | Z30: 159 | AA30: =Y30*Z30 -> 1590000 | AB30: =AA30*$AA$24 -> 3180000 | AC30: 1.1. MANO DE OBRA | AD30: RENDIMIENTO | AJ30: ITEM | AK30: COSTOS / KM (1000 ML) | AN30: COSTOS/ ML $ | AO30: COSTOS/HA (163 ML) | AP30: COSTO TOTAL AISLAMIENTO | AR30: ITEM | AS30: COSTOS / KM (1000 ML) | AV30: COSTOS/ ML $ | AW30: COSTOS/HA (163 ML) | AX30: COSTO TOTAL AISLAMIENTO | AY30: =+AA30*1100 -> 1749000000 | AZ30: =+AY59 -> 0 | BA30: =+AY30*AZ30 -> 0 | BB30: =+AY30+BA30 -> 1749000000
B31: Trazado | C31: Arboles | D31: =+IF(F24>0,D14,0) -> 0 | E31: =+IF(F24>0,(E21*D109)/D31,0) -> 0 | F31: =+D31*E31 -> 0 | I31: 1.1. MANO DE OBRA | J31: RENDIMIENTO | P31: Trazado | Q31: Arboles | R31: =+IF(T24>0,R14,0) -> 0 | S31: =+IF(T24>0,(S21*R109)/R31,0) -> 0 | T31: =+R31*S31 -> 0 | W31: Trazado | X31: Arboles | Y31: 1847 | Z31: 350 | AA31: =+Y31*Z31 -> 646450 | AB31: =AA31*$AA$24 -> 1292900 | AC31: Preparación de terreno | AD31: M2 | AE31: =+IF(AG25>0,AE105,0) -> 0 | AF31: =IF(AE31>0,AF22/(AE31/AE108),0) -> 0 | AG31: =+AE31*AF31 -> 0 | AK31: Cantidad | AL31: V/Unitario $ | AM31: Valor Total $ | AS31: Cantidad | AT31: V/Unitario $ | AU31: Valor Total $ | AY31: =+AA31*1100 -> 711095000 | AZ31: =AZ30 -> 0 | BA31: =+AY31*AZ31 -> 0 | BB31: =+AY31+BA31 -> 711095000
B32: Plateo | C32: Plateos | D32: =+IF(F24>0,D14,0) -> 0 | E32: =+IF(F24>0,(E21/D110),0) -> 0 | F32: =+D32*E32 -> 0 | I32: Reconocimiento o preparación del área a Restaurar | J32: M2 | K32: =+IF(M26>0,K105,0) -> 0 | L32: =IF(K32>0,L23/(K32/K108),0) -> 0 | M32: =+K32*L32 -> 0 | P32: Plateo | Q32: Plateos | R32: =+IF(T24>0,R14,0) -> 0 | S32: =+IF(T24>0,(S21/R110),0) -> 0 | T32: =+R32*S32 -> 0 | W32: Plateo | X32: Plateos | Y32: 1847 | Z32: 350 | AA32: =+Y32*Z32 -> 646450 | AB32: =AA32*$AA$24 -> 1292900 | AC32: Trazado | AD32: Arboles | AE32: =+IF($AG$25>0,$AE$14+$AE$15,0) -> 0 | AF32: =+IF(AG25>0,(AF22*AE109)/AE32,0) -> 0 | AG32: =+AE32*AF32 -> 0 | AJ32: 1. MANO DE OBRA | AR32: 1. MANO DE OBRA | AY32: =+AA32*1100 -> 711095000 | AZ32: =AZ31 -> 0 | BA32: =+AY32*AZ32 -> 0 | BB32: =+AY32+BA32 -> 711095000
B33: Ahoyado | C33: Hoyo | D33: =+IF(F24>0,D14,0) -> 0 | E33: =+IF(F24>0,E21/D111,0) -> 0 | F33: =+D33*E33 -> 0 | I33: Trazado | J33: Arboles | K33: =+IF($M$26>0,$K$14+$K$15+$K$16,0) -> 0 | L33: =+IF(M26>0,(L23*K109)/K33,0) -> 0 | M33: =+K33*L33 -> 0 | P33: Ahoyado | Q33: Repiques | R33: =+IF(T24>0,R14,0) -> 0 | S33: =+IF(T24>0,S21/R111,0) -> 0 | T33: =+R33*S33 -> 0 | W33: Ahoyado | X33: Repiques | Y33: 1847 | Z33: 700 | AA33: =+Y33*Z33 -> 1292900 | AB33: =AA33*$AA$24 -> 2585800 | AC33: Plateo | AD33: Plateos | AE33: =+IF($AG$25>0,$AE$14+$AE$15,0) -> 0 | AF33: =+IF(AG25>0,(AF22/AE110),0) -> 0 | AG33: =+AE33*AF33 -> 0 | AJ33: Trazado | AK33: 5 | AL33: =+IF(AK33>0,$AM$23,0) -> 53118 | AM33: =+AK33*AL33 -> 265590 | AN33: =+AM33/1000 -> 265.59 | AR33: Trazado | AT33: =+IF(AS33>0,$AM$23,0) -> 0 | AU33: =+AS33*AT33 -> 0 | AV33: =+AU33/1000 -> 0 | AY33: =+AA33*1100 -> 1422190000 | AZ33: =AZ32 -> 0 | BA33: =+AY33*AZ33 -> 0 | BB33: =+AY33+BA33 -> 1422190000
B34: Aplicación de fertilizantes y correctivos | C34: Arboles | D34: =+IF(F24>0,D14,0) -> 0 | E34: =+IF(F24>0,(E21*D112)/D34,0) -> 0 | F34: =+D34*E34 -> 0 | I34: Plateo | J34: Platos | K34: =+IF($M$26>0,$K$14+$K$15+$K$16,0) -> 0 | L34: =+IF(M26>0,(L23/K110),0) -> 0 | M34: =+K34*L34 -> 0 | P34: Aplicación de fertilizantes y correctivos | Q34: Arboles | R34: =+IF(T24>0,R14,0) -> 0 | S34: =+IF(T24>0,(S21*R112)/R34,0) -> 0 | T34: =+R34*S34 -> 0 | W34: Aplicación de fertilizantes y correctivos | X34: Arboles | Y34: 1847 | Z34: 350 | AA34: =+Y34*Z34 -> 646450 | AB34: =AA34*$AA$24 -> 1292900 | AC34: Ahoyado | AD34: Repiques | AE34: =+IF($AG$25>0,$AE$14+$AE$15,0) -> 0 | AF34: =+IF(AG25>0,AF22/AE111,0) -> 0 | AG34: =+AE34*AF34 -> 0 | AJ34: Ahoyado | AK34: 6 | AL34: =+IF(AK34>0,$AM$23,0) -> 53118 | AM34: =+AK34*AL34 -> 318708 | AN34: =+AM34/1000 -> 318.708 | AR34: Ahoyado | AT34: =+IF(AS34>0,$AM$23,0) -> 0 | AU34: =+AS34*AT34 -> 0 | AV34: =+AU34/1000 -> 0 | AY34: =+AA34*1100 -> 711095000 | AZ34: =AZ33 -> 0 | BA34: =+AY34*AZ34 -> 0 | BB34: =+AY34+BA34 -> 711095000
B35: Transporte interno de insumos | C35: Arboles | D35: =+IF(F24>0,D14,0) -> 0 | E35: =+IF(F24>0,(E21*D113)/D35,0) -> 0 | F35: =+D35*E35 -> 0 | I35: Ahoyado | J35: Hoyo | K35: =+IF($M$26>0,$K$14+$K$15+$K$16,0) -> 0 | L35: =+IF(M26>0,L23/K111,0) -> 0 | M35: =+K35*L35 -> 0 | P35: Transporte interno de insumos | Q35: Arboles | R35: =+IF(T24>0,R14,0) -> 0 | S35: =+IF(T24>0,(S21*R113)/R35,0) -> 0 | T35: =+R35*S35 -> 0 | W35: Transporte interno de insumos | X35: Arboles | Y35: 1847 | Z35: 350 | AA35: =+Y35*Z35 -> 646450 | AB35: =AA35*$AA$24 -> 1292900 | AC35: Aplicación de fertilizantes y correctivos | AD35: Arboles | AE35: =+IF($AG$25>0,$AE$14+$AE$15,0) -> 0 | AF35: =+IF(AG25>0,(AF22*AE112)/AE35,0) -> 0 | AG35: =+AE35*AF35 -> 0 | AJ35: Transporte menor | AK35: 6 | AL35: =+IF(AK35>0,$AM$23,0) -> 53118 | AM35: =+AK35*AL35 -> 318708 | AN35: =+AM35/1000 -> 318.708 | AR35: Transporte menor | AT35: =+IF(AS35>0,$AM$23,0) -> 0 | AU35: =+AS35*AT35 -> 0 | AV35: =+AU35/1000 -> 0 | AY35: =+AA35*1100 -> 711095000 | AZ35: =AZ34 -> 0 | BA35: =+AY35*AZ35 -> 0 | BB35: =+AY35+BA35 -> 711095000
B36: Plantación (siembra) | C36: Arboles | D36: =+IF(F24>0,D14,0) -> 0 | E36: =+IF(F24>0,E21/D114,0) -> 0 | F36: =+D36*E36 -> 0 | I36: Aplicación de fertilizantes y correctivos | J36: Arboles | K36: =+IF($M$26>0,$K$14+$K$15+$K$16,0) -> 0 | L36: =+IF(M26>0,(L23*K112)/K36,0) -> 0 | M36: =+K36*L36 -> 0 | P36: Plantación (siembra) | Q36: Arboles | R36: =+IF(T24>0,R14,0) -> 0 | S36: =+IF(T24>0,S21/R114,0) -> 0 | T36: =+R36*S36 -> 0 | W36: Plantación (siembra) | X36: Arboles | Y36: 1847 | Z36: 500 | AA36: =+Y36*Z36 -> 923500 | AB36: =AA36*$AA$24 -> 1847000 | AC36: Transporte interno de insumos | AD36: Arboles | AE36: =+IF($AG$25>0,$AE$14+$AE$15,0) -> 0 | AF36: =+IF(AG25>0,(AF22*AE113)/AE36,0) -> 0 | AG36: =+AE36*AF36 -> 0 | AJ36: Hincado | AK36: 5 | AL36: =+IF(AK36>0,$AM$23,0) -> 53118 | AM36: =+AK36*AL36 -> 265590 | AN36: =+AM36/1000 -> 265.59 | AR36: Hincado | AT36: =+IF(AS36>0,$AM$23,0) -> 0 | AU36: =+AS36*AT36 -> 0 | AV36: =+AU36/1000 -> 0 | AY36: =+AA36*1100 -> 1015850000 | AZ36: =AZ35 -> 0 | BA36: =+AY36*AZ36 -> 0 | BB36: =+AY36+BA36 -> 1015850000
B37: Control fitosanitario | C37: Arboles | D37: =+IF(F24>0,D14,0) -> 0 | E37: =+IF(F24>0,(E21*D115)/D37,0) -> 0 | F37: =+D37*E37 -> 0 | I37: Transporte interno de insumos | J37: Arboles | K37: =+IF($M$26>0,$K$14+$K$15+$K$16,0) -> 0 | L37: =+IF(M26>0,(L23*K113)/K37,0) -> 0 | M37: =+K37*L37 -> 0 | P37: Control fitosanitario | Q37: Arboles | R37: =+IF(T24>0,R14,0) -> 0 | S37: =+IF(T24>0,(S21*R115)/R37,0) -> 0 | T37: =+R37*S37 -> 0 | W37: Control fitosanitario | X37: Arboles | Y37: 1847 | Z37: 100 | AA37: =+Y37*Z37 -> 184700 | AB37: =AA37*$AA$24 -> 369400 | AC37: Plantación (siembra) | AD37: Arboles | AE37: =+IF($AG$25>0,$AE$14+$AE$15,0) -> 0 | AF37: =+IF(AG25>0,AF22/AE114,0) -> 0 | AG37: =+AE37*AF37 -> 0 | AJ37: Templado y grapado | AK37: 6 | AL37: =+IF(AK37>0,$AM$23,0) -> 53118 | AM37: =+AK37*AL37 -> 318708 | AN37: =+AM37/1000 -> 318.708 | AR37: Templado y grapado | AT37: =+IF(AS37>0,$AM$23,0) -> 0 | AU37: =+AS37*AT37 -> 0 | AV37: =+AU37/1000 -> 0 | AY37: =+AA37*1100 -> 203170000 | AZ37: =AZ36 -> 0 | BA37: =+AY37*AZ37 -> 0 | BB37: =+AY37+BA37 -> 203170000
B38: Reposición (Replante) | C38: Arboles | D38: =+IF(F24>0,D14*D15,0) -> 0 | E38: =+IF(F24>0,E21/D116,0) -> 0 | F38: =+D38*E38 -> 0 | I38: Plantación (siembra) | J38: Arboles | K38: =+IF($M$26>0,$K$14+$K$15+$K$16,0) -> 0 | L38: =+IF(M26>0,L23/K114,0) -> 0 | M38: =+K38*L38 -> 0 | P38: Reposición (Replante) | Q38: Arboles | R38: =+IF(T24>0,R14*R15,0) -> 0 | S38: =+IF(T24>0,S21/R116,0) -> 0 | T38: =+R38*S38 -> 0 | W38: Reposición (Replante) | X38: Arboles | Y38: 185 | Z38: 700 | AA38: =+Y38*Z38 -> 129500 | AB38: =AA38*$AA$24 -> 259000 | AC38: Control fitosanitario | AD38: Arboles | AE38: =+IF($AG$25>0,$AE$14+$AE$15,0) -> 0 | AF38: =+IF(AG25>0,(AF22*AE115)/AE38,0) -> 0 | AG38: =+AE38*AF38 -> 0 | AJ38: Establecimiento de MV (siembra) | AK38: 15 | AL38: =+IF(AK38>0,$AM$23,0) -> 53118 | AM38: =+AK38*AL38 -> 796770 | AN38: =+AM38/1000 -> 796.77 | AR38: Establecimiento de MV (siembra) | AT38: =+IF(AS38>0,$AM$23,0) -> 0 | AU38: =+AS38*AT38 -> 0 | AV38: =+AU38/1000 -> 0 | AY38: =+AA38*1100 -> 142450000 | AZ38: =AZ37 -> 0 | BA38: =+AY38*AZ38 -> 0 | BB38: =+AY38+BA38 -> 142450000
B39: Limpias | C39: Plateos | D39: =+IF(F24>0,D14,0) -> 0 | E39: =IF(D39>0,(E21*D117)/D39,0) -> 0 | F39: =+D39*E39 -> 0 | I39: Control fitosanitario | J39: Arboles | K39: =+IF($M$26>0,$K$14+$K$15+$K$16,0) -> 0 | L39: =+IF(M26>0,(L23*K115)/K39,0) -> 0 | M39: =+K39*L39 -> 0 | P39: Limpias | Q39: Plateos | R39: =+IF(T24>0,R14,0) -> 0 | S39: =IF(R39>0,(S21*R117)/R39,0) -> 0 | T39: =+R39*S39 -> 0 | W39: Limpias | X39: Plateos | Y39: 1847 | Z39: 350 | AA39: =+Y39*Z39 -> 646450 | AB39: =AA39*$AA$24 -> 1292900 | AC39: Reposición (Replante) | AD39: Arboles | AE39: =+IF(AG25>0,(AE14+AE15)*AE16,0) -> 0 | AF39: =+IF(AG25>0,AF22/AE116,0) -> 0 | AG39: =+AE39*AF39 -> 0 | AJ39: SUBTOTAL MANO DE OBRA | AK39: =SUM(AK33:AK38) -> 43 | AM39: =SUM(AM33:AM38) -> 2284074 | AN39: =SUM(AN33:AN38) -> 2284.074 | AP39: =+AM39*AN27 -> 0 | AR39: SUBTOTAL MANO DE OBRA | AS39: =SUM(AS33:AS38) -> 0 | AU39: =SUM(AU33:AU38) -> 0 | AV39: =SUM(AV33:AV38) -> 0 | AX39: =+AU39*AV27 -> 0
B40: SUBTOTAL MANO DE OBRA | F40: =SUM(F30:F39) -> 0 | G40: =+F40*F24 -> 0 | I40: Reposición (Replante) | J40: Arboles | K40: =+IF(M26>0,(K14+K15+K16)*K17,0) -> 0 | L40: =+IF(M26>0,L23/K116,0) -> 0 | M40: =+K40*L40 -> 0 | P40: SUBTOTAL MANO DE OBRA | T40: =SUM(T30:T39) -> 0 | U40: =+T40*T24 -> 0 | W40: SUBTOTAL MANO DE OBRA | AA40: =SUM(AA30:AA39) -> 7352850 | AB40: =AA40*AA24 -> 14705700 | AC40: Limpias | AD40: Plateos | AE40: =+IF($AG$25>0,$AE$14+$AE$15,0) -> 0 | AF40: =IF(AE40>0,(AF22*AE117)/AE40,0) -> 0 | AG40: =+AE40*AF40 -> 0 | AJ40: 2. INSUMOS | AR40: 2. INSUMOS
B41: 1.2. INSUMOS | I41: Limpias | J41: Plateos | K41: =+IF(M26>0,K14+K15+K16,0) -> 0 | L41: =IF(K41>0,(L23*K117)/K41,0) -> 0 | M41: =+K41*L41 -> 0 | P41: 1.2. INSUMOS | W41: 1.2. INSUMOS | AC41: SUBTOTAL MANO DE OBRA | AG41: =SUM(AG31:AG40) -> 0 | AH41: =+AG41*AG25 -> 0 | AJ41: Alambre de pua (Rollo) | AK41: =+AL18 -> 9 | AL41: =+AM18 -> 150000 | AM41: =+AK41*AL41 -> 1350000 | AN41: =+AM41/1000 -> 1350 | AP41: =+AM41*$AN$27 -> 0 | AR41: Alambre de pua (Rollo) | AS41: =+AT18 -> 0 | AT41: =+AU18 -> 0 | AU41: =+AS41*AT41 -> 0 | AV41: =+AU41/1000 -> 0 | AX41: =+AU41*$AN$27 -> 0
B42: Plántulas + 10% repos. | C42: Plántulas | D42: =+D14*D15+D14 -> 1222.2222 | E42: =+E14 -> 2300 | F42: =+D42*E42 -> 2811111.1 | G42: =+F42*F24 -> 0 | I42: SUBTOTAL MANO DE OBRA | M42: =SUM(M32:M41) -> 0 | N42: =+M42*M26 -> 0 | P42: Plántulas + 10% repos. | Q42: Plántulas | R42: =+R14*R15+R14 -> 0 | S42: =+S14 -> 0 | T42: =+R42*S42 -> 0 | U42: =+T42*T24 -> 0 | W42: Plántulas + 10% repos. | X42: Plántulas | Y42: 2032 | Z42: 15850 | AA42: =+Y42*Z42 -> 32207200 | AB42: =+AA42*AA24 -> 64414400 | AC42: 1.2. INSUMOS | AJ42: Postes | AK42: =+AL16 -> 333.33333 | AL42: =+AM16 -> 15000 | AM42: =+AK42*AL42 -> 5000000 | AN42: =+AM42/1000 -> 5000 | AP42: =+AM42*$AN$27 -> 0 | AR42: Postes | AS42: =+AT16 -> 0 | AT42: =+AU16 -> 0 | AU42: =+AS42*AT42 -> 0 | AV42: =+AU42/1000 -> 0 | AX42: =+AU42*$AN$27 -> 0 | AY42: =+AA42*1100 -> 35427920000 | AZ42: =AZ38 -> 0 | BA42: =+AY42*AZ42 -> 0 | BB42: =+AY42+BA42 -> 35427920000
B43: Fertilizantes | C43: Kgr. | D43: =+D16*D14/1000 -> 88.888889 | E43: =+E16 -> 2000 | F43: =+D43*E43 -> 177777.78 | G43: =+F43*F24 -> 0 | I43: 1.2. INSUMOS | P43: Fertilizantes | Q43: Kgr. | R43: =+R16*R14/1000 -> 0 | S43: =+S16 -> 0 | T43: =+R43*S43 -> 0 | U43: =+T43*T24 -> 0 | W43: Fertilizantes | X43: Kgr. | Y43: =+Y16*Y14/1000 -> 92.35 | Z43: 2700 | AA43: =+Y43*Z43 -> 249345 | AB43: =+AA43*AA24 -> 498690 | AC43: Plántulas + 10% repos. | AD43: Plántulas | AE43: =+(AE14+AE15)*AE16+(AE14+AE15) -> 0 | AG43: =AG14+AG15+((AG14+AG15)*AE16) -> 0 | AH43: =+AG43*AG25 -> 0 | AJ43: Pie Amigos | AK43: =+AL17 -> 33.333333 | AL43: =+AM17 -> 15000 | AM43: =+AK43*AL43 -> 500000 | AN43: =+AM43/1000 -> 500 | AP43: =+AM43*$AN$27 -> 0 | AR43: Pie Amigos | AS43: =+AT17 -> 0 | AT43: =+AU17 -> 0 | AU43: =+AS43*AT43 -> 0 | AV43: =+AU43/1000 -> 0 | AX43: =+AU43*$AN$27 -> 0 | AY43: =+AA43*1100 -> 2.742795e+08 | AZ43: =AZ42 -> 0 | BA43: =+AY43*AZ43 -> 0 | BB43: =+AY43+BA43 -> 2.742795e+08
B44: Hidroretenedor | C44: Kgr. | D44: =+D17*D14/1000 -> 0 | E44: =+E17 -> 0 | F44: =+D44*E44 -> 0 | G44: =+F44*F24 -> 0 | I44: Plántulas + 10% repos. | J44: Plántulas | K44: =((K14+K15+K16)*K17)+(K14+K15+K16) -> 1222.1 | M44: =M14+M15+M16+((M14+M15+M16)*K17) -> 2586100 | N44: =+M44*M26 -> 0 | P44: Hidroretenedor | Q44: Kgr. | R44: =+R17*R14/1000 -> 0 | S44: =+S17 -> 0 | T44: =+R44*S44 -> 0 | U44: =+T44*T24 -> 0 | W44: Hidroretenedor | X44: Kgr. | Y44: =+Y17*Y14/1000 -> 0 | AA44: =+Y44*Z44 -> 0 | AB44: =+AA44*AA24 -> 0 | AC44: Fertilizantes | AD44: Kgr. | AE44: =+AE17*(AE14+AE15)/1000 -> 0 | AF44: =+AF17 -> 0 | AG44: =+AE44*AF44 -> 0 | AH44: =+AG44*AG25 -> 0 | AJ44: Grapa (Kgr.) | AK44: =+AL19 -> 7 | AL44: =+AM19 -> 8000 | AM44: =+AK44*AL44 -> 56000 | AN44: =+AM44/1000 -> 56 | AP44: =+AM44*$AN$27 -> 0 | AR44: Grapa (Kgr.) | AS44: =+AT19 -> 0 | AT44: =+AU19 -> 0 | AU44: =+AS44*AT44 -> 0 | AV44: =+AU44/1000 -> 0 | AX44: =+AU44*$AN$27 -> 0 | AY44: =+AA44*1100 -> 0 | AZ44: =AZ43 -> 0 | BA44: =+AY44*AZ44 -> 0 | BB44: =+AY44+BA44 -> 0
B45: Correctivos | C45: Kgr. | D45: =+D18*D14/1000 -> 166.66667 | E45: =+E18 -> 300 | F45: =+D45*E45 -> 50000 | G45: =+F45*F24 -> 0 | I45: Fertilizantes | J45: Kgr. | K45: =+K18*(K14+K15)/1000 -> 80 | L45: =+L18 -> 2000 | M45: =+K45*L45 -> 160000 | N45: =+M45*M26 -> 0 | P45: Correctivos | Q45: Kgr. | R45: =+R18*R14/1000 -> 0 | S45: =+S18 -> 0 | T45: =+R45*S45 -> 0 | U45: =+T45*T24 -> 0 | W45: Correctivos | X45: Kgr. | Y45: =+Y18*Y14/1000 -> 369.4 | Z45: 260 | AA45: =+Y45*Z45 -> 96044 | AB45: =+AA45*AA24 -> 192088 | AC45: Hidroretenedor | AD45: Kgr. | AE45: =+AE18*(AE14+AE15)/1000 -> 0 | AF45: =+AF18 -> 0 | AG45: =+AE45*AF45 -> 0 | AH45: =+AG45*AG25 -> 0 | AJ45: Material Vegetal para cerco vivo | AK45: =+AL20 -> 366.66667 | AL45: =+AM20 -> 0 | AM45: =+AK45*AL45 -> 0 | AN45: =+AM45/1000 -> 0 | AP45: =+AM45*$AN$27 -> 0 | AR45: Material Vegetal para cerco vivo | AS45: =+AT20 -> 0 | AT45: =+AU20 -> 0 | AU45: =+AS45*AT45 -> 0 | AV45: =+AU45/1000 -> 0 | AX45: =+AU45*$AN$27 -> 0 | AY45: =+AA45*1100 -> 105648400 | AZ45: =AZ44 -> 0 | BA45: =+AY45*AZ45 -> 0 | BB45: =+AY45+BA45 -> 105648400
...

Sheet APU AISLAMIENTO
C2: COSTOS DE AISLAMIENTO | G2: Versión:
G4: Última actualización: 6/09/2020
B6: COSTO DE AISLAMIENTO DE PLANTACIONES FORESTALES
B7: AISLAMIENTO DE LOS SISTEMAS: | F7: SAF/SSP
B8: Entidad Formuladora | C8: MUNICIPIO CERETE
B9: NOMBRE DEL PROYECTO: | C9: RESTAURACIÓN DE LOS BOSQUES DE GALERÍA DEL CAÑO BUGRE DESDE EL BARRIO CARACAS AL CORREGIMIENTO RABOLARGO EN EL MUNICIPIO DE CERETÉ - DEPARTAMENTO DE CÓRDOBA
B11: DISEÑO DE AISLAMIENTO | E11: Costo Unitario $
B12: 1. Distancia entre postes mts. | D12: 3
B13: 2. Distancia pie amigos mts. | D13: 30
B14: 3. Hilos alambre | D14: 3
B15: 4. # Postes/KM | D15: 333 | E15: 6000
B16: 5. # Postes Piamigo/KM | D16: 33 | E16: ='COTIZACION 2'!M14 -> 6000
A17: =+(D14*400)/H48 -> 3.4285714 | B17: 6. Rollos alambre/KM | D17: 9 | E17: 220000
A18: =+(D15*D14)/H50 -> 6.66 | B18: 7. Grapas/km en kg. | D18: =D17 -> 9 | E18: 12000
B19: 8. Costo por Jornal | E19: 75000
B20: 9. Costo Transp. mayor ( % de insumos) | D20: 0.2
B21: 10. Herramientas (5% M.O.) | D21: 0.05
B22: 11. Perimetro a aislar / HA | D22: 166 | F22: METAS TOTALES
A23: (0% de MO e insumos) | B23: IPC proyectado 2026 (% costos directos) | D23: 0.0535 | F23: 6 | H23: Km.
B25: ITEM | C25: COSTOS / KM (1000 ML) | F25: COSTOS/ ML $ | G25: COSTOS/HA (163 ML) | H25: COSTO TOTAL AISLAMIENTO
C26: Cantidad | D26: Valor Unitario $ | E26: Valor Total $
B27: 1. MANO DE OBRA
B28: Trazado | C28: 7 | D28: 75000 | E28: =+C28*D28 -> 525000 | F28: =E28/1000 -> 525 | H28: =F28*($F$23*1000) -> 3150000
B29: Ahoyado | C29: 14 | D29: 75000 | E29: =+C29*D29 -> 1050000 | F29: =E29/1000 -> 1050 | H29: =F29*($F$23*1000) -> 6300000
B30: Transporte menor | C30: 5 | D30: 75000 | E30: =+C30*D30 -> 375000 | F30: =E30/1000 -> 375 | H30: =F30*($F$23*1000) -> 2250000
B31: Hincado | C31: 7 | D31: 75000 | E31: =+C31*D31 -> 525000 | F31: =E31/1000 -> 525 | H31: =F31*($F$23*1000) -> 3150000
B32: Templado y grapado | C32: 7 | D32: 75000 | E32: =+C32*D32 -> 525000 | F32: =E32/1000 -> 525 | H32: =F32*($F$23*1000) -> 3150000
B33: SUBTOTAL MANO DE OBRA | C33: =SUM(C28:C32) -> 40 | E33: =SUM(E28:E32) -> 3000000 | F33: =SUM(F28:F32) -> 3000 | G33: =SUM(G28:G32) -> 0 | H33: =SUM(H28:H32) -> 18000000
B34: 2. INSUMOS
B35: Alambre de pua (Rollo)/Km | C35: 9 | D35: 215000 | E35: =+C35*D35 -> 1935000 | F35: =E35/1000 -> 1935 | H35: =+F35*($F$23*1000) -> 11610000
B36: Postes | C36: 333 | D36: 6000 | E36: =+C36*D36 -> 1998000 | F36: =E36/1000 -> 1998 | H36: =+F36*($F$23*1000) -> 11988000
B37: Pie Amigos | C37: 33 | D37: 7000 | E37: =+C37*D37 -> 231000 | F37: =E37/1000 -> 231 | H37: =+F37*($F$23*1000) -> 1386000
B38: Grapa (Kgr.) | C38: 9 | D38: 11800 | E38: =+C38*D38 -> 106200 | F38: =E38/1000 -> 106.2 | H38: =+F38*($F$23*1000) -> 637200
B39: SUBTOTAL INSUMOS | E39: =SUM(E35:E38) -> 4270200 | F39: =SUM(F35:F38) -> 4270.2 | G39: =SUM(G35:G38) -> 0 | H39: =SUM(H35:H38) -> 25621200
B40: Transporte mayor | E40: 330000 | F40: =E40/1000 -> 330 | H40: =+F40*($F$23*1000) -> 1980000
B41: Herramientas | E41: 44500 | F41: =E41/1000 -> 44.5 | H41: =+F41*($F$23*1000) -> 267000
B42: IPC proyectado 2024 | E42: =(E33+E39)*D23 -> 388955.7 | F42: =E42/1000 -> 388.9557 | H42: =+F42*($F$23*1000) -> 2333734.2
B43: TOTAL COSTOS INDIRECTOS | E43: =SUM(E40:E42) -> 763455.7 | F43: =SUM(F40:F42) -> 763.4557 | G43: =SUM(G40:G42) -> 0 | H43: =SUM(H40:H42) -> 4580734.2
B44: TOTAL AISLAMIENTO | E44: =+E33+E39+E43 -> 8033655.7 | F44: =+F33+F39+F43 -> 8033.6557 | G44: =+G33+G39+G43 -> 0 | H44: =H33+H39+H43 -> 48201934
B46: Tipo de poste | C46: madera | E46: Número de hilos | H46: 3
...

Sheet APU MANTENIMIENTO
C2: FONDO DE COMPENSACIÓN AMBIENTAL COSTOS DE MANTENIMIENTO | F2: Versión: 2,0 | J2: FONDO DE COMPENSACIÓN AMBIENTAL COSTOS DE MANTENIMIENTO | M2: =+F2 -> Versión: 2,0 | Q2: FONDO DE COMPENSACIÓN AMBIENTAL COSTOS DE MANTENIMIENTO | T2: =+M2 -> Versión: 2,0 | AA2: =+T2 -> Versión: 2,0 | AE2: FONDO DE COMPENSACIÓN AMBIENTAL COSTOS DE MANTENIMIENTO | AH2: =+AA2 -> Versión: 2,0 | AL2: FONDO DE COMPENSACIÓN AMBIENTAL COSTOS DE MANTENIMIENTO | AO2: =+AH2 -> Versión: 2,0 | AS2: =+AL2 -> FONDO DE COMPENSACIÓN AMBIENTAL COSTOS DE MANTENIMIENTO | AW2: =+AO2 -> Versión: 2,0
C4: FONAM | F4: Última actualización: 11/09/2020 | J4: FONAM | M4: =+F4 -> Última actualización: 11/09/2020 | Q4: FONAM | T4: =+M4 -> Última actualización: 11/09/2020 | AA4: =+T4 -> Última actualización: 11/09/2020 | AE4: FONAM | AH4: =+AA4 -> Última actualización: 11/09/2020 | AL4: FONAM | AO4: =+AH4 -> Última actualización: 11/09/2020 | AW4: =+AO4 -> Última actualización: 11/09/2020
B6: COSTO DE MANTENIMIENTO | I6: =+B6 -> COSTO DE MANTENIMIENTO | P6: =+I6 -> COSTO DE MANTENIMIENTO | W6: =+P6 -> COSTO DE MANTENIMIENTO | AD6: =+W6 -> COSTO DE MANTENIMIENTO | AK6: =+AD6 -> COSTO DE MANTENIMIENTO | AR6: COSTO CONSERVACIÓN DE BOSQUE NATURAL - AISLAMIENTO
B7: SISTEMA A MANTENER: | C7: REFORESTACIÓN PROTECTORA - PRODUCTORA | I7: =+B7 -> SISTEMA A MANTENER: | J7: CORREDOR BIOLÓGICO | P7: =+I7 -> SISTEMA A MANTENER: | Q7: REFORESTACIÓN PROTECTORA - PRODUCTORA CON GUADUA | W7: =+P7 -> SISTEMA A MANTENER: | X7: Bosque de Galeria | AD7: =+W7 -> SISTEMA A MANTENER: | AE7: CERCAS VIVAS | AK7: =+AD7 -> SISTEMA A MANTENER: | AL7: ENRIQUECIMIENTOS VEGETALES | AR7: =+AK7 -> SISTEMA A MANTENER: | AS7: CONSERVACIÓN DE BOSQUE NATURAL - AISLAMIENTO
B8: CORPORACIÓN / AAU: | C8: CARDIQUE | I8: CORPORACIÓN / AAU: | J8: =+C8 -> CARDIQUE | P8: CORPORACIÓN / AAU: | Q8: =+J8 -> CARDIQUE | W8: CORPORACIÓN / AAU: | X8: MUNICIPIO DE CERETE | AD8: CORPORACIÓN / AAU: | AE8: =+X8 -> MUNICIPIO DE CERETE | AK8: CORPORACIÓN / AAU: | AL8: =+AE8 -> MUNICIPIO DE CERETE | AR8: CORPORACIÓN / AAU: | AS8: =+AL8 -> MUNICIPIO DE CERETE
B9: NOMBRE DEL PROYECTO: | C9: REHABILITACIÓN ECOLÓGICA DE ÁREAS AFECTADAS POR LA ACTIVIDAD GANADERA EN LOS MUNICIPIOS DE SAN JACINTO Y EL CARMEN DE BOLÍVAR - DEPARTAMENTO DE BOLÍVAR | I9: NOMBRE DEL PROYECTO: | J9: =+C9 -> REHABILITACIÓN ECOLÓGICA DE ÁREAS AFECTADAS POR LA ACTIVIDAD GANADERA EN LOS MUNICIPIOS DE SAN JACINTO Y EL CARMEN DE BOLÍVAR - DEPARTAMENTO DE BOLÍVAR | P9: NOMBRE DEL PROYECTO: | Q9: =+J9 -> REHABILITACIÓN ECOLÓGICA DE ÁREAS AFECTADAS POR LA ACTIVIDAD GANADERA EN LOS MUNICIPIOS DE SAN JACINTO Y EL CARMEN DE BOLÍVAR - DEPARTAMENTO DE BOLÍVAR | W9: NOMBRE DEL PROYECTO: | X9: RESTAURACIÓN DE LOS BOSQUES DE GALERÍA DEL CAÑO BUGRE DESDE EL BARRIO CARACAS AL CORREGIMIENTO RABOLARGO EN EL MUNICIPIO DE CERETÉ - DEPARTAMENTO DE CÓRDOBA | AD9: NOMBRE DEL PROYECTO: | AE9: =+X9 -> RESTAURACIÓN DE LOS BOSQUES DE GALERÍA DEL CAÑO BUGRE DESDE EL BARRIO CARACAS AL CORREGIMIENTO RABOLARGO EN EL MUNICIPIO DE CERETÉ - DEPARTAMENTO DE CÓRDOBA | AK9: NOMBRE DEL PROYECTO: | AL9: =+AE9 -> RESTAURACIÓN DE LOS BOSQUES DE GALERÍA DEL CAÑO BUGRE DESDE EL BARRIO CARACAS AL CORREGIMIENTO RABOLARGO EN EL MUNICIPIO DE CERETÉ - DEPARTAMENTO DE CÓRDOBA | AR9: NOMBRE DEL PROYECTO: | AS9: =+AL9 -> RESTAURACIÓN DE LOS BOSQUES DE GALERÍA DEL CAÑO BUGRE DESDE EL BARRIO CARACAS AL CORREGIMIENTO RABOLARGO EN EL MUNICIPIO DE CERETÉ - DEPARTAMENTO DE CÓRDOBA
B11: DISEÑO DE PLANTACION: | D11: Cuadro | F11: Tresbolillo | I11: DISEÑO DE PLANTACION: | K11: Aleatorio | L11: X | P11: DISEÑO DE PLANTACION: | R11: Cuadro | T11: Tresbolillo | W11: DISEÑO DE PLANTACION: | Y11: Tres bolillo | Z11: x | AA11: cuadro | AD11: DISEÑO DE PLANTACION: | AG11: No. de Franjas o Líneas | AK11: DISEÑO DE PLANTACION: | AM11: Aleatorio | AN11: X | AR11: DISEÑO DE AISLAMIENTO | AU11: Costo Unitario $
B13: 1. Distancias de Siembra (mts) | E13: Costo Unitario $ | L13: Costo Unitario $ | P13: 1. Distancias de Siembra (mts) | S13: Costo Unitario $ | W13: 1. Distancias de Siembra (mts) | X13: 2.5 | Y13: 2.5 | Z13: Costo Unitario $ | AD13: 1. Distancias de Siembra (mts) | AG13: Costo Unitario $ | AN13: Costo Unitario $ | AR13: 1. Distancia entre postes mts. | AT13: 0
B14: 2. Número de Plántulas por Ha | D14: =((IF(E11="x",(10000/(C13*D13)),IF(G11="x",(10000*1.15/(C13*D13)),0)))) -> 0 | I14: 1. Número de Plántulas por Ha | P14: 2. Número de Plántulas por Ha | R14: =((IF(S11="x",(10000/(Q13*R13)),IF(U11="x",(10000*1.15/(Q13*R13)),0)))) -> 0 | W14: 2. Número de Plántulas por Ha | Y14: 1842 | Z14: 18000 | AD14: 2. Número de Plántulas por Ha | AF14: =IF(AE13=0,0,(400*AH11/AE13)) -> 0 | AK14: 1. Número de Plántulas por Ha | AR14: 2. Distancia pie amigos mts. | AT14: 0
B15: 3. Porcentaje de reposición % | D15: 0.1 | I15: 2. Resiembra del Material Vegetal (%) | P15: 3. Resiembra del Material Vegetal (%) | W15: 3. Resiembra del Material Vegetal (%) | Y15: 0.1 | Z15: 18000 | AD15: 3. Resiembra del Material Vegetal (%) | AK15: 2. Resiembra del Material Vegetal (%) | AR15: 3. Hilos alambre | AT15: 0
B16: 4. Cantidad de Fertilizantes / Arbol (gr.) | I16: 3. Cantidad de Fertilizantes / Arbol (gr.) | J16: NPK(15-15-15) | K16: 0 | L16: 0 | P16: 4. Cantidad de Fertilizantes / Arbol (gr.) | Q16: xxxx | R16: 0 | S16: 0 | W16: 4. Cantidad de Fertilizantes / Arbol (gr.) | X16: Fertilizante 15-15-15 | Y16: 50 | Z16: 5200 | AD16: 4. Cantidad de Fertilizantes / Arbol (gr.) | AE16: =+C16 -> 0 | AF16: 0 | AG16: 0 | AK16: 3. Cantidad de Fertilizantes / Arbol (gr.) | AL16: xxxx | AM16: 0 | AN16: 0 | AR16: 4. # Postes/KM | AT16: =+IF(AT13=0,0,1000/AT13) -> 0 | AU16: 0
B17: 5. Cantidad de Hidroretenedor / Árbol (gr.) | I17: 4. Cantidad de Hidroretenedor / Árbol (gr.) | K17: 0 | L17: 0 | P17: 5. Cantidad de Hidroretenedor / Árbol (gr.) | R17: 0 | S17: 0 | W17: 5. Cantidad de Hidroretenedor / Árbol (gr.) | Y17: 0 | Z17: 0 | AD17: 5. Cantidad de Hidroretenedor / Árbol (gr.) | AF17: =+D17 -> 0 | AG17: 0 | AK17: 4. Cantidad de Hidroretenedor / Árbol (gr.) | AM17: 0 | AN17: 0 | AR17: 5. # Postes Piamigo/KM | AT17: =+IF(AT14=0,0,1000/AT14) -> 0 | AU17: 0
B18: 6. Cantidad de Correctivos / Arbol (gr.) | I18: 5. Cantidad de Correctivos / Arbol (gr.) | K18: 0 | L18: 0 | P18: 6. Cantidad de Correctivos / Arbol (gr.) | Q18: xxxx | R18: 0 | S18: 0 | W18: 6. Cantidad de Correctivos / Arbol (gr.) | X18: xxx | Y18: 0 | Z18: 0 | AD18: 6. Cantidad de Correctivos / Arbol (gr.) | AE18: =+C18 -> 0 | AF18: =+D18 -> 0 | AG18: 0 | AK18: 5. Cantidad de Correctivos / Arbol (gr.) | AL18: xxxx | AM18: 0 | AN18: 0 | AR18: 6. Rollos alambre/KM | AT18: =+(2.85714285714286)*AT15 -> 0 | AU18: 0
B19: 5. Cantidad de Microelementos / Arbol (gr.) | D19: 0 | E19: 0 | I19: 4. Cantidad de Microelementos / Arbol (gr.) | J19: xxxx | K19: 0 | L19: 0 | P19: 5. Cantidad de Microelementos / Arbol (gr.) | Q19: xxxx | R19: 0 | S19: 0 | W19: 5. Cantidad de Microelementos / Arbol (gr.) | X19: Otro | Y19: 5 | Z19: 4000 | AD19: 5. Cantidad de Microelementos / Arbol (gr.) | AE19: =+C19 -> 0 | AF19: 0 | AG19: 0 | AK19: 4. Cantidad de Microelementos / Arbol (gr.) | AL19: xxxx | AM19: 0 | AN19: 0 | AR19: 7. Grapas/km en kg. | AT19: =+AT18 -> 0 | AU19: 0
B20: 6. Cantidad de Insecticida / Ha (Kg - Lt.) | I20: 5. Cantidad de Insecticida / Ha (Kg - Lt.) | J20: Lorsban Liq. | K20: 0 | L20: 0 | P20: 6. Cantidad de Insecticida / Ha (Kg - Lt.) | Q20: xxxx | R20: 0 | S20: 0 | W20: 6. Cantidad de Insecticida / Ha (Kg - Lt.) | X20: Lorrban polvo | Y20: 2 | Z20: 12000 | AD20: 6. Cantidad de Insecticida / Ha (Kg - Lt.) | AE20: =+C20 -> 0 | AF20: =+D20 -> 0 | AG20: 0 | AK20: 5. Cantidad de Insecticida / Ha (Kg - Lt.) | AL20: xxxx | AM20: 0 | AN20: 0 | AR20: 8. Costo por Jornal | AU20: 0
B21: 7. Costo por Jornal | I21: 6. Costo por Jornal | P21: 7. Costo por Jornal | W21: 7. Costo por Jornal | Z21: 75000 | AD21: 7. Costo por Jornal | AK21: 6. Costo por Jornal | AR21: 9. Costo Transp. mayor ( % de insumos) | AT21: 0.15
B22: 8. Herramientas (2% de la MO) | D22: 0.02 | I22: 7. Herramientas (% de la MO) | K22: 0.02 | P22: 8. Herramientas (% de la MO) | R22: 0.02 | W22: 8. Herramientas (% de la MO) | Y22: 0.05 | AD22: 8. Herramientas (% de la MO) | AF22: 0.02 | AK22: 7. Herramientas (% de la MO) | AM22: 0.02 | AR22: 10. Herramientas (5% M.O.) | AT22: 0.05
B23: 9. Transporte Insumos ( % de Insumos) | I23: 8. Transporte Insumos (% de Insumos) | P23: 9. Transporte Insumos (% de Insumos) | W23: 9. Transporte Insumos (% de Insumos) | Y23: 0.15 | AD23: 9. Transporte Insumos (% de Insumos) | AK23: 8. Transporte Insumos (% de Insumos) | AR23: 11. Perimetro a aislar / ha (ML) | AT23: 163
A24: (% costos directos) | B24: =CONCATENATE(B51," ",A24) -> IPC proyectado 2020 (% costos directos) | E24: METAS TOTALES | F24: 0 | G24: Has. | I24: =B24 -> IPC proyectado 2020 (% costos directos) | K24: =+D24 -> 0 | L24: METAS TOTALES | M24: 0 | N24: Has. | P24: =I24 -> IPC proyectado 2020 (% costos directos) | R24: =+K24 -> 0 | S24: METAS TOTALES | T24: 0 | U24: Has. | W24: IPC proyectado 2025 (% costos directos) | Y24: 0.0535 | Z24: METAS TOTALES | AA24: 2 | AB24: Has. | AD24: =W24 -> IPC proyectado 2025 (% costos directos) | AF24: =+K24 -> 0 | AG24: METAS TOTALES | AH24: 0 | AI24: Has. | AK24: =AD24 -> IPC proyectado 2025 (% costos directos) | AM24: =+D24 -> 0 | AN24: METAS TOTALES | AO24: 0 | AP24: Has. | AR24: =+AK24 -> IPC proyectado 2025 (% costos directos) | AT24: =+D24 -> 0 | AV24: METAS TOTALES | AW24: 0 | AX24: Has.
B26: Costos proyectados en pesos | C26: 2020 | I26: =+B26 -> Costos proyectados en pesos | J26: =+C26 -> 2020 | P26: =+I26 -> Costos proyectados en pesos | Q26: =+J26 -> 2020 | W26: =+P26 -> Costos proyectados en pesos | X26: 2022 | AD26: =+W26 -> Costos proyectados en pesos | AE26: =+X26 -> 2022 | AK26: =+AD26 -> Costos proyectados en pesos | AL26: =+AE26 -> 2022 | AR26: =+AK26 -> Costos proyectados en pesos
B27: CATEGORIA DE INVERSIÓN | C27: Unidad | D27: Cantidad | E27: Valor Unitario ($) | F27: Valor Total/Ha ($) | G27: Valor Total Proyecto ($) | I27: CATEGORIA DE INVERSIÓN | J27: Unidad | K27: Cantidad | L27: Valor Unitario ($) | M27: Valor Total/Ha ($) | N27: Valor Total Proyecto ($) | P27: CATEGORIA DE INVERSIÓN | Q27: Unidad | R27: Cantidad | S27: Valor Unitario ($) | T27: Valor Total/Ha ($) | U27: Valor Total Proyecto ($) | W27: CATEGORIA DE INVERSIÓN | X27: Unidad | Y27: Cantidad | Z27: Valor Unitario ($) | AA27: Valor Total/Ha ($) | AB27: Valor Total Proyecto ($) | AD27: CATEGORIA DE INVERSIÓN | AE27: Unidad | AF27: Cantidad | AG27: Valor Unitario ($) | AH27: Valor Total/Ha ($) | AI27: Valor Total Proyecto ($) | AK27: CATEGORIA DE INVERSIÓN | AL27: Unidad | AM27: Cantidad | AN27: Valor Unitario ($) | AO27: Valor Total/Ha ($) | AP27: Valor Total Proyecto ($) | AR27: ITEM | AS27: COSTOS / KM (1000 ML) | AV27: COSTOS/ ML $ | AW27: COSTOS/HA (163 ML) | AX27: COSTO TOTAL AISLAMIENTO
B28: 1. COSTOS DIRECTOS | I28: 1. COSTOS DIRECTOS | P28: 1. COSTOS DIRECTOS | W28: 1. COSTOS DIRECTOS | AD28: 1. COSTOS DIRECTOS | AK28: 1. COSTOS DIRECTOS | AS28: Cantidad | AT28: Valor Unitario $ | AU28: Valor Total $
B29: 1.1. MANO DE OBRA | C29: RENDIMIENTO | I29: 1.1. MANO DE OBRA | J29: RENDIMIENTO | P29: 1.1. MANO DE OBRA | Q29: RENDIMIENTO | W29: 1.1. MANO DE OBRA | X29: RENDIMIENTO | AD29: 1.1. MANO DE OBRA | AE29: RENDIMIENTO | AK29: 1.1. MANO DE OBRA | AL29: RENDIMIENTO | AR29: 1. MANO DE OBRA
E30: =+IF(D30>0,$E$21,0) -> 0 | F30: =+D30*E30 -> 0 | L30: =+IF(K30>0,$E$21,0) -> 0 | M30: =+K30*L30 -> 0 | S30: =+IF(R30>0,$E$21,0) -> 0 | T30: =+R30*S30 -> 0 | Z30: =+IF(Y30>0,$E$21,0) -> 0 | AA30: =+Y30*Z30 -> 0 | AG30: =+IF(AF30>0,$E$21,0) -> 0 | AH30: =+AF30*AG30 -> 0 | AN30: =+IF(AM30>0,$E$21,0) -> 0 | AO30: =+AM30*AN30 -> 0 | AR30: Trazado | AS30: 0 | AT30: =+IF(AS30>0,$AU$20,0) -> 0 | AU30: =+AS30*AT30 -> 0 | AV30: =+AU30/1000 -> 0 | AW30: =+AV30*AT23 -> 0
B31: Trazado | C31: Jornal | D31: 0 | E31: =+IF(D31>0,$E$21,0) -> 0 | F31: =+D31*E31 -> 0 | I31: Trazado | J31: Jornal | K31: 0 | L31: =+IF(K31>0,$E$21,0) -> 0 | M31: =+K31*L31 -> 0 | P31: Trazado | Q31: Jornal | R31: 0 | S31: =+IF(R31>0,$E$21,0) -> 0 | T31: =+R31*S31 -> 0 | W31: Trazado | X31: Jornal | Y31: 0 | Z31: =+IF(Y31>0,$E$21,0) -> 0 | AA31: =+Y31*Z31 -> 0 | AD31: Trazado | AE31: Jornal | AF31: 0 | AG31: =+IF(AF31>0,$E$21,0) -> 0 | AH31: =+AF31*AG31 -> 0 | AK31: Trazado | AL31: Jornal | AM31: 0 | AN31: =+IF(AM31>0,$E$21,0) -> 0 | AO31: =+AM31*AN31 -> 0 | AR31: Ahoyado | AS31: 0 | AT31: =+IF(AS31>0,$AU$20,0) -> 0 | AU31: =+AS31*AT31 -> 0 | AV31: =+AU31/1000 -> 0 | AW31: =+AV31*AT23 -> 0
B32: Plateo o deshierbe | C32: Plateos | D32: =+IF(F24>0,D14,0) -> 0 | E32: =+IF(F24>0,(E21/D78),0) -> 0 | F32: =+D32*E32 -> 0 | I32: Plateo o deshierbe | J32: Plateos | K32: =+IF(M24>0,K14,0) -> 0 | L32: =+IF(M24>0,(L21/K78),0) -> 0 | M32: =+K32*L32 -> 0 | P32: Plateo o deshierbe | Q32: Plateos | R32: =+IF(T24>0,R14,0) -> 0 | S32: =+IF(T24>0,(S21/R78),0) -> 0 | T32: =+R32*S32 -> 0 | W32: Plateo o deshierbe | X32: Plateos | Y32: 1840 | Z32: 350 | AA32: =+Y32*Z32 -> 644000 | AB32: =AA32*$AA$24 -> 1288000 | AD32: Plateo o deshierbe | AE32: Plateos | AF32: =+IF(AH24>0,AF14,0) -> 0 | AG32: =+IF(AH24>0,(AG21/AF78),0) -> 0 | AH32: =+AF32*AG32 -> 0 | AK32: Plateo o deshierbe | AL32: Plateos | AM32: =+IF(AO24>0,AM14,0) -> 0 | AN32: =+IF(AO24>0,(AN21/AM78),0) -> 0 | AO32: =+AM32*AN32 -> 0 | AR32: Transporte menor | AS32: 0 | AT32: =+IF(AS32>0,$AU$20,0) -> 0 | AU32: =+AS32*AT32 -> 0 | AV32: =+AU32/1000 -> 0 | AW32: =+AV32*AT23 -> 0 | AY32: =+AA32*AA$24 -> 1288000 | AZ32: ='APU ESTABLECIMIENTO'!AZ30 -> 0 | BA32: =+AY32*AZ32 -> 0 | BB32: =+AY32+BA32 -> 1288000
B33: Aplicación de fertilizantes y correctivos | C33: Arboles | D33: =+IF(F24>0,D14,0) -> 0 | E33: =+IF(F24>0,(E21*D80)/D33,0) -> 0 | F33: =+D33*E33 -> 0 | I33: Aplicación de fertilizantes y correctivos | J33: Arboles | K33: =+IF(M24>0,K14,0) -> 0 | L33: =+IF(M24>0,(L21*K80)/K33,0) -> 0 | M33: =+K33*L33 -> 0 | P33: Aplicación de fertilizantes y correctivos | Q33: Arboles | R33: =+IF(T24>0,R14,0) -> 0 | S33: =+IF(T24>0,(S21*R80)/R33,0) -> 0 | T33: =+R33*S33 -> 0 | W33: Aplicación de fertilizantes y correctivos | X33: Arboles | Y33: 1840 | Z33: =+IF(AA24>0,(Z21*Y80)/Y33,0) -> 240.26087 | AA33: =+Y33*Z33 -> 442080 | AB33: =AA33*$AA$24 -> 884160 | AD33: Aplicación de fertilizantes y correctivos | AE33: Arboles | AF33: =+IF(AH24>0,AF14,0) -> 0 | AG33: =+IF(AH24>0,(AG21*AF80)/AF33,0) -> 0 | AH33: =+AF33*AG33 -> 0 | AK33: Aplicación de fertilizantes y correctivos | AL33: Arboles | AM33: =+IF(AO24>0,AM14,0) -> 0 | AN33: =+IF(AO24>0,(AN21*AM80)/AM33,0) -> 0 | AO33: =+AM33*AN33 -> 0 | AR33: Hincado | AS33: 0 | AT33: =+IF(AS33>0,$AU$20,0) -> 0 | AU33: =+AS33*AT33 -> 0 | AV33: =+AU33/1000 -> 0 | AW33: =+AV33*AT23 -> 0 | AY33: =+AA33*AA$24 -> 884160 | AZ33: =AZ32 -> 0 | BA33: =+AY33*AZ33 -> 0 | BB33: =+AY33+BA33 -> 884160
B34: Transporte interno de insumos | C34: Arboles | D34: =+IF(F24>0,D14,0) -> 0 | E34: =+IF(F24>0,(E21*D80)/D34,0) -> 0 | F34: =+D34*E34 -> 0 | I34: Transporte interno de insumos | J34: Arboles | K34: =+IF(M24>0,K14,0) -> 0 | L34: =+IF(M24>0,(L21*K80)/K34,0) -> 0 | M34: =+K34*L34 -> 0 | P34: Transporte interno de insumos | Q34: Arboles | R34: =+IF(T24>0,R14,0) -> 0 | S34: =+IF(T24>0,(S21*R80)/R34,0) -> 0 | T34: =+R34*S34 -> 0 | W34: Transporte interno de insumos | X34: Arboles | Y34: 1840 | Z34: =+IF(AA24>0,(Z21*Y81)/Y34,0) -> 240.26087 | AA34: =+Y34*Z34 -> 442080 | AB34: =AA34*$AA$24 -> 884160 | AD34: Transporte interno de insumos | AE34: Arboles | AF34: =+IF(AH24>0,AF14,0) -> 0 | AG34: =+IF(AH24>0,(AG21*AF80)/AF34,0) -> 0 | AH34: =+AF34*AG34 -> 0 | AK34: Transporte interno de insumos | AL34: Arboles | AM34: =+IF(AO24>0,AM14,0) -> 0 | AN34: =+IF(AO24>0,(AN21*AM80)/AM34,0) -> 0 | AO34: =+AM34*AN34 -> 0 | AR34: Templado y grapado | AS34: 0 | AT34: =+IF(AS34>0,$AU$20,0) -> 0 | AU34: =+AS34*AT34 -> 0 | AV34: =+AU34/1000 -> 0 | AW34: =+AV34*AT23 -> 0 | AY34: =+AA34*AA$24 -> 884160 | AZ34: =AZ33 -> 0 | BA34: =+AY34*AZ34 -> 0 | BB34: =+AY34+BA34 -> 884160
B35: Control fitosanitario | C35: Arboles | D35: =+IF(F24>0,D14,0) -> 0 | E35: =+IF(F24>0,(E21*D83)/D35,0) -> 0 | F35: =+D35*E35 -> 0 | I35: Control fitosanitario | J35: Arboles | K35: =+IF(M24>0,K14,0) -> 0 | L35: =+IF(M24>0,(L21*K83)/K35,0) -> 0 | M35: =+K35*L35 -> 0 | P35: Control fitosanitario | Q35: Arboles | R35: =+IF(T24>0,R14,0) -> 0 | S35: =+IF(T24>0,(S21*R83)/R35,0) -> 0 | T35: =+R35*S35 -> 0 | W35: Control fitosanitario | X35: Arboles | Y35: 1840 | Z35: =+IF(AA24>0,(Z21*Y83)/Y35,0) -> 240.26087 | AA35: =+Y35*Z35 -> 442080 | AB35: =AA35*$AA$24 -> 884160 | AD35: Control fitosanitario | AE35: Arboles | AF35: =+IF(AH24>0,AF14,0) -> 0 | AG35: =+IF(AH24>0,(AG21*AF83)/AF35,0) -> 0 | AH35: =+AF35*AG35 -> 0 | AK35: Control fitosanitario | AL35: Arboles | AM35: =+IF(AO24>0,AM14,0) -> 0 | AN35: =+IF(AO24>0,(AN21*AM83)/AM35,0) -> 0 | AO35: =+AM35*AN35 -> 0 | AR35: SUBTOTAL MANO DE OBRA | AS35: =SUM(AS30:AS34) -> 0 | AU35: =SUM(AU30:AU34) -> 0 | AV35: =SUM(AV30:AV34) -> 0 | AW35: =SUM(AW30:AW34) -> 0 | AX35: =+AW35*AW24 -> 0 | AY35: =+AA35*AA$24 -> 884160 | AZ35: =AZ34 -> 0 | BA35: =+AY35*AZ35 -> 0 | BB35: =+AY35+BA35 -> 884160
B36: Plantación (siembra) | C36: Árbol | D36: 0 | E36: =+IF(D36>0,$E$21,0) -> 0 | F36: =+D36*E36 -> 0 | I36: Plantación (siembra) | J36: Árbol | K36: 0 | L36: =+IF(K36>0,$E$21,0) -> 0 | M36: =+K36*L36 -> 0 | P36: Plantación (siembra) | Q36: Árbol | R36: 0 | S36: =+IF(R36>0,$E$21,0) -> 0 | T36: =+R36*S36 -> 0 | W36: Plantación (siembra) | X36: Árbol | Y36: 0 | Z36: =+IF(Y36>0,$E$21,0) -> 0 | AA36: =+Y36*Z36 -> 0 | AB36: =AA36*$AA$24 -> 0 | AD36: Plantación (siembra) | AE36: Árbol | AF36: 0 | AG36: =+IF(AF36>0,$E$21,0) -> 0 | AH36: =+AF36*AG36 -> 0 | AK36: Plantación (siembra) | AL36: Árbol | AM36: 0 | AN36: =+IF(AM36>0,$E$21,0) -> 0 | AO36: =+AM36*AN36 -> 0 | AR36: 2. INSUMOS | AY36: =+AA36*AA$24 -> 0 | AZ36: =AZ35 -> 0 | BA36: =+AY36*AZ36 -> 0 | BB36: =+AY36+BA36 -> 0
B37: Reposición (Replante) | C37: Arboles | D37: =+IF(F24>0,D14*D15,0) -> 0 | E37: =+IF(F24>0,E21/D84,0) -> 0 | F37: =+D37*E37 -> 0 | I37: Reposición (Replante) | J37: Arboles | K37: =+IF(M24>0,K14*K15,0) -> 0 | L37: =+IF(M24>0,L21/K84,0) -> 0 | M37: =+K37*L37 -> 0 | P37: Reposición (Replante) | Q37: Arboles | R37: =+IF(T24>0,R14*R15,0) -> 0 | S37: =+IF(T24>0,S21/R84,0) -> 0 | T37: =+R37*S37 -> 0 | W37: Reposición (Replante) | X37: Arboles | Y37: =+IF(AA24>0,Y14*Y15,0) -> 184.2 | Z37: 1100 | AA37: =+Y37*Z37 -> 202620 | AB37: =AA37*$AA$24 -> 405240 | AD37: Reposición (Replante) | AE37: Arboles | AF37: =+IF(AH24>0,AF14*AF15,0) -> 0 | AG37: =+IF(AH24>0,AG21/AF84,0) -> 0 | AH37: =+AF37*AG37 -> 0 | AK37: Reposición (Replante) | AL37: Arboles | AM37: =+IF(AO24>0,AM14*AM15,0) -> 0 | AN37: =+IF(AO24>0,AN21/AM84,0) -> 0 | AO37: =+AM37*AN37 -> 0 | AR37: Alambre de pua (Rollo) | AS37: =+AT18 -> 0 | AT37: =+AU18 -> 0 | AU37: =+AS37*AT37 -> 0 | AV37: =+AU37/1000 -> 0 | AW37: =+AV37*AT23 -> 0 | AX37: =+AW37*AW24 -> 0 | AY37: =+AA37*AA$24 -> 405240 | AZ37: =AZ36 -> 0 | BA37: =+AY37*AZ37 -> 0 | BB37: =+AY37+BA37 -> 405240
B38: SUBTOTAL MANO DE OBRA | F38: =SUM(F30:F37) -> 0 | G38: =+F38*F24 -> 0 | I38: SUBTOTAL MANO DE OBRA | M38: =SUM(M30:M37) -> 0 | N38: =+M38*M24 -> 0 | P38: SUBTOTAL MANO DE OBRA | T38: =SUM(T30:T37) -> 0 | U38: =+T38*T24 -> 0 | W38: SUBTOTAL MANO DE OBRA | Z38: =SUM(Z30:Z37) -> 2170.7826 | AA38: =SUM(AA30:AA37) -> 2172860 | AB38: =+AA38*AA24 -> 4345720 | AD38: SUBTOTAL MANO DE OBRA | AH38: =SUM(AH30:AH37) -> 0 | AI38: =+AH38*AH24 -> 0 | AK38: SUBTOTAL MANO DE OBRA | AO38: =SUM(AO30:AO37) -> 0 | AP38: =+AO38*AO24 -> 0 | AR38: Grapa (Kgr.) | AS38: =+AT19 -> 0 | AT38: =+AU19 -> 0 | AU38: =+AS38*AT38 -> 0 | AV38: =+AU38/1000 -> 0 | AW38: =+AV38*AT23 -> 0 | AX38: =+AW38*AW24 -> 0
I39: 1.2. INSUMOS | P39: 1.2. INSUMOS | W39: 1.2. INSUMOS | AD39: 1.2. INSUMOS | AK39: 1.2. INSUMOS | AR39: SUBTOTAL INSUMOS | AU39: =SUM(AU37:AU38) -> 0 | AV39: =SUM(AV37:AV38) -> 0 | AW39: =+AV39*AT23 -> 0 | AX39: =+AW39*AW24 -> 0
B40: Material vegetal de reposición | C40: Plántulas | D40: =+D14*D15 -> 0 | E40: =+E15 -> 0 | F40: =+D40*E40 -> 0 | G40: =+F40*F24 -> 0 | I40: Material vegetal de enriquecimiento | J40: Plántulas | K40: =+K14*K15 -> 0 | L40: =+L15 -> 0 | M40: =+K40*L40 -> 0 | N40: =+M40*M24 -> 0 | P40: Material vegetal de reposición | Q40: Plántulas | R40: =+R14*R15 -> 0 | S40: =+S15 -> 0 | T40: =+R40*S40 -> 0 | U40: =+T40*T24 -> 0 | W40: Material vegetal de reposición | X40: Plántulas | Y40: =+Y14*Y15 -> 184.2 | Z40: =+Z15 -> 18000 | AA40: =+Y40*Z40 -> 3315600 | AB40: =+AA40*$AA$24 -> 6631200 | AD40: Material vegetal de reposición | AE40: Plántulas | AF40: =+AF14*AF15 -> 0 | AG40: =+AG15 -> 0 | AH40: =+AF40*AG40 -> 0 | AI40: =+AH40*AH24 -> 0 | AK40: Material vegetal de reposición | AL40: Plántulas | AM40: =+AM14*AM15 -> 0 | AN40: =+AN15 -> 0 | AO40: =+AM40*AN40 -> 0 | AP40: =+AO40*AO24 -> 0 | AR40: Transporte mayor | AU40: =+AU39*AT21 -> 0 | AV40: =+AU40/1000 -> 0 | AW40: =+AV40*AT23 -> 0 | AX40: =+AW40*AW24 -> 0 | AY40: 1.2795 | AZ40: =+AB40*AY40 -> 8484620.4
B41: Fertilizantes | C41: Kgr. | D41: =+D16*D14/1000 -> 0 | E41: =+E16 -> 0 | F41: =+D41*E41 -> 0 | G41: =+F41*F24 -> 0 | I41: Fertilizantes | J41: Kgr. | K41: =+K16*K14/1000 -> 0 | L41: =+L16 -> 0 | M41: =+K41*L41 -> 0 | N41: =+M41*M24 -> 0 | P41: Fertilizantes | Q41: Kgr. | R41: =+R16*R14/1000 -> 0 | S41: =+S16 -> 0 | T41: =+R41*S41 -> 0 | U41: =+T41*T24 -> 0 | W41: Fertilizantes | X41: Kgr. | Y41: =+Y16*Y14/1000 -> 92.1 | Z41: =+Z16 -> 5200 | AA41: =+Y41*Z41 -> 478920 | AB41: =+AA41*$AA$24 -> 957840 | AD41: Fertilizantes | AE41: Kgr. | AF41: =+AF16*AF14/1000 -> 0 | AG41: =+AG16 -> 0 | AH41: =+AF41*AG41 -> 0 | AI41: =+AH41*AH24 -> 0 | AK41: Fertilizantes | AL41: Kgr. | AM41: =+AM16*AM14/1000 -> 0 | AN41: =+AN16 -> 0 | AO41: =+AM41*AN41 -> 0 | AP41: =+AO41*AO24 -> 0 | AR41: Herramientas | AU41: =+AU35*AT22 -> 0 | AV41: =+AU41/1000 -> 0 | AW41: =+AV41*AT23 -> 0 | AX41: =+AW41*AW24 -> 0 | AY41: 1.2795 | AZ41: =+AB41*AY41 -> 1225556.3
B42: Hidroretenedor | C42: Kgr. | D42: =+D17*D14/1000 -> 0 | E42: =+E17 -> 0 | F42: =+D42*E42 -> 0 | G42: =+F42*F24 -> 0 | I42: Hidroretenedor | J42: Kgr. | K42: =+K17*K14/1000 -> 0 | L42: =+L17 -> 0 | M42: =+K42*L42 -> 0 | N42: =+M42*M24 -> 0 | P42: Hidroretenedor | Q42: Kgr. | R42: =+R17*R14/1000 -> 0 | S42: =+S17 -> 0 | T42: =+R42*S42 -> 0 | U42: =+T42*T24 -> 0 | W42: Hidroretenedor | X42: Kgr. | Y42: =+Y17*Y14/1000 -> 0 | Z42: =+Z17 -> 0 | AA42: =+Y42*Z42 -> 0 | AB42: =+AA42*$AA$24 -> 0 | AD42: Hidroretenedor | AE42: Kgr. | AF42: =+AF17*AF14/1000 -> 0 | AG42: =+AG17 -> 0 | AH42: =+AF42*AG42 -> 0 | AI42: =+AH42*AH24 -> 0 | AK42: Hidroretenedor | AL42: Kgr. | AM42: =+AM17*AM14/1000 -> 0 | AN42: =+AN17 -> 0 | AO42: =+AM42*AN42 -> 0 | AP42: =+AO42*AO24 -> 0 | AR42: 3. IPC proyectado 2010 | AU42: =+(AU35+AU39)*$AT$24 -> 0 | AV42: =+(AV35+AV39)*$AT$24 -> 0 | AW42: =+(AW35+AW39)*$AT$24 -> 0 | AX42: =+(AX35+AX39)*$AT$24 -> 0 | AY42: 1.2795 | AZ42: =+AB42*AY42 -> 0
B43: Correctivos | C43: Kgr. | D43: =+D18*D14/1000 -> 0 | E43: =+E18 -> 0 | F43: =+D43*E43 -> 0 | G43: =+F43*F24 -> 0 | I43: Correctivos | J43: Kgr. | K43: =+K18*K14/1000 -> 0 | L43: =+L18 -> 0 | M43: =+K43*L43 -> 0 | N43: =+M43*M24 -> 0 | P43: Correctivos | Q43: Kgr. | R43: =+R18*R14/1000 -> 0 | S43: =+S18 -> 0 | T43: =+R43*S43 -> 0 | U43: =+T43*T24 -> 0 | W43: Correctivos | X43: Kgr. | Y43: =+Y18*Y14/1000 -> 0 | Z43: =+Z18 -> 0 | AA43: =+Y43*Z43 -> 0 | AB43: =+AA43*$AA$24 -> 0 | AD43: Correctivos | AE43: Kgr. | AF43: =+AF18*AF14/1000 -> 0 | AG43: =+AG18 -> 0 | AH43: =+AF43*AG43 -> 0 | AI43: =+AH43*AH24 -> 0 | AK43: Correctivos | AL43: Kgr. | AM43: =+AM18*AM14/1000 -> 0 | AN43: =+AN18 -> 0 | AO43: =+AM43*AN43 -> 0 | AP43: =+AO43*AO24 -> 0 | AR43: TOTAL AISLAMIENTO | AU43: =+AU35+AU39+AU40+AU41+AU42 -> 0 | AV43: =+AV35+AV39+AV40+AV41+AV42 -> 0 | AW43: =+AW35+AW39+AW40+AW41+AW42 -> 0 | AX43: =+AX35+AX39+AX40+AX41+AX42 -> 0 | AY43: 1.2795 | AZ43: =+AB43*AY43 -> 0
B44: Microelementos | C44: Kgr. | D44: =+D19*D14/1000 -> 0 | E44: =+E19 -> 0 | F44: =+D44*E44 -> 0 | G44: =+F44*F24 -> 0 | I44: Microelementos | J44: Kgr. | K44: =+K19*K14/1000 -> 0 | L44: =+L19 -> 0 | M44: =+K44*L44 -> 0 | N44: =+M44*M24 -> 0 | P44: Abono Orgánico | Q44: Kgr. | R44: =+R19*R14/1000 -> 0 | S44: =+S19 -> 0 | T44: =+R44*S44 -> 0 | U44: =+T44*T24 -> 0 | W44: Microelementos | X44: Kgr. | Y44: =+Y19*Y14/1000 -> 9.21 | Z44: =+Z19 -> 4000 | AA44: =+Y44*Z44 -> 36840 | AB44: =+AA44*$AA$24 -> 73680 | AD44: Microelementos | AE44: Kgr. | AF44: =+AF19*AF14/1000 -> 0 | AG44: =+AG19 -> 0 | AH44: =+AF44*AG44 -> 0 | AI44: =+AH44*AH24 -> 0 | AK44: Microelementos | AL44: Kgr. | AM44: =+AM19*AM14/1000 -> 0 | AN44: =+AN19 -> 0 | AO44: =+AM44*AN44 -> 0 | AP44: =+AO44*AO24 -> 0 | AY44: 1.2795 | AZ44: =+AB44*AY44 -> 94273.56
B45: Insecticidas | C45: Kgr.- Lts. | D45: =+D20 -> 0 | E45: =+E20 -> 0 | F45: =+D45*E45 -> 0 | G45: =+F45*F24 -> 0 | I45: Insecticidas | J45: Kgr.- Lts. | K45: =+K20 -> 0 | L45: =+L20 -> 0 | M45: =+K45*L45 -> 0 | N45: =+M45*M24 -> 0 | P45: Insecticidas | Q45: Kgr.- Lts. | R45: =+R20 -> 0 | S45: =+S20 -> 0 | T45: =+R45*S45 -> 0 | U45: =+T45*T24 -> 0 | W45: Insecticidas | X45: Kgr.- Lts. | Y45: =+Y20 -> 2 | Z45: =+Z20 -> 12000 | AA45: =+Y45*Z45 -> 24000 | AB45: =+AA45*$AA$24 -> 48000 | AD45: Insecticidas | AE45: Kgr.- Lts. | AF45: =+AF20 -> 0 | AG45: =+AG20 -> 0 | AH45: =+AF45*AG45 -> 0 | AI45: =+AH45*AH24 -> 0 | AK45: Insecticidas | AL45: Kgr.- Lts. | AM45: =+AM20 -> 0 | AN45: =+AN20 -> 0 | AO45: =+AM45*AN45 -> 0 | AP45: =+AO45*AO24 -> 0 | AR45: Tipo de poste | AS45: xxxx | AU45: Número de hilos | AW45: =+AT15 -> 0 | AY45: 1.2795 | AZ45: =+AB45*AY45 -> 61416
B46: SUBTOTAL INSUMOS | F46: =SUM(F40:F45) -> 0 | G46: =SUM(G40:G45) -> 0 | I46: SUBTOTAL INSUMOS | M46: =SUM(M40:M45) -> 0 | N46: =SUM(N40:N45) -> 0 | P46: SUBTOTAL INSUMOS | T46: =SUM(T40:T45) -> 0 | U46: =SUM(U40:U45) -> 0 | W46: SUBTOTAL INSUMOS | Z46: =SUM(Z40:Z45) -> 39200 | AA46: =SUM(AA40:AA45) -> 3855360 | AB46: =SUM(AB40:AB45) -> 7710720 | AD46: SUBTOTAL INSUMOS | AH46: =SUM(AH40:AH45) -> 0 | AI46: =SUM(AI40:AI45) -> 0 | AK46: SUBTOTAL INSUMOS | AO46: =SUM(AO40:AO45) -> 0 | AP46: =SUM(AP40:AP45) -> 0 | AR46: Dimensión (Largo m - Diámetro cm) | AS46: xxxx | AU46: Distancia entre hilos (cm) | AW46: xxxxx
...

Sheet APU CAPACITACIONES
B2: COSTOS DE EVENTO (TALLERES, GIRAS, REUNIONES, CAPACITACIONES, ENTRE OTROS) PARA LA EJECUCIÓN DEL PROYECTO
B4: Entidad Formuladora
B6: NOMBRE DEL PROYECTO: | C6: RESTAURACIÓN DE LOS BOSQUES DE GALERÍA DEL CAÑO BUGRE DESDE EL BARRIO CARACAS AL CORREGIMIENTO RABOLARGO EN EL MUNICIPIO DE CERETÉ - DEPARTAMENTO DE CÓRDOBA
B8: TIPO DE EVENTO I | C8: Taller y Capacitaciones
B10: NÚMERO DE BENEFICIARIOS | C10: 30 | E10: # HORAS/EVENTO | G10: 4 | H10: # EVENTOS/DÍA | I10: 1
B12: NÚMERO DE EVENTOS | C12: 5 | E12: NUMERO DE DÍAS DEL EVENTO | G12: 1 | H12: NUMERO DE PERSONAS POR EVENTO | I12: 30
B14: DESCRIPCIÓN | D14: UNIDAD | E14: CANTIDAD / DEDICACION | G14: COSTO UNITARIO | H14: VALOR TOTAL UN EVENTO ($) | I14: VALOR TOTAL EVENTOS ($)
B15: 1. EQUIPOS | H15: =+H16+H17+H18 -> 200000 | I15: =+I16+I17+I18 -> 1000000
B16: Videobeam | D16: Número | E16: 1 | G16: 150000 | H16: =+E16*G16 -> 150000 | I16: =+H16*C12 -> 750000
