Workbook

Sheet RESUMEN
A2: OFERTA ECONOMICA LOTE 1
A4: FRENTE | B4: MUNICIPIO | C4: OBJETO | D4: VALOR | E4: VALOR
A5: 1 | B5: CACHIPAY | C5: =+'Entidad Cachipay'!A1 -> OPTIMIZACIÓN DEL SISTEMA DE ALCANTARILLADO SANITARIO Y PLUVIAL FASE 1 DEL MUNICIPIO DE CACHIPAY, CUNDINAMARCA | D5: =+'Entidad Cachipay'!F130 -> 2915366557 | E5: =+'Proponente Cachipay'!G130 -> 0
A6: 2 | B6: CAQUEZA | C6: =+'Entidad Caqueza'!A1 -> PLAN MAESTRO DE ALCANTARILLADO DEL CASCO URBANO DEL MUNICIPIO DE CÁQUEZA CUNDINAMARCA – FASE I | D6: =+'Entidad Caqueza'!F88 -> 3353854740 | E6: =+'Proponente Caqueza'!G88 -> 0
A7: 3 | B7: SAN ANTONIO DEL TEQUENDAMA | C7: =+'Proponente San Antonio'!A1 -> CONSTRUCCION DE ALCANTARILLADO DEL CENTRO POBLADO SANTANDERCITO, BELLAVISTA DEL MUNICIPIO SAN ANTONIO DE TEQUENDAMA, CUNDINAMARCA | D7: =+'Entidad San Antonio'!F103 -> 4419539524 | E7: =+'Proponente San Antonio'!G103 -> 0
A8: 4 | B8: ZIPACON | C8: =+'Entidad Zipacon'!A1 -> CONSTRUCCION DE LA PRIMERA ETAPA-FASE ALCANTARILLADO DEL PLAN MAESTRO DE ACUEDUCTO Y ALCANTARILLADO DEL CASCO URBANO DEL MUNICIPIO DE ZIPACON, CUNDINAMARCA | D8: =+'Entidad Zipacon'!F104 -> 2803896752 | E8: =+'Proponente Zipacon'!G104 -> 0
A9: 5 | B9: CHOCONTA | C9: =+'Entidad Choconta'!B1 -> CONSTRUCCIÓN DEL PLAN MAESTRO DE ALCANTARILLADO URBANO DEL MUNICIPIO DE CHOCONTÁ FASE I | D9: =+'Entidad Choconta'!H183 -> 14963438362 | E9: =+'Proponente Choconta'!I183 -> 0
A10: TOTAL | D10: =+SUM(D5:D9) -> 28456095935 | E10: =+SUM(E5:E9) -> 0
C16: Firma del represnetante legal

Sheet Entidad Cachipay
A1: OPTIMIZACIÓN DEL SISTEMA DE ALCANTARILLADO SANITARIO Y PLUVIAL FASE 1 DEL MUNICIPIO DE CACHIPAY, CUNDINAMARCA
A2: PRESUPUESTO OFICIAL
A3: ALCANTARILLADO PLUVIAL
A4: ITEM | B4: DESCRIPCIÓN | C4: UND | D4: CANTIDAD | E4: VR. UNITARIO | F4: VALOR TOTAL
A5: 1 | B5: ACTIVIDADES PRELIMINARES
A6: 1.1 | B6: LOCALIZACION Y REPLANTEO
A7: 1.1.1 | B7: LOCALIZACION Y REPLANTEO DE POZOS | C7: M2 | D7: 94.74 | E7: 20541 | F7: =ROUND(D7*E7,0) -> 1946054
A8: 1.1.2 | B8: LOCALIZACION Y REPLANTEO DE REDES | C8: ML | D8: 634.8 | E8: 16812 | F8: =ROUND(D8*E8,0) -> 10672258
A9: 1.2 | B9: DEMOLICIONES PAVIMENTOS Y DESMONTE
A10: 1.2.2 | B10: DEMOLICION PAVIMENTO RIGIDO | C10: M3 | D10: 192.35 | E10: 579399 | F10: =ROUND(D10*E10,0) -> 111447398
A11: 1.2.3 | B11: CORTE DE PAVIMENTO | C11: ML | D11: 1349.1 | E11: 24108 | F11: =ROUND(D11*E11,0) -> 32524103
A12: 1.2.4 | B12: DEMOLICION SARDINEL | C12: M3 | D12: 3.12 | E12: 579399 | F12: =ROUND(D12*E12,0) -> 1807725
A13: 1.2.5 | B13: REPOSICION DE SARDINEL | C13: ML | D13: 52 | E13: 109543 | F13: =ROUND(D13*E13,0) -> 5696236
B14: SUB TOTAL ACTIVIDADES PRELIMINARES | F14: =+SUM(F7:F13) -> 164093774
A16: 2 | B16: EXCAVACIONES Y RELLENOS
A17: 2.1 | B17: EXCAVACIONES A MANO EN CONGLOMERADO Y BAJO AGUA
A18: 2.1.1 | B18: EXCAVACIONES A MANO EN CONGLOMERADO. | C18: M3 | D18: 6 | E18: 115175 | F18: =ROUND(D18*E18,0) -> 691050
A19: 2.1.2 | B19: EXCAVACIONES A MAQUINA | C19: M3 | D19: 6 | E19: 30446 | F19: =ROUND(D19*E19,0) -> 182676
A20: 2.1.3 | B20: EXCAVACION EN ROCA | C20: M3 | D20: 863.33 | E20: 119184 | F20: =ROUND(D20*E20,0) -> 102895123
A21: 2.2 | B21: ENTIBADOS
A22: 2.2.1 | B22: ENTIBADO TIPO 1 UTILIZACIONES ( MADERA) | C22: M2 | D22: 1336.13 | E22: 26944 | F22: =ROUND(D22*E22,0) -> 36000687
A23: 2.3 | B23: RELLENOS
A24: 2.3.1 | B24: GRAVA 1/2" 0,25 | C24: M3 | D24: 116.63 | E24: 291257 | F24: =ROUND(D24*E24,0) -> 33969304
A25: 2.3.2 | B25: SUB BASE GRANULAR B400 0,30 | C25: M3 | D25: 139.96 | E25: 240328 | F25: =ROUND(D25*E25,0) -> 33636307
A26: 2.3.3 | B26: RELLENO EN MATERIAL COMUN h=VARIABLE | C26: M3 | D26: 293.44 | E26: 43328 | F26: =ROUND(D26*E26,0) -> 12714168
A27: 2.3.4 | B27: RECEBO COMUN 0,20*2 | C27: M3 | D27: 186.61 | E27: 237093 | F27: =ROUND(D27*E27,0) -> 44243925
A28: 2.7 | B28: CARGUE Y RETIRO DE SOBRANTES
A29: 2,7,1 | B29: CARGUE Y RETIRO SOBRANTES | C29: M3 | D29: 641.09 | E29: 181427 | F29: =ROUND(D29*E29,0) -> 116311035
B30: SUBTOTAL EXCAVACIONES Y RELLENOS | F30: =+SUM(F18:F29) -> 380644275
A32: 3 | B32: REDES DE ALCANTARILLADO Y ACCESORIOS
A33: 3.1 | B33: INSTALACIÓN DE TUBERÍA
A34: 3.1.1 | B34: INSTALACIÓN DE TUBERÍA PARA ALCANTARILLADO DE PARED ESTRUCTURAL PVC, DOBLE EXTRUSIÓN, PARED INTERIOR LISA Y EXTERIOR CORRUGADA, SISTEMA DE UNIÓN MECÁNICO, CAMPANA ESPIGO CON HIDROSELLO DE CAUCHO
A35: 3.1.1.1 | B35: SUMINISTRO E INSTALACION DE TUBERIA PVC 10" | C35: ML | D35: 408.5 | E35: 177951 | F35: =ROUND(D35*E35,0) -> 72692984
A36: 3.1.1.2 | B36: SUMINISTRO E INSTALACION DE TUBERIA PVC 12" | C36: ML | D36: 103.8 | E36: 248782 | F36: =ROUND(D36*E36,0) -> 25823572
A37: 3.1.1.3 | B37: SUMINISTRO E INSTALACION DE TUBERIA PVC 16" | C37: ML | D37: 122.5 | E37: 365667 | F37: =ROUND(D37*E37,0) -> 44794208
B38: SUBTOTAL REDES DE ALCANTARILLADO Y ACCESORIOS | F38: =+SUM(F35:F37) -> 143310764
A40: 4 | B40: POZOS DE INSPECCIÓN NUEVOS
A41: 4.1 | B41: POZOS DE INSPECCIÓN EN MAMPOSTERIA NUEVO
A42: 4.1.1 | B42: CILINDROS EN MAMPOSTERIA D=1,70 M
A43: 4.1.1.1 | B43: CILINDRO POZO EN LADRILLO TOLETE, Di=1.20M, E=0.25M (INC. PAÑETE INTERNO E=1.5CM Y CAÑUELA | C43: ML | D43: 99.33 | E43: 1257421 | F43: =ROUND(D43*E43,0) -> 124899628
...

Sheet Proponente Cachipay
A1: OPTIMIZACIÓN DEL SISTEMA DE ALCANTARILLADO SANITARIO Y PLUVIAL FASE 1 DEL MUNICIPIO DE CACHIPAY, CUNDINAMARCA
A2: OFERTA ECONOMICA
A3: ALCANTARILLADO PLUVIAL
A4: ITEM | B4: DESCRIPCIÓN | C4: UND | D4: CANTIDAD | E4: VR. UNITARIO | F4: VALOR TOTAL
A5: 1 | B5: ACTIVIDADES PRELIMINARES
A6: 1.1 | B6: LOCALIZACION Y REPLANTEO
A7: 1.1.1 | B7: LOCALIZACION Y REPLANTEO DE POZOS | C7: M2 | D7: 94.74
A8: 1.1.2 | B8: LOCALIZACION Y REPLANTEO DE REDES | C8: ML | D8: 634.8
A9: 1.2 | B9: DEMOLICIONES PAVIMENTOS Y DESMONTE
A10: 1.2.2 | B10: DEMOLICION PAVIMENTO RIGIDO | C10: M3 | D10: 192.35
A11: 1.2.3 | B11: CORTE DE PAVIMENTO | C11: ML | D11: 1349.1
A12: 1.2.4 | B12: DEMOLICION SARDINEL | C12: M3 | D12: 3.12
A13: 1.2.5 | B13: REPOSICION DE SARDINEL | C13: ML | D13: 52
B14: SUB TOTAL ACTIVIDADES PRELIMINARES
A16: 2 | B16: EXCAVACIONES Y RELLENOS
A17: 2.1 | B17: EXCAVACIONES A MANO EN CONGLOMERADO Y BAJO AGUA
A18: 2.1.1 | B18: EXCAVACIONES A MANO EN CONGLOMERADO. | C18: M3 | D18: 6
A19: 2.1.2 | B19: EXCAVACIONES A MAQUINA | C19: M3 | D19: 6
A20: 2.1.3 | B20: EXCAVACION EN ROCA | C20: M3 | D20: 863.33
A21: 2.2 | B21: ENTIBADOS
A22: 2.2.1 | B22: ENTIBADO TIPO 1 UTILIZACIONES ( MADERA) | C22: M2 | D22: 1336.13
A23: 2.3 | B23: RELLENOS
A24: 2.3.1 | B24: GRAVA 1/2" 0,25 | C24: M3 | D24: 116.63
A25: 2.3.2 | B25: SUB BASE GRANULAR B400 0,30 | C25: M3 | D25: 139.96
A26: 2.3.3 | B26: RELLENO EN MATERIAL COMUN h=VARIABLE | C26: M3 | D26: 293.44
A27: 2.3.4 | B27: RECEBO COMUN 0,20*2 | C27: M3 | D27: 186.61
A28: 2.7 | B28: CARGUE Y RETIRO DE SOBRANTES
A29: 2,7,1 | B29: CARGUE Y RETIRO SOBRANTES | C29: M3 | D29: 641.09
B30: SUBTOTAL EXCAVACIONES Y RELLENOS
A32: 3 | B32: REDES DE ALCANTARILLADO Y ACCESORIOS
A33: 3.1 | B33: INSTALACIÓN DE TUBERÍA
A34: 3.1.1 | B34: INSTALACIÓN DE TUBERÍA PARA ALCANTARILLADO DE PARED ESTRUCTURAL PVC, DOBLE EXTRUSIÓN, PARED INTERIOR LISA Y EXTERIOR CORRUGADA, SISTEMA DE UNIÓN MECÁNICO, CAMPANA ESPIGO CON HIDROSELLO DE CAUCHO
A35: 3.1.1.1 | B35: SUMINISTRO E INSTALACION DE TUBERIA PVC 10" | C35: ML | D35: 408.5
A36: 3.1.1.2 | B36: SUMINISTRO E INSTALACION DE TUBERIA PVC 12" | C36: ML | D36: 103.8
A37: 3.1.1.3 | B37: SUMINISTRO E INSTALACION DE TUBERIA PVC 16" | C37: ML | D37: 122.5
B38: SUBTOTAL REDES DE ALCANTARILLADO Y ACCESORIOS
A40: 4 | B40: POZOS DE INSPECCIÓN NUEVOS
A41: 4.1 | B41: POZOS DE INSPECCIÓN EN MAMPOSTERIA NUEVO
A42: 4.1.1 | B42: CILINDROS EN MAMPOSTERIA D=1,70 M
A43: 4.1.1.1 | B43: CILINDRO POZO EN LADRILLO TOLETE, Di=1.20M, E=0.25M (INC. PAÑETE INTERNO E=1.5CM Y CAÑUELA | C43: ML | D43: 99.33
...

Sheet Entidad Caqueza
A1: PLAN MAESTRO DE ALCANTARILLADO DEL CASCO URBANO DEL MUNICIPIO DE CÁQUEZA CUNDINAMARCA – FASE I
A2: PRESUPUESTO OFICIAL
A3: ALCANTARILLADO SANITARIO
A4: SANITARIO CENTRO
A5: ITEM | B5: DESCRIPCIÓN | C5: UND | D5: CANTIDAD | E5: VR. UNITARIO | F5: VALOR TOTAL
A6: 1 | B6: OBRAS PRELIMINARES
A7: 1.1 | B7: ACTIVIDADES PRELIMINARES
A8: 1.1.1 | B8: LOCALIZACIÓN Y REPLANTEO DE REDES (INCLUYE EQUIPO DE TOPOGRAFIA, CINTA Y HERRAMIENTA MENOR) | C8: ML | D8: 1580.18 | E8: 6039 | F8: =+ROUND(D8*E8,0) -> 9542707
A9: 2 | B9: EXCAVACIONES, DEMOLICIONES, ENTIBADOS Y RELLENOS
A10: 2.1 | B10: EXCAVACIONES
A11: 2.1.1 | B11: EXCAVACIONES MANUALES DE 0 A 2 m DE PROFUNDIDAD
A12: 2.1.1.1 | B12: EXCAVACIONES EN MATERIAL COMÚN DE 0,00 A 2,00M | C12: M3 | D12: 1116.55 | E12: 55702 | F12: =+ROUND(D12*E12,0) -> 62194068
A13: 2.1.2 | B13: EXCAVACIONES DE 0 A 4 m DE PROFUNDIDAD
A14: 2.1.2.1 | B14: EXCAVACIONES EN MATERIAL COMÚN DE 2 A 4,00M | C14: M3 | D14: 2539.51 | E14: 72586 | F14: =+ROUND(D14*E14,0) -> 184332873
A15: 2.1.3 | B15: EXCAVACIONES MAYORES A 4 m DE PROFUNDIDAD
A16: 2.1.3.1 | B16: EXCAVACIONES EN MATERIAL COMÚN MAYORES 4,00M | C16: M3 | D16: 300.13 | E16: 60488 | F16: =+ROUND(D16*E16,0) -> 18154263
A17: 2.2 | B17: RELLENOS ( INCLUYE SUMINISTRO E INSTALACIÓN)
A18: 2.2.1 | B18: RELLENO CON MATERIAL SELECCIONADO PROCEDENTE DE LA EXCAVACIÓN | C18: M³ | D18: 1435.47 | E18: 33406 | F18: =+ROUND(D18*E18,0) -> 47953311
A19: 2.2.2 | B19: BASE GRANULAR | C19: M³ | D19: 109.85 | E19: 162365 | F19: =+ROUND(D19*E19,0) -> 17835795
A20: 2.2.3 | B20: SUBBASE GRANULAR | C20: M³ | D20: 539.46 | E20: 154475 | F20: =+ROUND(D20*E20,0) -> 83333084
A21: 2.2.4 | B21: B-200 RECEBO SELECCIONADO | C21: M³ | D21: 668.49 | E21: 86280 | F21: =+ROUND(D21*E21,0) -> 57677317
A22: 2.2.5 | B22: RELLENO CON ARENA DE PEÑA (TIPO 7) | C22: M³ | D22: 371.97 | E22: 185505 | F22: =+ROUND(D22*E22,0) -> 69002295
A23: 2.5 | B23: DEMOLICIÓN
A24: 2.5.4 | B24: DEMOLICIÓN DE PAVIMENTO RÍGIDO | C24: M3 | D24: 91.34 | E24: 120368 | F24: =+ROUND(D24*E24,0) -> 10994413
A25: 2.3 | B25: CARGUE, DESCARGUE, TRANSPORTE Y DISPOSICIÓN DE MATERIALES
A26: 2.3.3 | B26: CARGUE Y DISPOSICIÓN DE SOBRANTES HASTA SITIO AUTORIZADO | C26: M³ | D26: 2605.22 | E26: 117991 | F26: =+ROUND(D26*E26,0) -> 307392513
A28: 2.6 | B28: ENTIBADOS
A29: 2.6.4 | B29: ENTIBADO TIPO E1A CONTINUO EN CAJONES DE ALUMINIO O DE ACERO. PROFUNDIDAD 0-2m | C29: M2 | D29: 1925.78 | E29: 78501 | F29: =+ROUND(D29*E29,0) -> 151175656
A30: 2.6.5 | B30: ENTIBADO TIPO E1B CONTINUO EN CAJONES DE ACERO. PROFUNDIDAD 0-3m | C30: M2 | D30: 4587.69 | E30: 80012 | F30: =+ROUND(D30*E30,0) -> 367070252
A31: 2.6.6 | B31: ENTIBADO TIPO DESLIZANTE E2 | C31: M2 | D31: 593.56 | E31: 83918 | F31: =+ROUND(D31*E31,0) -> 49810368
A32: 3 | B32: CONCRETOS, MORTEROS, ACERO DE REFUERZO Y ADITIVOS
A33: 3.1 | B33: CONCRETO
A34: 3.1.1 | B34: CONCRETOS SIMPLES
A35: 3.1.1.2 | B35: CONCRETO SIMPLE RESIST. 10.5 MPA (105KG/CM2) | C35: M3 | D35: 10.26 | E35: 775028 | F35: =+ROUND(D35*E35,0) -> 7951787
A36: 5 | B36: REDES A FLUJO LIBRE
A37: 5.1 | B37: INSTALACIÓN TUBERÍAS EN PVC
A38: 5.1.1 | B38: SUMINISTRO E INSTALACIÓN TUBERÍA PVC DIÁMETRO 6" | C38: ML | D38: 210 | E38: 92622 | F38: =+ROUND(D38*E38,0) -> 19450620
A39: 5.1.4 | B39: SUMINISTRO E INSTALACIÓN TUBERÍA PVC DIÁMETRO 12" | C39: ML | D39: 538.78 | E39: 183427 | F39: =+ROUND(D39*E39,0) -> 98826799
A40: 5.1.8 | B40: SUMINISTRO E INSTALACIÓN TUBERÍA PVC REFORZADO DIÁMETRO 20" | C40: ML | D40: 831 | E40: 799107 | F40: =+ROUND(D40*E40,0) -> 664057917
A41: 5.3 | B41: POZOS DE INSPECCIÓN
...

Sheet Proponente Caqueza
A1: PLAN MAESTRO DE ALCANTARILLADO DEL CASCO URBANO DEL MUNICIPIO DE CÁQUEZA CUNDINAMARCA – FASE I
A2: OFERTA ECONOMICA
A3: ALCANTARILLADO SANITARIO
A4: SANITARIO CENTRO
A5: ITEM | B5: DESCRIPCIÓN | C5: UND | D5: CANTIDAD | E5: VR. UNITARIO | F5: VALOR TOTAL
A6: 1 | B6: OBRAS PRELIMINARES
A7: 1.1 | B7: ACTIVIDADES PRELIMINARES
A8: 1.1.1 | B8: LOCALIZACIÓN Y REPLANTEO DE REDES (INCLUYE EQUIPO DE TOPOGRAFIA, CINTA Y HERRAMIENTA MENOR) | C8: ML | D8: 1580.18
A9: 2 | B9: EXCAVACIONES, DEMOLICIONES, ENTIBADOS Y RELLENOS
A10: 2.1 | B10: EXCAVACIONES
A11: 2.1.1 | B11: EXCAVACIONES MANUALES DE 0 A 2 m DE PROFUNDIDAD
A12: 2.1.1.1 | B12: EXCAVACIONES EN MATERIAL COMÚN DE 0,00 A 2,00M | C12: M3 | D12: 1116.55
A13: 2.1.2 | B13: EXCAVACIONES DE 0 A 4 m DE PROFUNDIDAD
A14: 2.1.2.1 | B14: EXCAVACIONES EN MATERIAL COMÚN DE 2 A 4,00M | C14: M3 | D14: 2539.51
A15: 2.1.3 | B15: EXCAVACIONES MAYORES A 4 m DE PROFUNDIDAD
A16: 2.1.3.1 | B16: EXCAVACIONES EN MATERIAL COMÚN MAYORES 4,00M | C16: M3 | D16: 300.13
A17: 2.2 | B17: RELLENOS ( INCLUYE SUMINISTRO E INSTALACIÓN)
A18: 2.2.1 | B18: RELLENO CON MATERIAL SELECCIONADO PROCEDENTE DE LA EXCAVACIÓN | C18: M³ | D18: 1435.47
A19: 2.2.2 | B19: BASE GRANULAR | C19: M³ | D19: 109.85
A20: 2.2.3 | B20: SUBBASE GRANULAR | C20: M³ | D20: 539.46
A21: 2.2.4 | B21: B-200 RECEBO SELECCIONADO | C21: M³ | D21: 668.49
A22: 2.2.5 | B22: RELLENO CON ARENA DE PEÑA (TIPO 7) | C22: M³ | D22: 371.97
A23: 2.5 | B23: DEMOLICIÓN
A24: 2.5.4 | B24: DEMOLICIÓN DE PAVIMENTO RÍGIDO | C24: M3 | D24: 91.34
A25: 2.3 | B25: CARGUE, DESCARGUE, TRANSPORTE Y DISPOSICIÓN DE MATERIALES
A26: 2.3.3 | B26: CARGUE Y DISPOSICIÓN DE SOBRANTES HASTA SITIO AUTORIZADO | C26: M³ | D26: 2605.22
A28: 2.6 | B28: ENTIBADOS
A29: 2.6.4 | B29: ENTIBADO TIPO E1A CONTINUO EN CAJONES DE ALUMINIO O DE ACERO. PROFUNDIDAD 0-2m | C29: M2 | D29: 1925.78
A30: 2.6.5 | B30: ENTIBADO TIPO E1B CONTINUO EN CAJONES DE ACERO. PROFUNDIDAD 0-3m | C30: M2 | D30: 4587.69
A31: 2.6.6 | B31: ENTIBADO TIPO DESLIZANTE E2 | C31: M2 | D31: 593.56
A32: 3 | B32: CONCRETOS, MORTEROS, ACERO DE REFUERZO Y ADITIVOS
A33: 3.1 | B33: CONCRETO
A34: 3.1.1 | B34: CONCRETOS SIMPLES
A35: 3.1.1.2 | B35: CONCRETO SIMPLE RESIST. 10.5 MPA (105KG/CM2) | C35: M3 | D35: 10.26
A36: 5 | B36: REDES A FLUJO LIBRE
A37: 5.1 | B37: INSTALACIÓN TUBERÍAS EN PVC
A38: 5.1.1 | B38: SUMINISTRO E INSTALACIÓN TUBERÍA PVC DIÁMETRO 6" | C38: ML | D38: 210
A39: 5.1.4 | B39: SUMINISTRO E INSTALACIÓN TUBERÍA PVC DIÁMETRO 12" | C39: ML | D39: 538.78
A40: 5.1.8 | B40: SUMINISTRO E INSTALACIÓN TUBERÍA PVC REFORZADO DIÁMETRO 20" | C40: ML | D40: 831
A41: 5.3 | B41: POZOS DE INSPECCIÓN
...

Sheet Entidad San Antonio
A1: CONSTRUCCION DE ALCANTARILLADO DEL CENTRO POBLADO SANTANDERCITO, BELLAVISTA DEL MUNICIPIO SAN ANTONIO DE TEQUENDAMA, CUNDINAMARCA
A2: PRESUPUESTO OFICIAL
A3: ALCANTARILLADO
A4: ITEM | B4: DESCRIPCIÓN | C4: UND | D4: CANTIDAD | E4: VR. UNITARIO | F4: VALOR TOTAL
A5: 1 | B5: ACTIVIDADES PRELIMINARES
A6: 1.1 | B6: LOCALIZACION Y REPLANTEO
A7: 1.1.1 | B7: LOCALIZACIÓN Y REPLANTEO REDES | C7: ML | D7: 2891.82 | E7: 17432 | F7: =ROUND(D7*E7,0) -> 50410206
A8: 1.2 | B8: DEMOLICIONES PAVIMENTOS Y DESMONTE
A9: 1,2,1 | B9: DEMOLICIÓN DE PLACA HUELLA | C9: M3 | D9: 105.04 | E9: 45845 | F9: =ROUND(D9*E9,0) -> 4815559
A10: 1.2.2 | B10: DEMOLICIÓN DE PAVIMENTO FLEXIBLE | C10: M3 | D10: 173.98 | E10: 24879 | F10: =ROUND(D10*E10,0) -> 4328448
A11: 1.2.3 | B11: DEMOLICIÓN DE PAVIMENTO RIGIDO | C11: M3 | D11: 81.42 | E11: 23960 | F11: =ROUND(D11*E11,0) -> 1950823
A12: 1.2.4 | B12: DEMOLICION ADOQUIN SOBRE ARENA H=0.15M | C12: M2 | D12: 410.51 | E12: 18455 | F12: =ROUND(D12*E12,0) -> 7575962
A13: 1.2.5 | B13: CORTE DE PAVIMENTO | C13: ML | D13: 3470.85 | E13: 15301 | F13: =ROUND(D13*E13,0) -> 53107476
B14: SUB TOTAL ACTIVIDADES PRELIMINARES | F14: =ROUND(SUM(F7:F13),0) -> 122188474
A15: 2 | B15: EXCAVACIONES Y RELLENOS
A16: 2.1 | B16: EXCAVACIONES A MANO EN CONGLOMERADO Y BAJO AGUA
A17: 2.1.1 | B17: EXCAVACIONES A MANO EN CONGLOMERADO. | C17: M3 | D17: 837.62 | E17: 121186 | F17: =ROUND(D17*E17,0) -> 101507817
A18: 2.1.2 | B18: EXCAVACIONES A MAQUINA | C18: M3 | D18: 1386.87 | E18: 20907 | F18: =ROUND(D18*E18,0) -> 28995291
A19: 2.1.3 | B19: EXCAVACION EN ROCA | C19: M3 | D19: 2512.86 | E19: 166026 | F19: =ROUND(D19*E19,0) -> 417200094
A20: 2.1.4 | B20: EXCAVACION EN ROCA CON EXPLOSIVOS | C20: M3 | D20: 418.81 | E20: 286765 | F20: =ROUND(D20*E20,0) -> 120100050
A21: 2.2 | B21: ENTIBADOS
A22: 2.2.1 | B22: ENTIBADO TIPO 1 UTILIZACIONES 1/7 ( MADERA) | C22: M2 | D22: 2507.05 | E22: 72884 | F22: =ROUND(D22*E22,0) -> 182723832
A23: 2.2.2 | B23: ENTIBADO METALICO | C23: M2 | D23: 3781.16 | E23: 110970 | F23: =ROUND(D23*E23,0) -> 419595325
A24: 2.3 | B24: RELLENOS
A25: 2.3.1 | B25: RELLENO COMPACTADO EN MATERIAL SELECCIONADO PROCEDENTE DE LA EXCAVACIÓN INCLUYE COMPACTACIÓN | C25: M3 | D25: 3545.25 | E25: 48558 | F25: =ROUND(D25*E25,0) -> 172150250
A26: 2.3.2 | B26: SUMINISTRO E INSTALACION DE BASE GRANULAR | C26: M3 | D26: 284.03 | E26: 345394 | F26: =ROUND(D26*E26,0) -> 98102258
A27: 2.3.3 | B27: SUMINISTRO E INSTALACIÓN SUBBASE GRANULAR | C27: M3 | D27: 284.03 | E27: 265714 | F27: =ROUND(D27*E27,0) -> 75470747
A28: 2.3.4 | B28: SUMINISTRO E INSTALACIÓN GRAVA DE 3/4" | C28: M3 | D28: 1081.55 | E28: 242277 | F28: =ROUND(D28*E28,0) -> 262034689
A29: 2.3.5 | B29: SUMINISTRO DE RECEBO | C29: M3 | D29: 1399.13 | E29: 210453 | F29: =ROUND(D29*E29,0) -> 294451106
A30: 2.7 | B30: CARGUE Y RETIRO DE SOBRANTES
A31: 2.7.1 | B31: CARGUE, RETIRO Y DISPOSICIÓN DE SOBRANTES (DISTANCIA DE 27.3 KM A) *AL MOMENTO DE EJECUTAR LAS OBRAS SI SE LLEGA A CAMBIAR EL SITIO DE DISPOSICIÓN AJUSTAR EL VALOR UNITARIO DEL PAGO DEL ITEM | C31: M3 | D31: 2077.44 | E31: 90650 | F31: =ROUND(D31*E31,0) -> 188319936
B32: SUBTOTAL EXCAVACIONES Y RELLENOS | F32: =ROUND(SUM(F17:F31),0) -> 2360651395
A33: 3 | B33: REDES DE ALCANTARILLADO Y ACCESORIOS
A34: 3.1 | B34: INSTALACIÓN DE TUBERÍA
A35: 3.1.1 | B35: INSTALACIÓN DE TUBERÍA PARA ALCANTARILLADO DE PARED ESTRUCTURAL PVC, DOBLE EXTRUSIÓN, PARED INTERIOR LISA Y EXTERIOR CORRUGADA, SISTEMA DE UNIÓN MECÁNICO, CAMPANA ESPIGO CON HIDROSELLO DE CAUCHO
A36: 3.1.1.1 | B36: INSTALACIÓN DE TUBERÍA ALCANTARILLADO DE PARED ESTRUCTURAL PVC , DOBLE EXTRUSIÓN, PARED INTERIOR LISA Y EXTERIOR CORRUGADA SISTEMA DE UNIÓN MECÁNICA, CAMPANA ESPIGO CON HIDROSELLO DE CAUCHO D=6" BAJO LA NORMA NTC 3722-3 | C36: ML | D36: 600 | E36: 10021 | F36: =ROUND(D36*E36,0) -> 6012600
A37: 3.1.1.2 | B37: INSTALACIÓN DE TUBERÍA ALCANTARILLADO DE PARED ESTRUCTURAL PVC , DOBLE EXTRUSIÓN, PARED INTERIOR LISA Y EXTERIOR CORRUGADA SISTEMA DE UNIÓN MECÁNICA, CAMPANA ESPIGO CON HIDROSELLO DE CAUCHO D=8" BAJO LA NORMA NTC 3722-3 | C37: ML | D37: 1378.3 | E37: 11686 | F37: =ROUND(D37*E37,0) -> 16106814
A38: 3.1.1.3 | B38: INSTALACIÓN DE TUBERÍA ALCANTARILLADO DE PARED ESTRUCTURAL PVC , DOBLE EXTRUSIÓN, PARED INTERIOR LISA Y EXTERIOR CORRUGADA SISTEMA DE UNIÓN MECÁNICA, CAMPANA ESPIGO CON HIDROSELLO DE CAUCHO D=10" BAJO LA NORMA NTC 3722-3 | C38: ML | D38: 524.9 | E38: 13915 | F38: =ROUND(D38*E38,0) -> 7303984
A39: 3.1.1.4 | B39: INSTALACIÓN DE TUBERÍA ALCANTARILLADO DE PARED ESTRUCTURAL PVC , DOBLE EXTRUSIÓN, PARED INTERIOR LISA Y EXTERIOR CORRUGADA SISTEMA DE UNIÓN MECÁNICA, CAMPANA ESPIGO CON HIDROSELLO DE CAUCHO D=12" BAJO LA NORMA NTC 3722-3 | C39: ML | D39: 388.62229 | E39: 17315 | F39: =ROUND(D39*E39,0) -> 6728995
A40: 3.1.1.5 | B40: INSTALACION DE SILLA YEE 8"X 6" | C40: UNIDAD | D40: 120 | E40: 29035 | F40: =ROUND(D40*E40,0) -> 3484200
...

Sheet Proponente San Antonio
A1: CONSTRUCCION DE ALCANTARILLADO DEL CENTRO POBLADO SANTANDERCITO, BELLAVISTA DEL MUNICIPIO SAN ANTONIO DE TEQUENDAMA, CUNDINAMARCA
A2: OFERTA ECONOMICA
A3: ALCANTARILLADO
A4: ITEM | B4: DESCRIPCIÓN | C4: UND | D4: CANTIDAD | E4: VR. UNITARIO | F4: VALOR TOTAL
A5: 1 | B5: ACTIVIDADES PRELIMINARES
A6: 1.1 | B6: LOCALIZACION Y REPLANTEO
A7: 1.1.1 | B7: LOCALIZACIÓN Y REPLANTEO REDES | C7: ML | D7: 2891.82
A8: 1.2 | B8: DEMOLICIONES PAVIMENTOS Y DESMONTE
A9: 1,2,1 | B9: DEMOLICIÓN DE PLACA HUELLA | C9: M3 | D9: 105.04
A10: 1.2.2 | B10: DEMOLICIÓN DE PAVIMENTO FLEXIBLE | C10: M3 | D10: 173.98
A11: 1.2.3 | B11: DEMOLICIÓN DE PAVIMENTO RIGIDO | C11: M3 | D11: 81.42
A12: 1.2.4 | B12: DEMOLICION ADOQUIN SOBRE ARENA H=0.15M | C12: M2 | D12: 410.51
A13: 1.2.5 | B13: CORTE DE PAVIMENTO | C13: ML | D13: 3470.85
B14: SUB TOTAL ACTIVIDADES PRELIMINARES
A15: 2 | B15: EXCAVACIONES Y RELLENOS
A16: 2.1 | B16: EXCAVACIONES A MANO EN CONGLOMERADO Y BAJO AGUA
A17: 2.1.1 | B17: EXCAVACIONES A MANO EN CONGLOMERADO. | C17: M3 | D17: 837.62
A18: 2.1.2 | B18: EXCAVACIONES A MAQUINA | C18: M3 | D18: 1386.87
A19: 2.1.3 | B19: EXCAVACION EN ROCA | C19: M3 | D19: 2512.86
A20: 2.1.4 | B20: EXCAVACION EN ROCA CON EXPLOSIVOS | C20: M3 | D20: 418.81
A21: 2.2 | B21: ENTIBADOS
A22: 2.2.1 | B22: ENTIBADO TIPO 1 UTILIZACIONES 1/7 ( MADERA) | C22: M2 | D22: 2507.05
A23: 2.2.2 | B23: ENTIBADO METALICO | C23: M2 | D23: 3781.16
A24: 2.3 | B24: RELLENOS
A25: 2.3.1 | B25: RELLENO COMPACTADO EN MATERIAL SELECCIONADO PROCEDENTE DE LA EXCAVACIÓN INCLUYE COMPACTACIÓN | C25: M3 | D25: 3545.25
A26: 2.3.2 | B26: SUMINISTRO E INSTALACION DE BASE GRANULAR | C26: M3 | D26: 284.03
A27: 2.3.3 | B27: SUMINISTRO E INSTALACIÓN SUBBASE GRANULAR | C27: M3 | D27: 284.03
A28: 2.3.4 | B28: SUMINISTRO E INSTALACIÓN GRAVA DE 3/4" | C28: M3 | D28: 1081.55
A29: 2.3.5 | B29: SUMINISTRO DE RECEBO | C29: M3 | D29: 1399.13
A30: 2.7 | B30: CARGUE Y RETIRO DE SOBRANTES
A31: 2.7.1 | B31: CARGUE, RETIRO Y DISPOSICIÓN DE SOBRANTES (DISTANCIA DE 27.3 KM A) *AL MOMENTO DE EJECUTAR LAS OBRAS SI SE LLEGA A CAMBIAR EL SITIO DE DISPOSICIÓN AJUSTAR EL VALOR UNITARIO DEL PAGO DEL ITEM | C31: M3 | D31: 2077.44
B32: SUBTOTAL EXCAVACIONES Y RELLENOS
A33: 3 | B33: REDES DE ALCANTARILLADO Y ACCESORIOS
A34: 3.1 | B34: INSTALACIÓN DE TUBERÍA
A35: 3.1.1 | B35: INSTALACIÓN DE TUBERÍA PARA ALCANTARILLADO DE PARED ESTRUCTURAL PVC, DOBLE EXTRUSIÓN, PARED INTERIOR LISA Y EXTERIOR CORRUGADA, SISTEMA DE UNIÓN MECÁNICO, CAMPANA ESPIGO CON HIDROSELLO DE CAUCHO
A36: 3.1.1.1 | B36: INSTALACIÓN DE TUBERÍA ALCANTARILLADO DE PARED ESTRUCTURAL PVC , DOBLE EXTRUSIÓN, PARED INTERIOR LISA Y EXTERIOR CORRUGADA SISTEMA DE UNIÓN MECÁNICA, CAMPANA ESPIGO CON HIDROSELLO DE CAUCHO D=6" BAJO LA NORMA NTC 3722-3 | C36: ML | D36: 600
A37: 3.1.1.2 | B37: INSTALACIÓN DE TUBERÍA ALCANTARILLADO DE PARED ESTRUCTURAL PVC , DOBLE EXTRUSIÓN, PARED INTERIOR LISA Y EXTERIOR CORRUGADA SISTEMA DE UNIÓN MECÁNICA, CAMPANA ESPIGO CON HIDROSELLO DE CAUCHO D=8" BAJO LA NORMA NTC 3722-3 | C37: ML | D37: 1378.3
A38: 3.1.1.3 | B38: INSTALACIÓN DE TUBERÍA ALCANTARILLADO DE PARED ESTRUCTURAL PVC , DOBLE EXTRUSIÓN, PARED INTERIOR LISA Y EXTERIOR CORRUGADA SISTEMA DE UNIÓN MECÁNICA, CAMPANA ESPIGO CON HIDROSELLO DE CAUCHO D=10" BAJO LA NORMA NTC 3722-3 | C38: ML | D38: 524.9
A39: 3.1.1.4 | B39: INSTALACIÓN DE TUBERÍA ALCANTARILLADO DE PARED ESTRUCTURAL PVC , DOBLE EXTRUSIÓN, PARED INTERIOR LISA Y EXTERIOR CORRUGADA SISTEMA DE UNIÓN MECÁNICA, CAMPANA ESPIGO CON HIDROSELLO DE CAUCHO D=12" BAJO LA NORMA NTC 3722-3 | C39: ML | D39: 388.62229
A40: 3.1.1.5 | B40: INSTALACION DE SILLA YEE 8"X 6" | C40: UNIDAD | D40: 120
...

Sheet Entidad Zipacon
A1: CONSTRUCCION DE LA PRIMERA ETAPA-FASE ALCANTARILLADO DEL PLAN MAESTRO DE ACUEDUCTO Y ALCANTARILLADO DEL CASCO URBANO DEL MUNICIPIO DE ZIPACON, CUNDINAMARCA
A2: PRESUPUESTO OFICIAL
B3: ALCANTARILLADO SANITARIO
A4: ITEM | B4: DESCRIPCION | C4: UND | D4: CANT. | E4: VALOR UNITARIO | F4: VALOR
A5: 1 | B5: OBRAS PRELIMINARES
A6: 1.1 | B6: ACTIVIDADES PRELIMINARES
A7: 1.1.2 | B7: LOCALIZACIÓN Y REPLANTEO DE ESTRUCTURAS | C7: ML | D7: 1789.45 | E7: 17695 | F7: =+ROUND(D7*E7,0) -> 31664318
A8: 2 | B8: EXCAVACIONES, DEMOLICIONES, ENTIBADOS Y RELLENOS
A9: 2.1 | B9: EXCAVACIONES MANUALES
A10: 2.1.1 | B10: EXCAVACIONES MANUALES DE 0 A 2 m DE PROFUNDIDAD
A11: 2.1.1.1 | B11: EXCAVACIONES EN MATERIAL COMÚN DE 0,00 A 2,00M | C11: M3 | D11: 91.8 | E11: 52452 | F11: =+ROUND(D11*E11,0) -> 4815094
A12: 2.1.4 | B12: EXCAVACIONES A MECANICA
A13: 2.1.4.1 | B13: EXCAVACION VARIAS A MAQUINA, INCLUYE RETIRO A UNA DISTANCIA DE 5 KM | C13: M3 | D13: 2368.05 | E13: 29642 | F13: =+ROUND(D13*E13,0) -> 70193738
A14: 2.2 | B14: RELLENOS
A15: 2.2.1 | B15: RELLENO CON MATERIAL SELECCIONADO PROCEDENTE DE LA EXCAVACIÓN | C15: M3 | D15: 1797.75 | E15: 48948 | F15: =+ROUND(D15*E15,0) -> 87996267
A16: 2.2.4 | B16: B-200 RECEBO SELECCIONADO | C16: M3 | D16: 381 | E16: 157090 | F16: =+ROUND(D16*E16,0) -> 59851290
A17: 2.2.5 | B17: RELLENO CON ARENA DE PEÑA (TIPO 7) | C17: M3 | D17: 189.3 | E17: 207158 | F17: =+ROUND(D17*E17,0) -> 39215009
A18: 2.3 | B18: CARGUE, DESCARGUE, TRANSPORTE Y DISPOSICIÓN DE MATERIALES
A19: 2.3.4 | B19: TRANSPORTE MATERIAL SELECCIONADO DE EXCAVACIÓN | C19: M³.KM | D19: 19162.08 | E19: 3793 | F19: =+ROUND(D19*E19,0) -> 72681769
A20: 2.6 | B20: ENTIBADOS
A21: 2.2 | B21: ENTIBADO TIPO 2 (1/7 UTILIZACIONES) | C21: M2 | D21: 4490.13 | E21: 55905 | F21: =+ROUND(D21*E21,0) -> 251020718
A22: 3 | B22: CONCRETOS, MORTEROS, ACERO DE REFUERZO Y ADITIVOS
A23: 3.1.2 | B23: CONCRETOS ESTRUCTURALES
A24: 8.3 | B24: CONCRETO 3000 PSI | C24: M3 | D24: 68.31 | E24: 713863 | F24: =+ROUND(D24*E24,0) -> 48763982
A25: 3.3 | B25: ACERO
A26: 3.3.1 | B26: ACERO DE REFUERZO DE 60000 PSI (ASTM A706 GRADO 60 FY=420MPA, INCLUYE TRANSPORTE, FIGURADO Y COLOCACIÓN) | C26: KG | D26: 1940.13 | E26: 11049 | F26: =+ROUND(D26*E26,0) -> 21436496
A27: 5 | B27: REDES A FLUJO LIBRE
A28: 5.1 | B28: INSTALACIÓN TUBERÍAS EN PVC
A29: 5.1.1 | B29: SUMINISTRO E INSTALACIÓN TUBERÍA PVC DIÁMETRO 6" | C29: ML | D29: 918 | E29: 80805 | F29: =+ROUND(D29*E29,0) -> 74178990
A30: 5.1.2 | B30: SUMINISTRO E INSTALACIÓN TUBERÍA PVC DIÁMETRO 8" | C30: ML | D30: 732.76 | E30: 127234 | F30: =+ROUND(D30*E30,0) -> 93231986
A31: 5.1.3 | B31: SUMINISTRO E INSTALACIÓN TUBERÍA PVC DIÁMETRO 10" | C31: ML | D31: 138.7 | E31: 180219 | F31: =+ROUND(D31*E31,0) -> 24996375
A32: 5.3 | B32: POZOS DE INSPECCIÓN
A33: 5.3.4 | B33: SUMINISTRO E INSTALACIÓN CARGUE CIRCULAR D= 1.0 M, TAPA D=0.70 M, POZO CÓNICO | C33: UN | D33: 10 | E33: 569273 | F33: =+ROUND(D33*E33,0) -> 5692730
A34: 4.2 | B34: CILINDRO POZO EN LADRILLO TOLETE Di=1,20M E=0,25M (INC. PAÑETE INTERNO E=1,5M Y CAÑUELA) | C34: ML | D34: 21.36 | E34: 1275185 | F34: =+ROUND(D34*E34,0) -> 27237952
A35: 5.3.10 | B35: SUMINISTRO E INSTALACIÓN CONO DE REDUCCIÓN D=1.20 (PREFABRICADO) | C35: UN | D35: 10 | E35: 911313 | F35: =+ROUND(D35*E35,0) -> 9113130
A36: 5.3.16 | B36: SUMINISTRO E INSTALACIÓN TAPA DE Ø = 0.70 M. EN FERRO-CONCRETO PARA POZO DE INSPECCIÓN | C36: UN | D36: 10 | E36: 343854 | F36: =+ROUND(D36*E36,0) -> 3438540
A37: 5.3.19 | B37: SUMINISTRO E INSTALACION PASOS PARA POZO DE INSPECCION DE 40 CM | C37: UN | D37: 85 | E37: 196528 | F37: =+ROUND(D37*E37,0) -> 16704880
A38: 5.4 | B38: CÁMARAS DE CAÍDA
A39: 5.4.1 | B39: BAJANTES EN D=8" | C39: M | D39: 7 | E39: 595322 | F39: =+ROUND(D39*E39,0) -> 4167254
A40: 5.8 | B40: INSTALACIÓN ACCESORIOS REDES A FLUJO LIBRE
...

Sheet Proponente Zipacon
A1: CONSTRUCCION DE LA PRIMERA ETAPA-FASE ALCANTARILLADO DEL PLAN MAESTRO DE ACUEDUCTO Y ALCANTARILLADO DEL CASCO URBANO DEL MUNICIPIO DE ZIPACON, CUNDINAMARCA
A2: OFERTA ECONOMICA
B3: ALCANTARILLADO SANITARIO
A4: ITEM | B4: DESCRIPCION | C4: UND | D4: CANT. | E4: VALOR UNITARIO | F4: VALOR
A5: 1 | B5: OBRAS PRELIMINARES
A6: 1.1 | B6: ACTIVIDADES PRELIMINARES
A7: 1.1.2 | B7: LOCALIZACIÓN Y REPLANTEO DE ESTRUCTURAS | C7: ML | D7: 1789.45
A8: 2 | B8: EXCAVACIONES, DEMOLICIONES, ENTIBADOS Y RELLENOS
A9: 2.1 | B9: EXCAVACIONES MANUALES
A10: 2.1.1 | B10: EXCAVACIONES MANUALES DE 0 A 2 m DE PROFUNDIDAD
A11: 2.1.1.1 | B11: EXCAVACIONES EN MATERIAL COMÚN DE 0,00 A 2,00M | C11: M3 | D11: 91.8
A12: 2.1.4 | B12: EXCAVACIONES A MECANICA
A13: 2.1.4.1 | B13: EXCAVACION VARIAS A MAQUINA, INCLUYE RETIRO A UNA DISTANCIA DE 5 KM | C13: M3 | D13: 2368.05
A14: 2.2 | B14: RELLENOS
A15: 2.2.1 | B15: RELLENO CON MATERIAL SELECCIONADO PROCEDENTE DE LA EXCAVACIÓN | C15: M3 | D15: 1797.75
A16: 2.2.4 | B16: B-200 RECEBO SELECCIONADO | C16: M3 | D16: 381
A17: 2.2.5 | B17: RELLENO CON ARENA DE PEÑA (TIPO 7) | C17: M3 | D17: 189.3
A18: 2.3 | B18: CARGUE, DESCARGUE, TRANSPORTE Y DISPOSICIÓN DE MATERIALES
A19: 2.3.4 | B19: TRANSPORTE MATERIAL SELECCIONADO DE EXCAVACIÓN | C19: M³.KM | D19: 19162.08
A20: 2.6 | B20: ENTIBADOS
A21: 2.2 | B21: ENTIBADO TIPO 2 (1/7 UTILIZACIONES) | C21: M2 | D21: 4490.13
A22: 3 | B22: CONCRETOS, MORTEROS, ACERO DE REFUERZO Y ADITIVOS
A23: 3.1.2 | B23: CONCRETOS ESTRUCTURALES
A24: 8.3 | B24: CONCRETO 3000 PSI | C24: M3 | D24: 68.31
A25: 3.3 | B25: ACERO
A26: 3.3.1 | B26: ACERO DE REFUERZO DE 60000 PSI (ASTM A706 GRADO 60 FY=420MPA, INCLUYE TRANSPORTE, FIGURADO Y COLOCACIÓN) | C26: KG | D26: 1940.13
A27: 5 | B27: REDES A FLUJO LIBRE
A28: 5.1 | B28: INSTALACIÓN TUBERÍAS EN PVC
A29: 5.1.1 | B29: SUMINISTRO E INSTALACIÓN TUBERÍA PVC DIÁMETRO 6" | C29: ML | D29: 918
A30: 5.1.2 | B30: SUMINISTRO E INSTALACIÓN TUBERÍA PVC DIÁMETRO 8" | C30: ML | D30: 732.76
A31: 5.1.3 | B31: SUMINISTRO E INSTALACIÓN TUBERÍA PVC DIÁMETRO 10" | C31: ML | D31: 138.7
A32: 5.3 | B32: POZOS DE INSPECCIÓN
A33: 5.3.4 | B33: SUMINISTRO E INSTALACIÓN CARGUE CIRCULAR D= 1.0 M, TAPA D=0.70 M, POZO CÓNICO | C33: UN | D33: 10
A34: 4.2 | B34: CILINDRO POZO EN LADRILLO TOLETE Di=1,20M E=0,25M (INC. PAÑETE INTERNO E=1,5M Y CAÑUELA) | C34: ML | D34: 21.36
A35: 5.3.10 | B35: SUMINISTRO E INSTALACIÓN CONO DE REDUCCIÓN D=1.20 (PREFABRICADO) | C35: UN | D35: 10
A36: 5.3.16 | B36: SUMINISTRO E INSTALACIÓN TAPA DE Ø = 0.70 M. EN FERRO-CONCRETO PARA POZO DE INSPECCIÓN | C36: UN | D36: 10
A37: 5.3.19 | B37: SUMINISTRO E INSTALACION PASOS PARA POZO DE INSPECCION DE 40 CM | C37: UN | D37: 85
A38: 5.4 | B38: CÁMARAS DE CAÍDA
A39: 5.4.1 | B39: BAJANTES EN D=8" | C39: M | D39: 7
A40: 5.8 | B40: INSTALACIÓN ACCESORIOS REDES A FLUJO LIBRE
...

Sheet Entidad Choconta
B1: CONSTRUCCIÓN DEL PLAN MAESTRO DE ALCANTARILLADO URBANO DEL MUNICIPIO DE CHOCONTÁ FASE I
C3: PRESUPUESTO OFICIAL
C4: ALCANTARILLADO SANITARIO
B5: CAP. | C5: ITEM | D5: ACTIVIDAD | E5: UNIDAD | F5: CANTIDAD | G5: V/R UNITARIO | H5: V/R OBRA CIVIL
B6: 1 | C6: 1 | D6: PRELIMINARES
A7: 1 | C7: 1.01 | D7: LOCALIZACIÓN Y REPLANTEO REDES | E7: ML | F7: 1949.19 | G7: 16905 | H7: =ROUND(G7*F7,0) -> 32951057
G8: SUBTOTAL | H8: =+SUM(H7) -> 32951057
B9: 2 | C9: 2 | D9: MOVIMIENTO DE TIERRAS
A10: 6 | C10: 2.01 | D10: EXCAVACIÓN MANUAL (0.00 - 2.00)M (INC. CUALQUIER MATERIAL - EXCEPTO ROCA, SECO O BAJO AGUA) | E10: M3 | F10: 858.59 | G10: 95186 | H10: =ROUND(G10*F10,0) -> 81725748
A11: 8 | C11: 2.03 | D11: EXCAVACIÓN MECÁNICA A TODO FACTOR. INCLUYE: MANO DE OBRA, MATERIALES Y EQUIPO. | E11: M3 | F11: 4292.96 | G11: 16736 | H11: =ROUND(G11*F11,0) -> 71846979
A12: 9 | C12: 2.04 | D12: EXCAVACIÓN MEC. ROCA H. VARIABLE < 6M | E12: M3 | F12: 953.99 | G12: 166855 | H12: =ROUND(G12*F12,0) -> 159178001
A13: 10 | C13: 2.05 | D13: ENTIBADO EN MADERA (0-2M) | E13: M2 | F13: 1433.59 | G13: 50472 | H13: =ROUND(G13*F13,0) -> 72356154
A14: 11 | C14: 2.06 | D14: ENTIBADO EN MADERA (2-4M) | E14: M2 | F14: 363.38 | G14: 92355 | H14: =ROUND(G14*F14,0) -> 33559960
A15: 12 | C15: 2.07 | D15: ENTIBADO TIPO 3 (CODALES Y PERFILES MÉTALICOS) PROFUNDIDADES MAYORES A 4M. | E15: M2 | F15: 152.22 | G15: 189129 | H15: =ROUND(G15*F15,0) -> 28789216
A16: 14 | C16: 2.08 | D16: RELLENO TIPO I - ARENA LAVADA DE RIO O SIMILAR, A TODO FACTOR INCLUYE: EQUIPOS, HERRAMIENTAS Y MANO DE OBRA. | E16: M3 | F16: 266.48 | G16: 207931 | H16: =ROUND(G16*F16,0) -> 55409453
A17: 15 | C17: 2.09 | D17: RELLENO TIPO III: TAPADO Y APISONADO A TODO FACTOR, INCLUYE: MATERIAL SELECCIONADO DE LA MISMA EXCAVACIÓN, EQUIPOS, HERRAMIENTAS Y MANO DE OBRA. | E17: M3 | F17: 2138.9562 | G17: 66978 | H17: =ROUND(G17*F17,0) -> 143263011
A18: 15.1 | C18: 2.1 | D18: RELLENO TIPO II: RECEBO COMPACTADO EN CAPAS DE 20 CM. PROCTOR MODIFICADO 95%, A TODO FACTOR, INCLUYE: RECEBO, EQUIPOS, HERRAMIENTAS Y MANO DE OBRA. | E18: M3 | F18: 1359.17 | G18: 261941 | H18: =ROUND(G18*F18,0) -> 356022349
A19: 15.2 | C19: 2.11 | D19: RELLENO TRITURADO | E19: M3 | F19: 231.9 | G19: 105164 | H19: =ROUND(G19*F19,0) -> 24387532
A20: 16 | C20: 2.12 | D20: RELLENO TIPO IV: SUB - BASE GRANULAR A TODO FACTOR, INCLUYE: EQUIPOS, HERRAMIENTAS Y MANO DE OBRA. | E20: M3 | F20: 463.8069 | G20: 328020 | H20: =ROUND(G20*F20,0) -> 152137939
A21: 17 | C21: 2.13 | D21: CARGUE Y RETIRO DE SOBRANTES DE EXCAVACIÓN A SITIO DE DISPOSICIÓN A 27.5 KM | E21: M3 | F21: 2630.99 | G21: 171377 | H21: =ROUND(G21*F21,0) -> 450891173
C22: 2.14 | D22: RELLENO TIPO V - BASE GRANULAR A TODO FACTOR, INCLUYE: EQUIPOS, HERRAMIENTAS Y MANO DE OBRA. | E22: m3 | F22: 463.8069 | G22: 320437 | H22: =ROUND(G22*F22,0) -> 148620892
G23: SUBTOTAL | H23: =+SUM(H10:H22) -> 1778188407
B24: 3 | C24: 3 | D24: ESTRUCTURAS EN CONCRETO (POZOS INSPECCIÓN - CABEZALES DESCARGA)
A25: 6 | C25: 2.01 | D25: EXCAVACIÓN MANUAL (0.00 - 2.00)M (INC. CUALQUIER MATERIAL - EXCEPTO ROCA, SECO O BAJO AGUA) | E25: M3 | F25: 68 | G25: 95186 | H25: =ROUND(G25*F25,0) -> 6472648
A26: 8 | C26: 2.03 | D26: EXCAVACIÓN MECÁNICA A TODO FACTOR. INCLUYE: MANO DE OBRA, MATERIALES Y EQUIPO. | E26: M3 | F26: 339.98 | G26: 16736 | H26: =ROUND(G26*F26,0) -> 5689905
A27: 15 | C27: 2.09 | D27: RELLENO TIPO III: TAPADO Y APISONADO A TODO FACTOR, INCLUYE: MATERIAL SELECCIONADO DE LA MISMA EXCAVACIÓN, EQUIPOS, HERRAMIENTAS Y MANO DE OBRA. | E27: M3 | F27: 171.74 | G27: 66978 | H27: =ROUND(G27*F27,0) -> 11502802
A28: 17 | C28: 2.13 | D28: CARGUE Y RETIRO DE SOBRANTES DE EXCAVACIÓN A SITIO DE DISPOSICIÓN A 27.5 KM | E28: M3 | F28: 168.25 | G28: 171377 | H28: =ROUND(G28*F28,0) -> 28834180
A29: 19 | C29: 3.06 | D29: PLACA CIRCULAR BASE - POZO INSPECCIÓN D= 1.50M (CONCRETO F´C=28MPA REFORZ. ELAB. OBRA. E=0.20M) | E29: UND | F29: 38 | G29: 1341106 | H29: =ROUND(G29*F29,0) -> 50962028
A30: 19.1 | C30: 3.07 | D30: CAÑUELA POZO DE INSPECCIÓN PARA TUBERÍAS ENTRE 8" Y 14" (CONCRETO F'C=28MPA ELAB. OBRA) | E30: UND | F30: 37 | G30: 336488 | H30: =ROUND(G30*F30,0) -> 12450056
A31: 20 | C31: 3.12 | D31: CUERPO CÁMARA DE INSPECCIÓN | E31: M3 | F31: 68.88 | G31: 2299361 | H31: =ROUND(G31*F31,0) -> 158379986
A32: 21 | C32: 3.13 | D32: PASOS CÁMARA DE INSPECCIÓN EN HIERRO DE 3/4" | E32: UND | F32: 229.6 | G32: 46144 | H32: =ROUND(G32*F32,0) -> 10594662
A33: 22 | C33: 3.14 | D33: PLACA EN CONCRETO CÁMARA DE INSPECCIÓN - INCLUYE TAPA | E33: UND | F33: 38 | G33: 2490820 | H33: =ROUND(G33*F33,0) -> 94651160
A34: 501 | C34: 3.19 | D34: CÁMARA DE CAÍDA PARA COLECTORES DE 8" A 12" (BAJANTE 8", CONCRETO SIMPLE F'C= 21MPA ELAB. OBRA) | E34: UND | F34: 37 | G34: 606831 | H34: =ROUND(G34*F34,0) -> 22452747
G35: SUBTOTAL | H35: =SUM(H25:H34) -> 401990174
B36: 4 | C36: 4 | D36: SUMINISTRO E INSTALACIÓN TUBERIAS
A37: 121.1 | C37: 4.42 | D37: SUMINISTRO TUBERIA ALC. NOVAFORT Φ 8" (INC. UNIÓN) | E37: ML | F37: 1299.86 | G37: 8461 | H37: =ROUND(G37*F37,0) -> 10998115
A38: 200 | C38: 4.43 | D38: INSTALACIÓN TUBERIA ALC. NOVAFORT Φ 8" (INC. UNIÓN) | E38: ML | F38: 1299.86 | G38: 10810 | H38: =ROUND(G38*F38,0) -> 14051487
A39: 121.2 | C39: 4.44 | D39: SUMINISTRO TUBERIA ALC. NOVAFORT Φ 10" (INC. UNIÓN) | E39: ML | F39: 417.06 | G39: 87951 | H39: =ROUND(G39*F39,0) -> 36680844
A40: 201 | C40: 4.45 | D40: INSTALACIÓN TUBERIA ALC. NOVAFORT Φ 10" (INC. UNIÓN) | E40: ML | F40: 417.06 | G40: 10810 | H40: =ROUND(G40*F40,0) -> 4508419
A41: 121.3 | C41: 4.46 | D41: SUMINISTRO TUBERIA ALC. NOVAFORT Φ 12" (INC. UNIÓN) | E41: ML | F41: 232.27 | G41: 287114 | H41: =ROUND(G41*F41,0) -> 66687969
...

Sheet Proponente Choconta
B1: CONSTRUCCIÓN DEL PLAN MAESTRO DE ALCANTARILLADO URBANO DEL MUNICIPIO DE CHOCONTÁ FASE I
C3: OFERTA ECONOMICA
C4: ALCANTARILLADO SANITARIO
B5: CAP. | C5: ITEM | D5: ACTIVIDAD | E5: UNIDAD | F5: CANTIDAD | G5: V/R UNITARIO | H5: V/R OBRA CIVIL
B6: 1 | C6: 1 | D6: PRELIMINARES
A7: 1 | C7: 1.01 | D7: LOCALIZACIÓN Y REPLANTEO REDES | E7: ML | F7: 1949.19
G8: SUBTOTAL
B9: 2 | C9: 2 | D9: MOVIMIENTO DE TIERRAS
A10: 6 | C10: 2.01 | D10: EXCAVACIÓN MANUAL (0.00 - 2.00)M (INC. CUALQUIER MATERIAL - EXCEPTO ROCA, SECO O BAJO AGUA) | E10: M3 | F10: 858.59
A11: 8 | C11: 2.03 | D11: EXCAVACIÓN MECÁNICA A TODO FACTOR. INCLUYE: MANO DE OBRA, MATERIALES Y EQUIPO. | E11: M3 | F11: 4292.96
A12: 9 | C12: 2.04 | D12: EXCAVACIÓN MEC. ROCA H. VARIABLE < 6M | E12: M3 | F12: 953.99
A13: 10 | C13: 2.05 | D13: ENTIBADO EN MADERA (0-2M) | E13: M2 | F13: 1433.59
A14: 11 | C14: 2.06 | D14: ENTIBADO EN MADERA (2-4M) | E14: M2 | F14: 363.38
A15: 12 | C15: 2.07 | D15: ENTIBADO TIPO 3 (CODALES Y PERFILES MÉTALICOS) PROFUNDIDADES MAYORES A 4M. | E15: M2 | F15: 152.22
A16: 14 | C16: 2.08 | D16: RELLENO TIPO I - ARENA LAVADA DE RIO O SIMILAR, A TODO FACTOR INCLUYE: EQUIPOS, HERRAMIENTAS Y MANO DE OBRA. | E16: M3 | F16: 266.48
A17: 15 | C17: 2.09 | D17: RELLENO TIPO III: TAPADO Y APISONADO A TODO FACTOR, INCLUYE: MATERIAL SELECCIONADO DE LA MISMA EXCAVACIÓN, EQUIPOS, HERRAMIENTAS Y MANO DE OBRA. | E17: M3 | F17: 2138.9562
A18: 15.1 | C18: 2.1 | D18: RELLENO TIPO II: RECEBO COMPACTADO EN CAPAS DE 20 CM. PROCTOR MODIFICADO 95%, A TODO FACTOR, INCLUYE: RECEBO, EQUIPOS, HERRAMIENTAS Y MANO DE OBRA. | E18: M3 | F18: 1359.17
A19: 15.2 | C19: 2.11 | D19: RELLENO TRITURADO | E19: M3 | F19: 231.9
A20: 16 | C20: 2.12 | D20: RELLENO TIPO IV: SUB - BASE GRANULAR A TODO FACTOR, INCLUYE: EQUIPOS, HERRAMIENTAS Y MANO DE OBRA. | E20: M3 | F20: 463.8069
A21: 17 | C21: 2.13 | D21: CARGUE Y RETIRO DE SOBRANTES DE EXCAVACIÓN A SITIO DE DISPOSICIÓN A 27.5 KM | E21: M3 | F21: 2630.99
C22: 2.14 | D22: RELLENO TIPO V - BASE GRANULAR A TODO FACTOR, INCLUYE: EQUIPOS, HERRAMIENTAS Y MANO DE OBRA. | E22: m3 | F22: 463.8069
G23: SUBTOTAL
B24: 3 | C24: 3 | D24: ESTRUCTURAS EN CONCRETO (POZOS INSPECCIÓN - CABEZALES DESCARGA)
A25: 6 | C25: 2.01 | D25: EXCAVACIÓN MANUAL (0.00 - 2.00)M (INC. CUALQUIER MATERIAL - EXCEPTO ROCA, SECO O BAJO AGUA) | E25: M3 | F25: 68
A26: 8 | C26: 2.03 | D26: EXCAVACIÓN MECÁNICA A TODO FACTOR. INCLUYE: MANO DE OBRA, MATERIALES Y EQUIPO. | E26: M3 | F26: 339.98
A27: 15 | C27: 2.09 | D27: RELLENO TIPO III: TAPADO Y APISONADO A TODO FACTOR, INCLUYE: MATERIAL SELECCIONADO DE LA MISMA EXCAVACIÓN, EQUIPOS, HERRAMIENTAS Y MANO DE OBRA. | E27: M3 | F27: 171.74
A28: 17 | C28: 2.13 | D28: CARGUE Y RETIRO DE SOBRANTES DE EXCAVACIÓN A SITIO DE DISPOSICIÓN A 27.5 KM | E28: M3 | F28: 168.25
A29: 19 | C29: 3.06 | D29: PLACA CIRCULAR BASE - POZO INSPECCIÓN D= 1.50M (CONCRETO F´C=28MPA REFORZ. ELAB. OBRA. E=0.20M) | E29: UND | F29: 38
A30: 19.1 | C30: 3.07 | D30: CAÑUELA POZO DE INSPECCIÓN PARA TUBERÍAS ENTRE 8" Y 14" (CONCRETO F'C=28MPA ELAB. OBRA) | E30: UND | F30: 37
A31: 20 | C31: 3.12 | D31: CUERPO CÁMARA DE INSPECCIÓN | E31: M3 | F31: 68.88
A32: 21 | C32: 3.13 | D32: PASOS CÁMARA DE INSPECCIÓN EN HIERRO DE 3/4" | E32: UND | F32: 229.6
A33: 22 | C33: 3.14 | D33: PLACA EN CONCRETO CÁMARA DE INSPECCIÓN - INCLUYE TAPA | E33: UND | F33: 38
A34: 501 | C34: 3.19 | D34: CÁMARA DE CAÍDA PARA COLECTORES DE 8" A 12" (BAJANTE 8", CONCRETO SIMPLE F'C= 21MPA ELAB. OBRA) | E34: UND | F34: 37
G35: SUBTOTAL
B36: 4 | C36: 4 | D36: SUMINISTRO E INSTALACIÓN TUBERIAS
A37: 121.1 | C37: 4.42 | D37: SUMINISTRO TUBERIA ALC. NOVAFORT Φ 8" (INC. UNIÓN) | E37: ML | F37: 1299.86
A38: 200 | C38: 4.43 | D38: INSTALACIÓN TUBERIA ALC. NOVAFORT Φ 8" (INC. UNIÓN) | E38: ML | F38: 1299.86
A39: 121.2 | C39: 4.44 | D39: SUMINISTRO TUBERIA ALC. NOVAFORT Φ 10" (INC. UNIÓN) | E39: ML | F39: 417.06
A40: 201 | C40: 4.45 | D40: INSTALACIÓN TUBERIA ALC. NOVAFORT Φ 10" (INC. UNIÓN) | E40: ML | F40: 417.06
A41: 121.3 | C41: 4.46 | D41: SUMINISTRO TUBERIA ALC. NOVAFORT Φ 12" (INC. UNIÓN) | E41: ML | F41: 232.27
...
