Workbook

Sheet Ficha técnica
B1: Clasificación UNSPSC | C1: DESCRIPCIÓN
B2: 30103600 | C2: PRODUCTOS ESTRUCTURALES
B3: 30121800 | C3: MATERIAL DE ARQUITECTURA PAISAJISTICA
B4: 30131500 | C4: BLOQUES
B5: 30131600 | C5: LADRILLOS
B6: 30131700 | C6: AZULEJOS Y BALDOSAS
B7: 30151500 | C7: MATERIAL PARA TEJADOS Y TECHOS
B8: 30181500 | C8: PORCELANA SANITARIA
B9: 31161500 | C9: TORNILLOS
B10: 31211500 | C10: PINTURAS Y TAPA POROS
B11: 42143600 | C11: SUJECIONES Y ACCESORIOS
B12: 11111700 | C12: ARENA
B13: 30171600 | C13: VENTANAS
... B19: 10171500 | C19: ABONOS QUÍMICOS Y NUTRIENTES PARA PLANTAS

Sheet Cotización 1
A1: COTIZACIÓN 1
A2: ITEM | B2: PRODUCTO | C2: UNIDAD MEDIDA | D2: CANT | E2: V.SIN IVA | F2: IVA | G2: V. CON IVA
A3: 1 | B3: Accesorios para sanitario completo | C3: UNIDAD | D3: 1 | E3: 48400 | F3: =E3*19% -> 9196 | G3: =(E3+F3)*D3 -> 57596
A4: 2 | B4: Llave terminal de 1/2" con rosca | C4: UNIDAD | D4: 1 | E4: 50600 | F4: =E4*19% -> 9614 | G4: =(E4+F4)*D4 -> 60214
A5: 3 | B5: Alambre quemado por kilo | C5: KILO | D5: 1 | E5: 15400 | F5: =E5*19% -> 2926 | G5: =(E5+F5)*D5 -> 18326
A6: 4 | B6: Cemento gris (saco) x 50 kilos | C6: UNIDAD | D6: 1 | E6: 64900 | F6: =E6*19% -> 12331 | G6: =(E6+F6)*D6 -> 77231
A7: 5 | B7: Cemento blanco (saco) x 40 kilos | C7: UNIDAD | D7: 1 | E7: 102300 | F7: =E7*19% -> 19437 | G7: =(E7+F7)*D7 -> 121737
A8: 6 | B8: Cal viva (saco) | C8: UNIDAD | D8: 1 | E8: 33000 | F8: =E8*19% -> 6270 | G8: =(E8+F8)*D8 -> 39270
A9: 7 | B9: Lavamanos blanco tipo económico | C9: UNIDAD | D9: 1 | E9: 193600 | F9: =E9*19% -> 36784 | G9: =(E9+F9)*D9 -> 230384
A10: 8 | B10: Sanitario blanco tipo económico | C10: UNIDAD | D10: 1 | E10: 387200 | F10: =E10*19% -> 73568 | G10: =(E10+F10)*D10 -> 460768
A11: 9 | B11: Pintura base de aceite x galón | C11: GALÓN | D11: 1 | E11: 113300 | F11: =E11*19% -> 21527 | G11: =(E11+F11)*D11 -> 134827
A12: 10 | B12: Pintura base de agua x cuñete | C12: UNIDAD | D12: 1 | E12: 363000 | F12: =E12*19% -> 68970 | G12: =(E12+F12)*D12 -> 431970
A13: 11 | B13: Clavos de hierro x libra | C13: LIBRA | D13: 1 | E13: 11000 | F13: =E13*19% -> 2090 | G13: =(E13+F13)*D13 -> 13090
A14: 12 | B14: Clavos de acero x libra | C14: LIBRA | D14: 1 | E14: 18150 | F14: =E14*19% -> 3448.5 | G14: =(E14+F14)*D14 -> 21598.5
... A27: 25 | B27: Baldosín pared x m | C27: UNIDAD | D27: 1 | E27: 84700 | F27: =E27*19% -> 16093 | G27: =(E27+F27)*D27 -> 100793
A28: 26 | B28: Ladrillo H10 | C28: UNIDAD | D28: 1 | E28: 4840 | G28: =(E28+F28)*D28 -> 4840
A29: 27 | B29: Bloque concreto H10 | C29: UNIDAD | D29: 1 | E29: 8250 | G29: =(E29+F29)*D29 -> 8250
A30: 28 | B30: Bloque concreto H15 | C30: UNIDAD | D30: 1 | E30: 9460 | G30: =(E30+F30)*D30 -> 9460
A31: 29 | B31: Bloque concreto H20 | C31: UNIDAD | D31: 1 | E31: 12100 | G31: =(E31+F31)*D31 -> 12100
A32: 30 | B32: Soldadura PVC X 1/8 | C32: UNIDAD | D32: 1 | E32: 72600 | F32: =E32*19% -> 13794 | G32: =(E32+F32)*D32 -> 86394
A33: 31 | B33: Soldadura PVC X 1/4 | C33: UNIDAD | D33: 1 | E33: 133100 | F33: =E33*19% -> 25289 | G33: =(E33+F33)*D33 -> 158389
A34: 32 | B34: Hoja de zinc lisa calibre 34 x 3 mts | C34: UNIDAD | D34: 1 | E34: 77000 | F34: =E34*19% -> 14630 | G34: =(E34+F34)*D34 -> 91630
A35: 33 | B35: Hoja de zinc lisa calibre 34 x 2.2 mts. | C35: UNIDAD | D35: 1 | E35: 59400 | F35: =E35*19% -> 11286 | G35: =(E35+F35)*D35 -> 70686
A36: 34 | B36: Hoja de zinc corrugada calibre 34 x 2.2 mts. | C36: UNIDAD | D36: 1 | E36: 67100 | F36: =E36*19% -> 12749 | G36: =(E36+F36)*D36 -> 79849
A37: 35 | B37: Hoja de zinc corrugada calibre 34 x 3 mts. | C37: UNIDAD | D37: 1 | E37: 78100 | F37: =E37*19% -> 14839 | G37: =(E37+F37)*D37 -> 92939
A38: 36 | B38: Teja de fibrocemento x 1.2 mts. | C38: UNIDAD | D38: 1 | E38: 53900 | F38: =E38*19% -> 10241 | G38: =(E38+F38)*D38 -> 64141
A39: 37 | B39: Teja de fibrocemento x 1.8 mts. | C39: UNIDAD | D39: 1 | E39: 71500 | F39: =E39*19% -> 13585 | G39: =(E39+F39)*D39 -> 85085
A40: 38 | B40: Teja de fibrocemento x 2.4 mts. | C40: UNIDAD | D40: 1 | E40: 102850 | F40: =E40*19% -> 19541.5 | G40: =(E40+F40)*D40 -> 122391.5
A41: 39 | B41: Teja de fibrocemento x 3 mts. | C41: UNIDAD | D41: 1 | E41: 126500 | F41: =E41*19% -> 24035 | G41: =(E41+F41)*D41 -> 150535
A42: 40 | B42: Caballetera en fibrocemento | C42: UNIDAD | D42: 1 | E42: 47300 | F42: =E42*19% -> 8987 | G42: =(E42+F42)*D42 -> 56287
A43: 41 | B43: Arena para pega x m3 | C43: M3 | D43: 1 | E43: 266200 | F43: =E43*19% -> 50578 | G43: =(E43+F43)*D43 -> 316778
... A120: 118 | B120: Malla plástica negra 1,85 metros ancho x 50 metros de largo | C120: UNIDAD | D120: 1 | E120: 114400 | F120: =E120*19% -> 21736 | G120: =(E120+F120)*D120 -> 136136
A121: 119 | B121: Semilla Brachiaria decumbens recubierta | C121: KILO | D121: 1 | E121: 83600 | G121: =(E121+F121)*D121 -> 83600
A122: 120 | B122: Fertilizante sólido mezclado NPK para aplicación al suelo NPK X 50kg | C122: Bulto | D122: 1 | E122: 292600 | G122: =(E122+F122)*D122 -> 292600
A123: 121 | B123: Abono sólido a base de materia orgánica x 40 Kg | C123: Bulto | D123: 1 | E123: 44000 | G123: =(E123+F123)*D123 -> 44000
A124: 122 | B124: Tanque de agua cónico con tapa 500 L | C124: UNIDAD | D124: 1 | E124: 550000 | F124: =E124*19% -> 104500 | G124: =(E124+F124)*D124 -> 654500
A125: 123 | B125: Tanque de agua cónico con tapa 1000 L | C125: UNIDAD | D125: 1 | E125: 858000 | F125: =E125*19% -> 163020 | G125: =(E125+F125)*D125 -> 1021020
G126: =SUM(G3:G125) -> 20972116

Sheet Cotización 2
A1: COTIZACIÓN 2
A2: ITEM | B2: PRODUCTO | C2: UNIDAD MEDIDA | D2: CANT | E2: V.SIN IVA | F2: IVA | G2: V. CON IVA
A3: 1 | B3: Accesorios para sanitario completo | C3: UNIDAD | D3: 1 | E3: 48400 | F3: =E3*19% -> 9196 | G3: =(E3+F3)*D3 -> 57596
A4: 2 | B4: Llave terminal de 1/2" con rosca | C4: UNIDAD | D4: 1 | E4: 50600 | F4: =E4*19% -> 9614 | G4: =(E4+F4)*D4 -> 60214
A5: 3 | B5: Alambre quemado por kilo | C5: KILO | D5: 1 | E5: 15400 | F5: =E5*19% -> 2926 | G5: =(E5+F5)*D5 -> 18326
A6: 4 | B6: Cemento gris (saco) x 50 kilos | C6: UNIDAD | D6: 1 | E6: 64900 | F6: =E6*19% -> 12331 | G6: =(E6+F6)*D6 -> 77231
A7: 5 | B7: Cemento blanco (saco) x 40 kilos | C7: UNIDAD | D7: 1 | E7: 102300 | F7: =E7*19% -> 19437 | G7: =(E7+F7)*D7 -> 121737
A8: 6 | B8: Cal viva (saco) | C8: UNIDAD | D8: 1 | E8: 33000 | F8: =E8*19% -> 6270 | G8: =(E8+F8)*D8 -> 39270
A9: 7 | B9: Lavamanos blanco tipo económico | C9: UNIDAD | D9: 1 | E9: 193600 | F9: =E9*19% -> 36784 | G9: =(E9+F9)*D9 -> 230384
A10: 8 | B10: Sanitario blanco tipo económico | C10: UNIDAD | D10: 1 | E10: 387200 | F10: =E10*19% -> 73568 | G10: =(E10+F10)*D10 -> 460768
A11: 9 | B11: Pintura base de aceite x galón | C11: GALÓN | D11: 1 | E11: 113300 | F11: =E11*19% -> 21527 | G11: =(E11+F11)*D11 -> 134827
A12: 10 | B12: Pintura base de agua x cuñete | C12: UNIDAD | D12: 1 | E12: 363000 | F12: =E12*19% -> 68970 | G12: =(E12+F12)*D12 -> 431970
A13: 11 | B13: Clavos de hierro x libra | C13: LIBRA | D13: 1 | E13: 11000 | F13: =E13*19% -> 2090 | G13: =(E13+F13)*D13 -> 13090
A14: 12 | B14: Clavos de acero x libra | C14: LIBRA | D14: 1 | E14: 18150 | F14: =E14*19% -> 3448.5 | G14: =(E14+F14)*D14 -> 21598.5
... A27: 25 | B27: Baldosín pared x m | C27: UNIDAD | D27: 1 | E27: 84700 | F27: =E27*19% -> 16093 | G27: =(E27+F27)*D27 -> 100793
A28: 26 | B28: Ladrillo H10 | C28: UNIDAD | D28: 1 | E28: 4840 | G28: =(E28+F28)*D28 -> 4840
A29: 27 | B29: Bloque concreto H10 | C29: UNIDAD | D29: 1 | E29: 8250 | G29: =(E29+F29)*D29 -> 8250
A30: 28 | B30: Bloque concreto H15 | C30: UNIDAD | D30: 1 | E30: 9460 | G30: =(E30+F30)*D30 -> 9460
A31: 29 | B31: Bloque concreto H20 | C31: UNIDAD | D31: 1 | E31: 12100 | G31: =(E31+F31)*D31 -> 12100
A32: 30 | B32: Soldadura PVC X 1/8 | C32: UNIDAD | D32: 1 | E32: 72600 | F32: =E32*19% -> 13794 | G32: =(E32+F32)*D32 -> 86394
A33: 31 | B33: Soldadura PVC X 1/4 | C33: UNIDAD | D33: 1 | E33: 133100 | F33: =E33*19% -> 25289 | G33: =(E33+F33)*D33 -> 158389
A34: 32 | B34: Hoja de zinc lisa calibre 34 x 3 mts | C34: UNIDAD | D34: 1 | E34: 77000 | F34: =E34*19% -> 14630 | G34: =(E34+F34)*D34 -> 91630
A35: 33 | B35: Hoja de zinc lisa calibre 34 x 2.2 mts. | C35: UNIDAD | D35: 1 | E35: 59400 | F35: =E35*19% -> 11286 | G35: =(E35+F35)*D35 -> 70686
A36: 34 | B36: Hoja de zinc corrugada calibre 34 x 2.2 mts. | C36: UNIDAD | D36: 1 | E36: 67100 | F36: =E36*19% -> 12749 | G36: =(E36+F36)*D36 -> 79849
A37: 35 | B37: Hoja de zinc corrugada calibre 34 x 3 mts. | C37: UNIDAD | D37: 1 | E37: 78100 | F37: =E37*19% -> 14839 | G37: =(E37+F37)*D37 -> 92939
A38: 36 | B38: Teja de fibrocemento x 1.2 mts. | C38: UNIDAD | D38: 1 | E38: 53900 | F38: =E38*19% -> 10241 | G38: =(E38+F38)*D38 -> 64141
A39: 37 | B39: Teja de fibrocemento x 1.8 mts. | C39: UNIDAD | D39: 1 | E39: 71500 | F39: =E39*19% -> 13585 | G39: =(E39+F39)*D39 -> 85085
A40: 38 | B40: Teja de fibrocemento x 2.4 mts. | C40: UNIDAD | D40: 1 | E40: 102850 | F40: =E40*19% -> 19541.5 | G40: =(E40+F40)*D40 -> 122391.5
A41: 39 | B41: Teja de fibrocemento x 3 mts. | C41: UNIDAD | D41: 1 | E41: 126500 | F41: =E41*19% -> 24035 | G41: =(E41+F41)*D41 -> 150535
A42: 40 | B42: Caballetera en fibrocemento | C42: UNIDAD | D42: 1 | E42: 47300 | F42: =E42*19% -> 8987 | G42: =(E42+F42)*D42 -> 56287
A43: 41 | B43: Arena para pega x m3 | C43: M3 | D43: 1 | E43: 266200 | F43: =E43*19% -> 50578 | G43: =(E43+F43)*D43 -> 316778
... A120: 118 | B120: Malla plástica negra 1,85 metros ancho x 50 metros de largo | C120: UNIDAD | D120: 1 | E120: 114400 | F120: =E120*19% -> 21736 | G120: =(E120+F120)*D120 -> 136136
A121: 119 | B121: Semilla Brachiaria decumbens recubierta | C121: KILO | D121: 1 | E121: 83600 | G121: =(E121+F121)*D121 -> 83600
A122: 120 | B122: Fertilizante sólido mezclado NPK para aplicación al suelo NPK X 50kg | C122: Bulto | D122: 1 | E122: 292600 | G122: =(E122+F122)*D122 -> 292600
A123: 121 | B123: Abono sólido a base de materia orgánica x 40 Kg | C123: Bulto | D123: 1 | E123: 44000 | G123: =(E123+F123)*D123 -> 44000
A124: 122 | B124: Tanque de agua cónico con tapa 500 L | C124: UNIDAD | D124: 1 | E124: 550000 | F124: =E124*19% -> 104500 | G124: =(E124+F124)*D124 -> 654500
A125: 123 | B125: Tanque de agua cónico con tapa 1000 L | C125: UNIDAD | D125: 1 | E125: 874801.4 | F125: =E125*19% -> 166212.27 | G125: =(E125+F125)*D125 -> 1041013.7
G126: =SUM(G3:G125) -> 20992110

Sheet Cotización 3
A1: COTIZACIÓN 3
A2: ITEM | B2: PRODUCTO | C2: UNIDAD MEDIDA | D2: CANT | E2: V.SIN IVA | F2: IVA | G2: V. CON IVA
A3: 1 | B3: Accesorios para sanitario completo | C3: UNIDAD | D3: 1 | E3: 49000 | F3: =E3*19% -> 9310 | G3: =(E3+F3)*D3 -> 58310
A4: 2 | B4: Llave terminal de 1/2" con rosca | C4: UNIDAD | D4: 1 | E4: 50600 | F4: =E4*19% -> 9614 | G4: =(E4+F4)*D4 -> 60214
A5: 3 | B5: Alambre quemado por kilo | C5: KILO | D5: 1 | E5: 15400 | F5: =E5*19% -> 2926 | G5: =(E5+F5)*D5 -> 18326
A6: 4 | B6: Cemento gris (saco) x 50 kilos | C6: UNIDAD | D6: 1 | E6: 64900 | F6: =E6*19% -> 12331 | G6: =(E6+F6)*D6 -> 77231
A7: 5 | B7: Cemento blanco (saco) x 40 kilos | C7: UNIDAD | D7: 1 | E7: 105000 | F7: =E7*19% -> 19950 | G7: =(E7+F7)*D7 -> 124950
A8: 6 | B8: Cal viva (saco) | C8: UNIDAD | D8: 1 | E8: 33000 | F8: =E8*19% -> 6270 | G8: =(E8+F8)*D8 -> 39270
A9: 7 | B9: Lavamanos blanco tipo económico | C9: UNIDAD | D9: 1 | E9: 193600 | F9: =E9*19% -> 36784 | G9: =(E9+F9)*D9 -> 230384
A10: 8 | B10: Sanitario blanco tipo económico | C10: UNIDAD | D10: 1 | E10: 387200 | F10: =E10*19% -> 73568 | G10: =(E10+F10)*D10 -> 460768
A11: 9 | B11: Pintura base de aceite x galón | C11: GALÓN | D11: 1 | E11: 113300 | F11: =E11*19% -> 21527 | G11: =(E11+F11)*D11 -> 134827
A12: 10 | B12: Pintura base de agua x cuñete | C12: UNIDAD | D12: 1 | E12: 363000 | F12: =E12*19% -> 68970 | G12: =(E12+F12)*D12 -> 431970
A13: 11 | B13: Clavos de hierro x libra | C13: LIBRA | D13: 1 | E13: 11000 | F13: =E13*19% -> 2090 | G13: =(E13+F13)*D13 -> 13090
A14: 12 | B14: Clavos de acero x libra | C14: LIBRA | D14: 1 | E14: 18150 | F14: =E14*19% -> 3448.5 | G14: =(E14+F14)*D14 -> 21598.5
A15: 13 | B15: Larguero de madera 2"x4"x3m | C15: UNIDAD | D15: 1 | E15: 72600 | F15: =E15*5% -> 3630 | G15: =(E15+F15)*D15 -> 76230
A16: 14 | B16: Tabla de madera 1"x8"x10m | C16: UNIDAD | D16: 1 | E16: 48400 | F16: =E16*5% -> 2420 | G16: =(E16+F16)*D16 -> 50820
A17: 15 | B17: Larguero de madera 2"x2"x3m | C17: UNIDAD | D17: 1 | E17: 42350 | F17: =E17*5% -> 2117.5 | G17: =(E17+F17)*D17 -> 44467.5
A18: 16 | B18: Viga de madera 4"x4"x4m | C18: UNIDAD | D18: 1 | E18: 217800 | F18: =E18*5% -> 10890 | G18: =(E18+F18)*D18 -> 228690
A19: 17 | B19: Larguero de madera de 2"x4"x6m | C19: UNIDAD | D19: 1 | E19: 169400 | F19: =E19*5% -> 8470 | G19: =(E19+F19)*D19 -> 177870
A20: 18 | B20: Larguero de madera de 2"x4"x4m | C20: UNIDAD | D20: 1 | E20: 96800 | F20: =E20*5% -> 4840 | G20: =(E20+F20)*D20 -> 101640
A21: 19 | B21: Varetilla de madera de 1"x3"x3m | C21: UNIDAD | D21: 1 | E21: 38500 | F21: =E21*5% -> 1925 | G21: =(E21+F21)*D21 -> 40425
A22: 20 | B22: Varilla de 3/8 corrugada | C22: UNIDAD | D22: 1 | E22: 35200 | F22: =E22*19% -> 6688 | G22: =(E22+F22)*D22 -> 41888
A23: 21 | B23: Varilla de 3/4 corrugada | C23: UNIDAD | D23: 1 | E23: 100100 | F23: =E23*19% -> 19019 | G23: =(E23+F23)*D23 -> 119119
A24: 22 | B24: Varilla de 1/2 corrugada | C24: UNIDAD | D24: 1 | E24: 51700 | F24: =E24*19% -> 9823 | G24: =(E24+F24)*D24 -> 61523
A25: 23 | B25: Varilla de 1/4 corrugada | C25: UNIDAD | D25: 1 | E25: 19360 | F25: =E25*19% -> 3678.4 | G25: =(E25+F25)*D25 -> 23038.4
A26: 24 | B26: Baldosa cerámica x m2 | C26: M2 | D26: 1 | E26: 96800 | F26: =E26*19% -> 18392 | G26: =(E26+F26)*D26 -> 115192
A27: 25 | B27: Baldosín pared x m | C27: UNIDAD | D27: 1 | E27: 84700 | F27: =E27*19% -> 16093 | G27: =(E27+F27)*D27 -> 100793
A28: 26 | B28: Ladrillo H10 | C28: UNIDAD | D28: 1 | E28: 4840 | G28: =(E28+F28)*D28 -> 4840
A29: 27 | B29: Bloque concreto H10 | C29: UNIDAD | D29: 1 | E29: 8250 | G29: =(E29+F29)*D29 -> 8250
A30: 28 | B30: Bloque concreto H15 | C30: UNIDAD | D30: 1 | E30: 9460 | G30: =(E30+F30)*D30 -> 9460
A31: 29 | B31: Bloque concreto H20 | C31: UNIDAD | D31: 1 | E31: 12100 | G31: =(E31+F31)*D31 -> 12100
A32: 30 | B32: Soldadura PVC X 1/8 | C32: UNIDAD | D32: 1 | E32: 72600 | F32: =E32*19% -> 13794 | G32: =(E32+F32)*D32 -> 86394
A33: 31 | B33: Soldadura PVC X 1/4 | C33: UNIDAD | D33: 1 | E33: 133100 | F33: =E33*19% -> 25289 | G33: =(E33+F33)*D33 -> 158389
A34: 32 | B34: Hoja de zinc lisa calibre 34 x 3 mts | C34: UNIDAD | D34: 1 | E34: 77000 | F34: =E34*19% -> 14630 | G34: =(E34+F34)*D34 -> 91630
A35: 33 | B35: Hoja de zinc lisa calibre 34 x 2.2 mts. | C35: UNIDAD | D35: 1 | E35: 59400 | F35: =E35*19% -> 11286 | G35: =(E35+F35)*D35 -> 70686
A36: 34 | B36: Hoja de zinc corrugada calibre 34 x 2.2 mts. | C36: UNIDAD | D36: 1 | E36: 67100 | F36: =E36*19% -> 12749 | G36: =(E36+F36)*D36 -> 79849
A37: 35 | B37: Hoja de zinc corrugada calibre 34 x 3 mts. | C37: UNIDAD | D37: 1 | E37: 78100 | F37: =E37*19% -> 14839 | G37: =(E37+F37)*D37 -> 92939
A38: 36 | B38: Teja de fibrocemento x 1.2 mts. | C38: UNIDAD | D38: 1 | E38: 53900 | F38: =E38*19% -> 10241 | G38: =(E38+F38)*D38 -> 64141
A39: 37 | B39: Teja de fibrocemento x 1.8 mts. | C39: UNIDAD | D39: 1 | E39: 71500 | F39: =E39*19% -> 13585 | G39: =(E39+F39)*D39 -> 85085
A40: 38 | B40: Teja de fibrocemento x 2.4 mts. | C40: UNIDAD | D40: 1 | E40: 102850 | F40: =E40*19% -> 19541.5 | G40: =(E40+F40)*D40 -> 122391.5
A41: 39 | B41: Teja de fibrocemento x 3 mts. | C41: UNIDAD | D41: 1 | E41: 126500 | F41: =E41*19% -> 24035 | G41: =(E41+F41)*D41 -> 150535
A42: 40 | B42: Caballetera en fibrocemento | C42: UNIDAD | D42: 1 | E42: 47300 | F42: =E42*19% -> 8987 | G42: =(E42+F42)*D42 -> 56287
A43: 41 | B43: Arena para pega x m3 | C43: M3 | D43: 1 | E43: 266200 | F43: =E43*19% -> 50578 | G43: =(E43+F43)*D43 -> 316778
... A69: 67 | B69: Ventana metálica de 1,2 mts X 1, 2 mts. | C69: UNIDAD | D69: 1 | E69: 677600 | F69: =E69*19% -> 128744 | G69: =(E69+F69)*D69 -> 806344
A70: 68 | B70: Ventana madera de 1,2 mts X 1, 2 mts. | C70: UNIDAD | D70: 1 | E70: 750200 | F70: =E70*5% -> 37510 | G70: =(E70+F70)*D70 -> 787710
A71: 69 | B71: Toma corriente Levinton | C71: UNIDAD | D71: 1 | E71: 17050 | F71: =E71*19% -> 3239.5 | G71: =(E71+F71)*D71 -> 20289.5
A72: 70 | B72: Toma corriente sobre muro | C72: UNIDAD | D72: 1 | E72: 15400 | F72: =E72*19% -> 2926 | G72: =(E72+F72)*D72 -> 18326
A73: 71 | B73: Cajas plásticas de 2x4 | C73: UNIDAD | D73: 1 | E73: 3300 | F73: =E73*19% -> 627 | G73: =(E73+F73)*D73 -> 3927
A74: 72 | B74: Cajas plásticas de 4x4 | C74: UNIDAD | D74: 1 | E74: 36300 | F74: =E74*19% -> 6897 | G74: =(E74+F74)*D74 -> 43197
A75: 73 | B75: Cajas octogonales | C75: UNIDAD | D75: 1 | E75: 3300 | F75: =E75*19% -> 627 | G75: =(E75+F75)*D75 -> 3927
A76: 74 | B76: Tubo condwit de 1/2 | C76: UNIDAD | D76: 1 | E76: 11000 | F76: =E76*19% -> 2090 | G76: =(E76+F76)*D76 -> 13090
A77: 75 | B77: Tubo condwit de 3/4 | C77: UNIDAD | D77: 1 | E77: 16500 | F77: =E77*19% -> 3135 | G77: =(E77+F77)*D77 -> 19635
A78: 76 | B78: Tubo condwit de 1" | C78: UNIDAD | D78: 1 | E78: 22000 | F78: =E78*19% -> 4180 | G78: =(E78+F78)*D78 -> 26180
A79: 77 | B79: Plafones plásticos | C79: UNIDAD | D79: 1 | E79: 9130 | F79: =E79*19% -> 1734.7 | G79: =(E79+F79)*D79 -> 10864.7
A80: 78 | B80: Plafones de losa | C80: UNIDAD | D80: 1 | E80: 9130 | F80: =E80*19% -> 1734.7 | G80: =(E80+F80)*D80 -> 10864.7
A81: 79 | B81: Breques de 40, 50, 60 | C81: UNIDAD | D81: 1 | E81: 36300 | F81: =E81*19% -> 6897 | G81: =(E81+F81)*D81 -> 43197
A82: 80 | B82: Cajas de breques 4 circuitos | C82: UNIDAD | D82: 1 | E82: 93500 | F82: =E82*19% -> 17765 | G82: =(E82+F82)*D82 -> 111265
... A120: 118 | B120: Malla plástica negra 1,85 metros ancho x 50 metros de largo | C120: UNIDAD | D120: 1 | E120: 114400 | F120: =E120*19% -> 21736 | G120: =(E120+F120)*D120 -> 136136
A121: 119 | B121: Semilla Brachiaria decumbens recubierta | C121: KILO | D121: 1 | E121: 83600 | G121: =(E121+F121)*D121 -> 83600
A122: 120 | B122: Fertilizante sólido mezclado NPK para aplicación al suelo NPK X 50kg | C122: Bulto | D122: 1 | E122: 295000 | G122: =(E122+F122)*D122 -> 295000
A123: 121 | B123: Abono sólido a base de materia orgánica x 40 Kg | C123: Bulto | D123: 1 | E123: 44000 | G123: =(E123+F123)*D123 -> 44000
A124: 122 | B124: Tanque de agua cónico con tapa 500 L | C124: UNIDAD | D124: 1 | E124: 550000 | F124: =E124*19% -> 104500 | G124: =(E124+F124)*D124 -> 654500
A125: 123 | B125: Tanque de agua cónico con tapa 1000 L | C125: UNIDAD | D125: 1 | E125: 1010000 | F125: =E125*19% -> 191900 | G125: =(E125+F125)*D125 -> 1201900
G126: =SUM(G3:G125) -> 20976542

Sheet Consolidado
A1: CONSOLIDADO
A2: ITEM | B2: PRODUCTO | C2: UNIDAD MEDIDA | D2: CANT | E2: Consilidado unitario con IVA
A3: 1 | B3: Accesorios para sanitario completo | C3: UNIDAD | D3: 1 | E3: =('Cotización 1'!G3+'Cotización 2'!G3+'Cotización 3'!G3)/3 -> 57834
A4: 2 | B4: Llave terminal de 1/2" con rosca | C4: UNIDAD | D4: 1 | E4: =('Cotización 1'!G4+'Cotización 2'!G4+'Cotización 3'!G4)/3 -> 60214
A5: 3 | B5: Alambre quemado por kilo | C5: KILO | D5: 1 | E5: =('Cotización 1'!G5+'Cotización 2'!G5+'Cotización 3'!G5)/3 -> 18326
A6: 4 | B6: Cemento gris (saco) x 50 kilos | C6: UNIDAD | D6: 1 | E6: =('Cotización 1'!G6+'Cotización 2'!G6+'Cotización 3'!G6)/3 -> 77231
A7: 5 | B7: Cemento blanco (saco) x 40 kilos | C7: UNIDAD | D7: 1 | E7: =('Cotización 1'!G7+'Cotización 2'!G7+'Cotización 3'!G7)/3 -> 122808
A8: 6 | B8: Cal viva (saco) | C8: UNIDAD | D8: 1 | E8: =('Cotización 1'!G8+'Cotización 2'!G8+'Cotización 3'!G8)/3 -> 39270
A9: 7 | B9: Lavamanos blanco tipo económico | C9: UNIDAD | D9: 1 | E9: =('Cotización 1'!G9+'Cotización 2'!G9+'Cotización 3'!G9)/3 -> 230384
A10: 8 | B10: Sanitario blanco tipo económico | C10: UNIDAD | D10: 1 | E10: =('Cotización 1'!G10+'Cotización 2'!G10+'Cotización 3'!G10)/3 -> 460768
A11: 9 | B11: Pintura base de aceite x galón | C11: GALÓN | D11: 1 | E11: =('Cotización 1'!G11+'Cotización 2'!G11+'Cotización 3'!G11)/3 -> 134827
A12: 10 | B12: Pintura base de agua x cuñete | C12: UNIDAD | D12: 1 | E12: =('Cotización 1'!G12+'Cotización 2'!G12+'Cotización 3'!G12)/3 -> 431970
A13: 11 | B13: Clavos de hierro x libra | C13: LIBRA | D13: 1 | E13: =('Cotización 1'!G13+'Cotización 2'!G13+'Cotización 3'!G13)/3 -> 13090
A14: 12 | B14: Clavos de acero x libra | C14: LIBRA | D14: 1 | E14: =('Cotización 1'!G14+'Cotización 2'!G14+'Cotización 3'!G14)/3 -> 21598.5
... A125: 123 | B125: Tanque de agua cónico con tapa 1000 L | C125: UNIDAD | D125: 1 | E125: =('Cotización 1'!G125+'Cotización 2'!G125+'Cotización 3'!G125)/3 -> 1087977.9
A126: TOTAL | E126: =SUM(E3:E125) -> 20980256
