Workbook
Name a.__Actividad_critica: 'Matriz Efecto Cambio (Ejecutor)'!$E$11
Name a.__Misión_critica: 'Matriz Efecto Cambio (Ejecutor)'!$E$11
Name ALMACENAMIENTO: 'Matriz Efecto Cambio (Ejecutor)'!$D$27:$D$43
Name AMBIENTE: 'Plan Implementación (Líder Téc)'!$D$43:$D$45
Name APLICATIVOSOX: #REF!
Name CambioSoft: #REF!
Name CLASE: Listas!$A$2:$A$4
Name ELEMENTOSIC: 'Matriz Efecto Cambio (Ejecutor)'!$C$26:$C$43
Name Enrutador: 'Matriz Efecto Cambio (Ejecutor)'!$C$26:$C$47
Name Equipo: #REF!
Name hola: 'Matriz Efecto Cambio (Ejecutor)'!$C$26:$C$43
Name IMPACTO: Listas!#REF!
Name IMPACTO: Listas!#REF!
Name IMPACTO1: #REF!
Name Lista: 'Matriz Efecto Cambio (Ejecutor)'!$C$25
Name Marca: #REF!
Name matriximpp: 'Matriz Efecto Cambio (Ejecutor)'!$AW$9:$AX$28
Name MATRIZ: 'RFC (Líder Técnico)'!#REF!
Name OTRO: 'Matriz Efecto Cambio (Ejecutor)'!$F$27:$F$43
Name PP: [1]Listas!#REF!
Name PRIORIDAD: Listas!#REF!
Name PRIORIDAD: Listas!#REF!
Name RAZON: Listas!$B$2:$B$9
Name RIESGO: Listas!#REF!
Name RIESGO: Listas!#REF!
Name SEGURIDAD: 'Matriz Efecto Cambio (Ejecutor)'!$E$27:$E$43
Name SISTEMAS: Listas!$D$2:$D$40
Name TIEMPO: Listas!$C$2:$C$6
Name tipocambio: #REF!
Name Ubicacion: #REF!

Sheet OC97931

Sheet RFC (Líder Técnico)
D2: FORMATO - FORMATO DE REQUERIMIENTO DE CAMBIO | L2: Codigo: ST-FT-07 Versión: 03 Rige a partir de su publicación en el SIG
D3: Sistema de Gestión de Tecnología de Información
B5: 1. REGISTRO | IS5: TRUE
B6: 1.1 FECHADE LA SOLICITUD: | C6: 45812 | D6: HORA DE LA SOLICITUD | E6: 0.58333333 | G6: 1.2 INCIDENTE - FALLA No: (Op) | K6: 1.3 NÚMERO ID GESTION DE CAMBIO: (*) | L6: OC97931 | IS6: TRUE
B7: 2. CLASIFICACIÓN DEL CAMBIO: (*)
B8: 2.1 TIPO DE AMBIENTE | D8: Certificación | E8: Producción | F8: Prueba
B10: 3. CATEGORIA (*) | I10: 4. AFECTACIÓN (*)
B11: Networking | E11: Almacenamiento | G11: Infraestructura seguridad | I11: INDISPONIBILIDAD: SI NO | K11: TIEMPO INDISPONIBILIDAD EQUIPO (Mtos) | L11: TIEMPO INDISPONIBILIDAD SERVICIO (Mtos) | M11: TIEMPO MUERTO (Mtos)
B12: Procesamiento | E12: Hardware | G12: Bases de datos | K12: =+'Plan Implementación (Líder Téc)'!G39+'PLAN ROLL BACK (Líder Técnico)'!L23 -> 0 | L12: =+'Plan Implementación (Líder Téc)'!G38+'PLAN ROLL BACK (Líder Técnico)'!G23 -> 0 | M12: =+'Plan Implementación (Líder Téc)'!G36 -> 0 | IS12: TRUE
B13: Correo (Servidor Exchange) | E13: Aplicaciones | G13: Otros
B14: Para otros indique cuales: | I14: 7. FECHA DE EJECUCIÓN (*) | L14: DURACION ACTIVIDAD EN MINUTOS (*)
I15: FECHA Y HORA DE INICIO: | J15: 45819 | K15: 0.33333333 | L15: =+'Plan Implementación (Líder Téc)'!G37+'PLAN ROLL BACK (Líder Técnico)'!G21 -> 1460
B16: 5. TIPO DE CAMBIO : (*) | E16: 6. EFECTO DEL CAMBIO : (*) | G16: ='Matriz Efecto Cambio (Ejecutor)'!F17 -> MEDIO | I16: FECHA Y HORA DE FINAL: | J16: =Hoja1!A2+(M12/1440) -> 45820.347 | K16: =Hoja1!B2 -> 1.3472222 | IS16: FALSE
B17: ESTANDAR | C17: NORMAL | D17: URGENTE
B18: 8. DESCRIPCION DEL CAMBIO: (*)
B19: Solicitud de maquina nueva de aplicación para la aplicación de automatización robótica de procesos para descarga de documentos de los procesos contractuales del Ministerio en SECOP II (en el ambiente de PRODUCCIÓN), no se genera ambiente de desarrollo ni certificación dado que las pruebas unitaqrias y certificación se realiza en la infraestructura del Partner.
B21: 9. JUSTIFICACIÓN Y BENEFICIOS DEL CAMBIO (*)
B22: Se requiere este aprovisionamiento de la maquina M1APRPA03 para el despliegue de la aplicación de automatización robótica de procesos descarga de documentos de los procesos contractuales del Ministerio en SECOP II (en el ambiente de PRODUCCIÓN), no se genera ambiente de desarrollo ni certificación dado que las pruebas unitaqrias y certificación se realiza en la infraestructura del Partner.
B23: 10. RIESGO DEL CAMBIO A IMPLEMENTAR (*)
B24: No hay riesgos para la ejecución del RFC | IS24: FALSE
B25: 11. IMPACTO EN OTROS SISTEMAS O MÓDULOS: (Op)
B26: 11.1 ELEMENTO CI: Seleccione elemento CI | E26: 11.2 DESCRIPCIÓN DEL IMPACTO AL ELEMENTO CI
B31: 14. REQUIERE CAPACITACION EL USUARIO FINAL: SI NO | F31: 15. IMPLICA ACTUALIZAR LA DOCUMENTACION? SI NO
B32: 13. DATOS SOLICITANTES Y EJECUTORES (*)
B33: 4 LÍDER FUNCIONAL (Op): | G33: 5. LÍDER TÉCNICO: (LT) | IS33: TRUE
B34: NOMBRE | G34: NOMBRE | H34: Fabio Osorio
B35: CARGO | C35: Contratista SRC | G35: CARGO | H35: Contratista OTSI - Arquitecto Empresarial, Gestión de Proyectos TI | I35: Oficina de Tecnología y Sistemas de Información
B36: EMAIL | C36: Maria Del Carmen Raba Roberto <mraba@mineducacion.gov.co> | G36: EMAIL | H36: fosorio@mineducacion.gov.co
B37: TELÉFONO | C37: NA | G37: TELÉFONO | H37: NA
B39: 6. EJECUTOR DEL CAMBIO (EJ): | IS39: FALSE
B40: NOMBRE | C40: Operador TI
B41: CARGO
B42: EMAIL
B43: TELÉFONO

Sheet Hoja1
A1: ='RFC (Líder Técnico)'!J15 -> 45819 | B1: ='RFC (Líder Técnico)'!K15 -> 0.33333333 | C1: =B1 -> 0.33333333 | D1: minutos | E1: ='RFC (Líder Técnico)'!L15 -> 1460
A2: =+A1+C1/1440+F3 -> 45820.347 | B2: =E1/1440+B1 -> 1.3472222 | C2: =B2 -> 1.3472222
C3: ç | F3: =ABS(C2) -> 1.3472222

Sheet Plan Implementación (Líder Téc)
F3: FORMATO - PLAN DE IMPLEMENTACION DEL CAMBIO (PASO A PASO PARA IMPLEMENTACION) | L3: Codigo: ST-FT-07 Versión: 03 Rige a partir de su publicación en el SIG
B8: Número del Cambio: | F8: =+'Matriz Efecto Cambio (Ejecutor)'!C5 -> OC97931 | G8: Descripción breve del cambio: | H8: =+'RFC (Líder Técnico)'!B19 -> Solicitud de maquina nueva de aplicación para la aplicación de automatización robótica de procesos para descarga de documentos de los procesos contractuales del Ministerio en SECOP II (en el ambiente de PRODUCCIÓN), no se genera ambiente de desarrollo ni certificación dado que las pruebas unitaqrias y certificación se realiza en la infraestructura del Partner.
B9: Fecha: | F9: =+'RFC (Líder Técnico)'!C6 -> 45812
B10: Diligenciada por: | F10: =+'RFC (Líder Técnico)'!I34 -> 0
B12: ITEM | C12: SISTEMA | D12: AMBIENTE | E12: EQUIPO/ SERVIDOR | F12: DETALLE ACTIVIDAD | H12: RESPONSABLE | I12: TIEMPO ACTIVIDADES EN MINUTOS | J12: TIEMPO DE INDISPONIBILIDAD SERVICIOS | K12: INDISPONIBILIDAD DE EQUIPOS | L12: TIEMPO MUERTO
B13: 1 | C13: M1APRPA03 | D13: PRODUCCIÓN | E13: M1APRPA03 | F13: Creación de máquinas de aplicación de acuerdo con el FORMATO ST-FT-13_V1-M1APRPA03.xls adjunto. | H13: Especialista de Infraestructura | I13: 60 | J13: 0 | K13: 0 | L13: 0
B14: =+B13+1 -> 2 | C14: M1APRPA03 | D14: PRODUCCIÓN | E14: M1APRPA03 | F14: Asignacion de direccionamiento de PRODUCCIÓN IPV4 e IPV6 DC CAN | H14: Especialista de Redes | I14: 60 | J14: 0 | K14: 0 | L14: 0
B15: =+B14+1 -> 3 | C15: M1APRPA03 | D15: PRODUCCIÓN | E15: M1APRPA03 | F15: Habilitar servicio de internet al servidor | H15: Especialista de Seguridad SELCOMP | I15: 20 | J15: 0 | K15: 0 | L15: 0
B16: =+B15+1 -> 4 | C16: M1APRPA03 | D16: PRODUCCIÓN | E16: M1APRPA03 | F16: Configuracion de máquina nueva, según formato de creacion de servidor nuevo y configuracion de direccionamiento IPV4 e IPV6 segmento productivo | H16: Sistemas Operativos Windows | I16: 60 | J16: 0 | K16: 0 | L16: 0
B17: =+B16+1 -> 5 | C17: M1APRPA03 | D17: PRODUCCIÓN | E17: M1APRPA03 | F17: Configurar y/o validar los filesystem locales de acuerdo con el FORMATO REQUERIMIENTO DE NUEVO SERVIDOR DE APLICACIONES | H17: Sistemas Operativos Windows | I17: 60 | J17: 0 | K17: 0 | L17: 0
B18: =+B17+1 -> 6 | C18: M1APRPA03 | D18: PRODUCCIÓN | E18: M1APRPA03 | F18: Instalación de actualizaciónes de SO e instalación del Microsoft .Net Framework 4 y 4.5 | H18: Sistemas Operativos Windows | I18: 60 | J18: 0 | K18: 0 | L18: 0
B19: =+B18+1 -> 7 | C19: M1APRPA03 | D19: PRODUCCIÓN | E19: M1APRPA03 | F19: Asignación del direccionamiento del virtual server para la configuración de la politica de balanceo IPV4 | H19: Especialista Redes | I19: 60 | J19: 0 | K19: 0 | L19: 0
B20: =+B19+1 -> 8 | C20: M1APRPA03 | D20: PRODUCCIÓN | E20: M1APRPA03 | F20: Asignación del direccionamiento del virtual server para la configuración de la politica de WAF IPV4 | H20: Especialista de Seguridad | I20: 60 | J20: 0 | K20: 0 | L20: 0
B21: =+B20+1 -> 9 | C21: M1APRPA03 | D21: PRODUCCIÓN | E21: M1APRPA03 | F21: Creación politica de balanceo por el puerto 80 por IPV4 e IPV6 | H21: Especialista Redes | I21: 60 | J21: 0 | K21: 0 | L21: 0
B22: =+B21+1 -> 10 | C22: M1APRPA03 | D22: PRODUCCIÓN | E22: M1APRPA03 | F22: Creación de politica en el WAF por IPV4 e IPV6 | H22: Especialista Seguridad | I22: 60 | J22: 0 | K22: 0 | L22: 0
B23: =+B22+1 -> 11 | C23: M1APRPA03 | D23: PRODUCCIÓN | E23: M1APRPA03 | F23: Creación DNS local rpa-secop.mineducacion.gov.co apuntando a la IP WAF creada anteriormente. | H23: Sistemas Operativos Windows | I23: 60 | J23: 0 | K23: 0 | L23: 0
B24: =+B23+1 -> 12 | C24: M1APRPA03 | D24: PRODUCCIÓN | E24: M1APRPA03 | F24: Microsoft Office Excel & Outlook (escritorio) asociado al usuario de dominio "Descargascontratosmensecop" Acrobat Reader Microsoft Edge - Google Chrome | H24: Especialista de Aplicaciones | I24: 60 | J24: 0 | K24: 0 | L24: 0
B25: =+B24+1 -> 13 | C25: M1APRPA03 | D25: PRODUCCIÓN | E25: M1APRPA03 | F25: Generar ventana de acompañamiento con Partner UiPath Anderson Rodriguez Castaneda <rodriguezandc@globalhitss.com>; Marisol Mogollon Rodriguez <mogollonm@globalhitss.com> | H25: Especialista de Aplicaciones | I25: 10 | J25: 0 | K25: 0 | L25: 0
... B33: =+B32+1 -> 21 | C33: M1APRPA03 | D33: PRODUCCIÓN | E33: M1APRPA03 | F33: Agregar a monitoreo máquina y url | H33: Monitoreo | I33: 30 | J33: 0 | K33: 0 | L33: 0
B36: TIEMPO MUERTO TOTAL | G36: =+SUM(L15:L34) -> 0
B37: TIEMPO TOTAL DE IMPLEMENTACIÓN | G37: =+SUM(I13:I34) -> 1190 | I37: =+G37/1440 -> 0.82638889 | L37: =+G36/1440 -> 0
B38: TIEMPO TOTAL DE IINDISPONIBILIDAD SERVICIOS | G38: =+SUM(J13:J34) -> 0
B39: TIEMPO TOTAL DE IINDISPONIBILIDAD EQUIPOS | G39: =+SUM(K15:K34) -> 0

Sheet PLAN ROLL BACK (Líder Técnico)
F2: FORMATO - LAN DE ROLLBACK DEL CAMBIO | L2: Codigo: ST-FT-07 Versión: 03 Rige a partir de su publicación en el SIG
F3: Sistema de Gestión de Tecnología de Información
B5: Número del Cambio: | F5: =+'Plan Implementación (Líder Téc)'!F8 -> OC97931 | G5: Descripción breve del cambio: | H5: =+'RFC (Líder Técnico)'!B19 -> Solicitud de maquina nueva de aplicación para la aplicación de automatización robótica de procesos para descarga de documentos de los procesos contractuales del Ministerio en SECOP II (en el ambiente de PRODUCCIÓN), no se genera ambiente de desarrollo ni certificación dado que las pruebas unitaqrias y certificación se realiza en la infraestructura del Partner.
B6: Fecha: | F6: =+'Plan Implementación (Líder Téc)'!F9 -> 45812
B7: Diligenciada por: | F7: =+'Plan Implementación (Líder Téc)'!F10 -> 0
B9: NÚMERO | C9: SISTEMA | D9: AMBIENTE | E9: EQUIPO/ SERVIDOR | F9: DETALLE ACTIVIDAD | H9: RESPONSABLE | J9: TIEMPO ACTIVIDADES EN HORAS | K9: TIEMPO DE INDISPONIBILIDAD SERVICIOS | L9: INDISPONIBILIDAD DE EQUIPOS
B10: 1 | C10: M1APRPA03 | D10: CERTIFICACIÓN | E10: M1APRPA03 | F10: Eliminar máquina | H10: Infraestructura | J10: 30
B11: 2 | C11: M1APRPA03 | D11: CERTIFICACIÓN | E11: M1APRPA03 | F11: Recuperar direccionamiento de certificación IPV4 e IPV6 y de la politica de balanceo | H11: Redes | J11: 30
B12: 3 | C12: M1APRPA03 | D12: CERTIFICACIÓN | E12: M1APRPA03 | F12: Eliminar politica de balanceo por el puerto 80 por IPV4 e IPV6 | H12: Redes | J12: 30
B13: 4 | C13: M1APRPA03 | D13: CERTIFICACIÓN | E13: M1APRPA03 | F13: Eliminar de politica en el WAF por IPV4 e IPV6 | H13: Seguridad | J13: 30
B14: 5 | C14: M1APRPA03 | D14: CERTIFICACIÓN | E14: M1APRPA03 | F14: Eliminar registro DNS local | H14: Sistemas operativos Windows | J14: 30
B15: 6 | C15: M1APRPA03 | D15: CERTIFICACIÓN | E15: M1APRPA03 | F15: Actualizar inventario | H15: Aplicaciones | J15: 30
B16: 7 | C16: M1APRPA03 | D16: CERTIFICACIÓN | E16: M1APRPA03 | F16: Actualizar CMDB | H16: Administrador CA | J16: 30
B17: 8 | C17: M1APRPA03 | D17: CERTIFICACIÓN | E17: M1APRPA03 | F17: Eliminar política de backups | H17: Backups | J17: 30
B18: 9 | C18: M1APRPA03 | D18: CERTIFICACIÓN | E18: M1APRPA03 | F18: Eliminar política de monitoreo | H18: Monitoreo | J18: 30
B21: TIEMPO TOTAL DE IMPLEMENTACIÓN | G21: =+SUM(J10:J19) -> 270
B22: TIEMPO TOTAL DE IINDISPONIBILIDAD SERVICIOS | G22: =+SUM(K10:K19) -> 0
B23: TIEMPO TOTAL DE IINDISPONIBILIDAD EQUIPOS | G23: =+SUM(L10:L19) -> 0
B26: COMENTARIOS

Sheet Matriz Efecto Cambio (Ejecutor)
AW1: =+AP11 -> a.- Infraestructura | AX1: 10
C2: MATRIZ DE EVALUACIÓN DEL EFECTO DEL DEL CAMBIO | F2: =+'RFC (Líder Técnico)'!L2 -> Codigo: ST-FT-07 Versión: 03 Rige a partir de su publicación en el SIG | AW2: =+AQ11 -> b.- Aplicaciones | AX2: 10
C3: Sistema de Gestión de Tecnología de Información | AW3: =+AR11 -> c.- Networking | AX3: 5
AW4: =+AS11 -> d.- Aplicaciones e Infrestructura | AX4: 15
B5: Número del Cambio: | C5: =+'RFC (Líder Técnico)'!L6 -> OC97931 | D5: Descripción breve del cambio: | E5: =+'RFC (Líder Técnico)'!B19 -> Solicitud de maquina nueva de aplicación para la aplicación de automatización robótica de procesos para descarga de documentos de los procesos contractuales del Ministerio en SECOP II (en el ambiente de PRODUCCIÓN), no se genera ambiente de desarrollo ni certificación dado que las pruebas unitaqrias y certificación se realiza en la infraestructura del Partner. | AW5: e.- Bases de Datos | AX5: 5
B6: Fecha: | C6: =+'PLAN ROLL BACK (Líder Técnico)'!F6 -> 45812 | AW6: f.-Aplicaciones-Bases de datos-Infraestructura | AX6: 20
B7: Diligenciada por: | C7: ='RFC (Líder Técnico)'!I34 -> 0 | AW7: g-Bases de Datos-Aplicaciones | AX7: 10
B9: ITEM | C9: PREGUNTA | E9: RESPUESTA | F9: PUNTAJE | AW9: Pregunta 1 | AX9: Pregunta 1
B10: 1 | C10: Experiencia en la ejecución de cambios iguales al presentado por el operador. | E10: b.- Ya se ha ejecutado | F10: =IF(E10="",0,VLOOKUP(E10,'Matriz Efecto Cambio (Ejecutor)'!$AW$10:$AX$28,2,FALSE)) -> 5 | AP10: a.- No se ha ejecutado antes | AQ10: b.- Ya se ha ejecutado | AW10: a.- No se ha ejecutado antes | AX10: 10
B11: 2 | C11: Infraestructura Impactada | E11: f.-Aplicaciones-Bases de datos-Infraestructura | F11: =IF(E11="",0,VLOOKUP(E11,'Matriz Efecto Cambio (Ejecutor)'!$AW$1:$BC$28,2,FALSE)) -> 20 | AN11: AZUL | AP11: a.- Infraestructura | AQ11: b.- Aplicaciones | AR11: c.- Networking | AS11: d.- Aplicaciones e Infrestructura | AT11: e.- Bases de Datos | AU11: f.-Aplicaciones-Bases de datos-Infraestructura | AV11: g-Bases de Datos-Aplicaciones | AW11: b.- Ya se ha ejecutado | AX11: 5
B12: 3 | C12: Tiempo fuera de los servicios | E12: e.- Ninguno | F12: =IF(E12="",0,VLOOKUP(E12,'Matriz Efecto Cambio (Ejecutor)'!$AW$10:$AX$28,2,FALSE)) -> 0 | AP12: a.- Más de 6 horas | AQ12: b.- entre 4 y 6 horas | AR12: c.- entre 2 y 4 horas | AS12: d.- Hasta 2 horas | AT12: e.- Ninguno
B13: 4 | C13: Se cuenta con los recursos para efectual el cambio (infraestructura, documentaciòn, personal entre otros). | E13: b.- Si | F13: =IF(E13="",0,VLOOKUP(E13,'Matriz Efecto Cambio (Ejecutor)'!$AW$10:$AX$99,2,FALSE)) -> 0 | AP13: a.- No | AQ13: b.- Si
B14: 5 | C14: Riesgo de afectación de otros sistemas o módulos al implementar el cambio. | E14: c.- Bajo | F14: =IF(E14="",0,VLOOKUP(E14,'Matriz Efecto Cambio (Ejecutor)'!$AW$10:$AX$99,2,FALSE)) -> 2 | AP14: a.- Alto | AQ14: b.- Medio | AR14: c.- Bajo | AW14: =+#REF! -> #REF! | AX14: 8
B15: 6 | C15: Complejidad técnica del cambio | E15: b.- Medio | F15: =IF(E15="",0,VLOOKUP(E15,'Matriz Efecto Cambio (Ejecutor)'!$AW$10:$AX$99,2,FALSE)) -> 5 | AP15: a.- Alto | AQ15: b.- Medio | AR15: c.- Bajo | AW15: =+#REF! -> #REF! | AX15: 10
B16: 7 | C16: Compromete la seguridad de la informacion e infraestructura de OTSI | E16: b.- No | F16: =IF(E16="",0,VLOOKUP(E16,'Matriz Efecto Cambio (Ejecutor)'!$AW$10:$AX$99,2,FALSE)) -> 0 | AP16: a.- Si | AQ16: b.- No | AW16: d- Ninguna | AX16: 0
E17: IMPACTO | F17: =IF(SUM(F10:F16)>36,"ALTO",IF(SUM(F10:F16)<25,"BAJO","MEDIO")) -> MEDIO | AW17: Pregunta 4 | AX17: Pregunta 4
AW18: a.- VIP | AX18: 10
AW19: b.- Clientes | AX19: 7
B20: COMENTARIOS | AW20: c.- Proveedores | AX20: 5
AW21: d- Internos | AX21: 2
AP22: Impacto | AW22: Ninguno | AX22: 0
AW23: Pregunta 5 | AX23: Pregunta 5
AW24: a.- Más de 6 horas | AX24: 20
AW25: b.- entre 4 y 6 horas | AX25: 10
C26: Enrutador | D26: ALMACENAMIENTO | E26: SEGURIDAD | F26: OTRO | AW26: c.- entre 2 y 4 horas | AX26: 8
D27: SWITCH | E27: Switch | F27: Switch | AW27: d.- Hasta 2 horas | AX27: 5
D28: ACCESS POINT | AW28: e.- Ninguno | AX28: 0
D29: ROUTERS
D30: SERVIDOR
D31: FIREWALL
D32: IPS
D33: BALANCEADOR
D34: IDS
D35: AIRONPORT
D36: STORAGE
D37: BASES DE DATOS
D38: APLICATIVOS
D40: SISTEMAS OPERATIVOS
D41: 0TROS | AW41: e.- Ninguno | AX41: 0
AW43: Pregunta 6 | AX43: Pregunta 6
...

Sheet GLOSARIO
D3: GLOSARIO DE CAMBIOS PARA UTILIZAR EN FORMATO DE SOLICITUD DE CAMBIO | F3: Codigo: ST-FT-07 Versión: 03 Rige apartir de su publicación en el SIG
D4: Sistema de Gestión de Tecnología de Información
B6: GLOSARIO Y DEFINICIONES
B7: Establecen las definiciones que permiten clarificar conceptos y guia del requerimiento a llenar en la plantilla de RFC.
B9: GLOSARIO | C9: DEFINICIONES
B10: Categoria de Cambio de Emergencia | C10: Son aquellos que si no se realizan impiden la prestación de uno o más servicios en la operación del Ministerio. Son aquellos que deben realizarse porque la plataforma está gravemente degradada. Son aquellos que deben realizarse porque de no hacerlo el Ministerio incurre en costos financieros Son aquellos que deben realizarse porque de no hacerlo el Ministerio puede incurrir en incumplimientos legales.
B11: Categoria de Cambio Normal | C11: Es cualquier tipo de modificación de forma temporal o permanente con determinado nivel de riesgo sobre uno o varios elementos de configuración pertenecientes a la infraestructura tecnológica. De Impacto medio o alto (según la matriz de impacto)
B12: Categoria de Cambio Preaprobado o Estándar | C12: Es cualquier tipo de modificación previamente definida, preaprobada, completamente documentada y con bajo nivel de riesgo sobre uno o varios elementos de configuración pertenecientes a la infraestructura tecnológica.
B13: Elemento CI (Configuration Ítem). | C13: Cualquier componente que necesite ser gestionado con el objeto de proveer un servicio de TI. La información sobre cada CI se almacena en un registro de configuración dentro del sistema de gestión de la configuración y es mantenido durante todo su ciclo de vida por gestión de la configuración.
B14: RFC (Request For Change): | C14: Es una requisición formal de Cambio en espera de ser implementada, incluye detalles del Cambio propuesto
B15: Efecto del cambio | C15: Una medida del efecto de un Incidente, un Problema o de un Cambio sobre los Procesos del Negocio. El impacto a menudo se basa en cómo se verán afectados los Niveles de Servicio. El impacto y Urgencia se usan para asignar Prioridad
B16: Usuarios del área Administrativas | C16: Estan definidos Ofinas en general (Ministra, Viceministros, Directores, subdirectores, recursos humanos etc).
B17: Usuarios de área Técnica | C17: Son todos aquellos que soportan la operación (OTSI).
B18: Usuarios de área Externa | C18: Son aquellos a los cuales el Ministerio presta un servicio (Sedes regionales, aplicaciones etc)
B19: Tiempo Muerto | C19: Permite medir el tiempo en que no se este realizando actividad y es para los casos en que la actividad se realiza en diferentes dìas ej: Actividad 1: de las 13:00 a 14:00 se suspende la actividad y se reanuda de las 16:00 a las 17:00 (Tiempo muerto de 14:00 a 16:00).

Sheet Listas
A1: Clase | B1: Razón del camio | C1: Tiempo | D1: Sistemas
A2: Normal | B2: Requerimiento del negocio | C2: Segundos | D2: BDP
A3: Emergencia | B3: Solución a Incidente/problema | C3: Minutos | D3: AVOCET
A4: estándar | B4: Cambios en Legislación | C4: Horas | D4: SABA
B5: Retiros por Obsolescencia | C5: Días | D5: VOLTS
B6: Cambio en producto/servicio de terceras partes | C6: Meses | D6: RIS GRB
B7: Nuevo ítem de configuración | D7: RIS RCSA
B8: Nuevas versiones | D8: SIO GRB
B9: Otro | D9: SIO RCSA
D10: SIV
D11: SINOPER
D12: GMS
D13: CCGNET
D14: LITE
D15: LLENADERO
D16: ALLEGRO
D17: NOMINACIONES
D18: PI
D19: ELLIPSE
D20: SAP-MM
D21: SAP-AP
... D40: Otro
