Workbook
Name ___U1052: #REF!
Name __EST1: #REF!
Name __EST10: #REF!
Name __EST11: #REF!
Name __EST12: #REF!
Name __EST13: #REF!
Name __EST14: #REF!
Name __EST15: #REF!
Name __EST16: #REF!
Name __EST17: #REF!
Name __EST18: #REF!
Name __EST19: #REF!
Name __EST2: #REF!
Name __EST3: #REF!
Name __EST4: #REF!
Name __EST5: #REF!
Name __EST6: #REF!
Name __EST7: #REF!
Name __EST8: #REF!
Name __EST9: #REF!
Name __EXC1: #REF!
Name __EXC10: #REF!
Name __EXC11: #REF!
Name __EXC12: #REF!
Name __EXC2: #REF!
Name __EXC3: #REF!
Name __EXC4: #REF!
Name __EXC5: #REF!
Name __EXC6: #REF!
Name __EXC7: #REF!
Name __EXC8: #REF!
Name __EXC9: #REF!
Name _EST1: #REF!
Name _EST10: #REF!
Name _EST11: #REF!
Name _EST12: #REF!
Name _EST13: #REF!
Name _EST14: #REF!
Name _EST15: #REF!
Name _EST16: #REF!
Name _EST17: #REF!
Name _EST18: #REF!
Name _EST19: #REF!
Name _EST2: #REF!
Name _EST3: #REF!
Name _EST4: #REF!
Name _EST5: #REF!
Name _EST6: #REF!
Name _EST7: #REF!
Name _EST8: #REF!
Name _EST9: #REF!
Name _EXC1: #REF!
Name _EXC10: #REF!
Name _EXC11: #REF!
Name _EXC12: #REF!
Name _EXC2: #REF!
Name _EXC3: #REF!
Name _EXC4: #REF!
Name _EXC5: #REF!
Name _EXC6: #REF!

Sheet IPC
A3: Colombia, Indice de Precios al Consumidor (IPC)
A5: Variaciones porcentuales 2003 - 2026
A6: AÑO 2026, MES 7 | Y6: Base Diciembre de 2018 = 100,00
A7: Mes | B7: 2003 | C7: 2004 | D7: 2005 | E7: 2006 | F7: 2007 | G7: 2008 | H7: 2009 | I7: 2010 | J7: 2011 | K7: 2012 | L7: 2013 | M7: 2014 | N7: 2015 | O7: 2016 | P7: 2017 | Q7: 2018 | R7: 2019 | S7: 2020 | T7: 2021 | U7: 2022 | V7: 2023 | W7: 2024 | X7: 2025 | Y7: 2026
A8: Enero | B8: 1.17 | C8: 0.89 | D8: 0.82 | E8: 0.54 | F8: 0.77 | G8: 1.06 | H8: 0.59 | I8: 0.69 | J8: 0.91 | K8: 0.73 | L8: 0.3 | M8: 0.49 | N8: 0.64 | O8: 1.29 | P8: 1.02 | Q8: 0.63 | R8: 0.6 | S8: 0.42 | T8: 0.41 | U8: 1.67 | V8: 1.78 | W8: 0.92 | X8: 0.94 | Y8: 1.18
A9: Febrero | B9: 1.11 | C9: 1.2 | D9: 1.02 | E9: 0.66 | F9: 1.17 | G9: 1.51 | H9: 0.84 | I9: 0.83 | J9: 0.6 | K9: 0.61 | L9: 0.44 | M9: 0.63 | N9: 1.15 | O9: 1.28 | P9: 1.01 | Q9: 0.71 | R9: 0.57 | S9: 0.67 | T9: 0.64 | U9: 1.63 | V9: 1.66 | W9: 1.09 | X9: 1.14 | Y9: 1.08
A10: Marzo | B10: 1.05 | C10: 0.98 | D10: 0.77 | E10: 0.7 | F10: 1.21 | G10: 0.81 | H10: 0.5 | I10: 0.25 | J10: 0.27 | K10: 0.12 | L10: 0.21 | M10: 0.39 | N10: 0.59 | O10: 0.94 | P10: 0.47 | Q10: 0.24 | R10: 0.43 | S10: 0.57 | T10: 0.51 | U10: 1 | V10: 1.05 | W10: 0.7 | X10: 0.52 | Y10: 0.78
A11: Abril | B11: 1.15 | C11: 0.46 | D11: 0.44 | E11: 0.45 | F11: 0.9 | G11: 0.71 | H11: 0.32 | I11: 0.46 | J11: 0.12 | K11: 0.14 | L11: 0.25 | M11: 0.46 | N11: 0.54 | O11: 0.5 | P11: 0.47 | Q11: 0.46 | R11: 0.5 | S11: 0.16 | T11: 0.59 | U11: 1.25 | V11: 0.78 | W11: 0.59 | X11: 0.66 | Y11: 0.78
A12: Mayo | B12: 0.49 | C12: 0.38 | D12: 0.41 | E12: 0.33 | F12: 0.3 | G12: 0.93 | H12: 0.01 | I12: 0.1 | J12: 0.28 | K12: 0.3 | L12: 0.28 | M12: 0.48 | N12: 0.26 | O12: 0.51 | P12: 0.23 | Q12: 0.25 | R12: 0.31 | S12: -0.32 | T12: 1 | U12: 0.84 | V12: 0.43 | W12: 0.43 | X12: 0.32 | Y12: 0.47
A13: Junio | B13: -0.05 | C13: 0.6 | D13: 0.4 | E13: 0.3 | F13: 0.12 | G13: 0.86 | H13: -0.06 | I13: 0.11 | J13: 0.32 | K13: 0.08 | L13: 0.23 | M13: 0.09 | N13: 0.1 | O13: 0.48 | P13: 0.11 | Q13: 0.15 | R13: 0.27 | S13: -0.38 | T13: -0.05 | U13: 0.51 | V13: 0.3 | W13: 0.32 | X13: 0.1 | Y13: 0.39
A14: Julio | B14: -0.14 | C14: -0.03 | D14: 0.05 | E14: 0.41 | F14: 0.17 | G14: 0.48 | H14: -0.04 | I14: -0.04 | J14: 0.14 | K14: -0.02 | L14: 0.04 | M14: 0.15 | N14: 0.19 | O14: 0.52 | P14: -0.05 | Q14: -0.13 | R14: 0.22 | S14: 0 | T14: 0.32 | U14: 0.81 | V14: 0.5 | W14: 0.2 | X14: 0.28 | Y14: 0.17
A15: Agosto | B15: 0.31 | C15: 0.03 | D15: 0 | E15: 0.39 | F15: -0.13 | G15: 0.19 | H15: 0.04 | I15: 0.11 | J15: -0.03 | K15: 0.04 | L15: 0.08 | M15: 0.2 | N15: 0.48 | O15: -0.32 | P15: 0.14 | Q15: 0.12 | R15: 0.09 | S15: -0.01 | T15: 0.45 | U15: 1.02 | V15: 0.7 | W15: 0 | X15: 0.19
A16: Septiembre | B16: 0.22 | C16: 0.3 | D16: 0.43 | E16: 0.29 | F16: 0.08 | G16: -0.19 | H16: -0.11 | I16: -0.14 | J16: 0.31 | K16: 0.29 | L16: 0.29 | M16: 0.14 | N16: 0.72 | O16: -0.05 | P16: 0.04 | Q16: 0.16 | R16: 0.23 | S16: 0.32 | T16: 0.38 | U16: 0.93 | V16: 0.54 | W16: 0.24 | X16: 0.32
A17: Octubre | B17: 0.06 | C17: -0.01 | D17: 0.23 | E17: -0.14 | F17: 0.01 | G17: 0.35 | H17: -0.13 | I17: -0.09 | J17: 0.19 | K17: 0.16 | L17: -0.26 | M17: 0.16 | N17: 0.68 | O17: -0.06 | P17: 0.02 | Q17: 0.12 | R17: 0.16 | S17: -0.06 | T17: 0.01 | U17: 0.72 | V17: 0.25 | W17: -0.13 | X17: 0.18
A18: Noviembre | B18: 0.35 | C18: 0.28 | D18: 0.11 | E18: 0.24 | F18: 0.47 | G18: 0.28 | H18: -0.07 | I18: 0.19 | J18: 0.14 | K18: -0.14 | L18: -0.22 | M18: 0.13 | N18: 0.6 | O18: 0.11 | P18: 0.18 | Q18: 0.12 | R18: 0.1 | S18: -0.15 | T18: 0.5 | U18: 0.77 | V18: 0.47 | W18: 0.27 | X18: 0.07
A19: Diciembre | B19: 0.61 | C19: 0.3 | D19: 0.07 | E19: 0.23 | F19: 0.49 | G19: 0.44 | H19: 0.08 | I19: 0.65 | J19: 0.42 | K19: 0.09 | L19: 0.26 | M19: 0.27 | N19: 0.62 | O19: 0.42 | P19: 0.38 | Q19: 0.3 | R19: 0.26 | S19: 0.38 | T19: 0.73 | U19: 1.26 | V19: 0.45 | W19: 0.46 | X19: 0.27
A20: En año corrido | B20: 6.49 | C20: 5.5 | D20: 4.85 | E20: 4.48 | F20: 5.69 | G20: 7.67 | H20: 2 | I20: 3.17 | J20: 3.73 | K20: 2.44 | L20: 1.94 | M20: 3.66 | N20: 6.77 | O20: 5.75 | P20: 4.09 | Q20: 3.18 | R20: 3.8 | S20: 1.61 | T20: 5.62 | U20: 13.12 | V20: 9.28 | W20: 5.2 | X20: 5.1 | Y20: 4.94
A22: Fuente: DANE.
A23: Nota: La diferencia en la suma de las variables, obedece al sistema de aproximación y redondeo.
A24: Actualizado el 10 de Agosto de 2026

Sheet VALORES
C2: No | D2: Homologacion 2026 | E2: DESCRIPCIÓN ESPECIFICA DEL ITEM | F2: CONTRATO 559 del 23 de sep 2025 | G2: PRECIOS 2026 | H2: DESCRIPCIÓN ESPECIFICA DEL ITEM | I2: CONTRATO 934 del 5 DIC DE 2024 | J2: PRECIOS 2026 | K2: DESCRIPCIÓN ESPECIFICA DEL ITEM | L2: CONTRATO 677 del 16 nov DE 2023 | M2: PRECIOS 2026 | N2: CONTRATO 652 del 29 dic DE 2020 | O2: PRECIOS 2026 | P2: unitario | R2: descripcion | S2: unitario | U2: descripcion | V2: unitario
C3: 1 | D3: Componente 1. Extractor centrífugo tipo caracol de minimo 18 pulgadas. Material Rotor: En aluminio reforzado de aleta recta atrasada. Motor: electrico de 2 HP NORMA IEC EFICIENCIA IE3 3F/220V/60Hz Trifásico. Transmisión: Mecánica por correas y poleas a 1.490 RPM. Poleas en hierro doble canal tipo A, correas dobles dentadas refrigeradas. Chumaceras: Minimo NTN o calidades similares. Matarial Carcasa: Acero HR, terminado con pintura electrostática horneada. Desempeño minimo de 3150 CFM con una presión estática de 1 In / wg. Posición: IG0 mirando el motor con el motor fuera del flujo del aire. Nota 1 : Se adjunta imagen de referencia con fines ilustrativos unicamente. | E3: . | F3: 0 | G3: =ROUND(F3*(1+IPC!$Y$20/100)*(1+IPC!$X$20/100),"0") -> 0 | I3: 0 | J3: =ROUND(I3*(1+IPC!$Y$20/100)*(1+IPC!$X$20/100)*(1+IPC!$W$20/100),"0") -> 0 | L3: 0 | M3: =ROUND(L3*(1+IPC!$Y$20/100)*(1+IPC!$X$20/100)*(1+IPC!$W$20/100)*(1+IPC!$V$20/100),"0") -> 0 | N3: 0 | O3: =ROUND(N3*(1+IPC!$Y$20/100)*(1+IPC!$X$20/100)*(1+IPC!$W$20/100)*(1+IPC!$V$20/100),"0") -> 0 | P3: 193970 | R3: Bolsillo de laminacion tamaño carta (Calibre 5 - 125 micras) Cada uno de 125 micras para un grosor toal de 250 micras | S3: 188151 | U3: Adaptador de tubo shelby para tubo de 3in de diametro exterior, fabricado en acero inoxidable | V3: 479570
C4: 1 | D4: Componente 2. Campana de captación tipo americana fabricada en lámina de acero galvanizado de calibre minimo 20. 1. Medidas: Largo 1500 mm. Ancho 850 mm. Alto Espaldar 600 mm. Alto Frente 350 mm. 2. Velocidad de extraccion minima: 12 m/s. 3. Ductileria de ancho minimo de campana de: 360 x 360 mm 4. Caudal minimo: 3150 CFM. 5. Prefiltros: MERV 8 Metralico Lavable. Filtro de Carbon activado granular. 6. Alojamiento filtros: Espacio para las tres estaciones de filtrado. 7. Medidas de filtros de 2" de ancho x 18" de largo y 22" de alto. Nota 1: Se adjunta imagen de referencia con fines ilustrativos unicamente. Nota 2: Las medidas establecidas en este item, son de referencia, pueden variar, es responsabilidad del contratista verificarlas o modificarlas de acuerdo a visita de campo. | E4: . | F4: 0 | G4: =ROUND(F4*(1+IPC!$Y$20/100)*(1+IPC!$X$20/100),"0") -> 0 | I4: 0 | J4: =ROUND(I4*(1+IPC!$Y$20/100)*(1+IPC!$X$20/100)*(1+IPC!$W$20/100),"0") -> 0 | L4: 0 | M4: =ROUND(L4*(1+IPC!$Y$20/100)*(1+IPC!$X$20/100)*(1+IPC!$W$20/100)*(1+IPC!$V$20/100),"0") -> 0 | N4: 0 | O4: =ROUND(N4*(1+IPC!$Y$20/100)*(1+IPC!$X$20/100)*(1+IPC!$W$20/100)*(1+IPC!$V$20/100),"0") -> 0 | P4: 6135402 | R4: Aceite 4 tiempos 10w 30 para sacanucleos y plantas electricas | S4: 162641 | U4: Agua destilada | V4: 183858
C5: 1 | D5: Componente 3. Codo de Transición. Material: Acero Galvanizado. Grados: A 90 grados. Calibre minimo: 20 Nota: Con flanches de acople en angulo. Medidas: Según imagen de referencia. Nota 1: Las medidas establecidas en este item, son de referencia, pueden variar, es responsabilidad del contratista verificarlas o modificarlas de acuerdo a visita de campo. | E5: . | F5: 0 | G5: =ROUND(F5*(1+IPC!$Y$20/100)*(1+IPC!$X$20/100),"0") -> 0 | I5: 0 | J5: =ROUND(I5*(1+IPC!$Y$20/100)*(1+IPC!$X$20/100)*(1+IPC!$W$20/100),"0") -> 0 | L5: 0 | M5: =ROUND(L5*(1+IPC!$Y$20/100)*(1+IPC!$X$20/100)*(1+IPC!$W$20/100)*(1+IPC!$V$20/100),"0") -> 0 | N5: 0 | O5: =ROUND(N5*(1+IPC!$Y$20/100)*(1+IPC!$X$20/100)*(1+IPC!$W$20/100)*(1+IPC!$V$20/100),"0") -> 0 | P5: 730660 | R5: Aceite mineral para bomba de vacio | S5: 180648 | U5: Atomizador de plastico de usos general de 500ml | V5: 40520
C6: 1 | D6: Componente 4. Codo de Transición. Material: Acero Galvanizado. Grados: A 90 grados. Calibre minimo: 20 Nota: Con flanches de acople en angulo. Medidas: Según imagen de referencia.(alto 1000 mm, largo 450 mm, seccion cuadrada de 360*360 mm) Nota 1: Las medidas establecidas en este item, son de referencia, pueden variar, es responsabilidad del contratista verificarlas o modificarlas de acuerdo a visita de campo. | E6: . | F6: 0 | G6: =ROUND(F6*(1+IPC!$Y$20/100)*(1+IPC!$X$20/100),"0") -> 0 | I6: 0 | J6: =ROUND(I6*(1+IPC!$Y$20/100)*(1+IPC!$X$20/100)*(1+IPC!$W$20/100),"0") -> 0 | L6: 0 | M6: =ROUND(L6*(1+IPC!$Y$20/100)*(1+IPC!$X$20/100)*(1+IPC!$W$20/100)*(1+IPC!$V$20/100),"0") -> 0 | N6: 0 | O6: =ROUND(N6*(1+IPC!$Y$20/100)*(1+IPC!$X$20/100)*(1+IPC!$W$20/100)*(1+IPC!$V$20/100),"0") -> 0 | P6: 302617 | R6: Agua destilada | S6: 136207 | U6: Beaker de vidrio de capacidad 1000ml, Se debe entregar certificado del fabricante y a parte se debe entregar certificado de verificación del volumen. | V6: 148750
C7: 1 | D7: Componente 5.Transición de acople al extractor de rectangular a circular. Material: Acero Galvanizado. Calibre minimo: 20 Nota: Con flanches de acople en angulo. Pasa de 360x360 mm al diámetro de la succión del extractor. Medidas: Según imagen de referencia. (alto 450 mm, ancho 360 mm, largo 360 mm, diametro segun seccion del extractor) Nota 1: Las medidas establecidas en este item, son de referencia, pueden variar, es responsabilidad del contratista verificarlas o modificarlas de acuerdo a visita de campo. | E7: . | F7: 0 | G7: =ROUND(F7*(1+IPC!$Y$20/100)*(1+IPC!$X$20/100),"0") -> 0 | I7: 0 | J7: =ROUND(I7*(1+IPC!$Y$20/100)*(1+IPC!$X$20/100)*(1+IPC!$W$20/100),"0") -> 0 | L7: 0 | M7: =ROUND(L7*(1+IPC!$Y$20/100)*(1+IPC!$X$20/100)*(1+IPC!$W$20/100)*(1+IPC!$V$20/100),"0") -> 0 | N7: 0 | O7: =ROUND(N7*(1+IPC!$Y$20/100)*(1+IPC!$X$20/100)*(1+IPC!$W$20/100)*(1+IPC!$V$20/100),"0") -> 0 | P7: 698530 | R7: Aguja de penetración marca humboltd referencia h-1280 para penetrometro humboldt. * material acero inoxidable endurecido y templado (dureza rockwell hrc 54 a hrc 60). * longitud aproximada de 50mm. * diámetro entre 1 y 1,02 mm. Incluir la verificación del cumplimiento de los parámetros anteriormente mencionados, que cumpla con las normas INV E 706-13. | S7: 1135831 | U7: Beaker de vidrio de capacidad 800ml, Se debe entregar certificado del fabricante y a parte se debe entregar certificado de verificación del volumen. | V7: 101150
C8: 1 | D8: Componente 6. Transición de acople a la descarga del extractor. Material: En lámina de acero galvanizado de calibre minimo 20 Nota: Con flanches de acople en ángulo. medidas: Según imagen de referencia. Pasa del tamaño de la descarga del extractor (componente 1 de este sistema)a 360 mm x 360 mm. Nota 1: Las medidas establecidas en este item, son de referencia, pueden variar, es responsabilidad del contratista verificarlas o modificarlas de acuerdo a visita de campo. | E8: . | F8: 0 | G8: =ROUND(F8*(1+IPC!$Y$20/100)*(1+IPC!$X$20/100),"0") -> 0 | I8: 0 | J8: =ROUND(I8*(1+IPC!$Y$20/100)*(1+IPC!$X$20/100)*(1+IPC!$W$20/100),"0") -> 0 | L8: 0 | M8: =ROUND(L8*(1+IPC!$Y$20/100)*(1+IPC!$X$20/100)*(1+IPC!$W$20/100)*(1+IPC!$V$20/100),"0") -> 0 | N8: 0 | O8: =ROUND(N8*(1+IPC!$Y$20/100)*(1+IPC!$X$20/100)*(1+IPC!$W$20/100)*(1+IPC!$V$20/100),"0") -> 0 | P8: 182070 | R8: Armario para cristaleria de laboratorio con divisiones en los siguientes materiales en madera tipo MDF o Triples que sea resistente al agua con puerta en vidrio con llave de seguridad Dimensiones: Ancho 100 cm Alto 190 cm | S8: 6071618 | U8: Bolsa para muestras material resistente en tela con forro plástico en su interior. con cuerdas para cierre y que puedan utilizar para usos que implican suelos, agregados, arenas y materiales similares, de dimensiones 17 x 32” (432 x 813mm). | V8: 34694
C9: 1 | D9: Componente 7. Ducto Material: En lámina de acero galvanizado calibre 20 con flanches de acople en ángulo. Medidas: 360 mm x 360 mm x 2000 mm de largo Nota 1: Las medidas establecidas en este item, son de referencia, pueden variar, es responsabilidad del contratista verificarlas o modificarlas de acuerdo a visita de campo. | E9: . | F9: 0 | G9: =ROUND(F9*(1+IPC!$Y$20/100)*(1+IPC!$X$20/100),"0") -> 0 | I9: 0 | J9: =ROUND(I9*(1+IPC!$Y$20/100)*(1+IPC!$X$20/100)*(1+IPC!$W$20/100),"0") -> 0 | L9: 0 | M9: =ROUND(L9*(1+IPC!$Y$20/100)*(1+IPC!$X$20/100)*(1+IPC!$W$20/100)*(1+IPC!$V$20/100),"0") -> 0 | N9: 0 | O9: =ROUND(N9*(1+IPC!$Y$20/100)*(1+IPC!$X$20/100)*(1+IPC!$W$20/100)*(1+IPC!$V$20/100),"0") -> 0 | P9: 386631 | R9: Bandeja para toma de muestra, metalica galvanizada con manijas de 60 cm*45 cm y 10 cm de altura | S9: 251637 | U9: Bolsa plástica en polietileno para muestras de dimensiones 25 x 30 cm, con cierre hermético | V9: 72585
C10: 1 | D10: Componente 8. Cuello de ganso. Material: En lámina de acero galvanizado calibre 20, con flanches de acople en ángulo.Con malla de seguridad en la descarga. Medidas de la base: 360 mm x 360 mm. El alto sera según el desarrollo de este elemento. Nota 1: Las medidas establecidas en este item, son de referencia, pueden variar, es responsabilidad del contratista verificarlas o modificarlas de acuerdo a visita de campo. | E10: . | F10: 0 | G10: =ROUND(F10*(1+IPC!$Y$20/100)*(1+IPC!$X$20/100),"0") -> 0 | I10: 0 | J10: =ROUND(I10*(1+IPC!$Y$20/100)*(1+IPC!$X$20/100)*(1+IPC!$W$20/100),"0") -> 0 | L10: 0 | M10: =ROUND(L10*(1+IPC!$Y$20/100)*(1+IPC!$X$20/100)*(1+IPC!$W$20/100)*(1+IPC!$V$20/100),"0") -> 0 | N10: 0 | O10: =ROUND(N10*(1+IPC!$Y$20/100)*(1+IPC!$X$20/100)*(1+IPC!$W$20/100)*(1+IPC!$V$20/100),"0") -> 0 | P10: 787185 | R10: Bascula digital electrónica para la medición de masas en trabajos de campo, funcionamiento con bateria recargable y con corriente 110 v/60 hz, de capacidad 15 kg construida en acero estructural y plataforma en acero inoxidable, division de escala 1 g. equipada con indicador digital, interfaz rs232. menu con opcion de idioma en español. debe contar con unidades de pesaje de gramo y kilogramo como minimo. se debe entregar con set de montaje de torre para elevar la pantalla sobre la base de pesaje. la báscula debe entregarse con el certificado de calibraciòn vigente con sello ONAC. | S10: 2406716 | U10: Brocha plana de fibra pet sintetica 90% de suavidad de 5" de ancho para tamices | V10: 31238
C11: 1 | D11: Componente 9. Kit de Prefiltros y de filtros que se instalan dentro de la campana extractora (componente 2). Tres (3) prefiltros lavables con eficiencia merv8 Tres (3) filtros de carbón avivado granulado. Tamaño: Cada prefiltro y filtro debe ser de 2”x18”x22”. Medidas en pulgadas. Nota 1: Las medidas establecidas en este item, son de referencia, pueden variar, es responsabilidad del contratista verificarlas o modificarlas de acuerdo a visita de campo. | E11: . | F11: 0 | G11: =ROUND(F11*(1+IPC!$Y$20/100)*(1+IPC!$X$20/100),"0") -> 0 | I11: 0 | J11: =ROUND(I11*(1+IPC!$Y$20/100)*(1+IPC!$X$20/100)*(1+IPC!$W$20/100),"0") -> 0 | L11: 0 | M11: =ROUND(L11*(1+IPC!$Y$20/100)*(1+IPC!$X$20/100)*(1+IPC!$W$20/100)*(1+IPC!$V$20/100),"0") -> 0 | N11: 0 | O11: =ROUND(N11*(1+IPC!$Y$20/100)*(1+IPC!$X$20/100)*(1+IPC!$W$20/100)*(1+IPC!$V$20/100),"0") -> 0 | P11: 67235 | R11: Beaker de plastico de 500 ml | S11: 51251 | U11: Calibradores Vernier Digital: En acero inoxidable, se usa para mediciones exteriores e interiores, de profundidad y escalonadas. Intercambiable de pulgadas a milímetros, 0-12” (0-300mm), con resolución de 0,01 mm, error maximo permisible debe ser de acuerdo a la tabla 6 del documento de referencia DI-008 centro español de metrologia,edicion 1. Debe entregar con certificado de calibración con sello ONAC. | V11: 2245895
C12: 1 | D12: Componente 10. Servicio de Instalación de todos los elementos del sistema de extracción (componentes 1 al 9). Se debe realizar la instalación de todos los componentes del Sistema de extracción del laboratorio de Planta Caliente, emsamble, ajustes y puesta en marcha. Tener en cuenta para cotizar este item, los costos relacionados con toda la tornilleria y accesorios requeridos para el montaje. (La instalación debe incluir estos costos) NOTA 1: Esta instalación NO incluye obras civiles, ni la acometida electrica a punto cero, ni instalación electrica. Estas estaran a cargo de la Entidad NOTA 2: El futuro contratista debera entregar los planos y especificaciones de obra civil y acometida electrica que debe realizar la entidad. NOTA 3: Se debe incluir dentro de los costos de este item la realizacion de 2 pruebas de medición de la concentración de vapores antes de instalar el sistema y despues de instalado. | E12: . | F12: 0 | G12: =ROUND(F12*(1+IPC!$Y$20/100)*(1+IPC!$X$20/100),"0") -> 0 | I12: 0 | J12: =ROUND(I12*(1+IPC!$Y$20/100)*(1+IPC!$X$20/100)*(1+IPC!$W$20/100),"0") -> 0 | L12: 0 | M12: =ROUND(L12*(1+IPC!$Y$20/100)*(1+IPC!$X$20/100)*(1+IPC!$W$20/100)*(1+IPC!$V$20/100),"0") -> 0 | N12: 0 | O12: =ROUND(N12*(1+IPC!$Y$20/100)*(1+IPC!$X$20/100)*(1+IPC!$W$20/100)*(1+IPC!$V$20/100),"0") -> 0 | P12: 802774 | R12: Bolsa para muestras material resistente en tela con forro plástico en su interior. con cuerdas para cierre y que puedan utilizar para usos que implican suelos, agregados, arenas y materiales similares, de dimensiones 17 x 32” (432 x 813mm). | S12: 30127 | U12: Cargador para pilas de 9 voltios debe incluir cable de energia | V12: 132447
C13: 2 | D13: Maquina de los angeles: Se compone de un tambor metalico (con tapa) con el motor encargado de la generación del movimiento necesario para la realización del ensayo. La capacidad de carga de la maquina debe ser hasta 10000 g de material y 5000 g de cargas abarsivas (esferas). Velocidad de rotación del tambor 30 a 33 RPM. Operacion 110 VAC / 60 HZ. La maquina de los Angeles a suministrar debe incluir: 1. Tablero de operación del equipo. 2. Contador digital automatico programable 3. Un juego de carga abrasiva de 5000 g compuesta por de Doce (12) esferas de acero con pesos y diametros comprtendidos para cada esfera, segun lo establecido en la norma INV-E-218-13. 4. una (1) bandeja en acero para recoger el material después del ensayo. Debe entregarse informe de verificacion (dimensiones y velocidad de rotación) de acuerdo a la norma INV-E-218-13 Figura 218-2 e Informe de verificación de cada una de las esferas que componen la carga abrasiva (peso y diametro) | E13: . | F13: 0 | G13: =ROUND(F13*(1+IPC!$Y$20/100)*(1+IPC!$X$20/100),"0") -> 0 | I13: 0 | J13: =ROUND(I13*(1+IPC!$Y$20/100)*(1+IPC!$X$20/100)*(1+IPC!$W$20/100),"0") -> 0 | L13: 0 | M13: =ROUND(L13*(1+IPC!$Y$20/100)*(1+IPC!$X$20/100)*(1+IPC!$W$20/100)*(1+IPC!$V$20/100),"0") -> 0 | N13: 0 | O13: =ROUND(N13*(1+IPC!$Y$20/100)*(1+IPC!$X$20/100)*(1+IPC!$W$20/100)*(1+IPC!$V$20/100),"0") -> 0 | P13: 60928 | R13: Bolsa plástica en polietileno para muestras de dimensiones 25 x 30 cm, con cierre hermético | S13: 76992 | U13: Cargue de cilindro de gas propano de 100 libras (el contratista debera entregar en calidad de prestamo de uso el cilindro y enregarlo en las instalaciones del laboratorio de la UMV) | V13: 306873
C14: 3 | D14: Conjunto para medir la textura superficial del pavimento mediante el método de círculo de arena: COMPUESTO POR: a. Disco de baquelita Ø de 63.5 mm y 25 mm de espesor b. Frasco con tapa plástica de 250 ml c. Regla metálica con graduación - 300 mm de longitud d. Brocha de 2" e. Cilindro en bronce, laton o plastico duro de 10 cm3 f. Cilindro en bronce, laton o plastico duro de 25 cm3 g. Cilindro en bronce, laton o plastico duro de 50 cm3 h. Dos (2) kg de esferas de vidrio pasa tamiz No. 60 (250 μm) y retiene tamiz No. 80 (180 μm) Debe entregarse informe de verificacion de acuerdo con la norma INV E 791-13 de los cilindros y disco de baquelita. | E14: . | F14: 0 | G14: =ROUND(F14*(1+IPC!$Y$20/100)*(1+IPC!$X$20/100),"0") -> 0 | I14: 0 | J14: =ROUND(I14*(1+IPC!$Y$20/100)*(1+IPC!$X$20/100)*(1+IPC!$W$20/100),"0") -> 0 | L14: 0 | M14: =ROUND(L14*(1+IPC!$Y$20/100)*(1+IPC!$X$20/100)*(1+IPC!$W$20/100)*(1+IPC!$V$20/100),"0") -> 0 | N14: 0 | O14: =ROUND(N14*(1+IPC!$Y$20/100)*(1+IPC!$X$20/100)*(1+IPC!$W$20/100)*(1+IPC!$V$20/100),"0") -> 0 | P14: 213825150 | R14: Bomba de alto vacío de dos etapas, de alta capacidad, de 110 v, 50-60 hz, monofásico, para averiguar la máxima teórica de las mezclas bituminosas (ensayo de rice), debe contar con motor de 1/2 hp, 1725 revoluciones por minuto, desplazamiento del aire minimo de 85 l/min, succión de 30 pulgadas de mercurio. | S14: 3232040 | U14: Cepillo con cerdas de bronce con mango de madera para limpieza de superficies de 3*10 hileras. | V14: 61047
C15: =+C14+1 -> 4 | D15: Martillo demoledor eléctrico Para pavimentos en asfalto y concreto con energía de impacto por golpe de mínimo 68 Joule, con motor de potencia mínima de 2,0 kw, para operacion a 110 v y frecuencia 50 hz. Debe entregarse con 2 punteros y 4 cinceles y/o espátulas planas de longitud mayor a 25cm. | E15: . | F15: 0 | G15: =ROUND(F15*(1+IPC!$Y$20/100)*(1+IPC!$X$20/100),"0") -> 0 | I15: 0 | J15: =ROUND(I15*(1+IPC!$Y$20/100)*(1+IPC!$X$20/100)*(1+IPC!$W$20/100),"0") -> 0 | L15: 0 | M15: =ROUND(L15*(1+IPC!$Y$20/100)*(1+IPC!$X$20/100)*(1+IPC!$W$20/100)*(1+IPC!$V$20/100),"0") -> 0 | N15: 8211000 | O15: =ROUND(N15*(1+IPC!$Y$20/100)*(1+IPC!$X$20/100)*(1+IPC!$W$20/100)*(1+IPC!$V$20/100)*(1+IPC!$U$20/100)*(1+IPC!$T$20/100)*(1+IPC!$S$20/100),"0") -> 12639162 | P15: 708050 | R15: Brazo Hidraulico Cierra Puerta Aereo | S15: 361296 | U15: Cepillo de alambre en acero sin mango para limpieza de tamices y remover oxido y limpieza de superficies (19*6 hileras) | V15: 60095
C16: =+C15+1 -> 5 | D16: Taladro percutor y atornillador inalambrico de 1/2 pulgada Torque: 65Nm Velocidad:1650 RPM Potencia nominal 400W Voltaje de enchufe: 110V Tamaño del mandril: 13 mm o 1/2 pulgada Niveles de potencia: 21 El taladro debe incluir: una (1) Bateria de litio 18V -2,0 Ah; Un (1) cargador de 18V-20, Un (1) maletin para su almacenamiento y transporte y bolsa con accesorios de minimo (6) brocas y 2 cabezas de destornillador plano y 2 cabezas de destornillador de extrella. | E16: . | F16: 0 | G16: =ROUND(F16*(1+IPC!$Y$20/100)*(1+IPC!$X$20/100),"0") -> 0 | I16: 0 | J16: =ROUND(I16*(1+IPC!$Y$20/100)*(1+IPC!$X$20/100)*(1+IPC!$W$20/100),"0") -> 0 | L16: 0 | M16: =ROUND(L16*(1+IPC!$Y$20/100)*(1+IPC!$X$20/100)*(1+IPC!$W$20/100)*(1+IPC!$V$20/100),"0") -> 0 | N16: 0 | O16: =ROUND(N16*(1+IPC!$Y$20/100)*(1+IPC!$X$20/100)*(1+IPC!$W$20/100)*(1+IPC!$V$20/100),"0") -> 0 | P16: 184450 | R16: Broca diamantada de diametro de 4", calidad profesional está diseñada para aplicaciones de uso específico y disponible para ser usada ya sea en hormigón como en mezcla asfaltica. está disponible en variados tamaños y tiene una altura de segmento total de 0.320 "(8.128mm), 0 .250" (6.350mm) de profundidad diamantada y 0 .070 (1 .778mm) base de segmento. la longitud estándar la broca es de 13" (330,2 mm) y el adaptador de rosca integral es de 1-1/4” – hilo 7, la broca debe cumplir con lo establecido en la norma INV E 758-13. | S16: 1292816 | U16: Cepillo en alambre acerado para limpieza de tamices y superficies de 11*4 HILERAS | V16: 60750
C17: =+C16+1 -> 6 | D17: Pulidora angular 4 1/2 Pulgada Potencia 710W velocidad 12000 rpm Voltaje enchufable: 110 V Longitud del cable: 2 m. Seccion para disco de corte de diametro 115 mm. Debe incluir: 1 llave de apriete; 1 brida de apoyo; 1 tuerca de apriete; 1 cubierta de protección; 1 empuñadura auxiliar, Dos (2) discos de corte de 115 mm . | E17: . | F17: 0 | G17: =ROUND(F17*(1+IPC!$Y$20/100)*(1+IPC!$X$20/100),"0") -> 0 | I17: 0 | J17: =ROUND(I17*(1+IPC!$Y$20/100)*(1+IPC!$X$20/100)*(1+IPC!$W$20/100),"0") -> 0 | L17: 0 | M17: =ROUND(L17*(1+IPC!$Y$20/100)*(1+IPC!$X$20/100)*(1+IPC!$W$20/100)*(1+IPC!$V$20/100),"0") -> 0 | N17: 0 | O17: =ROUND(N17*(1+IPC!$Y$20/100)*(1+IPC!$X$20/100)*(1+IPC!$W$20/100)*(1+IPC!$V$20/100),"0") -> 0 | P17: 943551 | R17: Brocha plana de fibra pet sintetica 90% de suavidad de 5" de ancho para tamices | S17: 44325 | U17: Cincel corta frios para martillo demoledor marca Dewalth y Neonex para mezcla asfaltica y concreto. Dimensiones 420x36mm hexagonal 30mm | V17: 602616
C18: =+C17+1 -> 7 | D18: Termómetro bimetálico: Lectura directa de metal para uso general, de rango de 10°C a 200°C, con division de escala de 2°C, varilla de acero inoxidable de 6 in de largo. El diametro de la caratula del dial puede ser de 2” a 3" (50 mm a 75mm) . El termometro debe tener un mecanismo externo que permita el ajuste de temperatura, que cumpla con la norma INV E 748 - 13 Debe entregarse con certificado de calibracion con sello ONAC en 3 puntos. | E18: . | F18: 0 | G18: =ROUND(F18*(1+IPC!$Y$20/100)*(1+IPC!$X$20/100),"0") -> 0 | I18: 657951 | J18: =ROUND(I18*(1+IPC!$Y$20/100)*(1+IPC!$X$20/100)*(1+IPC!$W$20/100),"0") -> 763402 | L18: 689248 | M18: =ROUND(L18*(1+IPC!$Y$20/100)*(1+IPC!$X$20/100)*(1+IPC!$W$20/100)*(1+IPC!$V$20/100),"0") -> 873928 | N18: 0 | O18: =ROUND(N18*(1+IPC!$Y$20/100)*(1+IPC!$X$20/100)*(1+IPC!$W$20/100)*(1+IPC!$V$20/100),"0") -> 0 | P18: 1875440 | R18: Canasta plastica para transportar conjunto de densidades 60*40*25 | S18: 53098 | U18: Collar cortante en acero galvanizado para extraccion de CBR inalterados, de diametro 6in (152.4 mm), DEBE CUMPLIR CON LA NORMA INV-E-148-13. | V18: 214200
C19: =+C18+1 -> 8 | D19: CABINA ACUSTICA: Cabina utilizada para minimizar el ruido producido por la maquina de los Angeles durant la operación. Fabricada en lamina de acero y recubierta en el interior con espuma acustica. Debe contar con puertas (3 puertas 2 frontales y una superior) que brinden comodo acceso a la tapa del tambor giratorio de la maquina. Dimensiones aproximadas: Largo: 1,10 m, Ancho: 1,40 m, Alto: 1,35 m. | E19: . | F19: 0 | G19: =ROUND(F19*(1+IPC!$Y$20/100)*(1+IPC!$X$20/100),"0") -> 0 | I19: 0 | J19: =ROUND(I19*(1+IPC!$Y$20/100)*(1+IPC!$X$20/100)*(1+IPC!$W$20/100),"0") -> 0 | L19: 0 | M19: =ROUND(L19*(1+IPC!$Y$20/100)*(1+IPC!$X$20/100)*(1+IPC!$W$20/100)*(1+IPC!$V$20/100),"0") -> 0 | N19: 0 | O19: =ROUND(N19*(1+IPC!$Y$20/100)*(1+IPC!$X$20/100)*(1+IPC!$W$20/100)*(1+IPC!$V$20/100),"0") -> 0 | P19: 2051917 | R19: Cargue de cilindro de gas propano de 100 libras (el contratista debera entregar en calidad de prestamo de uso el cilindro y enregarlo en las instalaciones del laboratorio de la umv) | S19: 280033 | U19: Comparador de caratula análogo: Dial tipo reloj con división de escala de 0,025 mm y rango de 12 mm, para medición de expansión del CBR ue cumpla con la norma INV E 148-13 Debe entregarse certificado de calibración por laboratorio acreditado por ONAC | V19: 862348
C20: =+C19+1 -> 9 | D20: Bureta de 50 ml con division de escala 0,1 ml debe cumplir con la norma INV E 235-13 Se debe entregar certificado del fabricante y a parte se debe entregar certificado de verificación del volumen. | E20: . | F20: 0 | G20: =ROUND(F20*(1+IPC!$Y$20/100)*(1+IPC!$X$20/100),"0") -> 0 | I20: 0 | J20: =ROUND(I20*(1+IPC!$Y$20/100)*(1+IPC!$X$20/100)*(1+IPC!$W$20/100),"0") -> 0 | L20: 0 | M20: =ROUND(L20*(1+IPC!$Y$20/100)*(1+IPC!$X$20/100)*(1+IPC!$W$20/100)*(1+IPC!$V$20/100),"0") -> 0 | N20: 0 | O20: =ROUND(N20*(1+IPC!$Y$20/100)*(1+IPC!$X$20/100)*(1+IPC!$W$20/100)*(1+IPC!$V$20/100),"0") -> 0 | P20: 450177 | R20: Cinta para etiqueteadora DYMO 12 mm * 7 m Referencia S0720540 | S20: 129859 | U20: Conjunto para ensayo equivalente de arena que contenga: 1. Cuatro (4) probetas (cilindro en plástico transparente) con diámetro interior 31,75mm ± 0,381mm y altura de 430mm, graduada en espacios de 2.54mm, desde el fondo hasta una altura de 381mm, la base debe ser de plástico transparente de 120mm x 102mm x 12,7mm bien asegurada al mismo 2. Dos (4) Tapones sólidos en goma que ajusten en las probetas 3. Un (2) Tubo irrigador en acero inoxidable, de 6.35mm de diámetro exterior, 0,89mm de espesor, con longitud de 510mm, con uno de sus extremos cerrado formando una arista. Las caras laterales del extremo cerrado con dos orificios de 1mm de diámetro, cerca de la arista que se forma. 4. Un conjunto para tomar lecturas del nivel de arena con una masa total de 1Kg; formado por una barra metálica de 457mm de longitud, en su extremo inferior lleva enroscado un disco de asentamiento (pie) metálico de cara inferior plana perpendicular al eje de la barra, un indicador y una sobrecarga cilíndrica. 5. Dos botellones de 3.785l de capacidad. 6. Tubo flexible de plástico o caucho de 4.7mm de diámetro y de 120mm de largo aproximadamente, con una pinza de presión que permita cortar el paso del líquido atreves del mismo. 7. Un embudo de boca ancha, de 100mm de diámetro en la base 8. Tres Recipiente metálico de 57mm de diámetro aproximado, con una capacidad de 85±5ml. 9. Caja para trasnporte y almacenamiento del conjunto completo. Se debe entregar certificado de verificación del cumplimiento de los parámetros anteriormente mencionados, que cumple normas ASTM D2419, AASHTO T176, INV E 133-13 | V20: 3518949
C21: =+C20+1 -> 10 | D21: Juego Molde para compactar muestras de suelo para realizar ensayo de CBR, fabricados en acero: Debe incluir: Molde principal o cuerpo principal, Diametro interior 152,4 ± 0,66 mm y Altura 177,8 ± 0,46 mm Collar suplementario no menor 50,8 mm de altura Placa base 9,53 mm de espesor con perforaciones, las perforaciones de la base deberan ser por lo menos 28 uniformemente distribuidas dentro del circulo El volumen del molde debe ser 2124 ± 25 cm3 Se debe entregar informe de verificacion del molde, collar y placa que cumpla con la norma INV E 148-13 | E21: . | F21: 0 | G21: =ROUND(F21*(1+IPC!$Y$20/100)*(1+IPC!$X$20/100),"0") -> 0 | I21: 0 | J21: =ROUND(I21*(1+IPC!$Y$20/100)*(1+IPC!$X$20/100)*(1+IPC!$W$20/100),"0") -> 0 | L21: 0 | M21: =ROUND(L21*(1+IPC!$Y$20/100)*(1+IPC!$X$20/100)*(1+IPC!$W$20/100)*(1+IPC!$V$20/100),"0") -> 0 | N21: 0 | O21: =ROUND(N21*(1+IPC!$Y$20/100)*(1+IPC!$X$20/100)*(1+IPC!$W$20/100)*(1+IPC!$V$20/100),"0") -> 0 | P21: 589050 | R21: Cloruro de metileno | S21: 1575620 | U21: Conjunto para ensayo punto de ablandamiento: Debe incluir: 1.Incluye un vaso de precipitado de 800ml con montaje en bronce, configuración doble y calzo para termómetro. 2. Seis (6) Bolas de acero endurecida de 3/8in (9 .5 mm) de diámetro, peso entre 3 .45g y 3 .55 g. 3. Seis (6) Guías de centrado de bola. La bola es centrada en la muestra por tres pasadores. 5. Seis (6) Anillos en escuadra, Superior: 23mm, 19 .8mm, Inferior: 19mm, 15 .9mm desde arriba hasta el resalto 4.4mm de alto; desde resalto hasta abajo, 2mm de alto. Debe entregarse certificado de verificación de todos los elementos que cumpla la NORMA INV E 712-13. | V21: 1869000
C22: =+C21+1 -> 11 | D22: juego de una (1) Pesa abierta y una (1) cerrada para ensayo de CBR, fabricada en acero: Diametro interno de 53 a 54 mm y diametro externo 149,23 a 150 mm Se debe entregar informe de verificacion de cada pesa que cumpla con la norma INV E 148-13 | E22: . | F22: 0 | G22: =ROUND(F22*(1+IPC!$Y$20/100)*(1+IPC!$X$20/100),"0") -> 0 | I22: 0 | J22: =ROUND(I22*(1+IPC!$Y$20/100)*(1+IPC!$X$20/100)*(1+IPC!$W$20/100),"0") -> 0 | L22: 0 | M22: =ROUND(L22*(1+IPC!$Y$20/100)*(1+IPC!$X$20/100)*(1+IPC!$W$20/100)*(1+IPC!$V$20/100),"0") -> 0 | N22: 0 | O22: =ROUND(N22*(1+IPC!$Y$20/100)*(1+IPC!$X$20/100)*(1+IPC!$W$20/100)*(1+IPC!$V$20/100),"0") -> 0 | P22: 17873205 | R22: Cruceta para tuberia de perforación en acero endurecido con rosca AW, para hincar o extraer barrenos y tuberias de perforacion manualmente. | S22: 107350 | U22: Cronometro digital de precision, Resolucion 1/100 segundos Centecimal Sg, debe tener Botón de detener y resetear. indicador de 12 o 24 horas, Indicador de meses, fecha, días de la semana, Pantalla LCD de seis dígitos. Debe incluir alarma que suene minimo 2 minutos. pila de litio. Debe entregarse con certificado de calibracion con sello ONAC | V22: 539308
C23: =+C22+1 -> 12 | D23: Placa con vastago: en bronce para medicion de expasion para el ensayo de CBR: Diametro 149,23 ± 1,6 mm y espesor de 6,35 mm 42 Perforaciones de 1,6 mm de diametro distribuidas uniformemente El vastago en el centro debe ser con un sistema de tornillo que permita regular la altura Debe entregarse con informe de verificacion segun la norma INV E 148-13 Figura 148-1 | E23: . | F23: 0 | G23: =ROUND(F23*(1+IPC!$Y$20/100)*(1+IPC!$X$20/100),"0") -> 0 | I23: 0 | J23: =ROUND(I23*(1+IPC!$Y$20/100)*(1+IPC!$X$20/100)*(1+IPC!$W$20/100),"0") -> 0 | L23: 0 | M23: =ROUND(L23*(1+IPC!$Y$20/100)*(1+IPC!$X$20/100)*(1+IPC!$W$20/100)*(1+IPC!$V$20/100),"0") -> 0 | N23: 0 | O23: =ROUND(N23*(1+IPC!$Y$20/100)*(1+IPC!$X$20/100)*(1+IPC!$W$20/100)*(1+IPC!$V$20/100),"0") -> 0 | P23: 159817 | R23: Cuchara de aluminio para mezclar y transferir suelos y para manipular químicos corrosivos, etc.., tiene un largo de 13” (330mm). una concavidad de aproximadamente 102 mm (4 pulgadas) de largo, 63,5 mm (2 ½ pulgadas) de ancho en la parte más amplia y de 12,7 mm a 19,0 mm (de ½ pulgadas a ¾ de pulgadas) de profundidad. | S23: 62217 | U23: Cuchara de aluminio para mezclar y transferir suelos y para manipular químicos corrosivos, etc.., tiene un largo de 13” (330mm). una concavidad de aproximadamente 102 mm (4 pulgadas) de largo, 63,5 mm (2 ½ pulgadas) de ancho en la parte más amplia y de 12,7 mm a 19,0 mm (de ½ pulgadas a ¾ de pulgadas) de profundidad. | V23: 48722
C24: =+C23+1 -> 13 | D24: Falso Fondo para compactación de muestras de CBR, fabricado en acero o aluminio: Espesor 61,37 ± 0,25 mm, diametro exterior 150,8 ± 0,8 mm Debe entregarse con informe de verificacion segun la norma INV E 148-13 Figura 148-1 | E24: . | F24: 0 | G24: =ROUND(F24*(1+IPC!$Y$20/100)*(1+IPC!$X$20/100),"0") -> 0 | I24: 0 | J24: =ROUND(I24*(1+IPC!$Y$20/100)*(1+IPC!$X$20/100)*(1+IPC!$W$20/100),"0") -> 0 | L24: 0 | M24: =ROUND(L24*(1+IPC!$Y$20/100)*(1+IPC!$X$20/100)*(1+IPC!$W$20/100)*(1+IPC!$V$20/100),"0") -> 0 | N24: 0 | O24: =ROUND(N24*(1+IPC!$Y$20/100)*(1+IPC!$X$20/100)*(1+IPC!$W$20/100)*(1+IPC!$V$20/100),"0") -> 0 | P24: 79135 | R24: Detergente en polvo | S24: 239402 | U24: Cucharon de aluminio, dimensiones largo 6in, ancho 3in, profundidad 2,5in, largo total 9in,que cumpla con la NORMA INV E 404-13, para el ensayo de asentamiento del concreto. | V24: 55930
C25: =+C24+1 -> 14 | D25: Molde de compactacion miniatura: Conjunto de molde y collar para relacion de humedad -peso unitario seco de mezclas de suelo con estabilizantes quimicos no tradicionales, fabricado en metal: Debera ser cilindrico de paredes solidas, fabricado con metal debe contar con un collar ajustable, el conjunto del molde y el collar debera estar construido de manera que se pueda ajustar firmemente a una placa desmontable hecha del mismo material con una capacidad de 197 cm3, diametro interno 50.00 ± 0.41 mm, altura 100 ± 0.15 mm. Debe entregarse con informe de verificacion de acuerdo a la norma INV E 631-2022 Figura 631-1 a 631-4 | E25: . | F25: 0 | G25: =ROUND(F25*(1+IPC!$Y$20/100)*(1+IPC!$X$20/100),"0") -> 0 | I25: 0 | J25: =ROUND(I25*(1+IPC!$Y$20/100)*(1+IPC!$X$20/100)*(1+IPC!$W$20/100),"0") -> 0 | L25: 0 | M25: =ROUND(L25*(1+IPC!$Y$20/100)*(1+IPC!$X$20/100)*(1+IPC!$W$20/100)*(1+IPC!$V$20/100),"0") -> 0 | N25: 0 | O25: =ROUND(N25*(1+IPC!$Y$20/100)*(1+IPC!$X$20/100)*(1+IPC!$W$20/100)*(1+IPC!$V$20/100),"0") -> 0 | P25: 524909 | R25: Detergente liquido industrial | S25: 110928 | U25: Densimetro no nuclear para carpetas asfalticas: Fabricado según la norma ASTM D7113 para control de densidad de carpeta asfáltica en sitio. 1.Capacidad para mediciones directas con profundidad de minimo 2" (50 mm), precisión de ± 0.2 pcf (3.2 kg/m3) 2.Temperatura ambiente de funcionamiento de 0 a 50°C minimo. 3.Incluya unidad de lectura LCD retroiluminada con teclado y opción de transferencia de datos a PC a través de puerto, 4.Palanca telescópica de fácil acople, 5.cargador de batería autonomia de bateria minimo de 16 horas 6.Estuche para transporte. Se debe entregar con informe de verificacion del equipo. | V25: 82031460
C26: =+C25+1 -> 15 | D26: Martillo de compactación Miniatura para relacion de humedad -peso unitario seco de mezclas de suelo con estabilizantes quimicos no tradicionales, fabricado en metal: Debe tener una caída libre de 291 ± 1 mm (11.5 ± 0.05") por encima de la elevación del suelo. Su masa debe ser 1.52 ± 0.01 kg (3.35 ± 0.02 lb) y la cara que golpea el suelo debe ser plana y circular con un diámetro de 45.0 ± 0.13 mm (1.77 ± 0.005") Debe entregarse con informe de verificacion de acuerdo a la norma INV E 631-2022 Figura 631-5 A 631-7 | E26: . | F26: 0 | G26: =ROUND(F26*(1+IPC!$Y$20/100)*(1+IPC!$X$20/100),"0") -> 0 | I26: 0 | J26: =ROUND(I26*(1+IPC!$Y$20/100)*(1+IPC!$X$20/100)*(1+IPC!$W$20/100),"0") -> 0 | L26: 0 | M26: =ROUND(L26*(1+IPC!$Y$20/100)*(1+IPC!$X$20/100)*(1+IPC!$W$20/100)*(1+IPC!$V$20/100),"0") -> 0 | N26: 0 | O26: =ROUND(N26*(1+IPC!$Y$20/100)*(1+IPC!$X$20/100)*(1+IPC!$W$20/100)*(1+IPC!$V$20/100),"0") -> 0 | P26: 56525 | R26: Discos de papel de 4” de diámetro y bordes lisos se pone en la base de los moldes de compactación Marshall de 4” antes de colocar la mezcla y de efectuar la compactación. facilita la extracción de la muestra desde el cilindro, que cumpla con la norma INV E 748-13 | S26: 354370 | U26: Detergente en polvo | V26: 195993
C27: =+C26+1 -> 16 | D27: Polipasto Manual Garrucha de un (1) Ramal con capacidad de 500 Kg, en aleación de acero y aluminio, con Cadena de 3 m de largo en acero y diametro de eslabones de la cadena de 6 mm, ganchos con seguros de retención para enganche seguro de cargas. | E27: . | F27: 0 | G27: =ROUND(F27*(1+IPC!$Y$20/100)*(1+IPC!$X$20/100),"0") -> 0 | I27: 0 | J27: =ROUND(I27*(1+IPC!$Y$20/100)*(1+IPC!$X$20/100)*(1+IPC!$W$20/100),"0") -> 0 | L27: 0 | M27: =ROUND(L27*(1+IPC!$Y$20/100)*(1+IPC!$X$20/100)*(1+IPC!$W$20/100)*(1+IPC!$V$20/100),"0") -> 0 | N27: 0 | O27: =ROUND(N27*(1+IPC!$Y$20/100)*(1+IPC!$X$20/100)*(1+IPC!$W$20/100)*(1+IPC!$V$20/100),"0") -> 0 | P27: 697816 | R27: Disolvente alifatico no. 4 biodegradable para la limpieza de piezas manchadas con emulsiones y/o asfaltos | S27: 148674 | U27: Detergente liquido neutro industrilal | V27: 249900
... C43: =+C42+1 -> 32 | D43: Platon de aluminio de 30 cm de diametro interior y 8cm de altura minima | E43: . | F43: 0 | G43: =ROUND(F43*(1+IPC!$Y$20/100)*(1+IPC!$X$20/100),"0") -> 0 | I43: 36476 | J43: =ROUND(I43*(1+IPC!$Y$20/100)*(1+IPC!$X$20/100)*(1+IPC!$W$20/100),"0") -> 42322 | L43: 32666 | M43: =ROUND(L43*(1+IPC!$Y$20/100)*(1+IPC!$X$20/100)*(1+IPC!$W$20/100)*(1+IPC!$V$20/100),"0") -> 41419 | N43: 0 | O43: =ROUND(N43*(1+IPC!$Y$20/100)*(1+IPC!$X$20/100)*(1+IPC!$W$20/100)*(1+IPC!$V$20/100),"0") -> 0 | P43: 2410940 | R43: Platon de aluminio de 15 cm de diametro interior y 4 cm de altura minima | S43: 11025 | U43: Maquina automática sistematizada doble rango para ensayos de concreto: Capacidad en rango bajo de 200 kN y en rango alto hasta 1000 kn, division de escala en rango bajo (0,01 kN) y en rango alto (0,1 kN), con tablero de membrana tactil. operaciòn semi-automatica. compuesto por consola de mando con indicaciòn y sistema de control semi-automatico y prensa hidraulica de alta estabilidad. fabricada en acero macizo, de alta estabilidad, con rejillas de protecciòn y finales de carrera para protecciòn; platos de carga de 280 mm de diametro, puede funcionar a 110 VAC o 220 VAC incluye: 1.Cabezal escualizable para ensayo a compresiòn de probetas de concreto. 2.Consola de mando, con pantalla digital. 3.Cadenciometro luminoso para indicaciòn de la velocidad de aplicaciòn de carga. 4.Teclado de membrana y boton de parada de emergencia. 5.Memoria para registro de ensayos. 6.Salida de datos via rs232. alimentaciòn electrica 110V o 220V. 7.Dispositivo para ensayos de flexion de vigas y compresion de cilindros. Debe cumplir con la norma de ensayo INV E 410, INV E 414.INV E 622. Se debe entregar con certificado de calibracion ONAC para los dos rangos. | V43: 72936885
C44: =+C43+1 -> 33 | D44: Platon de aluminio de 40 cm de diametro interior y 13 cm de altura minima | E44: . | F44: 0 | G44: =ROUND(F44*(1+IPC!$Y$20/100)*(1+IPC!$X$20/100),"0") -> 0 | I44: 48481 | J44: =ROUND(I44*(1+IPC!$Y$20/100)*(1+IPC!$X$20/100)*(1+IPC!$W$20/100),"0") -> 56251 | L44: 47779 | M44: =ROUND(L44*(1+IPC!$Y$20/100)*(1+IPC!$X$20/100)*(1+IPC!$W$20/100)*(1+IPC!$V$20/100),"0") -> 60581 | N44: 0 | O44: =ROUND(N44*(1+IPC!$Y$20/100)*(1+IPC!$X$20/100)*(1+IPC!$W$20/100)*(1+IPC!$V$20/100),"0") -> 0 | R44: Platon de aluminio de 20 cm de diametro interior y 4,5 cm de altura minima | S44: 13736 | U44: MAQUINA PARA INMERSION - COMPRESION CON INDICADOR DIGITAL: Se compone de una prensa de columnas de alta estabilidad con cabezal escualizable y un travesaño para el ajuste de la altura. incluye Indicador digital programable para seleccionar unidades de indicación, carga limite, activar y desactivar memoria de picos y programar area de la muestra. Capacidad de 250 kN, operacion electro-hidraulica, altura ajustable entre 35 y 39 cm, interfaz para salida de datos por puerto USB. Puede funcionar a 110 VAC o 220 VAC. La prensa debe incluir: 1.seis (6) Moldes en acero de 101,6 mm de diametro y 177,8 mm de altura, espesor 6,4 mm con perforaciones laterales para drenaje. 2. Piston superior cilindrico fabricado en acero longitud minima 12,7 mm. 3. Piston inferior cilindrico fabricado en acero altura 50 mm / +- 4mm 4, Dos (2) soportes fabricados en acero dimensiones 25,4 mm*25,4 mm*76,2 mm La prensa debe cumplir con la norma de ensayo INV E 622-13. Se debe entregar con certificado de calibracion ONAC para el rango de carga que va hasta 250 kN. Tambien se debe entregar certificado de verificación de los 6 moldes, 2 pistones y 2 soportes, de acuerdo a loestablecido en la norma de ensayo INV-E-622-13. | V44: 54346408
C45: =+C44+1 -> 34 | D45: Wiper de limpieza trapo de algodón cosido es absorbente, resistente para los trabajos con solventes comunes, por ejemplo, thinner, aguarrás, etc. su espesor permite que se pueda usar para manipular principalmente objetos con temperaturas hasta 60° c; no raya ni desprende pelusas, ideal para limpieza de máquinas, equipos y piezas acabadas. | E45: . | F45: 0 | G45: =ROUND(F45*(1+IPC!$Y$20/100)*(1+IPC!$X$20/100),"0") -> 0 | I45: 24125 | J45: =ROUND(I45*(1+IPC!$Y$20/100)*(1+IPC!$X$20/100)*(1+IPC!$W$20/100),"0") -> 27992 | L45: 22432 | M45: =ROUND(L45*(1+IPC!$Y$20/100)*(1+IPC!$X$20/100)*(1+IPC!$W$20/100)*(1+IPC!$V$20/100),"0") -> 28443 | N45: 0 | O45: =ROUND(N45*(1+IPC!$Y$20/100)*(1+IPC!$X$20/100)*(1+IPC!$W$20/100)*(1+IPC!$V$20/100),"0") -> 0 | R45: Platon de aluminio de 25 cm de diametro interior y 7 cm de altura minima | S45: 17545 | U45: Marcador industrial (creyon) para marcar cilindros y vigas de concreto y mezcla asfaltica que sea resistente al agua. Color Blanco o Amarillo | V45: 90143
C46: =+C45+1 -> 35 | D46: Toalla absorvente material en algodón de 80cm de largo * 50cm de ancho para ensayo de gravedad especifica maxima de mezclas asfalticas para pavimentos y gravedad especifica bulk y densidad de mazclas asflaticas compactadas no absorvbentes empleando especimenes saturados y superficialmente secos. | E46: . | F46: 0 | G46: =ROUND(F46*(1+IPC!$Y$20/100)*(1+IPC!$X$20/100),"0") -> 0 | I46: 67988 | J46: =ROUND(I46*(1+IPC!$Y$20/100)*(1+IPC!$X$20/100)*(1+IPC!$W$20/100),"0") -> 78885 | L46: 84133 | M46: =ROUND(L46*(1+IPC!$Y$20/100)*(1+IPC!$X$20/100)*(1+IPC!$W$20/100)*(1+IPC!$V$20/100),"0") -> 106676 | N46: 0 | O46: =ROUND(N46*(1+IPC!$Y$20/100)*(1+IPC!$X$20/100)*(1+IPC!$W$20/100)*(1+IPC!$V$20/100),"0") -> 0 | R46: Platon de aluminio de 30 cm de diametro interior y 8cm de altura minima | S46: 36476 | U46: Martillo mecanico PROCTOR Y CBR: Martillo mecánico que compacte y gire el molde automáticamente después de cada golpe mientras mantiene control del número de golpes y detiene el equipo una vez alcanzado el número prefijado, con función encendido/apagado independiente del contador. La unidad puede ser usada para efectuar ensayos de compactación estándar o modificado usando un martillo de 5,5 lb con caída de 18” (457 mm). Durante la compactación Están incluidos en el compactador: 1. Martillo con masa 5,5±0,02 lb que tenga una cara plana circular, de diámetro 50.80±0,13mm, con una camisa guía que controle la altura de calidad del golpe desde una altura libre de 304,8±1 mm por encima de la atura del suelo 2.Martillo con masa 10±0,02 lb que tenga una cara plana circular, de diámetro 50.80±0,13 ml, con una camisa guía que controle la altura de calidad del golpe desde una altura libre de 457,2±1,3 mm por encima de la atura del suelo 3. Dispositivo de seguridad del martillo 4. Incluir la verificación del cumplimiento de los parámetros anteriormente mencionados, que cumpla normas INV E 141, 142 y 148-13 | V46: 73370240
C47: =+C46+1 -> 36 | D47: Paquetes por 100 unidades de filtro para centrifuga de 3000g de DIAMETRO DE 287,30MM, DEBE CUMPLIR CON LA NORMA INV E 732-13. | E47: . | F47: 697816 | G47: =ROUND(F47*(1+IPC!$Y$20/100)*(1+IPC!$X$20/100),"0") -> 769635 | I47: 654950 | J47: =ROUND(I47*(1+IPC!$Y$20/100)*(1+IPC!$X$20/100)*(1+IPC!$W$20/100),"0") -> 759920 | L47: 604935 | M47: =ROUND(L47*(1+IPC!$Y$20/100)*(1+IPC!$X$20/100)*(1+IPC!$W$20/100)*(1+IPC!$V$20/100),"0") -> 767024 | N47: 0 | O47: =ROUND(N47*(1+IPC!$Y$20/100)*(1+IPC!$X$20/100)*(1+IPC!$W$20/100)*(1+IPC!$V$20/100),"0") -> 0 | R47: Platon de aluminio de 40 cm de diametro interior y 13 cm de altura minima | S47: 48481 | U47: Mazo con cabeza de caucho o de cuero crudo y una masa de 0,6±0,2kg. Que cumpla con las normas ASTM C 192-192M-07, INV E 402-13. | V47: 43172
C48: =+C47+1 -> 37 | D48: Paquetes por 100 unidades de filtro para centrifuga de 3000g de DIAMETRO DE 320MM, DEBE CUMPLIR CON LA NORMA INV E 732-13. | E48: . | F48: 770049 | G48: =ROUND(F48*(1+IPC!$Y$20/100)*(1+IPC!$X$20/100),"0") -> 849302 | I48: 698813 | J48: =ROUND(I48*(1+IPC!$Y$20/100)*(1+IPC!$X$20/100)*(1+IPC!$W$20/100),"0") -> 810813 | L48: 638136 | M48: =ROUND(L48*(1+IPC!$Y$20/100)*(1+IPC!$X$20/100)*(1+IPC!$W$20/100)*(1+IPC!$V$20/100),"0") -> 809121 | N48: 0 | O48: =ROUND(N48*(1+IPC!$Y$20/100)*(1+IPC!$X$20/100)*(1+IPC!$W$20/100)*(1+IPC!$V$20/100),"0") -> 0 | R48: Probeta graduada de plastico de 1000 ml | S48: 143595 | U48: Paquetes por 100 unidades de filtro para centrifuga de 3000g de diametro de 287,30mm, debe cumplir con la NORMA INV E 732-13. | V48: 604935
C49: =+C48+1 -> 38 | D49: Tarros en metal (tipo pintura) para muestras para recibir, transportar y almacenar muestras de material asfaltico, con tapa de tipo a presion que cubra toda la superficie, con capacidad aproximada un (1) litro. | E49: . | F49: 9044 | G49: =ROUND(F49*(1+IPC!$Y$20/100)*(1+IPC!$X$20/100),"0") -> 9975 | I49: 6695 | J49: =ROUND(I49*(1+IPC!$Y$20/100)*(1+IPC!$X$20/100)*(1+IPC!$W$20/100),"0") -> 7768 | L49: 6821 | M49: =ROUND(L49*(1+IPC!$Y$20/100)*(1+IPC!$X$20/100)*(1+IPC!$W$20/100)*(1+IPC!$V$20/100),"0") -> 8649 | N49: 0 | O49: =ROUND(N49*(1+IPC!$Y$20/100)*(1+IPC!$X$20/100)*(1+IPC!$W$20/100)*(1+IPC!$V$20/100),"0") -> 0 | R49: Solución stock concentrada para equivalente de arena | S49: 417279 | U49: Paquetes por 100 unidades de filtro para centrifuga de 3000g de diametro de 320mm, debe cumplir con la NORMA INV E 732-13. | V49: 638136
C50: =+C49+1 -> 39 | D50: Tarros en metal (tipo pintura) para muestras para recibir, transportar y almacenar muestras de material asfaltico, con tapa de tipo a presión que cubra toda la superficie, con capacidad aproximada un (1) galón. | E50: . | F50: 13507 | G50: =ROUND(F50*(1+IPC!$Y$20/100)*(1+IPC!$X$20/100),"0") -> 14897 | I50: 12236 | J50: =ROUND(I50*(1+IPC!$Y$20/100)*(1+IPC!$X$20/100)*(1+IPC!$W$20/100),"0") -> 14197 | L50: 11733 | M50: =ROUND(L50*(1+IPC!$Y$20/100)*(1+IPC!$X$20/100)*(1+IPC!$W$20/100)*(1+IPC!$V$20/100),"0") -> 14877 | N50: 0 | O50: =ROUND(N50*(1+IPC!$Y$20/100)*(1+IPC!$X$20/100)*(1+IPC!$W$20/100)*(1+IPC!$V$20/100),"0") -> 0 | R50: Tamiz con marco y malla en acero inoxidable de diámetro 8 in altura interna 2 in y malla no. 325 (45 micrometros). los marcos de los tamices moldeados sin costura con bordes laminados rígidos y los fondos extendidos para asegurar un buen ajuste entre los marcos, las bandejas y los separadores del mismo diámetro, asegurándose de que el sistema de apilado de los tamices es el correcto. Se debe entregar certificado de calibración del fábricante, que cumpla con la norma ASTM E-11 y entregar certificado de calibración por laboratorio acreditado con sello ONAC. | S50: 350907 | U50: pesa para ensayo de SPT y Perforación DE PESO 18,14 Kg aproximadamente | V50: 780045
C51: =+C50+1 -> 40 | D51: Tarro plastico para recibir, trasnportar y almacenar muestras de materiales de emulsion con tapa de rosca, con capacidad aproximada un (1) galón. | E51: . | F51: 0 | G51: =ROUND(F51*(1+IPC!$Y$20/100)*(1+IPC!$X$20/100),"0") -> 0 | I51: 0 | J51: =ROUND(I51*(1+IPC!$Y$20/100)*(1+IPC!$X$20/100)*(1+IPC!$W$20/100),"0") -> 0 | L51: 0 | M51: =ROUND(L51*(1+IPC!$Y$20/100)*(1+IPC!$X$20/100)*(1+IPC!$W$20/100)*(1+IPC!$V$20/100),"0") -> 0 | N51: 0 | O51: =ROUND(N51*(1+IPC!$Y$20/100)*(1+IPC!$X$20/100)*(1+IPC!$W$20/100)*(1+IPC!$V$20/100),"0") -> 0 | R51: Tarros en metal para muestras para recibir, transportar y almacenar muestras de material asfaltico, con tapa de tipo a presión que cubra toda la superficie, con capacidad aproximada un (1) galón. | S51: 12236 | U51: Picnimetro de vidrio con tapon de 22mm a 26mm de diametro el cual debe llevar un orificio de 1.0 a 2.0mm de diametro, la tapa del tapon sera plana y pulida la seccion concava debe ser de 4.0 a 18.0 mm en el centro, debe tener un capacidad de 24ml a 30ml y una masa incluida el tapon no superior a 40g. Debe cumplir con la NORMA INV E 707-13 FIGURA 707-1. Se debe entregar certificado de verificacion del volumen. | V51: 635720
C52: =+C51+1 -> 41 | D52: Disco de papel filtro de diametro de 6" para ensayo de CBR norma INV E 148-13 | E52: . | F52: 708050 | G52: =ROUND(F52*(1+IPC!$Y$20/100)*(1+IPC!$X$20/100),"0") -> 780922 | I52: 0 | J52: =ROUND(I52*(1+IPC!$Y$20/100)*(1+IPC!$X$20/100)*(1+IPC!$W$20/100),"0") -> 0 | L52: 0 | M52: =ROUND(L52*(1+IPC!$Y$20/100)*(1+IPC!$X$20/100)*(1+IPC!$W$20/100)*(1+IPC!$V$20/100),"0") -> 0 | N52: 0 | O52: =ROUND(N52*(1+IPC!$Y$20/100)*(1+IPC!$X$20/100)*(1+IPC!$W$20/100)*(1+IPC!$V$20/100),"0") -> 0 | R52: Tarros en metal para muestras para recibir, transportar y almacenar muestras de material asfaltico, con tapa de tipo a presion que cubra toda la superficie, con capacidad aproximada un (1) litro. | S52: 6695 | U52: pila de 9 voltios recargable | V52: 84639
C53: =+C52+1 -> 42 | D53: Marcador industrial (creyon) para marcar cilindros y vigas de concreto y mezcla asfaltica que sea resistente al agua. Color Blanco o Amarillo | E53: . | F53: 79135 | G53: =ROUND(F53*(1+IPC!$Y$20/100)*(1+IPC!$X$20/100),"0") -> 87280 | I53: 82417 | J53: =ROUND(I53*(1+IPC!$Y$20/100)*(1+IPC!$X$20/100)*(1+IPC!$W$20/100),"0") -> 95626 | L53: 90143 | M53: =ROUND(L53*(1+IPC!$Y$20/100)*(1+IPC!$X$20/100)*(1+IPC!$W$20/100)*(1+IPC!$V$20/100),"0") -> 114296 | N53: 0 | O53: =ROUND(N53*(1+IPC!$Y$20/100)*(1+IPC!$X$20/100)*(1+IPC!$W$20/100)*(1+IPC!$V$20/100),"0") -> 0 | R53: Termómetro bimetálico: Lectura directa de metal para uso general, de rango de 10°c a 200°c, con division de escala de 2°c, varilla de acero inoxidable de 6 in de largo. el diametro de la caratula del dial puede ser de 2” a 3" (50 mm a 75mm) . el termometro debe tener un mecanismo externo que permita el ajuste de temperatura, que cumpla con la norma INV E 748 – 13. debe entregarse con certificado de calibración con sello ONAC en 3 puntos | S53: 657951 | U53: Placa de vidrio esmerilado de tamaño de 50cm * 50cm para formar cilindros de suelo (rollos) para el ensayo INV-E-125-13 e INV-E-126-13. | V53: 64022
C54: =+C53+1 -> 43 | D54: Papel filtro Whatman N°20 para ensayo azul de metileno Norma INV E 235-13 | E54: . | F54: 524909 | G54: =ROUND(F54*(1+IPC!$Y$20/100)*(1+IPC!$X$20/100),"0") -> 578932 | I54: 0 | J54: =ROUND(I54*(1+IPC!$Y$20/100)*(1+IPC!$X$20/100)*(1+IPC!$W$20/100),"0") -> 0 | L54: 0 | M54: =ROUND(L54*(1+IPC!$Y$20/100)*(1+IPC!$X$20/100)*(1+IPC!$W$20/100)*(1+IPC!$V$20/100),"0") -> 0 | N54: 0 | O54: =ROUND(N54*(1+IPC!$Y$20/100)*(1+IPC!$X$20/100)*(1+IPC!$W$20/100)*(1+IPC!$V$20/100),"0") -> 0 | R54: Toalla absorvente material en algodón de 80cm de largo * 50cm de ancho para ensayo de gravedad especifica maxima de mezclas asfalticas para pavimentos y gravedad especifica bulk y densidad de mazclas asflaticas compactadas no absorvbentes empleando especimenes saturados y superficialmente secos. | S54: 67988 | U54: Platillos de fondo para tamices, en acero inoxidable, diámetro 8" y profundidad 2" | V54: 199682
C55: =+C54+1 -> 44 | D55: Bolsillo de laminacion tamaño carta (Calibre 5 - 125 micras) Cada uno de 125 micras para un grosor toal de 250 micras | E55: . | F55: 0 | G55: =ROUND(F55*(1+IPC!$Y$20/100)*(1+IPC!$X$20/100),"0") -> 0 | I55: 188151 | J55: =ROUND(I55*(1+IPC!$Y$20/100)*(1+IPC!$X$20/100)*(1+IPC!$W$20/100),"0") -> 218306 | L55: 0 | M55: =ROUND(L55*(1+IPC!$Y$20/100)*(1+IPC!$X$20/100)*(1+IPC!$W$20/100)*(1+IPC!$V$20/100),"0") -> 0 | N55: 0 | O55: =ROUND(N55*(1+IPC!$Y$20/100)*(1+IPC!$X$20/100)*(1+IPC!$W$20/100)*(1+IPC!$V$20/100),"0") -> 0 | R55: Tubo irrigador para ensayo de equivalente de arena en cobre o bronce de 6,35 mm de diametro exterior y 0,89 mm de espesor, con longitud de 510 mm, con uno de sus extremos cerrado formando una arista. las caras laterales del extremo cerrado tienen dos (2) orificios de 1 mm de diametro cerca a la arista que se forma.el tubo irrigador debe cumplir con lo solicitado en la norma INV E-133-13, FIGURA 133-1 (DETALLE 6). Se debe entregar certificado de verificacion de las medidas de cada tubo irrigador según tabla de la FIGURA 133-1 (DETALLE 6) de la norma INV E-133-13. | S55: 67527 | U55: Platon de aluminio de 15cm de diametro interior y 4 cm de altura minima | V55: 9520
... C58: =+C57+1 -> 47 | D58: Agua destilada Aspecto: Líquido Color: Incoloro Olor: Inodora pH a 20ºC: 6,0 ± 1,0 Densidad a 20ºC: 1.000 ± 0.01 g/mL Envasada en recipiente plástico con tapa roscada. | E58: . | F58: 193970 | G58: =ROUND(F58*(1+IPC!$Y$20/100)*(1+IPC!$X$20/100),"0") -> 213933 | I58: 136207 | J58: =ROUND(I58*(1+IPC!$Y$20/100)*(1+IPC!$X$20/100)*(1+IPC!$W$20/100),"0") -> 158037 | L58: 183858 | M58: =ROUND(L58*(1+IPC!$Y$20/100)*(1+IPC!$X$20/100)*(1+IPC!$W$20/100)*(1+IPC!$V$20/100),"0") -> 233122 | N58: 0 | O58: =ROUND(N58*(1+IPC!$Y$20/100)*(1+IPC!$X$20/100)*(1+IPC!$W$20/100)*(1+IPC!$V$20/100),"0") -> 0 | R58: Wiper de limpieza trapo de algodón cosido es absorbente, resistente para los trabajos con solventes comunes, por ejemplo, thinner, aguarrás, etc. su espesor permite que se pueda usar para manipular principalmente objetos con temperaturas hasta 60° c; no raya ni desprende pelusas, ideal para limpieza de máquinas, equipos y piezas acabadas. | S58: 24125 | U58: Platon de aluminio de 30 cm de diametro interior y 8cm de altura minima | V58: 32666
...

Sheet FM-029 Incial
E2: FORMATO CUADRO DE TABULACIÓN Y ANÁLISIS DE DATOS ESTADÍSTICOS
E3: CÓDIGO: GCON-FM-029 | P3: VERSIÓN: 5
E4: FECHA DE APLICACIÓN: MAYO DEL 2026
B6: TABULACION DEPURADA COTIZACIONES, CONTRATACIONES VIGENCIA ANTERIOR DE LA UAERMV Y CONTRATACIONES SIMILARES DE OTRAS ENTIDADES PARA EL ESTUDIO DE SECTOR PRESUPUESTO | G6: COTIZACIONES GESTIONADAS PARA EL ESTUDIO DE SECTOR | M6: CONTRATACIONES ANTERIORES UAERMV | P6: CONTRATACIONES SIMILARES OTRAS ENTIDADES VIGENCIA 20XX | Q6: “OBJETO: 8081-285 SUMINISTRO DE EQUIPOS, ELEMENTOS E INSUMOS PARA EL LABORATORIO DE SUELOS, ASFALTOS Y PAVIMENTOS DE LA UAERMV”
M7: CONTRATO 559 del 23 de sep 2025 | N7: CONTRATO 934 del 5 DIC DE 2024 | O7: CONTRATO 677 del 16 nov DE 2023
G8: DIRIMPEX SAS | H8: PINZUAR SAS | I8: SIMIN SAS | J8: INDUSTRIAS ADRIACOL SAS | K8: Empresa #5 | L8: Empresa #6 | M8: PINZUAR S.A.S | N8: PINZUAR S.A.S | O8: DIRIMPEX S.A.S | P8: Empresa #1
B9: ITEM | C9: DESCRIPCIÓN | E9: UND | F9: Cant. | G9: VALOR UNITARIO INCLUIDO IVA | M9: VALOR UNITARIO INCLUIDO IVA A PRECIO 2026 | P9: VALOR UNITARIO INCLUIDO IVA A PRECIO 20XX | Q9: MUESTRA | R9: VALOR PROMEDIO UNITARIO | S9: VALOR PROMEDIO TOTAL | T9: DESVIACION ESTANDAR | U9: COEF VARIACION | V9: MARGEN DE CONFIABILIDAD | W9: NIVEL DE CONFIABILIDAD DE LOS DATOS
D10: DESCRIPCCION TECNICA
B11: 1.1 | C11: Componente 1. Extractor centrífugo tipo caracol de minimo 18 pulgadas. Material Rotor: En aluminio reforzado de aleta recta atrasada. Motor: electrico de 2 HP NORMA IEC EFICIENCIA IE3 3F/220V/60Hz Trifásico. Transmisión: Mecánica por correas y poleas a 1.490 RPM. Poleas en hierro doble canal tipo A, correas dobles dentadas refrigeradas. Chumaceras: Minimo NTN o calidades similares. Matarial Carcasa: Acero HR, terminado con pintura electrostática horneada. Desempeño minimo de 3150 CFM con una presión estática de 1 In / wg. Posición: IG0 mirando el motor con el motor fuera del flujo del aire. Nota 1 : Se adjunta imagen de referencia con fines ilustrativos unicamente. | E11: UND | F11: 1 | H11: 11186000 | I11: 17731000 | J11: 12530700 | Q11: =COUNT(G11:P11) -> 3 | R11: =ROUND(AVERAGE(G11:P11),0) -> 13815900 | S11: =ROUND(+R11*F11,0) -> 13815900 | T11: =STDEVP(G11:P11) -> 2822299.4 | U11: =T11/R11*100 -> 20.427908 | V11: =100-U11 -> 79.572092 | W11: =IF(V11>70,"ALTO","BAJO") -> ALTO
B12: 1.2 | C12: Componente 2. Campana de captación tipo americana fabricada en lámina de acero galvanizado de calibre minimo 20. 1. Medidas: Largo 1500 mm. Ancho 850 mm. Alto Espaldar 600 mm. Alto Frente 350 mm. 2. Velocidad de extraccion minima: 12 m/s. 3. Ductileria de ancho minimo de campana de: 360 x 360 mm 4. Caudal minimo: 3150 CFM. 5. Prefiltros: MERV 8 Metralico Lavable. Filtro de Carbon activado granular. 6. Alojamiento filtros: Espacio para las tres estaciones de filtrado. 7. Medidas de filtros de 2" de ancho x 18" de largo y 22" de alto. Nota 1: Se adjunta imagen de referencia con fines ilustrativos unicamente. Nota 2: Las medidas establecidas en este item, son de referencia, pueden variar, es responsabilidad del contratista verificarlas o modificarlas de acuerdo a visita de campo. | E12: UND | F12: 1 | H12: 4641000 | I12: 16422000 | J12: 6345675 | Q12: =COUNT(G12:P12) -> 3 | R12: =ROUND(AVERAGE(G12:P12),0) -> 9136225 | S12: =ROUND(+R12*F12,0) -> 9136225 | T12: =STDEVP(G12:P12) -> 5198613.1 | U12: =T12/R12*100 -> 56.901106 | V12: =100-U12 -> 43.098894 | W12: =IF(V12>70,"ALTO","BAJO") -> BAJO
