Workbook

Sheet Fumigación
G1: INVERKPITAL SAS | K1: SOLIX | O1: VALCA | S1: PROMEDIO
B2: FUMIGACIÓN | G2: Valor unitario neto | H2: % IVA | I2: Valor Unitario con IVA (Si aplica) | J2: Valor TOTAL | K2: Valor unitario neto | L2: % IVA | M2: Valor Unitario con IVA (Si aplica) | N2: Valor TOTAL | O2: Valor unitario neto | P2: % IVA | Q2: Valor Unitario con IVA (Si aplica) | R2: Valor TOTAL | S2: Valor unitario neto | T2: % IVA | U2: Valor Unitario con IVA (Si aplica) | V2: Valor TOTAL
B3: ORDEN | C3: DIRECCIÓN | D3: DESCRIPCIÓN | E3: ÁREA DE INTERVENCIÓN (m2) APROX | F3: TOTAL DE FUMIGACIONES
A4: GOBIERNO | B4: 1 | C4: Cra. 4 N° 12-63 | D4: Alcaldía municipal - Sede principal | E4: 4800 | F4: 2 | G4: 1824000 | H4: =+G4*19% -> 346560 | I4: =+G4+H4 -> 2170560 | J4: =+I4*F4 -> 4341120 | K4: 1824000 | L4: =+K4*19% -> 346560 | M4: =+K4+L4 -> 2170560 | N4: =+M4*F4 -> 4341120 | O4: 1680000 | P4: =+O4*19% -> 319200 | Q4: =+O4+P4 -> 1999200 | R4: =+Q4*F4 -> 3998400 | S4: =AVERAGE(G4,K4,O4) -> 1776000 | T4: =AVERAGE(H4,L4,P4) -> 337440 | U4: =AVERAGE(I4,M4,Q4) -> 2113440 | V4: =AVERAGE(J4,N4,R4) -> 4226880
B5: 2 | C5: Cll. 11 N° 5-17 | D5: Polideportivo urbano y Parque Cuarto Centenario | E5: 1792 | F5: 2 | G5: 716800 | H5: =+G5*19% -> 136192 | I5: =+G5+H5 -> 852992 | J5: =+I5*F5 -> 1705984 | K5: 716800 | L5: =+K5*19% -> 136192 | M5: =+K5+L5 -> 852992 | N5: =+M5*F5 -> 1705984 | O5: 698880 | P5: =+O5*19% -> 132787.2 | Q5: =+O5+P5 -> 831667.2 | R5: =+Q5*F5 -> 1663334.4 | S5: =AVERAGE(G5,K5,O5) -> 710826.67 | T5: =AVERAGE(H5,L5,P5) -> 135057.07 | U5: =AVERAGE(I5,M5,Q5) -> 845883.73 | V5: =AVERAGE(J5,N5,R5) -> 1691767.5
B6: 3 | C6: Cll. 11 N° 5-17 | D6: Archivo Central - sede uno | E6: 520 | F6: 2 | G6: 405000 | H6: =+G6*19% -> 76950 | I6: =+G6+H6 -> 481950 | J6: =+I6*F6 -> 963900 | K6: 420000 | L6: =+K6*19% -> 79800 | M6: =+K6+L6 -> 499800 | N6: =+M6*F6 -> 999600 | O6: 400000 | P6: =+O6*19% -> 76000 | Q6: =+O6+P6 -> 476000 | R6: =+Q6*F6 -> 952000 | S6: =AVERAGE(G6,K6,O6) -> 408333.33 | T6: =AVERAGE(H6,L6,P6) -> 77583.333 | U6: =AVERAGE(I6,M6,Q6) -> 485916.67 | V6: =AVERAGE(J6,N6,R6) -> 971833.33
B7: 4 | C7: Cll. 11 N° 5-17 | D7: Gimnasio municipal | E7: 200 | F7: 2 | G7: 176000 | H7: =+G7*19% -> 33440 | I7: =+G7+H7 -> 209440 | J7: =+I7*F7 -> 418880 | K7: 190000 | L7: =+K7*19% -> 36100 | M7: =+K7+L7 -> 226100 | N7: =+M7*F7 -> 452200 | O7: 170000 | P7: =+O7*19% -> 32300 | Q7: =+O7+P7 -> 202300 | R7: =+Q7*F7 -> 404600 | S7: =AVERAGE(G7,K7,O7) -> 178666.67 | T7: =AVERAGE(H7,L7,P7) -> 33946.667 | U7: =AVERAGE(I7,M7,Q7) -> 212613.33 | V7: =AVERAGE(J7,N7,R7) -> 425226.67
B8: 5 | C8: Cll. 11 N° 5-17 | D8: Sala de velación | E8: 70 | F8: 2 | G8: 52500 | H8: =+G8*19% -> 9975 | I8: =+G8+H8 -> 62475 | J8: =+I8*F8 -> 124950 | K8: 55000 | L8: =+K8*19% -> 10450 | M8: =+K8+L8 -> 65450 | N8: =+M8*F8 -> 130900 | O8: 50000 | P8: =+O8*19% -> 9500 | Q8: =+O8+P8 -> 59500 | R8: =+Q8*F8 -> 119000 | S8: =AVERAGE(G8,K8,O8) -> 52500 | T8: =AVERAGE(H8,L8,P8) -> 9975 | U8: =AVERAGE(I8,M8,Q8) -> 62475 | V8: =AVERAGE(J8,N8,R8) -> 124950
B9: 6 | C9: Cra. 5 N° 12-48 | D9: Parque Principal Luis Carlos Galan | E9: 4275 | F9: 2 | G9: 1624500 | H9: =+G9*19% -> 308655 | I9: =+G9+H9 -> 1933155 | J9: =+I9*F9 -> 3866310 | K9: 1624500 | L9: =+K9*19% -> 308655 | M9: =+K9+L9 -> 1933155 | N9: =+M9*F9 -> 3866310 | O9: 1496250 | P9: =+O9*19% -> 284287.5 | Q9: =+O9+P9 -> 1780537.5 | R9: =+Q9*F9 -> 3561075 | S9: =AVERAGE(G9,K9,O9) -> 1581750 | T9: =AVERAGE(H9,L9,P9) -> 300532.5 | U9: =AVERAGE(I9,M9,Q9) -> 1882282.5 | V9: =AVERAGE(J9,N9,R9) -> 3764565
B10: 7 | C10: Cra. 6 N° 13-28 | D10: Inspección Primera de Policia, Archivo sede dos y bodegas (1 y 2 piso) | E10: 150 | F10: 2 | G10: 97000 | H10: =+G10*19% -> 18430 | I10: =+G10+H10 -> 115430 | J10: =+I10*F10 -> 230860 | K10: 100000 | L10: =+K10*19% -> 19000 | M10: =+K10+L10 -> 119000 | N10: =+M10*F10 -> 238000 | O10: 90000 | P10: =+O10*19% -> 17100 | Q10: =+O10+P10 -> 107100 | R10: =+Q10*F10 -> 214200 | S10: =AVERAGE(G10,K10,O10) -> 95666.667 | T10: =AVERAGE(H10,L10,P10) -> 18176.667 | U10: =AVERAGE(I10,M10,Q10) -> 113843.33 | V10: =AVERAGE(J10,N10,R10) -> 227686.67
B11: 8 | C11: Vereda Parcelas - Campus parcelas | D11: Inspección Segunda de Policia | E11: 64 | F11: 2 | G11: 52500 | H11: =+G11*19% -> 9975 | I11: =+G11+H11 -> 62475 | J11: =+I11*F11 -> 124950 | K11: 55000 | L11: =+K11*19% -> 10450 | M11: =+K11+L11 -> 65450 | N11: =+M11*F11 -> 130900 | O11: 50000 | P11: =+O11*19% -> 9500 | Q11: =+O11+P11 -> 59500 | R11: =+Q11*F11 -> 119000 | S11: =AVERAGE(G11,K11,O11) -> 52500 | T11: =AVERAGE(H11,L11,P11) -> 9975 | U11: =AVERAGE(I11,M11,Q11) -> 62475 | V11: =AVERAGE(J11,N11,R11) -> 124950
B12: 9 | C12: Cra. 3 N°12-07 | D12: Bodega de inservibles - Almacen | E12: 125 | F12: 2 | G12: 97000 | H12: =+G12*19% -> 18430 | I12: =+G12+H12 -> 115430 | J12: =+I12*F12 -> 230860 | K12: 100000 | L12: =+K12*19% -> 19000 | M12: =+K12+L12 -> 119000 | N12: =+M12*F12 -> 238000 | O12: 90000 | P12: =+O12*19% -> 17100 | Q12: =+O12+P12 -> 107100 | R12: =+Q12*F12 -> 214200 | S12: =AVERAGE(G12,K12,O12) -> 95666.667 | T12: =AVERAGE(H12,L12,P12) -> 18176.667 | U12: =AVERAGE(I12,M12,Q12) -> 113843.33 | V12: =AVERAGE(J12,N12,R12) -> 227686.67
B13: 10 | C13: Vereda La Moya | D13: Bodega de inservibles - Almacen | E13: 178 | F13: 2 | G13: 97000 | H13: =+G13*19% -> 18430 | I13: =+G13+H13 -> 115430 | J13: =+I13*F13 -> 230860 | K13: 100000 | L13: =+K13*19% -> 19000 | M13: =+K13+L13 -> 119000 | N13: =+M13*F13 -> 238000 | O13: 90000 | P13: =+O13*19% -> 17100 | Q13: =+O13+P13 -> 107100 | R13: =+Q13*F13 -> 214200 | S13: =AVERAGE(G13,K13,O13) -> 95666.667 | T13: =AVERAGE(H13,L13,P13) -> 18176.667 | U13: =AVERAGE(I13,M13,Q13) -> 113843.33 | V13: =AVERAGE(J13,N13,R13) -> 227686.67
B14: 11 | C14: Cra. 5 N° 1-97- Centro Comercial Cedro Mall. | D14: Almacen municipal - sede Centro Comercial Cedro Mall | E14: 115 | F14: 2 | G14: 97000 | H14: =+G14*19% -> 18430 | I14: =+G14+H14 -> 115430 | J14: =+I14*F14 -> 230860 | K14: 100000 | L14: =+K14*19% -> 19000 | M14: =+K14+L14 -> 119000 | N14: =+M14*F14 -> 238000 | O14: 90000 | P14: =+O14*19% -> 17100 | Q14: =+O14+P14 -> 107100 | R14: =+Q14*F14 -> 214200 | S14: =AVERAGE(G14,K14,O14) -> 95666.667 | T14: =AVERAGE(H14,L14,P14) -> 18176.667 | U14: =AVERAGE(I14,M14,Q14) -> 113843.33 | V14: =AVERAGE(J14,N14,R14) -> 227686.67
B15: 12 | C15: Calle 14 #3-64 | D15: Comisaria | E15: 170 | F15: 2 | G15: 97000 | H15: =+G15*19% -> 18430 | I15: =+G15+H15 -> 115430 | J15: =+I15*F15 -> 230860 | K15: 100000 | L15: =+K15*19% -> 19000 | M15: =+K15+L15 -> 119000 | N15: =+M15*F15 -> 238000 | O15: 90000 | P15: =+O15*19% -> 17100 | Q15: =+O15+P15 -> 107100 | R15: =+Q15*F15 -> 214200 | S15: =AVERAGE(G15,K15,O15) -> 95666.667 | T15: =AVERAGE(H15,L15,P15) -> 18176.667 | U15: =AVERAGE(I15,M15,Q15) -> 113843.33 | V15: =AVERAGE(J15,N15,R15) -> 227686.67
B16: 13 | C16: Cra. 4 N° 11-41 | D16: Archivo sede tres - Bajando por el BBVA | E16: 64 | F16: 2 | G16: 52500 | H16: =+G16*19% -> 9975 | I16: =+G16+H16 -> 62475 | J16: =+I16*F16 -> 124950 | K16: 55000 | L16: =+K16*19% -> 10450 | M16: =+K16+L16 -> 65450 | N16: =+M16*F16 -> 130900 | O16: 50000 | P16: =+O16*19% -> 9500 | Q16: =+O16+P16 -> 59500 | R16: =+Q16*F16 -> 119000 | S16: =AVERAGE(G16,K16,O16) -> 52500 | T16: =AVERAGE(H16,L16,P16) -> 9975 | U16: =AVERAGE(I16,M16,Q16) -> 62475 | V16: =AVERAGE(J16,N16,R16) -> 124950
... B18: 15 | C18: Km. 1, vía Cota - Chía- frente a la oficina administrativa del IMRD Cota. | D18: Estación de Policía | E18: 300 | F18: 2 | G18: 176000 | H18: =+G18*19% -> 33440 | I18: =+G18+H18 -> 209440 | J18: =+I18*F18 -> 418880 | K18: 190000 | L18: =+K18*19% -> 36100 | M18: =+K18+L18 -> 226100 | N18: =+M18*F18 -> 452200 | O18: 170000 | P18: =+O18*19% -> 32300 | Q18: =+O18+P18 -> 202300 | R18: =+Q18*F18 -> 404600 | S18: =AVERAGE(G18,K18,O18) -> 178666.67 | T18: =AVERAGE(H18,L18,P18) -> 33946.667 | U18: =AVERAGE(I18,M18,Q18) -> 212613.33 | V18: =AVERAGE(J18,N18,R18) -> 425226.67
A19: SAMADE | B19: 16 | C19: Cra. 5 N° 1-97- Centro Comercial Cedro Mall. | D19: OFICINAS LOCALIZADAS EN CEDRO MALL | E19: 320 | F19: 2 | G19: 176000 | H19: =+G19*19% -> 33440 | I19: =+G19+H19 -> 209440 | J19: =+I19*F19 -> 418880 | K19: 190000 | L19: =+K19*19% -> 36100 | M19: =+K19+L19 -> 226100 | N19: =+M19*F19 -> 452200 | O19: 170000 | P19: =+O19*19% -> 32300 | Q19: =+O19+P19 -> 202300 | R19: =+Q19*F19 -> 404600 | S19: =AVERAGE(G19,K19,O19) -> 178666.67 | T19: =AVERAGE(H19,L19,P19) -> 33946.667 | U19: =AVERAGE(I19,M19,Q19) -> 212613.33 | V19: =AVERAGE(J19,N19,R19) -> 425226.67
B20: 17 | C20: Vereda Cetime - carrera 9 - sector vuelta la trampa - lote la Marimonda | D20: Lote arriendo maquinaria agrícola | E20: 600 | F20: 2 | G20: 405000 | H20: =+G20*19% -> 76950 | I20: =+G20+H20 -> 481950 | J20: =+I20*F20 -> 963900 | K20: 420000 | L20: =+K20*19% -> 79800 | M20: =+K20+L20 -> 499800 | N20: =+M20*F20 -> 999600 | O20: 400000 | P20: =+O20*19% -> 76000 | Q20: =+O20+P20 -> 476000 | R20: =+Q20*F20 -> 952000 | S20: =AVERAGE(G20,K20,O20) -> 408333.33 | T20: =AVERAGE(H20,L20,P20) -> 77583.333 | U20: =AVERAGE(I20,M20,Q20) -> 485916.67 | V20: =AVERAGE(J20,N20,R20) -> 971833.33
B21: 18 | C21: Vereda Pueblo Viejo Km. 1,1 variante Cota -Chía -San Carlos. | D21: Sede Pueblo Viejo UMATA - Alvergue 3 - La Granja | E21: 471 | F21: 2 | G21: 176000 | H21: =+G21*19% -> 33440 | I21: =+G21+H21 -> 209440 | J21: =+I21*F21 -> 418880 | K21: 190000 | L21: =+K21*19% -> 36100 | M21: =+K21+L21 -> 226100 | N21: =+M21*F21 -> 452200 | O21: 170000 | P21: =+O21*19% -> 32300 | Q21: =+O21+P21 -> 202300 | R21: =+Q21*F21 -> 404600 | S21: =AVERAGE(G21,K21,O21) -> 178666.67 | T21: =AVERAGE(H21,L21,P21) -> 33946.667 | U21: =AVERAGE(I21,M21,Q21) -> 212613.33 | V21: =AVERAGE(J21,N21,R21) -> 425226.67
B22: 19 | C22: Vereda Pueblo Viejo Km. 1,1 variante Cota Chía -San Carlos | D22: Abergue municipal 1, corral de esparcimiento y cuarto residuos especiales | E22: 60 | F22: 2 | G22: 52500 | H22: =+G22*19% -> 9975 | I22: =+G22+H22 -> 62475 | J22: =+I22*F22 -> 124950 | K22: 55000 | L22: =+K22*19% -> 10450 | M22: =+K22+L22 -> 65450 | N22: =+M22*F22 -> 130900 | O22: 50000 | P22: =+O22*19% -> 9500 | Q22: =+O22+P22 -> 59500 | R22: =+Q22*F22 -> 119000 | S22: =AVERAGE(G22,K22,O22) -> 52500 | T22: =AVERAGE(H22,L22,P22) -> 9975 | U22: =AVERAGE(I22,M22,Q22) -> 62475 | V22: =AVERAGE(J22,N22,R22) -> 124950
B23: 20 | C23: Vereda Pueblo Viejo Km. 1,1 variante Cota Chía -San Carlos | D23: Alvergue municipal 2 y corrales de esparcimiento | E23: 660 | F23: 2 | G23: 405000 | H23: =+G23*19% -> 76950 | I23: =+G23+H23 -> 481950 | J23: =+I23*F23 -> 963900 | K23: 420000 | L23: =+K23*19% -> 79800 | M23: =+K23+L23 -> 499800 | N23: =+M23*F23 -> 999600 | O23: 400000 | P23: =+O23*19% -> 76000 | Q23: =+O23+P23 -> 476000 | R23: =+Q23*F23 -> 952000 | S23: =AVERAGE(G23,K23,O23) -> 408333.33 | T23: =AVERAGE(H23,L23,P23) -> 77583.333 | U23: =AVERAGE(I23,M23,Q23) -> 485916.67 | V23: =AVERAGE(J23,N23,R23) -> 971833.33
B24: 21 | C24: Vereda Pueblo Viejo Km. 1,1 variante Cota Chía -San Carlos | D24: Consultorio veterinario, Obsercación, Oficina y areas comunes | E24: 122 | F24: 2 | G24: 97000 | H24: =+G24*19% -> 18430 | I24: =+G24+H24 -> 115430 | J24: =+I24*F24 -> 230860 | K24: 100000 | L24: =+K24*19% -> 19000 | M24: =+K24+L24 -> 119000 | N24: =+M24*F24 -> 238000 | O24: 90000 | P24: =+O24*19% -> 17100 | Q24: =+O24+P24 -> 107100 | R24: =+Q24*F24 -> 214200 | S24: =AVERAGE(G24,K24,O24) -> 95666.667 | T24: =AVERAGE(H24,L24,P24) -> 18176.667 | U24: =AVERAGE(I24,M24,Q24) -> 113843.33 | V24: =AVERAGE(J24,N24,R24) -> 227686.67
B25: 22 | C25: Vereda Pueblo Viejo Km. 1,1 variante Cota Chía -San Carlos | D25: Quirofanos | E25: 42 | F25: 2 | G25: 52500 | H25: =+G25*19% -> 9975 | I25: =+G25+H25 -> 62475 | J25: =+I25*F25 -> 124950 | K25: 55000 | L25: =+K25*19% -> 10450 | M25: =+K25+L25 -> 65450 | N25: =+M25*F25 -> 130900 | O25: 50000 | P25: =+O25*19% -> 9500 | Q25: =+O25+P25 -> 59500 | R25: =+Q25*F25 -> 119000 | S25: =AVERAGE(G25,K25,O25) -> 52500 | T25: =AVERAGE(H25,L25,P25) -> 9975 | U25: =AVERAGE(I25,M25,Q25) -> 62475 | V25: =AVERAGE(J25,N25,R25) -> 124950
B26: 23 | C26: Vereda Pueblo Viejo Km. 1,1 variante Cota Chía -San Carlos | D26: Almacen de insumos veterinarios | E26: 36 | F26: 2 | G26: 52500 | H26: =+G26*19% -> 9975 | I26: =+G26+H26 -> 62475 | J26: =+I26*F26 -> 124950 | K26: 55000 | L26: =+K26*19% -> 10450 | M26: =+K26+L26 -> 65450 | N26: =+M26*F26 -> 130900 | O26: 50000 | P26: =+O26*19% -> 9500 | Q26: =+O26+P26 -> 59500 | R26: =+Q26*F26 -> 119000 | S26: =AVERAGE(G26,K26,O26) -> 52500 | T26: =AVERAGE(H26,L26,P26) -> 9975 | U26: =AVERAGE(I26,M26,Q26) -> 62475 | V26: =AVERAGE(J26,N26,R26) -> 124950
B27: 24 | C27: Vereda Pueblo Viejo Km. 1,1 variante Cota Chía -San Carlos | D27: La Granja | E27: 820 | F27: 2 | G27: 405000 | H27: =+G27*19% -> 76950 | I27: =+G27+H27 -> 481950 | J27: =+I27*F27 -> 963900 | K27: 420000 | L27: =+K27*19% -> 79800 | M27: =+K27+L27 -> 499800 | N27: =+M27*F27 -> 999600 | O27: 400000 | P27: =+O27*19% -> 76000 | Q27: =+O27+P27 -> 476000 | R27: =+Q27*F27 -> 952000 | S27: =AVERAGE(G27,K27,O27) -> 408333.33 | T27: =AVERAGE(H27,L27,P27) -> 77583.333 | U27: =AVERAGE(I27,M27,Q27) -> 485916.67 | V27: =AVERAGE(J27,N27,R27) -> 971833.33
B28: 25 | C28: Vereda Pueblo Viejo Km. 1,1 variante Cota Chía -San Carlos | D28: Lombricultivo y Compostero | E28: 117 | F28: 2 | G28: 97000 | H28: =+G28*19% -> 18430 | I28: =+G28+H28 -> 115430 | J28: =+I28*F28 -> 230860 | K28: 100000 | L28: =+K28*19% -> 19000 | M28: =+K28+L28 -> 119000 | N28: =+M28*F28 -> 238000 | O28: 90000 | P28: =+O28*19% -> 17100 | Q28: =+O28+P28 -> 107100 | R28: =+Q28*F28 -> 214200 | S28: =AVERAGE(G28,K28,O28) -> 95666.667 | T28: =AVERAGE(H28,L28,P28) -> 18176.667 | U28: =AVERAGE(I28,M28,Q28) -> 113843.33 | V28: =AVERAGE(J28,N28,R28) -> 227686.67
B29: 26 | C29: Vereda Pueblo Viejo Km. 1,1 variante Cota Chía -San Carlos | D29: Centro de acopio de residuos solidos | E29: 318 | F29: 2 | G29: 176000 | H29: =+G29*19% -> 33440 | I29: =+G29+H29 -> 209440 | J29: =+I29*F29 -> 418880 | K29: 190000 | L29: =+K29*19% -> 36100 | M29: =+K29+L29 -> 226100 | N29: =+M29*F29 -> 452200 | O29: 170000 | P29: =+O29*19% -> 32300 | Q29: =+O29+P29 -> 202300 | R29: =+Q29*F29 -> 404600 | S29: =AVERAGE(G29,K29,O29) -> 178666.67 | T29: =AVERAGE(H29,L29,P29) -> 33946.667 | U29: =AVERAGE(I29,M29,Q29) -> 212613.33 | V29: =AVERAGE(J29,N29,R29) -> 425226.67
B30: 27 | C30: Carrera 5 N° 9-24 | D30: Bodega deshidratadora | E30: 210 | F30: 2 | G30: 176000 | H30: =+G30*19% -> 33440 | I30: =+G30+H30 -> 209440 | J30: =+I30*F30 -> 418880 | K30: 190000 | L30: =+K30*19% -> 36100 | M30: =+K30+L30 -> 226100 | N30: =+M30*F30 -> 452200 | O30: 170000 | P30: =+O30*19% -> 32300 | Q30: =+O30+P30 -> 202300 | R30: =+Q30*F30 -> 404600 | S30: =AVERAGE(G30,K30,O30) -> 178666.67 | T30: =AVERAGE(H30,L30,P30) -> 33946.667 | U30: =AVERAGE(I30,M30,Q30) -> 212613.33 | V30: =AVERAGE(J30,N30,R30) -> 425226.67
B31: 28 | C31: Cll. 3 N° 2B-180 La Gloria. | D31: Casa Social de la Mujer | E31: 341 | F31: 2 | G31: 176000 | H31: =+G31*19% -> 33440 | I31: =+G31+H31 -> 209440 | J31: =+I31*F31 -> 418880 | K31: 190000 | L31: =+K31*19% -> 36100 | M31: =+K31+L31 -> 226100 | N31: =+M31*F31 -> 452200 | O31: 170000 | P31: =+O31*19% -> 32300 | Q31: =+O31+P31 -> 202300 | R31: =+Q31*F31 -> 404600 | S31: =AVERAGE(G31,K31,O31) -> 178666.67 | T31: =AVERAGE(H31,L31,P31) -> 33946.667 | U31: =AVERAGE(I31,M31,Q31) -> 212613.33 | V31: =AVERAGE(J31,N31,R31) -> 425226.67
A32: CULTURA | B32: 29 | C32: Cra. 5 N° 12-48 | D32: Casa de la Cultura - Sede Proncopal | E32: 652 | F32: 2 | G32: 405000 | H32: =+G32*19% -> 76950 | I32: =+G32+H32 -> 481950 | J32: =+I32*F32 -> 963900 | K32: 420000 | L32: =+K32*19% -> 79800 | M32: =+K32+L32 -> 499800 | N32: =+M32*F32 -> 999600 | O32: 400000 | P32: =+O32*19% -> 76000 | Q32: =+O32+P32 -> 476000 | R32: =+Q32*F32 -> 952000 | S32: =AVERAGE(G32,K32,O32) -> 408333.33 | T32: =AVERAGE(H32,L32,P32) -> 77583.333 | U32: =AVERAGE(I32,M32,Q32) -> 485916.67 | V32: =AVERAGE(J32,N32,R32) -> 971833.33
B33: 30 | C33: Cra. 5 N° 12-48 | D33: Biblioteca municipal Héctor Hernando Gonzales | E33: 154 | F33: 2 | G33: 97000 | H33: =+G33*19% -> 18430 | I33: =+G33+H33 -> 115430 | J33: =+I33*F33 -> 230860 | K33: 100000 | L33: =+K33*19% -> 19000 | M33: =+K33+L33 -> 119000 | N33: =+M33*F33 -> 238000 | O33: 90000 | P33: =+O33*19% -> 17100 | Q33: =+O33+P33 -> 107100 | R33: =+Q33*F33 -> 214200 | S33: =AVERAGE(G33,K33,O33) -> 95666.667 | T33: =AVERAGE(H33,L33,P33) -> 18176.667 | U33: =AVERAGE(I33,M33,Q33) -> 113843.33 | V33: =AVERAGE(J33,N33,R33) -> 227686.67
B34: 31 | C34: Cra. 2 A N° 13--88 | D34: Centro expresión artístico - CEA | E34: 352 | F34: 2 | G34: 176000 | H34: =+G34*19% -> 33440 | I34: =+G34+H34 -> 209440 | J34: =+I34*F34 -> 418880 | K34: 190000 | L34: =+K34*19% -> 36100 | M34: =+K34+L34 -> 226100 | N34: =+M34*F34 -> 452200 | O34: 170000 | P34: =+O34*19% -> 32300 | Q34: =+O34+P34 -> 202300 | R34: =+Q34*F34 -> 404600 | S34: =AVERAGE(G34,K34,O34) -> 178666.67 | T34: =AVERAGE(H34,L34,P34) -> 33946.667 | U34: =AVERAGE(I34,M34,Q34) -> 212613.33 | V34: =AVERAGE(J34,N34,R34) -> 425226.67
B35: 32 | C35: Cll. 13 N° 3A - 29 | D35: Auditorio casa de la cultura | E35: 172 | F35: 2 | G35: 97000 | H35: =+G35*19% -> 18430 | I35: =+G35+H35 -> 115430 | J35: =+I35*F35 -> 230860 | K35: 100000 | L35: =+K35*19% -> 19000 | M35: =+K35+L35 -> 119000 | N35: =+M35*F35 -> 238000 | O35: 90000 | P35: =+O35*19% -> 17100 | Q35: =+O35+P35 -> 107100 | R35: =+Q35*F35 -> 214200 | S35: =AVERAGE(G35,K35,O35) -> 95666.667 | T35: =AVERAGE(H35,L35,P35) -> 18176.667 | U35: =AVERAGE(I35,M35,Q35) -> 113843.33 | V35: =AVERAGE(J35,N35,R35) -> 227686.67
B36: 33 | C36: Sector Vuelta de la trampa | D36: Casa de bellas arte vuelta de la trampa | E36: 490 | F36: 2 | G36: 176000 | H36: =+G36*19% -> 33440 | I36: =+G36+H36 -> 209440 | J36: =+I36*F36 -> 418880 | K36: 190000 | L36: =+K36*19% -> 36100 | M36: =+K36+L36 -> 226100 | N36: =+M36*F36 -> 452200 | O36: 170000 | P36: =+O36*19% -> 32300 | Q36: =+O36+P36 -> 202300 | R36: =+Q36*F36 -> 404600 | S36: =AVERAGE(G36,K36,O36) -> 178666.67 | T36: =AVERAGE(H36,L36,P36) -> 33946.667 | U36: =AVERAGE(I36,M36,Q36) -> 212613.33 | V36: =AVERAGE(J36,N36,R36) -> 425226.67
B37: 34 | C37: Calle 11 # 4 - 07 | D37: Casa del arte | E37: 510 | F37: 2 | G37: 405000 | H37: =+G37*19% -> 76950 | I37: =+G37+H37 -> 481950 | J37: =+I37*F37 -> 963900 | K37: 420000 | L37: =+K37*19% -> 79800 | M37: =+K37+L37 -> 499800 | N37: =+M37*F37 -> 999600 | O37: 400000 | P37: =+O37*19% -> 76000 | Q37: =+O37+P37 -> 476000 | R37: =+Q37*F37 -> 952000 | S37: =AVERAGE(G37,K37,O37) -> 408333.33 | T37: =AVERAGE(H37,L37,P37) -> 77583.333 | U37: =AVERAGE(I37,M37,Q37) -> 485916.67 | V37: =AVERAGE(J37,N37,R37) -> 971833.33
A38: DESARROLLO SOCIAL - ICBF | B38: 35 | C38: Km. 1 vía Cota - chía El Calabazo 1 | D38: Centro Renacer | E38: 2444 | F38: 2 | G38: 921388 | H38: =+G38*19% -> 175063.72 | I38: =+G38+H38 -> 1096451.7 | J38: =+I38*F38 -> 2192903.4 | K38: 977600 | L38: =+K38*19% -> 185744 | M38: =+K38+L38 -> 1163344 | N38: =+M38*F38 -> 2326688 | O38: 953160 | P38: =+O38*19% -> 181100.4 | Q38: =+O38+P38 -> 1134260.4 | R38: =+Q38*F38 -> 2268520.8 | S38: =AVERAGE(G38,K38,O38) -> 950716 | T38: =AVERAGE(H38,L38,P38) -> 180636.04 | U38: =AVERAGE(I38,M38,Q38) -> 1131352 | V38: =AVERAGE(J38,N38,R38) -> 2262704.1
B39: 36 | C39: Cll.6 N° 6 -104 | D39: Jardín infantil Mi Dulce Esperanza | E39: 154 | F39: 2 | G39: 97000 | H39: =+G39*19% -> 18430 | I39: =+G39+H39 -> 115430 | J39: =+I39*F39 -> 230860 | K39: 100000 | L39: =+K39*19% -> 19000 | M39: =+K39+L39 -> 119000 | N39: =+M39*F39 -> 238000 | O39: 90000 | P39: =+O39*19% -> 17100 | Q39: =+O39+P39 -> 107100 | R39: =+Q39*F39 -> 214200 | S39: =AVERAGE(G39,K39,O39) -> 95666.667 | T39: =AVERAGE(H39,L39,P39) -> 18176.667 | U39: =AVERAGE(I39,M39,Q39) -> 113843.33 | V39: =AVERAGE(J39,N39,R39) -> 227686.67
B40: 37 | C40: Vereda La Moya - el altamizal | D40: Jardín infantil Líderes del Cambio | E40: 1080 | F40: 2 | G40: 407160 | H40: =+G40*19% -> 77360.4 | I40: =+G40+H40 -> 484520.4 | J40: =+I40*F40 -> 969040.8 | K40: 432000 | L40: =+K40*19% -> 82080 | M40: =+K40+L40 -> 514080 | N40: =+M40*F40 -> 1028160 | O40: 421200 | P40: =+O40*19% -> 80028 | Q40: =+O40+P40 -> 501228 | R40: =+Q40*F40 -> 1002456 | S40: =AVERAGE(G40,K40,O40) -> 420120 | T40: =AVERAGE(H40,L40,P40) -> 79822.8 | U40: =AVERAGE(I40,M40,Q40) -> 499942.8 | V40: =AVERAGE(J40,N40,R40) -> 999885.6
B41: 38 | C41: Vereda el Abra - Institución educativa el Abra - 200 metros arriba de 4 caminos. | D41: Jardín infantil Mi Pequeño Hogar | E41: 2500 | F41: 2 | G41: 942500 | H41: =+G41*19% -> 179075 | I41: =+G41+H41 -> 1121575 | J41: =+I41*F41 -> 2243150 | K41: 1000000 | L41: =+K41*19% -> 190000 | M41: =+K41+L41 -> 1190000 | N41: =+M41*F41 -> 2380000 | O41: 975000 | P41: =+O41*19% -> 185250 | Q41: =+O41+P41 -> 1160250 | R41: =+Q41*F41 -> 2320500 | S41: =AVERAGE(G41,K41,O41) -> 972500 | T41: =AVERAGE(H41,L41,P41) -> 184775 | U41: =AVERAGE(I41,M41,Q41) -> 1157275 | V41: =AVERAGE(J41,N41,R41) -> 2314550
B42: 39 | C42: Vereda El Roso - dentro de la Institución educativa del Roso | D42: Jardín infantil Caminito Alegre | E42: 468 | F42: 2 | G42: 176000 | H42: =+G42*19% -> 33440 | I42: =+G42+H42 -> 209440 | J42: =+I42*F42 -> 418880 | K42: 190000 | L42: =+K42*19% -> 36100 | M42: =+K42+L42 -> 226100 | N42: =+M42*F42 -> 452200 | O42: 170000 | P42: =+O42*19% -> 32300 | Q42: =+O42+P42 -> 202300 | R42: =+Q42*F42 -> 404600 | S42: =AVERAGE(G42,K42,O42) -> 178666.67 | T42: =AVERAGE(H42,L42,P42) -> 33946.667 | U42: =AVERAGE(I42,M42,Q42) -> 212613.33 | V42: =AVERAGE(J42,N42,R42) -> 425226.67
B43: 40 | C43: Vereda Parcelas - Campus municipal - Dentro del Colegio Ruperto Melo | D43: Jardín infantil Personitas Felices | E43: 120 | F43: 2 | G43: 97000 | H43: =+G43*19% -> 18430 | I43: =+G43+H43 -> 115430 | J43: =+I43*F43 -> 230860 | K43: 100000 | L43: =+K43*19% -> 19000 | M43: =+K43+L43 -> 119000 | N43: =+M43*F43 -> 238000 | O43: 90000 | P43: =+O43*19% -> 17100 | Q43: =+O43+P43 -> 107100 | R43: =+Q43*F43 -> 214200 | S43: =AVERAGE(G43,K43,O43) -> 95666.667 | T43: =AVERAGE(H43,L43,P43) -> 18176.667 | U43: =AVERAGE(I43,M43,Q43) -> 113843.33 | V43: =AVERAGE(J43,N43,R43) -> 227686.67
B44: 41 | C44: Cra. 8C N° 14 -13 | D44: Jardín infantil El Libertador | E44: 1588 | F44: 2 | G44: 598676 | H44: =+G44*19% -> 113748.44 | I44: =+G44+H44 -> 712424.44 | J44: =+I44*F44 -> 1424848.9 | K44: 635200 | L44: =+K44*19% -> 120688 | M44: =+K44+L44 -> 755888 | N44: =+M44*F44 -> 1511776 | O44: 619320 | P44: =+O44*19% -> 117670.8 | Q44: =+O44+P44 -> 736990.8 | R44: =+Q44*F44 -> 1473981.6 | S44: =AVERAGE(G44,K44,O44) -> 617732 | T44: =AVERAGE(H44,L44,P44) -> 117369.08 | U44: =AVERAGE(I44,M44,Q44) -> 735101.08 | V44: =AVERAGE(J44,N44,R44) -> 1470202.2
B45: 42 | C45: Cll. 10 N° 3 -65 | D45: Jardín infantil Creciendo Juntos | E45: 1032 | F45: 2 | G45: 389064 | H45: =+G45*19% -> 73922.16 | I45: =+G45+H45 -> 462986.16 | J45: =+I45*F45 -> 925972.32 | K45: 412800 | L45: =+K45*19% -> 78432 | M45: =+K45+L45 -> 491232 | N45: =+M45*F45 -> 982464 | O45: 402480 | P45: =+O45*19% -> 76471.2 | Q45: =+O45+P45 -> 478951.2 | R45: =+Q45*F45 -> 957902.4 | S45: =AVERAGE(G45,K45,O45) -> 401448 | T45: =AVERAGE(H45,L45,P45) -> 76275.12 | U45: =AVERAGE(I45,M45,Q45) -> 477723.12 | V45: =AVERAGE(J45,N45,R45) -> 955446.24
B46: 43 | C46: CLL. 13 N° 2A BIS 06 | D46: Jardín Manitas Creativas | E46: 665 | F46: 2 | G46: 405000 | H46: =+G46*19% -> 76950 | I46: =+G46+H46 -> 481950 | J46: =+I46*F46 -> 963900 | K46: 420000 | L46: =+K46*19% -> 79800 | M46: =+K46+L46 -> 499800 | N46: =+M46*F46 -> 999600 | O46: 400000 | P46: =+O46*19% -> 76000 | Q46: =+O46+P46 -> 476000 | R46: =+Q46*F46 -> 952000 | S46: =AVERAGE(G46,K46,O46) -> 408333.33 | T46: =AVERAGE(H46,L46,P46) -> 77583.333 | U46: =AVERAGE(I46,M46,Q46) -> 485916.67 | V46: =AVERAGE(J46,N46,R46) -> 971833.33
B47: 44 | C47: Vereda Cetime | D47: Casa del adulto mayor | E47: 5000 | F47: 2 | G47: 1825000 | H47: =+G47*19% -> 346750 | I47: =+G47+H47 -> 2171750 | J47: =+I47*F47 -> 4343500 | K47: 1900000 | L47: =+K47*19% -> 361000 | M47: =+K47+L47 -> 2261000 | N47: =+M47*F47 -> 4522000 | O47: 1750000 | P47: =+O47*19% -> 332500 | Q47: =+O47+P47 -> 2082500 | R47: =+Q47*F47 -> 4165000 | S47: =AVERAGE(G47,K47,O47) -> 1825000 | T47: =AVERAGE(H47,L47,P47) -> 346750 | U47: =AVERAGE(I47,M47,Q47) -> 2171750 | V47: =AVERAGE(J47,N47,R47) -> 4343500
B48: 45 | C48: Cra. 6 N°11-01 | D48: Jardín infantil El Amanecer - ICBF | E48: 143 | F48: 2 | G48: 97000 | H48: =+G48*19% -> 18430 | I48: =+G48+H48 -> 115430 | J48: =+I48*F48 -> 230860 | K48: 100000 | L48: =+K48*19% -> 19000 | M48: =+K48+L48 -> 119000 | N48: =+M48*F48 -> 238000 | O48: 90000 | P48: =+O48*19% -> 17100 | Q48: =+O48+P48 -> 107100 | R48: =+Q48*F48 -> 214200 | S48: =AVERAGE(G48,K48,O48) -> 95666.667 | T48: =AVERAGE(H48,L48,P48) -> 18176.667 | U48: =AVERAGE(I48,M48,Q48) -> 113843.33 | V48: =AVERAGE(J48,N48,R48) -> 227686.67
B49: 46 | C49: Cra. 7 N°14-119 | D49: Jardín De Cero a Siempre - ICBF | E49: 990 | F49: 2 | G49: 405000 | H49: =+G49*19% -> 76950 | I49: =+G49+H49 -> 481950 | J49: =+I49*F49 -> 963900 | K49: 420000 | L49: =+K49*19% -> 79800 | M49: =+K49+L49 -> 499800 | N49: =+M49*F49 -> 999600 | O49: 400000 | P49: =+O49*19% -> 76000 | Q49: =+O49+P49 -> 476000 | R49: =+Q49*F49 -> 952000 | S49: =AVERAGE(G49,K49,O49) -> 408333.33 | T49: =AVERAGE(H49,L49,P49) -> 77583.333 | U49: =AVERAGE(I49,M49,Q49) -> 485916.67 | V49: =AVERAGE(J49,N49,R49) -> 971833.33
A50: RESGUARDO | B50: 47 | C50: Vereda El Abra | D50: Colegio y Jardin infantil Ubamux | E50: 9000 | F50: 2 | G50: 3285000 | H50: =+G50*19% -> 624150 | I50: =+G50+H50 -> 3909150 | J50: =+I50*F50 -> 7818300 | K50: 3420000 | L50: =+K50*19% -> 649800 | M50: =+K50+L50 -> 4069800 | N50: =+M50*F50 -> 8139600 | O50: 2970000 | P50: =+O50*19% -> 564300 | Q50: =+O50+P50 -> 3534300 | R50: =+Q50*F50 -> 7068600 | S50: =AVERAGE(G50,K50,O50) -> 3225000 | T50: =AVERAGE(H50,L50,P50) -> 612750 | U50: =AVERAGE(I50,M50,Q50) -> 3837750 | V50: =AVERAGE(J50,N50,R50) -> 7675500
A51: EDUCACIÓN | B51: 48 | C51: Vereda La Moya - Camellon de las Flores | D51: Colegio Departamental Enrique Pardo Parra | E51: 4001 | F51: 2 | G51: 1460365 | H51: =+G51*19% -> 277469.35 | I51: =+G51+H51 -> 1737834.4 | J51: =+I51*F51 -> 3475668.7 | K51: 1520380 | L51: =+K51*19% -> 288872.2 | M51: =+K51+L51 -> 1809252.2 | N51: =+M51*F51 -> 3618504.4 | O51: 1400350 | P51: =+O51*19% -> 266066.5 | Q51: =+O51+P51 -> 1666416.5 | R51: =+Q51*F51 -> 3332833 | S51: =AVERAGE(G51,K51,O51) -> 1460365 | T51: =AVERAGE(H51,L51,P51) -> 277469.35 | U51: =AVERAGE(I51,M51,Q51) -> 1737834.3 | V51: =AVERAGE(J51,N51,R51) -> 3475668.7
B52: 49 | C52: Vereda Parcelas- Parcelas 2 | D52: I.E.D Instituto Parcelas | E52: 17600 | F52: 2 | G52: 6424000 | H52: =+G52*19% -> 1220560 | I52: =+G52+H52 -> 7644560 | J52: =+I52*F52 -> 15289120 | K52: 6688000 | L52: =+K52*19% -> 1270720 | M52: =+K52+L52 -> 7958720 | N52: =+M52*F52 -> 15917440 | O52: 5808000 | P52: =+O52*19% -> 1103520 | Q52: =+O52+P52 -> 6911520 | R52: =+Q52*F52 -> 13823040 | S52: =AVERAGE(G52,K52,O52) -> 6306666.7 | T52: =AVERAGE(H52,L52,P52) -> 1198266.7 | U52: =AVERAGE(I52,M52,Q52) -> 7504933.3 | V52: =AVERAGE(J52,N52,R52) -> 15009867
B53: 50 | C53: Vereda Rozo | D53: Escuela rural El Rozo | E53: 5218 | F53: 2 | G53: 1904570 | H53: =+G53*19% -> 361868.3 | I53: =+G53+H53 -> 2266438.3 | J53: =+I53*F53 -> 4532876.6 | K53: 1982840 | L53: =+K53*19% -> 376739.6 | M53: =+K53+L53 -> 2359579.6 | N53: =+M53*F53 -> 4719159.2 | O53: 1721940 | P53: =+O53*19% -> 327168.6 | Q53: =+O53+P53 -> 2049108.6 | R53: =+Q53*F53 -> 4098217.2 | S53: =AVERAGE(G53,K53,O53) -> 1869783.3 | T53: =AVERAGE(H53,L53,P53) -> 355258.83 | U53: =AVERAGE(I53,M53,Q53) -> 2225042.2 | V53: =AVERAGE(J53,N53,R53) -> 4450084.3
B54: 51 | C54: Vereda La Moya | D54: Escuela rural La Moya | E54: 6007 | F54: 2 | G54: 2192555 | H54: =+G54*19% -> 416585.45 | I54: =+G54+H54 -> 2609140.5 | J54: =+I54*F54 -> 5218280.9 | K54: 2282660 | L54: =+K54*19% -> 433705.4 | M54: =+K54+L54 -> 2716365.4 | N54: =+M54*F54 -> 5432730.8 | O54: 1982310 | P54: =+O54*19% -> 376638.9 | Q54: =+O54+P54 -> 2358948.9 | R54: =+Q54*F54 -> 4717897.8 | S54: =AVERAGE(G54,K54,O54) -> 2152508.3 | T54: =AVERAGE(H54,L54,P54) -> 408976.58 | U54: =AVERAGE(I54,M54,Q54) -> 2561484.9 | V54: =AVERAGE(J54,N54,R54) -> 5122969.8
B55: 52 | C55: Cll. 14 N° 2B-56 | D55: Escuela rural Pueblo Viejo (Incluyendo cancha de futbol) | E55: 7268 | F55: 2 | G55: 2652820 | H55: =+G55*19% -> 504035.8 | I55: =+G55+H55 -> 3156855.8 | J55: =+I55*F55 -> 6313711.6 | K55: 2761840 | L55: =+K55*19% -> 524749.6 | M55: =+K55+L55 -> 3286589.6 | N55: =+M55*F55 -> 6573179.2 | O55: 2398440 | P55: =+O55*19% -> 455703.6 | Q55: =+O55+P55 -> 2854143.6 | R55: =+Q55*F55 -> 5708287.2 | S55: =AVERAGE(G55,K55,O55) -> 2604366.7 | T55: =AVERAGE(H55,L55,P55) -> 494829.67 | U55: =AVERAGE(I55,M55,Q55) -> 3099196.3 | V55: =AVERAGE(J55,N55,R55) -> 6198392.7
B56: 53 | C56: Vereda Parcelas Lote 1 | D56: Escuela rural Ruperto Melo | E56: 1802 | F56: 2 | G56: 679354 | H56: =+G56*19% -> 129077.26 | I56: =+G56+H56 -> 808431.26 | J56: =+I56*F56 -> 1616862.5 | K56: 720800 | L56: =+K56*19% -> 136952 | M56: =+K56+L56 -> 857752 | N56: =+M56*F56 -> 1715504 | O56: 702780 | P56: =+O56*19% -> 133528.2 | Q56: =+O56+P56 -> 836308.2 | R56: =+Q56*F56 -> 1672616.4 | S56: =AVERAGE(G56,K56,O56) -> 700978 | T56: =AVERAGE(H56,L56,P56) -> 133185.82 | U56: =AVERAGE(I56,M56,Q56) -> 834163.82 | V56: =AVERAGE(J56,N56,R56) -> 1668327.6
B57: 54 | C57: Vereda El Abra | D57: Escuela rural El Abra | E57: 2110 | F57: 2 | G57: 795470 | H57: =+G57*19% -> 151139.3 | I57: =+G57+H57 -> 946609.3 | J57: =+I57*F57 -> 1893218.6 | K57: 844000 | L57: =+K57*19% -> 160360 | M57: =+K57+L57 -> 1004360 | N57: =+M57*F57 -> 2008720 | O57: 822900 | P57: =+O57*19% -> 156351 | Q57: =+O57+P57 -> 979251 | R57: =+Q57*F57 -> 1958502 | S57: =AVERAGE(G57,K57,O57) -> 820790 | T57: =AVERAGE(H57,L57,P57) -> 155950.1 | U57: =AVERAGE(I57,M57,Q57) -> 976740.1 | V57: =AVERAGE(J57,N57,R57) -> 1953480.2
B58: 55 | C58: Cll. 13 N° 2A BIS-06 | D58: Escuela Camilo Torres | E58: 5738 | F58: 2 | G58: 2094370 | H58: =+G58*19% -> 397930.3 | I58: =+G58+H58 -> 2492300.3 | J58: =+I58*F58 -> 4984600.6 | K58: 2180440 | L58: =+K58*19% -> 414283.6 | M58: =+K58+L58 -> 2594723.6 | N58: =+M58*F58 -> 5189447.2 | O58: 1893540 | P58: =+O58*19% -> 359772.6 | Q58: =+O58+P58 -> 2253312.6 | R58: =+Q58*F58 -> 4506625.2 | S58: =AVERAGE(G58,K58,O58) -> 2056116.7 | T58: =AVERAGE(H58,L58,P58) -> 390662.17 | U58: =AVERAGE(I58,M58,Q58) -> 2446778.8 | V58: =AVERAGE(J58,N58,R58) -> 4893557.7
B59: 56 | C59: Cra. 6 N°15-01 | D59: Jardín Sol Solecito | E59: 2099 | F59: 2 | G59: 791323 | H59: =+G59*19% -> 150351.37 | I59: =+G59+H59 -> 941674.37 | J59: =+I59*F59 -> 1883348.7 | K59: 839600 | L59: =+K59*19% -> 159524 | M59: =+K59+L59 -> 999124 | N59: =+M59*F59 -> 1998248 | O59: 818610 | P59: =+O59*19% -> 155535.9 | Q59: =+O59+P59 -> 974145.9 | R59: =+Q59*F59 -> 1948291.8 | S59: =AVERAGE(G59,K59,O59) -> 816511 | T59: =AVERAGE(H59,L59,P59) -> 155137.09 | U59: =AVERAGE(I59,M59,Q59) -> 971648.09 | V59: =AVERAGE(J59,N59,R59) -> 1943296.2
B60: 57 | C60: Sector Vuelta de la trampa - Frente al Centro Cultural | D60: Casa NADI | E60: 746 | F60: 2 | G60: 405000 | H60: =+G60*19% -> 76950 | I60: =+G60+H60 -> 481950 | J60: =+I60*F60 -> 963900 | K60: 420000 | L60: =+K60*19% -> 79800 | M60: =+K60+L60 -> 499800 | N60: =+M60*F60 -> 999600 | O60: 400000 | P60: =+O60*19% -> 76000 | Q60: =+O60+P60 -> 476000 | R60: =+Q60*F60 -> 952000 | S60: =AVERAGE(G60,K60,O60) -> 408333.33 | T60: =AVERAGE(H60,L60,P60) -> 77583.333 | U60: =AVERAGE(I60,M60,Q60) -> 485916.67 | V60: =AVERAGE(J60,N60,R60) -> 971833.33
B61: 58 | C61: Km 1 Vía Siberia - Tenjo | D61: Escuela Siberia | E61: 1757 | F61: 2 | G61: 662389 | H61: =+G61*19% -> 125853.91 | I61: =+G61+H61 -> 788242.91 | J61: =+I61*F61 -> 1576485.8 | K61: 702800 | L61: =+K61*19% -> 133532 | M61: =+K61+L61 -> 836332 | N61: =+M61*F61 -> 1672664 | O61: 685230 | P61: =+O61*19% -> 130193.7 | Q61: =+O61+P61 -> 815423.7 | R61: =+Q61*F61 -> 1630847.4 | S61: =AVERAGE(G61,K61,O61) -> 683473 | T61: =AVERAGE(H61,L61,P61) -> 129859.87 | U61: =AVERAGE(I61,M61,Q61) -> 813332.87 | V61: =AVERAGE(J61,N61,R61) -> 1626665.7
B62: 59 | C62: Sector Vuelta de la trampa - Frente al Centro Cultural | D62: Ceforcota - Sena | E62: 976 | F62: 2 | G62: 405000 | H62: =+G62*19% -> 76950 | I62: =+G62+H62 -> 481950 | J62: =+I62*F62 -> 963900 | K62: 420000 | L62: =+K62*19% -> 79800 | M62: =+K62+L62 -> 499800 | N62: =+M62*F62 -> 999600 | O62: 400000 | P62: =+O62*19% -> 76000 | Q62: =+O62+P62 -> 476000 | R62: =+Q62*F62 -> 952000 | S62: =AVERAGE(G62,K62,O62) -> 408333.33 | T62: =AVERAGE(H62,L62,P62) -> 77583.333 | U62: =AVERAGE(I62,M62,Q62) -> 485916.67 | V62: =AVERAGE(J62,N62,R62) -> 971833.33
D63: ÁREA TOTAL, FUMIGACIÓN | E63: =SUM(E4:E62) -> 99843 | F63: =SUM(F4:F62) -> 118 | J63: =SUM(J4:J62) -> 94088074 | N63: =SUM(N4:N62) -> 97939999 | R63: =SUM(R4:R62) -> 88846328 | V63: =AVERAGE(J63,N63,R63) -> 93624800
D64: No. TOTAL FUMIGACIONES

Sheet Desratizacion
G1: INVERKPITAL SAS | K1: SOLIX | O1: VALCA | S1: PROMEDIO
B2: DESRATIZACIÓN | G2: Valor unitario neto | H2: % IVA | I2: Valor Unitario con IVA (Si aplica) | J2: Valor TOTAL | K2: Valor unitario neto | L2: % IVA | M2: Valor Unitario con IVA (Si aplica) | N2: Valor TOTAL | O2: Valor unitario neto | P2: % IVA | Q2: Valor Unitario con IVA (Si aplica) | R2: Valor TOTAL | S2: Valor unitario neto | T2: % IVA | U2: Valor Unitario con IVA (Si aplica) | V2: Valor TOTAL
B3: ORDEN | C3: DIRECCIÓN | D3: DESCRIPCIÓN | E3: ÁREA DE INTERVENCIÓN (m2) APROX | F3: TOTAL DE DESRATIZACIÓN
A4: GOBIERNO | B4: 1 | C4: Cra. 4 N° 12-63 | D4: Alcaldía municipal - Sede principal | E4: 4800 | F4: 2 | G4: 1651200 | H4: =+G4*19% -> 313728 | I4: =+G4+H4 -> 1964928 | J4: =+I4*F4 -> 3929856 | K4: 1920000 | L4: =+K4*19% -> 364800 | M4: =+K4+L4 -> 2284800 | N4: =+M4*F4 -> 4569600 | O4: 1920000 | P4: =+O4*19% -> 364800 | Q4: =+O4+P4 -> 2284800 | R4: =+Q4*F4 -> 4569600 | S4: =AVERAGE(G4,K4,O4) -> 1830400 | T4: =AVERAGE(H4,L4,P4) -> 347776 | U4: =AVERAGE(I4,M4,Q4) -> 2178176 | V4: =AVERAGE(J4,N4,R4) -> 4356352
B5: 2 | C5: Cll. 11 N° 5-17 | D5: Polideportivo urbano y Parque Cuarto Centenario | E5: 1792 | F5: 2 | G5: 655872 | H5: =+G5*19% -> 124615.68 | I5: =+G5+H5 -> 780487.68 | J5: =+I5*F5 -> 1560975.4 | K5: 663040 | L5: =+K5*19% -> 125977.6 | M5: =+K5+L5 -> 789017.6 | N5: =+M5*F5 -> 1578035.2 | O5: 747264 | P5: =+O5*19% -> 141980.16 | Q5: =+O5+P5 -> 889244.16 | R5: =+Q5*F5 -> 1778488.3 | S5: =AVERAGE(G5,K5,O5) -> 688725.33 | T5: =AVERAGE(H5,L5,P5) -> 130857.81 | U5: =AVERAGE(I5,M5,Q5) -> 819583.15 | V5: =AVERAGE(J5,N5,R5) -> 1639166.3
B6: 3 | C6: Cll. 11 N° 5-17 | D6: Archivo Central - sede uno | E6: 520 | F6: 2 | G6: 378000 | H6: =+G6*19% -> 71820 | I6: =+G6+H6 -> 449820 | J6: =+I6*F6 -> 899640 | K6: 380000 | L6: =+K6*19% -> 72200 | M6: =+K6+L6 -> 452200 | N6: =+M6*F6 -> 904400 | O6: 400000 | P6: =+O6*19% -> 76000 | Q6: =+O6+P6 -> 476000 | R6: =+Q6*F6 -> 952000 | S6: =AVERAGE(G6,K6,O6) -> 386000 | T6: =AVERAGE(H6,L6,P6) -> 73340 | U6: =AVERAGE(I6,M6,Q6) -> 459340 | V6: =AVERAGE(J6,N6,R6) -> 918680
B7: 4 | C7: Cll. 11 N° 5-17 | D7: Gimnasio municipal | E7: 200 | F7: 2 | G7: 158000 | H7: =+G7*19% -> 30020 | I7: =+G7+H7 -> 188020 | J7: =+I7*F7 -> 376040 | K7: 165000 | L7: =+K7*19% -> 31350 | M7: =+K7+L7 -> 196350 | N7: =+M7*F7 -> 392700 | O7: 170000 | P7: =+O7*19% -> 32300 | Q7: =+O7+P7 -> 202300 | R7: =+Q7*F7 -> 404600 | S7: =AVERAGE(G7,K7,O7) -> 164333.33 | T7: =AVERAGE(H7,L7,P7) -> 31223.333 | U7: =AVERAGE(I7,M7,Q7) -> 195556.67 | V7: =AVERAGE(J7,N7,R7) -> 391113.33
B8: 5 | C8: Cll. 11 N° 5-17 | D8: Sala de velación | E8: 70 | F8: 2 | G8: 47700 | H8: =+G8*19% -> 9063 | I8: =+G8+H8 -> 56763 | J8: =+I8*F8 -> 113526 | K8: 48000 | L8: =+K8*19% -> 9120 | M8: =+K8+L8 -> 57120 | N8: =+M8*F8 -> 114240 | O8: 50000 | P8: =+O8*19% -> 9500 | Q8: =+O8+P8 -> 59500 | R8: =+Q8*F8 -> 119000 | S8: =AVERAGE(G8,K8,O8) -> 48566.667 | T8: =AVERAGE(H8,L8,P8) -> 9227.6667 | U8: =AVERAGE(I8,M8,Q8) -> 57794.333 | V8: =AVERAGE(J8,N8,R8) -> 115588.67
B9: 6 | C9: Cra. 5 N° 12-48 | D9: Parque Principal Luis Carlos Galan | E9: 4275 | F9: 2 | G9: 1470600 | H9: =+G9*19% -> 279414 | I9: =+G9+H9 -> 1750014 | J9: =+I9*F9 -> 3500028 | K9: 1710000 | L9: =+K9*19% -> 324900 | M9: =+K9+L9 -> 2034900 | N9: =+M9*F9 -> 4069800 | O9: 1710000 | P9: =+O9*19% -> 324900 | Q9: =+O9+P9 -> 2034900 | R9: =+Q9*F9 -> 4069800 | S9: =AVERAGE(G9,K9,O9) -> 1630200 | T9: =AVERAGE(H9,L9,P9) -> 309738 | U9: =AVERAGE(I9,M9,Q9) -> 1939938 | V9: =AVERAGE(J9,N9,R9) -> 3879876
B10: 7 | C10: Cra. 6 N° 13-28 | D10: Inspección Primera de Policia, Archivo sede dos y bodegas (1 y 2 piso) | E10: 150 | F10: 2 | G10: 82500 | H10: =+G10*19% -> 15675 | I10: =+G10+H10 -> 98175 | J10: =+I10*F10 -> 196350 | K10: 85000 | L10: =+K10*19% -> 16150 | M10: =+K10+L10 -> 101150 | N10: =+M10*F10 -> 202300 | O10: 90000 | P10: =+O10*19% -> 17100 | Q10: =+O10+P10 -> 107100 | R10: =+Q10*F10 -> 214200 | S10: =AVERAGE(G10,K10,O10) -> 85833.333 | T10: =AVERAGE(H10,L10,P10) -> 16308.333 | U10: =AVERAGE(I10,M10,Q10) -> 102141.67 | V10: =AVERAGE(J10,N10,R10) -> 204283.33
B11: 8 | C11: Vereda Parcelas - Campus parcelas | D11: Inspección Segunda de Policia | E11: 64 | F11: 2 | G11: 47700 | H11: =+G11*19% -> 9063 | I11: =+G11+H11 -> 56763 | J11: =+I11*F11 -> 113526 | K11: 48000 | L11: =+K11*19% -> 9120 | M11: =+K11+L11 -> 57120 | N11: =+M11*F11 -> 114240 | O11: 50000 | P11: =+O11*19% -> 9500 | Q11: =+O11+P11 -> 59500 | R11: =+Q11*F11 -> 119000 | S11: =AVERAGE(G11,K11,O11) -> 48566.667 | T11: =AVERAGE(H11,L11,P11) -> 9227.6667 | U11: =AVERAGE(I11,M11,Q11) -> 57794.333 | V11: =AVERAGE(J11,N11,R11) -> 115588.67
B12: 9 | C12: Cra. 3 N°12-07 | D12: Bodega de inservibles - Almacen | E12: 125 | F12: 2 | G12: 82500 | H12: =+G12*19% -> 15675 | I12: =+G12+H12 -> 98175 | J12: =+I12*F12 -> 196350 | K12: 85000 | L12: =+K12*19% -> 16150 | M12: =+K12+L12 -> 101150 | N12: =+M12*F12 -> 202300 | O12: 90000 | P12: =+O12*19% -> 17100 | Q12: =+O12+P12 -> 107100 | R12: =+Q12*F12 -> 214200 | S12: =AVERAGE(G12,K12,O12) -> 85833.333 | T12: =AVERAGE(H12,L12,P12) -> 16308.333 | U12: =AVERAGE(I12,M12,Q12) -> 102141.67 | V12: =AVERAGE(J12,N12,R12) -> 204283.33
B13: 10 | C13: Vereda La Moya | D13: Bodega de inservibles - Almacen | E13: 178 | F13: 2 | G13: 82500 | H13: =+G13*19% -> 15675 | I13: =+G13+H13 -> 98175 | J13: =+I13*F13 -> 196350 | K13: 85000 | L13: =+K13*19% -> 16150 | M13: =+K13+L13 -> 101150 | N13: =+M13*F13 -> 202300 | O13: 90000 | P13: =+O13*19% -> 17100 | Q13: =+O13+P13 -> 107100 | R13: =+Q13*F13 -> 214200 | S13: =AVERAGE(G13,K13,O13) -> 85833.333 | T13: =AVERAGE(H13,L13,P13) -> 16308.333 | U13: =AVERAGE(I13,M13,Q13) -> 102141.67 | V13: =AVERAGE(J13,N13,R13) -> 204283.33
B14: 11 | C14: Cra. 5 N° 1-97- Centro Comercial Cedro Mall. | D14: Almacen municipal - sede Centro Comercial Cedro Mall | E14: 115 | F14: 2 | G14: 82500 | H14: =+G14*19% -> 15675 | I14: =+G14+H14 -> 98175 | J14: =+I14*F14 -> 196350 | K14: 85000 | L14: =+K14*19% -> 16150 | M14: =+K14+L14 -> 101150 | N14: =+M14*F14 -> 202300 | O14: 90000 | P14: =+O14*19% -> 17100 | Q14: =+O14+P14 -> 107100 | R14: =+Q14*F14 -> 214200 | S14: =AVERAGE(G14,K14,O14) -> 85833.333 | T14: =AVERAGE(H14,L14,P14) -> 16308.333 | U14: =AVERAGE(I14,M14,Q14) -> 102141.67 | V14: =AVERAGE(J14,N14,R14) -> 204283.33
B15: 12 | C15: Calle 14 #3-64 | D15: Comisaria | E15: 170 | F15: 2 | G15: 82500 | H15: =+G15*19% -> 15675 | I15: =+G15+H15 -> 98175 | J15: =+I15*F15 -> 196350 | K15: 85000 | L15: =+K15*19% -> 16150 | M15: =+K15+L15 -> 101150 | N15: =+M15*F15 -> 202300 | O15: 90000 | P15: =+O15*19% -> 17100 | Q15: =+O15+P15 -> 107100 | R15: =+Q15*F15 -> 214200 | S15: =AVERAGE(G15,K15,O15) -> 85833.333 | T15: =AVERAGE(H15,L15,P15) -> 16308.333 | U15: =AVERAGE(I15,M15,Q15) -> 102141.67 | V15: =AVERAGE(J15,N15,R15) -> 204283.33
B16: 13 | C16: Cra. 4 N° 11-41 | D16: Archivo sede tres - Bajando por el BBVA | E16: 64 | F16: 2 | G16: 47700 | H16: =+G16*19% -> 9063 | I16: =+G16+H16 -> 56763 | J16: =+I16*F16 -> 113526 | K16: 48000 | L16: =+K16*19% -> 9120 | M16: =+K16+L16 -> 57120 | N16: =+M16*F16 -> 114240 | O16: 50000 | P16: =+O16*19% -> 9500 | Q16: =+O16+P16 -> 59500 | R16: =+Q16*F16 -> 119000 | S16: =AVERAGE(G16,K16,O16) -> 48566.667 | T16: =AVERAGE(H16,L16,P16) -> 9227.6667 | U16: =AVERAGE(I16,M16,Q16) -> 57794.333 | V16: =AVERAGE(J16,N16,R16) -> 115588.67
... B18: 15 | C18: Km. 1, vía Cota - Chía- frente a la oficina administrativa del IMRD Cota. | D18: Estación de Policía | E18: 300 | F18: 2 | G18: 158000 | H18: =+G18*19% -> 30020 | I18: =+G18+H18 -> 188020 | J18: =+I18*F18 -> 376040 | K18: 165000 | L18: =+K18*19% -> 31350 | M18: =+K18+L18 -> 196350 | N18: =+M18*F18 -> 392700 | O18: 170000 | P18: =+O18*19% -> 32300 | Q18: =+O18+P18 -> 202300 | R18: =+Q18*F18 -> 404600 | S18: =AVERAGE(G18,K18,O18) -> 164333.33 | T18: =AVERAGE(H18,L18,P18) -> 31223.333 | U18: =AVERAGE(I18,M18,Q18) -> 195556.67 | V18: =AVERAGE(J18,N18,R18) -> 391113.33
A19: SAMADE | B19: 16 | C19: Vereda Cetime - carrera 9 - sector vuelta la trampa - lote la Marimonda | D19: Lote arriendo maquinaria agrícola | E19: 600 | F19: 2 | G19: 378000 | H19: =+G19*19% -> 71820 | I19: =+G19+H19 -> 449820 | J19: =+I19*F19 -> 899640 | K19: 380000 | L19: =+K19*19% -> 72200 | M19: =+K19+L19 -> 452200 | N19: =+M19*F19 -> 904400 | O19: 400000 | P19: =+O19*19% -> 76000 | Q19: =+O19+P19 -> 476000 | R19: =+Q19*F19 -> 952000 | S19: =AVERAGE(G19,K19,O19) -> 386000 | T19: =AVERAGE(H19,L19,P19) -> 73340 | U19: =AVERAGE(I19,M19,Q19) -> 459340 | V19: =AVERAGE(J19,N19,R19) -> 918680
B20: 17 | C20: Vereda Pueblo Viejo Km. 1,1 variante Cota -Chía -San Carlos. | D20: Sede Pueblo Viejo UMATA - Alvergue 3 - La Granja | E20: 471 | F20: 2 | G20: 158000 | H20: =+G20*19% -> 30020 | I20: =+G20+H20 -> 188020 | J20: =+I20*F20 -> 376040 | K20: 165000 | L20: =+K20*19% -> 31350 | M20: =+K20+L20 -> 196350 | N20: =+M20*F20 -> 392700 | O20: 170000 | P20: =+O20*19% -> 32300 | Q20: =+O20+P20 -> 202300 | R20: =+Q20*F20 -> 404600 | S20: =AVERAGE(G20,K20,O20) -> 164333.33 | T20: =AVERAGE(H20,L20,P20) -> 31223.333 | U20: =AVERAGE(I20,M20,Q20) -> 195556.67 | V20: =AVERAGE(J20,N20,R20) -> 391113.33
B21: 18 | C21: Vereda Pueblo Viejo Km. 1,1 variante Cota Chía -San Carlos | D21: Abergue municipal 1, corral de esparcimiento y cuarto residuos especiales | E21: 60 | F21: 2 | G21: 47700 | H21: =+G21*19% -> 9063 | I21: =+G21+H21 -> 56763 | J21: =+I21*F21 -> 113526 | K21: 48000 | L21: =+K21*19% -> 9120 | M21: =+K21+L21 -> 57120 | N21: =+M21*F21 -> 114240 | O21: 50000 | P21: =+O21*19% -> 9500 | Q21: =+O21+P21 -> 59500 | R21: =+Q21*F21 -> 119000 | S21: =AVERAGE(G21,K21,O21) -> 48566.667 | T21: =AVERAGE(H21,L21,P21) -> 9227.6667 | U21: =AVERAGE(I21,M21,Q21) -> 57794.333 | V21: =AVERAGE(J21,N21,R21) -> 115588.67
B22: 19 | C22: Vereda Pueblo Viejo Km. 1,1 variante Cota Chía -San Carlos | D22: Alvergue municipal 2 y corrales de esparcimiento | E22: 660 | F22: 2 | G22: 378000 | H22: =+G22*19% -> 71820 | I22: =+G22+H22 -> 449820 | J22: =+I22*F22 -> 899640 | K22: 380000 | L22: =+K22*19% -> 72200 | M22: =+K22+L22 -> 452200 | N22: =+M22*F22 -> 904400 | O22: 400000 | P22: =+O22*19% -> 76000 | Q22: =+O22+P22 -> 476000 | R22: =+Q22*F22 -> 952000 | S22: =AVERAGE(G22,K22,O22) -> 386000 | T22: =AVERAGE(H22,L22,P22) -> 73340 | U22: =AVERAGE(I22,M22,Q22) -> 459340 | V22: =AVERAGE(J22,N22,R22) -> 918680
B23: 20 | C23: Vereda Pueblo Viejo Km. 1,1 variante Cota Chía -San Carlos | D23: Consultorio veterinario, Obsercación, Oficina y areas comunes | E23: 122 | F23: 2 | G23: 82500 | H23: =+G23*19% -> 15675 | I23: =+G23+H23 -> 98175 | J23: =+I23*F23 -> 196350 | K23: 85000 | L23: =+K23*19% -> 16150 | M23: =+K23+L23 -> 101150 | N23: =+M23*F23 -> 202300 | O23: 90000 | P23: =+O23*19% -> 17100 | Q23: =+O23+P23 -> 107100 | R23: =+Q23*F23 -> 214200 | S23: =AVERAGE(G23,K23,O23) -> 85833.333 | T23: =AVERAGE(H23,L23,P23) -> 16308.333 | U23: =AVERAGE(I23,M23,Q23) -> 102141.67 | V23: =AVERAGE(J23,N23,R23) -> 204283.33
B24: 21 | C24: Vereda Pueblo Viejo Km. 1,1 variante Cota Chía -San Carlos | D24: Almacen de insumos veterinarios | E24: 36 | F24: 2 | G24: 47700 | H24: =+G24*19% -> 9063 | I24: =+G24+H24 -> 56763 | J24: =+I24*F24 -> 113526 | K24: 48000 | L24: =+K24*19% -> 9120 | M24: =+K24+L24 -> 57120 | N24: =+M24*F24 -> 114240 | O24: 50000 | P24: =+O24*19% -> 9500 | Q24: =+O24+P24 -> 59500 | R24: =+Q24*F24 -> 119000 | S24: =AVERAGE(G24,K24,O24) -> 48566.667 | T24: =AVERAGE(H24,L24,P24) -> 9227.6667 | U24: =AVERAGE(I24,M24,Q24) -> 57794.333 | V24: =AVERAGE(J24,N24,R24) -> 115588.67
B25: 22 | C25: Vereda Pueblo Viejo Km. 1,1 variante Cota Chía -San Carlos | D25: La Granja | E25: 820 | F25: 2 | G25: 378000 | H25: =+G25*19% -> 71820 | I25: =+G25+H25 -> 449820 | J25: =+I25*F25 -> 899640 | K25: 380000 | L25: =+K25*19% -> 72200 | M25: =+K25+L25 -> 452200 | N25: =+M25*F25 -> 904400 | O25: 400000 | P25: =+O25*19% -> 76000 | Q25: =+O25+P25 -> 476000 | R25: =+Q25*F25 -> 952000 | S25: =AVERAGE(G25,K25,O25) -> 386000 | T25: =AVERAGE(H25,L25,P25) -> 73340 | U25: =AVERAGE(I25,M25,Q25) -> 459340 | V25: =AVERAGE(J25,N25,R25) -> 918680
B26: 23 | C26: Vereda Pueblo Viejo Km. 1,1 variante Cota Chía -San Carlos | D26: Lombricultivo y Compostero | E26: 117 | F26: 2 | G26: 82500 | H26: =+G26*19% -> 15675 | I26: =+G26+H26 -> 98175 | J26: =+I26*F26 -> 196350 | K26: 85000 | L26: =+K26*19% -> 16150 | M26: =+K26+L26 -> 101150 | N26: =+M26*F26 -> 202300 | O26: 90000 | P26: =+O26*19% -> 17100 | Q26: =+O26+P26 -> 107100 | R26: =+Q26*F26 -> 214200 | S26: =AVERAGE(G26,K26,O26) -> 85833.333 | T26: =AVERAGE(H26,L26,P26) -> 16308.333 | U26: =AVERAGE(I26,M26,Q26) -> 102141.67 | V26: =AVERAGE(J26,N26,R26) -> 204283.33
B27: 24 | C27: Vereda Pueblo Viejo Km. 1,1 variante Cota Chía -San Carlos | D27: Centro de acopio de residuos solidos | E27: 318 | F27: 2 | G27: 158000 | H27: =+G27*19% -> 30020 | I27: =+G27+H27 -> 188020 | J27: =+I27*F27 -> 376040 | K27: 165000 | L27: =+K27*19% -> 31350 | M27: =+K27+L27 -> 196350 | N27: =+M27*F27 -> 392700 | O27: 170000 | P27: =+O27*19% -> 32300 | Q27: =+O27+P27 -> 202300 | R27: =+Q27*F27 -> 404600 | S27: =AVERAGE(G27,K27,O27) -> 164333.33 | T27: =AVERAGE(H27,L27,P27) -> 31223.333 | U27: =AVERAGE(I27,M27,Q27) -> 195556.67 | V27: =AVERAGE(J27,N27,R27) -> 391113.33
B28: 25 | C28: Carrera 5 N° 9-24 | D28: Bodega deshidratadora | E28: 210 | F28: 2 | G28: 158000 | H28: =+G28*19% -> 30020 | I28: =+G28+H28 -> 188020 | J28: =+I28*F28 -> 376040 | K28: 165000 | L28: =+K28*19% -> 31350 | M28: =+K28+L28 -> 196350 | N28: =+M28*F28 -> 392700 | O28: 170000 | P28: =+O28*19% -> 32300 | Q28: =+O28+P28 -> 202300 | R28: =+Q28*F28 -> 404600 | S28: =AVERAGE(G28,K28,O28) -> 164333.33 | T28: =AVERAGE(H28,L28,P28) -> 31223.333 | U28: =AVERAGE(I28,M28,Q28) -> 195556.67 | V28: =AVERAGE(J28,N28,R28) -> 391113.33
B29: 26 | C29: Cll. 3 N° 2B-180 La Gloria. | D29: Casa Social de la Mujer | E29: 341 | F29: 2 | G29: 158000 | H29: =+G29*19% -> 30020 | I29: =+G29+H29 -> 188020 | J29: =+I29*F29 -> 376040 | K29: 165000 | L29: =+K29*19% -> 31350 | M29: =+K29+L29 -> 196350 | N29: =+M29*F29 -> 392700 | O29: 170000 | P29: =+O29*19% -> 32300 | Q29: =+O29+P29 -> 202300 | R29: =+Q29*F29 -> 404600 | S29: =AVERAGE(G29,K29,O29) -> 164333.33 | T29: =AVERAGE(H29,L29,P29) -> 31223.333 | U29: =AVERAGE(I29,M29,Q29) -> 195556.67 | V29: =AVERAGE(J29,N29,R29) -> 391113.33
A30: CULTURA | B30: 27 | C30: Cra. 5 N° 12-48 | D30: Casa de la Cultura - Sede Proncopal | E30: 652 | F30: 2 | G30: 378000 | H30: =+G30*19% -> 71820 | I30: =+G30+H30 -> 449820 | J30: =+I30*F30 -> 899640 | K30: 380000 | L30: =+K30*19% -> 72200 | M30: =+K30+L30 -> 452200 | N30: =+M30*F30 -> 904400 | O30: 400000 | P30: =+O30*19% -> 76000 | Q30: =+O30+P30 -> 476000 | R30: =+Q30*F30 -> 952000 | S30: =AVERAGE(G30,K30,O30) -> 386000 | T30: =AVERAGE(H30,L30,P30) -> 73340 | U30: =AVERAGE(I30,M30,Q30) -> 459340 | V30: =AVERAGE(J30,N30,R30) -> 918680
B31: 28 | C31: Cra. 5 N° 12-48 | D31: Biblioteca municipal Héctor Hernando Gonzales | E31: 154 | F31: 2 | G31: 82500 | H31: =+G31*19% -> 15675 | I31: =+G31+H31 -> 98175 | J31: =+I31*F31 -> 196350 | K31: 85000 | L31: =+K31*19% -> 16150 | M31: =+K31+L31 -> 101150 | N31: =+M31*F31 -> 202300 | O31: 90000 | P31: =+O31*19% -> 17100 | Q31: =+O31+P31 -> 107100 | R31: =+Q31*F31 -> 214200 | S31: =AVERAGE(G31,K31,O31) -> 85833.333 | T31: =AVERAGE(H31,L31,P31) -> 16308.333 | U31: =AVERAGE(I31,M31,Q31) -> 102141.67 | V31: =AVERAGE(J31,N31,R31) -> 204283.33
B32: 29 | C32: Cra. 2 A N° 13--88 | D32: Centro expresión artístico - CEA | E32: 352 | F32: 2 | G32: 158000 | H32: =+G32*19% -> 30020 | I32: =+G32+H32 -> 188020 | J32: =+I32*F32 -> 376040 | K32: 165000 | L32: =+K32*19% -> 31350 | M32: =+K32+L32 -> 196350 | N32: =+M32*F32 -> 392700 | O32: 170000 | P32: =+O32*19% -> 32300 | Q32: =+O32+P32 -> 202300 | R32: =+Q32*F32 -> 404600 | S32: =AVERAGE(G32,K32,O32) -> 164333.33 | T32: =AVERAGE(H32,L32,P32) -> 31223.333 | U32: =AVERAGE(I32,M32,Q32) -> 195556.67 | V32: =AVERAGE(J32,N32,R32) -> 391113.33
B33: 30 | C33: Cll. 13 N° 3A - 29 | D33: Auditorio casa de la cultura | E33: 172 | F33: 2 | G33: 82500 | H33: =+G33*19% -> 15675 | I33: =+G33+H33 -> 98175 | J33: =+I33*F33 -> 196350 | K33: 85000 | L33: =+K33*19% -> 16150 | M33: =+K33+L33 -> 101150 | N33: =+M33*F33 -> 202300 | O33: 90000 | P33: =+O33*19% -> 17100 | Q33: =+O33+P33 -> 107100 | R33: =+Q33*F33 -> 214200 | S33: =AVERAGE(G33,K33,O33) -> 85833.333 | T33: =AVERAGE(H33,L33,P33) -> 16308.333 | U33: =AVERAGE(I33,M33,Q33) -> 102141.67 | V33: =AVERAGE(J33,N33,R33) -> 204283.33
B34: 31 | C34: Sector Vuelta de la trampa | D34: Casa de bellas arte vuelta de la trampa | E34: 490 | F34: 2 | G34: 158000 | H34: =+G34*19% -> 30020 | I34: =+G34+H34 -> 188020 | J34: =+I34*F34 -> 376040 | K34: 165000 | L34: =+K34*19% -> 31350 | M34: =+K34+L34 -> 196350 | N34: =+M34*F34 -> 392700 | O34: 170000 | P34: =+O34*19% -> 32300 | Q34: =+O34+P34 -> 202300 | R34: =+Q34*F34 -> 404600 | S34: =AVERAGE(G34,K34,O34) -> 164333.33 | T34: =AVERAGE(H34,L34,P34) -> 31223.333 | U34: =AVERAGE(I34,M34,Q34) -> 195556.67 | V34: =AVERAGE(J34,N34,R34) -> 391113.33
B35: 32 | C35: Calle 11 # 4 - 07 | D35: Casa del arte | E35: 510 | F35: 2 | G35: 378000 | H35: =+G35*19% -> 71820 | I35: =+G35+H35 -> 449820 | J35: =+I35*F35 -> 899640 | K35: 380000 | L35: =+K35*19% -> 72200 | M35: =+K35+L35 -> 452200 | N35: =+M35*F35 -> 904400 | O35: 450000 | P35: =+O35*19% -> 85500 | Q35: =+O35+P35 -> 535500 | R35: =+Q35*F35 -> 1071000 | S35: =AVERAGE(G35,K35,O35) -> 402666.67 | T35: =AVERAGE(H35,L35,P35) -> 76506.667 | U35: =AVERAGE(I35,M35,Q35) -> 479173.33 | V35: =AVERAGE(J35,N35,R35) -> 958346.67
A36: DESARROLLO SOCIAL - ICBF | B36: 33 | C36: Km. 1 vía Cota - chía El Calabazo 1 | D36: Centro Renacer | E36: 2444 | F36: 2 | G36: 894504 | H36: =+G36*19% -> 169955.76 | I36: =+G36+H36 -> 1064459.8 | J36: =+I36*F36 -> 2128919.5 | K36: 904280 | L36: =+K36*19% -> 171813.2 | M36: =+K36+L36 -> 1076093.2 | N36: =+M36*F36 -> 2152186.4 | O36: 953160 | P36: =+O36*19% -> 181100.4 | Q36: =+O36+P36 -> 1134260.4 | R36: =+Q36*F36 -> 2268520.8 | S36: =AVERAGE(G36,K36,O36) -> 917314.67 | T36: =AVERAGE(H36,L36,P36) -> 174289.79 | U36: =AVERAGE(I36,M36,Q36) -> 1091604.5 | V36: =AVERAGE(J36,N36,R36) -> 2183208.9
B37: 34 | C37: Cll.6 N° 6 -104 | D37: Jardín infantil Mi Dulce Esperanza | E37: 154 | F37: 2 | G37: 82500 | H37: =+G37*19% -> 15675 | I37: =+G37+H37 -> 98175 | J37: =+I37*F37 -> 196350 | K37: 85000 | L37: =+K37*19% -> 16150 | M37: =+K37+L37 -> 101150 | N37: =+M37*F37 -> 202300 | O37: 90000 | P37: =+O37*19% -> 17100 | Q37: =+O37+P37 -> 107100 | R37: =+Q37*F37 -> 214200 | S37: =AVERAGE(G37,K37,O37) -> 85833.333 | T37: =AVERAGE(H37,L37,P37) -> 16308.333 | U37: =AVERAGE(I37,M37,Q37) -> 102141.67 | V37: =AVERAGE(J37,N37,R37) -> 204283.33
B38: 35 | C38: Vereda La Moya - el altamizal | D38: Jardín infantil Líderes Del Cambio | E38: 1080 | F38: 2 | G38: 395280 | H38: =+G38*19% -> 75103.2 | I38: =+G38+H38 -> 470383.2 | J38: =+I38*F38 -> 940766.4 | K38: 399600 | L38: =+K38*19% -> 75924 | M38: =+K38+L38 -> 475524 | N38: =+M38*F38 -> 951048 | O38: 421200 | P38: =+O38*19% -> 80028 | Q38: =+O38+P38 -> 501228 | R38: =+Q38*F38 -> 1002456 | S38: =AVERAGE(G38,K38,O38) -> 405360 | T38: =AVERAGE(H38,L38,P38) -> 77018.4 | U38: =AVERAGE(I38,M38,Q38) -> 482378.4 | V38: =AVERAGE(J38,N38,R38) -> 964756.8
B39: 36 | C39: Vereda el Abra - Institución educativa el Abra - 200 metros arriba de 4 caminos. | D39: Jardín infantil Mi Pequeño Hogar | E39: 2500 | F39: 2 | G39: 915000 | H39: =+G39*19% -> 173850 | I39: =+G39+H39 -> 1088850 | J39: =+I39*F39 -> 2177700 | K39: 925000 | L39: =+K39*19% -> 175750 | M39: =+K39+L39 -> 1100750 | N39: =+M39*F39 -> 2201500 | O39: 975000 | P39: =+O39*19% -> 185250 | Q39: =+O39+P39 -> 1160250 | R39: =+Q39*F39 -> 2320500 | S39: =AVERAGE(G39,K39,O39) -> 938333.33 | T39: =AVERAGE(H39,L39,P39) -> 178283.33 | U39: =AVERAGE(I39,M39,Q39) -> 1116616.7 | V39: =AVERAGE(J39,N39,R39) -> 2233233.3
B40: 37 | C40: Vereda El Roso - dentro de la Institución educativa del Roso | D40: Jardín infantil Caminito Alegre | E40: 468 | F40: 2 | G40: 158000 | H40: =+G40*19% -> 30020 | I40: =+G40+H40 -> 188020 | J40: =+I40*F40 -> 376040 | K40: 165000 | L40: =+K40*19% -> 31350 | M40: =+K40+L40 -> 196350 | N40: =+M40*F40 -> 392700 | O40: 170000 | P40: =+O40*19% -> 32300 | Q40: =+O40+P40 -> 202300 | R40: =+Q40*F40 -> 404600 | S40: =AVERAGE(G40,K40,O40) -> 164333.33 | T40: =AVERAGE(H40,L40,P40) -> 31223.333 | U40: =AVERAGE(I40,M40,Q40) -> 195556.67 | V40: =AVERAGE(J40,N40,R40) -> 391113.33
B41: 38 | C41: Vereda Parcelas - Campus municipal - Dentro del Colegio Ruperto Melo | D41: Jardín infantil Personitas Felices | E41: 120 | F41: 2 | G41: 82500 | H41: =+G41*19% -> 15675 | I41: =+G41+H41 -> 98175 | J41: =+I41*F41 -> 196350 | K41: 85000 | L41: =+K41*19% -> 16150 | M41: =+K41+L41 -> 101150 | N41: =+M41*F41 -> 202300 | O41: 90000 | P41: =+O41*19% -> 17100 | Q41: =+O41+P41 -> 107100 | R41: =+Q41*F41 -> 214200 | S41: =AVERAGE(G41,K41,O41) -> 85833.333 | T41: =AVERAGE(H41,L41,P41) -> 16308.333 | U41: =AVERAGE(I41,M41,Q41) -> 102141.67 | V41: =AVERAGE(J41,N41,R41) -> 204283.33
B42: 39 | C42: Cra. 8C N° 14 -13 | D42: Jardín infantil El Libertador | E42: 1588 | F42: 2 | G42: 581208 | H42: =+G42*19% -> 110429.52 | I42: =+G42+H42 -> 691637.52 | J42: =+I42*F42 -> 1383275 | K42: 587560 | L42: =+K42*19% -> 111636.4 | M42: =+K42+L42 -> 699196.4 | N42: =+M42*F42 -> 1398392.8 | O42: 619320 | P42: =+O42*19% -> 117670.8 | Q42: =+O42+P42 -> 736990.8 | R42: =+Q42*F42 -> 1473981.6 | S42: =AVERAGE(G42,K42,O42) -> 596029.33 | T42: =AVERAGE(H42,L42,P42) -> 113245.57 | U42: =AVERAGE(I42,M42,Q42) -> 709274.91 | V42: =AVERAGE(J42,N42,R42) -> 1418549.8
B43: 40 | C43: Cll. 10 N° 3 -65 | D43: Jardín infantil Creciendo Juntos | E43: 1032 | F43: 2 | G43: 377712 | H43: =+G43*19% -> 71765.28 | I43: =+G43+H43 -> 449477.28 | J43: =+I43*F43 -> 898954.56 | K43: 381840 | L43: =+K43*19% -> 72549.6 | M43: =+K43+L43 -> 454389.6 | N43: =+M43*F43 -> 908779.2 | O43: 402480 | P43: =+O43*19% -> 76471.2 | Q43: =+O43+P43 -> 478951.2 | R43: =+Q43*F43 -> 957902.4 | S43: =AVERAGE(G43,K43,O43) -> 387344 | T43: =AVERAGE(H43,L43,P43) -> 73595.36 | U43: =AVERAGE(I43,M43,Q43) -> 460939.36 | V43: =AVERAGE(J43,N43,R43) -> 921878.72
B44: 41 | C44: CLL. 13 N° 2A BIS 06 | D44: Jardín Manitas Creativas | E44: 665 | F44: 2 | G44: 378000 | H44: =+G44*19% -> 71820 | I44: =+G44+H44 -> 449820 | J44: =+I44*F44 -> 899640 | K44: 380000 | L44: =+K44*19% -> 72200 | M44: =+K44+L44 -> 452200 | N44: =+M44*F44 -> 904400 | O44: 400000 | P44: =+O44*19% -> 76000 | Q44: =+O44+P44 -> 476000 | R44: =+Q44*F44 -> 952000 | S44: =AVERAGE(G44,K44,O44) -> 386000 | T44: =AVERAGE(H44,L44,P44) -> 73340 | U44: =AVERAGE(I44,M44,Q44) -> 459340 | V44: =AVERAGE(J44,N44,R44) -> 918680
B45: 42 | C45: Vereda Cetime | D45: Casa del adulto mayor | E45: 5000 | F45: 2 | G45: 1720000 | H45: =+G45*19% -> 326800 | I45: =+G45+H45 -> 2046800 | J45: =+I45*F45 -> 4093600 | K45: 1650000 | L45: =+K45*19% -> 313500 | M45: =+K45+L45 -> 1963500 | N45: =+M45*F45 -> 3927000 | O45: 1750000 | P45: =+O45*19% -> 332500 | Q45: =+O45+P45 -> 2082500 | R45: =+Q45*F45 -> 4165000 | S45: =AVERAGE(G45,K45,O45) -> 1706666.7 | T45: =AVERAGE(H45,L45,P45) -> 324266.67 | U45: =AVERAGE(I45,M45,Q45) -> 2030933.3 | V45: =AVERAGE(J45,N45,R45) -> 4061866.7
B46: 43 | C46: Cra. 6 N°11-01 | D46: Jardín infantil El Amanecer - ICBF | E46: 143 | F46: 2 | G46: 82500 | H46: =+G46*19% -> 15675 | I46: =+G46+H46 -> 98175 | J46: =+I46*F46 -> 196350 | K46: 85000 | L46: =+K46*19% -> 16150 | M46: =+K46+L46 -> 101150 | N46: =+M46*F46 -> 202300 | O46: 90000 | P46: =+O46*19% -> 17100 | Q46: =+O46+P46 -> 107100 | R46: =+Q46*F46 -> 214200 | S46: =AVERAGE(G46,K46,O46) -> 85833.333 | T46: =AVERAGE(H46,L46,P46) -> 16308.333 | U46: =AVERAGE(I46,M46,Q46) -> 102141.67 | V46: =AVERAGE(J46,N46,R46) -> 204283.33
B47: 44 | C47: Cra. 7 N°14-119 | D47: Jardín De Cero a Siempre - ICBF | E47: 990 | F47: 2 | G47: 378000 | H47: =+G47*19% -> 71820 | I47: =+G47+H47 -> 449820 | J47: =+I47*F47 -> 899640 | K47: 380000 | L47: =+K47*19% -> 72200 | M47: =+K47+L47 -> 452200 | N47: =+M47*F47 -> 904400 | O47: 400000 | P47: =+O47*19% -> 76000 | Q47: =+O47+P47 -> 476000 | R47: =+Q47*F47 -> 952000 | S47: =AVERAGE(G47,K47,O47) -> 386000 | T47: =AVERAGE(H47,L47,P47) -> 73340 | U47: =AVERAGE(I47,M47,Q47) -> 459340 | V47: =AVERAGE(J47,N47,R47) -> 918680
A48: RESGUARDO | B48: 45 | C48: Vereda El Abra | D48: Colegio y Jardin infantil Ubamux | E48: 9000 | F48: 2 | G48: 3096000 | H48: =+G48*19% -> 588240 | I48: =+G48+H48 -> 3684240 | J48: =+I48*F48 -> 7368480 | K48: 2970000 | L48: =+K48*19% -> 564300 | M48: =+K48+L48 -> 3534300 | N48: =+M48*F48 -> 7068600 | O48: 2970000 | P48: =+O48*19% -> 564300 | Q48: =+O48+P48 -> 3534300 | R48: =+Q48*F48 -> 7068600 | S48: =AVERAGE(G48,K48,O48) -> 3012000 | T48: =AVERAGE(H48,L48,P48) -> 572280 | U48: =AVERAGE(I48,M48,Q48) -> 3584280 | V48: =AVERAGE(J48,N48,R48) -> 7168560
A49: EDUCACIÓN | B49: 46 | C49: Vereda La Moya - Camellon de las Flores | D49: Colegio Departamental Enrique Pardo Parra | E49: 4001 | F49: 2 | G49: 1216304 | H49: =+G49*19% -> 231097.76 | I49: =+G49+H49 -> 1447401.8 | J49: =+I49*F49 -> 2894803.5 | K49: 1320330 | L49: =+K49*19% -> 250862.7 | M49: =+K49+L49 -> 1571192.7 | N49: =+M49*F49 -> 3142385.4 | O49: 1400350 | P49: =+O49*19% -> 266066.5 | Q49: =+O49+P49 -> 1666416.5 | R49: =+Q49*F49 -> 3332833 | S49: =AVERAGE(G49,K49,O49) -> 1312328 | T49: =AVERAGE(H49,L49,P49) -> 249342.32 | U49: =AVERAGE(I49,M49,Q49) -> 1561670.3 | V49: =AVERAGE(J49,N49,R49) -> 3123340.6
B50: 47 | C50: Vereda Parcelas- Parcelas 2 | D50: I.E.D Instituto Parcelas | E50: 17600 | F50: 2 | G50: 6054400 | H50: =+G50*19% -> 1150336 | I50: =+G50+H50 -> 7204736 | J50: =+I50*F50 -> 14409472 | K50: 5808000 | L50: =+K50*19% -> 1103520 | M50: =+K50+L50 -> 6911520 | N50: =+M50*F50 -> 13823040 | O50: 5808000 | P50: =+O50*19% -> 1103520 | Q50: =+O50+P50 -> 6911520 | R50: =+Q50*F50 -> 13823040 | S50: =AVERAGE(G50,K50,O50) -> 5890133.3 | T50: =AVERAGE(H50,L50,P50) -> 1119125.3 | U50: =AVERAGE(I50,M50,Q50) -> 7009258.7 | V50: =AVERAGE(J50,N50,R50) -> 14018517
B51: 48 | C51: Vereda Rozo | D51: Escuela rural El Rozo | E51: 5218 | F51: 2 | G51: 1794992 | H51: =+G51*19% -> 341048.48 | I51: =+G51+H51 -> 2136040.5 | J51: =+I51*F51 -> 4272081 | K51: 1721940 | L51: =+K51*19% -> 327168.6 | M51: =+K51+L51 -> 2049108.6 | N51: =+M51*F51 -> 4098217.2 | O51: 1721940 | P51: =+O51*19% -> 327168.6 | Q51: =+O51+P51 -> 2049108.6 | R51: =+Q51*F51 -> 4098217.2 | S51: =AVERAGE(G51,K51,O51) -> 1746290.7 | T51: =AVERAGE(H51,L51,P51) -> 331795.23 | U51: =AVERAGE(I51,M51,Q51) -> 2078085.9 | V51: =AVERAGE(J51,N51,R51) -> 4156171.8
B52: 49 | C52: Vereda La Moya | D52: Escuela rural La Moya | E52: 6007 | F52: 2 | G52: 2066408 | H52: =+G52*19% -> 392617.52 | I52: =+G52+H52 -> 2459025.5 | J52: =+I52*F52 -> 4918051 | K52: 1982310 | L52: =+K52*19% -> 376638.9 | M52: =+K52+L52 -> 2358948.9 | N52: =+M52*F52 -> 4717897.8 | O52: 1982310 | P52: =+O52*19% -> 376638.9 | Q52: =+O52+P52 -> 2358948.9 | R52: =+Q52*F52 -> 4717897.8 | S52: =AVERAGE(G52,K52,O52) -> 2010342.7 | T52: =AVERAGE(H52,L52,P52) -> 381965.11 | U52: =AVERAGE(I52,M52,Q52) -> 2392307.8 | V52: =AVERAGE(J52,N52,R52) -> 4784615.5
B53: 50 | C53: Cll. 14 N° 2B-56 | D53: Escuela rural Pueblo Viejo (Incluyendo cancha de futbol) | E53: 7268 | F53: 2 | G53: 2500192 | H53: =+G53*19% -> 475036.48 | I53: =+G53+H53 -> 2975228.5 | J53: =+I53*F53 -> 5950457 | K53: 2398440 | L53: =+K53*19% -> 455703.6 | M53: =+K53+L53 -> 2854143.6 | N53: =+M53*F53 -> 5708287.2 | O53: 2398440 | P53: =+O53*19% -> 455703.6 | Q53: =+O53+P53 -> 2854143.6 | R53: =+Q53*F53 -> 5708287.2 | S53: =AVERAGE(G53,K53,O53) -> 2432357.3 | T53: =AVERAGE(H53,L53,P53) -> 462147.89 | U53: =AVERAGE(I53,M53,Q53) -> 2894505.2 | V53: =AVERAGE(J53,N53,R53) -> 5789010.5
B54: 51 | C54: Vereda Parcelas Lote 1 | D54: Escuela rural Ruperto Melo | E54: 1802 | F54: 2 | G54: 659532 | H54: =+G54*19% -> 125311.08 | I54: =+G54+H54 -> 784843.08 | J54: =+I54*F54 -> 1569686.2 | K54: 666740 | L54: =+K54*19% -> 126680.6 | M54: =+K54+L54 -> 793420.6 | N54: =+M54*F54 -> 1586841.2 | O54: 702780 | P54: =+O54*19% -> 133528.2 | Q54: =+O54+P54 -> 836308.2 | R54: =+Q54*F54 -> 1672616.4 | S54: =AVERAGE(G54,K54,O54) -> 676350.67 | T54: =AVERAGE(H54,L54,P54) -> 128506.63 | U54: =AVERAGE(I54,M54,Q54) -> 804857.29 | V54: =AVERAGE(J54,N54,R54) -> 1609714.6
B55: 52 | C55: Vereda El Abra | D55: Escuela rural El Abra | E55: 2110 | F55: 2 | G55: 772260 | H55: =+G55*19% -> 146729.4 | I55: =+G55+H55 -> 918989.4 | J55: =+I55*F55 -> 1837978.8 | K55: 780700 | L55: =+K55*19% -> 148333 | M55: =+K55+L55 -> 929033 | N55: =+M55*F55 -> 1858066 | O55: 822900 | P55: =+O55*19% -> 156351 | Q55: =+O55+P55 -> 979251 | R55: =+Q55*F55 -> 1958502 | S55: =AVERAGE(G55,K55,O55) -> 791953.33 | T55: =AVERAGE(H55,L55,P55) -> 150471.13 | U55: =AVERAGE(I55,M55,Q55) -> 942424.47 | V55: =AVERAGE(J55,N55,R55) -> 1884848.9
B56: 53 | C56: Cll. 13 N° 2A BIS-06 | D56: Escuela Camilo Torres | E56: 5738 | F56: 2 | G56: 1973872 | H56: =+G56*19% -> 375035.68 | I56: =+G56+H56 -> 2348907.7 | J56: =+I56*F56 -> 4697815.4 | K56: 1893540 | L56: =+K56*19% -> 359772.6 | M56: =+K56+L56 -> 2253312.6 | N56: =+M56*F56 -> 4506625.2 | O56: 1893540 | P56: =+O56*19% -> 359772.6 | Q56: =+O56+P56 -> 2253312.6 | R56: =+Q56*F56 -> 4506625.2 | S56: =AVERAGE(G56,K56,O56) -> 1920317.3 | T56: =AVERAGE(H56,L56,P56) -> 364860.29 | U56: =AVERAGE(I56,M56,Q56) -> 2285177.6 | V56: =AVERAGE(J56,N56,R56) -> 4570355.3
B57: 54 | C57: Cra. 6 N°15-01 | D57: Jardín Sol Solecito | E57: 2099 | F57: 2 | G57: 768234 | H57: =+G57*19% -> 145964.46 | I57: =+G57+H57 -> 914198.46 | J57: =+I57*F57 -> 1828396.9 | K57: 776630 | L57: =+K57*19% -> 147559.7 | M57: =+K57+L57 -> 924189.7 | N57: =+M57*F57 -> 1848379.4 | O57: 818610 | P57: =+O57*19% -> 155535.9 | Q57: =+O57+P57 -> 974145.9 | R57: =+Q57*F57 -> 1948291.8 | S57: =AVERAGE(G57,K57,O57) -> 787824.67 | T57: =AVERAGE(H57,L57,P57) -> 149686.69 | U57: =AVERAGE(I57,M57,Q57) -> 937511.35 | V57: =AVERAGE(J57,N57,R57) -> 1875022.7
B58: 55 | C58: Sector Vuelta de la trampa - Frente al Centro Cultural | D58: Casa NADI | E58: 746 | F58: 2 | G58: 378000 | H58: =+G58*19% -> 71820 | I58: =+G58+H58 -> 449820 | J58: =+I58*F58 -> 899640 | K58: 380000 | L58: =+K58*19% -> 72200 | M58: =+K58+L58 -> 452200 | N58: =+M58*F58 -> 904400 | O58: 400000 | P58: =+O58*19% -> 76000 | Q58: =+O58+P58 -> 476000 | R58: =+Q58*F58 -> 952000 | S58: =AVERAGE(G58,K58,O58) -> 386000 | T58: =AVERAGE(H58,L58,P58) -> 73340 | U58: =AVERAGE(I58,M58,Q58) -> 459340 | V58: =AVERAGE(J58,N58,R58) -> 918680
B59: 56 | C59: Km 1 Vía Siberia - Tenjo | D59: Escuela Siberia | E59: 1757 | F59: 2 | G59: 643062 | H59: =+G59*19% -> 122181.78 | I59: =+G59+H59 -> 765243.78 | J59: =+I59*F59 -> 1530487.6 | K59: 650090 | L59: =+K59*19% -> 123517.1 | M59: =+K59+L59 -> 773607.1 | N59: =+M59*F59 -> 1547214.2 | O59: 685230 | P59: =+O59*19% -> 130193.7 | Q59: =+O59+P59 -> 815423.7 | R59: =+Q59*F59 -> 1630847.4 | S59: =AVERAGE(G59,K59,O59) -> 659460.67 | T59: =AVERAGE(H59,L59,P59) -> 125297.53 | U59: =AVERAGE(I59,M59,Q59) -> 784758.19 | V59: =AVERAGE(J59,N59,R59) -> 1569516.4
B60: 57 | D60: Ceforcota - Sena | E60: 976 | F60: 2 | G60: 378000 | H60: =+G60*19% -> 71820 | I60: =+G60+H60 -> 449820 | J60: =+I60*F60 -> 899640 | K60: 380000 | L60: =+K60*19% -> 72200 | M60: =+K60+L60 -> 452200 | N60: =+M60*F60 -> 904400 | O60: 400000 | P60: =+O60*19% -> 76000 | Q60: =+O60+P60 -> 476000 | R60: =+Q60*F60 -> 952000 | S60: =AVERAGE(G60,K60,O60) -> 386000 | T60: =AVERAGE(H60,L60,P60) -> 73340 | U60: =AVERAGE(I60,M60,Q60) -> 459340 | V60: =AVERAGE(J60,N60,R60) -> 918680
D61: ÁREA TOTAL, DESRATIZACIÓN | E61: =SUM(E4:E60) -> 99481 | F61: =SUM(F4:F60) -> 114 | J61: =SUM(J5:J60) -> 83380044 | N61: =SUM(N5:N60) -> 82783635 | R61: =SUM(R5:R60) -> 85067207 | V61: =AVERAGE(J61,N61,R61) -> 83743629
D62: No. TOTAL DESRATIZACIONES
B65: DIAGNOSTICO PARA DESRATIZACIÓN - PUNTOS CRITICOS | G65: =+G1 -> INVERKPITAL SAS | K65: =+K1 -> SOLIX | O65: =+O1 -> VALCA | S65: PROMEDIO
B66: ORDEN | C66: DIRECCIÓN | D66: DESCRIPCIÓN | E66: ÁREA DE INTERVENCIÓN (m2) APROX | F66: TOTAL DE DIAGNOSTICO | G66: Valor unitario neto | H66: % IVA | I66: Valor Unitario con IVA (Si aplica) | J66: Valor TOTAL | K66: Valor unitario neto | L66: % IVA | M66: Valor Unitario con IVA (Si aplica) | N66: Valor TOTAL | O66: Valor unitario neto | P66: % IVA | Q66: Valor Unitario con IVA (Si aplica) | R66: Valor TOTAL | S66: Valor unitario neto | T66: % IVA | U66: Valor Unitario con IVA (Si aplica) | V66: Valor TOTAL
A67: EDUCACIÓN | B67: 1 | C67: Vereda La Moya - Camellon de las Flores | D67: Colegio Departamental Enrique Pardo Parra | E67: 4001 | F67: 1 | G67: 205000 | H67: =+G67*19% -> 38950 | I67: =+G67+H67 -> 243950 | J67: =+I67*F67 -> 243950 | K67: 215000 | L67: =+K67*19% -> 40850 | M67: =+K67+L67 -> 255850 | N67: =+M67*F67 -> 255850 | O67: 220000 | P67: =+O67*19% -> 41800 | Q67: =+O67+P67 -> 261800 | R67: =+Q67*F67 -> 261800 | S67: =AVERAGE(G67,K67,O67) -> 213333.33 | T67: =AVERAGE(H67,L67,P67) -> 40533.333 | U67: =AVERAGE(I67,M67,Q67) -> 253866.67 | V67: =AVERAGE(J67,N67,R67) -> 253866.67
B68: 2 | C68: Vereda Parcelas- Parcelas 2 | D68: I.E.D Instituto Parcelas | E68: 17600 | F68: 1 | G68: 205000 | H68: =+G68*19% -> 38950 | I68: =+G68+H68 -> 243950 | J68: =+I68*F68 -> 243950 | K68: 215000 | L68: =+K68*19% -> 40850 | M68: =+K68+L68 -> 255850 | N68: =+M68*F68 -> 255850 | O68: 220000 | P68: =+O68*19% -> 41800 | Q68: =+O68+P68 -> 261800 | R68: =+Q68*F68 -> 261800 | S68: =AVERAGE(G68,K68,O68) -> 213333.33 | T68: =AVERAGE(H68,L68,P68) -> 40533.333 | U68: =AVERAGE(I68,M68,Q68) -> 253866.67 | V68: =AVERAGE(J68,N68,R68) -> 253866.67
B69: 3 | C69: Vereda Rozo | D69: Escuela rural El Rozo | E69: 5218 | F69: 1 | G69: 205000 | H69: =+G69*19% -> 38950 | I69: =+G69+H69 -> 243950 | J69: =+I69*F69 -> 243950 | K69: 215000 | L69: =+K69*19% -> 40850 | M69: =+K69+L69 -> 255850 | N69: =+M69*F69 -> 255850 | O69: 220000 | P69: =+O69*19% -> 41800 | Q69: =+O69+P69 -> 261800 | R69: =+Q69*F69 -> 261800 | S69: =AVERAGE(G69,K69,O69) -> 213333.33 | T69: =AVERAGE(H69,L69,P69) -> 40533.333 | U69: =AVERAGE(I69,M69,Q69) -> 253866.67 | V69: =AVERAGE(J69,N69,R69) -> 253866.67
B70: 4 | C70: Vereda La Moya | D70: Escuela rural La Moya | E70: 6007 | F70: 1 | G70: 205000 | H70: =+G70*19% -> 38950 | I70: =+G70+H70 -> 243950 | J70: =+I70*F70 -> 243950 | K70: 215000 | L70: =+K70*19% -> 40850 | M70: =+K70+L70 -> 255850 | N70: =+M70*F70 -> 255850 | O70: 220000 | P70: =+O70*19% -> 41800 | Q70: =+O70+P70 -> 261800 | R70: =+Q70*F70 -> 261800 | S70: =AVERAGE(G70,K70,O70) -> 213333.33 | T70: =AVERAGE(H70,L70,P70) -> 40533.333 | U70: =AVERAGE(I70,M70,Q70) -> 253866.67 | V70: =AVERAGE(J70,N70,R70) -> 253866.67
B71: 5 | C71: Cll. 14 N° 2B-56 | D71: Escuela rural Pueblo Viejo | E71: 7268 | F71: 1 | G71: 205000 | H71: =+G71*19% -> 38950 | I71: =+G71+H71 -> 243950 | J71: =+I71*F71 -> 243950 | K71: 215000 | L71: =+K71*19% -> 40850 | M71: =+K71+L71 -> 255850 | N71: =+M71*F71 -> 255850 | O71: 220000 | P71: =+O71*19% -> 41800 | Q71: =+O71+P71 -> 261800 | R71: =+Q71*F71 -> 261800 | S71: =AVERAGE(G71,K71,O71) -> 213333.33 | T71: =AVERAGE(H71,L71,P71) -> 40533.333 | U71: =AVERAGE(I71,M71,Q71) -> 253866.67 | V71: =AVERAGE(J71,N71,R71) -> 253866.67
B72: 6 | C72: Cll. 13 N° 2A BIS-06 | D72: Escuela Camilo Torres | E72: 5738 | F72: 1 | G72: 205000 | H72: =+G72*19% -> 38950 | I72: =+G72+H72 -> 243950 | J72: =+I72*F72 -> 243950 | K72: 215000 | L72: =+K72*19% -> 40850 | M72: =+K72+L72 -> 255850 | N72: =+M72*F72 -> 255850 | O72: 220000 | P72: =+O72*19% -> 41800 | Q72: =+O72+P72 -> 261800 | R72: =+Q72*F72 -> 261800 | S72: =AVERAGE(G72,K72,O72) -> 213333.33 | T72: =AVERAGE(H72,L72,P72) -> 40533.333 | U72: =AVERAGE(I72,M72,Q72) -> 253866.67 | V72: =AVERAGE(J72,N72,R72) -> 253866.67
B73: 7 | C73: Cra. 6 N°15-01 | D73: Jardín Sol Solecito | E73: 2099 | F73: 1 | G73: 205000 | H73: =+G73*19% -> 38950 | I73: =+G73+H73 -> 243950 | J73: =+I73*F73 -> 243950 | K73: 215000 | L73: =+K73*19% -> 40850 | M73: =+K73+L73 -> 255850 | N73: =+M73*F73 -> 255850 | O73: 220000 | P73: =+O73*19% -> 41800 | Q73: =+O73+P73 -> 261800 | R73: =+Q73*F73 -> 261800 | S73: =AVERAGE(G73,K73,O73) -> 213333.33 | T73: =AVERAGE(H73,L73,P73) -> 40533.333 | U73: =AVERAGE(I73,M73,Q73) -> 253866.67 | V73: =AVERAGE(J73,N73,R73) -> 253866.67
B74: 8 | C74: Vereda El Abra | D74: Escuela rural El Abra | E74: 2110 | F74: 1 | G74: 205000 | H74: =+G74*19% -> 38950 | I74: =+G74+H74 -> 243950 | J74: =+I74*F74 -> 243950 | K74: 215000 | L74: =+K74*19% -> 40850 | M74: =+K74+L74 -> 255850 | N74: =+M74*F74 -> 255850 | O74: 220000 | P74: =+O74*19% -> 41800 | Q74: =+O74+P74 -> 261800 | R74: =+Q74*F74 -> 261800 | S74: =AVERAGE(G74,K74,O74) -> 213333.33 | T74: =AVERAGE(H74,L74,P74) -> 40533.333 | U74: =AVERAGE(I74,M74,Q74) -> 253866.67 | V74: =AVERAGE(J74,N74,R74) -> 253866.67
J75: =SUM(J68:J74) -> 1707650 | N75: =SUM(N68:N74) -> 1790950 | R75: =SUM(R68:R74) -> 1832600 | V75: =AVERAGE(J75,N75,R75) -> 1777066.7
D76: ÁREA TOTAL, DIAGNOSTICO | E76: =SUM(E67:E74) -> 50041 | F76: =SUM(F67:F74) -> 8
D77: No. DIAGNOSTICO EN PUNTOS CRITICOS TOTALES

Sheet Voladores
B1: DIAGNOSTICO DESINSECTACIÓN DE PLAGAS (VOLADORES - PALOMAS) | G1: VALCA | K1: SOLIX | O1: INVERKPITAL SAS | S1: PROMEDIO
B2: ORDEN | C2: DIRECCIÓN | D2: DESCRIPCIÓN | E2: ÁREA DE INTERVENCIÓN (m2) APROX | F2: TOTAL DE DIAGNOSTICO | G2: Valor unitario neto | H2: % IVA | I2: Valor Unitario con IVA (Si aplica) | J2: Valor TOTAL | K2: Valor unitario neto | L2: % IVA | M2: Valor Unitario con IVA (Si aplica) | N2: Valor TOTAL | O2: Valor unitario neto | P2: % IVA | Q2: Valor Unitario con IVA (Si aplica) | R2: Valor TOTAL | S2: Valor unitario neto | T2: % IVA | U2: Valor Unitario con IVA (Si aplica) | V2: Valor TOTAL
A3: EDUCACIÓN | B3: 1 | C3: Vereda La Moya - Camellón de las Flores | D3: Colegio Departamental Enrique Pardo Parra | E3: 4001 | F3: 1 | G3: 205000 | H3: =+G3*19% -> 38950 | I3: =+G3+H3 -> 243950 | J3: =+I3*F3 -> 243950 | K3: 215000 | L3: =+K3*19% -> 40850 | M3: =+K3+L3 -> 255850 | N3: =+M3*F3 -> 255850 | O3: 220000 | P3: =+O3*19% -> 41800 | Q3: =+O3+P3 -> 261800 | R3: =+Q3*F3 -> 261800 | S3: =AVERAGE(G3,K3,O3) -> 213333.33 | T3: =AVERAGE(H3,L3,P3) -> 40533.333 | U3: =AVERAGE(I3,M3,Q3) -> 253866.67 | V3: =AVERAGE(J3,N3,R3) -> 253866.67
B4: 2 | C4: Vereda Parcelas- Parcelas 2 | D4: I.E.D Instituto Parcelas | E4: 17600 | F4: 1 | G4: 205000 | H4: =+G4*19% -> 38950 | I4: =+G4+H4 -> 243950 | J4: =+I4*F4 -> 243950 | K4: 215000 | L4: =+K4*19% -> 40850 | M4: =+K4+L4 -> 255850 | N4: =+M4*F4 -> 255850 | O4: 220000 | P4: =+O4*19% -> 41800 | Q4: =+O4+P4 -> 261800 | R4: =+Q4*F4 -> 261800 | S4: =AVERAGE(G4,K4,O4) -> 213333.33 | T4: =AVERAGE(H4,L4,P4) -> 40533.333 | U4: =AVERAGE(I4,M4,Q4) -> 253866.67 | V4: =AVERAGE(J4,N4,R4) -> 253866.67
B5: 3 | C5: Cll. 14 N° 2B-56 | D5: Escuela rural Pueblo Viejo | E5: 7268 | F5: 1 | G5: 205000 | H5: =+G5*19% -> 38950 | I5: =+G5+H5 -> 243950 | J5: =+I5*F5 -> 243950 | K5: 215000 | L5: =+K5*19% -> 40850 | M5: =+K5+L5 -> 255850 | N5: =+M5*F5 -> 255850 | O5: 220000 | P5: =+O5*19% -> 41800 | Q5: =+O5+P5 -> 261800 | R5: =+Q5*F5 -> 261800 | S5: =AVERAGE(G5,K5,O5) -> 213333.33 | T5: =AVERAGE(H5,L5,P5) -> 40533.333 | U5: =AVERAGE(I5,M5,Q5) -> 253866.67 | V5: =AVERAGE(J5,N5,R5) -> 253866.67
B6: 4 | C6: Cll. 13 N° 2A BIS-06 | D6: Escuela Camilo Torres | E6: 5738 | F6: 1 | G6: 205000 | H6: =+G6*19% -> 38950 | I6: =+G6+H6 -> 243950 | J6: =+I6*F6 -> 243950 | K6: 215000 | L6: =+K6*19% -> 40850 | M6: =+K6+L6 -> 255850 | N6: =+M6*F6 -> 255850 | O6: 220000 | P6: =+O6*19% -> 41800 | Q6: =+O6+P6 -> 261800 | R6: =+Q6*F6 -> 261800 | S6: =AVERAGE(G6,K6,O6) -> 213333.33 | T6: =AVERAGE(H6,L6,P6) -> 40533.333 | U6: =AVERAGE(I6,M6,Q6) -> 253866.67 | V6: =AVERAGE(J6,N6,R6) -> 253866.67
B7: 5 | C7: Cra. 6 N°15-01 | D7: Jardín Sol Solecito | E7: 2099 | F7: 1 | G7: 205000 | H7: =+G7*19% -> 38950 | I7: =+G7+H7 -> 243950 | J7: =+I7*F7 -> 243950 | K7: 215000 | L7: =+K7*19% -> 40850 | M7: =+K7+L7 -> 255850 | N7: =+M7*F7 -> 255850 | O7: 220000 | P7: =+O7*19% -> 41800 | Q7: =+O7+P7 -> 261800 | R7: =+Q7*F7 -> 261800 | S7: =AVERAGE(G7,K7,O7) -> 213333.33 | T7: =AVERAGE(H7,L7,P7) -> 40533.333 | U7: =AVERAGE(I7,M7,Q7) -> 253866.67 | V7: =AVERAGE(J7,N7,R7) -> 253866.67
A8: DESARROLLO SOCIAL | B8: 6 | C8: CLL. 13 N° 2A BIS 06 | D8: Jardín Manitas Creativas | E8: 665 | F8: 1 | G8: 205000 | H8: =+G8*19% -> 38950 | I8: =+G8+H8 -> 243950 | J8: =+I8*F8 -> 243950 | K8: 215000 | L8: =+K8*19% -> 40850 | M8: =+K8+L8 -> 255850 | N8: =+M8*F8 -> 255850 | O8: 220000 | P8: =+O8*19% -> 41800 | Q8: =+O8+P8 -> 261800 | R8: =+Q8*F8 -> 261800 | S8: =AVERAGE(G8,K8,O8) -> 213333.33 | T8: =AVERAGE(H8,L8,P8) -> 40533.333 | U8: =AVERAGE(I8,M8,Q8) -> 253866.67 | V8: =AVERAGE(J8,N8,R8) -> 253866.67
B9: 7 | C9: Cra. 6 N°11-01 | D9: Jardín infantil El Amanecer - ICBF | E9: 143 | F9: 1 | G9: 205000 | H9: =+G9*19% -> 38950 | I9: =+G9+H9 -> 243950 | J9: =+I9*F9 -> 243950 | K9: 215000 | L9: =+K9*19% -> 40850 | M9: =+K9+L9 -> 255850 | N9: =+M9*F9 -> 255850 | O9: 220000 | P9: =+O9*19% -> 41800 | Q9: =+O9+P9 -> 261800 | R9: =+Q9*F9 -> 261800 | S9: =AVERAGE(G9,K9,O9) -> 213333.33 | T9: =AVERAGE(H9,L9,P9) -> 40533.333 | U9: =AVERAGE(I9,M9,Q9) -> 253866.67 | V9: =AVERAGE(J9,N9,R9) -> 253866.67
D10: ÁREA TOTAL, DIAGNOSTICO | E10: =SUM(E3:E9) -> 37514 | F10: =SUM(F3:F9) -> 7 | J10: =SUM(J5:J9) -> 1219750 | N10: =SUM(N5:N9) -> 1279250 | R10: =SUM(R5:R9) -> 1309000 | V10: =AVERAGE(J10,N10,R10) -> 1269333.3
D11: No. DIAGNOSTICOS EN PUNTOS CRITICOS TOTALES
G13: SOLIX | K13: OPCION 2 | O13: VALCA | S13: PROMEDIO
B14: DESINSECTACIÓN DE PLAGAS (VOLADORES - PALOMAS) | G14: Valor unitario neto | H14: % IVA | I14: Valor Unitario con IVA (Si aplica) | J14: Valor TOTAL | K14: Valor unitario neto | L14: % IVA | M14: Valor Unitario con IVA (Si aplica) | N14: Valor TOTAL | O14: Valor unitario neto | P14: % IVA | Q14: Valor Unitario con IVA (Si aplica) | R14: Valor TOTAL | S14: Valor unitario neto | T14: % IVA | U14: Valor Unitario con IVA (Si aplica) | V14: Valor TOTAL
B15: ORDEN | C15: DIRECCIÓN | D15: DESCRIPCIÓN | E15: ÁREA DE INTERVENCIÓN (m2) APROX | F15: TOTAL DE DESINSECTACIÓN
A16: EDUCACIÓN | B16: 1 | C16: Vereda La Moya - Camellón de las Flores | D16: Colegio Departamental Enrique Pardo Parra | E16: 4001 | F16: 2 | G16: 1160290 | H16: =+G16*19% -> 220455.1 | I16: =+G16+H16 -> 1380745.1 | J16: =+I16*F16 -> 2761490.2 | K16: 1300325 | L16: =+K16*19% -> 247061.75 | M16: =+K16+L16 -> 1547386.8 | N16: =+M16*F16 -> 3094773.5 | O16: 1400350 | P16: =+O16*19% -> 266066.5 | Q16: =+O16+P16 -> 1666416.5 | R16: =+Q16*F16 -> 3332833 | S16: =AVERAGE(G16,K16,O16) -> 1286988.3 | T16: =AVERAGE(H16,L16,P16) -> 244527.78 | U16: =AVERAGE(I16,M16,Q16) -> 1531516.1 | V16: =AVERAGE(J16,N16,R16) -> 3063032.2
B17: 2 | C17: Vereda Parcelas- Parcelas 2 | D17: I.E.D Instituto Parcelas | E17: 17600 | F17: 2 | G17: 5104000 | H17: =+G17*19% -> 969760 | I17: =+G17+H17 -> 6073760 | J17: =+I17*F17 -> 12147520 | K17: 5720000 | L17: =+K17*19% -> 1086800 | M17: =+K17+L17 -> 6806800 | N17: =+M17*F17 -> 13613600 | O17: 6160000 | P17: =+O17*19% -> 1170400 | Q17: =+O17+P17 -> 7330400 | R17: =+Q17*F17 -> 14660800 | S17: =AVERAGE(G17,K17,O17) -> 5661333.3 | T17: =AVERAGE(H17,L17,P17) -> 1075653.3 | U17: =AVERAGE(I17,M17,Q17) -> 6736986.7 | V17: =AVERAGE(J17,N17,R17) -> 13473973
B18: 3 | C18: Cll. 14 N° 2B-56 | D18: Escuela rural Pueblo Viejo | E18: 7268 | F18: 2 | G18: 2107720 | H18: =+G18*19% -> 400466.8 | I18: =+G18+H18 -> 2508186.8 | J18: =+I18*F18 -> 5016373.6 | K18: 2362100 | L18: =+K18*19% -> 448799 | M18: =+K18+L18 -> 2810899 | N18: =+M18*F18 -> 5621798 | O18: 2543800 | P18: =+O18*19% -> 483322 | Q18: =+O18+P18 -> 3027122 | R18: =+Q18*F18 -> 6054244 | S18: =AVERAGE(G18,K18,O18) -> 2337873.3 | T18: =AVERAGE(H18,L18,P18) -> 444195.93 | U18: =AVERAGE(I18,M18,Q18) -> 2782069.3 | V18: =AVERAGE(J18,N18,R18) -> 5564138.5
B19: 4 | C19: Cll. 13 N° 2A BIS-06 | D19: Escuela Camilo Torres | E19: 5738 | F19: 2 | G19: 1664020 | H19: =+G19*19% -> 316163.8 | I19: =+G19+H19 -> 1980183.8 | J19: =+I19*F19 -> 3960367.6 | K19: 1864850 | L19: =+K19*19% -> 354321.5 | M19: =+K19+L19 -> 2219171.5 | N19: =+M19*F19 -> 4438343 | O19: 2008300 | P19: =+O19*19% -> 381577 | Q19: =+O19+P19 -> 2389877 | R19: =+Q19*F19 -> 4779754 | S19: =AVERAGE(G19,K19,O19) -> 1845723.3 | T19: =AVERAGE(H19,L19,P19) -> 350687.43 | U19: =AVERAGE(I19,M19,Q19) -> 2196410.8 | V19: =AVERAGE(J19,N19,R19) -> 4392821.5
B20: 5 | C20: Cra. 6 N°15-01 | D20: Jardín Sol Solecito | E20: 2099 | F20: 2 | G20: 608710 | H20: =+G20*19% -> 115654.9 | I20: =+G20+H20 -> 724364.9 | J20: =+I20*F20 -> 1448729.8 | K20: 682175 | L20: =+K20*19% -> 129613.25 | M20: =+K20+L20 -> 811788.25 | N20: =+M20*F20 -> 1623576.5 | O20: 734650 | P20: =+O20*19% -> 139583.5 | Q20: =+O20+P20 -> 874233.5 | R20: =+Q20*F20 -> 1748467 | S20: =AVERAGE(G20,K20,O20) -> 675178.33 | T20: =AVERAGE(H20,L20,P20) -> 128283.88 | U20: =AVERAGE(I20,M20,Q20) -> 803462.22 | V20: =AVERAGE(J20,N20,R20) -> 1606924.4
A21: DESARROLLO SOCIAL | B21: 6 | C21: CLL. 13 N° 2A BIS 06 | D21: Jardín Manitas Creativas | E21: 665 | F21: 2 | G21: 192850 | H21: =+G21*19% -> 36641.5 | I21: =+G21+H21 -> 229491.5 | J21: =+I21*F21 -> 458983 | K21: 216125 | L21: =+K21*19% -> 41063.75 | M21: =+K21+L21 -> 257188.75 | N21: =+M21*F21 -> 514377.5 | O21: 232750 | P21: =+O21*19% -> 44222.5 | Q21: =+O21+P21 -> 276972.5 | R21: =+Q21*F21 -> 553945 | S21: =AVERAGE(G21,K21,O21) -> 213908.33 | T21: =AVERAGE(H21,L21,P21) -> 40642.583 | U21: =AVERAGE(I21,M21,Q21) -> 254550.92 | V21: =AVERAGE(J21,N21,R21) -> 509101.83
B22: 7 | C22: Cra. 6 N°11-01 | D22: Jardín infantil El Amanecer - ICBF | E22: 143 | F22: 2 | G22: 41470 | H22: =+G22*19% -> 7879.3 | I22: =+G22+H22 -> 49349.3 | J22: =+I22*F22 -> 98698.6 | K22: 46475 | L22: =+K22*19% -> 8830.25 | M22: =+K22+L22 -> 55305.25 | N22: =+M22*F22 -> 110610.5 | O22: 50050 | P22: =+O22*19% -> 9509.5 | Q22: =+O22+P22 -> 59559.5 | R22: =+Q22*F22 -> 119119 | S22: =AVERAGE(G22,K22,O22) -> 45998.333 | T22: =AVERAGE(H22,L22,P22) -> 8739.6833 | U22: =AVERAGE(I22,M22,Q22) -> 54738.017 | V22: =AVERAGE(J22,N22,R22) -> 109476.03
D23: ÁREA TOTAL, DESINSECTACIÓN | E23: =SUM(E16:E22) -> 37514 | F23: =SUM(F16:F22) -> 14 | J23: =SUM(J18:J22) -> 10983153 | N23: =SUM(N18:N22) -> 12308706 | R23: =SUM(R18:R22) -> 13255529 | V23: =AVERAGE(J23,N23,R23) -> 12182462
D24: No. DESINSECTACIONES EN PUNTOS CRITICOS TOTALES

Sheet Tanques elevados y subterraneo 
B1: ORDEN | C1: DIRECCIÓN | D1: DESCRIPCIÓN | E1: No. DE TANQUES | F1: CAPACIDAD APROX | G1: LTS / M3 | H1: TIPO DE TANQUE | I1: No. DE LAVADAS POR TANQUE | J1: Valor unitario neto | K1: % IVA | L1: Valor Unitario con IVA (Si aplica) | M1: Valor TOTAL | N1: Valor unitario neto | O1: % IVA | P1: Valor Unitario con IVA (Si aplica) | Q1: Valor TOTAL | R1: Valor unitario neto | S1: % IVA | T1: Valor Unitario con IVA (Si aplica) | U1: Valor TOTAL | V1: Valor unitario neto | W1: % IVA | X1: Valor Unitario con IVA (Si aplica) | Y1: Valor TOTAL
A2: GOBIERNO | B2: 1 | C2: Cra. 6 N° 13-28 | D2: Inspección Primera de Policia, Archivo sede dos y bodegas (1 y 2 piso) | E2: 2 | F2: 1000 | G2: Litros (Lts) | H2: Elevado | I2: 4 | J2: 197000 | K2: =+J2*19% -> 37430 | L2: =+J2+K2 -> 234430 | M2: =+L2*I2 -> 937720 | N2: 160000 | O2: =+N2*19% -> 30400 | P2: =+N2+O2 -> 190400 | Q2: =+P2*I2 -> 761600 | R2: 175000 | S2: =+R2*19% -> 33250 | T2: =+R2+S2 -> 208250 | U2: =+T2*I2 -> 833000 | V2: =AVERAGE(J2,N2,R2) -> 177333.33 | W2: =AVERAGE(K2,O2,S2) -> 33693.333 | X2: =AVERAGE(L2,P2,T2) -> 211026.67 | Y2: =AVERAGE(M2,Q2,U2) -> 844106.67
E3: 1 | F3: 500 | G3: Litros (Lts) | H3: Elevado | I3: 2 | J3: 197000 | K3: =+J3*19% -> 37430 | L3: =+J3+K3 -> 234430 | M3: =+L3*I3 -> 468860 | N3: 160000 | O3: =+N3*19% -> 30400 | P3: =+N3+O3 -> 190400 | Q3: =+P3*I3 -> 380800 | R3: 175000 | S3: =+R3*19% -> 33250 | T3: =+R3+S3 -> 208250 | U3: =+T3*I3 -> 416500 | V3: =AVERAGE(J3,N3,R3) -> 177333.33 | W3: =AVERAGE(K3,O3,S3) -> 33693.333 | X3: =AVERAGE(L3,P3,T3) -> 211026.67 | Y3: =AVERAGE(M3,Q3,U3) -> 422053.33
B4: 2 | C4: Cll. 11 N° 5-17 | D4: Polideportivo urbano y Parque Cuarto Centenario | E4: 2 | F4: 1000 | G4: Litros (Lts) | H4: Elevado | I4: 4 | J4: 197000 | K4: =+J4*19% -> 37430 | L4: =+J4+K4 -> 234430 | M4: =+L4*I4 -> 937720 | N4: 160000 | O4: =+N4*19% -> 30400 | P4: =+N4+O4 -> 190400 | Q4: =+P4*I4 -> 761600 | R4: 175000 | S4: =+R4*19% -> 33250 | T4: =+R4+S4 -> 208250 | U4: =+T4*I4 -> 833000 | V4: =AVERAGE(J4,N4,R4) -> 177333.33 | W4: =AVERAGE(K4,O4,S4) -> 33693.333 | X4: =AVERAGE(L4,P4,T4) -> 211026.67 | Y4: =AVERAGE(M4,Q4,U4) -> 844106.67
B5: 3 | C5: Cll. 11 N° 5-17 | D5: Gimnasio municipal | E5: 1 | F5: 1000 | G5: Litros (Lts) | H5: Elevado | I5: 2 | J5: 197000 | K5: =+J5*19% -> 37430 | L5: =+J5+K5 -> 234430 | M5: =+L5*I5 -> 468860 | N5: 160000 | O5: =+N5*19% -> 30400 | P5: =+N5+O5 -> 190400 | Q5: =+P5*I5 -> 380800 | R5: 175000 | S5: =+R5*19% -> 33250 | T5: =+R5+S5 -> 208250 | U5: =+T5*I5 -> 416500 | V5: =AVERAGE(J5,N5,R5) -> 177333.33 | W5: =AVERAGE(K5,O5,S5) -> 33693.333 | X5: =AVERAGE(L5,P5,T5) -> 211026.67 | Y5: =AVERAGE(M5,Q5,U5) -> 422053.33
B6: 4 | C6: Cra. 4 N° 12-63 | D6: Alcaldía municipal - Sede principal | E6: 1 | F6: 400 | G6: Litros (Lts) | H6: Elevado | I6: 2 | J6: 197000 | K6: =+J6*19% -> 37430 | L6: =+J6+K6 -> 234430 | M6: =+L6*I6 -> 468860 | N6: 160000 | O6: =+N6*19% -> 30400 | P6: =+N6+O6 -> 190400 | Q6: =+P6*I6 -> 380800 | R6: 175000 | S6: =+R6*19% -> 33250 | T6: =+R6+S6 -> 208250 | U6: =+T6*I6 -> 416500 | V6: =AVERAGE(J6,N6,R6) -> 177333.33 | W6: =AVERAGE(K6,O6,S6) -> 33693.333 | X6: =AVERAGE(L6,P6,T6) -> 211026.67 | Y6: =AVERAGE(M6,Q6,U6) -> 422053.33
E7: 1 | F7: 2000 | G7: Litros (Lts) | H7: Elevado | I7: 2 | J7: 175000 | K7: =+J7*19% -> 33250 | L7: =+J7+K7 -> 208250 | M7: =+L7*I7 -> 416500 | N7: 200000 | O7: =+N7*19% -> 38000 | P7: =+N7+O7 -> 238000 | Q7: =+P7*I7 -> 476000 | R7: 225000 | S7: =+R7*19% -> 42750 | T7: =+R7+S7 -> 267750 | U7: =+T7*I7 -> 535500 | V7: =AVERAGE(J7,N7,R7) -> 200000 | W7: =AVERAGE(K7,O7,S7) -> 38000 | X7: =AVERAGE(L7,P7,T7) -> 238000 | Y7: =AVERAGE(M7,Q7,U7) -> 476000
B8: 5 | C8: Campus de la Vereda Parcelas | D8: Inspección Segunda de Policia | E8: 1 | F8: 400 | G8: Litros (Lts) | H8: Elevado | I8: 2 | J8: 197000 | K8: =+J8*19% -> 37430 | L8: =+J8+K8 -> 234430 | M8: =+L8*I8 -> 468860 | N8: 160000 | O8: =+N8*19% -> 30400 | P8: =+N8+O8 -> 190400 | Q8: =+P8*I8 -> 380800 | R8: 175000 | S8: =+R8*19% -> 33250 | T8: =+R8+S8 -> 208250 | U8: =+T8*I8 -> 416500 | V8: =AVERAGE(J8,N8,R8) -> 177333.33 | W8: =AVERAGE(K8,O8,S8) -> 33693.333 | X8: =AVERAGE(L8,P8,T8) -> 211026.67 | Y8: =AVERAGE(M8,Q8,U8) -> 422053.33
B9: 6 | C9: Calle 14 #3-64 | D9: Comisaria | E9: 1 | F9: 400 | G9: Litros (Lts) | H9: Elevado | I9: 2 | J9: 197000 | K9: =+J9*19% -> 37430 | L9: =+J9+K9 -> 234430 | M9: =+L9*I9 -> 468860 | N9: 160000 | O9: =+N9*19% -> 30400 | P9: =+N9+O9 -> 190400 | Q9: =+P9*I9 -> 380800 | R9: 175000 | S9: =+R9*19% -> 33250 | T9: =+R9+S9 -> 208250 | U9: =+T9*I9 -> 416500 | V9: =AVERAGE(J9,N9,R9) -> 177333.33 | W9: =AVERAGE(K9,O9,S9) -> 33693.333 | X9: =AVERAGE(L9,P9,T9) -> 211026.67 | Y9: =AVERAGE(M9,Q9,U9) -> 422053.33
B10: 7 | C10: Km 1,5 via cota chia | D10: Estacion de policia | E10: 2 | F10: 25 | G10: Metros Cubicos (m3) | H10: Subterraneo | I10: 4 | J10: 235000 | K10: =+J10*19% -> 44650 | L10: =+J10+K10 -> 279650 | M10: =+L10*I10 -> 1118600 | N10: 260000 | O10: =+N10*19% -> 49400 | P10: =+N10+O10 -> 309400 | Q10: =+P10*I10 -> 1237600 | R10: 275000 | S10: =+R10*19% -> 52250 | T10: =+R10+S10 -> 327250 | U10: =+T10*I10 -> 1309000 | V10: =AVERAGE(J10,N10,R10) -> 256666.67 | W10: =AVERAGE(K10,O10,S10) -> 48766.667 | X10: =AVERAGE(L10,P10,T10) -> 305433.33 | Y10: =AVERAGE(M10,Q10,U10) -> 1221733.3
A11: SAMADE | B11: 8 | C11: Vereda Pueblo Viejo Km. 1,1 variante Cota -Chía -San Carlos. | D11: Sede Pueblo Viejo UMATA - Oficina | E11: 1 | F11: 2000 | G11: Litros (Lts) | H11: Elevado | I11: 2 | J11: 175000 | K11: =+J11*19% -> 33250 | L11: =+J11+K11 -> 208250 | M11: =+L11*I11 -> 416500 | N11: 200000 | O11: =+N11*19% -> 38000 | P11: =+N11+O11 -> 238000 | Q11: =+P11*I11 -> 476000 | R11: 225000 | S11: =+R11*19% -> 42750 | T11: =+R11+S11 -> 267750 | U11: =+T11*I11 -> 535500 | V11: =AVERAGE(J11,N11,R11) -> 200000 | W11: =AVERAGE(K11,O11,S11) -> 38000 | X11: =AVERAGE(L11,P11,T11) -> 238000 | Y11: =AVERAGE(M11,Q11,U11) -> 476000
B12: 9 | C12: Vereda Pueblo Viejo Km. 1,1 variante Cota -Chía -San Carlos. | D12: Sede Pueblo Viejo UMATA - Alvergue 3 - La Granja | E12: 4 | F12: 1000 | G12: Litros (Lts) | H12: Elevado | I12: 8 | J12: 197000 | K12: =+J12*19% -> 37430 | L12: =+J12+K12 -> 234430 | M12: =+L12*I12 -> 1875440 | N12: 160000 | O12: =+N12*19% -> 30400 | P12: =+N12+O12 -> 190400 | Q12: =+P12*I12 -> 1523200 | R12: 175000 | S12: =+R12*19% -> 33250 | T12: =+R12+S12 -> 208250 | U12: =+T12*I12 -> 1666000 | V12: =AVERAGE(J12,N12,R12) -> 177333.33 | W12: =AVERAGE(K12,O12,S12) -> 33693.333 | X12: =AVERAGE(L12,P12,T12) -> 211026.67 | Y12: =AVERAGE(M12,Q12,U12) -> 1688213.3
B13: 10 | C13: Vereda Pueblo Viejo Km. 1,1 variante Cota Chía -San Carlos | D13: Alvergue municipal 1 | E13: 3 | F13: 2000 | G13: Litros (Lts) | H13: Elevado | I13: 6 | J13: 175000 | K13: =+J13*19% -> 33250 | L13: =+J13+K13 -> 208250 | M13: =+L13*I13 -> 1249500 | N13: 200000 | O13: =+N13*19% -> 38000 | P13: =+N13+O13 -> 238000 | Q13: =+P13*I13 -> 1428000 | R13: 225000 | S13: =+R13*19% -> 42750 | T13: =+R13+S13 -> 267750 | U13: =+T13*I13 -> 1606500 | V13: =AVERAGE(J13,N13,R13) -> 200000 | W13: =AVERAGE(K13,O13,S13) -> 38000 | X13: =AVERAGE(L13,P13,T13) -> 238000 | Y13: =AVERAGE(M13,Q13,U13) -> 1428000
B14: 11 | C14: Vereda Pueblo Viejo Km. 1,1 variante Cota Chía -San Carlos | D14: Alvergue municipal 2 | E14: 4 | F14: 500 | G14: Litros (Lts) | H14: Elevado | I14: 8 | J14: 197000 | K14: =+J14*19% -> 37430 | L14: =+J14+K14 -> 234430 | M14: =+L14*I14 -> 1875440 | N14: 160000 | O14: =+N14*19% -> 30400 | P14: =+N14+O14 -> 190400 | Q14: =+P14*I14 -> 1523200 | R14: 175000 | S14: =+R14*19% -> 33250 | T14: =+R14+S14 -> 208250 | U14: =+T14*I14 -> 1666000 | V14: =AVERAGE(J14,N14,R14) -> 177333.33 | W14: =AVERAGE(K14,O14,S14) -> 33693.333 | X14: =AVERAGE(L14,P14,T14) -> 211026.67 | Y14: =AVERAGE(M14,Q14,U14) -> 1688213.3
B15: 12 | C15: Vereda Pueblo Viejo Km. 1,1 variante Cota Chía -San Carlos | D15: La Granja | E15: 3 | F15: 2000 | G15: Litros (Lts) | H15: Elevado | I15: 6 | J15: 175000 | K15: =+J15*19% -> 33250 | L15: =+J15+K15 -> 208250 | M15: =+L15*I15 -> 1249500 | N15: 200000 | O15: =+N15*19% -> 38000 | P15: =+N15+O15 -> 238000 | Q15: =+P15*I15 -> 1428000 | R15: 225000 | S15: =+R15*19% -> 42750 | T15: =+R15+S15 -> 267750 | U15: =+T15*I15 -> 1606500 | V15: =AVERAGE(J15,N15,R15) -> 200000 | W15: =AVERAGE(K15,O15,S15) -> 38000 | X15: =AVERAGE(L15,P15,T15) -> 238000 | Y15: =AVERAGE(M15,Q15,U15) -> 1428000
B16: 13 | C16: Cll. 3 N° 2B-180 La Gloria. | D16: Casa Social de la Mujer | E16: 1 | F16: 1000 | G16: Litros (Lts) | H16: Elevado | I16: 2 | J16: 197000 | K16: =+J16*19% -> 37430 | L16: =+J16+K16 -> 234430 | M16: =+L16*I16 -> 468860 | N16: 160000 | O16: =+N16*19% -> 30400 | P16: =+N16+O16 -> 190400 | Q16: =+P16*I16 -> 380800 | R16: 175000 | S16: =+R16*19% -> 33250 | T16: =+R16+S16 -> 208250 | U16: =+T16*I16 -> 416500 | V16: =AVERAGE(J16,N16,R16) -> 177333.33 | W16: =AVERAGE(K16,O16,S16) -> 33693.333 | X16: =AVERAGE(L16,P16,T16) -> 211026.67 | Y16: =AVERAGE(M16,Q16,U16) -> 422053.33
E17: 1 | F17: 1000 | G17: Litros (Lts) | H17: Elevado | I17: 2 | J17: 197000 | K17: =+J17*19% -> 37430 | L17: =+J17+K17 -> 234430 | M17: =+L17*I17 -> 468860 | N17: 160000 | O17: =+N17*19% -> 30400 | P17: =+N17+O17 -> 190400 | Q17: =+P17*I17 -> 380800 | R17: 175000 | S17: =+R17*19% -> 33250 | T17: =+R17+S17 -> 208250 | U17: =+T17*I17 -> 416500 | V17: =AVERAGE(J17,N17,R17) -> 177333.33 | W17: =AVERAGE(K17,O17,S17) -> 33693.333 | X17: =AVERAGE(L17,P17,T17) -> 211026.67 | Y17: =AVERAGE(M17,Q17,U17) -> 422053.33
E18: 1 | F18: 500 | G18: Litros (Lts) | H18: Elevado | I18: 2 | J18: 197000 | K18: =+J18*19% -> 37430 | L18: =+J18+K18 -> 234430 | M18: =+L18*I18 -> 468860 | N18: 160000 | O18: =+N18*19% -> 30400 | P18: =+N18+O18 -> 190400 | Q18: =+P18*I18 -> 380800 | R18: 175000 | S18: =+R18*19% -> 33250 | T18: =+R18+S18 -> 208250 | U18: =+T18*I18 -> 416500 | V18: =AVERAGE(J18,N18,R18) -> 177333.33 | W18: =AVERAGE(K18,O18,S18) -> 33693.333 | X18: =AVERAGE(L18,P18,T18) -> 211026.67 | Y18: =AVERAGE(M18,Q18,U18) -> 422053.33
B19: 14 | C19: Carrera 5 N° 9-24 | D19: Bodega deshidratadora | E19: 1 | F19: 500 | G19: Litros (Lts) | H19: Elevado | I19: 2 | J19: 197000 | K19: =+J19*19% -> 37430 | L19: =+J19+K19 -> 234430 | M19: =+L19*I19 -> 468860 | N19: 160000 | O19: =+N19*19% -> 30400 | P19: =+N19+O19 -> 190400 | Q19: =+P19*I19 -> 380800 | R19: 175000 | S19: =+R19*19% -> 33250 | T19: =+R19+S19 -> 208250 | U19: =+T19*I19 -> 416500 | V19: =AVERAGE(J19,N19,R19) -> 177333.33 | W19: =AVERAGE(K19,O19,S19) -> 33693.333 | X19: =AVERAGE(L19,P19,T19) -> 211026.67 | Y19: =AVERAGE(M19,Q19,U19) -> 422053.33
E20: 1 | F20: 500 | G20: Litros (Lts) | H20: Elevado | I20: 2 | J20: 197000 | K20: =+J20*19% -> 37430 | L20: =+J20+K20 -> 234430 | M20: =+L20*I20 -> 468860 | N20: 160000 | O20: =+N20*19% -> 30400 | P20: =+N20+O20 -> 190400 | Q20: =+P20*I20 -> 380800 | R20: 175000 | S20: =+R20*19% -> 33250 | T20: =+R20+S20 -> 208250 | U20: =+T20*I20 -> 416500 | V20: =AVERAGE(J20,N20,R20) -> 177333.33 | W20: =AVERAGE(K20,O20,S20) -> 33693.333 | X20: =AVERAGE(L20,P20,T20) -> 211026.67 | Y20: =AVERAGE(M20,Q20,U20) -> 422053.33
A21: CULTURA | B21: 15 | C21: Cra. 5 # 12 - 48 | D21: Casa de la Cultura - Sede Principal | E21: 1 | F21: 22 | G21: Metros Cubicos (m3) | H21: Subterraneo | I21: 2 | J21: 235000 | K21: =+J21*19% -> 44650 | L21: =+J21+K21 -> 279650 | M21: =+L21*I21 -> 559300 | N21: 260000 | O21: =+N21*19% -> 49400 | P21: =+N21+O21 -> 309400 | Q21: =+P21*I21 -> 618800 | R21: 275000 | S21: =+R21*19% -> 52250 | T21: =+R21+S21 -> 327250 | U21: =+T21*I21 -> 654500 | V21: =AVERAGE(J21,N21,R21) -> 256666.67 | W21: =AVERAGE(K21,O21,S21) -> 48766.667 | X21: =AVERAGE(L21,P21,T21) -> 305433.33 | Y21: =AVERAGE(M21,Q21,U21) -> 610866.67
B22: 16 | C22: Cra. 5 # 12 - 48 | D22: Biblioteca Municipal | E22: 1 | F22: 4 | G22: Metros Cubicos (m3) | H22: Subterraneo | I22: 2 | J22: 124000 | K22: =+J22*19% -> 23560 | L22: =+J22+K22 -> 147560 | M22: =+L22*I22 -> 295120 | N22: 130000 | O22: =+N22*19% -> 24700 | P22: =+N22+O22 -> 154700 | Q22: =+P22*I22 -> 309400 | R22: 145000 | S22: =+R22*19% -> 27550 | T22: =+R22+S22 -> 172550 | U22: =+T22*I22 -> 345100 | V22: =AVERAGE(J22,N22,R22) -> 133000 | W22: =AVERAGE(K22,O22,S22) -> 25270 | X22: =AVERAGE(L22,P22,T22) -> 158270 | Y22: =AVERAGE(M22,Q22,U22) -> 316540
B23: 17 | C23: Cra 2A # 13-84/88 | D23: Centro de Expresión Artística | E23: 1 | F23: 11 | G23: Metros Cubicos (m3) | H23: Subterraneo | I23: 2 | J23: 174000 | K23: =+J23*19% -> 33060 | L23: =+J23+K23 -> 207060 | M23: =+L23*I23 -> 414120 | N23: 220000 | O23: =+N23*19% -> 41800 | P23: =+N23+O23 -> 261800 | Q23: =+P23*I23 -> 523600 | R23: 225000 | S23: =+R23*19% -> 42750 | T23: =+R23+S23 -> 267750 | U23: =+T23*I23 -> 535500 | V23: =AVERAGE(J23,N23,R23) -> 206333.33 | W23: =AVERAGE(K23,O23,S23) -> 39203.333 | X23: =AVERAGE(L23,P23,T23) -> 245536.67 | Y23: =AVERAGE(M23,Q23,U23) -> 491073.33
B24: 18 | C24: Calle 13 # 3A - 29 | D24: Auditorio Casa de la Cultura | E24: 1 | F24: 7 | G24: Metros Cubicos (m3) | H24: Subterraneo | I24: 2 | J24: 124000 | K24: =+J24*19% -> 23560 | L24: =+J24+K24 -> 147560 | M24: =+L24*I24 -> 295120 | N24: 130000 | O24: =+N24*19% -> 24700 | P24: =+N24+O24 -> 154700 | Q24: =+P24*I24 -> 309400 | R24: 145000 | S24: =+R24*19% -> 27550 | T24: =+R24+S24 -> 172550 | U24: =+T24*I24 -> 345100 | V24: =AVERAGE(J24,N24,R24) -> 133000 | W24: =AVERAGE(K24,O24,S24) -> 25270 | X24: =AVERAGE(L24,P24,T24) -> 158270 | Y24: =AVERAGE(M24,Q24,U24) -> 316540
B25: 19 | C25: Sector Vuelta de la Trampa | D25: Casa de Cultura Bellas Artes | E25: 1 | F25: 15 | G25: Metros Cubicos (m3) | H25: Subterraneo | I25: 2 | J25: 174000 | K25: =+J25*19% -> 33060 | L25: =+J25+K25 -> 207060 | M25: =+L25*I25 -> 414120 | N25: 220000 | O25: =+N25*19% -> 41800 | P25: =+N25+O25 -> 261800 | Q25: =+P25*I25 -> 523600 | R25: 225000 | S25: =+R25*19% -> 42750 | T25: =+R25+S25 -> 267750 | U25: =+T25*I25 -> 535500 | V25: =AVERAGE(J25,N25,R25) -> 206333.33 | W25: =AVERAGE(K25,O25,S25) -> 39203.333 | X25: =AVERAGE(L25,P25,T25) -> 245536.67 | Y25: =AVERAGE(M25,Q25,U25) -> 491073.33
A26: DESARROLLO SOCIAL - ICBF | B26: 20 | C26: Km. 1 vía Cota - chía El Calabazo 1 | D26: Centro Renacer | E26: 2 | F26: 1000 | G26: Litros (Lts) | H26: Elevado | I26: 4 | J26: 197000 | K26: =+J26*19% -> 37430 | L26: =+J26+K26 -> 234430 | M26: =+L26*I26 -> 937720 | N26: 160000 | O26: =+N26*19% -> 30400 | P26: =+N26+O26 -> 190400 | Q26: =+P26*I26 -> 761600 | R26: 175000 | S26: =+R26*19% -> 33250 | T26: =+R26+S26 -> 208250 | U26: =+T26*I26 -> 833000 | V26: =AVERAGE(J26,N26,R26) -> 177333.33 | W26: =AVERAGE(K26,O26,S26) -> 33693.333 | X26: =AVERAGE(L26,P26,T26) -> 211026.67 | Y26: =AVERAGE(M26,Q26,U26) -> 844106.67
B27: 21 | C27: Cll.6 N° 6 -104 | D27: Jardín infantil Mi Dulce Esperanza | E27: 1 | F27: 2000 | G27: Litros (Lts) | H27: Elevado | I27: 2 | J27: 175000 | K27: =+J27*19% -> 33250 | L27: =+J27+K27 -> 208250 | M27: =+L27*I27 -> 416500 | N27: 200000 | O27: =+N27*19% -> 38000 | P27: =+N27+O27 -> 238000 | Q27: =+P27*I27 -> 476000 | R27: 225000 | S27: =+R27*19% -> 42750 | T27: =+R27+S27 -> 267750 | U27: =+T27*I27 -> 535500 | V27: =AVERAGE(J27,N27,R27) -> 200000 | W27: =AVERAGE(K27,O27,S27) -> 38000 | X27: =AVERAGE(L27,P27,T27) -> 238000 | Y27: =AVERAGE(M27,Q27,U27) -> 476000
B28: 22 | C28: Vereda La Moya - el altamizal | D28: Jardín infantil Líderes Del Cambio | E28: 1 | F28: 50 | G28: Metros Cubicos (m3) | H28: Subterraneo | I28: 2 | J28: 235000 | K28: =+J28*19% -> 44650 | L28: =+J28+K28 -> 279650 | M28: =+L28*I28 -> 559300 | N28: 260000 | O28: =+N28*19% -> 49400 | P28: =+N28+O28 -> 309400 | Q28: =+P28*I28 -> 618800 | R28: 275000 | S28: =+R28*19% -> 52250 | T28: =+R28+S28 -> 327250 | U28: =+T28*I28 -> 654500 | V28: =AVERAGE(J28,N28,R28) -> 256666.67 | W28: =AVERAGE(K28,O28,S28) -> 48766.667 | X28: =AVERAGE(L28,P28,T28) -> 305433.33 | Y28: =AVERAGE(M28,Q28,U28) -> 610866.67
B29: 23 | C29: Vereda Parcelas - Campus municipal - Dentro del Colegio Ruperto Melo | D29: Jardín infantil Personitas Felices | E29: 1 | F29: 2000 | G29: Litros (Lts) | H29: Elevado | I29: 2 | J29: 175000 | K29: =+J29*19% -> 33250 | L29: =+J29+K29 -> 208250 | M29: =+L29*I29 -> 416500 | N29: 200000 | O29: =+N29*19% -> 38000 | P29: =+N29+O29 -> 238000 | Q29: =+P29*I29 -> 476000 | R29: 225000 | S29: =+R29*19% -> 42750 | T29: =+R29+S29 -> 267750 | U29: =+T29*I29 -> 535500 | V29: =AVERAGE(J29,N29,R29) -> 200000 | W29: =AVERAGE(K29,O29,S29) -> 38000 | X29: =AVERAGE(L29,P29,T29) -> 238000 | Y29: =AVERAGE(M29,Q29,U29) -> 476000
B30: 24 | C30: Cll. 10 N° 3 -65 | D30: Jardín infantil Creciendo Juntos | E30: 1 | F30: 22 | G30: Metros Cubicos (m3) | H30: Subterraneo | I30: 2 | J30: 235000 | K30: =+J30*19% -> 44650 | L30: =+J30+K30 -> 279650 | M30: =+L30*I30 -> 559300 | N30: 260000 | O30: =+N30*19% -> 49400 | P30: =+N30+O30 -> 309400 | Q30: =+P30*I30 -> 618800 | R30: 275000 | S30: =+R30*19% -> 52250 | T30: =+R30+S30 -> 327250 | U30: =+T30*I30 -> 654500 | V30: =AVERAGE(J30,N30,R30) -> 256666.67 | W30: =AVERAGE(K30,O30,S30) -> 48766.667 | X30: =AVERAGE(L30,P30,T30) -> 305433.33 | Y30: =AVERAGE(M30,Q30,U30) -> 610866.67
B31: 25 | C31: Vereda Cetime | D31: Casa del adulto mayor | E31: 2 | F31: 500 | G31: Litros (Lts) | H31: Elevado | I31: 4 | J31: 197000 | K31: =+J31*19% -> 37430 | L31: =+J31+K31 -> 234430 | M31: =+L31*I31 -> 937720 | N31: 160000 | O31: =+N31*19% -> 30400 | P31: =+N31+O31 -> 190400 | Q31: =+P31*I31 -> 761600 | R31: 175000 | S31: =+R31*19% -> 33250 | T31: =+R31+S31 -> 208250 | U31: =+T31*I31 -> 833000 | V31: =AVERAGE(J31,N31,R31) -> 177333.33 | W31: =AVERAGE(K31,O31,S31) -> 33693.333 | X31: =AVERAGE(L31,P31,T31) -> 211026.67 | Y31: =AVERAGE(M31,Q31,U31) -> 844106.67
E32: 5 | F32: 1000 | G32: Litros (Lts) | H32: Elevado | I32: 10 | J32: 197000 | K32: =+J32*19% -> 37430 | L32: =+J32+K32 -> 234430 | M32: =+L32*I32 -> 2344300 | N32: 160000 | O32: =+N32*19% -> 30400 | P32: =+N32+O32 -> 190400 | Q32: =+P32*I32 -> 1904000 | R32: 175000 | S32: =+R32*19% -> 33250 | T32: =+R32+S32 -> 208250 | U32: =+T32*I32 -> 2082500 | V32: =AVERAGE(J32,N32,R32) -> 177333.33 | W32: =AVERAGE(K32,O32,S32) -> 33693.333 | X32: =AVERAGE(L32,P32,T32) -> 211026.67 | Y32: =AVERAGE(M32,Q32,U32) -> 2110266.7
B33: 26 | C33: Cra. 6 N°11-01 | D33: Jardín infantil El Amanecer - ICBF | E33: 1 | F33: 12 | G33: Metros Cubicos (m3) | H33: Subterraneo | I33: 2 | J33: 174000 | K33: =+J33*19% -> 33060 | L33: =+J33+K33 -> 207060 | M33: =+L33*I33 -> 414120 | N33: 220000 | O33: =+N33*19% -> 41800 | P33: =+N33+O33 -> 261800 | Q33: =+P33*I33 -> 523600 | R33: 225000 | S33: =+R33*19% -> 42750 | T33: =+R33+S33 -> 267750 | U33: =+T33*I33 -> 535500 | V33: =AVERAGE(J33,N33,R33) -> 206333.33 | W33: =AVERAGE(K33,O33,S33) -> 39203.333 | X33: =AVERAGE(L33,P33,T33) -> 245536.67 | Y33: =AVERAGE(M33,Q33,U33) -> 491073.33
E34: 2 | F34: 1000 | G34: Litros (Lts) | H34: Elevado | I34: 4 | J34: 197000 | K34: =+J34*19% -> 37430 | L34: =+J34+K34 -> 234430 | M34: =+L34*I34 -> 937720 | N34: 160000 | O34: =+N34*19% -> 30400 | P34: =+N34+O34 -> 190400 | Q34: =+P34*I34 -> 761600 | R34: 175000 | S34: =+R34*19% -> 33250 | T34: =+R34+S34 -> 208250 | U34: =+T34*I34 -> 833000 | V34: =AVERAGE(J34,N34,R34) -> 177333.33 | W34: =AVERAGE(K34,O34,S34) -> 33693.333 | X34: =AVERAGE(L34,P34,T34) -> 211026.67 | Y34: =AVERAGE(M34,Q34,U34) -> 844106.67
B35: 27 | C35: Cra. 7 N°14-119 | D35: Jardín De Cero a Siempre - ICBF | E35: 1 | F35: 12 | G35: Metros Cubicos (m3) | H35: Subterraneo | I35: 2 | J35: 174000 | K35: =+J35*19% -> 33060 | L35: =+J35+K35 -> 207060 | M35: =+L35*I35 -> 414120 | N35: 220000 | O35: =+N35*19% -> 41800 | P35: =+N35+O35 -> 261800 | Q35: =+P35*I35 -> 523600 | R35: 225000 | S35: =+R35*19% -> 42750 | T35: =+R35+S35 -> 267750 | U35: =+T35*I35 -> 535500 | V35: =AVERAGE(J35,N35,R35) -> 206333.33 | W35: =AVERAGE(K35,O35,S35) -> 39203.333 | X35: =AVERAGE(L35,P35,T35) -> 245536.67 | Y35: =AVERAGE(M35,Q35,U35) -> 491073.33
A36: RESGUARDO | B36: 28 | C36: Vereda El Abra | D36: Colegio y Jardin Ubamux | E36: 2 | F36: 5000 | G36: Litros (Lts) | H36: Elevado | I36: 4 | J36: 224000 | K36: =+J36*19% -> 42560 | L36: =+J36+K36 -> 266560 | M36: =+L36*I36 -> 1066240 | N36: 260000 | O36: =+N36*19% -> 49400 | P36: =+N36+O36 -> 309400 | Q36: =+P36*I36 -> 1237600 | R36: 275000 | S36: =+R36*19% -> 52250 | T36: =+R36+S36 -> 327250 | U36: =+T36*I36 -> 1309000 | V36: =AVERAGE(J36,N36,R36) -> 253000 | W36: =AVERAGE(K36,O36,S36) -> 48070 | X36: =AVERAGE(L36,P36,T36) -> 301070 | Y36: =AVERAGE(M36,Q36,U36) -> 1204280
E37: 1 | F37: 20 | G37: Metros Cubicos (m3) | H37: Subterraneo | I37: 2 | J37: 174000 | K37: =+J37*19% -> 33060 | L37: =+J37+K37 -> 207060 | M37: =+L37*I37 -> 414120 | N37: 220000 | O37: =+N37*19% -> 41800 | P37: =+N37+O37 -> 261800 | Q37: =+P37*I37 -> 523600 | R37: 225000 | S37: =+R37*19% -> 42750 | T37: =+R37+S37 -> 267750 | U37: =+T37*I37 -> 535500 | V37: =AVERAGE(J37,N37,R37) -> 206333.33 | W37: =AVERAGE(K37,O37,S37) -> 39203.333 | X37: =AVERAGE(L37,P37,T37) -> 245536.67 | Y37: =AVERAGE(M37,Q37,U37) -> 491073.33
A38: EDUCACIÓN | B38: 29 | C38: Vereda La Moya - Camellon de las Flores | D38: Colegio Departamental Enrique Pardo Parra | E38: 1 | F38: 20 | G38: Metros Cubicos (m3) | H38: Subterraneo | I38: 2 | J38: 174000 | K38: =+J38*19% -> 33060 | L38: =+J38+K38 -> 207060 | M38: =+L38*I38 -> 414120 | N38: 220000 | O38: =+N38*19% -> 41800 | P38: =+N38+O38 -> 261800 | Q38: =+P38*I38 -> 523600 | R38: 225000 | S38: =+R38*19% -> 42750 | T38: =+R38+S38 -> 267750 | U38: =+T38*I38 -> 535500 | V38: =AVERAGE(J38,N38,R38) -> 206333.33 | W38: =AVERAGE(K38,O38,S38) -> 39203.333 | X38: =AVERAGE(L38,P38,T38) -> 245536.67 | Y38: =AVERAGE(M38,Q38,U38) -> 491073.33
B39: 30 | C39: Vereda Parcelas- Parcelas 2 | D39: I.E.D Instituto Parcelas | E39: 1 | F39: 1000 | G39: Litros (Lts) | H39: Elevado | I39: 2 | J39: 197000 | K39: =+J39*19% -> 37430 | L39: =+J39+K39 -> 234430 | M39: =+L39*I39 -> 468860 | N39: 160000 | O39: =+N39*19% -> 30400 | P39: =+N39+O39 -> 190400 | Q39: =+P39*I39 -> 380800 | R39: 175000 | S39: =+R39*19% -> 33250 | T39: =+R39+S39 -> 208250 | U39: =+T39*I39 -> 416500 | V39: =AVERAGE(J39,N39,R39) -> 177333.33 | W39: =AVERAGE(K39,O39,S39) -> 33693.333 | X39: =AVERAGE(L39,P39,T39) -> 211026.67 | Y39: =AVERAGE(M39,Q39,U39) -> 422053.33
B40: 31 | C40: Vereda Rozo | D40: Escuela rural El Rozo | E40: 6 | F40: 1000 | G40: Litros (Lts) | H40: Elevado | I40: 12 | J40: 197000 | K40: =+J40*19% -> 37430 | L40: =+J40+K40 -> 234430 | M40: =+L40*I40 -> 2813160 | N40: 160000 | O40: =+N40*19% -> 30400 | P40: =+N40+O40 -> 190400 | Q40: =+P40*I40 -> 2284800 | R40: 175000 | S40: =+R40*19% -> 33250 | T40: =+R40+S40 -> 208250 | U40: =+T40*I40 -> 2499000 | V40: =AVERAGE(J40,N40,R40) -> 177333.33 | W40: =AVERAGE(K40,O40,S40) -> 33693.333 | X40: =AVERAGE(L40,P40,T40) -> 211026.67 | Y40: =AVERAGE(M40,Q40,U40) -> 2532320
B41: 32 | C41: Vereda La Moya | D41: Escuela rural La Moya | E41: 1 | F41: 5000 | G41: Litros (Lts) | H41: Elevado | I41: 2 | J41: 224000 | K41: =+J41*19% -> 42560 | L41: =+J41+K41 -> 266560 | M41: =+L41*I41 -> 533120 | N41: 260000 | O41: =+N41*19% -> 49400 | P41: =+N41+O41 -> 309400 | Q41: =+P41*I41 -> 618800 | R41: 275000 | S41: =+R41*19% -> 52250 | T41: =+R41+S41 -> 327250 | U41: =+T41*I41 -> 654500 | V41: =AVERAGE(J41,N41,R41) -> 253000 | W41: =AVERAGE(K41,O41,S41) -> 48070 | X41: =AVERAGE(L41,P41,T41) -> 301070 | Y41: =AVERAGE(M41,Q41,U41) -> 602140
E42: 1 | F42: 1000 | G42: Litros (Lts) | H42: Elevado | I42: 2 | J42: 197000 | K42: =+J42*19% -> 37430 | L42: =+J42+K42 -> 234430 | M42: =+L42*I42 -> 468860 | N42: 160000 | O42: =+N42*19% -> 30400 | P42: =+N42+O42 -> 190400 | Q42: =+P42*I42 -> 380800 | R42: 175000 | S42: =+R42*19% -> 33250 | T42: =+R42+S42 -> 208250 | U42: =+T42*I42 -> 416500 | V42: =AVERAGE(J42,N42,R42) -> 177333.33 | W42: =AVERAGE(K42,O42,S42) -> 33693.333 | X42: =AVERAGE(L42,P42,T42) -> 211026.67 | Y42: =AVERAGE(M42,Q42,U42) -> 422053.33
E43: 1 | F43: 10 | G43: Metros Cubicos (m3) | H43: Subterraneo | I43: 2 | J43: 174000 | K43: =+J43*19% -> 33060 | L43: =+J43+K43 -> 207060 | M43: =+L43*I43 -> 414120 | N43: 220000 | O43: =+N43*19% -> 41800 | P43: =+N43+O43 -> 261800 | Q43: =+P43*I43 -> 523600 | R43: 225000 | S43: =+R43*19% -> 42750 | T43: =+R43+S43 -> 267750 | U43: =+T43*I43 -> 535500 | V43: =AVERAGE(J43,N43,R43) -> 206333.33 | W43: =AVERAGE(K43,O43,S43) -> 39203.333 | X43: =AVERAGE(L43,P43,T43) -> 245536.67 | Y43: =AVERAGE(M43,Q43,U43) -> 491073.33
B44: 33 | C44: Cll. 14 N° 2B-56 | D44: Escuela rural Pueblo Viejo | E44: 1 | F44: 20 | G44: Metros Cubicos (m3) | H44: Subterraneo | I44: 2 | J44: 174000 | K44: =+J44*19% -> 33060 | L44: =+J44+K44 -> 207060 | M44: =+L44*I44 -> 414120 | N44: 220000 | O44: =+N44*19% -> 41800 | P44: =+N44+O44 -> 261800 | Q44: =+P44*I44 -> 523600 | R44: 225000 | S44: =+R44*19% -> 42750 | T44: =+R44+S44 -> 267750 | U44: =+T44*I44 -> 535500 | V44: =AVERAGE(J44,N44,R44) -> 206333.33 | W44: =AVERAGE(K44,O44,S44) -> 39203.333 | X44: =AVERAGE(L44,P44,T44) -> 245536.67 | Y44: =AVERAGE(M44,Q44,U44) -> 491073.33
B45: 34 | C45: Vereda Parcelas Lote 1 | D45: Escuela rural Ruperto Melo | E45: 4 | F45: 1000 | G45: Litros (Lts) | H45: Elevado | I45: 8 | J45: 197000 | K45: =+J45*19% -> 37430 | L45: =+J45+K45 -> 234430 | M45: =+L45*I45 -> 1875440 | N45: 160000 | O45: =+N45*19% -> 30400 | P45: =+N45+O45 -> 190400 | Q45: =+P45*I45 -> 1523200 | R45: 175000 | S45: =+R45*19% -> 33250 | T45: =+R45+S45 -> 208250 | U45: =+T45*I45 -> 1666000 | V45: =AVERAGE(J45,N45,R45) -> 177333.33 | W45: =AVERAGE(K45,O45,S45) -> 33693.333 | X45: =AVERAGE(L45,P45,T45) -> 211026.67 | Y45: =AVERAGE(M45,Q45,U45) -> 1688213.3
B46: 35 | C46: Vereda El Abra | D46: Escuela rural El Abra | E46: 1 | F46: 50 | G46: Metros Cubicos (m3) | H46: Subterraneo | I46: 2 | J46: 235000 | K46: =+J46*19% -> 44650 | L46: =+J46+K46 -> 279650 | M46: =+L46*I46 -> 559300 | N46: 260000 | O46: =+N46*19% -> 49400 | P46: =+N46+O46 -> 309400 | Q46: =+P46*I46 -> 618800 | R46: 275000 | S46: =+R46*19% -> 52250 | T46: =+R46+S46 -> 327250 | U46: =+T46*I46 -> 654500 | V46: =AVERAGE(J46,N46,R46) -> 256666.67 | W46: =AVERAGE(K46,O46,S46) -> 48766.667 | X46: =AVERAGE(L46,P46,T46) -> 305433.33 | Y46: =AVERAGE(M46,Q46,U46) -> 610866.67
B47: 36 | C47: Cll. 13 N° 2A BIS-06 | D47: Escuela Camilo Torres | E47: 1 | F47: 50 | G47: Metros Cubicos (m3) | H47: Subterraneo | I47: 2 | J47: 235000 | K47: =+J47*19% -> 44650 | L47: =+J47+K47 -> 279650 | M47: =+L47*I47 -> 559300 | N47: 260000 | O47: =+N47*19% -> 49400 | P47: =+N47+O47 -> 309400 | Q47: =+P47*I47 -> 618800 | R47: 275000 | S47: =+R47*19% -> 52250 | T47: =+R47+S47 -> 327250 | U47: =+T47*I47 -> 654500 | V47: =AVERAGE(J47,N47,R47) -> 256666.67 | W47: =AVERAGE(K47,O47,S47) -> 48766.667 | X47: =AVERAGE(L47,P47,T47) -> 305433.33 | Y47: =AVERAGE(M47,Q47,U47) -> 610866.67
B48: 37 | C48: Sector Vuelta de la Trampa - Frente al Centro Cultural | D48: Casa NADI | E48: 1 | F48: 30 | G48: Metros Cubicos (m3) | H48: Subterraneo | I48: 2 | J48: 235000 | K48: =+J48*19% -> 44650 | L48: =+J48+K48 -> 279650 | M48: =+L48*I48 -> 559300 | N48: 260000 | O48: =+N48*19% -> 49400 | P48: =+N48+O48 -> 309400 | Q48: =+P48*I48 -> 618800 | R48: 275000 | S48: =+R48*19% -> 52250 | T48: =+R48+S48 -> 327250 | U48: =+T48*I48 -> 654500 | V48: =AVERAGE(J48,N48,R48) -> 256666.67 | W48: =AVERAGE(K48,O48,S48) -> 48766.667 | X48: =AVERAGE(L48,P48,T48) -> 305433.33 | Y48: =AVERAGE(M48,Q48,U48) -> 610866.67
B49: 38 | C49: Cra. 6 N°15-01 | D49: Jardín Sol Solecito | E49: 3 | F49: 1000 | G49: Litros (Lts) | H49: Elevado | I49: 6 | J49: 197000 | K49: =+J49*19% -> 37430 | L49: =+J49+K49 -> 234430 | M49: =+L49*I49 -> 1406580 | N49: 160000 | O49: =+N49*19% -> 30400 | P49: =+N49+O49 -> 190400 | Q49: =+P49*I49 -> 1142400 | R49: 175000 | S49: =+R49*19% -> 33250 | T49: =+R49+S49 -> 208250 | U49: =+T49*I49 -> 1249500 | V49: =AVERAGE(J49,N49,R49) -> 177333.33 | W49: =AVERAGE(K49,O49,S49) -> 33693.333 | X49: =AVERAGE(L49,P49,T49) -> 211026.67 | Y49: =AVERAGE(M49,Q49,U49) -> 1266160
E50: 1 | F50: 14 | G50: Metros Cubicos (m3) | H50: Subterraneo | I50: 2 | J50: 174000 | K50: =+J50*19% -> 33060 | L50: =+J50+K50 -> 207060 | M50: =+L50*I50 -> 414120 | N50: 220000 | O50: =+N50*19% -> 41800 | P50: =+N50+O50 -> 261800 | Q50: =+P50*I50 -> 523600 | R50: 225000 | S50: =+R50*19% -> 42750 | T50: =+R50+S50 -> 267750 | U50: =+T50*I50 -> 535500 | V50: =AVERAGE(J50,N50,R50) -> 206333.33 | W50: =AVERAGE(K50,O50,S50) -> 39203.333 | X50: =AVERAGE(L50,P50,T50) -> 245536.67 | Y50: =AVERAGE(M50,Q50,U50) -> 491073.33
D51: No. TOTAL TANQUES | E51: =SUM(E2:E50) -> 80 | F51: No. TOTAL LAVADO DE TANQUES | I51: =SUM(I2:I50) -> 160 | M51: =SUM(M2:M50) -> 37061360 | Q51: =SUM(Q2:Q50) -> 35176400 | U51: =SUM(U2:U50) -> 38056200 | Y51: =AVERAGE(M51,Q51,U51) -> 36764653

Sheet GRAN TOTAL
F5: INVERKPITAL SAS | G5: SOLIX | I5: PROMEDIO
E6: Fumigación | F6: =+Fumigación!J63 -> 94088074 | G6: =+Fumigación!N63 -> 97939999 | H6: =+Fumigación!R63 -> 88846328 | I6: =AVERAGE(F6:H6) -> 93624800
E7: Desratizacion | F7: =+Desratizacion!J61+Desratizacion!J75 -> 85087694 | G7: =+Desratizacion!N61+Desratizacion!N75 -> 84574585 | H7: =+Desratizacion!R61+Desratizacion!R75 -> 86899807 | I7: =AVERAGE(F7:H7) -> 85520695
E8: Voladores | F8: =+Voladores!J10+Voladores!J23 -> 12202903 | G8: =+Voladores!N23+Voladores!N10 -> 13587956 | H8: =+Voladores!R10+Voladores!R23 -> 14564529 | I8: =AVERAGE(F8:H8) -> 13451796
E9: Tanques elevados y subterraneo | F9: =+'Tanques elevados y subterraneo '!M51 -> 37061360 | G9: =+'Tanques elevados y subterraneo '!Q51 -> 35176400 | H9: =+'Tanques elevados y subterraneo '!U51 -> 38056200 | I9: =AVERAGE(F9:H9) -> 36764653
E10: GRAN TOTAL | F10: =SUM(F6:F9) -> 2.2844003e+08 | G10: =SUM(G6:G9) -> 2.3127894e+08 | H10: =SUM(H6:H9) -> 2.2836686e+08 | I10: =AVERAGE(F10:H10) -> 2.2936194e+08
