Workbook

Sheet Fumigación
G1: INVERKPITAL SAS | K1: SOLIX | O1: VALCA | S1: PROMEDIO
B2: FUMIGACIÓN | G2: Valor unitario neto | H2: % IVA | I2: Valor Unitario con IVA (Si aplica) | J2: Valor TOTAL | K2: Valor unitario neto | L2: % IVA | M2: Valor Unitario con IVA (Si aplica) | N2: Valor TOTAL | O2: Valor unitario neto | P2: % IVA | Q2: Valor Unitario con IVA (Si aplica) | R2: Valor TOTAL | S2: Valor unitario neto | T2: % IVA | U2: Valor Unitario con IVA (Si aplica) | V2: Valor TOTAL
B3: ORDEN | C3: DIRECCIÓN | D3: DESCRIPCIÓN | E3: ÁREA DE INTERVENCIÓN (m2) APROX | F3: TOTAL DE FUMIGACIONES
A4: GOBIERNO | B4: 1 | C4: Cra. 4 N° 12-63 | D4: Alcaldía municipal - Sede principal | E4: 4800 | F4: 2 | G4: 1824000 | H4: =+G4*19% -> 346560 | I4: =+G4+H4 -> 2170560 | J4: =+I4*F4 -> 4341120 | K4: 1824000 | L4: =+K4*19% -> 346560 | M4: =+K4+L4 -> 2170560 | N4: =+M4*F4 -> 4341120 | O4: 1680000 | P4: =+O4*19% -> 319200 | Q4: =+O4+P4 -> 1999200 | R4: =+Q4*F4 -> 3998400 | S4: =AVERAGE(G4,K4,O4) -> 1776000 | T4: =AVERAGE(H4,L4,P4) -> 337440 | U4: =AVERAGE(I4,M4,Q4) -> 2113440 | V4: =AVERAGE(J4,N4,R4) -> 4226880
B5: 2 | C5: Cll. 11 N° 5-17 | D5: Polideportivo urbano y Parque Cuarto Centenario | E5: 1792 | F5: 2 | G5: 716800 | H5: =+G5*19% -> 136192 | I5: =+G5+H5 -> 852992 | J5: =+I5*F5 -> 1705984 | K5: 716800 | L5: =+K5*19% -> 136192 | M5: =+K5+L5 -> 852992 | N5: =+M5*F5 -> 1705984 | O5: 698880 | P5: =+O5*19% -> 132787.2 | Q5: =+O5+P5 -> 831667.2 | R5: =+Q5*F5 -> 1663334.4 | S5: =AVERAGE(G5,K5,O5) -> 710826.67 | T5: =AVERAGE(H5,L5,P5) -> 135057.07 | U5: =AVERAGE(I5,M5,Q5) -> 845883.73 | V5: =AVERAGE(J5,N5,R5) -> 1691767.5
B6: 3 | C6: Cll. 11 N° 5-17 | D6: Archivo Central - sede uno | E6: 520 | F6: 2 | G6: 405000 | H6: =+G6*19% -> 76950 | I6: =+G6+H6 -> 481950 | J6: =+I6*F6 -> 963900 | K6: 420000 | L6: =+K6*19% -> 79800 | M6: =+K6+L6 -> 499800 | N6: =+M6*F6 -> 999600 | O6: 400000 | P6: =+O6*19% -> 76000 | Q6: =+O6+P6 -> 476000 | R6: =+Q6*F6 -> 952000 | S6: =AVERAGE(G6,K6,O6) -> 408333.33 | T6: =AVERAGE(H6,L6,P6) -> 77583.333 | U6: =AVERAGE(I6,M6,Q6) -> 485916.67 | V6: =AVERAGE(J6,N6,R6) -> 971833.33
B7: 4 | C7: Cll. 11 N° 5-17 | D7: Gimnasio municipal | E7: 200 | F7: 2 | G7: 176000 | H7: =+G7*19% -> 33440 | I7: =+G7+H7 -> 209440 | J7: =+I7*F7 -> 418880 | K7: 190000 | L7: =+K7*19% -> 36100 | M7: =+K7+L7 -> 226100 | N7: =+M7*F7 -> 452200 | O7: 170000 | P7: =+O7*19% -> 32300 | Q7: =+O7+P7 -> 202300 | R7: =+Q7*F7 -> 404600 | S7: =AVERAGE(G7,K7,O7) -> 178666.67 | T7: =AVERAGE(H7,L7,P7) -> 33946.667 | U7: =AVERAGE(I7,M7,Q7) -> 212613.33 | V7: =AVERAGE(J7,N7,R7) -> 425226.67
B8: 5 | C8: Cll. 11 N° 5-17 | D8: Sala de velación | E8: 70 | F8: 2 | G8: 52500 | H8: =+G8*19% -> 9975 | I8: =+G8+H8 -> 62475 | J8: =+I8*F8 -> 124950 | K8: 55000 | L8: =+K8*19% -> 10450 | M8: =+K8+L8 -> 65450 | N8: =+M8*F8 -> 130900 | O8: 50000 | P8: =+O8*19% -> 9500 | Q8: =+O8+P8 -> 59500 | R8: =+Q8*F8 -> 119000 | S8: =AVERAGE(G8,K8,O8) -> 52500 | T8: =AVERAGE(H8,L8,P8) -> 9975 | U8: =AVERAGE(I8,M8,Q8) -> 62475 | V8: =AVERAGE(J8,N8,R8) -> 124950
B9: 6 | C9: Cra. 5 N° 12-48 | D9: Parque Principal Luis Carlos Galan | E9: 4275 | F9: 2 | G9: 1624500 | H9: =+G9*19% -> 308655 | I9: =+G9+H9 -> 1933155 | J9: =+I9*F9 -> 3866310 | K9: 1624500 | L9: =+K9*19% -> 308655 | M9: =+K9+L9 -> 1933155 | N9: =+M9*F9 -> 3866310 | O9: 1496250 | P9: =+O9*19% -> 284287.5 | Q9: =+O9+P9 -> 1780537.5 | R9: =+Q9*F9 -> 3561075 | S9: =AVERAGE(G9,K9,O9) -> 1581750 | T9: =AVERAGE(H9,L9,P9) -> 300532.5 | U9: =AVERAGE(I9,M9,Q9) -> 1882282.5 | V9: =AVERAGE(J9,N9,R9) -> 3764565
B10: 7 | C10: Cra. 6 N° 13-28 | D10: Inspección Primera de Policia, Archivo sede dos y bodegas (1 y 2 piso) | E10: 150 | F10: 2 | G10: 97000 | H10: =+G10*19% -> 18430 | I10: =+G10+H10 -> 115430 | J10: =+I10*F10 -> 230860 | K10: 100000 | L10: =+K10*19% -> 19000 | M10: =+K10+L10 -> 119000 | N10: =+M10*F10 -> 238000 | O10: 90000 | P10: =+O10*19% -> 17100 | Q10: =+O10+P10 -> 107100 | R10: =+Q10*F10 -> 214200 | S10: =AVERAGE(G10,K10,O10) -> 95666.667 | T10: =AVERAGE(H10,L10,P10) -> 18176.667 | U10: =AVERAGE(I10,M10,Q10) -> 113843.33 | V10: =AVERAGE(J10,N10,R10) -> 227686.67
B11: 8 | C11: Vereda Parcelas - Campus parcelas | D11: Inspección Segunda de Policia | E11: 64 | F11: 2 | G11: 52500 | H11: =+G11*19% -> 9975 | I11: =+G11+H11 -> 62475 | J11: =+I11*F11 -> 124950 | K11: 55000 | L11: =+K11*19% -> 10450 | M11: =+K11+L11 -> 65450 | N11: =+M11*F11 -> 130900 | O11: 50000 | P11: =+O11*19% -> 9500 | Q11: =+O11+P11 -> 59500 | R11: =+Q11*F11 -> 119000 | S11: =AVERAGE(G11,K11,O11) -> 52500 | T11: =AVERAGE(H11,L11,P11) -> 9975 | U11: =AVERAGE(I11,M11,Q11) -> 62475 | V11: =AVERAGE(J11,N11,R11) -> 124950
B12: 9 | C12: Cra. 3 N°12-07 | D12: Bodega de inservibles - Almacen | E12: 125 | F12: 2 | G12: 97000 | H12: =+G12*19% -> 18430 | I12: =+G12+H12 -> 115430 | J12: =+I12*F12 -> 230860 | K12: 100000 | L12: =+K12*19% -> 19000 | M12: =+K12+L12 -> 119000 | N12: =+M12*F12 -> 238000 | O12: 90000 | P12: =+O12*19% -> 17100 | Q12: =+O12+P12 -> 107100 | R12: =+Q12*F12 -> 214200 | S12: =AVERAGE(G12,K12,O12) -> 95666.667 | T12: =AVERAGE(H12,L12,P12) -> 18176.667 | U12: =AVERAGE(I12,M12,Q12) -> 113843.33 | V12: =AVERAGE(J12,N12,R12) -> 227686.67
B13: 10 | C13: Vereda La Moya | D13: Bodega de inservibles - Almacen | E13: 178 | F13: 2 | G13: 97000 | H13: =+G13*19% -> 18430 | I13: =+G13+H13 -> 115430 | J13: =+I13*F13 -> 230860 | K13: 100000 | L13: =+K13*19% -> 19000 | M13: =+K13+L13 -> 119000 | N13: =+M13*F13 -> 238000 | O13: 90000 | P13: =+O13*19% -> 17100 | Q13: =+O13+P13 -> 107100 | R13: =+Q13*F13 -> 214200 | S13: =AVERAGE(G13,K13,O13) -> 95666.667 | T13: =AVERAGE(H13,L13,P13) -> 18176.667 | U13: =AVERAGE(I13,M13,Q13) -> 113843.33 | V13: =AVERAGE(J13,N13,R13) -> 227686.67
B14: 11 | C14: Cra. 5 N° 1-97- Centro Comercial Cedro Mall. | D14: Almacen municipal - sede Centro Comercial Cedro Mall | E14: 115 | F14: 2 | G14: 97000 | H14: =+G14*19% -> 18430 | I14: =+G14+H14 -> 115430 | J14: =+I14*F14 -> 230860 | K14: 100000 | L14: =+K14*19% -> 19000 | M14: =+K14+L14 -> 119000 | N14: =+M14*F14 -> 238000 | O14: 90000 | P14: =+O14*19% -> 17100 | Q14: =+O14+P14 -> 107100 | R14: =+Q14*F14 -> 214200 | S14: =AVERAGE(G14,K14,O14) -> 95666.667 | T14: =AVERAGE(H14,L14,P14) -> 18176.667 | U14: =AVERAGE(I14,M14,Q14) -> 113843.33 | V14: =AVERAGE(J14,N14,R14) -> 227686.67
B15: 12 | C15: Calle 14 #3-64 | D15: Comisaria | E15: 170 | F15: 2 | G15: 97000 | H15: =+G15*19% -> 18430 | I15: =+G15+H15 -> 115430 | J15: =+I15*F15 -> 230860 | K15: 100000 | L15: =+K15*19% -> 19000 | M15: =+K15+L15 -> 119000 | N15: =+M15*F15 -> 238000 | O15: 90000 | P15: =+O15*19% -> 17100 | Q15: =+O15+P15 -> 107100 | R15: =+Q15*F15 -> 214200 | S15: =AVERAGE(G15,K15,O15) -> 95666.667 | T15: =AVERAGE(H15,L15,P15) -> 18176.667 | U15: =AVERAGE(I15,M15,Q15) -> 113843.33 | V15: =AVERAGE(J15,N15,R15) -> 227686.67
B16: 13 | C16: Cra. 4 N° 11-41 | D16: Archivo sede tres - Bajando por el BBVA | E16: 64 | F16: 2 | G16: 52500 | H16: =+G16*19% -> 9975 | I16: =+G16+H16 -> 62475 | J16: =+I16*F16 -> 124950 | K16: 55000 | L16: =+K16*19% -> 10450 | M16: =+K16+L16 -> 65450 | N16: =+M16*F16 -> 130900 | O16: 50000 | P16: =+O16*19% -> 9500 | Q16: =+O16+P16 -> 59500 | R16: =+Q16*F16 -> 119000 | S16: =AVERAGE(G16,K16,O16) -> 52500 | T16: =AVERAGE(H16,L16,P16) -> 9975 | U16: =AVERAGE(I16,M16,Q16) -> 62475 | V16: =AVERAGE(J16,N16,R16) -> 124950
... B18: 15 | C18: Km. 1, vía Cota - Chía- frente a la oficina administrativa del IMRD Cota. | D18: Estación de Policía | E18: 300 | F18: 2 | G18: 176000 | H18: =+G18*19% -> 33440 | I18: =+G18+H18 -> 209440 | J18: =+I18*F18 -> 418880 | K18: 190000 | L18: =+K18*19% -> 36100 | M18: =+K18+L18 -> 226100 | N18: =+M18*F18 -> 452200 | O18: 170000 | P18: =+O18*19% -> 32300 | Q18: =+O18+P18 -> 202300 | R18: =+Q18*F18 -> 404600 | S18: =AVERAGE(G18,K18,O18) -> 178666.67 | T18: =AVERAGE(H18,L18,P18) -> 33946.667 | U18: =AVERAGE(I18,M18,Q18) -> 212613.33 | V18: =AVERAGE(J18,N18,R18) -> 425226.67
A19: SAMADE | B19: 16 | C19: Cra. 5 N° 1-97- Centro Comercial Cedro Mall. | D19: OFICINAS LOCALIZADAS EN CEDRO MALL | E19: 320 | F19: 2 | G19: 176000 | H19: =+G19*19% -> 33440 | I19: =+G19+H19 -> 209440 | J19: =+I19*F19 -> 418880 | K19: 190000 | L19: =+K19*19% -> 36100 | M19: =+K19+L19 -> 226100 | N19: =+M19*F19 -> 452200 | O19: 170000 | P19: =+O19*19% -> 32300 | Q19: =+O19+P19 -> 202300 | R19: =+Q19*F19 -> 404600 | S19: =AVERAGE(G19,K19,O19) -> 178666.67 | T19: =AVERAGE(H19,L19,P19) -> 33946.667 | U19: =AVERAGE(I19,M19,Q19) -> 212613.33 | V19: =AVERAGE(J19,N19,R19) -> 425226.67
B20: 17 | C20: Vereda Cetime - carrera 9 - sector vuelta la trampa - lote la Marimonda | D20: Lote arriendo maquinaria agrícola | E20: 600 | F20: 2 | G20: 405000 | H20: =+G20*19% -> 76950 | I20: =+G20+H20 -> 481950 | J20: =+I20*F20 -> 963900 | K20: 420000 | L20: =+K20*19% -> 79800 | M20: =+K20+L20 -> 499800 | N20: =+M20*F20 -> 999600 | O20: 400000 | P20: =+O20*19% -> 76000 | Q20: =+O20+P20 -> 476000 | R20: =+Q20*F20 -> 952000 | S20: =AVERAGE(G20,K20,O20) -> 408333.33 | T20: =AVERAGE(H20,L20,P20) -> 77583.333 | U20: =AVERAGE(I20,M20,Q20) -> 485916.67 | V20: =AVERAGE(J20,N20,R20) -> 971833.33
B21: 18 | C21: Vereda Pueblo Viejo Km. 1,1 variante Cota -Chía -San Carlos. | D21: Sede Pueblo Viejo UMATA - Alvergue 3 - La Granja | E21: 471 | F21: 2 | G21: 176000 | H21: =+G21*19% -> 33440 | I21: =+G21+H21 -> 209440 | J21: =+I21*F21 -> 418880 | K21: 190000 | L21: =+K21*19% -> 36100 | M21: =+K21+L21 -> 226100 | N21: =+M21*F21 -> 452200 | O21: 170000 | P21: =+O21*19% -> 32300 | Q21: =+O21+P21 -> 202300 | R21: =+Q21*F21 -> 404600 | S21: =AVERAGE(G21,K21,O21) -> 178666.67 | T21: =AVERAGE(H21,L21,P21) -> 33946.667 | U21: =AVERAGE(I21,M21,Q21) -> 212613.33 | V21: =AVERAGE(J21,N21,R21) -> 425226.67
B22: 19 | C22: Vereda Pueblo Viejo Km. 1,1 variante Cota Chía -San Carlos | D22: Abergue municipal 1, corral de esparcimiento y cuarto residuos especiales | E22: 60 | F22: 2 | G22: 52500 | H22: =+G22*19% -> 9975 | I22: =+G22+H22 -> 62475 | J22: =+I22*F22 -> 124950 | K22: 55000 | L22: =+K22*19% -> 10450 | M22: =+K22+L22 -> 65450 | N22: =+M22*F22 -> 130900 | O22: 50000 | P22: =+O22*19% -> 9500 | Q22: =+O22+P22 -> 59500 | R22: =+Q22*F22 -> 119000 | S22: =AVERAGE(G22,K22,O22) -> 52500 | T22: =AVERAGE(H22,L22,P22) -> 9975 | U22: =AVERAGE(I22,M22,Q22) -> 62475 | V22: =AVERAGE(J22,N22,R22) -> 124950
B23: 20 | C23: Vereda Pueblo Viejo Km. 1,1 variante Cota Chía -San Carlos | D23: Alvergue municipal 2 y corrales de esparcimiento | E23: 660 | F23: 2 | G23: 405000 | H23: =+G23*19% -> 76950 | I23: =+G23+H23 -> 481950 | J23: =+I23*F23 -> 963900 | K23: 420000 | L23: =+K23*19% -> 79800 | M23: =+K23+L23 -> 499800 | N23: =+M23*F23 -> 999600 | O23: 400000 | P23: =+O23*19% -> 76000 | Q23: =+O23+P23 -> 476000 | R23: =+Q23*F23 -> 952000 | S23: =AVERAGE(G23,K23,O23) -> 408333.33 | T23: =AVERAGE(H23,L23,P23) -> 77583.333 | U23: =AVERAGE(I23,M23,Q23) -> 485916.67 | V23: =AVERAGE(J23,N23,R23) -> 971833.33
B24: 21 | C24: Vereda Pueblo Viejo Km. 1,1 variante Cota Chía -San Carlos | D24: Consultorio veterinario, Obsercación, Oficina y areas comunes | E24: 122 | F24: 2 | G24: 97000 | H24: =+G24*19% -> 18430 | I24: =+G24+H24 -> 115430 | J24: =+I24*F24 -> 230860 | K24: 100000 | L24: =+K24*19% -> 19000 | M24: =+K24+L24 -> 119000 | N24: =+M24*F24 -> 238000 | O24: 90000 | P24: =+O24*19% -> 17100 | Q24: =+O24+P24 -> 107100 | R24: =+Q24*F24 -> 214200 | S24: =AVERAGE(G24,K24,O24) -> 95666.667 | T24: =AVERAGE(H24,L24,P24) -> 18176.667 | U24: =AVERAGE(I24,M24,Q24) -> 113843.33 | V24: =AVERAGE(J24,N24,R24) -> 227686.67
B25: 22 | C25: Vereda Pueblo Viejo Km. 1,1 variante Cota Chía -San Carlos | D25: Quirofanos | E25: 42 | F25: 2 | G25: 52500 | H25: =+G25*19% -> 9975 | I25: =+G25+H25 -> 62475 | J25: =+I25*F25 -> 124950 | K25: 55000 | L25: =+K25*19% -> 10450 | M25: =+K25+L25 -> 65450 | N25: =+M25*F25 -> 130900 | O25: 50000 | P25: =+O25*19% -> 9500 | Q25: =+O25+P25 -> 59500 | R25: =+Q25*F25 -> 119000 | S25: =AVERAGE(G25,K25,O25) -> 52500 | T25: =AVERAGE(H25,L25,P25) -> 9975 | U25: =AVERAGE(I25,M25,Q25) -> 62475 | V25: =AVERAGE(J25,N25,R25) -> 124950
B26: 23 | C26: Vereda Pueblo Viejo Km. 1,1 variante Cota Chía -San Carlos | D26: Almacen de insumos veterinarios | E26: 36 | F26: 2 | G26: 52500 | H26: =+G26*19% -> 9975 | I26: =+G26+H26 -> 62475 | J26: =+I26*F26 -> 124950 | K26: 55000 | L26: =+K26*19% -> 10450 | M26: =+K26+L26 -> 65450 | N26: =+M26*F26 -> 130900 | O26: 50000 | P26: =+O26*19% -> 9500 | Q26: =+O26+P26 -> 59500 | R26: =+Q26*F26 -> 119000 | S26: =AVERAGE(G26,K26,O26) -> 52500 | T26: =AVERAGE(H26,L26,P26) -> 9975 | U26: =AVERAGE(I26,M26,Q26) -> 62475 | V26: =AVERAGE(J26,N26,R26) -> 124950
B27: 24 | C27: Vereda Pueblo Viejo Km. 1,1 variante Cota Chía -San Carlos | D27: La Granja | E27: 820 | F27: 2 | G27: 405000 | H27: =+G27*19% -> 76950 | I27: =+G27+H27 -> 481950 | J27: =+I27*F27 -> 963900 | K27: 420000 | L27: =+K27*19% -> 79800 | M27: =+K27+L27 -> 499800 | N27: =+M27*F27 -> 999600 | O27: 400000 | P27: =+O27*19% -> 76000 | Q27: =+O27+P27 -> 476000 | R27: =+Q27*F27 -> 952000 | S27: =AVERAGE(G27,K27,O27) -> 408333.33 | T27: =AVERAGE(H27,L27,P27) -> 77583.333 | U27: =AVERAGE(I27,M27,Q27) -> 485916.67 | V27: =AVERAGE(J27,N27,R27) -> 971833.33
B28: 25 | C28: Vereda Pueblo Viejo Km. 1,1 variante Cota Chía -San Carlos | D28: Lombricultivo y Compostero | E28: 117 | F28: 2 | G28: 97000 | H28: =+G28*19% -> 18430 | I28: =+G28+H28 -> 115430 | J28: =+I28*F28 -> 230860 | K28: 100000 | L28: =+K28*19% -> 19000 | M28: =+K28+L28 -> 119000 | N28: =+M28*F28 -> 238000 | O28: 90000 | P28: =+O28*19% -> 17100 | Q28: =+O28+P28 -> 107100 | R28: =+Q28*F28 -> 214200 | S28: =AVERAGE(G28,K28,O28) -> 95666.667 | T28: =AVERAGE(H28,L28,P28) -> 18176.667 | U28: =AVERAGE(I28,M28,Q28) -> 113843.33 | V28: =AVERAGE(J28,N28,R28) -> 227686.67
B29: 26 | C29: Vereda Pueblo Viejo Km. 1,1 variante Cota Chía -San Carlos | D29: Centro de acopio de residuos solidos | E29: 318 | F29: 2 | G29: 176000 | H29: =+G29*19% -> 33440 | I29: =+G29+H29 -> 209440 | J29: =+I29*F29 -> 418880 | K29: 190000 | L29: =+K29*19% -> 36100 | M29: =+K29+L29 -> 226100 | N29: =+M29*F29 -> 452200 | O29: 170000 | P29: =+O29*19% -> 32300 | Q29: =+O29+P29 -> 202300 | R29: =+Q29*F29 -> 404600 | S29: =AVERAGE(G29,K29,O29) -> 178666.67 | T29: =AVERAGE(H29,L29,P29) -> 33946.667 | U29: =AVERAGE(I29,M29,Q29) -> 212613.33 | V29: =AVERAGE(J29,N29,R29) -> 425226.67
B30: 27 | C30: Carrera 5 N° 9-24 | D30: Bodega deshidratadora | E30: 210 | F30: 2 | G30: 176000 | H30: =+G30*19% -> 33440 | I30: =+G30+H30 -> 209440 | J30: =+I30*F30 -> 418880 | K30: 190000 | L30: =+K30*19% -> 36100 | M30: =+K30+L30 -> 226100 | N30: =+M30*F30 -> 452200 | O30: 170000 | P30: =+O30*19% -> 32300 | Q30: =+O30+P30 -> 202300 | R30: =+Q30*F30 -> 404600 | S30: =AVERAGE(G30,K30,O30) -> 178666.67 | T30: =AVERAGE(H30,L30,P30) -> 33946.667 | U30: =AVERAGE(I30,M30,Q30) -> 212613.33 | V30: =AVERAGE(J30,N30,R30) -> 425226.67
B31: 28 | C31: Cll. 3 N° 2B-180 La Gloria. | D31: Casa Social de la Mujer | E31: 341 | F31: 2 | G31: 176000 | H31: =+G31*19% -> 33440 | I31: =+G31+H31 -> 209440 | J31: =+I31*F31 -> 418880 | K31: 190000 | L31: =+K31*19% -> 36100 | M31: =+K31+L31 -> 226100 | N31: =+M31*F31 -> 452200 | O31: 170000 | P31: =+O31*19% -> 32300 | Q31: =+O31+P31 -> 202300 | R31: =+Q31*F31 -> 404600 | S31: =AVERAGE(G31,K31,O31) -> 178666.67 | T31: =AVERAGE(H31,L31,P31) -> 33946.667 | U31: =AVERAGE(I31,M31,Q31) -> 212613.33 | V31: =AVERAGE(J31,N31,R31) -> 425226.67
A32: CULTURA | B32: 29 | C32: Cra. 5 N° 12-48 | D32: Casa de la Cultura - Sede Proncopal | E32: 652 | F32: 2 | G32: 405000 | H32: =+G32*19% -> 76950 | I32: =+G32+H32 -> 481950 | J32: =+I32*F32 -> 963900 | K32: 420000 | L32: =+K32*19% -> 79800 | M32: =+K32+L32 -> 499800 | N32: =+M32*F32 -> 999600 | O32: 400000 | P32: =+O32*19% -> 76000 | Q32: =+O32+P32 -> 476000 | R32: =+Q32*F32 -> 952000 | S32: =AVERAGE(G32,K32,O32) -> 408333.33 | T32: =AVERAGE(H32,L32,P32) -> 77583.333 | U32: =AVERAGE(I32,M32,Q32) -> 485916.67 | V32: =AVERAGE(J32,N32,R32) -> 971833.33
B33: 30 | C33: Cra. 5 N° 12-48 | D33: Biblioteca municipal Héctor Hernando Gonzales | E33: 154 | F33: 2 | G33: 97000 | H33: =+G33*19% -> 18430 | I33: =+G33+H33 -> 115430 | J33: =+I33*F33 -> 230860 | K33: 100000 | L33: =+K33*19% -> 19000 | M33: =+K33+L33 -> 119000 | N33: =+M33*F33 -> 238000 | O33: 90000 | P33: =+O33*19% -> 17100 | Q33: =+O33+P33 -> 107100 | R33: =+Q33*F33 -> 214200 | S33: =AVERAGE(G33,K33,O33) -> 95666.667 | T33: =AVERAGE(H33,L33,P33) -> 18176.667 | U33: =AVERAGE(I33,M33,Q33) -> 113843.33 | V33: =AVERAGE(J33,N33,R33) -> 227686.67
B34: 31 | C34: Cra. 2 A N° 13--88 | D34: Centro expresión artístico - CEA | E34: 352 | F34: 2 | G34: 176000 | H34: =+G34*19% -> 33440 | I34: =+G34+H34 -> 209440 | J34: =+I34*F34 -> 418880 | K34: 190000 | L34: =+K34*19% -> 36100 | M34: =+K34+L34 -> 226100 | N34: =+M34*F34 -> 452200 | O34: 170000 | P34: =+O34*19% -> 32300 | Q34: =+O34+P34 -> 202300 | R34: =+Q34*F34 -> 404600 | S34: =AVERAGE(G34,K34,O34) -> 178666.67 | T34: =AVERAGE(H34,L34,P34) -> 33946.667 | U34: =AVERAGE(I34,M34,Q34) -> 212613.33 | V34: =AVERAGE(J34,N34,R34) -> 425226.67
B35: 32 | C35: Cll. 13 N° 3A - 29 | D35: Auditorio casa de la cultura | E35: 172 | F35: 2 | G35: 97000 | H35: =+G35*19% -> 18430 | I35: =+G35+H35 -> 115430 | J35: =+I35*F35 -> 230860 | K35: 100000 | L35: =+K35*19% -> 19000 | M35: =+K35+L35 -> 119000 | N35: =+M35*F35 -> 238000 | O35: 90000 | P35: =+O35*19% -> 17100 | Q35: =+O35+P35 -> 107100 | R35: =+Q35*F35 -> 214200 | S35: =AVERAGE(G35,K35,O35) -> 95666.667 | T35: =AVERAGE(H35,L35,P35) -> 18176.667 | U35: =AVERAGE(I35,M35,Q35) -> 113843.33 | V35: =AVERAGE(J35,N35,R35) -> 227686.67
B36: 33 | C36: Sector Vuelta de la trampa | D36: Casa de bellas arte vuelta de la trampa | E36: 490 | F36: 2 | G36: 176000 | H36: =+G36*19% -> 33440 | I36: =+G36+H36 -> 209440 | J36: =+I36*F36 -> 418880 | K36: 190000 | L36: =+K36*19% -> 36100 | M36: =+K36+L36 -> 226100 | N36: =+M36*F36 -> 452200 | O36: 170000 | P36: =+O36*19% -> 32300 | Q36: =+O36+P36 -> 202300 | R36: =+Q36*F36 -> 404600 | S36: =AVERAGE(G36,K36,O36) -> 178666.67 | T36: =AVERAGE(H36,L36,P36) -> 33946.667 | U36: =AVERAGE(I36,M36,Q36) -> 212613.33 | V36: =AVERAGE(J36,N36,R36) -> 425226.67
B37: 34 | C37: Calle 11 # 4 - 07 | D37: Casa del arte | E37: 510 | F37: 2 | G37: 405000 | H37: =+G37*19% -> 76950 | I37: =+G37+H37 -> 481950 | J37: =+I37*F37 -> 963900 | K37: 420000 | L37: =+K37*19% -> 79800 | M37: =+K37+L37 -> 499800 | N37: =+M37*F37 -> 999600 | O37: 400000 | P37: =+O37*19% -> 76000 | Q37: =+O37+P37 -> 476000 | R37: =+Q37*F37 -> 952000 | S37: =AVERAGE(G37,K37,O37) -> 408333.33 | T37: =AVERAGE(H37,L37,P37) -> 77583.333 | U37: =AVERAGE(I37,M37,Q37) -> 485916.67 | V37: =AVERAGE(J37,N37,R37) -> 971833.33
A38: DESARROLLO SOCIAL - ICBF | B38: 35 | C38: Km. 1 vía Cota - chía El Calabazo 1 | D38: Centro Renacer | E38: 2444 | F38: 2 | G38: 921388 | H38: =+G38*19% -> 175063.72 | I38: =+G38+H38 -> 1096451.7 | J38: =+I38*F38 -> 2192903.4 | K38: 977600 | L38: =+K38*19% -> 185744 | M38: =+K38+L38 -> 1163344 | N38: =+M38*F38 -> 2326688 | O38: 953160 | P38: =+O38*19% -> 181100.4 | Q38: =+O38+P38 -> 1134260.4 | R38: =+Q38*F38 -> 2268520.8 | S38: =AVERAGE(G38,K38,O38) -> 950716 | T38: =AVERAGE(H38,L38,P38) -> 180636.04 | U38: =AVERAGE(I38,M38,Q38) -> 1131352 | V38: =AVERAGE(J38,N38,R38) -> 2262704.1
B39: 36 | C39: Cll.6 N° 6 -104 | D39: Jardín infantil Mi Dulce Esperanza | E39: 154 | F39: 2 | G39: 97000 | H39: =+G39*19% -> 18430 | I39: =+G39+H39 -> 115430 | J39: =+I39*F39 -> 230860 | K39: 100000 | L39: =+K39*19% -> 19000 | M39: =+K39+L39 -> 119000 | N39: =+M39*F39 -> 238000 | O39: 90000 | P39: =+O39*19% -> 17100 | Q39: =+O39+P39 -> 107100 | R39: =+Q39*F39 -> 214200 | S39: =AVERAGE(G39,K39,O39) -> 95666.667 | T39: =AVERAGE(H39,L39,P39) -> 18176.667 | U39: =AVERAGE(I39,M39,Q39) -> 113843.33 | V39: =AVERAGE(J39,N39,R39) -> 227686.67
B40: 37 | C40: Vereda La Moya - el altamizal | D40: Jardín infantil Líderes del Cambio | E40: 1080 | F40: 2 | G40: 407160 | H40: =+G40*19% -> 77360.4 | I40: =+G40+H40 -> 484520.4 | J40: =+I40*F40 -> 969040.8 | K40: 432000 | L40: =+K40*19% -> 82080 | M40: =+K40+L40 -> 514080 | N40: =+M40*F40 -> 1028160 | O40: 421200 | P40: =+O40*19% -> 80028 | Q40: =+O40+P40 -> 501228 | R40: =+Q40*F40 -> 1002456 | S40: =AVERAGE(G40,K40,O40) -> 420120 | T40: =AVERAGE(H40,L40,P40) -> 79822.8 | U40: =AVERAGE(I40,M40,Q40) -> 499942.8 | V40: =AVERAGE(J40,N40,R40) -> 999885.6
B41: 38 | C41: Vereda el Abra - Institución educativa el Abra - 200 metros arriba de 4 caminos. | D41: Jardín infantil Mi Pequeño Hogar | E41: 2500 | F41: 2 | G41: 942500 | H41: =+G41*19% -> 179075 | I41: =+G41+H41 -> 1121575 | J41: =+I41*F41 -> 2243150 | K41: 1000000 | L41: =+K41*19% -> 190000 | M41: =+K41+L41 -> 1190000 | N41: =+M41*F41 -> 2380000 | O41: 975000 | P41: =+O41*19% -> 185250 | Q41: =+O41+P41 -> 1160250 | R41: =+Q41*F41 -> 2320500 | S41: =AVERAGE(G41,K41,O41) -> 972500 | T41: =AVERAGE(H41,L41,P41) -> 184775 | U41: =AVERAGE(I41,M41,Q41) -> 1157275 | V41: =AVERAGE(J41,N41,R41) -> 2314550
...

Sheet Desratizacion
G1: INVERKPITAL SAS | K1: SOLIX | O1: VALCA | S1: PROMEDIO
B2: DESRATIZACIÓN | G2: Valor unitario neto | H2: % IVA | I2: Valor Unitario con IVA (Si aplica) | J2: Valor TOTAL | K2: Valor unitario neto | L2: % IVA | M2: Valor Unitario con IVA (Si aplica) | N2: Valor TOTAL | O2: Valor unitario neto | P2: % IVA | Q2: Valor Unitario con IVA (Si aplica) | R2: Valor TOTAL | S2: Valor unitario neto | T2: % IVA | U2: Valor Unitario con IVA (Si aplica) | V2: Valor TOTAL
B3: ORDEN | C3: DIRECCIÓN | D3: DESCRIPCIÓN | E3: ÁREA DE INTERVENCIÓN (m2) APROX | F3: TOTAL DE DESRATIZACIÓN
A4: GOBIERNO | B4: 1 | C4: Cra. 4 N° 12-63 | D4: Alcaldía municipal - Sede principal | E4: 4800 | F4: 2 | G4: 1651200 | H4: =+G4*19% -> 313728 | I4: =+G4+H4 -> 1964928 | J4: =+I4*F4 -> 3929856 | K4: 1920000 | L4: =+K4*19% -> 364800 | M4: =+K4+L4 -> 2284800 | N4: =+M4*F4 -> 4569600 | O4: 1920000 | P4: =+O4*19% -> 364800 | Q4: =+O4+P4 -> 2284800 | R4: =+Q4*F4 -> 4569600 | S4: =AVERAGE(G4,K4,O4) -> 1830400 | T4: =AVERAGE(H4,L4,P4) -> 347776 | U4: =AVERAGE(I4,M4,Q4) -> 2178176 | V4: =AVERAGE(J4,N4,R4) -> 4356352
B5: 2 | C5: Cll. 11 N° 5-17 | D5: Polideportivo urbano y Parque Cuarto Centenario | E5: 1792 | F5: 2 | G5: 655872 | H5: =+G5*19% -> 124615.68 | I5: =+G5+H5 -> 780487.68 | J5: =+I5*F5 -> 1560975.4 | K5: 663040 | L5: =+K5*19% -> 125977.6 | M5: =+K5+L5 -> 789017.6 | N5: =+M5*F5 -> 1578035.2 | O5: 747264 | P5: =+O5*19% -> 141980.16 | Q5: =+O5+P5 -> 889244.16 | R5: =+Q5*F5 -> 1778488.3 | S5: =AVERAGE(G5,K5,O5) -> 688725.33 | T5: =AVERAGE(H5,L5,P5) -> 130857.81 | U5: =AVERAGE(I5,M5,Q5) -> 819583.15 | V5: =AVERAGE(J5,N5,R5) -> 1639166.3
B6: 3 | C6: Cll. 11 N° 5-17 | D6: Archivo Central - sede uno | E6: 520 | F6: 2 | G6: 378000 | H6: =+G6*19% -> 71820 | I6: =+G6+H6 -> 449820 | J6: =+I6*F6 -> 899640 | K6: 380000 | L6: =+K6*19% -> 72200 | M6: =+K6+L6 -> 452200 | N6: =+M6*F6 -> 904400 | O6: 400000 | P6: =+O6*19% -> 76000 | Q6: =+O6+P6 -> 476000 | R6: =+Q6*F6 -> 952000 | S6: =AVERAGE(G6,K6,O6) -> 386000 | T6: =AVERAGE(H6,L6,P6) -> 73340 | U6: =AVERAGE(I6,M6,Q6) -> 459340 | V6: =AVERAGE(J6,N6,R6) -> 918680
B7: 4 | C7: Cll. 11 N° 5-17 | D7: Gimnasio municipal | E7: 200 | F7: 2 | G7: 158000 | H7: =+G7*19% -> 30020 | I7: =+G7+H7 -> 188020 | J7: =+I7*F7 -> 376040 | K7: 165000 | L7: =+K7*19% -> 31350 | M7: =+K7+L7 -> 196350 | N7: =+M7*F7 -> 392700 | O7: 170000 | P7: =+O7*19% -> 32300 | Q7: =+O7+P7 -> 202300 | R7: =+Q7*F7 -> 404600 | S7: =AVERAGE(G7,K7,O7) -> 164333.33 | T7: =AVERAGE(H7,L7,P7) -> 31223.333 | U7: =AVERAGE(I7,M7,Q7) -> 195556.67 | V7: =AVERAGE(J7,N7,R7) -> 391113.33
B8: 5 | C8: Cll. 11 N° 5-17 | D8: Sala de velación | E8: 70 | F8: 2 | G8: 47700 | H8: =+G8*19% -> 9063 | I8: =+G8+H8 -> 56763 | J8: =+I8*F8 -> 113526 | K8: 48000 | L8: =+K8*19% -> 9120 | M8: =+K8+L8 -> 57120 | N8: =+M8*F8 -> 114240 | O8: 50000 | P8: =+O8*19% -> 9500 | Q8: =+O8+P8 -> 59500 | R8: =+Q8*F8 -> 119000 | S8: =AVERAGE(G8,K8,O8) -> 48566.667 | T8: =AVERAGE(H8,L8,P8) -> 9227.6667 | U8: =AVERAGE(I8,M8,Q8) -> 57794.333 | V8: =AVERAGE(J8,N8,R8) -> 115588.67
B9: 6 | C9: Cra. 5 N° 12-48 | D9: Parque Principal Luis Carlos Galan | E9: 4275 | F9: 2 | G9: 1470600 | H9: =+G9*19% -> 279414 | I9: =+G9+H9 -> 1750014 | J9: =+I9*F9 -> 3500028 | K9: 1710000 | L9: =+K9*19% -> 324900 | M9: =+K9+L9 -> 2034900 | N9: =+M9*F9 -> 4069800 | O9: 1710000 | P9: =+O9*19% -> 324900 | Q9: =+O9+P9 -> 2034900 | R9: =+Q9*F9 -> 4069800 | S9: =AVERAGE(G9,K9,O9) -> 1630200 | T9: =AVERAGE(H9,L9,P9) -> 309738 | U9: =AVERAGE(I9,M9,Q9) -> 1939938 | V9: =AVERAGE(J9,N9,R9) -> 3879876
B10: 7 | C10: Cra. 6 N° 13-28 | D10: Inspección Primera de Policia, Archivo sede dos y bodegas (1 y 2 piso) | E10: 150 | F10: 2 | G10: 82500 | H10: =+G10*19% -> 15675 | I10: =+G10+H10 -> 98175 | J10: =+I10*F10 -> 196350 | K10: 85000 | L10: =+K10*19% -> 16150 | M10: =+K10+L10 -> 101150 | N10: =+M10*F10 -> 202300 | O10: 90000 | P10: =+O10*19% -> 17100 | Q10: =+O10+P10 -> 107100 | R10: =+Q10*F10 -> 214200 | S10: =AVERAGE(G10,K10,O10) -> 85833.333 | T10: =AVERAGE(H10,L10,P10) -> 16308.333 | U10: =AVERAGE(I10,M10,Q10) -> 102141.67 | V10: =AVERAGE(J10,N10,R10) -> 204283.33
B11: 8 | C11: Vereda Parcelas - Campus parcelas | D11: Inspección Segunda de Policia | E11: 64 | F11: 2 | G11: 47700 | H11: =+G11*19% -> 9063 | I11: =+G11+H11 -> 56763 | J11: =+I11*F11 -> 113526 | K11: 48000 | L11: =+K11*19% -> 9120 | M11: =+K11+L11 -> 57120 | N11: =+M11*F11 -> 114240 | O11: 50000 | P11: =+O11*19% -> 9500 | Q11: =+O11+P11 -> 59500 | R11: =+Q11*F11 -> 119000 | S11: =AVERAGE(G11,K11,O11) -> 48566.667 | T11: =AVERAGE(H11,L11,P11) -> 9227.6667 | U11: =AVERAGE(I11,M11,Q11) -> 57794.333 | V11: =AVERAGE(J11,N11,R11) -> 115588.67
B12: 9 | C12: Cra. 3 N°12-07 | D12: Bodega de inservibles - Almacen | E12: 125 | F12: 2 | G12: 82500 | H12: =+G12*19% -> 15675 | I12: =+G12+H12 -> 98175 | J12: =+I12*F12 -> 196350 | K12: 85000 | L12: =+K12*19% -> 16150 | M12: =+K12+L12 -> 101150 | N12: =+M12*F12 -> 202300 | O12: 90000 | P12: =+O12*19% -> 17100 | Q12: =+O12+P12 -> 107100 | R12: =+Q12*F12 -> 214200 | S12: =AVERAGE(G12,K12,O12) -> 85833.333 | T12: =AVERAGE(H12,L12,P12) -> 16308.333 | U12: =AVERAGE(I12,M12,Q12) -> 102141.67 | V12: =AVERAGE(J12,N12,R12) -> 204283.33
B13: 10 | C13: Vereda La Moya | D13: Bodega de inservibles - Almacen | E13: 178 | F13: 2 | G13: 82500 | H13: =+G13*19% -> 15675 | I13: =+G13+H13 -> 98175 | J13: =+I13*F13 -> 196350 | K13: 85000 | L13: =+K13*19% -> 16150 | M13: =+K13+L13 -> 101150 | N13: =+M13*F13 -> 202300 | O13: 90000 | P13: =+O13*19% -> 17100 | Q13: =+O13+P13 -> 107100 | R13: =+Q13*F13 -> 214200 | S13: =AVERAGE(G13,K13,O13) -> 85833.333 | T13: =AVERAGE(H13,L13,P13) -> 16308.333 | U13: =AVERAGE(I13,M13,Q13) -> 102141.67 | V13: =AVERAGE(J13,N13,R13) -> 204283.33
B14: 11 | C14: Cra. 5 N° 1-97- Centro Comercial Cedro Mall. | D14: Almacen municipal - sede Centro Comercial Cedro Mall | E14: 115 | F14: 2 | G14: 82500 | H14: =+G14*19% -> 15675 | I14: =+G14+H14 -> 98175 | J14: =+I14*F14 -> 196350 | K14: 85000 | L14: =+K14*19% -> 16150 | M14: =+K14+L14 -> 101150 | N14: =+M14*F14 -> 202300 | O14: 90000 | P14: =+O14*19% -> 17100 | Q14: =+O14+P14 -> 107100 | R14: =+Q14*F14 -> 214200 | S14: =AVERAGE(G14,K14,O14) -> 85833.333 | T14: =AVERAGE(H14,L14,P14) -> 16308.333 | U14: =AVERAGE(I14,M14,Q14) -> 102141.67 | V14: =AVERAGE(J14,N14,R14) -> 204283.33
B15: 12 | C15: Calle 14 #3-64 | D15: Comisaria | E15: 170 | F15: 2 | G15: 82500 | H15: =+G15*19% -> 15675 | I15: =+G15+H15 -> 98175 | J15: =+I15*F15 -> 196350 | K15: 85000 | L15: =+K15*19% -> 16150 | M15: =+K15+L15 -> 101150 | N15: =+M15*F15 -> 202300 | O15: 90000 | P15: =+O15*19% -> 17100 | Q15: =+O15+P15 -> 107100 | R15: =+Q15*F15 -> 214200 | S15: =AVERAGE(G15,K15,O15) -> 85833.333 | T15: =AVERAGE(H15,L15,P15) -> 16308.333 | U15: =AVERAGE(I15,M15,Q15) -> 102141.67 | V15: =AVERAGE(J15,N15,R15) -> 204283.33
B16: 13 | C16: Cra. 4 N° 11-41 | D16: Archivo sede tres - Bajando por el BBVA | E16: 64 | F16: 2 | G16: 47700 | H16: =+G16*19% -> 9063 | I16: =+G16+H16 -> 56763 | J16: =+I16*F16 -> 113526 | K16: 48000 | L16: =+K16*19% -> 9120 | M16: =+K16+L16 -> 57120 | N16: =+M16*F16 -> 114240 | O16: 50000 | P16: =+O16*19% -> 9500 | Q16: =+O16+P16 -> 59500 | R16: =+Q16*F16 -> 119000 | S16: =AVERAGE(G16,K16,O16) -> 48566.667 | T16: =AVERAGE(H16,L16,P16) -> 9227.6667 | U16: =AVERAGE(I16,M16,Q16) -> 57794.333 | V16: =AVERAGE(J16,N16,R16) -> 115588.67
... B18: 15 | C18: Km. 1, vía Cota - Chía- frente a la oficina administrativa del IMRD Cota. | D18: Estación de Policía | E18: 300 | F18: 2 | G18: 158000 | H18: =+G18*19% -> 30020 | I18: =+G18+H18 -> 188020 | J18: =+I18*F18 -> 376040 | K18: 165000 | L18: =+K18*19% -> 31350 | M18: =+K18+L18 -> 196350 | N18: =+M18*F18 -> 392700 | O18: 170000 | P18: =+O18*19% -> 32300 | Q18: =+O18+P18 -> 202300 | R18: =+Q18*F18 -> 404600 | S18: =AVERAGE(G18,K18,O18) -> 164333.33 | T18: =AVERAGE(H18,L18,P18) -> 31223.333 | U18: =AVERAGE(I18,M18,Q18) -> 195556.67 | V18: =AVERAGE(J18,N18,R18) -> 391113.33
A19: SAMADE | B19: 16 | C19: Vereda Cetime - carrera 9 - sector vuelta la trampa - lote la Marimonda | D19: Lote arriendo maquinaria agrícola | E19: 600 | F19: 2 | G19: 378000 | H19: =+G19*19% -> 71820 | I19: =+G19+H19 -> 449820 | J19: =+I19*F19 -> 899640 | K19: 380000 | L19: =+K19*19% -> 72200 | M19: =+K19+L19 -> 452200 | N19: =+M19*F19 -> 904400 | O19: 400000 | P19: =+O19*19% -> 76000 | Q19: =+O19+P19 -> 476000 | R19: =+Q19*F19 -> 952000 | S19: =AVERAGE(G19,K19,O19) -> 386000 | T19: =AVERAGE(H19,L19,P19) -> 73340 | U19: =AVERAGE(I19,M19,Q19) -> 459340 | V19: =AVERAGE(J19,N19,R19) -> 918680
B20: 17 | C20: Vereda Pueblo Viejo Km. 1,1 variante Cota -Chía -San Carlos. | D20: Sede Pueblo Viejo UMATA - Alvergue 3 - La Granja | E20: 471 | F20: 2 | G20: 158000 | H20: =+G20*19% -> 30020 | I20: =+G20+H20 -> 188020 | J20: =+I20*F20 -> 376040 | K20: 165000 | L20: =+K20*19% -> 31350 | M20: =+K20+L20 -> 196350 | N20: =+M20*F20 -> 392700 | O20: 170000 | P20: =+O20*19% -> 32300 | Q20: =+O20+P20 -> 202300 | R20: =+Q20*F20 -> 404600 | S20: =AVERAGE(G20,K20,O20) -> 164333.33 | T20: =AVERAGE(H20,L20,P20) -> 31223.333 | U20: =AVERAGE(I20,M20,Q20) -> 195556.67 | V20: =AVERAGE(J20,N20,R20) -> 391113.33
B21: 18 | C21: Vereda Pueblo Viejo Km. 1,1 variante Cota Chía -San Carlos | D21: Abergue municipal 1, corral de esparcimiento y cuarto residuos especiales | E21: 60 | F21: 2 | G21: 47700 | H21: =+G21*19% -> 9063 | I21: =+G21+H21 -> 56763 | J21: =+I21*F21 -> 113526 | K21: 48000 | L21: =+K21*19% -> 9120 | M21: =+K21+L21 -> 57120 | N21: =+M21*F21 -> 114240 | O21: 50000 | P21: =+O21*19% -> 9500 | Q21: =+O21+P21 -> 59500 | R21: =+Q21*F21 -> 119000 | S21: =AVERAGE(G21,K21,O21) -> 48566.667 | T21: =AVERAGE(H21,L21,P21) -> 9227.6667 | U21: =AVERAGE(I21,M21,Q21) -> 57794.333 | V21: =AVERAGE(J21,N21,R21) -> 115588.67
B22: 19 | C22: Vereda Pueblo Viejo Km. 1,1 variante Cota Chía -San Carlos | D22: Alvergue municipal 2 y corrales de esparcimiento | E22: 660 | F22: 2 | G22: 378000 | H22: =+G22*19% -> 71820 | I22: =+G22+H22 -> 449820 | J22: =+I22*F22 -> 899640 | K22: 380000 | L22: =+K22*19% -> 72200 | M22: =+K22+L22 -> 452200 | N22: =+M22*F22 -> 904400 | O22: 400000 | P22: =+O22*19% -> 76000 | Q22: =+O22+P22 -> 476000 | R22: =+Q22*F22 -> 952000 | S22: =AVERAGE(G22,K22,O22) -> 386000 | T22: =AVERAGE(H22,L22,P22) -> 73340 | U22: =AVERAGE(I22,M22,Q22) -> 459340 | V22: =AVERAGE(J22,N22,R22) -> 918680
B23: 20 | C23: Vereda Pueblo Viejo Km. 1,1 variante Cota Chía -San Carlos | D23: Consultorio veterinario, Obsercación, Oficina y areas comunes | E23: 122 | F23: 2 | G23: 82500 | H23: =+G23*19% -> 15675 | I23: =+G23+H23 -> 98175 | J23: =+I23*F23 -> 196350 | K23: 85000 | L23: =+K23*19% -> 16150 | M23: =+K23+L23 -> 101150 | N23: =+M23*F23 -> 202300 | O23: 90000 | P23: =+O23*19% -> 17100 | Q23: =+O23+P23 -> 107100 | R23: =+Q23*F23 -> 214200 | S23: =AVERAGE(G23,K23,O23) -> 85833.333 | T23: =AVERAGE(H23,L23,P23) -> 16308.333 | U23: =AVERAGE(I23,M23,Q23) -> 102141.67 | V23: =AVERAGE(J23,N23,R23) -> 204283.33
B24: 21 | C24: Vereda Pueblo Viejo Km. 1,1 variante Cota Chía -San Carlos | D24: Almacen de insumos veterinarios | E24: 36 | F24: 2 | G24: 47700 | H24: =+G24*19% -> 9063 | I24: =+G24+H24 -> 56763 | J24: =+I24*F24 -> 113526 | K24: 48000 | L24: =+K24*19% -> 9120 | M24: =+K24+L24 -> 57120 | N24: =+M24*F24 -> 114240 | O24: 50000 | P24: =+O24*19% -> 9500 | Q24: =+O24+P24 -> 59500 | R24: =+Q24*F24 -> 119000 | S24: =AVERAGE(G24,K24,O24) -> 48566.667 | T24: =AVERAGE(H24,L24,P24) -> 9227.6667 | U24: =AVERAGE(I24,M24,Q24) -> 57794.333 | V24: =AVERAGE(J24,N24,R24) -> 115588.67
B25: 22 | C25: Vereda Pueblo Viejo Km. 1,1 variante Cota Chía -San Carlos | D25: La Granja | E25: 820 | F25: 2 | G25: 378000 | H25: =+G25*19% -> 71820 | I25: =+G25+H25 -> 449820 | J25: =+I25*F25 -> 899640 | K25: 380000 | L25: =+K25*19% -> 72200 | M25: =+K25+L25 -> 452200 | N25: =+M25*F25 -> 904400 | O25: 400000 | P25: =+O25*19% -> 76000 | Q25: =+O25+P25 -> 476000 | R25: =+Q25*F25 -> 952000 | S25: =AVERAGE(G25,K25,O25) -> 386000 | T25: =AVERAGE(H25,L25,P25) -> 73340 | U25: =AVERAGE(I25,M25,Q25) -> 459340 | V25: =AVERAGE(J25,N25,R25) -> 918680
B26: 23 | C26: Vereda Pueblo Viejo Km. 1,1 variante Cota Chía -San Carlos | D26: Lombricultivo y Compostero | E26: 117 | F26: 2 | G26: 82500 | H26: =+G26*19% -> 15675 | I26: =+G26+H26 -> 98175 | J26: =+I26*F26 -> 196350 | K26: 85000 | L26: =+K26*19% -> 16150 | M26: =+K26+L26 -> 101150 | N26: =+M26*F26 -> 202300 | O26: 90000 | P26: =+O26*19% -> 17100 | Q26: =+O26+P26 -> 107100 | R26: =+Q26*F26 -> 214200 | S26: =AVERAGE(G26,K26,O26) -> 85833.333 | T26: =AVERAGE(H26,L26,P26) -> 16308.333 | U26: =AVERAGE(I26,M26,Q26) -> 102141.67 | V26: =AVERAGE(J26,N26,R26) -> 204283.33
B27: 24 | C27: Vereda Pueblo Viejo Km. 1,1 variante Cota Chía -San Carlos | D27: Centro de acopio de residuos solidos | E27: 318 | F27: 2 | G27: 158000 | H27: =+G27*19% -> 30020 | I27: =+G27+H27 -> 188020 | J27: =+I27*F27 -> 376040 | K27: 165000 | L27: =+K27*19% -> 31350 | M27: =+K27+L27 -> 196350 | N27: =+M27*F27 -> 392700 | O27: 170000 | P27: =+O27*19% -> 32300 | Q27: =+O27+P27 -> 202300 | R27: =+Q27*F27 -> 404600 | S27: =AVERAGE(G27,K27,O27) -> 164333.33 | T27: =AVERAGE(H27,L27,P27) -> 31223.333 | U27: =AVERAGE(I27,M27,Q27) -> 195556.67 | V27: =AVERAGE(J27,N27,R27) -> 391113.33
B28: 25 | C28: Carrera 5 N° 9-24 | D28: Bodega deshidratadora | E28: 210 | F28: 2 | G28: 158000 | H28: =+G28*19% -> 30020 | I28: =+G28+H28 -> 188020 | J28: =+I28*F28 -> 376040 | K28: 165000 | L28: =+K28*19% -> 31350 | M28: =+K28+L28 -> 196350 | N28: =+M28*F28 -> 392700 | O28: 170000 | P28: =+O28*19% -> 32300 | Q28: =+O28+P28 -> 202300 | R28: =+Q28*F28 -> 404600 | S28: =AVERAGE(G28,K28,O28) -> 164333.33 | T28: =AVERAGE(H28,L28,P28) -> 31223.333 | U28: =AVERAGE(I28,M28,Q28) -> 195556.67 | V28: =AVERAGE(J28,N28,R28) -> 391113.33
B29: 26 | C29: Cll. 3 N° 2B-180 La Gloria. | D29: Casa Social de la Mujer | E29: 341 | F29: 2 | G29: 158000 | H29: =+G29*19% -> 30020 | I29: =+G29+H29 -> 188020 | J29: =+I29*F29 -> 376040 | K29: 165000 | L29: =+K29*19% -> 31350 | M29: =+K29+L29 -> 196350 | N29: =+M29*F29 -> 392700 | O29: 170000 | P29: =+O29*19% -> 32300 | Q29: =+O29+P29 -> 202300 | R29: =+Q29*F29 -> 404600 | S29: =AVERAGE(G29,K29,O29) -> 164333.33 | T29: =AVERAGE(H29,L29,P29) -> 31223.333 | U29: =AVERAGE(I29,M29,Q29) -> 195556.67 | V29: =AVERAGE(J29,N29,R29) -> 391113.33
A30: CULTURA | B30: 27 | C30: Cra. 5 N° 12-48 | D30: Casa de la Cultura - Sede Proncopal | E30: 652 | F30: 2 | G30: 378000 | H30: =+G30*19% -> 71820 | I30: =+G30+H30 -> 449820 | J30: =+I30*F30 -> 899640 | K30: 380000 | L30: =+K30*19% -> 72200 | M30: =+K30+L30 -> 452200 | N30: =+M30*F30 -> 904400 | O30: 400000 | P30: =+O30*19% -> 76000 | Q30: =+O30+P30 -> 476000 | R30: =+Q30*F30 -> 952000 | S30: =AVERAGE(G30,K30,O30) -> 386000 | T30: =AVERAGE(H30,L30,P30) -> 73340 | U30: =AVERAGE(I30,M30,Q30) -> 459340 | V30: =AVERAGE(J30,N30,R30) -> 918680
B31: 28 | C31: Cra. 5 N° 12-48 | D31: Biblioteca municipal Héctor Hernando Gonzales | E31: 154 | F31: 2 | G31: 82500 | H31: =+G31*19% -> 15675 | I31: =+G31+H31 -> 98175 | J31: =+I31*F31 -> 196350 | K31: 85000 | L31: =+K31*19% -> 16150 | M31: =+K31+L31 -> 101150 | N31: =+M31*F31 -> 202300 | O31: 90000 | P31: =+O31*19% -> 17100 | Q31: =+O31+P31 -> 107100 | R31: =+Q31*F31 -> 214200 | S31: =AVERAGE(G31,K31,O31) -> 85833.333 | T31: =AVERAGE(H31,L31,P31) -> 16308.333 | U31: =AVERAGE(I31,M31,Q31) -> 102141.67 | V31: =AVERAGE(J31,N31,R31) -> 204283.33
B32: 29 | C32: Cra. 2 A N° 13--88 | D32: Centro expresión artístico - CEA | E32: 352 | F32: 2 | G32: 158000 | H32: =+G32*19% -> 30020 | I32: =+G32+H32 -> 188020 | J32: =+I32*F32 -> 376040 | K32: 165000 | L32: =+K32*19% -> 31350 | M32: =+K32+L32 -> 196350 | N32: =+M32*F32 -> 392700 | O32: 170000 | P32: =+O32*19% -> 32300 | Q32: =+O32+P32 -> 202300 | R32: =+Q32*F32 -> 404600 | S32: =AVERAGE(G32,K32,O32) -> 164333.33 | T32: =AVERAGE(H32,L32,P32) -> 31223.333 | U32: =AVERAGE(I32,M32,Q32) -> 195556.67 | V32: =AVERAGE(J32,N32,R32) -> 391113.33
B33: 30 | C33: Cll. 13 N° 3A - 29 | D33: Auditorio casa de la cultura | E33: 172 | F33: 2 | G33: 82500 | H33: =+G33*19% -> 15675 | I33: =+G33+H33 -> 98175 | J33: =+I33*F33 -> 196350 | K33: 85000 | L33: =+K33*19% -> 16150 | M33: =+K33+L33 -> 101150 | N33: =+M33*F33 -> 202300 | O33: 90000 | P33: =+O33*19% -> 17100 | Q33: =+O33+P33 -> 107100 | R33: =+Q33*F33 -> 214200 | S33: =AVERAGE(G33,K33,O33) -> 85833.333 | T33: =AVERAGE(H33,L33,P33) -> 16308.333 | U33: =AVERAGE(I33,M33,Q33) -> 102141.67 | V33: =AVERAGE(J33,N33,R33) -> 204283.33
B34: 31 | C34: Sector Vuelta de la trampa | D34: Casa de bellas arte vuelta de la trampa | E34: 490 | F34: 2 | G34: 158000 | H34: =+G34*19% -> 30020 | I34: =+G34+H34 -> 188020 | J34: =+I34*F34 -> 376040 | K34: 165000 | L34: =+K34*19% -> 31350 | M34: =+K34+L34 -> 196350 | N34: =+M34*F34 -> 392700 | O34: 170000 | P34: =+O34*19% -> 32300 | Q34: =+O34+P34 -> 202300 | R34: =+Q34*F34 -> 404600 | S34: =AVERAGE(G34,K34,O34) -> 164333.33 | T34: =AVERAGE(H34,L34,P34) -> 31223.333 | U34: =AVERAGE(I34,M34,Q34) -> 195556.67 | V34: =AVERAGE(J34,N34,R34) -> 391113.33
B35: 32 | C35: Calle 11 # 4 - 07 | D35: Casa del arte | E35: 510 | F35: 2 | G35: 378000 | H35: =+G35*19% -> 71820 | I35: =+G35+H35 -> 449820 | J35: =+I35*F35 -> 899640 | K35: 380000 | L35: =+K35*19% -> 72200 | M35: =+K35+L35 -> 452200 | N35: =+M35*F35 -> 904400 | O35: 450000 | P35: =+O35*19% -> 85500 | Q35: =+O35+P35 -> 535500 | R35: =+Q35*F35 -> 1071000 | S35: =AVERAGE(G35,K35,O35) -> 402666.67 | T35: =AVERAGE(H35,L35,P35) -> 76506.667 | U35: =AVERAGE(I35,M35,Q35) -> 479173.33 | V35: =AVERAGE(J35,N35,R35) -> 958346.67
A36: DESARROLLO SOCIAL - ICBF | B36: 33 | C36: Km. 1 vía Cota - chía El Calabazo 1 | D36: Centro Renacer | E36: 2444 | F36: 2 | G36: 894504 | H36: =+G36*19% -> 169955.76 | I36: =+G36+H36 -> 1064459.8 | J36: =+I36*F36 -> 2128919.5 | K36: 904280 | L36: =+K36*19% -> 171813.2 | M36: =+K36+L36 -> 1076093.2 | N36: =+M36*F36 -> 2152186.4 | O36: 953160 | P36: =+O36*19% -> 181100.4 | Q36: =+O36+P36 -> 1134260.4 | R36: =+Q36*F36 -> 2268520.8 | S36: =AVERAGE(G36,K36,O36) -> 917314.67 | T36: =AVERAGE(H36,L36,P36) -> 174289.79 | U36: =AVERAGE(I36,M36,Q36) -> 1091604.5 | V36: =AVERAGE(J36,N36,R36) -> 2183208.9
B37: 34 | C37: Cll.6 N° 6 -104 | D37: Jardín infantil Mi Dulce Esperanza | E37: 154 | F37: 2 | G37: 82500 | H37: =+G37*19% -> 15675 | I37: =+G37+H37 -> 98175 | J37: =+I37*F37 -> 196350 | K37: 85000 | L37: =+K37*19% -> 16150 | M37: =+K37+L37 -> 101150 | N37: =+M37*F37 -> 202300 | O37: 90000 | P37: =+O37*19% -> 17100 | Q37: =+O37+P37 -> 107100 | R37: =+Q37*F37 -> 214200 | S37: =AVERAGE(G37,K37,O37) -> 85833.333 | T37: =AVERAGE(H37,L37,P37) -> 16308.333 | U37: =AVERAGE(I37,M37,Q37) -> 102141.67 | V37: =AVERAGE(J37,N37,R37) -> 204283.33
B38: 35 | C38: Vereda La Moya - el altamizal | D38: Jardín infantil Líderes Del Cambio | E38: 1080 | F38: 2 | G38: 395280 | H38: =+G38*19% -> 75103.2 | I38: =+G38+H38 -> 470383.2 | J38: =+I38*F38 -> 940766.4 | K38: 399600 | L38: =+K38*19% -> 75924 | M38: =+K38+L38 -> 475524 | N38: =+M38*F38 -> 951048 | O38: 421200 | P38: =+O38*19% -> 80028 | Q38: =+O38+P38 -> 501228 | R38: =+Q38*F38 -> 1002456 | S38: =AVERAGE(G38,K38,O38) -> 405360 | T38: =AVERAGE(H38,L38,P38) -> 77018.4 | U38: =AVERAGE(I38,M38,Q38) -> 482378.4 | V38: =AVERAGE(J38,N38,R38) -> 964756.8
B39: 36 | C39: Vereda el Abra - Institución educativa el Abra - 200 metros arriba de 4 caminos. | D39: Jardín infantil Mi Pequeño Hogar | E39: 2500 | F39: 2 | G39: 915000 | H39: =+G39*19% -> 173850 | I39: =+G39+H39 -> 1088850 | J39: =+I39*F39 -> 2177700 | K39: 925000 | L39: =+K39*19% -> 175750 | M39: =+K39+L39 -> 1100750 | N39: =+M39*F39 -> 2201500 | O39: 975000 | P39: =+O39*19% -> 185250 | Q39: =+O39+P39 -> 1160250 | R39: =+Q39*F39 -> 2320500 | S39: =AVERAGE(G39,K39,O39) -> 938333.33 | T39: =AVERAGE(H39,L39,P39) -> 178283.33 | U39: =AVERAGE(I39,M39,Q39) -> 1116616.7 | V39: =AVERAGE(J39,N39,R39) -> 2233233.3
B40: 37 | C40: Vereda El Roso - dentro de la Institución educativa del Roso | D40: Jardín infantil Caminito Alegre | E40: 468 | F40: 2 | G40: 158000 | H40: =+G40*19% -> 30020 | I40: =+G40+H40 -> 188020 | J40: =+I40*F40 -> 376040 | K40: 165000 | L40: =+K40*19% -> 31350 | M40: =+K40+L40 -> 196350 | N40: =+M40*F40 -> 392700 | O40: 170000 | P40: =+O40*19% -> 32300 | Q40: =+O40+P40 -> 202300 | R40: =+Q40*F40 -> 404600 | S40: =AVERAGE(G40,K40,O40) -> 164333.33 | T40: =AVERAGE(H40,L40,P40) -> 31223.333 | U40: =AVERAGE(I40,M40,Q40) -> 195556.67 | V40: =AVERAGE(J40,N40,R40) -> 391113.33
B41: 38 | C41: Vereda Parcelas - Campus municipal - Dentro del Colegio Ruperto Melo | D41: Jardín infantil Personitas Felices | E41: 120 | F41: 2 | G41: 82500 | H41: =+G41*19% -> 15675 | I41: =+G41+H41 -> 98175 | J41: =+I41*F41 -> 196350 | K41: 85000 | L41: =+K41*19% -> 16150 | M41: =+K41+L41 -> 101150 | N41: =+M41*F41 -> 202300 | O41: 90000 | P41: =+O41*19% -> 17100 | Q41: =+O41+P41 -> 107100 | R41: =+Q41*F41 -> 214200 | S41: =AVERAGE(G41,K41,O41) -> 85833.333 | T41: =AVERAGE(H41,L41,P41) -> 16308.333 | U41: =AVERAGE(I41,M41,Q41) -> 102141.67 | V41: =AVERAGE(J41,N41,R41) -> 204283.33
...

Sheet Voladores
B1: DIAGNOSTICO DESINSECTACIÓN DE PLAGAS (VOLADORES - PALOMAS) | G1: VALCA | K1: SOLIX | O1: INVERKPITAL SAS | S1: PROMEDIO
B2: ORDEN | C2: DIRECCIÓN | D2: DESCRIPCIÓN | E2: ÁREA DE INTERVENCIÓN (m2) APROX | F2: TOTAL DE DIAGNOSTICO | G2: Valor unitario neto | H2: % IVA | I2: Valor Unitario con IVA (Si aplica) | J2: Valor TOTAL | K2: Valor unitario neto | L2: % IVA | M2: Valor Unitario con IVA (Si aplica) | N2: Valor TOTAL | O2: Valor unitario neto | P2: % IVA | Q2: Valor Unitario con IVA (Si aplica) | R2: Valor TOTAL | S2: Valor unitario neto | T2: % IVA | U2: Valor Unitario con IVA (Si aplica) | V2: Valor TOTAL
A3: EDUCACIÓN | B3: 1 | C3: Vereda La Moya - Camellón de las Flores | D3: Colegio Departamental Enrique Pardo Parra | E3: 4001 | F3: 1 | G3: 205000 | H3: =+G3*19% -> 38950 | I3: =+G3+H3 -> 243950 | J3: =+I3*F3 -> 243950 | K3: 215000 | L3: =+K3*19% -> 40850 | M3: =+K3+L3 -> 255850 | N3: =+M3*F3 -> 255850 | O3: 220000 | P3: =+O3*19% -> 41800 | Q3: =+O3+P3 -> 261800 | R3: =+Q3*F3 -> 261800 | S3: =AVERAGE(G3,K3,O3) -> 213333.33 | T3: =AVERAGE(H3,L3,P3) -> 40533.333 | U3: =AVERAGE(I3,M3,Q3) -> 253866.67 | V3: =AVERAGE(J3,N3,R3) -> 253866.67
B4: 2 | C4: Vereda Parcelas- Parcelas 2 | D4: I.E.D Instituto Parcelas | E4: 17600 | F4: 1 | G4: 205000 | H4: =+G4*19% -> 38950 | I4: =+G4+H4 -> 243950 | J4: =+I4*F4 -> 243950 | K4: 215000 | L4: =+K4*19% -> 40850 | M4: =+K4+L4 -> 255850 | N4: =+M4*F4 -> 255850 | O4: 220000 | P4: =+O4*19% -> 41800 | Q4: =+O4+P4 -> 261800 | R4: =+Q4*F4 -> 261800 | S4: =AVERAGE(G4,K4,O4) -> 213333.33 | T4: =AVERAGE(H4,L4,P4) -> 40533.333 | U4: =AVERAGE(I4,M4,Q4) -> 253866.67 | V4: =AVERAGE(J4,N4,R4) -> 253866.67
B5: 3 | C5: Cll. 14 N° 2B-56 | D5: Escuela rural Pueblo Viejo | E5: 7268 | F5: 1 | G5: 205000 | H5: =+G5*19% -> 38950 | I5: =+G5+H5 -> 243950 | J5: =+I5*F5 -> 243950 | K5: 215000 | L5: =+K5*19% -> 40850 | M5: =+K5+L5 -> 255850 | N5: =+M5*F5 -> 255850 | O5: 220000 | P5: =+O5*19% -> 41800 | Q5: =+O5+P5 -> 261800 | R5: =+Q5*F5 -> 261800 | S5: =AVERAGE(G5,K5,O5) -> 213333.33 | T5: =AVERAGE(H5,L5,P5) -> 40533.333 | U5: =AVERAGE(I5,M5,Q5) -> 253866.67 | V5: =AVERAGE(J5,N5,R5) -> 253866.67
B6: 4 | C6: Cll. 13 N° 2A BIS-06 | D6: Escuela Camilo Torres | E6: 5738 | F6: 1 | G6: 205000 | H6: =+G6*19% -> 38950 | I6: =+G6+H6 -> 243950 | J6: =+I6*F6 -> 243950 | K6: 215000 | L6: =+K6*19% -> 40850 | M6: =+K6+L6 -> 255850 | N6: =+M6*F6 -> 255850 | O6: 220000 | P6: =+O6*19% -> 41800 | Q6: =+O6+P6 -> 261800 | R6: =+Q6*F6 -> 261800 | S6: =AVERAGE(G6,K6,O6) -> 213333.33 | T6: =AVERAGE(H6,L6,P6) -> 40533.333 | U6: =AVERAGE(I6,M6,Q6) -> 253866.67 | V6: =AVERAGE(J6,N6,R6) -> 253866.67
B7: 5 | C7: Cra. 6 N°15-01 | D7: Jardín Sol Solecito | E7: 2099 | F7: 1 | G7: 205000 | H7: =+G7*19% -> 38950 | I7: =+G7+H7 -> 243950 | J7: =+I7*F7 -> 243950 | K7: 215000 | L7: =+K7*19% -> 40850 | M7: =+K7+L7 -> 255850 | N7: =+M7*F7 -> 255850 | O7: 220000 | P7: =+O7*19% -> 41800 | Q7: =+O7+P7 -> 261800 | R7: =+Q7*F7 -> 261800 | S7: =AVERAGE(G7,K7,O7) -> 213333.33 | T7: =AVERAGE(H7,L7,P7) -> 40533.333 | U7: =AVERAGE(I7,M7,Q7) -> 253866.67 | V7: =AVERAGE(J7,N7,R7) -> 253866.67
A8: DESARROLLO SOCIAL | B8: 6 | C8: CLL. 13 N° 2A BIS 06 | D8: Jardín Manitas Creativas | E8: 665 | F8: 1 | G8: 205000 | H8: =+G8*19% -> 38950 | I8: =+G8+H8 -> 243950 | J8: =+I8*F8 -> 243950 | K8: 215000 | L8: =+K8*19% -> 40850 | M8: =+K8+L8 -> 255850 | N8: =+M8*F8 -> 255850 | O8: 220000 | P8: =+O8*19% -> 41800 | Q8: =+O8+P8 -> 261800 | R8: =+Q8*F8 -> 261800 | S8: =AVERAGE(G8,K8,O8) -> 213333.33 | T8: =AVERAGE(H8,L8,P8) -> 40533.333 | U8: =AVERAGE(I8,M8,Q8) -> 253866.67 | V8: =AVERAGE(J8,N8,R8) -> 253866.67
B9: 7 | C9: Cra. 6 N°11-01 | D9: Jardín infantil El Amanecer - ICBF | E9: 143 | F9: 1 | G9: 205000 | H9: =+G9*19% -> 38950 | I9: =+G9+H9 -> 243950 | J9: =+I9*F9 -> 243950 | K9: 215000 | L9: =+K9*19% -> 40850 | M9: =+K9+L9 -> 255850 | N9: =+M9*F9 -> 255850 | O9: 220000 | P9: =+O9*19% -> 41800 | Q9: =+O9+P9 -> 261800 | R9: =+Q9*F9 -> 261800 | S9: =AVERAGE(G9,K9,O9) -> 213333.33 | T9: =AVERAGE(H9,L9,P9) -> 40533.333 | U9: =AVERAGE(I9,M9,Q9) -> 253866.67 | V9: =AVERAGE(J9,N9,R9) -> 253866.67
D10: ÁREA TOTAL, DIAGNOSTICO | E10: =SUM(E3:E9) -> 37514 | F10: =SUM(F3:F9) -> 7 | J10: =SUM(J5:J9) -> 1219750 | N10: =SUM(N5:N9) -> 1279250 | R10: =SUM(R5:R9) -> 1309000 | V10: =AVERAGE(J10,N10,R10) -> 1269333.3
D11: No. DIAGNOSTICOS EN PUNTOS CRITICOS TOTALES
G13: SOLIX | K13: OPCION 2 | O13: VALCA | S13: PROMEDIO
B14: DESINSECTACIÓN DE PLAGAS (VOLADORES - PALOMAS) | G14: Valor unitario neto | H14: % IVA | I14: Valor Unitario con IVA (Si aplica) | J14: Valor TOTAL | K14: Valor unitario neto | L14: % IVA | M14: Valor Unitario con IVA (Si aplica) | N14: Valor TOTAL | O14: Valor unitario neto | P14: % IVA | Q14: Valor Unitario con IVA (Si aplica) | R14: Valor TOTAL | S14: Valor unitario neto | T14: % IVA | U14: Valor Unitario con IVA (Si aplica) | V14: Valor TOTAL
B15: ORDEN | C15: DIRECCIÓN | D15: DESCRIPCIÓN | E15: ÁREA DE INTERVENCIÓN (m2) APROX | F15: TOTAL DE DESINSECTACIÓN
A16: EDUCACIÓN | B16: 1 | C16: Vereda La Moya - Camellón de las Flores | D16: Colegio Departamental Enrique Pardo Parra | E16: 4001 | F16: 2 | G16: 1160290 | H16: =+G16*19% -> 220455.1 | I16: =+G16+H16 -> 1380745.1 | J16: =+I16*F16 -> 2761490.2 | K16: 1300325 | L16: =+K16*19% -> 247061.75 | M16: =+K16+L16 -> 1547386.8 | N16: =+M16*F16 -> 3094773.5 | O16: 1400350 | P16: =+O16*19% -> 266066.5 | Q16: =+O16+P16 -> 1666416.5 | R16: =+Q16*F16 -> 3332833 | S16: =AVERAGE(G16,K16,O16) -> 1286988.3 | T16: =AVERAGE(H16,L16,P16) -> 244527.78 | U16: =AVERAGE(I16,M16,Q16) -> 1531516.1 | V16: =AVERAGE(J16,N16,R16) -> 3063032.2
B17: 2 | C17: Vereda Parcelas- Parcelas 2 | D17: I.E.D Instituto Parcelas | E17: 17600 | F17: 2 | G17: 5104000 | H17: =+G17*19% -> 969760 | I17: =+G17+H17 -> 6073760 | J17: =+I17*F17 -> 12147520 | K17: 5720000 | L17: =+K17*19% -> 1086800 | M17: =+K17+L17 -> 6806800 | N17: =+M17*F17 -> 13613600 | O17: 6160000 | P17: =+O17*19% -> 1170400 | Q17: =+O17+P17 -> 7330400 | R17: =+Q17*F17 -> 14660800 | S17: =AVERAGE(G17,K17,O17) -> 5661333.3 | T17: =AVERAGE(H17,L17,P17) -> 1075653.3 | U17: =AVERAGE(I17,M17,Q17) -> 6736986.7 | V17: =AVERAGE(J17,N17,R17) -> 13473973
B18: 3 | C18: Cll. 14 N° 2B-56 | D18: Escuela rural Pueblo Viejo | E18: 7268 | F18: 2 | G18: 2107720 | H18: =+G18*19% -> 400466.8 | I18: =+G18+H18 -> 2508186.8 | J18: =+I18*F18 -> 5016373.6 | K18: 2362100 | L18: =+K18*19% -> 448799 | M18: =+K18+L18 -> 2810899 | N18: =+M18*F18 -> 5621798 | O18: 2543800 | P18: =+O18*19% -> 483322 | Q18: =+O18+P18 -> 3027122 | R18: =+Q18*F18 -> 6054244 | S18: =AVERAGE(G18,K18,O18) -> 2337873.3 | T18: =AVERAGE(H18,L18,P18) -> 444195.93 | U18: =AVERAGE(I18,M18,Q18) -> 2782069.3 | V18: =AVERAGE(J18,N18,R18) -> 5564138.5
B19: 4 | C19: Cll. 13 N° 2A BIS-06 | D19: Escuela Camilo Torres | E19: 5738 | F19: 2 | G19: 1664020 | H19: =+G19*19% -> 316163.8 | I19: =+G19+H19 -> 1980183.8 | J19: =+I19*F19 -> 3960367.6 | K19: 1864850 | L19: =+K19*19% -> 354321.5 | M19: =+K19+L19 -> 2219171.5 | N19: =+M19*F19 -> 4438343 | O19: 2008300 | P19: =+O19*19% -> 381577 | Q19: =+O19+P19 -> 2389877 | R19: =+Q19*F19 -> 4779754 | S19: =AVERAGE(G19,K19,O19) -> 1845723.3 | T19: =AVERAGE(H19,L19,P19) -> 350687.43 | U19: =AVERAGE(I19,M19,Q19) -> 2196410.8 | V19: =AVERAGE(J19,N19,R19) -> 4392821.5
B20: 5 | C20: Cra. 6 N°15-01 | D20: Jardín Sol Solecito | E20: 2099 | F20: 2 | G20: 608710 | H20: =+G20*19% -> 115654.9 | I20: =+G20+H20 -> 724364.9 | J20: =+I20*F20 -> 1448729.8 | K20: 682175 | L20: =+K20*19% -> 129613.25 | M20: =+K20+L20 -> 811788.25 | N20: =+M20*F20 -> 1623576.5 | O20: 734650 | P20: =+O20*19% -> 139583.5 | Q20: =+O20+P20 -> 874233.5 | R20: =+Q20*F20 -> 1748467 | S20: =AVERAGE(G20,K20,O20) -> 675178.33 | T20: =AVERAGE(H20,L20,P20) -> 128283.88 | U20: =AVERAGE(I20,M20,Q20) -> 803462.22 | V20: =AVERAGE(J20,N20,R20) -> 1606924.4
A21: DESARROLLO SOCIAL | B21: 6 | C21: CLL. 13 N° 2A BIS 06 | D21: Jardín Manitas Creativas | E21: 665 | F21: 2 | G21: 192850 | H21: =+G21*19% -> 36641.5 | I21: =+G21+H21 -> 229491.5 | J21: =+I21*F21 -> 458983 | K21: 216125 | L21: =+K21*19% -> 41063.75 | M21: =+K21+L21 -> 257188.75 | N21: =+M21*F21 -> 514377.5 | O21: 232750 | P21: =+O21*19% -> 44222.5 | Q21: =+O21+P21 -> 276972.5 | R21: =+Q21*F21 -> 553945 | S21: =AVERAGE(G21,K21,O21) -> 213908.33 | T21: =AVERAGE(H21,L21,P21) -> 40642.583 | U21: =AVERAGE(I21,M21,Q21) -> 254550.92 | V21: =AVERAGE(J21,N21,R21) -> 509101.83
B22: 7 | C22: Cra. 6 N°11-01 | D22: Jardín infantil El Amanecer - ICBF | E22: 143 | F22: 2 | G22: 41470 | H22: =+G22*19% -> 7879.3 | I22: =+G22+H22 -> 49349.3 | J22: =+I22*F22 -> 98698.6 | K22: 46475 | L22: =+K22*19% -> 8830.25 | M22: =+K22+L22 -> 55305.25 | N22: =+M22*F22 -> 110610.5 | O22: 50050 | P22: =+O22*19% -> 9509.5 | Q22: =+O22+P22 -> 59559.5 | R22: =+Q22*F22 -> 119119 | S22: =AVERAGE(G22,K22,O22) -> 45998.333 | T22: =AVERAGE(H22,L22,P22) -> 8739.6833 | U22: =AVERAGE(I22,M22,Q22) -> 54738.017 | V22: =AVERAGE(J22,N22,R22) -> 109476.03
D23: ÁREA TOTAL, DESINSECTACIÓN | E23: =SUM(E16:E22) -> 37514 | F23: =SUM(F16:F22) -> 14 | J23: =SUM(J18:J22) -> 10983153 | N23: =SUM(N18:N22) -> 12308706 | R23: =SUM(R18:R22) -> 13255529 | V23: =AVERAGE(J23,N23,R23) -> 12182462
D24: No. DESINSECTACIONES EN PUNTOS CRITICOS TOTALES

Sheet Tanques elevados y subterraneo 
B1: ORDEN | C1: DIRECCIÓN | D1: DESCRIPCIÓN | E1: No. DE TANQUES | F1: CAPACIDAD APROX | G1: LTS / M3 | H1: TIPO DE TANQUE | I1: No. DE LAVADAS POR TANQUE | J1: Valor unitario neto | K1: % IVA | L1: Valor Unitario con IVA (Si aplica) | M1: Valor TOTAL | N1: Valor unitario neto | O1: % IVA | P1: Valor Unitario con IVA (Si aplica) | Q1: Valor TOTAL | R1: Valor unitario neto | S1: % IVA | T1: Valor Unitario con IVA (Si aplica) | U1: Valor TOTAL | V1: Valor unitario neto | W1: % IVA | X1: Valor Unitario con IVA (Si aplica) | Y1: Valor TOTAL
A2: GOBIERNO | B2: 1 | C2: Cra. 6 N° 13-28 | D2: Inspección Primera de Policia, Archivo sede dos y bodegas (1 y 2 piso) | E2: 2 | F2: 1000 | G2: Litros (Lts) | H2: Elevado | I2: 4 | J2: 197000 | K2: =+J2*19% -> 37430 | L2: =+J2+K2 -> 234430 | M2: =+L2*I2 -> 937720 | N2: 160000 | O2: =+N2*19% -> 30400 | P2: =+N2+O2 -> 190400 | Q2: =+P2*I2 -> 761600 | R2: 175000 | S2: =+R2*19% -> 33250 | T2: =+R2+S2 -> 208250 | U2: =+T2*I2 -> 833000 | V2: =AVERAGE(J2,N2,R2) -> 177333.33 | W2: =AVERAGE(K2,O2,S2) -> 33693.333 | X2: =AVERAGE(L2,P2,T2) -> 211026.67 | Y2: =AVERAGE(M2,Q2,U2) -> 844106.67
E3: 1 | F3: 500 | G3: Litros (Lts) | H3: Elevado | I3: 2 | J3: 197000 | K3: =+J3*19% -> 37430 | L3: =+J3+K3 -> 234430 | M3: =+L3*I3 -> 468860 | N3: 160000 | O3: =+N3*19% -> 30400 | P3: =+N3+O3 -> 190400 | Q3: =+P3*I3 -> 380800 | R3: 175000 | S3: =+R3*19% -> 33250 | T3: =+R3+S3 -> 208250 | U3: =+T3*I3 -> 416500 | V3: =AVERAGE(J3,N3,R3) -> 177333.33 | W3: =AVERAGE(K3,O3,S3) -> 33693.333 | X3: =AVERAGE(L3,P3,T3) -> 211026.67 | Y3: =AVERAGE(M3,Q3,U3) -> 422053.33
B4: 2 | C4: Cll. 11 N° 5-17 | D4: Polideportivo urbano y Parque Cuarto Centenario | E4: 2 | F4: 1000 | G4: Litros (Lts) | H4: Elevado | I4: 4 | J4: 197000 | K4: =+J4*19% -> 37430 | L4: =+J4+K4 -> 234430 | M4: =+L4*I4 -> 937720 | N4: 160000 | O4: =+N4*19% -> 30400 | P4: =+N4+O4 -> 190400 | Q4: =+P4*I4 -> 761600 | R4: 175000 | S4: =+R4*19% -> 33250 | T4: =+R4+S4 -> 208250 | U4: =+T4*I4 -> 833000 | V4: =AVERAGE(J4,N4,R4) -> 177333.33 | W4: =AVERAGE(K4,O4,S4) -> 33693.333 | X4: =AVERAGE(L4,P4,T4) -> 211026.67 | Y4: =AVERAGE(M4,Q4,U4) -> 844106.67
B5: 3 | C5: Cll. 11 N° 5-17 | D5: Gimnasio municipal | E5: 1 | F5: 1000 | G5: Litros (Lts) | H5: Elevado | I5: 2 | J5: 197000 | K5: =+J5*19% -> 37430 | L5: =+J5+K5 -> 234430 | M5: =+L5*I5 -> 468860 | N5: 160000 | O5: =+N5*19% -> 30400 | P5: =+N5+O5 -> 190400 | Q5: =+P5*I5 -> 380800 | R5: 175000 | S5: =+R5*19% -> 33250 | T5: =+R5+S5 -> 208250 | U5: =+T5*I5 -> 416500 | V5: =AVERAGE(J5,N5,R5) -> 177333.33 | W5: =AVERAGE(K5,O5,S5) -> 33693.333 | X5: =AVERAGE(L5,P5,T5) -> 211026.67 | Y5: =AVERAGE(M5,Q5,U5) -> 422053.33
B6: 4 | C6: Cra. 4 N° 12-63 | D6: Alcaldía municipal - Sede principal | E6: 1 | F6: 400 | G6: Litros (Lts) | H6: Elevado | I6: 2 | J6: 197000 | K6: =+J6*19% -> 37430 | L6: =+J6+K6 -> 234430 | M6: =+L6*I6 -> 468860 | N6: 160000 | O6: =+N6*19% -> 30400 | P6: =+N6+O6 -> 190400 | Q6: =+P6*I6 -> 380800 | R6: 175000 | S6: =+R6*19% -> 33250 | T6: =+R6+S6 -> 208250 | U6: =+T6*I6 -> 416500 | V6: =AVERAGE(J6,N6,R6) -> 177333.33 | W6: =AVERAGE(K6,O6,S6) -> 33693.333 | X6: =AVERAGE(L6,P6,T6) -> 211026.67 | Y6: =AVERAGE(M6,Q6,U6) -> 422053.33
E7: 1 | F7: 2000 | G7: Litros (Lts) | H7: Elevado | I7: 2 | J7: 175000 | K7: =+J7*19% -> 33250 | L7: =+J7+K7 -> 208250 | M7: =+L7*I7 -> 416500 | N7: 200000 | O7: =+N7*19% -> 38000 | P7: =+N7+O7 -> 238000 | Q7: =+P7*I7 -> 476000 | R7: 225000 | S7: =+R7*19% -> 42750 | T7: =+R7+S7 -> 267750 | U7: =+T7*I7 -> 535500 | V7: =AVERAGE(J7,N7,R7) -> 200000 | W7: =AVERAGE(K7,O7,S7) -> 38000 | X7: =AVERAGE(L7,P7,T7) -> 238000 | Y7: =AVERAGE(M7,Q7,U7) -> 476000
B8: 5 | C8: Campus de la Vereda Parcelas | D8: Inspección Segunda de Policia | E8: 1 | F8: 400 | G8: Litros (Lts) | H8: Elevado | I8: 2 | J8: 197000 | K8: =+J8*19% -> 37430 | L8: =+J8+K8 -> 234430 | M8: =+L8*I8 -> 468860 | N8: 160000 | O8: =+N8*19% -> 30400 | P8: =+N8+O8 -> 190400 | Q8: =+P8*I8 -> 380800 | R8: 175000 | S8: =+R8*19% -> 33250 | T8: =+R8+S8 -> 208250 | U8: =+T8*I8 -> 416500 | V8: =AVERAGE(J8,N8,R8) -> 177333.33 | W8: =AVERAGE(K8,O8,S8) -> 33693.333 | X8: =AVERAGE(L8,P8,T8) -> 211026.67 | Y8: =AVERAGE(M8,Q8,U8) -> 422053.33
B9: 6 | C9: Calle 14 #3-64 | D9: Comisaria | E9: 1 | F9: 400 | G9: Litros (Lts) | H9: Elevado | I9: 2 | J9: 197000 | K9: =+J9*19% -> 37430 | L9: =+J9+K9 -> 234430 | M9: =+L9*I9 -> 468860 | N9: 160000 | O9: =+N9*19% -> 30400 | P9: =+N9+O9 -> 190400 | Q9: =+P9*I9 -> 380800 | R9: 175000 | S9: =+R9*19% -> 33250 | T9: =+R9+S9 -> 208250 | U9: =+T9*I9 -> 416500 | V9: =AVERAGE(J9,N9,R9) -> 177333.33 | W9: =AVERAGE(K9,O9,S9) -> 33693.333 | X9: =AVERAGE(L9,P9,T9) -> 211026.67 | Y9: =AVERAGE(M9,Q9,U9) -> 422053.33
B10: 7 | C10: Km 1,5 via cota chia | D10: Estacion de policia | E10: 2 | F10: 25 | G10: Metros Cubicos (m3) | H10: Subterraneo | I10: 4 | J10: 235000 | K10: =+J10*19% -> 44650 | L10: =+J10+K10 -> 279650 | M10: =+L10*I10 -> 1118600 | N10: 260000 | O10: =+N10*19% -> 49400 | P10: =+N10+O10 -> 309400 | Q10: =+P10*I10 -> 1237600 | R10: 275000 | S10: =+R10*19% -> 52250 | T10: =+R10+S10 -> 327250 | U10: =+T10*I10 -> 1309000 | V10: =AVERAGE(J10,N10,R10) -> 256666.67 | W10: =AVERAGE(K10,O10,S10) -> 48766.667 | X10: =AVERAGE(L10,P10,T10) -> 305433.33 | Y10: =AVERAGE(M10,Q10,U10) -> 1221733.3
A11: SAMADE | B11: 8 | C11: Vereda Pueblo Viejo Km. 1,1 variante Cota -Chía -San Carlos. | D11: Sede Pueblo Viejo UMATA - Oficina | E11: 1 | F11: 2000 | G11: Litros (Lts) | H11: Elevado | I11: 2 | J11: 175000 | K11: =+J11*19% -> 33250 | L11: =+J11+K11 -> 208250 | M11: =+L11*I11 -> 416500 | N11: 200000 | O11: =+N11*19% -> 38000 | P11: =+N11+O11 -> 238000 | Q11: =+P11*I11 -> 476000 | R11: 225000 | S11: =+R11*19% -> 42750 | T11: =+R11+S11 -> 267750 | U11: =+T11*I11 -> 535500 | V11: =AVERAGE(J11,N11,R11) -> 200000 | W11: =AVERAGE(K11,O11,S11) -> 38000 | X11: =AVERAGE(L11,P11,T11) -> 238000 | Y11: =AVERAGE(M11,Q11,U11) -> 476000
B12: 9 | C12: Vereda Pueblo Viejo Km. 1,1 variante Cota -Chía -San Carlos. | D12: Sede Pueblo Viejo UMATA - Alvergue 3 - La Granja | E12: 4 | F12: 1000 | G12: Litros (Lts) | H12: Elevado | I12: 8 | J12: 197000 | K12: =+J12*19% -> 37430 | L12: =+J12+K12 -> 234430 | M12: =+L12*I12 -> 1875440 | N12: 160000 | O12: =+N12*19% -> 30400 | P12: =+N12+O12 -> 190400 | Q12: =+P12*I12 -> 1523200 | R12: 175000 | S12: =+R12*19% -> 33250 | T12: =+R12+S12 -> 208250 | U12: =+T12*I12 -> 1666000 | V12: =AVERAGE(J12,N12,R12) -> 177333.33 | W12: =AVERAGE(K12,O12,S12) -> 33693.333 | X12: =AVERAGE(L12,P12,T12) -> 211026.67 | Y12: =AVERAGE(M12,Q12,U12) -> 1688213.3
B13: 10 | C13: Vereda Pueblo Viejo Km. 1,1 variante Cota Chía -San Carlos | D13: Alvergue municipal 1 | E13: 3 | F13: 2000 | G13: Litros (Lts) | H13: Elevado | I13: 6 | J13: 175000 | K13: =+J13*19% -> 33250 | L13: =+J13+K13 -> 208250 | M13: =+L13*I13 -> 1249500 | N13: 200000 | O13: =+N13*19% -> 38000 | P13: =+N13+O13 -> 238000 | Q13: =+P13*I13 -> 1428000 | R13: 225000 | S13: =+R13*19% -> 42750 | T13: =+R13+S13 -> 267750 | U13: =+T13*I13 -> 1606500 | V13: =AVERAGE(J13,N13,R13) -> 200000 | W13: =AVERAGE(K13,O13,S13) -> 38000 | X13: =AVERAGE(L13,P13,T13) -> 238000 | Y13: =AVERAGE(M13,Q13,U13) -> 1428000
B14: 11 | C14: Vereda Pueblo Viejo Km. 1,1 variante Cota Chía -San Carlos | D14: Alvergue municipal 2 | E14: 4 | F14: 500 | G14: Litros (Lts) | H14: Elevado | I14: 8 | J14: 197000 | K14: =+J14*19% -> 37430 | L14: =+J14+K14 -> 234430 | M14: =+L14*I14 -> 1875440 | N14: 160000 | O14: =+N14*19% -> 30400 | P14: =+N14+O14 -> 190400 | Q14: =+P14*I14 -> 1523200 | R14: 175000 | S14: =+R14*19% -> 33250 | T14: =+R14+S14 -> 208250 | U14: =+T14*I14 -> 1666000 | V14: =AVERAGE(J14,N14,R14) -> 177333.33 | W14: =AVERAGE(K14,O14,S14) -> 33693.333 | X14: =AVERAGE(L14,P14,T14) -> 211026.67 | Y14: =AVERAGE(M14,Q14,U14) -> 1688213.3
B15: 12 | C15: Vereda Pueblo Viejo Km. 1,1 variante Cota Chía -San Carlos | D15: La Granja | E15: 3 | F15: 2000 | G15: Litros (Lts) | H15: Elevado | I15: 6 | J15: 175000 | K15: =+J15*19% -> 33250 | L15: =+J15+K15 -> 208250 | M15: =+L15*I15 -> 1249500 | N15: 200000 | O15: =+N15*19% -> 38000 | P15: =+N15+O15 -> 238000 | Q15: =+P15*I15 -> 1428000 | R15: 225000 | S15: =+R15*19% -> 42750 | T15: =+R15+S15 -> 267750 | U15: =+T15*I15 -> 1606500 | V15: =AVERAGE(J15,N15,R15) -> 200000 | W15: =AVERAGE(K15,O15,S15) -> 38000 | X15: =AVERAGE(L15,P15,T15) -> 238000 | Y15: =AVERAGE(M15,Q15,U15) -> 1428000
