Workbook
Name _______________EST1: #REF!
Name _______________EST10: #REF!
Name _______________EST11: #REF!
Name _______________EST12: #REF!
Name _______________EST13: #REF!
Name _______________EST14: #REF!
Name _______________EST15: #REF!
Name _______________EST16: #REF!
Name _______________EST17: #REF!
Name _______________EST18: #REF!
Name _______________EST19: #REF!
Name _______________EST2: #REF!
Name _______________EST3: #REF!
Name _______________EST4: #REF!
Name _______________EST5: #REF!
Name _______________EST6: #REF!
Name _______________EST7: #REF!
Name _______________EST8: #REF!
Name _______________EST9: #REF!
Name _______________EXC1: #REF!
Name _______________EXC10: #REF!
Name _______________EXC11: #REF!
Name _______________EXC12: #REF!
Name _______________EXC2: #REF!
Name _______________EXC3: #REF!
Name _______________EXC4: #REF!
Name _______________EXC5: #REF!
Name _______________EXC6: #REF!
Name _______________EXC7: #REF!
Name _______________EXC8: #REF!
Name _______________EXC9: #REF!
Name _____________EST1: #REF!
Name _____________EST10: #REF!
Name _____________EST11: #REF!
Name _____________EST12: #REF!
Name _____________EST13: #REF!
Name _____________EST14: #REF!
Name _____________EST15: #REF!
Name _____________EST16: #REF!
Name _____________EST17: #REF!
Name _____________EST18: #REF!
Name _____________EST19: #REF!
Name _____________EST2: #REF!
Name _____________EST3: #REF!
Name _____________EST4: #REF!
Name _____________EST5: #REF!
Name _____________EST6: #REF!
Name _____________EST7: #REF!
Name _____________EST8: #REF!
Name _____________EST9: #REF!
Name _____________EXC1: #REF!
Name _____________EXC10: #REF!
Name _____________EXC11: #REF!
Name _____________EXC12: #REF!
Name _____________EXC2: #REF!
Name _____________EXC3: #REF!
Name _____________EXC4: #REF!
Name _____________EXC5: #REF!
Name _____________EXC6: #REF!
Name _____________EXC7: #REF!

Sheet PRESU  ESTIMADO OBRA  ALPES
C3: INTERVENCIONES INTEGRALES DEL HÁBITAT
C4: DIRECCIÓN DE HABITAT Y ENTORNOS SUBSECRETARÍA DE INTERVENCIONES INTEGRALES
C5: OBJETO: REALIZAR EL DIAGNÓSTICO, ACTUALIZACIÓN DE ESTUDIOS, DISEÑOS Y CULMINACIÓN DE LAS OBRAS EN ESPACIO PÚBLICO PARA EL MEJORAMIENTO INTEGRAL DE LOS BARRIOS ALPES Y CARACOLI, QUE HACEN PARTE DEL TERRITORIO PRIORIZADO POR LA SECRETARÍA DISTRITAL DEL HÁBITAT EN LA CONURBACIÓN CIUDAD BOLÍVAR.
C6: PRESUPUESTO ESTIMADO OBRA LOS ALPES
C8: ÍTEM | D8: ACTIVIDAD | E8: UNIDAD | F8: PENDIENTE EJECUCIÓN | G8: VALOR UNITARIO INDEXADO ENE 2022 - JUN 2027 | H8: VALOR PARCIAL
D11: ETAPA 1 ACTUALIZACIÓN ESTUDIOS Y DISEÑOS
C12: E Y D | D12: DIAGNÓSTICO Y ACTUALIZACIÓN - ESTUDIOS Y DISEÑOS | H12: =+H13 -> 485215051
D13: DIAGNÓSTICO Y ACTUALIZACIÓN - ESTUDIOS Y DISEÑOS-VER ANEXO (ACTUALIZ E Y D CIVS LOTE 3) | E13: GL | F13: 1 | G13: ='E Y D PRESU ESTIMADO'!M61 -> 485215051 | H13: =F13*G13 -> 485215051
D14: ETAPA 2 CULMINACIÓN DE OBRAS
C15: 1 | D15: REPLANTEO, DEMOLICIONES Y EXCAVACIONES | H15: =SUM(H16:H23) -> 74578754
C16: 1.1 | D16: REPLANTEO GENERAL | E16: M2 | F16: ='CANTIDADES VALOR INICIAL'!G9 -> 95.74 | G16: =ROUND(Comparativo!M9,0) -> 824 | H16: =ROUND(F16*G16,0) -> 78890
C17: 1.3 | D17: DEMOLICIÓN PISOS DE CONCRETO (INCLUYE CARGUE). NO INCLUYE TRANSPORTE Y DISPOSICIÓN FINAL DE SOBRANTES. RENDIMIENTO ESTIMADO PARA ESPESORES DE 0.20M | E17: M3 | F17: ='CANTIDADES VALOR INICIAL'!G11 -> 43.02 | G17: =ROUND(_xlfn.XLOOKUP(C17,'CANTIDADES VALOR INICIAL'!$C$9:$C$185,'CANTIDADES VALOR INICIAL'!$H$9:$H$185)*'INDEX ICOCIV'!$R$85,0) -> 51176 | H17: =ROUND(F17*G17,0) -> 2201592
C18: 1.6 | D18: DEMOLICION DE POZOS, CAJAS Y CAMARAS DE EMPRESAS DE SERVICIOS PÚBLICOS (INCLUYE MARTILLO NEUMÁTICO DE 60 LB, COMPRESOR Y CARGUE). | E18: M3 | F18: ='CANTIDADES VALOR INICIAL'!G14 -> 29.13 | G18: =ROUND(_xlfn.XLOOKUP(C18,'CANTIDADES VALOR INICIAL'!$C$9:$C$185,'CANTIDADES VALOR INICIAL'!$H$9:$H$185)*'INDEX ICOCIV'!$R$85,0) -> 258227 | H18: =ROUND(F18*G18,0) -> 7522153
C19: 1.7 | D19: DEMOLICION PISOS DE CONCRETO (ESPESOR VARIABLE. INCLUYE CARGUE). NO INCLUYE TRANSPORTE Y DISPOSICIÓN FINAL DE SOBRANTES. RENDIMIENTO ESTIMADO PARA UN ESPESOR DE 0.10M | E19: M2 | F19: ='CANTIDADES VALOR INICIAL'!G15 -> 830.14 | G19: =ROUND(_xlfn.XLOOKUP(C19,'CANTIDADES VALOR INICIAL'!$C$9:$C$185,'CANTIDADES VALOR INICIAL'!$H$9:$H$185)*'INDEX ICOCIV'!$R$85,0) -> 7116 | H19: =ROUND(F19*G19,0) -> 5907276
C20: 1.8 | D20: DEMOLICIÓN CONCRETO ESTRUCTURAL (INCLUYE CARGUE). NO INCLUYE TRANSPORTE Y DISPOSICIÓN FINAL DE SOBRANTES. | E20: M3 | F20: ='CANTIDADES VALOR INICIAL'!G16 -> 1 | G20: =ROUND(_xlfn.XLOOKUP(C20,'CANTIDADES VALOR INICIAL'!$C$9:$C$185,'CANTIDADES VALOR INICIAL'!$H$9:$H$185)*'INDEX ICOCIV'!$R$85,0) -> 166889 | H20: =ROUND(F20*G20,0) -> 166889
C21: 1.9 | D21: EXCAVACION MECANICA EN MATERIAL COMUN (INCLUYE CARGUE) | E21: M3 | F21: ='CANTIDADES VALOR INICIAL'!G17 -> 645.3397 | G21: =ROUND(Comparativo!M10,0) -> 6203 | H21: =ROUND(F21*G21,0) -> 4003042
C22: 1.10 | D22: EXCAVACIÓN MANUAL EN MATERIAL COMÚN (INCL CARGUE, TRANSPORTE Y DISPOSICION FINAL) | E22: M3 | F22: ='CANTIDADES VALOR INICIAL'!G18 -> 95.83 | G22: =ROUND(_xlfn.XLOOKUP(C22,'CANTIDADES VALOR INICIAL'!$C$9:$C$185,'CANTIDADES VALOR INICIAL'!$H$9:$H$185)*'INDEX ICOCIV'!$R$85,0) -> 79702 | H22: =ROUND(F22*G22,0) -> 7637843
C23: 1.13 | D23: TRANSPORTE Y DISPOSICION FINAL DE ESCOMBROS EN SITIO AUTORIZADO (DISTANCIA DE TRANSPORTE 21 KM). A DISTANCIA MAYOR DEL ACARREO LIBRE (90 M) EN SITIO AUTORIZADO POR LA ENTIDAD AMBIENTAL COMPETENTE. | E23: M3 | F23: ='CANTIDADES VALOR INICIAL'!G21 -> 1450.13 | G23: =ROUND(Comparativo!M11,0) -> 32453 | H23: =ROUND(F23*G23,0) -> 47061069
C24: 2 | D24: RELLENOS Y PAVIMENTOS | H24: =SUM(H25:H36) -> 414085293
C25: 2.1 | D25: NIVELACION Y COMPACTACIÓN DE SUBRASANTE | E25: M2 | F25: ='CANTIDADES VALOR INICIAL'!G23 -> 2002.37 | G25: =ROUND(_xlfn.XLOOKUP(C25,'CANTIDADES VALOR INICIAL'!$C$9:$C$185,'CANTIDADES VALOR INICIAL'!$H$9:$H$185)*'INDEX ICOCIV'!$R$85,0) -> 1535 | H25: =ROUND(F25*G25,0) -> 3073638
C26: 2.2 | D26: ESTABILIZACIÓN DE SUBRASANTE CON RAJÓN, INCLUYE EQUIPO DE COMPACTACIÓN (SUMINISTRO, EXTENDIDO, NIVELACIÓN Y COMPACTACIÓN CON EQUIPO MECÁNICO) | E26: M3 | F26: ='CANTIDADES VALOR INICIAL'!G24 -> 601.29 | G26: =ROUND(_xlfn.XLOOKUP(C26,'CANTIDADES VALOR INICIAL'!$C$9:$C$185,'CANTIDADES VALOR INICIAL'!$H$9:$H$185)*'INDEX ICOCIV'!$R$85,0) -> 112382 | H26: =ROUND(F26*G26,0) -> 67574173
C27: 2.4 | D27: SUBBASE GRANULAR CLASE C (SBG _ C) (SUMINISTRO, EXTENDIDO, NIVELACIÓN, HUMEDECIMIENTO Y COMPACTACIÓN CON VIBRO COMPACTADOR). | E27: M3 | F27: ='CANTIDADES VALOR INICIAL'!G26 -> 382.35 | G27: =ROUND(_xlfn.XLOOKUP(C27,'CANTIDADES VALOR INICIAL'!$C$9:$C$185,'CANTIDADES VALOR INICIAL'!$H$9:$H$185)*'INDEX ICOCIV'!$R$85,0) -> 163202 | H27: =ROUND(F27*G27,0) -> 62400285
C28: 2.5 | D28: IMPRIMACIÓN CON EMULSIÓN ASFÁLTICA CLR-0 (SUMINISTRO, BARRIDO, SUPERFICIE Y RIEGO). | E28: M2 | F28: ='CANTIDADES VALOR INICIAL'!G27 -> 49 | G28: =ROUND(_xlfn.XLOOKUP(C28,'CANTIDADES VALOR INICIAL'!$C$9:$C$185,'CANTIDADES VALOR INICIAL'!$H$9:$H$185)*'INDEX ICOCIV'!$R$85,0) -> 3056 | H28: =ROUND(F28*G28,0) -> 149744
C29: 2.6 | D29: MEZCLA ASFÁLTICA EN CALIENTE TIPO DENSO MD12 ASFALTO CONVENCIONAL 80-100 (CEMENTO ASFÁLTICO 80-100) (SUMINISTRO, EXTENDIDO, NIVELACIÓN Y COMPACTACIÓN CON VIBROCOMPACTADOR Y COMPACTADOR DE LLANTAS) | E29: M3 | F29: ='CANTIDADES VALOR INICIAL'!G28 -> 15.35 | G29: =ROUND(_xlfn.XLOOKUP(C29,'CANTIDADES VALOR INICIAL'!$C$9:$C$185,'CANTIDADES VALOR INICIAL'!$H$9:$H$185)*'INDEX ICOCIV'!$R$85,0) -> 812380 | H29: =ROUND(F29*G29,0) -> 12470033
C30: 2.7 | D30: LOSA DE CONCRETO MR 43 (SUMINISTRO, FORMALETEADO, COLOCACIÓN Y ACABADO, NO INCLUYE ACERO, CURADO, JUNTAS)-TEXTURIZADO SIMILAR A A-20. | E30: M3 | F30: ='CANTIDADES VALOR INICIAL'!G29 -> 305.07 | G30: =ROUND(_xlfn.XLOOKUP(C30,'CANTIDADES VALOR INICIAL'!$C$9:$C$185,'CANTIDADES VALOR INICIAL'!$H$9:$H$185)*'INDEX ICOCIV'!$R$85,0) -> 672560 | H30: =ROUND(F30*G30,0) -> 205177879
C31: 2.8 | D31: CURADO DE LOSAS DE CONCRETO (SUMINISTRO Y APLICACIÓN) | E31: M2 | F31: ='CANTIDADES VALOR INICIAL'!G30 -> 945.06 | G31: =ROUND(Comparativo!M12,0) -> 2038 | H31: =ROUND(F31*G31,0) -> 1926032
C32: 2.9 | D32: CORTE Y AMPLIACIÓN DE JUNTA EN PAVIMENTO DE CONCRETO HIDRÁULICO. | E32: M | F32: ='CANTIDADES VALOR INICIAL'!G31 -> 1053.46 | G32: =ROUND(_xlfn.XLOOKUP(C32,'CANTIDADES VALOR INICIAL'!$C$9:$C$185,'CANTIDADES VALOR INICIAL'!$H$9:$H$185)*'INDEX ICOCIV'!$R$85,0) -> 6334 | H32: =ROUND(F32*G32,0) -> 6672616
C33: 2.10 | D33: SELLADO DE JUNTAS EN PAVIMENTO DE CONCRETO HIDRÁULICO (INCLUYE LIMPIEZA, SUMINISTRO E INSTALACIÓN DE FONDO Y SELLANTE) | E33: M | F33: ='CANTIDADES VALOR INICIAL'!G32 -> 1111.02 | G33: =ROUND(_xlfn.XLOOKUP(C33,'CANTIDADES VALOR INICIAL'!$C$9:$C$185,'CANTIDADES VALOR INICIAL'!$H$9:$H$185)*'INDEX ICOCIV'!$R$85,0) -> 11880 | H33: =ROUND(F33*G33,0) -> 13198918
C34: 2.11 | D34: ESTAMPADO PARA CONCRETO MR DE POMPEYANOS, ACCESOS VEHICULARES A PREDIOS Y VÍAS (ACABADO Y CURADO, SUMINISTRO Y MANO DE OBRA, INCLUYE JUEGO DE MOLDES, COLOR ENDURECEDOR DE CUARZO, DESMOLDANTE EN POLVO COLOR, SELLADOR ACRÍLICO TRANSPARENTE SEMILUSTRE). | E34: M2 | F34: ='CANTIDADES VALOR INICIAL'!G33 -> 157 | G34: =ROUND(_xlfn.XLOOKUP(C34,'CANTIDADES VALOR INICIAL'!$C$9:$C$185,'CANTIDADES VALOR INICIAL'!$H$9:$H$185)*'INDEX ICOCIV'!$R$85,0) -> 48279 | H34: =ROUND(F34*G34,0) -> 7579803
C35: 2.13 | D35: CANASTILLA PASAJUNTAS (INCLUYE SUMINISTRO Y FIJACIÓN) | E35: KG | F35: ='CANTIDADES VALOR INICIAL'!G35 -> 1160.81 | G35: =ROUND(_xlfn.XLOOKUP(C35,'CANTIDADES VALOR INICIAL'!$C$9:$C$185,'CANTIDADES VALOR INICIAL'!$H$9:$H$185)*'INDEX ICOCIV'!$R$85,0) -> 6989 | H35: =ROUND(F35*G35,0) -> 8112901
C36: 2.14 | D36: GEOTEXTIL NT 2000 PARA SEPARACION SUBRASANTE/CAPAS GRANULARES (INCLUYE SUMINISTRO E INSTALACIÓN) | E36: M2 | F36: ='CANTIDADES VALOR INICIAL'!G36 -> 2777.1 | G36: =ROUND(_xlfn.XLOOKUP(C36,'CANTIDADES VALOR INICIAL'!$C$9:$C$185,'CANTIDADES VALOR INICIAL'!$H$9:$H$185)*'INDEX ICOCIV'!$R$85,0) -> 9272 | H36: =ROUND(F36*G36,0) -> 25749271
C37: 3 | D37: ACABADOS DE PISOS Y PREFABRICADOS | H37: =SUM(H38:H47) -> 334509767
C38: 3.1 | D38: CAÑUELA TIPO A120 (SUMINISTRO E INSTALACIÓN. INCLUYE 3CM MORTERO 2000 PSI) | E38: M | F38: ='CANTIDADES VALOR INICIAL'!G38 -> 305.76 | G38: =ROUND(_xlfn.XLOOKUP(C38,'CANTIDADES VALOR INICIAL'!$C$9:$C$185,'CANTIDADES VALOR INICIAL'!$H$9:$H$185)*'INDEX ICOCIV'!$R$85,0) -> 62500 | H38: =ROUND(F38*G38,0) -> 19110000
C39: 3.2 | D39: BORDILLO PREFABRICADO A80 (SUMINISTRO E INSTALACIÓN. INCLUYE 3CM MORTERO DE NIVELACIÓN 2000 PSI) | E39: M | F39: ='CANTIDADES VALOR INICIAL'!G39 -> 193.93 | G39: =ROUND(_xlfn.XLOOKUP(C39,'CANTIDADES VALOR INICIAL'!$C$9:$C$185,'CANTIDADES VALOR INICIAL'!$H$9:$H$185)*'INDEX ICOCIV'!$R$85,0) -> 60804 | H39: =ROUND(F39*G39,0) -> 11791720
C40: 3.5 | D40: PISOS EN LOSETA PREFABRICADA TÁCTIL ALERTA Y /O GUÍA (SUMINISTRO E INSTALACIÓN INCLUYE 4 CM DE MORTERO 1:5 HECHO EN OBRA) | E40: M2 | F40: ='CANTIDADES VALOR INICIAL'!G42 -> 45.2 | G40: =ROUND(_xlfn.XLOOKUP(C40,'CANTIDADES VALOR INICIAL'!$C$9:$C$185,'CANTIDADES VALOR INICIAL'!$H$9:$H$185)*'INDEX ICOCIV'!$R$85,0) -> 93052 | H40: =ROUND(F40*G40,0) -> 4205950
C41: 3.6 | D41: ADOQUIN DEMARCADOR VISUAL A-26 | E41: M2 | F41: ='CANTIDADES VALOR INICIAL'!G43 -> 48.98 | G41: =ROUND(_xlfn.XLOOKUP(C41,'CANTIDADES VALOR INICIAL'!$C$9:$C$185,'CANTIDADES VALOR INICIAL'!$H$9:$H$185)*'INDEX ICOCIV'!$R$85,0) -> 95061 | H41: =ROUND(F41*G41,0) -> 4656088
C42: 3.7 | D42: PISO EN LOSETA PREFABRICADA A30 (SUMINISTRO E INSTALACIÓN. INCLUYE BASE 4CM ARENA NIVELACIÓN Y ARENA DE SELLO) | E42: M2 | F42: ='CANTIDADES VALOR INICIAL'!G44 -> 1251.2 | G42: =ROUND(_xlfn.XLOOKUP(C42,'CANTIDADES VALOR INICIAL'!$C$9:$C$185,'CANTIDADES VALOR INICIAL'!$H$9:$H$185)*'INDEX ICOCIV'!$R$85,0) -> 92393 | H42: =ROUND(F42*G42,0) -> 115602122
C43: 3.8 | D43: CONCRETO DE 4000 PSI PARA RAMPAS ACCESOS Y ESCALERAS (PREMEZCLADO INCLUYE SUMINISTRO, FORMALETA, COLOCACIÓN, NO INCLUYE REFUERZO NI CURADO | E43: M3 | F43: ='CANTIDADES VALOR INICIAL'!G45 -> 97.95 | G43: =ROUND(_xlfn.XLOOKUP(C43,'CANTIDADES VALOR INICIAL'!$C$9:$C$185,'CANTIDADES VALOR INICIAL'!$H$9:$H$185)*'INDEX ICOCIV'!$R$85,0) -> 794846 | H43: =ROUND(F43*G43,0) -> 77855166
C44: 3.9 | D44: ACERO DE REFUERZO (INCLUYE SUMINISTRO, FIGURADO Y FIJACIÓN) | E44: KG | F44: ='CANTIDADES VALOR INICIAL'!G46 -> 4382.75 | G44: =ROUND(_xlfn.XLOOKUP(C44,'CANTIDADES VALOR INICIAL'!$C$9:$C$185,'CANTIDADES VALOR INICIAL'!$H$9:$H$185)*'INDEX ICOCIV'!$R$85,0) -> 7176 | H44: =ROUND(F44*G44,0) -> 31450614
C45: 3.10 | D45: LADRILLO PRENSADO (SUMINISTRO E INSTALACION) | E45: M2 | F45: ='CANTIDADES VALOR INICIAL'!G47 -> 355.61 | G45: =ROUND(_xlfn.XLOOKUP(C45,'CANTIDADES VALOR INICIAL'!$C$9:$C$185,'CANTIDADES VALOR INICIAL'!$H$9:$H$185)*'INDEX ICOCIV'!$R$85,0) -> 99707 | H45: =ROUND(F45*G45,0) -> 35456806
...

Sheet LISTA DE PRECIOS UNITARIOS
C3: INTERVENCIONES INTEGRALES DEL HÁBITAT
C4: DIRECCIÓN DE HABITAT Y ENTORNOS SUBSECRETARÍA DE INTERVENCIONES INTEGRALES
C5: OBJETO: REALIZAR EL DIAGNÓSTICO, ACTUALIZACIÓN DE ESTUDIOS, DISEÑOS Y CULMINACIÓN DE LAS OBRAS EN ESPACIO PÚBLICO PARA EL MEJORAMIENTO INTEGRAL DE LOS BARRIOS ALPES Y CARACOLI, QUE HACEN PARTE DEL TERRITORIO PRIORIZADO POR LA SECRETARÍA DISTRITAL DEL HÁBITAT EN LA CONURBACIÓN CIUDAD BOLÍVAR.
C6: PRECIOS UNITARIOS INDEXADOS OBRA LOS ALPES
C8: ÍTEM | D8: ACTIVIDAD | E8: UNIDAD | F8: VALOR UNITARIO INDEXADO ENE 2022 - JUN 2027
C11: ='VALORES INDEXADOS OBRA ALPES'!C12 -> 1 | D11: ='VALORES INDEXADOS OBRA ALPES'!D12 -> REPLANTEO, DEMOLICIONES Y EXCAVACIONES
C12: ='VALORES INDEXADOS OBRA ALPES'!C14 -> 1.2 | D12: ='VALORES INDEXADOS OBRA ALPES'!D14 -> DEMOLICION PAVIMENTO ASFALTICO (ESPESOR VARIABLE. INCLUYE CARGUE). NO INCLUYE TRANSPORTE Y DISPOSICIÓN FINAL DE SOBRANTES. RENDIMIENTO ESTIMADO PARA ESPESORES MÁX. 0.15M. | E12: ='VALORES INDEXADOS OBRA ALPES'!E14 -> M3 | F12: =_xlfn.XLOOKUP(C12,'CANTIDADES VALOR INICIAL'!$C$9:$C$185,'CANTIDADES VALOR INICIAL'!$I$9:$I$185) -> 34008
C13: ='VALORES INDEXADOS OBRA ALPES'!C16 -> 1.4 | D13: ='VALORES INDEXADOS OBRA ALPES'!D16 -> DEMOLICION MANUAL SARDINEL EXISTENTE (INCLUYE CARGUE). NO INCLUYE TRANSPORTE Y DISPOSICIÓN FINAL DE SOBRANTES. | E13: ='VALORES INDEXADOS OBRA ALPES'!E16 -> M | F13: =_xlfn.XLOOKUP(C13,'CANTIDADES VALOR INICIAL'!$C$9:$C$185,'CANTIDADES VALOR INICIAL'!$I$9:$I$185) -> 5439
C14: ='VALORES INDEXADOS OBRA ALPES'!C17 -> 1.5 | D14: ='VALORES INDEXADOS OBRA ALPES'!D17 -> DEMOLICION SUMIDERO EXISTENTE (INCLUYE CARGUE) | E14: ='VALORES INDEXADOS OBRA ALPES'!E17 -> UN | F14: =_xlfn.XLOOKUP(C14,'CANTIDADES VALOR INICIAL'!$C$9:$C$185,'CANTIDADES VALOR INICIAL'!$I$9:$I$185) -> 167644
C15: ='VALORES INDEXADOS OBRA ALPES'!C23 -> 1.11 | D15: ='VALORES INDEXADOS OBRA ALPES'!D23 -> FRESADO PAVIMENTO ASFALTICO PROFUNDIDAD DE FRESADO 0 - 18 CM. (INCLUYE CARGUE) | E15: ='VALORES INDEXADOS OBRA ALPES'!E23 -> M3 | F15: =_xlfn.XLOOKUP(C15,'CANTIDADES VALOR INICIAL'!$C$9:$C$185,'CANTIDADES VALOR INICIAL'!$I$9:$I$185) -> 102518
C16: ='VALORES INDEXADOS OBRA ALPES'!C24 -> 1.12 | D16: ='VALORES INDEXADOS OBRA ALPES'!D24 -> TALA DE ARBOLES CLASE I (H<5M. INCLUYE DESENRAÍCE, RETIRO Y DISPOSICIÓN FINAL) | E16: ='VALORES INDEXADOS OBRA ALPES'!E24 -> UN | F16: =_xlfn.XLOOKUP(C16,'CANTIDADES VALOR INICIAL'!$C$9:$C$185,'CANTIDADES VALOR INICIAL'!$I$9:$I$185) -> 178280
C17: ='VALORES INDEXADOS OBRA ALPES'!C26 -> 2 | D17: ='VALORES INDEXADOS OBRA ALPES'!D26 -> RELLENOS Y PAVIMENTOS
C18: ='VALORES INDEXADOS OBRA ALPES'!C29 -> 2.3 | D18: ='VALORES INDEXADOS OBRA ALPES'!D29 -> SUBBASE GRANULAR CLASE A (SBG_A) (SUMINISTRO, EXTENDIDO, NIVELACIÓN, HUMEDECIMIENTO Y COMPACTACIÓN CON VIBRO COMPACTADOR) | E18: ='VALORES INDEXADOS OBRA ALPES'!E29 -> M3 | F18: =_xlfn.XLOOKUP(C18,'CANTIDADES VALOR INICIAL'!$C$9:$C$185,'CANTIDADES VALOR INICIAL'!$I$9:$I$185) -> 152497
C19: ='VALORES INDEXADOS OBRA ALPES'!C38 -> 2.12 | D19: ='VALORES INDEXADOS OBRA ALPES'!D38 -> ACERO DE REFUERZO (INCLUYE SUMINISTRO, FIGURADO Y FIJACIÓN) | E19: ='VALORES INDEXADOS OBRA ALPES'!E38 -> KG | F19: =_xlfn.XLOOKUP(C19,'CANTIDADES VALOR INICIAL'!$C$9:$C$185,'CANTIDADES VALOR INICIAL'!$I$9:$I$185) -> 7176
C20: ='VALORES INDEXADOS OBRA ALPES'!C41 -> 3 | D20: ='VALORES INDEXADOS OBRA ALPES'!D41 -> ACABADOS DE PISOS Y PREFABRICADOS
C21: ='VALORES INDEXADOS OBRA ALPES'!C44 -> 3.3 | D21: ='VALORES INDEXADOS OBRA ALPES'!D44 -> RAMPA VEHICULAR FUNDIDA EN EL SITIO EN CONCRETO PREMEZCLADO DE 3000 PSI (GRAVA COMUN) SUM, CONSTR. E INSTALACIÓN. INCLUYE ACABADO EN ADOQUIN DE ARCILLA TIPO TRÁFICO PESADO O SIMILAR, BASE DE 4CM EN MORTERO DE 2000 PSI. | E21: ='VALORES INDEXADOS OBRA ALPES'!E44 -> M2 | F21: =_xlfn.XLOOKUP(C21,'CANTIDADES VALOR INICIAL'!$C$9:$C$185,'CANTIDADES VALOR INICIAL'!$I$9:$I$185) -> 155156
C22: ='VALORES INDEXADOS OBRA ALPES'!C45 -> 3.4 | D22: ='VALORES INDEXADOS OBRA ALPES'!D45 -> SARDINEL TIPO A-10 (SUMINISTRO E INSTALACIÓN, INCLUYE 3 CM MORTERO 1:5) | E22: ='VALORES INDEXADOS OBRA ALPES'!E45 -> M | F22: =ROUND(Comparativo!M29,0) -> 72134
C23: ='VALORES INDEXADOS OBRA ALPES'!C53 -> 3.12 | D23: ='VALORES INDEXADOS OBRA ALPES'!D53 -> SIEMBRA DE GRAMA (INCLUYE SUMINISTRO E INSTALACIÓN. INCLUYE 10CM DE TIERRA NEGRA) | E23: ='VALORES INDEXADOS OBRA ALPES'!E53 -> M2 | F23: =_xlfn.XLOOKUP(C23,'CANTIDADES VALOR INICIAL'!$C$9:$C$185,'CANTIDADES VALOR INICIAL'!$I$9:$I$185) -> 13511
C24: ='VALORES INDEXADOS OBRA ALPES'!C54 -> 3.13 | D24: ='VALORES INDEXADOS OBRA ALPES'!D54 -> PIEDRA RAJÓN E= 30 CM INCLUYE MORTERO 2500 PSI PARA PEGA E= 10 CM (INCLUYE SUMINISTRO E INSTALACIÓN) | E24: ='VALORES INDEXADOS OBRA ALPES'!E54 -> M3 | F24: =_xlfn.XLOOKUP(C24,'CANTIDADES VALOR INICIAL'!$C$9:$C$185,'CANTIDADES VALOR INICIAL'!$I$9:$I$185) -> 159128
C25: ='VALORES INDEXADOS OBRA ALPES'!C55 -> 3.14 | D25: ='VALORES INDEXADOS OBRA ALPES'!D55 -> CAÑUELA TIPO C - FUNDIDA EN SITIO 2500 PSI | E25: ='VALORES INDEXADOS OBRA ALPES'!E55 -> ML | F25: =_xlfn.XLOOKUP(C25,'CANTIDADES VALOR INICIAL'!$C$9:$C$185,'CANTIDADES VALOR INICIAL'!$I$9:$I$185) -> 78125
C26: ='VALORES INDEXADOS OBRA ALPES'!C57 -> 4 | D26: ='VALORES INDEXADOS OBRA ALPES'!D57 -> MUROS ESTRUCTURALES
C27: ='VALORES INDEXADOS OBRA ALPES'!C66 -> 4.9 | D27: ='VALORES INDEXADOS OBRA ALPES'!D66 -> CONCRETO 3500 PSI PARA MURO ESTRUCTURAL (PREMEZCLADO. INCL. SUMIN, FORMALETEO, BOMBEO Y COLOCACIÓN. NO INCL. REFUERZO, CURADO) | E27: ='VALORES INDEXADOS OBRA ALPES'!E66 -> M3 | F27: =_xlfn.XLOOKUP(C27,'CANTIDADES VALOR INICIAL'!$C$9:$C$185,'CANTIDADES VALOR INICIAL'!$I$9:$I$185) -> 975600
C28: ='VALORES INDEXADOS OBRA ALPES'!C67 -> 4.10 | D28: ='VALORES INDEXADOS OBRA ALPES'!D67 -> ACERO DE REFUERZO (INCLUYE SUMINISTRO, FIGURADO Y FIJACIÓN) | E28: ='VALORES INDEXADOS OBRA ALPES'!E67 -> KG | F28: =_xlfn.XLOOKUP(C28,'CANTIDADES VALOR INICIAL'!$C$9:$C$185,'CANTIDADES VALOR INICIAL'!$I$9:$I$185) -> 3419
C29: ='VALORES INDEXADOS OBRA ALPES'!C68 -> 4.11 | D29: ='VALORES INDEXADOS OBRA ALPES'!D68 -> CURADO DE CONCRETO (SUMINISTRO Y APLICACIÓN) | E29: ='VALORES INDEXADOS OBRA ALPES'!E68 -> M2 | F29: =_xlfn.XLOOKUP(C29,'CANTIDADES VALOR INICIAL'!$C$9:$C$185,'CANTIDADES VALOR INICIAL'!$I$9:$I$185) -> 1854
C30: ='VALORES INDEXADOS OBRA ALPES'!C69 -> 4.12 | D30: ='VALORES INDEXADOS OBRA ALPES'!D69 -> CONCRETO 2000 PSI (HECHO EN OBRA 1:3:3 CON ARENA DE RÍO Y TRITURADO DE 3/4") | E30: ='VALORES INDEXADOS OBRA ALPES'!E69 -> M3 | F30: =_xlfn.XLOOKUP(C30,'CANTIDADES VALOR INICIAL'!$C$9:$C$185,'CANTIDADES VALOR INICIAL'!$I$9:$I$185) -> 386031
C31: ='VALORES INDEXADOS OBRA ALPES'!C70 -> 4.13 | D31: ='VALORES INDEXADOS OBRA ALPES'!D70 -> GEODREN PLANAR H=1.0 M. SUMINISTRO E INSTALACION. | E31: ='VALORES INDEXADOS OBRA ALPES'!E70 -> ML | F31: =_xlfn.XLOOKUP(C31,'CANTIDADES VALOR INICIAL'!$C$9:$C$185,'CANTIDADES VALOR INICIAL'!$I$9:$I$185) -> 37717
C32: ='VALORES INDEXADOS OBRA ALPES'!C71 -> 4.14 | D32: ='VALORES INDEXADOS OBRA ALPES'!D71 -> TUBERIA PVC PARA DRENAJE D=4" SIN FILTRO (INCLUYE SUMINISTRO E INSTALACIÓN) | E32: ='VALORES INDEXADOS OBRA ALPES'!E71 -> ML | F32: =_xlfn.XLOOKUP(C32,'CANTIDADES VALOR INICIAL'!$C$9:$C$185,'CANTIDADES VALOR INICIAL'!$I$9:$I$185) -> 32694
C33: ='VALORES INDEXADOS OBRA ALPES'!C72 -> 4.15 | D33: ='VALORES INDEXADOS OBRA ALPES'!D72 -> TUBERIA PVC D=2" TIPO U.M. RDE 21 (SUMINISTRO E INSTALACIÓN) | E33: ='VALORES INDEXADOS OBRA ALPES'!E72 -> ML | F33: =_xlfn.XLOOKUP(C33,'CANTIDADES VALOR INICIAL'!$C$9:$C$185,'CANTIDADES VALOR INICIAL'!$I$9:$I$185) -> 13548
C34: ='VALORES INDEXADOS OBRA ALPES'!C73 -> 5 | D34: ='VALORES INDEXADOS OBRA ALPES'!D73 -> MOBILIARIO URBANO
C35: ='VALORES INDEXADOS OBRA ALPES'!C76 -> 5.3 | D35: ='VALORES INDEXADOS OBRA ALPES'!D76 -> BANCA EN CONCRETO TIPO M40 (SUMINISTRO E INSTALACIÓN) | E35: ='VALORES INDEXADOS OBRA ALPES'!E76 -> UN | F35: =_xlfn.XLOOKUP(C35,'CANTIDADES VALOR INICIAL'!$C$9:$C$185,'CANTIDADES VALOR INICIAL'!$I$9:$I$185) -> 201227
C36: ='VALORES INDEXADOS OBRA ALPES'!C78 -> 5.5 | D36: ='VALORES INDEXADOS OBRA ALPES'!D78 -> CONTENEDOR DE RAÍCES, INCLUYE MUROS EN CONCRETO GRAVA COMÚN 300 PSI (210 KG/CM2), SUMINISTRO Y CONSTRUCCIÓN Y FILTRO EN GRAVILLA ½”, FORMALETA Y REFUERZO NO INCLUYE TIERRA NEGRA. | E36: ='VALORES INDEXADOS OBRA ALPES'!E78 -> M2 | F36: =_xlfn.XLOOKUP(C36,'CANTIDADES VALOR INICIAL'!$C$9:$C$185,'CANTIDADES VALOR INICIAL'!$I$9:$I$185) -> 840674
C37: ='VALORES INDEXADOS OBRA ALPES'!C79 -> 5.6 | D37: ='VALORES INDEXADOS OBRA ALPES'!D79 -> BORDE CONTENEDOR DE RAÍCES A-70 (INCLUYE SUMINISTRO E INSTALACIÓN, INCLUYE BASE DE 3CM EN MORTERO 1:3 HECHO EN OBRA | E37: ='VALORES INDEXADOS OBRA ALPES'!E79 -> M | F37: =_xlfn.XLOOKUP(C37,'CANTIDADES VALOR INICIAL'!$C$9:$C$185,'CANTIDADES VALOR INICIAL'!$I$9:$I$185) -> 37503
C38: ='VALORES INDEXADOS OBRA ALPES'!C81 -> 5.8 | D38: ='VALORES INDEXADOS OBRA ALPES'!D81 -> FUCCIA H=1.3MT (INCLUYE TIERRA, ABONO, TUTOR, TRANSPORTE Y DISPOSICIÓN FINAL DE ESCOMBROS A 28 KM). SUMINISTRO Y PLANTACION. | E38: ='VALORES INDEXADOS OBRA ALPES'!E81 -> UN | F38: =_xlfn.XLOOKUP(C38,'CANTIDADES VALOR INICIAL'!$C$9:$C$185,'CANTIDADES VALOR INICIAL'!$I$9:$I$185) -> 296852
C39: ='VALORES INDEXADOS OBRA ALPES'!C82 -> 5.9 | D39: ='VALORES INDEXADOS OBRA ALPES'!D82 -> CHICALA H=1.5MT (INCLUYE SIEMBRA, CAJA, TIERRA, ABONO, TUTOR, TRANSPORTE Y DISPOSICIÓN FINAL DE ESCOMBROS 28 KM). SUMINISTRO Y PLANTACION. | E39: ='VALORES INDEXADOS OBRA ALPES'!E82 -> UN | F39: =_xlfn.XLOOKUP(C39,'CANTIDADES VALOR INICIAL'!$C$9:$C$185,'CANTIDADES VALOR INICIAL'!$I$9:$I$185) -> 288254
C40: ='VALORES INDEXADOS OBRA ALPES'!C83 -> 5.10 | D40: ='VALORES INDEXADOS OBRA ALPES'!D83 -> MANGUE TIERRA FRIA H= 1.5M DE ALTURA (INCLUYE TIERRA, ABONO, TUTOR, TRANSPORTE Y DISPOSICIÓN FINAL DE ESCOMBROS A 28 KM) SUMINISTRO Y PLANTACIÓN | E40: ='VALORES INDEXADOS OBRA ALPES'!E83 -> UN | F40: =_xlfn.XLOOKUP(C40,'CANTIDADES VALOR INICIAL'!$C$9:$C$185,'CANTIDADES VALOR INICIAL'!$I$9:$I$185) -> 288255
C41: ='VALORES INDEXADOS OBRA ALPES'!C85 -> 6 | D41: ='VALORES INDEXADOS OBRA ALPES'!D85 -> REDES HIDRAULICAS
C42: ='VALORES INDEXADOS OBRA ALPES'!C91 -> 6.6 | D42: ='VALORES INDEXADOS OBRA ALPES'!D91 -> CONSTRUCCION CANALETA DE AGUAS LLUVIAS DE 0.4 X 0.4 MT EN CONCRETO DE 3000PSI INCLUYE REJILLA PREFABRICADA. | E42: ='VALORES INDEXADOS OBRA ALPES'!E91 -> M | F42: =ROUND(Comparativo!M15,0) -> 224849
C43: ='VALORES INDEXADOS OBRA ALPES'!C92 -> 6.7 | D43: ='VALORES INDEXADOS OBRA ALPES'!D92 -> SUMINISTRO E INSTALACIÓN DE BOLSACRETO | E43: ='VALORES INDEXADOS OBRA ALPES'!E92 -> M3 | F43: =_xlfn.XLOOKUP(C43,'CANTIDADES VALOR INICIAL'!$C$9:$C$185,'CANTIDADES VALOR INICIAL'!$I$9:$I$185) -> 814528
C44: ='VALORES INDEXADOS OBRA ALPES'!C95 -> 6.10 | D44: ='VALORES INDEXADOS OBRA ALPES'!D95 -> RELLENO CON GRAVA ENTRE 3/4" Y 1/2" PARA FILTROS (RELACIÓN 1:1) SUMINISTRO Y COLOCACIÓN. (INCLUYE TRANSPORTE, SUMINISTRO, EXTENDIDO MANUAL Y COLOCACIÓN) | E44: ='VALORES INDEXADOS OBRA ALPES'!E95 -> M3 | F44: =_xlfn.XLOOKUP(C44,'CANTIDADES VALOR INICIAL'!$C$9:$C$185,'CANTIDADES VALOR INICIAL'!$I$9:$I$185) -> 136945
C45: ='VALORES INDEXADOS OBRA ALPES'!C97 -> 6.12 | D45: ='VALORES INDEXADOS OBRA ALPES'!D97 -> ENTIBADO EC-2 CONTÍNUO MADERA CON PERFILES METÁLICOS Y PARALES TELESCÓPICOS. SUMINISTRO E INSTALACIÓN. | E45: ='VALORES INDEXADOS OBRA ALPES'!E97 -> M2 | F45: =ROUND(Comparativo!M17,0) -> 67935
...

Sheet E Y D PRESU ESTIMADO
B1: INTERVENCIONES INTEGRALES DEL HÁBITAT
B2: DIRECCIÓN DE HABITAT Y ENTORNOS SUBSECRETARÍA DE INTERVENCIONES INTEGRALES
M3: AGOSTO 2026
M4: SALARIO MÍNIMO
B5: OBJETO: REALIZAR EL DIAGNÓSTICO, ACTUALIZACIÓN DE ESTUDIOS, DISEÑOS Y CULMINACIÓN DE LAS OBRAS EN ESPACIO PÚBLICO PARA EL MEJORAMIENTO INTEGRAL DE LOS BARRIOS ALPES Y CARACOLI, QUE HACEN PARTE DEL TERRITORIO PRIORIZADO POR LA SECRETARÍA DISTRITAL DEL HÁBITAT EN LA CONURBACIÓN CIUDAD BOLÍVAR.
B6: TIEMPO DE EJECUCIÓN: 5 meses | H6: =+'[1]Interv-E y D CIVs Lote 3'!H7 -> 2355 M2
B7: ÍTEM | C7: DESCRIPCIÓN | E7: ESPECIALISTA | G7: AÑOS DE EXPERIENCIA | I7: UND | J7: % | K7: VR. UNITARIO | L7: VR. PARCIAL | M7: VR. TOTAL
E8: SI | F8: NO | G8: PROF | H8: ESPEC
B10: 10 | C10: PROFESIONAL MÍNIMO CALIFICABLE | D10: PROFESIÓN | I10: MESES | J10: DEDICACIÓN | K10: SALARIO | L10: SUBTOTAL | M10: =SUM(L11:L17) -> 47244900
B11: 10.01 | C11: Director de la Consultoría | D11: Ingeniería Civil o Arquitectura | E11: 1 | G11: 8 | H11: 5 | I11: 5 | J11: 0.3 | K11: =SALARIOS!F8 -> 11183000 | L11: =E11*(J11*I11)*K11 -> 16774500
B12: 10.02 | C12: Especialista en diseño arquitectónico | D12: Arquitectura | E12: 1 | G12: 6 | H12: 4 | I12: 3 | J12: 0.3 | K12: =SALARIOS!$F$9 -> 9522000 | L12: =E12*(J12*I12)*K12 -> 8569800
B13: 10.03 | C13: Especialista en paisajismo | D13: Arquitectura | E13: 1 | G13: 6 | H13: 4 | I13: 2 | J13: 0.2 | K13: =SALARIOS!$F$9 -> 9522000 | L13: =E13*(J13*I13)*K13 -> 3808800
B14: 10.04 | C14: Especialista en Vías | D14: Ingeniería Civil o de vías | E14: 1 | G14: 6 | H14: 4 | I14: 2 | J14: 0.1 | K14: =SALARIOS!$F$9 -> 9522000 | L14: =E14*(J14*I14)*K14 -> 1904400
B15: 10.05 | C15: Especialista en Transporte y Movilidad | D15: Ingeniería de Transporte | E15: 1 | G15: 6 | H15: 4 | I15: 2 | J15: 0.1 | K15: =SALARIOS!$F$9 -> 9522000 | L15: =E15*(J15*I15)*K15 -> 1904400
B16: 10.06 | C16: Especialista en redes eléctricas y Energía Solar | D16: Ingeniero Eléctrico | E16: 1 | G16: 6 | H16: 4 | I16: 3 | J16: 0.1 | K16: =SALARIOS!$F$9 -> 9522000 | L16: =E16*(J16*I16)*K16 -> 2856600
B17: 10.07 | C17: Especialista en redes hidrosanitarias. Suds y saneamiento básico | D17: Ingeniería Civil o Sanitaria | E17: 1 | G17: 6 | H17: 4 | I17: 3 | J17: 0.4 | K17: =SALARIOS!$F$9 -> 9522000 | L17: =E17*(J17*I17)*K17 -> 11426400
B19: 20 | C19: PROFESIONALES DE APOYO | D19: PROFESIÓN | I19: MESES | J19: DEDICACIÓN | K19: SALARIO | L19: SUBTOTAL | M19: =SUM(L20:L29) -> 55886400
B20: 20.01 | C20: Especialista en Estructuras | D20: Ingeniería Civil | E20: 1 | G20: 6 | H20: 4 | I20: 3 | J20: 0.4 | K20: =SALARIOS!$F$9 -> 9522000 | L20: =E20*J20*K20*I20 -> 11426400
B21: 20.02 | C21: Especialista en geotecnia | D21: Ingeniería Civil | E21: 1 | G21: 6 | H21: 4 | I21: 3 | J21: 0.4 | K21: =SALARIOS!$F$9 -> 9522000 | L21: =E21*J21*K21*I21 -> 11426400
B22: 20.03 | C22: Especialista en gestión ambiental (construcción sostenible) | D22: Ingeniería Ambiental o Afines | E22: 1 | G22: 6 | H22: 4 | I22: 5 | J22: 0.1 | K22: =SALARIOS!$F$9 -> 9522000 | L22: =E22*J22*K22*I22 -> 4761000
B23: 20.04 | C23: Ingeniero forestal | D23: Ingeniería Forestal | F23: 1 | G23: 4 | H23: 3 | I23: 3 | J23: 0.1 | K23: =SALARIOS!$F$10 -> 8589000 | L23: =J23*K23*I23*F23 -> 2576700
B24: 20.05 | C24: Ingeniero Geologo | D24: Ingeniería gelógica | F24: 1 | G24: 4 | H24: 3 | I24: 3 | J24: 0.2 | K24: =SALARIOS!$F$10 -> 8589000 | L24: =J24*K24*I24*F24 -> 5153400
B25: 20.06 | C25: Ingeniero hidrolologo | D25: Ingeniería hidrologica | F25: 1 | G25: 4 | H25: 3 | I25: 3 | J25: 0.2 | K25: =SALARIOS!$F$10 -> 8589000 | L25: =J25*K25*I25*F25 -> 5153400
B26: 20.07 | C26: Arqueólogo | D26: Arqueología o afines | F26: 1 | G26: 4 | H26: 3 | I26: 2 | J26: 0.2 | K26: =SALARIOS!$F$10 -> 8589000 | L26: =J26*K26*I26*F26 -> 3435600
B27: 20.08 | C27: Profesional en presupuestos, especificaciones, cantidades, programación y APUS | D27: Ingeniero Civil | F27: 1 | G27: 4 | H27: 3 | I27: 5 | J27: 0.1 | K27: =SALARIOS!$F$10 -> 8589000 | L27: =J27*K27*I27*F27 -> 4294500
B28: 20.09 | C28: Profesional SST | D28: Ingeniero Industrial, SST o afines | F28: 1 | G28: 3 | H28: 1 | I28: 5 | J28: 0.1 | K28: =SALARIOS!$F$11 -> 7659000 | L28: =J28*K28*I28*F28 -> 3829500
B29: 20.10 | C29: Profesional en gestión social | D29: Trabajo Social, socióloga, psicóloga social, Antropóloga | F29: 1 | G29: 3 | H29: 1 | I29: 5 | J29: 0.1 | K29: =SALARIOS!$F$11 -> 7659000 | L29: =J29*K29*I29*F29 -> 3829500
B31: 30 | C31: PROFESIONALES DE LEGALIZACIÓN Y GESTIÓN PREDIAL | D31: PROFESIÓN | I31: MESES | J31: DEDICACIÓN | K31: SALARIO | L31: SUBTOTAL | M31: =SUM(L32:L34) -> 9187800
B32: 30.01 | C32: Especialista en normatividad | D32: Arquitectura | E32: 1 | G32: 6 | H32: 4 | I32: 3 | J32: 0.1 | K32: =SALARIOS!$F$9 -> 9522000 | L32: =E32*(J32*I32)*K32 -> 2856600
B33: 30.02 | C33: Especialista derecho urbano | D33: Abogado | E33: 1 | G33: 6 | H33: 4 | I33: 3 | J33: 0.1 | K33: =SALARIOS!$F$9 -> 9522000 | L33: =E33*(J33*I33)*K33 -> 2856600
B34: 30.03 | C34: Técnico en manejo de registro fotográfico y topográfico | D34: Técnico en fotografía y dibujo | F34: 1 | G34: 2 | H34: 1 | I34: 3 | J34: 0.2 | K34: =SALARIOS!$F$12 -> 5791000 | L34: =J34*K34*I34*F34 -> 3474600
B36: 40 | C36: OTRO PERSONAL | D36: FORMACIÓN | I36: MESES | J36: DEDICACIÓN | K36: SALARIO | L36: SUBTOTAL | M36: =SUM(L37:L46) -> 46784310
B37: 40.01 | C37: Gestor urbano y soporte SIG | D37: Ingeniero geógrafo o catastral | F37: 1 | G37: 2 | I37: 3 | J37: 0.3 | K37: =SALARIOS!$F$12 -> 5791000 | L37: =F37*J37*K37*I37 -> 5211900
B38: 40.02 | C38: Representación arquitectónica 2D | D38: Arquitectura | F38: 1 | G38: 2 | I38: 4 | J38: 0.5 | K38: =SALARIOS!$F$12 -> 5791000 | L38: =F38*J38*K38*I38 -> 11582000
B39: 40.03 | C39: Representación arquitectónica 3D | D39: Arquitectura | F39: 1 | G39: 2 | I39: 4 | J39: 0.4 | K39: =SALARIOS!$F$12 -> 5791000 | L39: =F39*J39*K39*I39 -> 9265600
B40: 40.04 | C40: Coordinador arquitectónica BIM | D40: Arquitectura | F40: 1 | G40: 2 | I40: 4 | J40: 0.2 | K40: =SALARIOS!$F$12 -> 5791000 | L40: =F40*J40*K40*I40 -> 4632800
B41: 40.05 | C41: Ingeniero topógrafo | D41: Ingeniero-Topografía | F41: 1 | G41: 2 | I41: 3 | J41: 0.4 | K41: =SALARIOS!$F$12 -> 5791000 | L41: =F41*J41*K41*I41 -> 6949200
B42: 40.06 | C42: Operario dron | D42: Técnico | F42: 1 | G42: 2 | I42: 1 | J42: 0.5 | K42: =SALARIOS!F15 -> 2018000 | L42: =F42*J42*K42*I42 -> 1009000
B43: 40.07 | C43: Cadenero 1 | D43: Técnico | F43: 1 | G43: 2 | I43: 2 | J43: 0.5 | K43: =SALARIOS!F14 -> 2316000 | L43: =F43*J43*K43*I43 -> 2316000
B44: 40.08 | C44: Cadenero 2 | D44: Técnico | F44: 1 | G44: 2 | I44: 2 | J44: 0.5 | K44: =SALARIOS!F14 -> 2316000 | L44: =F44*J44*K44*I44 -> 2316000
...

Sheet AIU
C1: SECRETARÍA DISTRITAL DEL HABITAT
C2: SUBSECRETARÍA DE INTERVENCIONES INTEGRALES
C3: DIRECCIÓN DE HABITAT Y ENTORNOS
C4: OBJETO DE LA LICITACIÓN: | D4: REALIZAR EL DIAGNÓSTICO, ACTUALIZACIÓN DE ESTUDIOS, DISEÑOS Y CULMINACIÓN DE LAS OBRAS EN ESPACIO PÚBLICO PARA EL MEJORAMIENTO INTEGRAL DE LOS BARRIOS ALPES Y CARACOLI, QUE HACEN PARTE DEL TERRITORIO PRIORIZADO POR LA SECRETARÍA DISTRITAL DEL HÁBITAT EN LA CONURBACIÓN CIUDAD BOLÍVAR.
I5: {=+'E Y D PRESU ESTIMADO'!M3:N3} -> AGOSTO 2026 | J5: 0
C6: COSTO DIRECTO ESTIMADO DE OBRA (CD) | E6: ='PRESU ESTIMADO OBRA ALPES'!H87 -> 2411815584 | F6: TIEMPO ESTIMADO EJECUCION DE OBRA (MESES) | I6: 7
C8: A. ADMINISTRACION
C9: Cargo | D9: # | E9: Dedicación Mes | F9: Valor salario mes | G9: Factor multiplicador | H9: Periodo en Obra | I9: Salario total + Prestaciones
D10: A | E10: B | F10: C | G10: D | H10: E | I10: E=((A*B*C*D)+C)*E
C11: 1,1 PERSONAL PROFESIONAL | D11: CANT
C12: DIRECTOR DE OBRA ESPECIALISTA | D12: 1 | E12: 0.4 | F12: =SALARIOS!F8 -> 11183000 | G12: =FM!C46 -> 2.02896 | H12: =+$I$6 -> 7 | I12: =(F12*G12)*D12*E12*H12 -> 63531607
C13: RESIDENTE DE OBRA | D13: 1 | E13: 1 | F13: =SALARIOS!F9 -> 9522000 | G13: =+$G$12 -> 2.02896 | H13: =+$I$6 -> 7 | I13: =(F13*G13)*D13*E13*H13 -> 1.352383e+08
C14: PROFESIONAL EN INGENIERÍA AMBIENTAL | D14: 1 | E14: 0.5 | F14: =SALARIOS!$F$10 -> 8589000 | G14: =+$G$12 -> 2.02896 | H14: =+$I$6 -> 7 | I14: =(F14*G14)*D14*E14*H14 -> 60993581
C15: PROFESIONAL EN INGENIERÍA FORESTAL | D15: 1 | E15: 0.1 | F15: =SALARIOS!$F$10 -> 8589000 | G15: =+$G$12 -> 2.02896 | H15: 2 | I15: =(F15*G15)*D15*E15*H15 -> 3485347.5
C16: ESPECIALISTA INGENIERO ELÉCTRICO | D16: 1 | E16: 0.15 | F16: =SALARIOS!$F$10 -> 8589000 | G16: =+$G$12 -> 2.02896 | H16: 4 | I16: =(F16*G16)*D16*E16*H16 -> 10456042
C17: ESPECIALISTA INGENIERO HIDRÁULICO | D17: 1 | E17: 0.3 | F17: =SALARIOS!$F$10 -> 8589000 | G17: =+$G$12 -> 2.02896 | H17: 5 | I17: =(F17*G17)*D17*E17*H17 -> 26140106
C18: ESPECIALISTA INGENIERO ESTRUCTURAL | D18: 1 | E18: 0.2 | F18: =SALARIOS!$F$10 -> 8589000 | G18: =+$G$12 -> 2.02896 | H18: 3 | I18: =(F18*G18)*D18*E18*H18 -> 10456042
C19: ESPECIALISTA INGENIERO VÍAS | D19: 1 | E19: 0.2 | F19: =SALARIOS!$F$10 -> 8589000 | G19: =+$G$12 -> 2.02896 | H19: 1 | I19: =(F19*G19)*D19*E19*H19 -> 3485347.5
C20: PROFESIONAL SOCIAL | D20: 1 | E20: 0.5 | F20: =SALARIOS!$F$11 -> 7659000 | G20: =+$G$12 -> 2.02896 | H20: =+$I$6 -> 7 | I20: =(F20*G20)*D20*E20*H20 -> 54389316
C21: PROFESIONAL EN CALIDAD | D21: 1 | E21: 0.3 | F21: =SALARIOS!$F$11 -> 7659000 | G21: =+$G$12 -> 2.02896 | H21: =+$I$6 -> 7 | I21: =(F21*G21)*D21*E21*H21 -> 32633590
C22: ESPECIALISTA GEOTECNISTA | D22: 1 | E22: 0.2 | F22: =SALARIOS!$F$11 -> 7659000 | G22: =+$G$12 -> 2.02896 | H22: 3 | I22: =(F22*G22)*D22*E22*H22 -> 9323882.8
C23: PROFESIONAL EN PRESUPUESTO Y PROGRAMACIÓN | D23: 1 | E23: 0.3 | F23: =SALARIOS!$F$11 -> 7659000 | G23: =+$G$12 -> 2.02896 | H23: 3 | I23: =(F23*G23)*D23*E23*H23 -> 13985824
C24: PROFESIONAL SST | D24: 1 | E24: 1 | F24: =SALARIOS!$F$11 -> 7659000 | G24: =+$G$12 -> 2.02896 | H24: =+$I$6 -> 7 | I24: =(F24*G24)*D24*E24*H24 -> 1.0877863e+08
C25: ARQUEOLOGO | D25: 1 | E25: 0.2 | F25: =SALARIOS!$F$11 -> 7659000 | G25: =+$G$12 -> 2.02896 | H25: 1 | I25: =(F25*G25)*D25*E25*H25 -> 3107960.9
C26: PROFESIONAL JURIDICO | D26: 1 | E26: 0.1 | F26: =SALARIOS!$F$11 -> 7659000 | G26: =+$G$12 -> 2.02896 | H26: 2 | I26: =(F26*G26)*D26*E26*H26 -> 3107960.9
C27: 1,2 PERSONAL TECNICO Y AUXILIAR TECNICO | D27: CANT
C28: INSPECTOR DE OBRA | D28: 1 | E28: 0.3 | F28: =SALARIOS!F17 -> 2718000 | G28: =+$G$12 -> 2.02896 | H28: =+$I$6 -> 7 | I28: =(F28*G28)*D28*E28*H28 -> 11580898
C29: PROFESIONAL TOPOGRAFO | D29: 1 | E29: 0.5 | F29: =SALARIOS!F13 -> 3736000 | G29: =+$G$12 -> 2.02896 | H29: =+$I$6 -> 7 | I29: =(F29*G29)*D29*E29*H29 -> 26530681
C30: TARIFA MES - PERSONAL AUXILIAR TÉCNICO - CADENERO | D30: 1 | E30: 0.3 | F30: =SALARIOS!F14 -> 2316000 | G30: =+$G$12 -> 2.02896 | H30: =+$I$6 -> 7 | I30: =(F30*G30)*D30*E30*H30 -> 9868049.9
C31: TARIFA MES - PERSONAL ADMINISTRATIVO - AUXILIAR ADMINISTRATIVO-ALMACENISTA | D31: 1 | E31: 1 | F31: =+F30 -> 2316000 | G31: =+$G$12 -> 2.02896 | H31: =+$I$6 -> 7 | I31: =(F31*G31)*D31*E31*H31 -> 32893500
C32: 1,3 PERSONAL ADMINISTRATIVO | D32: CANT
C33: TARIFA MES - VIGILANTE | D33: 1 | E33: 1 | F33: =+F28 -> 2718000 | G33: =+G31 -> 2.02896 | H33: =+H31 -> 7 | I33: =(F33*G33)*D33*E33*H33 -> 38602993
G34: SUBTOTAL COSTOS DE PERSONAL | I34: =SUM(I12:I33) -> 6.5858966e+08
C36: B. A.I.U
C37: A. | D37: % TOTAL ADMINISTRACIÓN MÁXIMO | H37: =ROUND(+I34/E6,4) -> 0.2731 | I37: =+I34 -> 6.5858966e+08 | K37: 0.2745
C39: B. | D39: IMPREVISTOS | H39: 0.01 | I39: =+H39*E6 -> 24118156
C41: C. | D41: UTILIDAD | H41: 0.05 | I41: =+H41*E6 -> 1.2059078e+08
D43: MÁXIMO TOTAL A.I.U. (Administración, Imprevistos y Utilidad) | H43: =SUM(H37:H42) -> 0.3331 | I43: =SUM(I37:I42) -> 8.032986e+08
C45: Nota: En ningún caso el Proponente podrá ofertar un porcentaje menor al establecido para imprevistos por parte de la Entidad y el porcentaje integral de AIU no podrá superar el establecido por la Entidad.

Sheet FM
A1: FACTOR MULTIPLICADOR OBRA | F1: FACTOR MULTIPLICADOR CONSULTORIA
A2: SALARIOS | C2: 1 | F2: SALARIOS | H2: 1
A3: PRESTACIONES SOCIALES 1 | C3: =SUM(B4:B15) -> 0.5963 | F3: PRESTACIONES SOCIALES 1 | H3: =SUM(G4:G15) -> 0.5963
A4: Cesantía | B4: 0.0833 | F4: Cesantía | G4: 0.0833
A5: Intereses de Cesantías | B5: 0.01 | F5: Intereses de Cesantías | G5: 0.01
A6: Prima | B6: 0.0833 | F6: Prima | G6: 0.0833
A7: Vacaciones | B7: 0.0417 | F7: Vacaciones | G7: 0.0417
A8: Seguridad Social (salud) | B8: 0.085 | F8: Seguridad Social (salud) | G8: 0.085
A9: Seguridad Social (pensión) | B9: 0.12 | F9: Seguridad Social (pensión) | G9: 0.12
A10: Aseguradora de Riesgos Profesionales | B10: 0.0696 | F10: Aseguradora de Riesgos Profesionales | G10: 0.0696
A11: Subsidio Familiar | B11: 0.04 | F11: Subsidio Familiar | G11: 0.04
A12: ICBF | B12: 0.03 | F12: ICBF | G12: 0.03
A13: SENA | B13: 0.02 | F13: SENA | G13: 0.02
A14: Subsidio de Transporte | B14: 0.0046 | F14: Subsidio de Transporte | G14: 0.0046
A15: Dotación | B15: 0.0088 | F15: Dotación | G15: 0.0088
A16: COSTOS DIRECTOS 2 | C16: =SUM(B17:B32) -> 0.305 | F16: COSTOS DIRECTOS 2 | H16: =SUM(G17:G30) -> 0.16
A17: Servicios públicos de campamento y obra | B17: 0.03 | F17: Servicios públicos y oficina consultor | G17: 0.02
A18: Papelería oficina constructor | B18: 0.02 | F18: Papelería oficina consultor | G18: 0.01
A19: Personal administrativo no facturado | B19: 0.02 | F19: Personal administrativo no facturado | G19: 0.01
A20: Personal profesional no facturado | B20: 0.02 | F20: Personal profesional no facturado | G20: 0.02
A21: Implementación y programa preventivo de protección recursos hídricos, fauna, especies verdes, manejo de vertimientos, etc. | B21: 0.01 | F21: Implementación y programa preventivo de protección recursos hídricos, fauna, especies verdes, manejo de vertimientos, etc. | G21: 0
A22: Equipos de oficina y campamento | B22: 0.01 | F22: Equipos de oficina y campamento | G22: 0.01
A23: Equipos de plotter, escaneo y fotografía. Incluye impresiones | B23: 0.01 | F23: Equipos de plotter, escaneo y fotografía. Incluye impresiones | G23: 0.005
A24: Alquiler de vehículo y combustibles | B24: 0.03 | F24: Combustibles | G24: 0.02
A25: Papelería para entrega de Informes semanales, mensuales y finales en original (planos récord, manual de mantenimiento, Etc) y 2 copias en físico | B25: 0.01 | F25: Papelería para entrega de Informes semanales, mensuales y finales en original | G25: 0.005
A26: Alquiler de equipos de topografía y otros necesarios para control de niveles, etc. | B26: 0.02 | F26: Alquiler de equipos de topografía y otros necesarios para control de niveles, etc. | G26: 0.01
A27: Implementación y programa preventivo de salud en el trabajo y seguridad industrial, incluye Elementos de Protección Personal (EPP), capacitaciones, afiches, guías, manuales, señalización de obra y demás elementos que se requieran. | B27: 0.02 | F27: Implementación y programa preventivo de salud en el trabajo y seguridad industrial, incluye Elementos de Protección Personal (EPP), capacitaciones, afiches, guías, manuales, señalización de obra y demás elementos que se requieran. | G27: 0.01
A28: Aerofotografías, software de seguimiento CAD- BIM | B28: 0.01 | F28: Aerofotografías, software de seguimiento CAD- BIM | G28: 0.01
... A30: Trámite PMT e implementación con todos los requerimientos de seguridad, durante toda la ejecución de obra. Incluye personal requerido como paleteros y otros | B30: 0.035 | F30: Trámites y aprobaciones ante entidades por cada especialidad de diseños y obras terminadas Incluye acompañamientos, papelería, etc. | G30: 0.01
A31: Trámites y aprobaciones ante entidades por cada especialidad de diseños y obras terminadas Incluye acompañamientos, papelería, etc. | B31: 0.01 | F31: IMPUESTOS 3 | H31: =SUM(G32:G38) -> 0.13816
A32: Plan de gestión social. Incluye Alquiler de salones, Afiches, volantes, pendones, carteleras, papelería, refrigerios y todo lo necesario para la socialización del proyecto | B32: 0.03 | F32: Rete fuente | G32: 0.06
A33: IMPUESTOS 3 | C33: =SUM(B34:B40) -> 0.06966 | F33: Rete IVA | G33: 0.0285
A34: Rete fuente | B34: 0.02 | F34: Rete ICA | G34: 0.00866
A35: Rete IVA | B35: 0 | F35: Estampilla Universidad Distrital | G35: 0.011
A36: Rete ICA | B36: 0.00866 | F36: Estampilla Procultura | G36: 0.005
A37: Estampilla Universidad Distrital | B37: 0.011 | F37: Estampilla Proadulto mayor | G37: 0.02
A38: Estampilla Procultura | B38: 0.005 | F38: Estampilla 50 años Universidad Pedagógica | G38: 0.005
A39: Estampilla Proadulto mayor | B39: 0.02 | F39: PÓLIZAS Y GARANTÍAS 4 | H39: =+SUM(G40:G42) -> 0.048
A40: Estampilla 50 años Universidad Pedagógica | B40: 0.005 | F40: Cumplimiento | G40: 0.0094
A41: PÓLIZAS Y GARANTÍAS 4 | C41: =+SUM(B42:B45) -> 0.058 | F41: Salarios y prestaciones sociales | G41: 0.0086
...

Sheet INDEX ICOCIV
B4: Índice de Costos de la Construcción de Obras Civiles - ICOCIV
B5: A1. ICOCIV - Variación mensual, año corrido y anual del total Febrero 2025 | K5: Publicado DANE | L5: Polinómica grado 2
B6: Año | C6: Mes | D6: Índice | E6: Variación porcentual (%) | L6: ax^2+bx+c
E7: Mensual | F7: Año corrido | G7: Anual** | J7: x | K7: ICOCIV | L7: a | M7: -0.0049 | N7: b | O7: 1.005 | P7: c | Q7: 97.404
B8: 2021 | C8: Enero | D8: 100.89 | E8: 0.89 | F8: 0.89 | G8: - | J8: 1 | K8: =D8 -> 100.89
C9: Febrero | D9: 101.35 | E9: 0.46 | F9: 1.35 | G9: - | J9: 2 | K9: =D9 -> 101.35
C10: Marzo | D10: 101.796 | E10: 0.439 | F10: 1.796 | G10: - | J10: 3 | K10: =D10 -> 101.796
C11: Abril | D11: 102.339 | E11: 0.533 | F11: 2.339 | G11: - | J11: 4 | K11: =D11 -> 102.339
C12: Mayo | D12: 102.939 | E12: 0.587 | F12: 2.939 | G12: - | J12: 5 | K12: =D12 -> 102.939
C13: Junio | D13: 103.458 | E13: 0.504 | F13: 3.458 | G13: - | J13: 6 | K13: =D13 -> 103.458
C14: Julio | D14: 104.566 | E14: 1.071 | F14: 4.566 | G14: - | J14: 7 | K14: =D14 -> 104.566
C15: Agosto | D15: 104.819 | E15: 0.242 | F15: 4.819 | G15: - | J15: 8 | K15: =D15 -> 104.819
C16: Septiembre | D16: 104.806 | E16: -0.012 | F16: 4.806 | G16: - | J16: 9 | K16: =D16 -> 104.806
C17: Octubre | D17: 104.937 | E17: 0.125 | F17: 4.937 | G17: - | J17: 10 | K17: =D17 -> 104.937
C18: Noviembre | D18: 105.147 | E18: 0.199 | F18: 5.147 | G18: - | J18: 11 | K18: =D18 -> 105.147
C19: Diciembre | D19: 105.558 | E19: 0.392 | F19: 5.558 | G19: - | J19: 12 | K19: =D19 -> 105.558
B20: 2022 | C20: Enero | D20: 107.483 | E20: 1.823 | F20: 1.823 | G20: 6.537 | J20: 13 | K20: =D20 -> 107.483
C21: Febrero | D21: 108.948 | E21: 1.363 | F21: 3.211 | G21: 7.496 | J21: 14 | K21: =D21 -> 108.948
C22: Marzo | D22: 110.113 | E22: 1.075 | F22: 4.315 | G22: 8.171 | J22: 15 | K22: =D22 -> 110.113
C23: Abril | D23: 111.366 | E23: 1.138 | F23: 5.501 | G23: 8.821 | J23: 16 | K23: =D23 -> 111.366
C24: Mayo | D24: 112.369 | E24: 0.901 | F24: 6.452 | G24: 9.16 | J24: 17 | K24: =D24 -> 112.369
C25: Junio | D25: 112.625 | E25: 0.228 | F25: 6.694 | G25: 8.861 | J25: 18 | K25: =D25 -> 112.625
C26: Julio | D26: 113.883 | E26: 1.117 | F26: 7.886 | G26: 8.91 | J26: 19 | K26: =D26 -> 113.883
C27: Agosto | D27: 114.109 | E27: 0.198 | F27: 8.1 | G27: 8.863 | J27: 20 | K27: =D27 -> 114.109
C28: Septiembre | D28: 114.258 | E28: 0.131 | F28: 8.241 | G28: 9.018 | J28: 21 | K28: =D28 -> 114.258
C29: Octubre | D29: 115.491 | E29: 1.08 | F29: 9.41 | G29: 10.057 | J29: 22 | K29: =D29 -> 115.491
C30: Noviembre | D30: 115.914 | E30: 0.366 | F30: 9.81 | G30: 10.24 | J30: 23 | K30: =D30 -> 115.914
C31: Diciembre | D31: 115.826 | E31: -0.075 | F31: 9.727 | G31: 9.727 | J31: 24 | K31: =D31 -> 115.826
B32: 2023 | C32: Enero | D32: 121.591 | E32: 4.977 | F32: 4.977 | G32: 13.126 | J32: 25 | K32: =D32 -> 121.591
C33: Febrero | D33: 124.48 | E33: 2.38 | F33: 7.47 | G33: 14.26 | J33: 26 | K33: =D33 -> 124.48
C34: Marzo | D34: 125.08 | E34: 0.48 | F34: 7.99 | G34: 13.59 | J34: 27 | K34: =D34 -> 125.08
C35: Abril | D35: 125.67 | E35: 0.48 | F35: 8.5 | G35: 12.85 | J35: 28 | K35: =D35 -> 125.67
C36: Mayo | D36: 125.95 | E36: 0.22 | F36: 8.74 | G36: 12.09 | J36: 29 | K36: =D36 -> 125.95
C37: Junio | D37: 126.12 | E37: 0.14 | F37: 8.89 | G37: 11.99 | J37: 30 | K37: =D37 -> 126.12
C38: Julio | D38: 126.33 | E38: 0.17 | F38: 9.07 | G38: 10.93 | J38: 31 | K38: =D38 -> 126.33
C39: Agosto | D39: 126.22 | E39: -0.09 | F39: 8.97 | G39: 10.61 | J39: 32 | K39: =D39 -> 126.22
C40: Septiembre | D40: 126.3 | E40: 0.07 | F40: 9.05 | G40: 10.54 | J40: 33 | K40: =D40 -> 126.3
C41: Octubre | D41: 126.2 | E41: -0.08 | F41: 8.95 | G41: 9.27 | J41: 34 | K41: =D41 -> 126.2
C42: Noviembre | D42: 126.36 | E42: 0.13 | F42: 9.1 | G42: 9.01 | J42: 35 | K42: =D42 -> 126.36
C43: Diciembre | D43: 126.48 | E43: 0.09 | F43: 9.2 | G43: 9.2 | J43: 36 | K43: =D43 -> 126.48
...

Sheet SALARIOS
A3: INDEXACIÓN SALARIOS
A4: # CATEGORIA | B4: Cargos Categorías Profesionales | C4: EXPERIENCIA | E4: PRECIOS DE REFERENCIA (IDU) 2026 TARIFA MES POR CATEGORÍA (NO INCLUYE FACTOR DE PRESTACIONES)
C5: General | D5: Especifica | E5: CODIGO | F5: TARIFA SIN PRESTACIONES 2026
A6: CATEGORIA 1 | B6: Funciones del Director o Especialista de Proyectos | C6: >= 12 años | D6: >=10 años | E6: 9107 | F6: 17387000
A7: CATEGORIA 2 | B7: Funciones del Director o Especialista de Proyectos | C7: >= 10 años | D7: >= 8 años | E7: 9108 | F7: 13251000
A8: CATEGORIA 3 | B8: Experiencia técnica y administrativa para Especialista de Proyectos | C8: >= 8 años | D8: >= 5 años | E8: 9109 | F8: 11183000
A9: CATEGORIA 4 | B9: Experiencia técnica y administrativa para esp} | C9: >= 6 años | D9: >= 4 años | E9: 9110 | F9: 9522000
A10: CATEGORIA 5 | B10: Experiencia técnica y administrativa para Residente de Proyectos | C10: >= 4 años | D10: >= 3 años | E10: 9111 | F10: 8589000
A11: CATEGORIA 6 | B11: Profesional | C11: >= 3 años | D11: >= 1 años | E11: 9112 | F11: 7659000
A12: CATEGORIA 7 | B12: Profesional | C12: >= 2 años | E12: 9113 | F12: 5791000
A13: CATEGORIA 8 | B13: Profesional técnio topógrado | C13: >= 2 años | E13: 9088 | F13: 3736000
A14: CATEGORIA 9 | B14: Personal auxiliar técnico | C14: >= 2 años | E14: 9098 | F14: 2316000
A15: CATEGORIA 10 | B15: Personal auxiliar técnico | C15: < 2 años | E15: 9099 | F15: 2018000
A16: CATEGORIA 11 | B16: PERSONAL AUXILIAR TÉCNICO | C16: >= 1 años | E16: 9100 | F16: 1750905
A17: CATEGORIA 12 | B17: PERSONAL TÉCNICO - INSPECTOR 1 | C17: >= 2 años | E17: 9093 | F17: 2718000
A20: 13418 | B20: EQUIPO DE TOPOGRAFÍA. ESTACION TOTAL, Precisión lineal ≤ (2 mm + 2 ppm x D), precisión angular ≤ 3". Alcance: con un prisma hasta 2000 metros en buenas condiciones. (Accesorios: Trípodes, bastones, prismas, cintas metálicas, baterías, entre otros). TARIFA MES | C20: MES | D20: 2215256 | K20: MES | L20: 3584000
A21: 9165 | B21: TARIFA MES - ALQUILER DE VEHICULO: CAMPERO, PICK-UP, CAMIONETA, CAMION O SIMILAR DE 1300cc A 2000cc DE CILINDRADA, MODELO 2026 A 2023. 100% DE LA TARIFA ESTABLECIDA. INCLUYE TODOS LOS COSTOS DE OPERACIÓN Y MANTENIMIENTO EXCEPTO EL SALARIO DEL CONDUCTOR | C21: MES | D21: 8778000 | K21: MES | L21: 3150000
K22: MES | L22: 3303000
K23: MES | L23: 2670000
K24: MES | L24: 3736000
K25: MES | L25: 3310000
K26: MES | L26: 2316000
K27: MES | L27: 4690453
K28: MES | L28: 3264239
K29: MES | L29: 2718000
K30: MES | L30: 2447000
K31: MES | L31: 3064000
K32: MES | L32: 3736000
K33: MES | L33: 3064000
... K49: JR | L49: 255300

Sheet CANTIDADES VALOR INICIAL
C3: SECRETARÍA DISTRITAL DEL HABITAT
C4: CUADRO CANTIDADES
C6: ÍTEM | D6: ACTIVIDAD | E6: UNIDAD | F6: CANTIDAD PENDIENTE EJECUCIÓN | G6: TOTAL CANTIDAD PENDIENTE POSITIVA | H6: VR. UNITARIO | I6: FACTOR DE INDEXACIÓN | J6: CIV 19010897 | M6: CIV 19010949 | P6: CIV 19010956 | S6: CIV 19010836 | V6: CIV 19010951 | Y6: CIV 19011027 | AB6: CIV 19011016 | AE6: CIV 19010555
J7: CANTIDAD OFERTA ECONÓMICA | K7: CANTIDAD EJECUTADA (ACTA NO: 12) CTO 952/21 | L7: CANTIDAD PENDIENTE EJECUCIÓN | M7: CANTIDAD OFERTA ECONÓMICA | N7: CANTIDAD EJECUTADA (ACTA NO: 12) CTO 952/21 | O7: CANTIDAD PENDIENTE EJECUCIÓN | P7: CANTIDAD OFERTA ECONÓMICA | Q7: CANTIDAD EJECUTADA (ACTA NO: 12) CTO 952/21 | R7: CANTIDAD PENDIENTE EJECUCIÓN | S7: CANTIDAD OFERTA ECONÓMICA | T7: CANTIDAD EJECUTADA (ACTA NO: 12) CTO 952/21 | U7: CANTIDAD PENDIENTE EJECUCIÓN | V7: CANTIDAD OFERTA ECONÓMICA | W7: CANTIDAD EJECUTADA (ACTA NO: 12) CTO 952/21 | X7: CANTIDAD PENDIENTE EJECUCIÓN | Y7: CANTIDAD OFERTA ECONÓMICA | Z7: CANTIDAD EJECUTADA (ACTA NO: 12) CTO 952/21 | AA7: CANTIDAD PENDIENTE EJECUCIÓN | AB7: CANTIDAD OFERTA ECONÓMICA | AC7: CANTIDAD EJECUTADA (ACTA NO: 12) CTO 952/21 | AD7: CANTIDAD PENDIENTE EJECUCIÓN | AE7: CANTIDAD OFERTA ECONÓMICA | AF7: CANTIDAD EJECUTADA (ACTA NO: 12) CTO 952/21 | AG7: CANTIDAD PENDIENTE EJECUCIÓN
C8: 1 | D8: REPLANTEO, DEMOLICIONES Y EXCAVACIONES | F8: =IF(E8="","",MAX(0,ROUND(SUM(L8,O8,R8,U8,X8,AA8,AD8,AG8),2)))
C9: 1.1 | D9: REPLANTEO GENERAL | E9: M2 | F9: =IF(E9="","",MAX(0,ROUND(SUM(L9,O9,R9,U9,X9,AA9,AD9,AG9),2))) -> 64.71 | G9: =IF($E9="","",SUM(MAX($L9,0),MAX($O9,0),MAX($R9,0),MAX($U9,0),MAX($X9,0),MAX($AA9,0),MAX($AD9,0),MAX($AG9,0))) -> 95.74 | H9: 645.3397 | I9: =ROUND(H9*'INDEX ICOCIV'!$R$85,0) -> 878 | J9: 460.1 | K9: 440.02252 | L9: =+ROUND(J9-K9,2) -> 20.08 | M9: 238.7 | N9: 252.89007 | O9: =+ROUND(M9-N9,2) -> -14.19 | P9: 435.9 | Q9: 388.29937 | R9: =+ROUND(P9-Q9,2) -> 47.6 | S9: 388.3 | T9: 388.29937 | U9: =+ROUND(S9-T9,2) -> 0 | V9: 136.2 | W9: 110.94002 | X9: =+ROUND(V9-W9,2) -> 25.26 | Y9: 231.7 | Z9: 229.35982 | AA9: =+ROUND(Y9-Z9,2) -> 2.34 | AB9: 180.8 | AC9: 197.6401 | AD9: =+ROUND(AB9-AC9,2) -> -16.84 | AE9: 266 | AF9: 265.54077 | AG9: =+ROUND(AE9-AF9,2) -> 0.46
C10: 1.2 | D10: DEMOLICION PAVIMENTO ASFALTICO (ESPESOR VARIABLE. INCLUYE CARGUE). NO INCLUYE TRANSPORTE Y DISPOSICIÓN FINAL DE SOBRANTES. RENDIMIENTO ESTIMADO PARA ESPESORES MÁX. 0.15M. | E10: M3 | F10: =IF(E10="","",MAX(0,ROUND(SUM(L10,O10,R10,U10,X10,AA10,AD10,AG10),2))) -> 0 | G10: =IF($E10="","",SUM(MAX($L10,0),MAX($O10,0),MAX($R10,0),MAX($U10,0),MAX($X10,0),MAX($AA10,0),MAX($AD10,0),MAX($AG10,0))) -> 0 | H10: 25006.194 | I10: =ROUND(H10*'INDEX ICOCIV'!$R$85,0) -> 34008 | J10: 0 | K10: 0 | L10: =+ROUND(J10-K10,2) -> 0 | M10: 0 | N10: 0.37998585 | O10: =+ROUND(M10-N10,2) -> -0.38 | P10: 0 | R10: =+ROUND(P10-Q10,2) -> 0 | S10: 0 | U10: =+ROUND(S10-T10,2) -> 0 | V10: 0 | X10: =+ROUND(V10-W10,2) -> 0 | Y10: 0 | AA10: =+ROUND(Y10-Z10,2) -> 0 | AB10: 0 | AD10: =+ROUND(AB10-AC10,2) -> 0 | AE10: 0 | AG10: =+ROUND(AE10-AF10,2) -> 0
C11: 1.3 | D11: DEMOLICIÓN PISOS DE CONCRETO (INCLUYE CARGUE). NO INCLUYE TRANSPORTE Y DISPOSICIÓN FINAL DE SOBRANTES. RENDIMIENTO ESTIMADO PARA ESPESORES DE 0.20M | E11: M3 | F11: =IF(E11="","",MAX(0,ROUND(SUM(L11,O11,R11,U11,X11,AA11,AD11,AG11),2))) -> 34.25 | G11: =IF($E11="","",SUM(MAX($L11,0),MAX($O11,0),MAX($R11,0),MAX($U11,0),MAX($X11,0),MAX($AA11,0),MAX($AD11,0),MAX($AG11,0))) -> 43.02 | H11: 37629.154 | I11: =ROUND(H11*'INDEX ICOCIV'!$R$85,0) -> 51176 | J11: 0 | K11: 0 | L11: =+ROUND(J11-K11,2) -> 0 | M11: 0 | N11: 5.58 | O11: =+ROUND(M11-N11,2) -> -5.58 | P11: 0 | R11: =+ROUND(P11-Q11,2) -> 0 | S11: 0 | T11: 2.78 | U11: =+ROUND(S11-T11,2) -> -2.78 | V11: 0 | X11: =+ROUND(V11-W11,2) -> 0 | Y11: 0 | Z11: 0.40760948 | AA11: =+ROUND(Y11-Z11,2) -> -0.41 | AB11: 0 | AD11: =+ROUND(AB11-AC11,2) -> 0 | AE11: 44 | AF11: 0.97559993 | AG11: =+ROUND(AE11-AF11,2) -> 43.02
C12: 1.4 | D12: DEMOLICION MANUAL SARDINEL EXISTENTE (INCLUYE CARGUE). NO INCLUYE TRANSPORTE Y DISPOSICIÓN FINAL DE SOBRANTES. | E12: M | F12: =IF(E12="","",MAX(0,ROUND(SUM(L12,O12,R12,U12,X12,AA12,AD12,AG12),2))) -> 0 | G12: =IF($E12="","",SUM(MAX($L12,0),MAX($O12,0),MAX($R12,0),MAX($U12,0),MAX($X12,0),MAX($AA12,0),MAX($AD12,0),MAX($AG12,0))) -> 0 | H12: 3999.5719 | I12: =ROUND(H12*'INDEX ICOCIV'!$R$85,0) -> 5439 | J12: 0 | K12: 0 | L12: =+ROUND(J12-K12,2) -> 0 | M12: 0 | O12: =+ROUND(M12-N12,2) -> 0 | P12: 0 | R12: =+ROUND(P12-Q12,2) -> 0 | S12: 0 | U12: =+ROUND(S12-T12,2) -> 0 | V12: 0 | X12: =+ROUND(V12-W12,2) -> 0 | Y12: 0 | AA12: =+ROUND(Y12-Z12,2) -> 0 | AB12: 0 | AD12: =+ROUND(AB12-AC12,2) -> 0 | AE12: 0 | AG12: =+ROUND(AE12-AF12,2) -> 0
C13: 1.5 | D13: DEMOLICION SUMIDERO EXISTENTE (INCLUYE CARGUE) | E13: UN | F13: =IF(E13="","",MAX(0,ROUND(SUM(L13,O13,R13,U13,X13,AA13,AD13,AG13),2))) -> 0 | G13: =IF($E13="","",SUM(MAX($L13,0),MAX($O13,0),MAX($R13,0),MAX($U13,0),MAX($X13,0),MAX($AA13,0),MAX($AD13,0),MAX($AG13,0))) -> 0 | H13: 123267.55 | I13: =ROUND(H13*'INDEX ICOCIV'!$R$85,0) -> 167644 | J13: 0 | K13: 0 | L13: =+ROUND(J13-K13,2) -> 0 | M13: 0 | O13: =+ROUND(M13-N13,2) -> 0 | P13: 0 | R13: =+ROUND(P13-Q13,2) -> 0 | S13: 0 | U13: =+ROUND(S13-T13,2) -> 0 | V13: 0 | X13: =+ROUND(V13-W13,2) -> 0 | Y13: 0 | AA13: =+ROUND(Y13-Z13,2) -> 0 | AB13: 0 | AD13: =+ROUND(AB13-AC13,2) -> 0 | AE13: 0 | AG13: =+ROUND(AE13-AF13,2) -> 0
C14: 1.6 | D14: DEMOLICION DE POZOS, CAJAS Y CAMARAS DE EMPRESAS DE SERVICIOS PÚBLICOS (INCLUYE MARTILLO NEUMÁTICO DE 60 LB, COMPRESOR Y CARGUE). | E14: M3 | F14: =IF(E14="","",MAX(0,ROUND(SUM(L14,O14,R14,U14,X14,AA14,AD14,AG14),2))) -> 27.14 | G14: =IF($E14="","",SUM(MAX($L14,0),MAX($O14,0),MAX($R14,0),MAX($U14,0),MAX($X14,0),MAX($AA14,0),MAX($AD14,0),MAX($AG14,0))) -> 29.13 | H14: 189872.75 | I14: =ROUND(H14*'INDEX ICOCIV'!$R$85,0) -> 258227 | J14: 17 | K14: 2.2319999 | L14: =+ROUND(J14-K14,2) -> 14.77 | M14: 3 | N14: 1.63 | O14: =+ROUND(M14-N14,2) -> 1.37 | P14: 5 | Q14: 0.64000232 | R14: =+ROUND(P14-Q14,2) -> 4.36 | S14: 6 | T14: 2.4120022 | U14: =+ROUND(S14-T14,2) -> 3.59 | V14: 1 | W14: 0.71999801 | X14: =+ROUND(V14-W14,2) -> 0.28 | Y14: 1 | Z14: 2.9880012 | AA14: =+ROUND(Y14-Z14,2) -> -1.99 | AB14: 2 | AC14: 0.64000232 | AD14: =+ROUND(AB14-AC14,2) -> 1.36 | AE14: 6 | AF14: 2.6040025 | AG14: =+ROUND(AE14-AF14,2) -> 3.4
C15: 1.7 | D15: DEMOLICION PISOS DE CONCRETO (ESPESOR VARIABLE. INCLUYE CARGUE). NO INCLUYE TRANSPORTE Y DISPOSICIÓN FINAL DE SOBRANTES. RENDIMIENTO ESTIMADO PARA UN ESPESOR DE 0.10M | E15: M2 | F15: =IF(E15="","",MAX(0,ROUND(SUM(L15,O15,R15,U15,X15,AA15,AD15,AG15),2))) -> 829.66 | G15: =IF($E15="","",SUM(MAX($L15,0),MAX($O15,0),MAX($R15,0),MAX($U15,0),MAX($X15,0),MAX($AA15,0),MAX($AD15,0),MAX($AG15,0))) -> 830.14 | H15: 5232.7173 | I15: =ROUND(H15*'INDEX ICOCIV'!$R$85,0) -> 7116 | J15: 220 | K15: 10.229957 | L15: =+ROUND(J15-K15,2) -> 209.77 | M15: 74 | O15: =+ROUND(M15-N15,2) -> 74 | P15: 182 | Q15: 1.6299371 | R15: =+ROUND(P15-Q15,2) -> 180.37 | S15: 161 | U15: =+ROUND(S15-T15,2) -> 161 | V15: 52 | W15: 18.000017 | X15: =+ROUND(V15-W15,2) -> 34 | Y15: 109 | AA15: =+ROUND(Y15-Z15,2) -> 109 | AB15: 62 | AD15: =+ROUND(AB15-AC15,2) -> 62 | AE15: 0 | AF15: 0.48005651 | AG15: =+ROUND(AE15-AF15,2) -> -0.48
C16: 1.8 | D16: DEMOLICIÓN CONCRETO ESTRUCTURAL (INCLUYE CARGUE). NO INCLUYE TRANSPORTE Y DISPOSICIÓN FINAL DE SOBRANTES. | E16: M3 | F16: =IF(E16="","",MAX(0,ROUND(SUM(L16,O16,R16,U16,X16,AA16,AD16,AG16),2))) -> 0 | G16: =IF($E16="","",SUM(MAX($L16,0),MAX($O16,0),MAX($R16,0),MAX($U16,0),MAX($X16,0),MAX($AA16,0),MAX($AD16,0),MAX($AG16,0))) -> 1 | H16: 122712.35 | I16: =ROUND(H16*'INDEX ICOCIV'!$R$85,0) -> 166889 | J16: 0 | K16: 0.099199469 | L16: =+ROUND(J16-K16,2) -> -0.1 | M16: 0 | N16: 2.1099995 | O16: =+ROUND(M16-N16,2) -> -2.11 | P16: 0 | R16: =+ROUND(P16-Q16,2) -> 0 | S16: 0 | U16: =+ROUND(S16-T16,2) -> 0 | V16: 0 | X16: =+ROUND(V16-W16,2) -> 0 | Y16: 0 | AA16: =+ROUND(Y16-Z16,2) -> 0 | AB16: 0 | AD16: =+ROUND(AB16-AC16,2) -> 0 | AE16: 1 | AG16: =+ROUND(AE16-AF16,2) -> 1
C17: 1.9 | D17: EXCAVACION MECANICA EN MATERIAL COMUN (INCLUYE CARGUE) | E17: M3 | F17: =IF(E17="","",MAX(0,ROUND(SUM(L17,O17,R17,U17,X17,AA17,AD17,AG17),2))) -> 763.22 | G17: ='CANTIDADES VALOR INICIAL'!H9 -> 645.3397 | H17: 4852.034 | I17: =ROUND(H17*'INDEX ICOCIV'!$R$85,0) -> 6599 | J17: 216 | K17: 0 | L17: =+ROUND(J17-K17,2) -> 216 | M17: 149 | N17: 263.33987 | O17: =+ROUND(M17-N17,2) -> -114.34 | P17: 228 | R17: =+ROUND(P17-Q17,2) -> 228 | S17: 204 | U17: =+ROUND(S17-T17,2) -> 204 | V17: 76 | W17: 6.4599712 | X17: =+ROUND(V17-W17,2) -> 69.54 | Y17: 110 | Z17: 139.07982 | AA17: =+ROUND(Y17-Z17,2) -> -29.08 | AB17: 107 | AC17: 108.90443 | AD17: =+ROUND(AB17-AC17,2) -> -1.9 | AE17: 191 | AG17: =+ROUND(AE17-AF17,2) -> 191
C18: 1.10 | D18: EXCAVACIÓN MANUAL EN MATERIAL COMÚN (INCL CARGUE, TRANSPORTE Y DISPOSICION FINAL) | E18: M3 | F18: =IF(E18="","",MAX(0,ROUND(SUM(L18,O18,R18,U18,X18,AA18,AD18,AG18),2))) -> 0 | G18: =IF($E18="","",SUM(MAX($L18,0),MAX($O18,0),MAX($R18,0),MAX($U18,0),MAX($X18,0),MAX($AA18,0),MAX($AD18,0),MAX($AG18,0))) -> 95.83 | H18: 58604.132 | I18: =ROUND(H18*'INDEX ICOCIV'!$R$85,0) -> 79702 | J18: 198 | K18: 283.48729 | L18: =+ROUND(J18-K18,2) -> -85.49 | M18: 66 | N18: 208.61098 | O18: =+ROUND(M18-N18,2) -> -142.61 | P18: 164 | Q18: 68.168981 | R18: =+ROUND(P18-Q18,2) -> 95.83 | S18: 145 | T18: 166.14168 | U18: =+ROUND(S18-T18,2) -> -21.14 | V18: 47 | W18: 65.269988 | X18: =+ROUND(V18-W18,2) -> -18.27 | Y18: 98 | Z18: 203.61521 | AA18: =+ROUND(Y18-Z18,2) -> -105.62 | AB18: 56 | AC18: 97.720549 | AD18: =+ROUND(AB18-AC18,2) -> -41.72 | AE18: 0 | AF18: 94.121923 | AG18: =+ROUND(AE18-AF18,2) -> -94.12
C19: 1.11 | D19: FRESADO PAVIMENTO ASFALTICO PROFUNDIDAD DE FRESADO 0 - 18 CM. (INCLUYE CARGUE) | E19: M3 | F19: =IF(E19="","",MAX(0,ROUND(SUM(L19,O19,R19,U19,X19,AA19,AD19,AG19),2))) -> 0 | G19: =IF($E19="","",SUM(MAX($L19,0),MAX($O19,0),MAX($R19,0),MAX($U19,0),MAX($X19,0),MAX($AA19,0),MAX($AD19,0),MAX($AG19,0))) -> 0 | H19: 75381.047 | I19: =ROUND(H19*'INDEX ICOCIV'!$R$85,0) -> 102518 | J19: 0 | K19: 0 | L19: =+ROUND(J19-K19,2) -> 0 | M19: 0 | O19: =+ROUND(M19-N19,2) -> 0 | P19: 0 | R19: =+ROUND(P19-Q19,2) -> 0 | S19: 0 | U19: =+ROUND(S19-T19,2) -> 0 | V19: 0 | X19: =+ROUND(V19-W19,2) -> 0 | Y19: 0 | AA19: =+ROUND(Y19-Z19,2) -> 0 | AB19: 0 | AD19: =+ROUND(AB19-AC19,2) -> 0 | AE19: 0 | AG19: =+ROUND(AE19-AF19,2) -> 0
C20: 1.12 | D20: TALA DE ARBOLES CLASE I (H<5M. INCLUYE DESENRAÍCE, RETIRO Y DISPOSICIÓN FINAL) | E20: UN | F20: =IF(E20="","",MAX(0,ROUND(SUM(L20,O20,R20,U20,X20,AA20,AD20,AG20),2))) -> 0 | G20: =IF($E20="","",SUM(MAX($L20,0),MAX($O20,0),MAX($R20,0),MAX($U20,0),MAX($X20,0),MAX($AA20,0),MAX($AD20,0),MAX($AG20,0))) -> 0 | H20: 131088.34 | I20: =ROUND(H20*'INDEX ICOCIV'!$R$85,0) -> 178280 | J20: 0 | K20: 0 | L20: =+ROUND(J20-K20,2) -> 0 | M20: 0 | O20: =+ROUND(M20-N20,2) -> 0 | P20: 0 | R20: =+ROUND(P20-Q20,2) -> 0 | S20: 0 | U20: =+ROUND(S20-T20,2) -> 0 | V20: 0 | X20: =+ROUND(V20-W20,2) -> 0 | Y20: 0 | AA20: =+ROUND(Y20-Z20,2) -> 0 | AB20: 0 | AD20: =+ROUND(AB20-AC20,2) -> 0 | AE20: 0 | AG20: =+ROUND(AE20-AF20,2) -> 0
C21: 1.13 | D21: TRANSPORTE Y DISPOSICION FINAL DE ESCOMBROS EN SITIO AUTORIZADO (DISTANCIA DE TRANSPORTE 21 KM). A DISTANCIA MAYOR DEL ACARREO LIBRE (90 M) EN SITIO AUTORIZADO POR LA ENTIDAD AMBIENTAL COMPETENTE. | E21: M3 | F21: =IF(E21="","",MAX(0,ROUND(SUM(L21,O21,R21,U21,X21,AA21,AD21,AG21),2))) -> 1241.49 | G21: =IF($E21="","",SUM(MAX($L21,0),MAX($O21,0),MAX($R21,0),MAX($U21,0),MAX($X21,0),MAX($AA21,0),MAX($AD21,0),MAX($AG21,0))) -> 1450.13 | H21: 23862.227 | I21: =ROUND(H21*'INDEX ICOCIV'!$R$85,0) -> 32453 | J21: 328 | K21: 0 | L21: =+ROUND(J21-K21,2) -> 328 | M21: 206 | N21: 366.78751 | O21: =+ROUND(M21-N21,2) -> -160.79 | P21: 323 | Q21: 15.812062 | R21: =+ROUND(P21-Q21,2) -> 307.19 | S21: 291 | U21: =+ROUND(S21-T21,2) -> 291 | V21: 106 | W21: 14.999983 | X21: =+ROUND(V21-W21,2) -> 91 | Y21: 156 | Z21: 203.85001 | AA21: =+ROUND(Y21-Z21,2) -> -47.85 | AB21: 148 | AC21: 110.06001 | AD21: =+ROUND(AB21-AC21,2) -> 37.94 | AE21: 395 | AG21: =+ROUND(AE21-AF21,2) -> 395
C22: 2 | D22: RELLENOS Y PAVIMENTOS | F22: =IF(E22="","",MAX(0,ROUND(SUM(L22,O22,R22,U22,X22,AA22,AD22,AG22),2)))
