Workbook
Name _______________EST1: #REF!
Name _______________EST10: #REF!
Name _______________EST11: #REF!
Name _______________EST12: #REF!
Name _______________EST13: #REF!
Name _______________EST14: #REF!
Name _______________EST15: #REF!
Name _______________EST16: #REF!
Name _______________EST17: #REF!
Name _______________EST18: #REF!
Name _______________EST19: #REF!
Name _______________EST2: #REF!
Name _______________EST3: #REF!
Name _______________EST4: #REF!
Name _______________EST5: #REF!
Name _______________EST6: #REF!
Name _______________EST7: #REF!
Name _______________EST8: #REF!
Name _______________EST9: #REF!
Name _______________EXC1: #REF!
Name _______________EXC10: #REF!
Name _______________EXC11: #REF!
Name _______________EXC12: #REF!
Name _______________EXC2: #REF!
Name _______________EXC3: #REF!
Name _______________EXC4: #REF!
Name _______________EXC5: #REF!
Name _______________EXC6: #REF!
Name _______________EXC7: #REF!
Name _______________EXC8: #REF!
Name _______________EXC9: #REF!
Name _____________EST1: #REF!
Name _____________EST10: #REF!
Name _____________EST11: #REF!
Name _____________EST12: #REF!
Name _____________EST13: #REF!
Name _____________EST14: #REF!
Name _____________EST15: #REF!
Name _____________EST16: #REF!
Name _____________EST17: #REF!
Name _____________EST18: #REF!
Name _____________EST19: #REF!
Name _____________EST2: #REF!
Name _____________EST3: #REF!
Name _____________EST4: #REF!
Name _____________EST5: #REF!
Name _____________EST6: #REF!
Name _____________EST7: #REF!
Name _____________EST8: #REF!
Name _____________EST9: #REF!
Name _____________EXC1: #REF!
Name _____________EXC10: #REF!
Name _____________EXC11: #REF!
Name _____________EXC12: #REF!
Name _____________EXC2: #REF!
Name _____________EXC3: #REF!
Name _____________EXC4: #REF!
Name _____________EXC5: #REF!
Name _____________EXC6: #REF!
Name _____________EXC7: #REF!

Sheet PRESU  ESTIMADO OBRA  CARACOLI
C3: =+'[1]Interv-E y D CIVs Lote 4'!B1 -> INTERVENCIONES INTEGRALES DEL HÁBITAT
C4: DIRECCIÓN DE HABITAT Y ENTORNOS SUBSECRETARÍA DE INTERVENCIONES INTEGRALES
C5: OBJETO: REALIZAR EL DIAGNÓSTICO, ACTUALIZACIÓN DE ESTUDIOS, DISEÑOS Y CULMINACIÓN DE LAS OBRAS EN ESPACIO PÚBLICO PARA EL MEJORAMIENTO INTEGRAL DE LOS BARRIOS ALPES Y CARACOLI, QUE HACEN PARTE DEL TERRITORIO PRIORIZADO POR LA SECRETARÍA DISTRITAL DEL HÁBITAT EN LA CONURBACIÓN CIUDAD BOLÍVAR.
C6: PRESUPUESTO ESTIMADO OBRA CARACOLÍ
C8: ÍTEM | D8: ACTIVIDAD | E8: UNIDAD | F8: PENDIENTE EJECUCIÓN | G8: VALOR UNITARIO INDEXADO ENE 2022 - JUN 2027 | H8: VALOR PARCIAL
D11: ETAPA 1 ACTUALIZACIÓN ESTUDIOS Y DISEÑOS
C12: E Y D | D12: DIAGNÓSTICO Y ACTUALIZACIÓN - ESTUDIOS Y DISEÑOS | H12: =+H13 -> 727867214
D13: DIAGNÓSTICO Y ACTUALIZACIÓN - ESTUDIOS Y DISEÑOS-VER ANEXO (ACTUALIZ E Y D CIVS LOTE 4) | E13: GL | F13: 1 | G13: ='E Y D PRESU ESTIMADO'!M61 -> 727867214 | H13: =F13*G13 -> 727867214
D14: ETAPA 2 CULMINACIÓN DE OBRAS
C15: ='VALORES INDEXADOS OBRA CARACOLÍ'!C12 -> 1 | D15: ='VALORES INDEXADOS OBRA CARACOLÍ'!D12 -> PRELIMINARES | E15: =IF('VALORES INDEXADOS OBRA CARACOLÍ'!E12="","",'VALORES INDEXADOS OBRA CARACOLÍ'!E12) | F15: =IF('VALORES INDEXADOS OBRA CARACOLÍ'!F12="","",'VALORES INDEXADOS OBRA CARACOLÍ'!F12) | G15: =IF('VALORES INDEXADOS OBRA CARACOLÍ'!H12="","",'VALORES INDEXADOS OBRA CARACOLÍ'!H12) | H15: =+SUM(H16:H17) -> 71220819
C16: ='VALORES INDEXADOS OBRA CARACOLÍ'!C13 -> 1.1 | D16: ='VALORES INDEXADOS OBRA CARACOLÍ'!D13 -> REPLANTEO GENERAL | E16: ='VALORES INDEXADOS OBRA CARACOLÍ'!E13 -> M2 | F16: ='VALORES INDEXADOS OBRA CARACOLÍ'!F13 -> 0.13 | G16: =ROUND(Comparativo!M9,0) -> 824 | H16: =ROUND(F16*G16,0) -> 107
C17: ='VALORES INDEXADOS OBRA CARACOLÍ'!C14 -> 1.2 | D17: ='VALORES INDEXADOS OBRA CARACOLÍ'!D14 -> ALQUILER DE CERRAMIENTO TIPO 1: CONSTA DE SEÑALIZADORES TUBULARES PLÁSTICOS, TRIPLE CINTA PELIGRO CAL. 4, POLISOMBRA 65% PARA CERRAMIENTO. (INCLUYE INSTALACIÓN, MANTENIMIENTO Y DESINSTALACIÓN). | E17: ='VALORES INDEXADOS OBRA CARACOLÍ'!E14 -> ML/ME | F17: ='VALORES INDEXADOS OBRA CARACOLÍ'!F14 -> 9539.34 | G17: ='VALORES INDEXADOS OBRA CARACOLÍ'!H14 -> 7466 | H17: =ROUND(F17*G17,0) -> 71220712
C18: ='VALORES INDEXADOS OBRA CARACOLÍ'!C16 -> 2 | D18: ='VALORES INDEXADOS OBRA CARACOLÍ'!D16 -> REDES HIDROSANITARIAS | E18: =IF('VALORES INDEXADOS OBRA CARACOLÍ'!E16="","",'VALORES INDEXADOS OBRA CARACOLÍ'!E16) | F18: =IF('VALORES INDEXADOS OBRA CARACOLÍ'!F16="","",'VALORES INDEXADOS OBRA CARACOLÍ'!F16) | G18: =IF('VALORES INDEXADOS OBRA CARACOLÍ'!H16="","",'VALORES INDEXADOS OBRA CARACOLÍ'!H16) | H18: =SUM(H19:H35) -> 337181443
C19: ='VALORES INDEXADOS OBRA CARACOLÍ'!C17 -> 2.1 | D19: ='VALORES INDEXADOS OBRA CARACOLÍ'!D17 -> LOCALIZACION Y REPLANTEO PARA REDES | E19: ='VALORES INDEXADOS OBRA CARACOLÍ'!E17 -> ML | F19: ='VALORES INDEXADOS OBRA CARACOLÍ'!F17 -> 974.6 | G19: ='VALORES INDEXADOS OBRA CARACOLÍ'!H17 -> 2158 | H19: =ROUND(F19*G19,0) -> 2103187
C20: ='VALORES INDEXADOS OBRA CARACOLÍ'!C18 -> 2.2 | D20: ='VALORES INDEXADOS OBRA CARACOLÍ'!D18 -> RELOCALIZACIÓN DE MEDIDOR DE ACUEDUCTO D= 1/2" (INCLUYE 1.0M TUBERÍA GALVANIZADA D= 1/2", SOLDADURA, CINTA DE TEFLON, Y REPOSICIÓN DE CAJILLA EN POLIPROPILENO DE ALTA RESISTENCIA CON TAPA, NO INCLUYE MEDIDOR.). | E20: ='VALORES INDEXADOS OBRA CARACOLÍ'!E18 -> UN | F20: ='VALORES INDEXADOS OBRA CARACOLÍ'!F18 -> 149 | G20: ='VALORES INDEXADOS OBRA CARACOLÍ'!H18 -> 287867 | H20: =ROUND(F20*G20,0) -> 42892183
C21: ='VALORES INDEXADOS OBRA CARACOLÍ'!C19 -> 2.3 | D21: ='VALORES INDEXADOS OBRA CARACOLÍ'!D19 -> EXCAVACION MANUAL EN MATERIAL COMUN. INCLUYE CARGUE. | E21: ='VALORES INDEXADOS OBRA CARACOLÍ'!E19 -> M3 | F21: ='VALORES INDEXADOS OBRA CARACOLÍ'!F19 -> 1282.86 | G21: ='VALORES INDEXADOS OBRA CARACOLÍ'!H19 -> 35261 | H21: =ROUND(F21*G21,0) -> 45234926
C22: ='VALORES INDEXADOS OBRA CARACOLÍ'!C20 -> 2.4 | D22: ='VALORES INDEXADOS OBRA CARACOLÍ'!D20 -> TRANSPORTE Y DISPOSICION FINAL DE ESCOMBROS EN SITIO AUTORIZADO (DISTANCIA DE TRANSPORTE 21 KM). A DISTANCIA MAYOR DEL ACARREO LIBRE (90 M) EN SITIO AUTORIZADO POR LA ENTIDAD AMBIENTAL COMPETENTE. | E22: ='VALORES INDEXADOS OBRA CARACOLÍ'!E20 -> M3 | F22: ='VALORES INDEXADOS OBRA CARACOLÍ'!F20 -> 2423.67 | G22: =ROUND(Comparativo!M11,0) -> 32453 | H22: =ROUND(F22*G22,0) -> 78655363
C23: ='VALORES INDEXADOS OBRA CARACOLÍ'!C21 -> 2.5 | D23: ='VALORES INDEXADOS OBRA CARACOLÍ'!D21 -> NIVELACIÓN DE POZO (HASTA RASANTE EN CONCRETO 3000 PSI HECHO EN OBRA, H=0.15M. INCLUYE SUMINISTRO Y CONSTRUCCIÓN) | E23: ='VALORES INDEXADOS OBRA CARACOLÍ'!E21 -> UN | F23: ='VALORES INDEXADOS OBRA CARACOLÍ'!F21 -> 23 | G23: =ROUND(Comparativo!M27,0) -> 114683 | H23: =ROUND(F23*G23,0) -> 2637709
C24: ='VALORES INDEXADOS OBRA CARACOLÍ'!C22 -> 2.6 | D24: ='VALORES INDEXADOS OBRA CARACOLÍ'!D22 -> RELLENO PARA REDES EN ARENA DE PEÑA (SUMINISTRO, EXTENDIDO, HUMEDECIMIENTO Y COMPACTACIÓN) | E24: ='VALORES INDEXADOS OBRA CARACOLÍ'!E22 -> M3 | F24: ='VALORES INDEXADOS OBRA CARACOLÍ'!F22 -> 48.07 | G24: ='VALORES INDEXADOS OBRA CARACOLÍ'!H22 -> 211118 | H24: =ROUND(F24*G24,0) -> 10148442
C25: ='VALORES INDEXADOS OBRA CARACOLÍ'!C23 -> 2.7 | D25: ='VALORES INDEXADOS OBRA CARACOLÍ'!D23 -> RELLENO EN RECEBO COMUN (SUMINISTRO E INSTALACIÓN EXTENDIDO MANUAL, HUMEDECIMIENTO Y COMPACTACIÓN. INCLUYE TRANSPORTE) | E25: ='VALORES INDEXADOS OBRA CARACOLÍ'!E23 -> M3 | F25: ='VALORES INDEXADOS OBRA CARACOLÍ'!F23 -> 556.15 | G25: ='VALORES INDEXADOS OBRA CARACOLÍ'!H23 -> 83357 | H25: =ROUND(F25*G25,0) -> 46358996
C26: ='VALORES INDEXADOS OBRA CARACOLÍ'!C25 -> 2.9 | D26: ='VALORES INDEXADOS OBRA CARACOLÍ'!D25 -> TUBERIA PVC U.M. EXT CORRUGADO/INT LISO U.M. NORMA NTC 3722-1 D=6" (INCLUYE SUMINISTRO E INSTALACIÓN) | E26: ='VALORES INDEXADOS OBRA CARACOLÍ'!E25 -> ML | F26: ='VALORES INDEXADOS OBRA CARACOLÍ'!F25 -> 356.87 | G26: ='VALORES INDEXADOS OBRA CARACOLÍ'!H25 -> 40245 | H26: =ROUND(F26*G26,0) -> 14362233
C27: ='VALORES INDEXADOS OBRA CARACOLÍ'!C26 -> 2.10 | D27: ='VALORES INDEXADOS OBRA CARACOLÍ'!D26 -> TUBERIA PVC U.M. EXT CORRUGADO/INT LISO U.M. NORMA NTC 3722-1 D=8" (INCLUYE SUMINISTRO E INSTALACIÓN) | E27: ='VALORES INDEXADOS OBRA CARACOLÍ'!E26 -> ML | F27: ='VALORES INDEXADOS OBRA CARACOLÍ'!F26 -> 5.31 | G27: =ROUND(Comparativo!M18,0) -> 57076 | H27: =ROUND(F27*G27,0) -> 303074
C28: ='VALORES INDEXADOS OBRA CARACOLÍ'!C34 -> 2.18 | D28: ='VALORES INDEXADOS OBRA CARACOLÍ'!D34 -> CAJA DE INSPECCION 0.80X0.8M. SUMINISTRO Y CONSTRUCCION. (H=0.6M. INCLUYE MARCO Y TAPA, NO INCLUYE BASE Y CAÑUELA). | E28: ='VALORES INDEXADOS OBRA CARACOLÍ'!E34 -> UN | F28: ='VALORES INDEXADOS OBRA CARACOLÍ'!F34 -> 22 | G28: ='VALORES INDEXADOS OBRA CARACOLÍ'!H34 -> 899097 | H28: =ROUND(F28*G28,0) -> 19780134
C29: ='VALORES INDEXADOS OBRA CARACOLÍ'!C35 -> 2.19 | D29: ='VALORES INDEXADOS OBRA CARACOLÍ'!D35 -> REPARACIÓN DE ACOMETIDA HIDRÁULICA DE LA CAJILLA HACIA EL PREDIO (INCLUYE EL RETIRO DE LA TUBERÍA EXISTENTE E INSTALACIÓN DE TUBERÍA NUEVA). | E29: ='VALORES INDEXADOS OBRA CARACOLÍ'!E35 -> UN | F29: ='VALORES INDEXADOS OBRA CARACOLÍ'!F35 -> 95 | G29: ='VALORES INDEXADOS OBRA CARACOLÍ'!H35 -> 33260 | H29: =ROUND(F29*G29,0) -> 3159700
C30: ='VALORES INDEXADOS OBRA CARACOLÍ'!C37 -> 2.21 | D30: ='VALORES INDEXADOS OBRA CARACOLÍ'!D37 -> POZO DE INSPECCION ENTRE 3 Y 5 METROS DIAMETRO 1,7 (CONO, TAPA Y MAMPOSTERIA) | E30: ='VALORES INDEXADOS OBRA CARACOLÍ'!E37 -> UN | F30: ='VALORES INDEXADOS OBRA CARACOLÍ'!F37 -> 1 | G30: ='VALORES INDEXADOS OBRA CARACOLÍ'!H37 -> 6673549 | H30: =ROUND(F30*G30,0) -> 6673549
C31: ='VALORES INDEXADOS OBRA CARACOLÍ'!C41 -> 2.25 | D31: ='VALORES INDEXADOS OBRA CARACOLÍ'!D41 -> ENTIBADO EC-2 CONTÍNUO MADERA CON PERFILES METÁLICOS Y PARALES TELESCÓPICOS. SUMINISTRO E INSTALACIÓN. | E31: ='VALORES INDEXADOS OBRA CARACOLÍ'!E41 -> M2 | F31: ='VALORES INDEXADOS OBRA CARACOLÍ'!F41 -> 327.41 | G31: =ROUND(Comparativo!M17,0) -> 67935 | H31: =ROUND(F31*G31,0) -> 22242598
C32: ='VALORES INDEXADOS OBRA CARACOLÍ'!C44 -> 2.28 | D32: ='VALORES INDEXADOS OBRA CARACOLÍ'!D44 -> SUMIDERO LATERAL SL-150A, H=1.7M (FUNDIDO EN SITIO, CONCRETO PREMEZCLADO. INCL. SUMIN, FORM, REF. Y CONSTR. INCL. TAPA) | E32: ='VALORES INDEXADOS OBRA CARACOLÍ'!E44 -> UN | F32: ='VALORES INDEXADOS OBRA CARACOLÍ'!F44 -> 10 | G32: ='VALORES INDEXADOS OBRA CARACOLÍ'!H44 -> 2943962 | H32: =ROUND(F32*G32,0) -> 29439620
C33: ='VALORES INDEXADOS OBRA CARACOLÍ'!C49 -> 2.33 | D33: ='VALORES INDEXADOS OBRA CARACOLÍ'!D49 -> EXCAVACION MANUAL PARA REDES PROFUNDIDAD 0M - 2M (INCLUYE CARGUE) | E33: ='VALORES INDEXADOS OBRA CARACOLÍ'!E49 -> M3 | F33: ='VALORES INDEXADOS OBRA CARACOLÍ'!F49 -> 185.88 | G33: ='VALORES INDEXADOS OBRA CARACOLÍ'!H49 -> 35261 | H33: =ROUND(F33*G33,0) -> 6554315
C34: ='VALORES INDEXADOS OBRA CARACOLÍ'!C57 -> 2.41 | D34: ='VALORES INDEXADOS OBRA CARACOLÍ'!D57 -> RECONSTRUCCIÓN DOMICILIARIA ALCANTARILLADO ** | E34: ='VALORES INDEXADOS OBRA CARACOLÍ'!E57 -> UN | F34: ='VALORES INDEXADOS OBRA CARACOLÍ'!F57 -> 19 | G34: ='VALORES INDEXADOS OBRA CARACOLÍ'!H57 -> 199604 | H34: =ROUND(F34*G34,0) -> 3792476
C35: ='VALORES INDEXADOS OBRA CARACOLÍ'!C58 -> 2.42 | D35: ='VALORES INDEXADOS OBRA CARACOLÍ'!D58 -> RECONSTRUCCIÓN ACOMETIDA ACUEDUCTO ** | E35: ='VALORES INDEXADOS OBRA CARACOLÍ'!E58 -> UN | F35: ='VALORES INDEXADOS OBRA CARACOLÍ'!F58 -> 14 | G35: ='VALORES INDEXADOS OBRA CARACOLÍ'!H58 -> 203067 | H35: =ROUND(F35*G35,0) -> 2842938
C36: ='VALORES INDEXADOS OBRA CARACOLÍ'!C59 -> 3 | D36: ='VALORES INDEXADOS OBRA CARACOLÍ'!D59 -> ESTRUCTURA DE ESPACIO PUBLICO | E36: =IF('VALORES INDEXADOS OBRA CARACOLÍ'!E59="","",'VALORES INDEXADOS OBRA CARACOLÍ'!E59) | F36: =IF('VALORES INDEXADOS OBRA CARACOLÍ'!F59="","",'VALORES INDEXADOS OBRA CARACOLÍ'!F59) | G36: =IF('VALORES INDEXADOS OBRA CARACOLÍ'!H59="","",'VALORES INDEXADOS OBRA CARACOLÍ'!H59) | H36: =SUM(H37:H44) -> 713358025
C37: ='VALORES INDEXADOS OBRA CARACOLÍ'!C60 -> 3.1 | D37: ='VALORES INDEXADOS OBRA CARACOLÍ'!D60 -> CONSTRUCCION DE PAVIMENTO 039 KG/CM2 GRAVA1" 28DÍAS AS13CM (5") DE COLOR (CONVENCIONAL, ROJO, AMARILLO, MARRON, AZUL INCLUYE CORTE, SELLO Y AMPLIACION DE JUNTA) | E37: ='VALORES INDEXADOS OBRA CARACOLÍ'!E60 -> M3 | F37: ='VALORES INDEXADOS OBRA CARACOLÍ'!F60 -> 505.57 | G37: ='VALORES INDEXADOS OBRA CARACOLÍ'!H60 -> 726807 | H37: =ROUND(F37*G37,0) -> 367451815
C38: ='VALORES INDEXADOS OBRA CARACOLÍ'!C61 -> 3.2 | D38: ='VALORES INDEXADOS OBRA CARACOLÍ'!D61 -> TRANSPORTE Y DISPOSICION FINAL DE ESCOMBROS EN SITIO AUTORIZADO (DISTANCIA DE TRANSPORTE 28 KM) INCLUYE DERECHO A ESCOMBRERA | E38: ='VALORES INDEXADOS OBRA CARACOLÍ'!E61 -> M3 | F38: ='VALORES INDEXADOS OBRA CARACOLÍ'!F61 -> 1257.17 | G38: ='VALORES INDEXADOS OBRA CARACOLÍ'!H61 -> 38676 | H38: =ROUND(F38*G38,0) -> 48622307
C39: ='VALORES INDEXADOS OBRA CARACOLÍ'!C62 -> 3.3 | D39: ='VALORES INDEXADOS OBRA CARACOLÍ'!D62 -> HUMEDECIMIENTO, NIVELACION Y COMPACTACION CON VIBROCOMPACTADOR DE LA SUB RASANTE | E39: ='VALORES INDEXADOS OBRA CARACOLÍ'!E62 -> M2 | F39: ='VALORES INDEXADOS OBRA CARACOLÍ'!F62 -> 964.41 | G39: ='VALORES INDEXADOS OBRA CARACOLÍ'!H62 -> 21364 | H39: =ROUND(F39*G39,0) -> 20603655
C40: ='VALORES INDEXADOS OBRA CARACOLÍ'!C63 -> 3.4 | D40: ='VALORES INDEXADOS OBRA CARACOLÍ'!D63 -> SUBBASE GRANULAR CLASE A (SBG_A) ESTABILIZADA CON CEMENTO AL 4% (SUMINISTRO, EXTENDIDO, NIVELACIÓN, HUMEDECIMIENTO Y COMPACTACIÓN CON VIBROCOMPACTADOR) DISTANCIA DE TRANSPORTE 28 KM | E40: ='VALORES INDEXADOS OBRA CARACOLÍ'!E63 -> M3 | F40: ='VALORES INDEXADOS OBRA CARACOLÍ'!F63 -> 996.42 | G40: ='VALORES INDEXADOS OBRA CARACOLÍ'!H63 -> 184907 | H40: =ROUND(F40*G40,0) -> 184245033
C41: ='VALORES INDEXADOS OBRA CARACOLÍ'!C64 -> 3.5 | D41: ='VALORES INDEXADOS OBRA CARACOLÍ'!D64 -> CURADO DE LOSAS DE CONCRETO (SUMINISTRO Y APLICACIÓN) | E41: ='VALORES INDEXADOS OBRA CARACOLÍ'!E64 -> M2 | F41: ='VALORES INDEXADOS OBRA CARACOLÍ'!F64 -> 3728.2 | G41: =ROUND(Comparativo!M12,0) -> 2038 | H41: =ROUND(F41*G41,0) -> 7598072
C42: ='VALORES INDEXADOS OBRA CARACOLÍ'!C66 -> 3.7 | D42: ='VALORES INDEXADOS OBRA CARACOLÍ'!D66 -> GEOTEXTIL NT 1600 PARA SEPARACION SUBRASANTE/CAPAS GRANULARES (INCLUYE SUMINISTRO E INSTALACIÓN) | E42: ='VALORES INDEXADOS OBRA CARACOLÍ'!E66 -> M2 | F42: ='VALORES INDEXADOS OBRA CARACOLÍ'!F66 -> 3541.97 | G42: ='VALORES INDEXADOS OBRA CARACOLÍ'!H66 -> 7266 | H42: =ROUND(F42*G42,0) -> 25735954
C43: ='VALORES INDEXADOS OBRA CARACOLÍ'!C68 -> 3.9 | D43: ='VALORES INDEXADOS OBRA CARACOLÍ'!D68 -> RELLENO EN RECEBO COMUN (SUMINISTRO E INSTALACIÓN EXTENDIDO MANUAL, HUMEDECIMIENTO Y COMPACTACIÓN TRANSPORTE A 28 KM). | E43: ='VALORES INDEXADOS OBRA CARACOLÍ'!E68 -> M3 | F43: ='VALORES INDEXADOS OBRA CARACOLÍ'!F68 -> 620.68 | G43: =ROUND(Comparativo!M16,0) -> 85364 | H43: =ROUND(F43*G43,0) -> 52983728
C44: ='VALORES INDEXADOS OBRA CARACOLÍ'!C69 -> 3.10 | D44: ='VALORES INDEXADOS OBRA CARACOLÍ'!D69 -> EXCAVACION MECANICA EN MATERIAL COMUN. INCLUYE CARGUE. | E44: ='VALORES INDEXADOS OBRA CARACOLÍ'!E69 -> M3 | F44: ='VALORES INDEXADOS OBRA CARACOLÍ'!F69 -> 986.21 | G44: =ROUND(Comparativo!M10,0) -> 6203 | H44: =ROUND(F44*G44,0) -> 6117461
C45: ='VALORES INDEXADOS OBRA CARACOLÍ'!C70 -> 4 | D45: ='VALORES INDEXADOS OBRA CARACOLÍ'!D70 -> ANDENES | E45: =IF('VALORES INDEXADOS OBRA CARACOLÍ'!E70="","",'VALORES INDEXADOS OBRA CARACOLÍ'!E70) | F45: =IF('VALORES INDEXADOS OBRA CARACOLÍ'!F70="","",'VALORES INDEXADOS OBRA CARACOLÍ'!F70) | G45: =IF('VALORES INDEXADOS OBRA CARACOLÍ'!H70="","",'VALORES INDEXADOS OBRA CARACOLÍ'!H70) | H45: =SUM(H46:H53) -> 309146102
...

Sheet LISTA DE PRECIOS UNITARIOS
C3: =+'[1]Interv-E y D CIVs Lote 4'!B1 -> INTERVENCIONES INTEGRALES DEL HÁBITAT
C4: DIRECCIÓN DE HABITAT Y ENTORNOS SUBSECRETARÍA DE INTERVENCIONES INTEGRALES
C5: OBJETO: REALIZAR EL DIAGNÓSTICO, ACTUALIZACIÓN DE ESTUDIOS, DISEÑOS Y CULMINACIÓN DE LAS OBRAS EN ESPACIO PÚBLICO PARA EL MEJORAMIENTO INTEGRAL DE LOS BARRIOS ALPES Y CARACOLI, QUE HACEN PARTE DEL TERRITORIO PRIORIZADO POR LA SECRETARÍA DISTRITAL DEL HÁBITAT EN LA CONURBACIÓN CIUDAD BOLÍVAR.
C6: PRECIOS UNITARIOS INDEXADOS CARACOLI
C8: ÍTEM | D8: ACTIVIDAD | E8: UNIDAD | F8: VALOR UNITARIO INDEXADO ENE 2022 - JUN 2027
C11: ='VALORES INDEXADOS OBRA CARACOLÍ'!C12 -> 1 | D11: ='VALORES INDEXADOS OBRA CARACOLÍ'!D12 -> PRELIMINARES | E11: =IF('VALORES INDEXADOS OBRA CARACOLÍ'!E12="","",'VALORES INDEXADOS OBRA CARACOLÍ'!E12) | F11: =IF('VALORES INDEXADOS OBRA CARACOLÍ'!H12="","",'VALORES INDEXADOS OBRA CARACOLÍ'!H12)
C12: ='VALORES INDEXADOS OBRA CARACOLÍ'!C15 -> 1.3 | D12: ='VALORES INDEXADOS OBRA CARACOLÍ'!D15 -> VALLA ESPECIAL 6X3 (INSTALAC.) SOLO LÁMINA Y BANNER | E12: ='VALORES INDEXADOS OBRA CARACOLÍ'!E15 -> UN | F12: ='VALORES INDEXADOS OBRA CARACOLÍ'!H15 -> 307217
C13: ='VALORES INDEXADOS OBRA CARACOLÍ'!C16 -> 2 | D13: ='VALORES INDEXADOS OBRA CARACOLÍ'!D16 -> REDES HIDROSANITARIAS | E13: =IF('VALORES INDEXADOS OBRA CARACOLÍ'!E16="","",'VALORES INDEXADOS OBRA CARACOLÍ'!E16) | F13: =IF('VALORES INDEXADOS OBRA CARACOLÍ'!H16="","",'VALORES INDEXADOS OBRA CARACOLÍ'!H16)
C14: ='VALORES INDEXADOS OBRA CARACOLÍ'!C24 -> 2.8 | D14: ='VALORES INDEXADOS OBRA CARACOLÍ'!D24 -> TUBERIA PVC U.M. EXT CORRUGADO/INT LISO U.M. NORMA NTC 3722-1 D=4" (INCLUYE SUMINISTRO E INSTALACIÓN) | E14: ='VALORES INDEXADOS OBRA CARACOLÍ'!E24 -> ML | F14: ='VALORES INDEXADOS OBRA CARACOLÍ'!H24 -> 30639
C15: ='VALORES INDEXADOS OBRA CARACOLÍ'!C27 -> 2.11 | D15: ='VALORES INDEXADOS OBRA CARACOLÍ'!D27 -> TUBERIA PVC U.M. EXT CORRUGADO/INT LISO U.M. NORMA NTC 3722-1 D=10" (INCLUYE SUMINISTRO E INSTALACIÓN) | E15: ='VALORES INDEXADOS OBRA CARACOLÍ'!E27 -> ML | F15: =ROUND(Comparativo!M19,0) -> 69943
C16: ='VALORES INDEXADOS OBRA CARACOLÍ'!C28 -> 2.12 | D16: ='VALORES INDEXADOS OBRA CARACOLÍ'!D28 -> TUBERIA PVC U.M. EXT CORRUGADO/INT LISO U.M. NORMA NTC 3722-1 D=12" (INCLUYE SUMINISTRO E INSTALACIÓN) | E16: ='VALORES INDEXADOS OBRA CARACOLÍ'!E28 -> ML | F16: =ROUND(Comparativo!M20,0) -> 115953
C17: ='VALORES INDEXADOS OBRA CARACOLÍ'!C29 -> 2.13 | D17: ='VALORES INDEXADOS OBRA CARACOLÍ'!D29 -> TUBERIA PVC U.M. EXT CORRUGADO/INT LISO U.M. NORMA NTC 3722-1 D=14" (INCLUYE SUMINISTRO E INSTALACIÓN) | E17: ='VALORES INDEXADOS OBRA CARACOLÍ'!E29 -> ML | F17: ='VALORES INDEXADOS OBRA CARACOLÍ'!H29 -> 163626
C18: ='VALORES INDEXADOS OBRA CARACOLÍ'!C30 -> 2.14 | D18: ='VALORES INDEXADOS OBRA CARACOLÍ'!D30 -> TUBERIA PVC U.M. EXT CORRUGADO/INT LISO U.M. NORMA NTC 3722-1 D=16" (INCLUYE SUMINISTRO E INSTALACIÓN) | E18: ='VALORES INDEXADOS OBRA CARACOLÍ'!E30 -> ML | F18: =ROUND(Comparativo!M21,0) -> 175557
C19: ='VALORES INDEXADOS OBRA CARACOLÍ'!C31 -> 2.15 | D19: ='VALORES INDEXADOS OBRA CARACOLÍ'!D31 -> TUBERIA PVC U.M. EXT CORRUGADO/INT LISO U.M. NORMA NTC 3722-1 D=18" (INCLUYE SUMINISTRO E INSTALACIÓN) | E19: ='VALORES INDEXADOS OBRA CARACOLÍ'!E31 -> ML | F19: =ROUND(Comparativo!M22,0) -> 227900
C20: ='VALORES INDEXADOS OBRA CARACOLÍ'!C32 -> 2.16 | D20: ='VALORES INDEXADOS OBRA CARACOLÍ'!D32 -> TUBERIA PVC U.M. EXT CORRUGADO/INT LISO U.M. NORMA NTC 3722-1 D=20" (INCLUYE SUMINISTRO E INSTALACIÓN) | E20: ='VALORES INDEXADOS OBRA CARACOLÍ'!E32 -> ML | F20: =ROUND(Comparativo!M23,0) -> 295226
C21: ='VALORES INDEXADOS OBRA CARACOLÍ'!C33 -> 2.17 | D21: ='VALORES INDEXADOS OBRA CARACOLÍ'!D33 -> TUBERIA PVC U.M. EXT CORRUGADO/INT LISO U.M. NORMA NTC 3722-1 D=24" (INCLUYE SUMINISTRO E INSTALACIÓN) | E21: ='VALORES INDEXADOS OBRA CARACOLÍ'!E33 -> ML | F21: ='VALORES INDEXADOS OBRA CARACOLÍ'!H33 -> 432936
C22: ='VALORES INDEXADOS OBRA CARACOLÍ'!C36 -> 2.20 | D22: ='VALORES INDEXADOS OBRA CARACOLÍ'!D36 -> POZO DE INSPECCION D=1.7 M (INCL. SUMINISTRO E INSTALACION). INCLUYE CILINDRO POZO DE INSPECCION EN MAMPOSTERIA, CONO PREFABRICADO, PLACA FONDO. | E22: ='VALORES INDEXADOS OBRA CARACOLÍ'!E36 -> UN | F22: =ROUND(Comparativo!M14,0) -> 3966096
C23: ='VALORES INDEXADOS OBRA CARACOLÍ'!C38 -> 2.22 | D23: ='VALORES INDEXADOS OBRA CARACOLÍ'!D38 -> POZO DE INSPECCION MAYOR 5 METROS DIAMETRO 1,7(CONO, TAPA Y MAMPOSTERIA) | E23: ='VALORES INDEXADOS OBRA CARACOLÍ'!E38 -> UN | F23: ='VALORES INDEXADOS OBRA CARACOLÍ'!H38 -> 9122020
C24: ='VALORES INDEXADOS OBRA CARACOLÍ'!C39 -> 2.23 | D24: ='VALORES INDEXADOS OBRA CARACOLÍ'!D39 -> POZO DE INSPECCION MENOR 3 METROS DIAMETRO 1,7(CONO, TAPA Y MAMPOSTERIA) | E24: ='VALORES INDEXADOS OBRA CARACOLÍ'!E39 -> UN | F24: ='VALORES INDEXADOS OBRA CARACOLÍ'!H39 -> 3944891
C25: ='VALORES INDEXADOS OBRA CARACOLÍ'!C40 -> 2.24 | D25: ='VALORES INDEXADOS OBRA CARACOLÍ'!D40 -> CUNETA DE DRENAJE ANCHO= 0.50M EN CONCRETO PREMEZCLADO DE 3000 PSI FUNDIDO EN SITIO. PROFUNDIDAD VARIABLE (ENTRE 0.10M Y 0.50M). (INCLUYE CONSTRUCCIÓN DE PLACA DE FONDO Y MUROS EN CONCRETO IMPERMEABILIZADO, MEDIACAÑAS Y MORTERO DE NIVELACIÓN, ÁNGULOS METÁLICOS PARA SOPORTE DE REJILLAS PREFABRICADAS). | E25: ='VALORES INDEXADOS OBRA CARACOLÍ'!E40 -> ML | F25: ='VALORES INDEXADOS OBRA CARACOLÍ'!H40 -> 544849
C26: ='VALORES INDEXADOS OBRA CARACOLÍ'!C42 -> 2.26 | D26: ='VALORES INDEXADOS OBRA CARACOLÍ'!D42 -> ENTIBADO TIPO EC3 CONTINUO METÁLICO CON PARALES METÁLICOS. INCLUYE SUMINISTRO E INSTALACIÓN | E26: ='VALORES INDEXADOS OBRA CARACOLÍ'!E42 -> M2 | F26: ='VALORES INDEXADOS OBRA CARACOLÍ'!H42 -> 73936
C27: ='VALORES INDEXADOS OBRA CARACOLÍ'!C43 -> 2.27 | D27: ='VALORES INDEXADOS OBRA CARACOLÍ'!D43 -> CÁRCAMO EN CONCRETO PARA TUBERÍA DE ACERO DE 8" EN CALZADA ASFALTO. INCLUYE SUMINISTRO Y COLOCACIÓN DE MATERIALES Y MANO DE OBRA. | E27: ='VALORES INDEXADOS OBRA CARACOLÍ'!E43 -> ML | F27: ='VALORES INDEXADOS OBRA CARACOLÍ'!H43 -> 141018
C28: ='VALORES INDEXADOS OBRA CARACOLÍ'!C45 -> 2.29 | D28: ='VALORES INDEXADOS OBRA CARACOLÍ'!D45 -> FILTRO DE DRENAJE DE 0.6M X 1.0M. SUMINISTRO E INSTALACION. (INCLUYE TUBERIA PERFORADA D=4", GRAVA COMUN 1/2" Y GEOTEXTIL NT 4000 O SIMILAR). | E28: ='VALORES INDEXADOS OBRA CARACOLÍ'!E45 -> ML | F28: ='VALORES INDEXADOS OBRA CARACOLÍ'!H45 -> 149973
C29: ='VALORES INDEXADOS OBRA CARACOLÍ'!C46 -> 2.30 | D29: ='VALORES INDEXADOS OBRA CARACOLÍ'!D46 -> CAÑUELA TIPO A120 (SUMINISTRO E INSTALACIÓN. INCLUYE 3CM MORTERO 1:5) | E29: ='VALORES INDEXADOS OBRA CARACOLÍ'!E46 -> ML | F29: ='VALORES INDEXADOS OBRA CARACOLÍ'!H46 -> 65122
C30: ='VALORES INDEXADOS OBRA CARACOLÍ'!C47 -> 2.31 | D30: ='VALORES INDEXADOS OBRA CARACOLÍ'!D47 -> CONSTRUCCION CANALETA DE AGUAS LLUVIAS DE 0.4 X 0.4 MT EN CONCRETO DE 3000PSI INCLUYE REJILLA PREFABRICADA. | E30: ='VALORES INDEXADOS OBRA CARACOLÍ'!E47 -> ML | F30: =ROUND(Comparativo!M15,0) -> 224849
C31: ='VALORES INDEXADOS OBRA CARACOLÍ'!C48 -> 2.32 | D31: ='VALORES INDEXADOS OBRA CARACOLÍ'!D48 -> CAJA DE INSPECCIÓN DE 0.3X0.3M (H=0.3M. INCLUYE SUMINISTRO Y CONSTRUCCIÓN. INCLUYE MARCO Y TAPA. NO INC. BASE Y CAÑUELA) | E31: ='VALORES INDEXADOS OBRA CARACOLÍ'!E48 -> UN | F31: ='VALORES INDEXADOS OBRA CARACOLÍ'!H48 -> 193600
C32: ='VALORES INDEXADOS OBRA CARACOLÍ'!C50 -> 2.34 | D32: ='VALORES INDEXADOS OBRA CARACOLÍ'!D50 -> EXCAVACION MANUAL PARA REDES PROFUNDIDAD 2M - 3.50M (INCLUYE CARGUE) | E32: ='VALORES INDEXADOS OBRA CARACOLÍ'!E50 -> M3 | F32: ='VALORES INDEXADOS OBRA CARACOLÍ'!H50 -> 45563
C33: ='VALORES INDEXADOS OBRA CARACOLÍ'!C51 -> 2.35 | D33: ='VALORES INDEXADOS OBRA CARACOLÍ'!D51 -> CAÑUELA EN CONCRETO H=5CM, 1V:3H | E33: ='VALORES INDEXADOS OBRA CARACOLÍ'!E51 -> ML | F33: ='VALORES INDEXADOS OBRA CARACOLÍ'!H51 -> 93380
C34: ='VALORES INDEXADOS OBRA CARACOLÍ'!C52 -> 2.36 | D34: ='VALORES INDEXADOS OBRA CARACOLÍ'!D52 -> CAJA RECOLECTORA AGUAS LLUVIA 0.30X0.30 | E34: ='VALORES INDEXADOS OBRA CARACOLÍ'!E52 -> UN | F34: ='VALORES INDEXADOS OBRA CARACOLÍ'!H52 -> 209108
C35: ='VALORES INDEXADOS OBRA CARACOLÍ'!C53 -> 2.37 | D35: ='VALORES INDEXADOS OBRA CARACOLÍ'!D53 -> CAJA RECOLECTORA AGUAS LLUVIA 0.60X0.60 | E35: ='VALORES INDEXADOS OBRA CARACOLÍ'!E53 -> UN | F35: ='VALORES INDEXADOS OBRA CARACOLÍ'!H53 -> 398526
C36: ='VALORES INDEXADOS OBRA CARACOLÍ'!C54 -> 2.38 | D36: ='VALORES INDEXADOS OBRA CARACOLÍ'!D54 -> CAJA DE PASO 0.60X0.60 | E36: ='VALORES INDEXADOS OBRA CARACOLÍ'!E54 -> UN | F36: ='VALORES INDEXADOS OBRA CARACOLÍ'!H54 -> 418215
C37: ='VALORES INDEXADOS OBRA CARACOLÍ'!C55 -> 2.39 | D37: ='VALORES INDEXADOS OBRA CARACOLÍ'!D55 -> CAJA DE PASO 0.30X0.30 | E37: ='VALORES INDEXADOS OBRA CARACOLÍ'!E55 -> UN | F37: ='VALORES INDEXADOS OBRA CARACOLÍ'!H55 -> 209108
C38: ='VALORES INDEXADOS OBRA CARACOLÍ'!C56 -> 2.40 | D38: ='VALORES INDEXADOS OBRA CARACOLÍ'!D56 -> SUMIDERO LATERAL SL-100, H=1.25M (FUNDIDO EN SITIO, CONCRETO PREMEZCLADO. INCL. SUMIN, FORM, REF. Y CONSTR. INCL. TAPA) | E38: ='VALORES INDEXADOS OBRA CARACOLÍ'!E56 -> UN | F38: =ROUND(Comparativo!M24,0) -> 2120134
C39: ='VALORES INDEXADOS OBRA CARACOLÍ'!C59 -> 3 | D39: ='VALORES INDEXADOS OBRA CARACOLÍ'!D59 -> ESTRUCTURA DE ESPACIO PUBLICO | E39: =IF('VALORES INDEXADOS OBRA CARACOLÍ'!E59="","",'VALORES INDEXADOS OBRA CARACOLÍ'!E59) | F39: =IF('VALORES INDEXADOS OBRA CARACOLÍ'!H59="","",'VALORES INDEXADOS OBRA CARACOLÍ'!H59)
C40: ='VALORES INDEXADOS OBRA CARACOLÍ'!C65 -> 3.6 | D40: ='VALORES INDEXADOS OBRA CARACOLÍ'!D65 -> IMPRIMACIÓN CON EMULSIÓN ASFÁLTICA CRL-1 (INCLUYE SUMINISTRO, BARRIDO DE SUPERFICIE Y RIEGO). | E40: ='VALORES INDEXADOS OBRA CARACOLÍ'!E65 -> M2 | F40: ='VALORES INDEXADOS OBRA CARACOLÍ'!H65 -> 2380
C41: ='VALORES INDEXADOS OBRA CARACOLÍ'!C67 -> 3.8 | D41: ='VALORES INDEXADOS OBRA CARACOLÍ'!D67 -> MALLA ELECTROSOLDADA 0.15X0.15M, D=8MM, 8MM (INCLUYE SUMINISTRO, FIJACIÓN E INSTALACIÓN) | E41: ='VALORES INDEXADOS OBRA CARACOLÍ'!E67 -> KG | F41: =ROUND(Comparativo!M30,0) -> 4209
C42: ='VALORES INDEXADOS OBRA CARACOLÍ'!C70 -> 4 | D42: ='VALORES INDEXADOS OBRA CARACOLÍ'!D70 -> ANDENES | E42: =IF('VALORES INDEXADOS OBRA CARACOLÍ'!E70="","",'VALORES INDEXADOS OBRA CARACOLÍ'!E70) | F42: =IF('VALORES INDEXADOS OBRA CARACOLÍ'!H70="","",'VALORES INDEXADOS OBRA CARACOLÍ'!H70)
C43: ='VALORES INDEXADOS OBRA CARACOLÍ'!C74 -> 4.4 | D43: ='VALORES INDEXADOS OBRA CARACOLÍ'!D74 -> PIEZA REMATE A105 PARA RAMPA TIPO A (SUMINISTRO E INSTALACIÓN. INCLUYE 3CM MORTERO 2000 PSI) | E43: ='VALORES INDEXADOS OBRA CARACOLÍ'!E74 -> UN | F43: ='VALORES INDEXADOS OBRA CARACOLÍ'!H74 -> 107212
C44: ='VALORES INDEXADOS OBRA CARACOLÍ'!C77 -> 4.7 | D44: ='VALORES INDEXADOS OBRA CARACOLÍ'!D77 -> CENEFA LINEAL EN LOSETA PREFABRICADA TÁCTIL ALERTA A55 / A56 ANCHO 0.40M (SUMINISTRO E INSTALACIÓN. INCLUYE BASE EN ARENA DE NIVELACIÓN E= 4CM Y ARENA DE SELLO). | E44: ='VALORES INDEXADOS OBRA CARACOLÍ'!E77 -> ML | F44: ='VALORES INDEXADOS OBRA CARACOLÍ'!H77 -> 34117
C45: ='VALORES INDEXADOS OBRA CARACOLÍ'!C78 -> 4.8 | D45: ='VALORES INDEXADOS OBRA CARACOLÍ'!D78 -> CENEFA LINEAL EN LOSETA PREFABRICADA TÁCTIL ALERTA A57 ANCHO 0.40M (SUMINISTRO E INSTALACIÓN. INCLUYE BASE EN ARENA DE NIVELACIÓN E= 4CM Y ARENA DE SELLO). | E45: ='VALORES INDEXADOS OBRA CARACOLÍ'!E78 -> ML | F45: ='VALORES INDEXADOS OBRA CARACOLÍ'!H78 -> 43154
...

Sheet E Y D PRESU ESTIMADO
B1: INTERVENCIONES INTEGRALES DEL HÁBITAT
B2: DIRECCIÓN DE HABITAT Y ENTORNOS SUBSECRETARÍA DE INTERVENCIONES INTEGRALES
M3: AGOSTO 2026
M4: SALARIO MÍNIMO
B5: OBJETO: REALIZAR EL DIAGNÓSTICO, ACTUALIZACIÓN DE ESTUDIOS, DISEÑOS Y CULMINACIÓN DE LAS OBRAS EN ESPACIO PÚBLICO PARA EL MEJORAMIENTO INTEGRAL DE LOS BARRIOS ALPES Y CARACOLI, QUE HACEN PARTE DEL TERRITORIO PRIORIZADO POR LA SECRETARÍA DISTRITAL DEL HÁBITAT EN LA CONURBACIÓN CIUDAD BOLÍVAR.
B6: TIEMPO DE EJECUCIÓN: 5 meses | H6: 4623 M2
B7: ÍTEM | C7: DESCRIPCIÓN | E7: ESPECIALISTA | G7: AÑOS DE EXPERIENCIA | I7: UND | J7: % | K7: VR. UNITARIO | L7: VR. PARCIAL | M7: VR. TOTAL
E8: SI | F8: NO | G8: PROF | H8: ESPEC
B10: 10 | C10: PROFESIONAL MÍNIMO CALIFICABLE | D10: PROFESIÓN | I10: MESES | J10: DEDICACIÓN | K10: SALARIO | L10: SUBTOTAL | M10: =SUM(L11:L17) -> 62480100
B11: 10.01 | C11: Director de la Consultoría | D11: Ingeniería Civil o Arquitectura | E11: 1 | G11: 8 | H11: 5 | I11: 5 | J11: 0.3 | K11: =SALARIOS!F8 -> 11183000 | L11: =E11*J11*K11*I11 -> 16774500
B12: 10.02 | C12: Especialista en diseño arquitectónico | D12: Arquitectura | E12: 1 | G12: 6 | H12: 4 | I12: 4 | J12: 0.3 | K12: =SALARIOS!$F$9 -> 9522000 | L12: =E12*J12*K12*I12 -> 11426400
B13: 10.03 | C13: Especialista en paisajismo | D13: Arquitectura | E13: 1 | G13: 6 | H13: 4 | I13: 2 | J13: 0.2 | K13: =SALARIOS!$F$9 -> 9522000 | L13: =E13*J13*K13*I13 -> 3808800
B14: 10.04 | C14: Especialista en Vías | D14: Ingeniería Civil o de vías | E14: 1 | G14: 6 | H14: 4 | I14: 2 | J14: 0.2 | K14: =SALARIOS!$F$9 -> 9522000 | L14: =E14*J14*K14*I14 -> 3808800
B15: 10.05 | C15: Especialista en Transporte y Movilidad | D15: Ingeniería de Transporte | E15: 1 | G15: 6 | H15: 4 | I15: 2 | J15: 0.2 | K15: =SALARIOS!$F$9 -> 9522000 | L15: =E15*J15*K15*I15 -> 3808800
B16: 10.06 | C16: Especialista en redes eléctricas y Energía Solar | D16: Ingeniero Eléctrico | E16: 1 | G16: 6 | H16: 4 | I16: 3 | J16: 0.3 | K16: =SALARIOS!$F$9 -> 9522000 | L16: =E16*J16*K16*I16 -> 8569800
B17: 10.07 | C17: Especialista en redes hidrosanitarias. Suds y saneamiento básico | D17: Ingeniería Civil o Sanitaria | E17: 1 | G17: 6 | H17: 4 | I17: 3 | J17: 0.5 | K17: =SALARIOS!$F$9 -> 9522000 | L17: =E17*J17*K17*I17 -> 14283000
B19: 20 | C19: PROFESIONALES DE APOYO | D19: PROFESIÓN | I19: MESES | J19: DEDICACIÓN | K19: SALARIO | L19: SUBTOTAL | M19: =SUM(L20:L29) -> 88392900
B20: 20.01 | C20: Especialista en Estructuras | D20: Ingeniería Civil | E20: 1 | G20: 6 | H20: 4 | I20: 3 | J20: 0.7 | K20: =SALARIOS!$F$9 -> 9522000 | L20: =E20*J20*K20*I20 -> 19996200
B21: 20.02 | C21: Especialista en geotecnia | D21: Ingeniería Civil | E21: 1 | G21: 6 | H21: 4 | I21: 3 | J21: 0.5 | K21: =SALARIOS!$F$9 -> 9522000 | L21: =E21*J21*K21*I21 -> 14283000
B22: 20.03 | C22: Especialista en gestión ambiental (construcción sostenible) | D22: Ingeniería Ambiental o Afines | E22: 1 | G22: 6 | H22: 4 | I22: 5 | J22: 0.2 | K22: =SALARIOS!$F$9 -> 9522000 | L22: =E22*J22*K22*I22 -> 9522000
B23: 20.04 | C23: Ingeniero forestal | D23: Ingeniería Forestal | F23: 1 | G23: 4 | H23: 3 | I23: 3 | J23: 0.2 | K23: =SALARIOS!$F$10 -> 8589000 | L23: =J23*K23*I23*F23 -> 5153400
B24: 20.05 | C24: Ingeniero Geologo | D24: Ingeniería gelógica | F24: 1 | G24: 4 | H24: 3 | I24: 3 | J24: 0.3 | K24: =SALARIOS!$F$10 -> 8589000 | L24: =J24*K24*I24*F24 -> 7730100
B25: 20.06 | C25: Ingeniero hidrolologo | D25: Ingeniería hidrologica | F25: 1 | G25: 4 | H25: 3 | I25: 3 | J25: 0.3 | K25: =SALARIOS!$F$10 -> 8589000 | L25: =J25*K25*I25*F25 -> 7730100
B26: 20.07 | C26: Arqueólogo | D26: Arqueología o afines | F26: 1 | G26: 4 | H26: 3 | I26: 2 | J26: 0.2 | K26: =SALARIOS!$F$10 -> 8589000 | L26: =J26*K26*I26*F26 -> 3435600
B27: 20.08 | C27: Profesional en presupuestos, especificaciones, cantidades, programación y APUS | D27: Ingeniero Civil | F27: 1 | G27: 4 | H27: 3 | I27: 5 | J27: 0.3 | K27: =SALARIOS!$F$10 -> 8589000 | L27: =J27*K27*I27*F27 -> 12883500
B28: 20.09 | C28: Profesional SST | D28: Ingeniero Industrial, SST o afines | F28: 1 | G28: 3 | H28: 1 | I28: 5 | J28: 0.1 | K28: =SALARIOS!$F$11 -> 7659000 | L28: =J28*K28*I28*F28 -> 3829500
B29: 20.10 | C29: Profesional en gestión social | D29: Trabajo Social, socióloga, psicóloga social, Antropóloga | F29: 1 | G29: 3 | H29: 1 | I29: 5 | J29: 0.1 | K29: =SALARIOS!$F$11 -> 7659000 | L29: =J29*K29*I29*F29 -> 3829500
B31: 30 | C31: PROFESIONALES DE LEGALIZACIÓN Y GESTIÓN PREDIAL | D31: PROFESIÓN | I31: MESES | J31: DEDICACIÓN | K31: SALARIO | L31: SUBTOTAL | M31: =SUM(L32:L34) -> 12044400
B32: 30.01 | C32: Especialista en normatividad | D32: Arquitectura | E32: 1 | G32: 6 | H32: 4 | I32: 3 | J32: 0.2 | K32: =SALARIOS!$F$9 -> 9522000 | L32: =E32*(J32*I32)*K32 -> 5713200
B33: 30.02 | C33: Especialista derecho urbano | D33: Abogado | E33: 1 | G33: 6 | H33: 4 | I33: 3 | J33: 0.1 | K33: =SALARIOS!$F$9 -> 9522000 | L33: =E33*(J33*I33)*K33 -> 2856600
B34: 30.03 | C34: Técnico en manejo de registro fotográfico y topográfico | D34: Técnico en fotografía y dibujo | F34: 1 | G34: 2 | H34: 1 | I34: 3 | J34: 0.2 | K34: =SALARIOS!$F$12 -> 5791000 | L34: =J34*K34*I34*F34 -> 3474600
B36: 40 | C36: OTRO PERSONAL | D36: FORMACIÓN | I36: MESES | J36: DEDICACIÓN | K36: SALARIO | L36: SUBTOTAL | M36: =SUM(L37:L46) -> 72264710
B37: 40.01 | C37: Gestor urbano y soporte SIG | D37: Ingeniero geógrafo o catastral | F37: 1 | G37: 2 | I37: 3 | J37: 0.4 | K37: =SALARIOS!$F$12 -> 5791000 | L37: =F37*J37*K37*I37 -> 6949200
B38: 40.02 | C38: Representación arquitectónica 2D | D38: Arquitectura | F38: 2 | G38: 2 | I38: 4 | J38: 0.6 | K38: =SALARIOS!$F$12 -> 5791000 | L38: =F38*J38*K38*I38 -> 27796800
B39: 40.03 | C39: Representación arquitectónica 3D | D39: Arquitectura | F39: 1 | G39: 2 | I39: 4 | J39: 0.5 | K39: =SALARIOS!$F$12 -> 5791000 | L39: =F39*J39*K39*I39 -> 11582000
B40: 40.04 | C40: Coordinador arquitectónica BIM | D40: Arquitectura | F40: 1 | G40: 2 | I40: 4 | J40: 0.2 | K40: =SALARIOS!$F$12 -> 5791000 | L40: =F40*J40*K40*I40 -> 4632800
B41: 40.05 | C41: Ingeniero topógrafo | D41: Ingeniero-Topografía | F41: 1 | G41: 2 | I41: 3 | J41: 0.7 | K41: =SALARIOS!$F$12 -> 5791000 | L41: =F41*J41*K41*I41 -> 12161100
B42: 40.06 | C42: Operario dron | D42: Bachiller técnico | F42: 1 | G42: 2 | I42: 1 | J42: 0.5 | K42: =SALARIOS!F15 -> 2018000 | L42: =F42*J42*K42*I42 -> 1009000
B43: 40.07 | C43: Cadenero 1 | D43: Bachiller técnico | F43: 1 | G43: 2 | I43: 2 | J43: 0.5 | K43: =SALARIOS!$F$14 -> 2316000 | L43: =F43*J43*K43*I43 -> 2316000
B44: 40.08 | C44: Cadenero 2 | D44: Bachiller técnico | F44: 1 | G44: 2 | I44: 2 | J44: 0.5 | K44: =SALARIOS!$F$14 -> 2316000 | L44: =F44*J44*K44*I44 -> 2316000
...

Sheet AIU
C1: SECRETARÍA DISTRITAL DEL HABITAT
C2: SUBSECRETARÍA DE INTERVENCIONES INTEGRALES
C3: DIRECCIÓN DE HABITAT Y ENTORNOS
C4: OBJETO DE LA LICITACIÓN: | D4: REALIZAR EL DIAGNÓSTICO, ACTUALIZACIÓN DE ESTUDIOS, DISEÑOS Y CULMINACIÓN DE LAS OBRAS EN ESPACIO PÚBLICO PARA EL MEJORAMIENTO INTEGRAL DE LOS BARRIOS ALPES Y CARACOLI, QUE HACEN PARTE DEL TERRITORIO PRIORIZADO POR LA SECRETARÍA DISTRITAL DEL HÁBITAT EN LA CONURBACIÓN CIUDAD BOLÍVAR.
I5: =+'[1]Pres Obras CIVs Lote 4'!M4 -> Enero 31 de 2026
C6: COSTO DIRECTO ESTIMADO DE OBRA (CD) | E6: ='PRESU ESTIMADO OBRA CARACOLI'!H83 -> 3834640875 | F6: TIEMPO ESTIMADO EJECUCION DE OBRA (MESES) | I6: =+'[1]Proyección presup C. B. Caracol'!AD5 -> 8
C8: A. ADMINISTRACION
C9: Cargo | D9: # | E9: Dedicación Mes | F9: Valor salario mes | G9: Factor multiplicador | H9: Periodo en Obra | I9: Salario total + Prestaciones
D10: A | E10: B | F10: C | G10: D | H10: E | I10: E=((A*B*C*D)+C)*E
C11: 1,1 PERSONAL PROFESIONAL | D11: CANT
C12: DIRECTOR DE OBRA ESPECIALISTA | D12: 1 | E12: 0.5 | F12: =SALARIOS!F8 -> 11183000 | G12: =+'[1]FACTOR MULTIPLICADOR'!C45 -> 2.08246 | H12: 8 | I12: =(F12*G12)*D12*E12*H12 -> 93152601
C13: RESIDENTE DE OBRA | D13: 1 | E13: 1 | F13: =SALARIOS!F9 -> 9522000 | G13: =+$G$12 -> 2.08246 | H13: 8 | I13: =(F13*G13)*D13*E13*H13 -> 1.5863347e+08
C14: PROFESIONAL EN INGENIERÍA AMBIENTAL | D14: 1 | E14: 0.5 | F14: =SALARIOS!$F$10 -> 8589000 | G14: =+$G$12 -> 2.08246 | H14: 8 | I14: =(F14*G14)*D14*E14*H14 -> 71544996
C15: PROFESIONAL EN INGENIERÍA FORESTAL | D15: 1 | E15: 0.2 | F15: =SALARIOS!$F$10 -> 8589000 | G15: =+$G$12 -> 2.08246 | H15: 5 | I15: =(F15*G15)*D15*E15*H15 -> 17886249
C16: ESPECIALISTA INGENIERO ELÉCTRICO | D16: 1 | E16: 0.5 | F16: =SALARIOS!$F$10 -> 8589000 | G16: =+$G$12 -> 2.08246 | H16: 6 | I16: =(F16*G16)*D16*E16*H16 -> 53658747
C17: ESPECIALISTA INGENIERO HIDRÁULICO | D17: 1 | E17: 0.5 | F17: =SALARIOS!$F$10 -> 8589000 | G17: =+$G$12 -> 2.08246 | H17: 4 | I17: =(F17*G17)*D17*E17*H17 -> 35772498
C18: ESPECIALISTA INGENIERO ESTRUCTURAL | D18: 1 | E18: 0.3 | F18: =SALARIOS!$F$10 -> 8589000 | G18: =+$G$12 -> 2.08246 | H18: =+H17 -> 4 | I18: =(F18*G18)*D18*E18*H18 -> 21463499
C19: ESPECIALISTA INGENIERO VÍAS | D19: 1 | E19: 0.4 | F19: =SALARIOS!$F$10 -> 8589000 | G19: =+$G$12 -> 2.08246 | H19: 4 | I19: =(F19*G19)*D19*E19*H19 -> 28617998
C20: PROFESIONAL SOCIAL | D20: 1 | E20: 0.5 | F20: =SALARIOS!$F$11 -> 7659000 | G20: =+$G$12 -> 2.08246 | H20: 8 | I20: =(F20*G20)*D20*E20*H20 -> 63798245
C21: PROFESIONAL EN CALIDAD | D21: 1 | E21: 0.4 | F21: =SALARIOS!$F$11 -> 7659000 | G21: =+$G$12 -> 2.08246 | H21: 8 | I21: =(F21*G21)*D21*E21*H21 -> 51038596
C22: ESPECIALISTA GEOTECNISTA | D22: 1 | E22: 0.3 | F22: =SALARIOS!$F$11 -> 7659000 | G22: =+$G$12 -> 2.08246 | H22: 6 | I22: =(F22*G22)*D22*E22*H22 -> 28709210
C23: PROFESIONAL EN PRESUPUESTO Y PROGRAMACIÓN | D23: 1 | E23: 0.3 | F23: =SALARIOS!$F$11 -> 7659000 | G23: =+$G$12 -> 2.08246 | H23: 8 | I23: =(F23*G23)*D23*E23*H23 -> 38278947
C24: PROFESIONAL SST | D24: 1 | E24: 1 | F24: =SALARIOS!$F$11 -> 7659000 | G24: =+$G$12 -> 2.08246 | H24: 8 | I24: =(F24*G24)*D24*E24*H24 -> 1.2759649e+08
C25: ARQUEOLOGO | D25: 1 | E25: 0.1 | F25: =SALARIOS!$F$11 -> 7659000 | G25: =+$G$12 -> 2.08246 | H25: 8 | I25: =(F25*G25)*D25*E25*H25 -> 12759649
C26: PROFESIONAL JURIDICO | D26: 1 | E26: 0.2 | F26: =SALARIOS!$F$11 -> 7659000 | G26: =+$G$12 -> 2.08246 | H26: 8 | I26: =(F26*G26)*D26*E26*H26 -> 25519298
C27: 1,2 PERSONAL TECNICO Y AUXILIAR TECNICO | D27: CANT
C28: INSPECTOR DE OBRA | D28: 1 | E28: 1 | F28: =SALARIOS!F17 -> 2718000 | G28: =+$G$12 -> 2.08246 | H28: 8 | I28: =(F28*G28)*D28*E28*H28 -> 45281010
C29: PROFESIONAL TOPOGRAFO | D29: 1 | E29: 0.5 | F29: =SALARIOS!F13 -> 3736000 | G29: =+$G$12 -> 2.08246 | H29: 8 | I29: =(F29*G29)*D29*E29*H29 -> 31120282
C30: TARIFA MES - PERSONAL AUXILIAR TÉCNICO - CADENERO | D30: 1 | E30: 0.5 | F30: =SALARIOS!$F$14 -> 2316000 | G30: =+$G$12 -> 2.08246 | H30: 8 | I30: =(F30*G30)*D30*E30*H30 -> 19291909
C31: TARIFA MES - PERSONAL ADMINISTRATIVO - AUXILIAR ADMINISTRATIVO-ALMACENISTA | D31: 1 | E31: 1 | F31: =SALARIOS!$F$14 -> 2316000 | G31: =+$G$12 -> 2.08246 | H31: 8 | I31: =(F31*G31)*D31*E31*H31 -> 38583819
C32: 1,3 PERSONAL ADMINISTRATIVO | D32: CANT
C33: TARIFA MES - VIGILANTE | D33: 1 | E33: 1 | F33: =+F28 -> 2718000 | G33: =FM!C46 -> 2.02896 | H33: 8 | I33: =(F33*G33)*D33*E33*H33 -> 44117706
G34: SUBTOTAL COSTOS DE PERSONAL | I34: =SUM(I12:J33) -> 1.0068252e+09
C35: B. A.I.U
C36: A. | D36: % TOTAL ADMINISTRACIÓN MÁXIMO | H36: =ROUND(+I34/E6,4) -> 0.2626 | I36: =+I34 -> 1.0068252e+09
C38: B. | D38: IMPREVISTOS | H38: 0.01 | I38: =+H38*E6 -> 38346409
C40: C. | D40: UTILIDAD | H40: 0.05 | I40: =+H40*E6 -> 1.9173204e+08
D42: MÁXIMO TOTAL A.I.U. (Administración, Imprevistos y Utilidad) | H42: =SUM(H36:H41) -> 0.3226 | I42: =SUM(I36:I41) -> 1.2369037e+09

Sheet FM
A1: FACTOR MULTIPLICADOR OBRA | F1: FACTOR MULTIPLICADOR CONSULTORIA
A2: SALARIOS | C2: 1 | F2: SALARIOS | H2: 1
A3: PRESTACIONES SOCIALES 1 | C3: =SUM(B4:B15) -> 0.5963 | F3: PRESTACIONES SOCIALES 1 | H3: =SUM(G4:G15) -> 0.5963
A4: Cesantía | B4: 0.0833 | F4: Cesantía | G4: 0.0833
A5: Intereses de Cesantías | B5: 0.01 | F5: Intereses de Cesantías | G5: 0.01
A6: Prima | B6: 0.0833 | F6: Prima | G6: 0.0833
A7: Vacaciones | B7: 0.0417 | F7: Vacaciones | G7: 0.0417
A8: Seguridad Social (salud) | B8: 0.085 | F8: Seguridad Social (salud) | G8: 0.085
A9: Seguridad Social (pensión) | B9: 0.12 | F9: Seguridad Social (pensión) | G9: 0.12
A10: Aseguradora de Riesgos Profesionales | B10: 0.0696 | F10: Aseguradora de Riesgos Profesionales | G10: 0.0696
A11: Subsidio Familiar | B11: 0.04 | F11: Subsidio Familiar | G11: 0.04
A12: ICBF | B12: 0.03 | F12: ICBF | G12: 0.03
A13: SENA | B13: 0.02 | F13: SENA | G13: 0.02
A14: Subsidio de Transporte | B14: 0.0046 | F14: Subsidio de Transporte | G14: 0.0046
A15: Dotación | B15: 0.0088 | F15: Dotación | G15: 0.0088
A16: COSTOS DIRECTOS 2 | C16: =SUM(B17:B32) -> 0.305 | F16: COSTOS DIRECTOS 2 | H16: =SUM(G17:G30) -> 0.16
A17: Servicios públicos de campamento y obra | B17: 0.03 | F17: Servicios públicos y oficina consultor | G17: 0.02
A18: Papelería oficina constructor | B18: 0.02 | F18: Papelería oficina consultor | G18: 0.01
A19: Personal administrativo no facturado | B19: 0.02 | F19: Personal administrativo no facturado | G19: 0.01
A20: Personal profesional no facturado | B20: 0.02 | F20: Personal profesional no facturado | G20: 0.02
A21: Implementación y programa preventivo de protección recursos hídricos, fauna, especies verdes, manejo de vertimientos, etc. | B21: 0.01 | F21: Implementación y programa preventivo de protección recursos hídricos, fauna, especies verdes, manejo de vertimientos, etc. | G21: 0
A22: Equipos de oficina y campamento | B22: 0.01 | F22: Equipos de oficina y campamento | G22: 0.01
A23: Equipos de plotter, escaneo y fotografía. Incluye impresiones | B23: 0.01 | F23: Equipos de plotter, escaneo y fotografía. Incluye impresiones | G23: 0.005
A24: Alquiler de vehículo y combustibles | B24: 0.03 | F24: Combustibles | G24: 0.02
A25: Papelería para entrega de Informes semanales, mensuales y finales en original (planos récord, manual de mantenimiento, Etc) y 2 copias en físico | B25: 0.01 | F25: Papelería para entrega de Informes semanales, mensuales y finales en original | G25: 0.005
A26: Alquiler de equipos de topografía y otros necesarios para control de niveles, etc. | B26: 0.02 | F26: Alquiler de equipos de topografía y otros necesarios para control de niveles, etc. | G26: 0.01
A27: Implementación y programa preventivo de salud en el trabajo y seguridad industrial, incluye Elementos de Protección Personal (EPP), capacitaciones, afiches, guías, manuales, señalización de obra y demás elementos que se requieran. | B27: 0.02 | F27: Implementación y programa preventivo de salud en el trabajo y seguridad industrial, incluye Elementos de Protección Personal (EPP), capacitaciones, afiches, guías, manuales, señalización de obra y demás elementos que se requieran. | G27: 0.01
A28: Aerofotografías, software de seguimiento CAD- BIM | B28: 0.01 | F28: Aerofotografías, software de seguimiento CAD- BIM | G28: 0.01
... A30: Trámite PMT e implementación con todos los requerimientos de seguridad, durante toda la ejecución de obra. Incluye personal requerido como paleteros y otros | B30: 0.035 | F30: Trámites y aprobaciones ante entidades por cada especialidad de diseños y obras terminadas Incluye acompañamientos, papelería, etc. | G30: 0.01
A31: Trámites y aprobaciones ante entidades por cada especialidad de diseños y obras terminadas Incluye acompañamientos, papelería, etc. | B31: 0.01 | F31: IMPUESTOS 3 | H31: =SUM(G32:G38) -> 0.13816
A32: Plan de gestión social. Incluye Alquiler de salones, Afiches, volantes, pendones, carteleras, papelería, refrigerios y todo lo necesario para la socialización del proyecto | B32: 0.03 | F32: Rete fuente | G32: 0.06
A33: IMPUESTOS 3 | C33: =SUM(B34:B40) -> 0.06966 | F33: Rete IVA | G33: 0.0285
A34: Rete fuente | B34: 0.02 | F34: Rete ICA | G34: 0.00866
A35: Rete IVA | B35: 0 | F35: Estampilla Universidad Distrital | G35: 0.011
A36: Rete ICA | B36: 0.00866 | F36: Estampilla Procultura | G36: 0.005
A37: Estampilla Universidad Distrital | B37: 0.011 | F37: Estampilla Proadulto mayor | G37: 0.02
A38: Estampilla Procultura | B38: 0.005 | F38: Estampilla 50 años Universidad Pedagógica | G38: 0.005
A39: Estampilla Proadulto mayor | B39: 0.02 | F39: PÓLIZAS Y GARANTÍAS 4 | H39: =+SUM(G40:G42) -> 0.048
A40: Estampilla 50 años Universidad Pedagógica | B40: 0.005 | F40: Cumplimiento | G40: 0.0094
A41: PÓLIZAS Y GARANTÍAS 4 | C41: =+SUM(B42:B45) -> 0.058 | F41: Salarios y prestaciones sociales | G41: 0.0086
...

Sheet INDEX ICOCIV
B4: Índice de Costos de la Construcción de Obras Civiles - ICOCIV
B5: A1. ICOCIV - Variación mensual, año corrido y anual del total Febrero 2025 | K5: Publicado DANE | L5: Polinómica grado 2
B6: Año | C6: Mes | D6: Índice | E6: Variación porcentual (%) | L6: ax^2+bx+c
E7: Mensual | F7: Año corrido | G7: Anual** | J7: x | K7: ICOCIV | L7: a | M7: -0.0049 | N7: b | O7: 1.005 | P7: c | Q7: 97.404
B8: 2021 | C8: Enero | D8: 100.89 | E8: 0.89 | F8: 0.89 | G8: - | J8: 1 | K8: =D8 -> 100.89
C9: Febrero | D9: 101.35 | E9: 0.46 | F9: 1.35 | G9: - | J9: 2 | K9: =D9 -> 101.35
C10: Marzo | D10: 101.796 | E10: 0.439 | F10: 1.796 | G10: - | J10: 3 | K10: =D10 -> 101.796
C11: Abril | D11: 102.339 | E11: 0.533 | F11: 2.339 | G11: - | J11: 4 | K11: =D11 -> 102.339
C12: Mayo | D12: 102.939 | E12: 0.587 | F12: 2.939 | G12: - | J12: 5 | K12: =D12 -> 102.939
C13: Junio | D13: 103.458 | E13: 0.504 | F13: 3.458 | G13: - | J13: 6 | K13: =D13 -> 103.458
C14: Julio | D14: 104.566 | E14: 1.071 | F14: 4.566 | G14: - | J14: 7 | K14: =D14 -> 104.566
C15: Agosto | D15: 104.819 | E15: 0.242 | F15: 4.819 | G15: - | J15: 8 | K15: =D15 -> 104.819
C16: Septiembre | D16: 104.806 | E16: -0.012 | F16: 4.806 | G16: - | J16: 9 | K16: =D16 -> 104.806
C17: Octubre | D17: 104.937 | E17: 0.125 | F17: 4.937 | G17: - | J17: 10 | K17: =D17 -> 104.937
C18: Noviembre | D18: 105.147 | E18: 0.199 | F18: 5.147 | G18: - | J18: 11 | K18: =D18 -> 105.147
C19: Diciembre | D19: 105.558 | E19: 0.392 | F19: 5.558 | G19: - | J19: 12 | K19: =D19 -> 105.558
B20: 2022 | C20: Enero | D20: 107.483 | E20: 1.823 | F20: 1.823 | G20: 6.537 | J20: 13 | K20: =D20 -> 107.483
C21: Febrero | D21: 108.948 | E21: 1.363 | F21: 3.211 | G21: 7.496 | J21: 14 | K21: =D21 -> 108.948
C22: Marzo | D22: 110.113 | E22: 1.075 | F22: 4.315 | G22: 8.171 | J22: 15 | K22: =D22 -> 110.113
C23: Abril | D23: 111.366 | E23: 1.138 | F23: 5.501 | G23: 8.821 | J23: 16 | K23: =D23 -> 111.366
C24: Mayo | D24: 112.369 | E24: 0.901 | F24: 6.452 | G24: 9.16 | J24: 17 | K24: =D24 -> 112.369
C25: Junio | D25: 112.625 | E25: 0.228 | F25: 6.694 | G25: 8.861 | J25: 18 | K25: =D25 -> 112.625
C26: Julio | D26: 113.883 | E26: 1.117 | F26: 7.886 | G26: 8.91 | J26: 19 | K26: =D26 -> 113.883
C27: Agosto | D27: 114.109 | E27: 0.198 | F27: 8.1 | G27: 8.863 | J27: 20 | K27: =D27 -> 114.109
C28: Septiembre | D28: 114.258 | E28: 0.131 | F28: 8.241 | G28: 9.018 | J28: 21 | K28: =D28 -> 114.258
C29: Octubre | D29: 115.491 | E29: 1.08 | F29: 9.41 | G29: 10.057 | J29: 22 | K29: =D29 -> 115.491
C30: Noviembre | D30: 115.914 | E30: 0.366 | F30: 9.81 | G30: 10.24 | J30: 23 | K30: =D30 -> 115.914
C31: Diciembre | D31: 115.826 | E31: -0.075 | F31: 9.727 | G31: 9.727 | J31: 24 | K31: =D31 -> 115.826
B32: 2023 | C32: Enero | D32: 121.591 | E32: 4.977 | F32: 4.977 | G32: 13.126 | J32: 25 | K32: =D32 -> 121.591
C33: Febrero | D33: 124.48 | E33: 2.38 | F33: 7.47 | G33: 14.26 | J33: 26 | K33: =D33 -> 124.48
C34: Marzo | D34: 125.08 | E34: 0.48 | F34: 7.99 | G34: 13.59 | J34: 27 | K34: =D34 -> 125.08
C35: Abril | D35: 125.67 | E35: 0.48 | F35: 8.5 | G35: 12.85 | J35: 28 | K35: =D35 -> 125.67
C36: Mayo | D36: 125.95 | E36: 0.22 | F36: 8.74 | G36: 12.09 | J36: 29 | K36: =D36 -> 125.95
C37: Junio | D37: 126.12 | E37: 0.14 | F37: 8.89 | G37: 11.99 | J37: 30 | K37: =D37 -> 126.12
C38: Julio | D38: 126.33 | E38: 0.17 | F38: 9.07 | G38: 10.93 | J38: 31 | K38: =D38 -> 126.33
C39: Agosto | D39: 126.22 | E39: -0.09 | F39: 8.97 | G39: 10.61 | J39: 32 | K39: =D39 -> 126.22
C40: Septiembre | D40: 126.3 | E40: 0.07 | F40: 9.05 | G40: 10.54 | J40: 33 | K40: =D40 -> 126.3
C41: Octubre | D41: 126.2 | E41: -0.08 | F41: 8.95 | G41: 9.27 | J41: 34 | K41: =D41 -> 126.2
C42: Noviembre | D42: 126.36 | E42: 0.13 | F42: 9.1 | G42: 9.01 | J42: 35 | K42: =D42 -> 126.36
C43: Diciembre | D43: 126.48 | E43: 0.09 | F43: 9.2 | G43: 9.2 | J43: 36 | K43: =D43 -> 126.48
...

Sheet SALARIOS
A3: INDEXACIÓN SALARIOS
A4: # CATEGORIA | B4: Cargos Categorías Profesionales | C4: EXPERIENCIA | E4: PRECIOS DE REFERENCIA (IDU) 2026 TARIFA MES POR CATEGORÍA (NO INCLUYE FACTOR DE PRESTACIONES)
C5: General | D5: Especifica | E5: CODIGO | F5: TARIFA SIN PRESTACIONES 2025
A6: CATEGORIA 1 | B6: Funciones del Director o Especialista de Proyectos | C6: >= 12 años | D6: >=10 años | E6: 9107 | F6: 17387000
A7: CATEGORIA 2 | B7: Funciones del Director o Especialista de Proyectos | C7: >= 10 años | D7: >= 8 años | E7: 9108 | F7: 13251000
A8: CATEGORIA 3 | B8: Experiencia técnica y administrativa para Especialista de Proyectos | C8: >= 8 años | D8: >= 5 años | E8: 9109 | F8: 11183000
A9: CATEGORIA 4 | B9: Experiencia técnica y administrativa para esp} | C9: >= 6 años | D9: >= 4 años | E9: 9110 | F9: 9522000
A10: CATEGORIA 5 | B10: Experiencia técnica y administrativa para Residente de Proyectos | C10: >= 4 años | D10: >= 3 años | E10: 9111 | F10: 8589000
A11: CATEGORIA 6 | B11: Profesional | C11: >= 3 años | D11: >= 1 años | E11: 9112 | F11: 7659000
A12: CATEGORIA 7 | B12: Profesional | C12: >= 2 años | E12: 9113 | F12: 5791000
A13: CATEGORIA 8 | B13: Profesional técnio topógrado | C13: >= 2 años | E13: 9088 | F13: 3736000
A14: CATEGORIA 9 | B14: Personal auxiliar técnico | C14: >= 2 años | E14: 9098 | F14: 2316000
A15: CATEGORIA 10 | B15: Personal auxiliar técnico | C15: < 2 años | E15: 9099 | F15: 2018000
A16: CATEGORIA 11 | B16: PERSONAL AUXILIAR TÉCNICO | C16: >= 1 años | E16: 9100 | F16: 1750905
A17: CATEGORIA 12 | B17: PERSONAL TÉCNICO - INSPECTOR 1 | C17: >= 2 años | E17: 9093 | F17: 2718000
A20: 13418 | B20: EQUIPO DE TOPOGRAFÍA. ESTACION TOTAL, Precisión lineal ≤ (2 mm + 2 ppm x D), precisión angular ≤ 3". Alcance: con un prisma hasta 2000 metros en buenas condiciones. (Accesorios: Trípodes, bastones, prismas, cintas metálicas, baterías, entre otros). TARIFA MES | C20: MES | D20: 2215256 | K20: MES | L20: 3584000
A21: 9165 | B21: TARIFA MES - ALQUILER DE VEHICULO: CAMPERO, PICK-UP, CAMIONETA, CAMION O SIMILAR DE 1300cc A 2000cc DE CILINDRADA, MODELO 2026 A 2023. 100% DE LA TARIFA ESTABLECIDA. INCLUYE TODOS LOS COSTOS DE OPERACIÓN Y MANTENIMIENTO EXCEPTO EL SALARIO DEL CONDUCTOR | C21: MES | D21: 8778000 | K21: MES | L21: 3150000
K22: MES | L22: 3303000
K23: MES | L23: 2670000
K24: MES | L24: 3736000
K25: MES | L25: 3310000
K26: MES | L26: 2316000
K27: MES | L27: 4690453
K28: MES | L28: 3264239
K29: MES | L29: 2718000
K30: MES | L30: 2447000
K31: MES | L31: 3064000
K32: MES | L32: 3736000
K33: MES | L33: 3064000
... K49: JR | L49: 255300

Sheet CANTIDADES VALOR INICIAL
C3: SECRETARÍA DISTRITAL DEL HABITAT
C4: CUADRO CANTIDADES
C6: ÍTEM | D6: ACTIVIDAD | E6: UNIDAD | F6: CANTIDAD PENDIENTE EJECUCIÓN | G6: TOTAL CANTIDAD PENDIENTE POSITIVA | H6: VR. UNITARIO | I6: FACTOR DE INDEXACIÓN | J6: CIV 19004335 | M6: CIV 19004469 | P6: CIV 19004172 | S6: CIV 19004213 | V6: CIV 19004387 | Y6: CIV 19004130 | AB6: CIV 19004334 | AE6: CIV 19004131 | AH6: CIV 19004107
J7: CANTIDAD ACTA MODIFICACIÓN 3 | K7: CANTIDAD EJECUTADA (ACTA FINAL) CTO 987/21 | L7: CANTIDAD PENDIENTE EJECUCIÓN | M7: CANTIDAD ACTA MODIFICACIÓN 3 | N7: CANTIDAD EJECUTADA (ACTA FINAL) CTO 987/21 | O7: CANTIDAD PENDIENTE EJECUCIÓN | P7: CANTIDAD ACTA MODIFICACIÓN 3 | Q7: CANTIDAD EJECUTADA (ACTA FINAL) CTO 987/21 | R7: CANTIDAD PENDIENTE EJECUCIÓN | S7: CANTIDAD ACTA MODIFICACIÓN 3 | T7: CANTIDAD EJECUTADA (ACTA FINAL) CTO 987/21 | U7: CANTIDAD PENDIENTE EJECUCIÓN | V7: CANTIDAD ACTA MODIFICACIÓN 3 | W7: CANTIDAD EJECUTADA (ACTA FINAL) CTO 987/21 | X7: CANTIDAD PENDIENTE EJECUCIÓN | Y7: CANTIDAD ACTA MODIFICACIÓN 3 | Z7: CANTIDAD EJECUTADA (ACTA FINAL) CTO 987/21 | AA7: CANTIDAD PENDIENTE EJECUCIÓN | AB7: CANTIDAD ACTA MODIFICACIÓN 3 | AC7: CANTIDAD EJECUTADA (ACTA FINAL) CTO 987/21 | AD7: CANTIDAD PENDIENTE EJECUCIÓN | AE7: CANTIDAD ACTA MODIFICACIÓN 3 | AF7: CANTIDAD EJECUTADA (ACTA FINAL) CTO 987/21 | AG7: CANTIDAD PENDIENTE EJECUCIÓN | AH7: CANTIDAD OFERTA ECONÓMICA | AI7: CANTIDAD EJECUTADA (ACTA FINAL) CTO 987/21 | AJ7: CANTIDAD PENDIENTE EJECUCIÓN
C8: 1 | D8: PRELIMINARES
C9: 1.1 | D9: REPLANTEO GENERAL | E9: M2 | F9: =+IF(SUMIF($J$7:$AJ$7,$F$6,$J9:$AJ9)<0,0,SUMIF($J$7:$AJ$7,$F$6,$J9:$AJ9)) -> 0 | G9: =SUM(MAX(0,L9),MAX(0,O9),MAX(0,R9),MAX(0,U9),MAX(0,X9),MAX(0,AA9),MAX(0,AD9),MAX(0,AG9),MAX(0,AJ9)) -> 0.13 | H9: 606 | I9: =ROUND(H9*'INDEX ICOCIV'!$R$85,0) -> 824 | J9: 789.1 | K9: 789.6 | L9: =+ROUND(J9-K9,2) -> -0.5 | M9: 791.02 | N9: 791.02 | O9: =+ROUND(M9-N9,2) -> 0 | P9: 549.12 | Q9: 549 | R9: =+ROUND(P9-Q9,2) -> 0.12 | S9: 599.42 | T9: 599.42 | U9: =+ROUND(S9-T9,2) -> 0 | V9: 568.18 | W9: 568.17 | X9: =+ROUND(V9-W9,2) -> 0.01 | Y9: 519.84 | Z9: 519.84 | AA9: =+ROUND(Y9-Z9,2) -> 0 | AB9: 454.85 | AC9: 454.85 | AD9: =+ROUND(AB9-AC9,2) -> 0 | AE9: 491.5 | AF9: 491.5 | AG9: =+ROUND(AE9-AF9,2) -> 0 | AH9: 452.93 | AI9: 452.93 | AJ9: =+ROUND(AH9-AI9,2) -> 0
C10: 1.2 | D10: ALQUILER DE CERRAMIENTO TIPO 1: CONSTA DE SEÑALIZADORES TUBULARES PLÁSTICOS, TRIPLE CINTA PELIGRO CAL. 4, POLISOMBRA 65% PARA CERRAMIENTO. (INCLUYE INSTALACIÓN, MANTENIMIENTO Y DESINSTALACIÓN). | E10: ML/ME | F10: =+IF(SUMIF($J$7:$AJ$7,$F$6,$J10:$AJ10)<0,0,SUMIF($J$7:$AJ$7,$F$6,$J10:$AJ10)) -> 9539.34 | G10: =SUM(MAX(0,L10),MAX(0,O10),MAX(0,R10),MAX(0,U10),MAX(0,X10),MAX(0,AA10),MAX(0,AD10),MAX(0,AG10),MAX(0,AJ10)) -> 9539.34 | H10: 5490 | I10: =ROUND(H10*'INDEX ICOCIV'!$R$85,0) -> 7466 | J10: 1803.75 | K10: 1110 | L10: =+ROUND(J10-K10,2) -> 693.75 | M10: 2266 | N10: 1901.61 | O10: =+ROUND(M10-N10,2) -> 364.39 | P10: 2832.9 | Q10: 1618.8 | R10: =+ROUND(P10-Q10,2) -> 1214.1 | S10: 2958.2 | T10: 2113 | U10: =+ROUND(S10-T10,2) -> 845.2 | V10: 3117.9 | W10: 1654.88 | X10: =+ROUND(V10-W10,2) -> 1463.02 | Y10: 2912.4 | Z10: 1553.28 | AA10: =+ROUND(Y10-Z10,2) -> 1359.12 | AB10: 2707.8 | AC10: 1444.16 | AD10: =+ROUND(AB10-AC10,2) -> 1263.64 | AE10: 2349 | AF10: 1252.8 | AG10: =+ROUND(AE10-AF10,2) -> 1096.2 | AH10: 2324.85 | AI10: 1084.93 | AJ10: =+ROUND(AH10-AI10,2) -> 1239.92
C11: 1.3 | D11: VALLA ESPECIAL 6X3 (INSTALAC.) SOLO LÁMINA Y BANNER | E11: UN | F11: =+IF(SUMIF($J$7:$AJ$7,$F$6,$J11:$AJ11)<0,0,SUMIF($J$7:$AJ$7,$F$6,$J11:$AJ11)) -> 0 | G11: =SUM(MAX(0,L11),MAX(0,O11),MAX(0,R11),MAX(0,U11),MAX(0,X11),MAX(0,AA11),MAX(0,AD11),MAX(0,AG11),MAX(0,AJ11)) -> 0 | H11: 225895 | I11: =ROUND(H11*'INDEX ICOCIV'!$R$85,0) -> 307217 | J11: 1 | K11: 1 | L11: =+ROUND(J11-K11,2) -> 0 | M11: 0 | N11: 0 | O11: =+ROUND(M11-N11,2) -> 0 | P11: 1 | Q11: 1 | R11: =+ROUND(P11-Q11,2) -> 0 | S11: 1 | T11: 1 | U11: =+ROUND(S11-T11,2) -> 0 | V11: 0 | W11: 0 | X11: =+ROUND(V11-W11,2) -> 0 | Y11: 1 | Z11: 1 | AA11: =+ROUND(Y11-Z11,2) -> 0 | AB11: 0 | AC11: 0 | AD11: =+ROUND(AB11-AC11,2) -> 0 | AE11: 1 | AF11: 1 | AG11: =+ROUND(AE11-AF11,2) -> 0 | AH11: 1 | AI11: 1 | AJ11: =+ROUND(AH11-AI11,2) -> 0
C12: 2 | D12: REDES HIDROSANITARIAS
C13: 2.1 | D13: LOCALIZACION Y REPLANTEO PARA REDES | E13: ML | F13: =+IF(SUMIF($J$7:$AJ$7,$F$6,$J13:$AJ13)<0,0,SUMIF($J$7:$AJ$7,$F$6,$J13:$AJ13)) -> 974.6 | G13: =SUM(MAX(0,L13),MAX(0,O13),MAX(0,R13),MAX(0,U13),MAX(0,X13),MAX(0,AA13),MAX(0,AD13),MAX(0,AG13),MAX(0,AJ13)) -> 974.6 | H13: 1587 | I13: =ROUND(H13*'INDEX ICOCIV'!$R$85,0) -> 2158 | J13: 145.08 | K13: 0 | L13: =+ROUND(J13-K13,2) -> 145.08 | M13: 199.69 | N13: 153.35 | O13: =+ROUND(M13-N13,2) -> 46.34 | P13: 94 | Q13: 17.8 | R13: =+ROUND(P13-Q13,2) -> 76.2 | S13: 190.92 | T13: 121.02 | U13: =+ROUND(S13-T13,2) -> 69.9 | V13: 96.07 | W13: 36.07 | X13: =+ROUND(V13-W13,2) -> 60 | Y13: 221.75 | Z13: 47.63 | AA13: =+ROUND(Y13-Z13,2) -> 174.12 | AB13: 113.82 | AC13: 0 | AD13: =+ROUND(AB13-AC13,2) -> 113.82 | AE13: 147.45 | AF13: 0 | AG13: =+ROUND(AE13-AF13,2) -> 147.45 | AH13: 141.69 | AI13: 0 | AJ13: =+ROUND(AH13-AI13,2) -> 141.69
C14: 2.2 | D14: RELOCALIZACIÓN DE MEDIDOR DE ACUEDUCTO D= 1/2" (INCLUYE 1.0M TUBERÍA GALVANIZADA D= 1/2", SOLDADURA, CINTA DE TEFLON, Y REPOSICIÓN DE CAJILLA EN POLIPROPILENO DE ALTA RESISTENCIA CON TAPA, NO INCLUYE MEDIDOR.). | E14: UN | F14: =+IF(SUMIF($J$7:$AJ$7,$F$6,$J14:$AJ14)<0,0,SUMIF($J$7:$AJ$7,$F$6,$J14:$AJ14)) -> 147 | G14: =SUM(MAX(0,L14),MAX(0,O14),MAX(0,R14),MAX(0,U14),MAX(0,X14),MAX(0,AA14),MAX(0,AD14),MAX(0,AG14),MAX(0,AJ14)) -> 149 | H14: 211667 | I14: =ROUND(H14*'INDEX ICOCIV'!$R$85,0) -> 287867 | J14: 19 | K14: 19 | L14: =+ROUND(J14-K14,2) -> 0 | M14: 34 | N14: 34 | O14: =+ROUND(M14-N14,2) -> 0 | P14: 26 | Q14: 28 | R14: =+ROUND(P14-Q14,2) -> -2 | S14: 32 | T14: 0 | U14: =+ROUND(S14-T14,2) -> 32 | V14: 28 | W14: 0 | X14: =+ROUND(V14-W14,2) -> 28 | Y14: 23 | Z14: 0 | AA14: =+ROUND(Y14-Z14,2) -> 23 | AB14: 23 | AC14: 0 | AD14: =+ROUND(AB14-AC14,2) -> 23 | AE14: 22 | AF14: 0 | AG14: =+ROUND(AE14-AF14,2) -> 22 | AH14: 21 | AI14: 0 | AJ14: =+ROUND(AH14-AI14,2) -> 21
C15: 2.3 | D15: EXCAVACION MANUAL EN MATERIAL COMUN. INCLUYE CARGUE. | E15: M3 | F15: =+IF(SUMIF($J$7:$AJ$7,$F$6,$J15:$AJ15)<0,0,SUMIF($J$7:$AJ$7,$F$6,$J15:$AJ15)) -> 1251.36 | G15: =SUM(MAX(0,L15),MAX(0,O15),MAX(0,R15),MAX(0,U15),MAX(0,X15),MAX(0,AA15),MAX(0,AD15),MAX(0,AG15),MAX(0,AJ15)) -> 1282.86 | H15: 25927 | I15: =ROUND(H15*'INDEX ICOCIV'!$R$85,0) -> 35261 | J15: 311.05 | K15: 252.74 | L15: =+ROUND(J15-K15,2) -> 58.31 | M15: 217.69 | N15: 213.56 | O15: =+ROUND(M15-N15,2) -> 4.13 | P15: 373.14 | Q15: 303.52 | R15: =+ROUND(P15-Q15,2) -> 69.62 | S15: 305 | T15: 336.5 | U15: =+ROUND(S15-T15,2) -> -31.5 | V15: 276.15 | W15: 175.31 | X15: =+ROUND(V15-W15,2) -> 100.84 | Y15: 292.75 | Z15: 65.88 | AA15: =+ROUND(Y15-Z15,2) -> 226.87 | AB15: 321.35 | AC15: 78.21 | AD15: =+ROUND(AB15-AC15,2) -> 243.14 | AE15: 354.64 | AF15: 74.64 | AG15: =+ROUND(AE15-AF15,2) -> 280 | AH15: 356.61 | AI15: 56.66 | AJ15: =+ROUND(AH15-AI15,2) -> 299.95
C16: 2.4 | D16: TRANSPORTE Y DISPOSICION FINAL DE ESCOMBROS EN SITIO AUTORIZADO (DISTANCIA DE TRANSPORTE 21 KM). A DISTANCIA MAYOR DEL ACARREO LIBRE (90 M) EN SITIO AUTORIZADO POR LA ENTIDAD AMBIENTAL COMPETENTE. | E16: M3 | F16: =+IF(SUMIF($J$7:$AJ$7,$F$6,$J16:$AJ16)<0,0,SUMIF($J$7:$AJ$7,$F$6,$J16:$AJ16)) -> 2407.84 | G16: =SUM(MAX(0,L16),MAX(0,O16),MAX(0,R16),MAX(0,U16),MAX(0,X16),MAX(0,AA16),MAX(0,AD16),MAX(0,AG16),MAX(0,AJ16)) -> 2423.67 | H16: 26843 | I16: =ROUND(H16*'INDEX ICOCIV'!$R$85,0) -> 36506 | J16: 371.26 | K16: 314.4 | L16: =+ROUND(J16-K16,2) -> 56.86 | M16: 406.6 | N16: 351.949 | O16: =+ROUND(M16-N16,2) -> 54.65 | P16: 591.63 | Q16: 368.59 | R16: =+ROUND(P16-Q16,2) -> 223.04 | S16: 486.81 | T16: 502.64 | U16: =+ROUND(S16-T16,2) -> -15.83 | V16: 465.52 | W16: 227.914 | X16: =+ROUND(V16-W16,2) -> 237.61 | Y16: 635.82 | Z16: 79.06 | AA16: =+ROUND(Y16-Z16,2) -> 556.76 | AB16: 495.22 | AC16: 93.82 | AD16: =+ROUND(AB16-AC16,2) -> 401.4 | AE16: 553.05 | AF16: 79.02 | AG16: =+ROUND(AE16-AF16,2) -> 474.03 | AH16: 476.59 | AI16: 57.27 | AJ16: =+ROUND(AH16-AI16,2) -> 419.32
C17: 2.5 | D17: NIVELACIÓN DE POZO (HASTA RASANTE EN CONCRETO 3000 PSI HECHO EN OBRA, H=0.15M. INCLUYE SUMINISTRO Y CONSTRUCCIÓN) | E17: UN | F17: =+IF(SUMIF($J$7:$AJ$7,$F$6,$J17:$AJ17)<0,0,SUMIF($J$7:$AJ$7,$F$6,$J17:$AJ17)) -> 23 | G17: =SUM(MAX(0,L17),MAX(0,O17),MAX(0,R17),MAX(0,U17),MAX(0,X17),MAX(0,AA17),MAX(0,AD17),MAX(0,AG17),MAX(0,AJ17)) -> 23 | H17: 84326 | I17: =ROUND(H17*'INDEX ICOCIV'!$R$85,0) -> 114683 | J17: 1 | K17: 0 | L17: =+ROUND(J17-K17,2) -> 1 | M17: 2 | N17: 0 | O17: =+ROUND(M17-N17,2) -> 2 | P17: 3 | Q17: 0 | R17: =+ROUND(P17-Q17,2) -> 3 | S17: 3 | T17: 0 | U17: =+ROUND(S17-T17,2) -> 3 | V17: 2 | W17: 0 | X17: =+ROUND(V17-W17,2) -> 2 | Y17: 3 | Z17: 0 | AA17: =+ROUND(Y17-Z17,2) -> 3 | AB17: 2 | AC17: 0 | AD17: =+ROUND(AB17-AC17,2) -> 2 | AE17: 3 | AF17: 0 | AG17: =+ROUND(AE17-AF17,2) -> 3 | AH17: 4 | AI17: 0 | AJ17: =+ROUND(AH17-AI17,2) -> 4
C18: 2.6 | D18: RELLENO PARA REDES EN ARENA DE PEÑA (SUMINISTRO, EXTENDIDO, HUMEDECIMIENTO Y COMPACTACIÓN) | E18: M3 | F18: =+IF(SUMIF($J$7:$AJ$7,$F$6,$J18:$AJ18)<0,0,SUMIF($J$7:$AJ$7,$F$6,$J18:$AJ18)) -> 46.68 | G18: =SUM(MAX(0,L18),MAX(0,O18),MAX(0,R18),MAX(0,U18),MAX(0,X18),MAX(0,AA18),MAX(0,AD18),MAX(0,AG18),MAX(0,AJ18)) -> 48.07 | H18: 155234 | I18: =ROUND(H18*'INDEX ICOCIV'!$R$85,0) -> 211118 | J18: 4.73 | K18: 2.46 | L18: =+ROUND(J18-K18,2) -> 2.27 | M18: 4.14 | N18: 2.28 | O18: =+ROUND(M18-N18,2) -> 1.86 | P18: 12.48 | Q18: 13.87 | R18: =+ROUND(P18-Q18,2) -> -1.39 | S18: 4.57 | T18: 2.17 | U18: =+ROUND(S18-T18,2) -> 2.4 | V18: 10 | W18: 0 | X18: =+ROUND(V18-W18,2) -> 10 | Y18: 12.48 | Z18: 3.24 | AA18: =+ROUND(Y18-Z18,2) -> 9.24 | AB18: 12.15 | AC18: 3.24 | AD18: =+ROUND(AB18-AC18,2) -> 8.91 | AE18: 12.16 | AF18: 2.16 | AG18: =+ROUND(AE18-AF18,2) -> 10 | AH18: 3.39 | AI18: 0 | AJ18: =+ROUND(AH18-AI18,2) -> 3.39
