Workbook
Name sss: IF(ISEVEN(COLUMN()),cant_z_ppto,sub_tot)
Name sss: IF(ISEVEN(COLUMN()),cant_z_ppto,sub_tot)
Name ZONA_PPTO: IF(ISEVEN(COLUMN()),cant_z_ppto,sub_tot)
Name ZONA_PPTO: IF(ISEVEN(COLUMN()),cant_z_ppto,sub_tot)

Sheet PRESUPUESTO OFICIAL
A3: Formulario 1 - Formulario propuesta económica - Interventoría de infraestructura social
B4: Versión: 2 del 15 de diciembre de 2025
B7: FORMULARIO No 1 - FORMULARIO DE PRESUPUESTO OFICIAL
B10: CANT. (1) | C10: CARGO / OFICIO | D10: SUELDO Y/O JORNAL MENSUAL (2) | E10: PRIMA REGIONAL (3) | F10: DEDICACIÓN (h-mes) (4) | G10: PARTICIPACIÓN TOTAL (mes) (5) | H10: VALOR PARCIAL ($) (1)*((2)+(3))*(4)*(5) = (6)
B11: COSTOS DIRECTOS DE PERSONAL OPERATIVO OBRA
C12: PERSONAL PROFESIONAL PERMANENTE
C14: Dirección Proyecto | H14: =SUM(H15:H16) -> 9516912
B15: 1 | C15: Director General | D15: 6344608 | F15: 1 | G15: 1.5 | H15: =ROUND(B15*(D15+E15)*F15*G15,0) -> 9516912
C17: Residentes | H17: =SUM(H18:H19) -> 25975650
B18: 5 | C18: Residente de interventoría | D18: 3463420 | F18: 1 | G18: 1.5 | H18: =ROUND(B18*(D18+E18)*G18*F18,0) -> 25975650
C20: Gestión Obra | H20: =SUM(H21:H27) -> 89638235
B22: 10 | C22: INSPECTOR TECNICO Inspector 1 | D22: 2171747 | F22: 1 | G22: 1.5 | H22: =ROUND(+B22*(D22+E22)*F22*G22,0) -> 32576205
B23: 5 | C23: PROFESIONAL SST | D23: 3463420 | F23: 1 | G23: 1.5 | H23: =ROUND(+B23*(D23+E23)*F23*G23,0) -> 25975650
B24: 5 | C24: INSPECTOR SISOMA Inspector 2 | D24: 2171747 | F24: 1 | G24: 1.5 | H24: =ROUND(+B24*(D24+E24)*F24*G24,0) -> 16288103
B25: 1 | C25: GESTOR SOCIAL | D25: 3463420 | F25: 1 | G25: 1.5 | H25: =ROUND(+B25*(D25+E25)*F25*G25,0) -> 5195130
B26: 1 | C26: INGENIERO AMBIENTAL | D26: 3463420 | F26: 1 | G26: 1.5 | H26: =ROUND(+B26*(D26+E26)*F26*G26,0) -> 5195130
B27: 1 | C27: SECRETARIA | D27: 2938678 | F27: 1 | G27: 1.5 | H27: =ROUND(+B27*(D27+E27)*F27*G27,0) -> 4408017
C28: Levantamiento Topográfico | H28: =SUM(H29:H32) -> 5859774
B29: 1 | C29: Topografo - Inspector | D29: 2171747 | F29: 0.5 | G29: 1.5 | H29: =ROUND(+B29*(D29+E29)*G29*F29,0) -> 1628810
B30: 1 | C30: Cadenero | D30: 1776662 | F30: 0.5 | G30: 1.5 | H30: =ROUND(+B30*(D30+E30)*G30*F30,0) -> 1332497
B31: 1 | C31: Laboratorista Inspector | D31: 2087959.6 | F31: 0.5 | G31: 1.5 | H31: =ROUND(+B31*(D31+E31)*G31*F31,0) -> 1565970
B32: 1 | C32: Laboratorista Auxiliar | D32: 1776662 | F32: 0.5 | G32: 1.5 | H32: =ROUND(+B32*(D32+E32)*G32*F32,0) -> 1332497
C34: SUBTOTAL COSTOS DE PERSONAL = SUMATORIA DE (5) = (6) | H34: =H14+H17+H20+H28 -> 130990571
C35: FACTOR MULTIPLICADOR (7) | H35: ='FactorMultiplicador '!I40 -> 1.96
C36: TOTAL COSTOS DE PERSONAL = (6) * (7) = (A) | H36: =ROUND(+H34*H35,0) -> 256741519
E38: COSTO | G38: TIEMPO DE | H38: VALOR
B39: CANT. | C39: CONCEPTO | D39: UNIDAD | E39: ($) | G39: UTILIZACIÓN | H39: PARCIAL ($)
B40: (8) | E40: (9) | G40: TOTAL (10) | H40: (8) * (9) * (10) = (11)
B41: OTROS COSTOS DIRECTOS
C42: ALQUILER DE EQUIPOS | H42: =SUM(H43:H45) -> 42514683
B43: 1 | C43: Equipo completo de Topografía | D43: mes | E43: 4116000 | F43: 0.5 | G43: 1.5 | H43: =ROUND(+B43*(0+E43)*G43*F43,0) -> 3087000
B44: 1 | C44: Ensayos Laboratorio | D44: mes | E44: 7625966.5 | F44: 1 | G44: 1.5 | H44: =ROUND(+B44*(0+E44)*G44*F44,0) -> 11438950
B45: 5 | C45: Alquiler de vehiculo | D45: mes | E45: 3731831 | F45: 1 | G45: 1.5 | H45: =ROUND(+B45*(0+E45)*G45*F45,0) -> 27988733 | Y45: =SUM(Y43:Y43) -> 0
C46: TOTAL OTROS COSTOS DIRECTOS = SUMATORIA DE (11) = (B) | H46: =H42 -> 42514683
B48: TOTAL OPERACIÓN PERMANENTE FIJA | H48: =H46+H36 -> 299256202
B50: ESPECIALISTAS POR DEMANDA
C51: PERSONAL PROFESIONAL POR DEMANDA
C52: Especialistas | H52: =SUM(H53:H58) -> 9105926
B53: 1 | C53: CONTADOR PÚBLICO | D53: 3463420 | F53: 0.3 | G53: 1.5 | H53: =ROUND(+B53*(D53+E53)*F53*G53,0) -> 1558539
B54: 1 | C54: ABOGADO EXPERTO EN CONTRATACIÓN ESTATAL | D54: 3463420 | F54: 0.3 | G54: 1.5 | H54: =ROUND(+B54*(D54+E54)*F54*G54,0) -> 1558539
...

Sheet FactorMultiplicador 
B3: FACTOR MULTIPLICADOR
B5: ITEM | C5: CONCEPTO | I5: PORCENTAJE
B6: 1. | C6: Salarios y Prestaciones Sociales de Personal Facturable
B7: 1.1. | C7: Salarios | I7: 1 | K7: 1
B8: 1.2. | C8: Prima anual (legal) | F8: 1 | G8: ÷ 12 = | I8: =1/12 -> 0.083333333 | K8: =1/12 -> 0.083333333
B9: 1.3. | C9: Cesantía | F9: 1 | G9: ÷ 12 = | I9: =1/12 -> 0.083333333 | K9: =1/12 -> 0.083333333
B10: 1.4. | C10: Intereses de cesantía | F10: 0.01 | G10: x 1.3. = | I10: 0.01 | K10: 0.01
B11: 1.5. | C11: Vacaciones | I11: =+I9/2 -> 0.041666667 | K11: =+K9/2 -> 0.041666667
B12: 1.6. | C12: Seguridad Social (salud + pensión) | I12: 0.285 | K12: 0.285
B13: 1.7. | C13: Caja de Compensación Familiar | I13: 0.04 | K13: 0.04
B14: 1.8. | C14: ARP | I14: 0.025 | K14: 0.0696
B15: 1.9. | C15: Sena | D15: 0.02 | E15: Porcentaje ajustado a la estructura salarial de sólo el personal con salario superior> 10 SMLM | I15: 0.0027023094 | K15: 0.0027023094
B16: 1.10. | C16: ICBF | D16: 0.03 | I16: 0.0040534641 | K16: 0.0040534641
B17: 1.11. | C17: Otros (Auxilios varios, prestaciones extralegales, Incapacidades no cubertas) | I17: 0.01 | K17: 0.01
B18: 1.12. | C18: Dotación | I18: 0.04 | J18: 0.05 | K18: 0.025
G19: Sub-total | I19: =SUM(I7:I18) -> 1.6250891 | K19: =SUM(K7:K18) -> 1.6546891
B20: 2. | C20: Gastos Directos
B21: 2.1. | C21: Arriendo oficina | I21: 0.02 | J21: 0.03 | K21: 0.02
B22: 2.2. | C22: Administración edificio | I22: 0.004 | K22: 0.004
B23: 2.3. | C23: Servicios públicos | I23: 0.005 | K23: 0.005
G24: Sub-total | I24: =SUM(I21:I23) -> 0.029 | K24: =SUM(K21:K23) -> 0.029
B25: 3. | C25: Gastos Generales
B26: 3.1. | C26: Preparación de Propuesta | I26: 0.01 | J26: 0.015 | K26: 0.01
B27: 3.2. | C27: Equipos y mantenimiento Oficina (Aseo) | I27: 0.01 | J27: 0.02 | K27: 0.01
B28: 3.3. | C28: Mubles Equipos Campamento | I28: 0.01 | J28: 0.02 | K28: 0.01
B29: 3.4. | C29: Gastos de vehículo | I29: 0.01 | J29: 0.01 | K29: 0.005
B30: 3.5. | C30: Seguros de robo e incendio | I30: 0.005 | K30: 0.005
B31: 3.6. | C31: Documentación Técnica | I31: 0.02 | J31: 0.03 | K31: 0.02
B32: 3.7. | C32: Papelería y útiles de oficina | I32: 0.01 | K32: 0.01
B33: 3.8. | C33: Personal Administrativo no facturado | I33: 0.01 | K33: 0.01
B34: 3.9. | C34: Personal Profesional no facturado | I34: 0.01 | K34: 0.01
B35: 3.10. | C35: Depreciación de muebles y equipos | I35: 0.005 | K35: 0.005
B36: 3.11. | C36: Licenciamiento de software | I36: 0.02 | J36: 0.03 | K36: 0.02
B37: 3.12. | C37: Correo y otros | I37: 0.005 | K37: 0.005
G38: Sub-total | I38: =SUM(I26:I37) -> 0.125 | K38: =SUM(K26:K37) -> 0.12
B39: 4. | C39: Honorarios (Utilidad del consultor y costos no previstos) | G39: Sub-total | I39: 0.18 | K39: 0.16
B40: T O T A L | I40: =ROUND(SUM(I39,I38,I24,I19),2) -> 1.96 | K40: =ROUND(SUM(K39,K38,K24,K19),2) -> 1.96

Sheet Polizas_Impuestos
B3: Costos Directos no Reembolsables
B5: 4. | C5: Costos Directos no Reembolsables
B6: 4.1 | C6: Poliza de Calidad | I6: 0.00286 | K6: 0.00286
B7: 4.2 | C7: Póliza Cumplimiento | I7: 0.00222 | K7: 0.00222
B8: 4.3 | C8: Póliza Salarios y prestaciones Sociales | I8: 0.00149 | K8: 0.00149
G9: Sub-total | I9: =SUM(I6:I8) -> 0.00657 | K9: =+K6+K7+K8 -> 0.00657 | S9: Base liquidación | T9: ='PRESUPUESTO OFICIAL'!P68 -> 371563944
B10: 5. | C10: Impuestos y Estampillas
B11: 5.1 | C11: Estampilla Adulto Mayor - Deducción estampilla Pro Adulto Mayor | I11: 0.02 | K11: 0.02 | L11: =ROUND($T$9*I11,0) -> 7431279
B12: 5.2 | C12: Estampilla Procultura - Deducción estampilla Procultura con base | I12: 0.01 | K12: 0.01 | L12: =ROUND($T$9*I12,0) -> 3715639
B13: 5.3 | C13: Estampilla Prohospitales - Deduccion estampilla Prohospitales | I13: 0.01 | K13: 0.01 | L13: =ROUND($T$9*I13,0) -> 3715639
B14: 5.4 | C14: Estampilla Prodesarrollo - Deduc. EstampProdesarro =+ de 2.196UVTs | I14: 0.035 | K14: 0.035 | L14: =ROUND($T$9*I14,0) -> 13004738
B15: 5.5 | C15: Estampilla Prouniversidad del Pacifico - Deduc EstamProuniverpacifico PN | I15: 0.005 | K15: 0.01 | L15: =ROUND($T$9*I15,0) -> 1857820
B16: 5.6 | C16: Estampilla Prouniversidad del Valle - Deduccion estampilla Prouniv del Valle | I16: 0.02 | K16: 0.02 | L16: =ROUND($T$9*I16,0) -> 7431279
B17: 5.7 | C17: Estampilla Justicia Familia | I17: 0.02 | K17: 0.02 | L17: =ROUND($T$9*I17,0) -> 7431279
B18: 5.8 | C18: Tasa Pro Deporte y Recreación Acuerdo No. 0530 de 2022 | I18: 0.02 | K18: 0.02 | L18: =ROUND($T$9*I18,0) -> 7431279
G19: Sub-total | I19: =SUM(I11:I18) -> 0.14 | K19: =SUM(K11:K18) -> 0.145 | L19: =SUM(L11:L18) -> 52018952
B20: T O T A L | I20: =I9+I19 -> 0.14657 | K20: =K9+K19 -> 0.15157
O22: Póliza
M23: SIN IVA | N23: =ROUND('PRESUPUESTO OFICIAL'!H70/1.19,0) -> 371563944 | O23: =ROUND('PRESUPUESTO OFICIAL'!H67/N23,5) -> 0.00657
M24: IVA | N24: =ROUND(N23*0.19,0) -> 70597149
M25: TOTAL | N25: =N23+N24 -> 442161093

Sheet TABLA DE SALARIOS
A1: TABLA DE HONORARIOS 2025
A2: NIVEL | B2: GRADO | C2: FORMACION ACADEMICA | D2: EXPERIENCIA | E2: HONORARIOS 2026
A3: PROFESIONAL ESPECIALIZADO | B3: 6 | C3: Título profesional y titulo de postgrado | D3: 108 meses de experiencia profesional | E3: 12368000 | H3: 1.6350891 | I3: =ROUND(E3/H3,0) -> 7564114
B4: 5 | C4: Título profesional y titulo de postgrado | D4: 90 meses de experiencia profesional | E4: 10374000 | H4: 1.6350891 | I4: =ROUND(E4/H4,0) -> 6344608
B5: 4 | C5: Título profesional y titulo de postgrado | D5: 72 meses de experiencia profesional | E5: 8378000 | H5: 1.6350891 | I5: =ROUND(E5/H5,0) -> 5123880
B6: 3 | C6: Título profesional y titulo de postgrado | D6: 54 meses de experiencia profesional | E6: 7826000 | H6: 1.6350891 | I6: =ROUND(E6/H6,0) -> 4786283
B7: 2 | C7: Título profesional y titulo de postgrado | D7: 36 meses de experiencia profesional | E7: 7036000 | H7: 1.6350891 | I7: =ROUND(E7/H7,0) -> 4303129
B8: 1 | C8: Título profesional y titulo de postgrado | D8: 24 meses de experiencia profesional | E8: 6247000 | H8: 1.6350891 | I8: =ROUND(E8/H8,0) -> 3820587
A9: PROFESIONAL | B9: 3 | C9: Título profesional | D9: 18 meses de experiencia profesional | E9: 5663000 | H9: 1.6350891 | I9: =ROUND(E9/H9,0) -> 3463420
B10: 2 | C10: Título profesional | D10: 12 meses de experiencia profesional | E10: 4805000 | H10: 1.6350891 | I10: =ROUND(E10/H10,0) -> 2938678
B11: 1 | C11: Título profesional | D11: No requerida | E11: 3947000 | H11: 1.6350891 | I11: =ROUND(E11/H11,0) -> 2413936
A12: TECNICO | B12: 3 | C12: Título de formación técnica o tecnológica o aprobación de seis (6) semestres de educación superior en la modalidad de pregrado. | D12: 12 meses de experiencia laboral | E12: 3551000 | H12: 1.6350891 | I12: =ROUND(E12/H12,0) -> 2171747
B13: 2 | C13: Título de formación técnica o tecnológica o aprobación de seis (6) semestres de educación superior en la modalidad de pregrado. | D13: 6 meses de experiencia laboral | E13: 3255000 | H13: 1.6350891 | I13: =ROUND(E13/H13,0) -> 1990717
B14: 1 | C14: Título de formación técnica o tecnológica o aprobación de seis (6) semestres de educación superior en la modalidad de pregrado. | D14: No requerida | E14: 2905000 | H14: 1.6350891 | I14: =ROUND(E14/H14,0) -> 1776662
A15: ASISTENCIAL | B15: 3 | C15: Título de bachiller | D15: 24 meses de experiencia laboral | E15: 2792000 | H15: 1.6350891 | I15: =ROUND(E15/H15,0) -> 1707552
B16: 2 | C16: Título de bachiller | D16: 6 meses de experiencia laboral o 18 meses de experiencia laboral sin titulo de bachiller | E16: 2271000 | H16: 1.6350891 | I16: =ROUND(E16/H16,0) -> 1388915
B17: 1 | C17: Alternativa de 4 años de educación básica secundaria Equivalencia: 6 meses de experiencia laboral por aprobación de 4 año de básica secundaria, siempre y cuando se acredite la formación básica primaria | D17: Con titulo de bachiller no requiere experiencia o 12 meses de experiencia laboral sin titulo de bachiller. | E17: 2109000 | H17: 1.6350891 | I17: =ROUND(E17/H17,0) -> 1289838
