Workbook
Name ADMIN: 'BASE PRESUPUESTO'!$H$101
Name ANTICIPO: RESUMEN!$D$7
Name ANTICIPO_INVERTIDO: 'DETALLE POR ÍTEM'!$L$120
Name CD_TOTAL: 'BASE PRESUPUESTO'!$H$98
Name F_INICIO: RESUMEN!$D$10
Name VR_CONTRATO: 'BASE PRESUPUESTO'!$H$104

Sheet RESUMEN
A1: PLAN DE INVERSIÓN DEL ANTICIPO
A2: OPTIMIZACIÓN, MEJORAMIENTO Y FORTALECIMIENTO DE LOS SIETE (7) SISTEMAS DE ABASTECIMIENTO DE AGUA (ACUEDUCTOS) RURALES DEL MUNICIPIO DE CAICEDONIA
A3: Contrato de Obra No. 233 del 25 de septiembre de 2026 · Proceso SAMC 247-2026 · Contratante: Municipio de Caicedonia (Valle) · Contratista: Diego Fernando Parra Hurtado
A5: DATOS DEL CONTRATO | H5: ANTICIPO INVERTIDO | K5: % DEL ANTICIPO EJECUTADO
A6: Valor del contrato (incluido IVA) | D6: =VR_CONTRATO -> 239997531 | H6: =ANTICIPO_INVERTIDO -> 120000000 | K6: =ANTICIPO_INVERTIDO/ANTICIPO -> 1
A7: Anticipo pactado (cláusula SEXTA) | D7: 120000000
A8: % del anticipo sobre el valor | D8: =ANTICIPO/VR_CONTRATO -> 0.50000514
A9: Costo directo de obra | D9: =CD_TOTAL -> 177775949 | H9: COSTO DIRECTO FINANCIADO | K9: FRENTES · ÍTEMS · SEMANAS
A10: Fecha de inicio de la inversión | D10: 46295 | H10: =ANTICIPO_INVERTIDO/CD_TOTAL -> 0.67500694 | K10: ="7 · "&COUNTA('BASE PRESUPUESTO'!C5:C97)&" · 6" -> 7 · 93 · 6
A11: Fin de la ventana de inversión (6 semanas) | D11: =F_INICIO+7*6-1 -> 46336
A12: Plazo de ejecución del contrato | D12: 46384
A13: Celdas en azul con fondo amarillo = datos editables.
A15: INVERSIÓN DEL ANTICIPO POR FRENTE
A16: Frente / sistema | D16: Costo directo del frente | E16: Inversión con anticipo | F16: % del frente financiado | G16: % del anticipo
A17: ACUEDUCTO AURES | D17: ='DETALLE POR ÍTEM'!E18 -> 14792621 | E17: ='DETALLE POR ÍTEM'!L18 -> 14792621 | F17: =IF(D17=0,0,E17/D17) -> 1 | G17: =IF(ANTICIPO=0,0,E17/ANTICIPO) -> 0.12327184
A18: ACUEDUCTO LA PAVA | D18: ='DETALLE POR ÍTEM'!E43 -> 27956091 | E18: ='DETALLE POR ÍTEM'!L43 -> 22809340 | F18: =IF(D18=0,0,E18/D18) -> 0.81589877 | G18: =IF(ANTICIPO=0,0,E18/ANTICIPO) -> 0.19007784
A19: ACUEDUCTO SAN GERARDO ALTO | D19: ='DETALLE POR ÍTEM'!E69 -> 34830919 | E19: ='DETALLE POR ÍTEM'!L69 -> 25257804 | F19: =IF(D19=0,0,E19/D19) -> 0.72515468 | G19: =IF(ANTICIPO=0,0,E19/ANTICIPO) -> 0.2104817
A20: ACUEDUCTO LIMONES | D20: ='DETALLE POR ÍTEM'!E92 -> 45479541 | E20: ='DETALLE POR ÍTEM'!L92 -> 24354582 | F20: =IF(D20=0,0,E20/D20) -> 0.53550633 | G20: =IF(ANTICIPO=0,0,E20/ANTICIPO) -> 0.20295485
A21: ACUEDUCTO SAMARIA | D21: ='DETALLE POR ÍTEM'!E96 -> 3000000 | E21: ='DETALLE POR ÍTEM'!L96 -> 3000000 | F21: =IF(D21=0,0,E21/D21) -> 1 | G21: =IF(ANTICIPO=0,0,E21/ANTICIPO) -> 0.025
A22: ACUEDUCTO LAS DELICIAS | D22: ='DETALLE POR ÍTEM'!E114 -> 28423103 | E22: ='DETALLE POR ÍTEM'!L114 -> 13670435 | F22: =IF(D22=0,0,E22/D22) -> 0.48096208 | G22: =IF(ANTICIPO=0,0,E22/ANTICIPO) -> 0.11392029
A23: ACUEDUCTO MONTEGRANDE – SECTOR CARARE | D23: ='DETALLE POR ÍTEM'!E118 -> 23293674 | E23: ='DETALLE POR ÍTEM'!L118 -> 16115218 | F23: =IF(D23=0,0,E23/D23) -> 0.69182809 | G23: =IF(ANTICIPO=0,0,E23/ANTICIPO) -> 0.13429348
A24: TOTAL | D24: =SUM(D17:D23) -> 177775949 | E24: =SUM(E17:E23) -> 1.2e+08 | F24: =IF(D24=0,0,E24/D24) -> 0.67500694 | G24: =SUM(G17:G23) -> 1
A26: INVERSIÓN DEL ANTICIPO POR COMPONENTE
A27: Componente | D27: Valor | E27: % del anticipo
A28: MATERIALES (compra y suministro) | D28: ='PLAN SEMANAL'!H22 -> 70008106 | E28: =IF(ANTICIPO=0,0,D28/ANTICIPO) -> 0.58340088
A29: MANO DE OBRA (cuadrillas) | D29: ='PLAN SEMANAL'!H23 -> 35993435 | E29: =IF(ANTICIPO=0,0,D29/ANTICIPO) -> 0.29994529
A30: EQUIPO Y HERRAMIENTA | D30: ='PLAN SEMANAL'!H24 -> 2157358.3 | E30: =IF(ANTICIPO=0,0,D30/ANTICIPO) -> 0.017977986
A31: TRANSPORTE, ACARREOS Y BODEGAJE | D31: ='PLAN SEMANAL'!H25 -> 11841101 | E31: =IF(ANTICIPO=0,0,D31/ANTICIPO) -> 0.098675841
A32: TOTAL | D32: =SUM(D28:D31) -> 120000000 | E32: =SUM(E28:E31) -> 1
A34: FLUJO SEMANAL DE INVERSIÓN DEL ANTICIPO
A35: Concepto | D35: SEMANA 1 | E35: SEMANA 2 | F35: SEMANA 3 | G35: SEMANA 4 | H35: SEMANA 5 | I35: SEMANA 6 | J35: TOTAL
A36: Fecha de inicio de semana | D36: =F_INICIO+7*0 -> 46295 | E36: =F_INICIO+7*1 -> 46302 | F36: =F_INICIO+7*2 -> 46309 | G36: =F_INICIO+7*3 -> 46316 | H36: =F_INICIO+7*4 -> 46323 | I36: =F_INICIO+7*5 -> 46330
A37: Inversión de la semana | D37: ='PLAN SEMANAL'!B14 -> 9792151.8 | E37: ='PLAN SEMANAL'!C14 -> 21520704 | F37: ='PLAN SEMANAL'!D14 -> 18078962 | G37: ='PLAN SEMANAL'!E14 -> 12275821 | H37: ='PLAN SEMANAL'!F14 -> 29035227 | I37: ='PLAN SEMANAL'!G14 -> 29297134 | J37: =SUM(D37:I37) -> 120000000
A38: Inversión acumulada | D38: ='PLAN SEMANAL'!B16 -> 9792151.8 | E38: ='PLAN SEMANAL'!C16 -> 31312856 | F38: ='PLAN SEMANAL'!D16 -> 49391818 | G38: ='PLAN SEMANAL'!E16 -> 61667639 | H38: ='PLAN SEMANAL'!F16 -> 90702866 | I38: ='PLAN SEMANAL'!G16 -> 120000000
A39: % acumulado | D39: ='PLAN SEMANAL'!B17 -> 0.081601265 | E39: ='PLAN SEMANAL'!C17 -> 0.26094047 | F39: ='PLAN SEMANAL'!D17 -> 0.41159848 | G39: ='PLAN SEMANAL'!E17 -> 0.51389699 | H39: ='PLAN SEMANAL'!F17 -> 0.75585722 | I39: ='PLAN SEMANAL'!G17 -> 1
A42: COMPOSICIÓN Y DISTRIBUCIÓN DEL ANTICIPO
A65: CONTRATISTA | J65: Vo. Bo. SUPERVISOR DEL CONTRATO
A66: DIEGO FERNANDO PARRA HURTADO | J66: Secretaría de Obras Públicas
A67: C.C. 73.147.123 – NIT 73147123-5 | J67: Municipio de Caicedonia

Sheet PLAN SEMANAL
A1: PLAN DE INVERSIÓN DEL ANTICIPO – PROGRAMACIÓN SEMANAL
A2: Contrato de Obra No. 233 de 2026 | Anticipo del 50% | Ventana de inversión: 6 semanas desde la fecha de inicio
A4: 1. INVERSIÓN POR FRENTE DE OBRA (ACUEDUCTO) Y SEMANA
A5: FRENTE / SISTEMA | B5: SEMANA 1 | C5: SEMANA 2 | D5: SEMANA 3 | E5: SEMANA 4 | F5: SEMANA 5 | G5: SEMANA 6 | H5: TOTAL | I5: % ANTICIPO
B6: =F_INICIO+7*0 -> 46295 | C6: =F_INICIO+7*1 -> 46302 | D6: =F_INICIO+7*2 -> 46309 | E6: =F_INICIO+7*3 -> 46316 | F6: =F_INICIO+7*4 -> 46323 | G6: =F_INICIO+7*5 -> 46330
A7: ACUEDUCTO AURES | B7: =SUMIF('DETALLE POR ÍTEM'!$S$6:$S$118,$A7,'DETALLE POR ÍTEM'!F$6:F$118) -> 7206148 | C7: =SUMIF('DETALLE POR ÍTEM'!$S$6:$S$118,$A7,'DETALLE POR ÍTEM'!G$6:G$118) -> 4904988.8 | D7: =SUMIF('DETALLE POR ÍTEM'!$S$6:$S$118,$A7,'DETALLE POR ÍTEM'!H$6:H$118) -> 2241266.2 | E7: =SUMIF('DETALLE POR ÍTEM'!$S$6:$S$118,$A7,'DETALLE POR ÍTEM'!I$6:I$118) -> 440218.05 | F7: =SUMIF('DETALLE POR ÍTEM'!$S$6:$S$118,$A7,'DETALLE POR ÍTEM'!J$6:J$118) -> 0 | G7: =SUMIF('DETALLE POR ÍTEM'!$S$6:$S$118,$A7,'DETALLE POR ÍTEM'!K$6:K$118) -> 0 | H7: =SUM(B7:G7) -> 14792621 | I7: =IF(ANTICIPO=0,0,H7/ANTICIPO) -> 0.12327184
A8: ACUEDUCTO LA PAVA | B8: =SUMIF('DETALLE POR ÍTEM'!$S$6:$S$118,$A8,'DETALLE POR ÍTEM'!F$6:F$118) -> 12990.031 | C8: =SUMIF('DETALLE POR ÍTEM'!$S$6:$S$118,$A8,'DETALLE POR ÍTEM'!G$6:G$118) -> 2808859.7 | D8: =SUMIF('DETALLE POR ÍTEM'!$S$6:$S$118,$A8,'DETALLE POR ÍTEM'!H$6:H$118) -> 6964022.5 | E8: =SUMIF('DETALLE POR ÍTEM'!$S$6:$S$118,$A8,'DETALLE POR ÍTEM'!I$6:I$118) -> 3785350.8 | F8: =SUMIF('DETALLE POR ÍTEM'!$S$6:$S$118,$A8,'DETALLE POR ÍTEM'!J$6:J$118) -> 3646158.8 | G8: =SUMIF('DETALLE POR ÍTEM'!$S$6:$S$118,$A8,'DETALLE POR ÍTEM'!K$6:K$118) -> 5591958.4 | H8: =SUM(B8:G8) -> 22809340 | I8: =IF(ANTICIPO=0,0,H8/ANTICIPO) -> 0.19007784
A9: ACUEDUCTO SAN GERARDO ALTO | B9: =SUMIF('DETALLE POR ÍTEM'!$S$6:$S$118,$A9,'DETALLE POR ÍTEM'!F$6:F$118) -> 0 | C9: =SUMIF('DETALLE POR ÍTEM'!$S$6:$S$118,$A9,'DETALLE POR ÍTEM'!G$6:G$118) -> 11735.851 | D9: =SUMIF('DETALLE POR ÍTEM'!$S$6:$S$118,$A9,'DETALLE POR ÍTEM'!H$6:H$118) -> 4555264 | E9: =SUMIF('DETALLE POR ÍTEM'!$S$6:$S$118,$A9,'DETALLE POR ÍTEM'!I$6:I$118) -> 3296180.7 | F9: =SUMIF('DETALLE POR ÍTEM'!$S$6:$S$118,$A9,'DETALLE POR ÍTEM'!J$6:J$118) -> 13057626 | G9: =SUMIF('DETALLE POR ÍTEM'!$S$6:$S$118,$A9,'DETALLE POR ÍTEM'!K$6:K$118) -> 4336997.9 | H9: =SUM(B9:G9) -> 25257804 | I9: =IF(ANTICIPO=0,0,H9/ANTICIPO) -> 0.2104817
A10: ACUEDUCTO LIMONES | B10: =SUMIF('DETALLE POR ÍTEM'!$S$6:$S$118,$A10,'DETALLE POR ÍTEM'!F$6:F$118) -> 2573013.8 | C10: =SUMIF('DETALLE POR ÍTEM'!$S$6:$S$118,$A10,'DETALLE POR ÍTEM'!G$6:G$118) -> 5293232.9 | D10: =SUMIF('DETALLE POR ÍTEM'!$S$6:$S$118,$A10,'DETALLE POR ÍTEM'!H$6:H$118) -> 4209578.7 | E10: =SUMIF('DETALLE POR ÍTEM'!$S$6:$S$118,$A10,'DETALLE POR ÍTEM'!I$6:I$118) -> 1406131.8 | F10: =SUMIF('DETALLE POR ÍTEM'!$S$6:$S$118,$A10,'DETALLE POR ÍTEM'!J$6:J$118) -> 2361360.6 | G10: =SUMIF('DETALLE POR ÍTEM'!$S$6:$S$118,$A10,'DETALLE POR ÍTEM'!K$6:K$118) -> 8511264.2 | H10: =SUM(B10:G10) -> 24354582 | I10: =IF(ANTICIPO=0,0,H10/ANTICIPO) -> 0.20295485
A11: ACUEDUCTO SAMARIA | B11: =SUMIF('DETALLE POR ÍTEM'!$S$6:$S$118,$A11,'DETALLE POR ÍTEM'!F$6:F$118) -> 0 | C11: =SUMIF('DETALLE POR ÍTEM'!$S$6:$S$118,$A11,'DETALLE POR ÍTEM'!G$6:G$118) -> 0 | D11: =SUMIF('DETALLE POR ÍTEM'!$S$6:$S$118,$A11,'DETALLE POR ÍTEM'!H$6:H$118) -> 0 | E11: =SUMIF('DETALLE POR ÍTEM'!$S$6:$S$118,$A11,'DETALLE POR ÍTEM'!I$6:I$118) -> 0 | F11: =SUMIF('DETALLE POR ÍTEM'!$S$6:$S$118,$A11,'DETALLE POR ÍTEM'!J$6:J$118) -> 2550000 | G11: =SUMIF('DETALLE POR ÍTEM'!$S$6:$S$118,$A11,'DETALLE POR ÍTEM'!K$6:K$118) -> 450000 | H11: =SUM(B11:G11) -> 3000000 | I11: =IF(ANTICIPO=0,0,H11/ANTICIPO) -> 0.025
A12: ACUEDUCTO LAS DELICIAS | B12: =SUMIF('DETALLE POR ÍTEM'!$S$6:$S$118,$A12,'DETALLE POR ÍTEM'!F$6:F$118) -> 0 | C12: =SUMIF('DETALLE POR ÍTEM'!$S$6:$S$118,$A12,'DETALLE POR ÍTEM'!G$6:G$118) -> 0 | D12: =SUMIF('DETALLE POR ÍTEM'!$S$6:$S$118,$A12,'DETALLE POR ÍTEM'!H$6:H$118) -> 108830.43 | E12: =SUMIF('DETALLE POR ÍTEM'!$S$6:$S$118,$A12,'DETALLE POR ÍTEM'!I$6:I$118) -> 3347939.9 | F12: =SUMIF('DETALLE POR ÍTEM'!$S$6:$S$118,$A12,'DETALLE POR ÍTEM'!J$6:J$118) -> 7420082 | G12: =SUMIF('DETALLE POR ÍTEM'!$S$6:$S$118,$A12,'DETALLE POR ÍTEM'!K$6:K$118) -> 2793582.3 | H12: =SUM(B12:G12) -> 13670435 | I12: =IF(ANTICIPO=0,0,H12/ANTICIPO) -> 0.11392029
A13: ACUEDUCTO MONTEGRANDE – SECTOR CARARE | B13: =SUMIF('DETALLE POR ÍTEM'!$S$6:$S$118,$A13,'DETALLE POR ÍTEM'!F$6:F$118) -> 0 | C13: =SUMIF('DETALLE POR ÍTEM'!$S$6:$S$118,$A13,'DETALLE POR ÍTEM'!G$6:G$118) -> 8501887 | D13: =SUMIF('DETALLE POR ÍTEM'!$S$6:$S$118,$A13,'DETALLE POR ÍTEM'!H$6:H$118) -> 0 | E13: =SUMIF('DETALLE POR ÍTEM'!$S$6:$S$118,$A13,'DETALLE POR ÍTEM'!I$6:I$118) -> 0 | F13: =SUMIF('DETALLE POR ÍTEM'!$S$6:$S$118,$A13,'DETALLE POR ÍTEM'!J$6:J$118) -> 0 | G13: =SUMIF('DETALLE POR ÍTEM'!$S$6:$S$118,$A13,'DETALLE POR ÍTEM'!K$6:K$118) -> 7613331.1 | H13: =SUM(B13:G13) -> 16115218 | I13: =IF(ANTICIPO=0,0,H13/ANTICIPO) -> 0.13429348
A14: TOTAL INVERSIÓN SEMANAL | B14: =SUM(B7:B13) -> 9792151.8 | C14: =SUM(C7:C13) -> 21520704 | D14: =SUM(D7:D13) -> 18078962 | E14: =SUM(E7:E13) -> 12275821 | F14: =SUM(F7:F13) -> 29035227 | G14: =SUM(G7:G13) -> 29297134 | H14: =SUM(H7:H13) -> 120000000 | I14: =IF(ANTICIPO=0,0,H14/ANTICIPO) -> 1
A15: % del anticipo en la semana | B15: =IF(ANTICIPO=0,0,B14/ANTICIPO) -> 0.081601265 | C15: =IF(ANTICIPO=0,0,C14/ANTICIPO) -> 0.1793392 | D15: =IF(ANTICIPO=0,0,D14/ANTICIPO) -> 0.15065801 | E15: =IF(ANTICIPO=0,0,E14/ANTICIPO) -> 0.10229851 | F15: =IF(ANTICIPO=0,0,F14/ANTICIPO) -> 0.24196023 | G15: =IF(ANTICIPO=0,0,G14/ANTICIPO) -> 0.24414278 | H15: =IF(ANTICIPO=0,0,H14/ANTICIPO) -> 1
A16: Inversión acumulada | B16: =B14 -> 9792151.8 | C16: =B16+C14 -> 31312856 | D16: =C16+D14 -> 49391818 | E16: =D16+E14 -> 61667639 | F16: =E16+F14 -> 90702866 | G16: =F16+G14 -> 120000000
A17: % acumulado del anticipo | B17: =IF(ANTICIPO=0,0,B16/ANTICIPO) -> 0.081601265 | C17: =IF(ANTICIPO=0,0,C16/ANTICIPO) -> 0.26094047 | D17: =IF(ANTICIPO=0,0,D16/ANTICIPO) -> 0.41159848 | E17: =IF(ANTICIPO=0,0,E16/ANTICIPO) -> 0.51389699 | F17: =IF(ANTICIPO=0,0,F16/ANTICIPO) -> 0.75585722 | G17: =IF(ANTICIPO=0,0,G16/ANTICIPO) -> 1
A19: 2. INVERSIÓN POR COMPONENTE DE COSTO Y SEMANA
A20: COMPONENTE | B20: SEMANA 1 | C20: SEMANA 2 | D20: SEMANA 3 | E20: SEMANA 4 | F20: SEMANA 5 | G20: SEMANA 6 | H20: TOTAL | I20: % ANTICIPO
B21: =F_INICIO+7*0 -> 46295 | C21: =F_INICIO+7*1 -> 46302 | D21: =F_INICIO+7*2 -> 46309 | E21: =F_INICIO+7*3 -> 46316 | F21: =F_INICIO+7*4 -> 46323 | G21: =F_INICIO+7*5 -> 46330
A22: MATERIALES (compra y suministro) | B22: =SUMPRODUCT('PROGRAMA DE OBRA'!$AJ$6:$AJ$105,'PROGRAMA DE OBRA'!U$6:U$105) -> 5663478.3 | C22: =SUMPRODUCT('PROGRAMA DE OBRA'!$AJ$6:$AJ$105,'PROGRAMA DE OBRA'!V$6:V$105) -> 14950094 | D22: =SUMPRODUCT('PROGRAMA DE OBRA'!$AJ$6:$AJ$105,'PROGRAMA DE OBRA'!W$6:W$105) -> 8357914.9 | E22: =SUMPRODUCT('PROGRAMA DE OBRA'!$AJ$6:$AJ$105,'PROGRAMA DE OBRA'!X$6:X$105) -> 3199290.3 | F22: =SUMPRODUCT('PROGRAMA DE OBRA'!$AJ$6:$AJ$105,'PROGRAMA DE OBRA'!Y$6:Y$105) -> 19760765 | G22: =SUMPRODUCT('PROGRAMA DE OBRA'!$AJ$6:$AJ$105,'PROGRAMA DE OBRA'!Z$6:Z$105) -> 18076563 | H22: =SUM(B22:G22) -> 70008106 | I22: =IF(ANTICIPO=0,0,H22/ANTICIPO) -> 0.58340088
A23: MANO DE OBRA (cuadrillas) | B23: =SUMPRODUCT('PROGRAMA DE OBRA'!$AK$6:$AK$105,'PROGRAMA DE OBRA'!F$6:F$105) -> 3176980.3 | C23: =SUMPRODUCT('PROGRAMA DE OBRA'!$AK$6:$AK$105,'PROGRAMA DE OBRA'!G$6:G$105) -> 4943695 | D23: =SUMPRODUCT('PROGRAMA DE OBRA'!$AK$6:$AK$105,'PROGRAMA DE OBRA'!H$6:H$105) -> 7362854.7 | E23: =SUMPRODUCT('PROGRAMA DE OBRA'!$AK$6:$AK$105,'PROGRAMA DE OBRA'!I$6:I$105) -> 6302157.2 | F23: =SUMPRODUCT('PROGRAMA DE OBRA'!$AK$6:$AK$105,'PROGRAMA DE OBRA'!J$6:J$105) -> 5820148.1 | G23: =SUMPRODUCT('PROGRAMA DE OBRA'!$AK$6:$AK$105,'PROGRAMA DE OBRA'!K$6:K$105) -> 8387599.9 | H23: =SUM(B23:G23) -> 35993435 | I23: =IF(ANTICIPO=0,0,H23/ANTICIPO) -> 0.29994529
A24: EQUIPO Y HERRAMIENTA | B24: =SUMPRODUCT('PROGRAMA DE OBRA'!$AL$6:$AL$105,'PROGRAMA DE OBRA'!F$6:F$105) -> 331281.43 | C24: =SUMPRODUCT('PROGRAMA DE OBRA'!$AL$6:$AL$105,'PROGRAMA DE OBRA'!G$6:G$105) -> 238738.73 | D24: =SUMPRODUCT('PROGRAMA DE OBRA'!$AL$6:$AL$105,'PROGRAMA DE OBRA'!H$6:H$105) -> 250509.18 | E24: =SUMPRODUCT('PROGRAMA DE OBRA'!$AL$6:$AL$105,'PROGRAMA DE OBRA'!I$6:I$105) -> 168332.73 | F24: =SUMPRODUCT('PROGRAMA DE OBRA'!$AL$6:$AL$105,'PROGRAMA DE OBRA'!J$6:J$105) -> 541136.67 | G24: =SUMPRODUCT('PROGRAMA DE OBRA'!$AL$6:$AL$105,'PROGRAMA DE OBRA'!K$6:K$105) -> 627359.59 | H24: =SUM(B24:G24) -> 2157358.3 | I24: =IF(ANTICIPO=0,0,H24/ANTICIPO) -> 0.017977986
A25: TRANSPORTE, ACARREOS Y BODEGAJE | B25: =SUMPRODUCT('PROGRAMA DE OBRA'!$AM$6:$AM$105,'PROGRAMA DE OBRA'!F$6:F$105) -> 620411.8 | C25: =SUMPRODUCT('PROGRAMA DE OBRA'!$AM$6:$AM$105,'PROGRAMA DE OBRA'!G$6:G$105) -> 1388176 | D25: =SUMPRODUCT('PROGRAMA DE OBRA'!$AM$6:$AM$105,'PROGRAMA DE OBRA'!H$6:H$105) -> 2107683 | E25: =SUMPRODUCT('PROGRAMA DE OBRA'!$AM$6:$AM$105,'PROGRAMA DE OBRA'!I$6:I$105) -> 2606041.1 | F25: =SUMPRODUCT('PROGRAMA DE OBRA'!$AM$6:$AM$105,'PROGRAMA DE OBRA'!J$6:J$105) -> 2913177.5 | G25: =SUMPRODUCT('PROGRAMA DE OBRA'!$AM$6:$AM$105,'PROGRAMA DE OBRA'!K$6:K$105) -> 2205611.5 | H25: =SUM(B25:G25) -> 11841101 | I25: =IF(ANTICIPO=0,0,H25/ANTICIPO) -> 0.098675841
A26: TOTAL POR SEMANA | B26: =SUM(B22:B25) -> 9792151.8 | C26: =SUM(C22:C25) -> 21520704 | D26: =SUM(D22:D25) -> 18078962 | E26: =SUM(E22:E25) -> 12275821 | F26: =SUM(F22:F25) -> 29035227 | G26: =SUM(G22:G25) -> 29297134 | H26: =SUM(H22:H25) -> 120000000 | I26: =IF(ANTICIPO=0,0,H26/ANTICIPO) -> 1
A27: Control: diferencia entre tabla 1 y tabla 2 (debe ser $0) | H27: =ROUND(H26-H14,0) -> 0
A29: 3. QUÉ SE HACE CADA SEMANA (LÓGICA CONSTRUCTIVA DE LA INVERSIÓN)
A30: SEMANA | B30: FECHAS | C30: ACTIVIDADES DE OBRA POR FRENTE | G30: COMPRAS / PAGOS CON EL ANTICIPO
A31: SEMANA 1 | B31: =TEXT(F_INICIO+7*0,"dd/mm")&" – "&TEXT(F_INICIO+7*0+6,"dd/mm") -> 30/09 – 06/10 | C31: • Acta de inicio, acta de vecindad y registro fotográfico del estado inicial de los 7 sistemas (obligación 21). • Movilización de cuadrillas; instalación de bodegas en Aures y Limones. • AURES y LIMONES: localización y replanteo; inicio de excavación manual en conglomerado. | G31: • Tubería PVC 2" RDE 21 (Aures), arena gruesa, madera y formaleta. • Acarreos en campero y desde/hacia la obra. • Cronograma de obra al supervisor (obligación 7).
A32: SEMANA 2 | B32: =TEXT(F_INICIO+7*1,"dd/mm")&" – "&TEXT(F_INICIO+7*1+6,"dd/mm") -> 07/10 – 13/10 | C32: • AURES: colchón de arena e instalación de tubería 2". • LIMONES: excavación y desviación de cauce. • LA PAVA: bodega, localización y replanteo, excavación. | G32: • Orden de compra del sistema de tratamiento compacto de CARARE (50% al proveedor, fabricación). • Cemento, agregados y acero de refuerzo para desarenadores y cerramientos. • Válvulas ventosa y de cierre (Aures).
A33: SEMANA 3 | B33: =TEXT(F_INICIO+7*2,"dd/mm")&" – "&TEXT(F_INICIO+7*2+6,"dd/mm") -> 14/10 – 20/10 | C33: • AURES: válvulas y cajas de inspección. • LIMONES: rejilla, losa de piso del desarenador y figurado de acero. • LA PAVA: desviación de cauce, rejilla y adecuación del desarenador. • SAN GERARDO ALTO: localización y excavación. | G33: • Materiales de concreto y ladrillo para La Pava y San Gerardo Alto. • Transporte con tracción animal a sitios de difícil acceso.
A34: SEMANA 4 | B34: =TEXT(F_INICIO+7*3,"dd/mm")&" – "&TEXT(F_INICIO+7*3+6,"dd/mm") -> 21/10 – 27/10 | C34: • AURES: terminación de cajas de inspección → frente terminado. • LIMONES: muros en concreto del desarenador. • LA PAVA y SAN GERARDO ALTO: solados, vigas de cimentación y acero. • LAS DELICIAS: bodega, localización y excavación. | G34: • Materiales de mampostería (ladrillo, columnas, cintas). • Materiales para bocatoma de Las Delicias.
A35: SEMANA 5 | B35: =TEXT(F_INICIO+7*4,"dd/mm")&" – "&TEXT(F_INICIO+7*4+6,"dd/mm") -> 28/10 – 03/11 | C35: • LIMONES: terminación de muros del desarenador. • LA PAVA y SAN GERARDO ALTO: columnas de amarre y muros en ladrillo. • LAS DELICIAS: adecuación de la bocatoma existente y excavación. | G35: • Tanques plásticos de 5.000 L y flotadores (San Gerardo Alto). • Tubo galvanizado 1½" para cerramientos. • Dosificador de cloro (Samaria).
A36: SEMANA 6 | B36: =TEXT(F_INICIO+7*5,"dd/mm")&" – "&TEXT(F_INICIO+7*5+6,"dd/mm") -> 04/11 – 10/11 | C36: • LIMONES: losa de cubierta del desarenador. • LA PAVA: cinta de confinamiento, postes y diagonales. • SAN GERARDO ALTO: instalación de tanques y conexiones. • LAS DELICIAS: inicio de bocatoma tipo represa. • SAMARIA: instalación del dosificador de cloro. | G36: • Tubería PVC 1½" (500 ml) y válvulas para Limones. • Malla eslabonada y accesorios de cerramiento. • Pago contra entrega del sistema de tratamiento de CARARE.

Sheet DETALLE POR ÍTEM
A1: PLAN DE INVERSIÓN DEL ANTICIPO – DETALLE POR FRENTE E ÍTEM
A2: Inversión semanal = materiales comprados en la semana + mano de obra, equipo y transporte de lo ejecutado en la semana (según "PROGRAMA DE OBRA"). Valores a costo directo. La columna "% del ítem" indica qué parte del valor del ítem queda financiada con el anticipo.
A4: Ítem | B4: Descripción | C4: Und | D4: Cantidad | E4: Valor ítem (CD) | F4: SEMANA 1 | G4: SEMANA 2 | H4: SEMANA 3 | I4: SEMANA 4 | J4: SEMANA 5 | K4: SEMANA 6 | L4: TOTAL ANTICIPO | M4: % del ítem | N4: Materiales | O4: Mano de obra | P4: Equipo | Q4: Transporte
F5: =F_INICIO+7*0 -> 46295 | G5: =F_INICIO+7*1 -> 46302 | H5: =F_INICIO+7*2 -> 46309 | I5: =F_INICIO+7*3 -> 46316 | J5: =F_INICIO+7*4 -> 46323 | K5: =F_INICIO+7*5 -> 46330
A6: ACUEDUCTO AURES
A7: ='BASE PRESUPUESTO'!C5 -> 1.1 | B7: ='BASE PRESUPUESTO'!D5 -> LOCALIZACION-REPLANTEO ACUEDUCTO-ALCANTARILLADO | C7: ='BASE PRESUPUESTO'!E5 -> ML | D7: ='BASE PRESUPUESTO'!F5 -> 250 | E7: ='BASE PRESUPUESTO'!H5 -> 676750 | F7: ='BASE PRESUPUESTO'!O5*'PROGRAMA DE OBRA'!U7+('BASE PRESUPUESTO'!P5+'BASE PRESUPUESTO'!Q5+'BASE PRESUPUESTO'!R5)*'PROGRAMA DE OBRA'!F7 -> 676750 | G7: ='BASE PRESUPUESTO'!O5*'PROGRAMA DE OBRA'!V7+('BASE PRESUPUESTO'!P5+'BASE PRESUPUESTO'!Q5+'BASE PRESUPUESTO'!R5)*'PROGRAMA DE OBRA'!G7 -> 0 | H7: ='BASE PRESUPUESTO'!O5*'PROGRAMA DE OBRA'!W7+('BASE PRESUPUESTO'!P5+'BASE PRESUPUESTO'!Q5+'BASE PRESUPUESTO'!R5)*'PROGRAMA DE OBRA'!H7 -> 0 | I7: ='BASE PRESUPUESTO'!O5*'PROGRAMA DE OBRA'!X7+('BASE PRESUPUESTO'!P5+'BASE PRESUPUESTO'!Q5+'BASE PRESUPUESTO'!R5)*'PROGRAMA DE OBRA'!I7 -> 0 | J7: ='BASE PRESUPUESTO'!O5*'PROGRAMA DE OBRA'!Y7+('BASE PRESUPUESTO'!P5+'BASE PRESUPUESTO'!Q5+'BASE PRESUPUESTO'!R5)*'PROGRAMA DE OBRA'!J7 -> 0 | K7: ='BASE PRESUPUESTO'!O5*'PROGRAMA DE OBRA'!Z7+('BASE PRESUPUESTO'!P5+'BASE PRESUPUESTO'!Q5+'BASE PRESUPUESTO'!R5)*'PROGRAMA DE OBRA'!K7 -> 0 | L7: =SUM(F7:K7) -> 676750 | M7: =IF(E7=0,0,L7/E7) -> 1 | N7: ='BASE PRESUPUESTO'!O5*SUM('PROGRAMA DE OBRA'!U7:Z7) -> 111506.59 | O7: ='BASE PRESUPUESTO'!P5*SUM('PROGRAMA DE OBRA'!F7:K7) -> 475238.09 | P7: ='BASE PRESUPUESTO'!Q5*SUM('PROGRAMA DE OBRA'!F7:K7) -> 90005.32 | Q7: ='BASE PRESUPUESTO'!R5*SUM('PROGRAMA DE OBRA'!F7:K7) -> 0 | R7: ITEM | S7: ACUEDUCTO AURES
A8: ='BASE PRESUPUESTO'!C6 -> 1.2 | B8: ='BASE PRESUPUESTO'!D6 -> BODEGAJE | C8: ='BASE PRESUPUESTO'!E6 -> MES | D8: ='BASE PRESUPUESTO'!F6 -> 1 | E8: ='BASE PRESUPUESTO'!H6 -> 187668 | F8: ='BASE PRESUPUESTO'!O6*'PROGRAMA DE OBRA'!U8+('BASE PRESUPUESTO'!P6+'BASE PRESUPUESTO'!Q6+'BASE PRESUPUESTO'!R6)*'PROGRAMA DE OBRA'!F8 -> 46917 | G8: ='BASE PRESUPUESTO'!O6*'PROGRAMA DE OBRA'!V8+('BASE PRESUPUESTO'!P6+'BASE PRESUPUESTO'!Q6+'BASE PRESUPUESTO'!R6)*'PROGRAMA DE OBRA'!G8 -> 46917 | H8: ='BASE PRESUPUESTO'!O6*'PROGRAMA DE OBRA'!W8+('BASE PRESUPUESTO'!P6+'BASE PRESUPUESTO'!Q6+'BASE PRESUPUESTO'!R6)*'PROGRAMA DE OBRA'!H8 -> 46917 | I8: ='BASE PRESUPUESTO'!O6*'PROGRAMA DE OBRA'!X8+('BASE PRESUPUESTO'!P6+'BASE PRESUPUESTO'!Q6+'BASE PRESUPUESTO'!R6)*'PROGRAMA DE OBRA'!I8 -> 46917 | J8: ='BASE PRESUPUESTO'!O6*'PROGRAMA DE OBRA'!Y8+('BASE PRESUPUESTO'!P6+'BASE PRESUPUESTO'!Q6+'BASE PRESUPUESTO'!R6)*'PROGRAMA DE OBRA'!J8 -> 0 | K8: ='BASE PRESUPUESTO'!O6*'PROGRAMA DE OBRA'!Z8+('BASE PRESUPUESTO'!P6+'BASE PRESUPUESTO'!Q6+'BASE PRESUPUESTO'!R6)*'PROGRAMA DE OBRA'!K8 -> 0 | L8: =SUM(F8:K8) -> 187668 | M8: =IF(E8=0,0,L8/E8) -> 1 | N8: ='BASE PRESUPUESTO'!O6*SUM('PROGRAMA DE OBRA'!U8:Z8) -> 0 | O8: ='BASE PRESUPUESTO'!P6*SUM('PROGRAMA DE OBRA'!F8:K8) -> 0 | P8: ='BASE PRESUPUESTO'!Q6*SUM('PROGRAMA DE OBRA'!F8:K8) -> 0 | Q8: ='BASE PRESUPUESTO'!R6*SUM('PROGRAMA DE OBRA'!F8:K8) -> 187668 | R8: ITEM | S8: ACUEDUCTO AURES
A9: ='BASE PRESUPUESTO'!C7 -> 1.3 | B9: ='BASE PRESUPUESTO'!D7 -> EXCAVACION EN CONGLOMERADO (MANUAL) | C9: ='BASE PRESUPUESTO'!E7 -> M3 | D9: ='BASE PRESUPUESTO'!F7 -> 37.5 | E9: ='BASE PRESUPUESTO'!H7 -> 1754063 | F9: ='BASE PRESUPUESTO'!O7*'PROGRAMA DE OBRA'!U9+('BASE PRESUPUESTO'!P7+'BASE PRESUPUESTO'!Q7+'BASE PRESUPUESTO'!R7)*'PROGRAMA DE OBRA'!F9 -> 877031.5 | G9: ='BASE PRESUPUESTO'!O7*'PROGRAMA DE OBRA'!V9+('BASE PRESUPUESTO'!P7+'BASE PRESUPUESTO'!Q7+'BASE PRESUPUESTO'!R7)*'PROGRAMA DE OBRA'!G9 -> 877031.5 | H9: ='BASE PRESUPUESTO'!O7*'PROGRAMA DE OBRA'!W9+('BASE PRESUPUESTO'!P7+'BASE PRESUPUESTO'!Q7+'BASE PRESUPUESTO'!R7)*'PROGRAMA DE OBRA'!H9 -> 0 | I9: ='BASE PRESUPUESTO'!O7*'PROGRAMA DE OBRA'!X9+('BASE PRESUPUESTO'!P7+'BASE PRESUPUESTO'!Q7+'BASE PRESUPUESTO'!R7)*'PROGRAMA DE OBRA'!I9 -> 0 | J9: ='BASE PRESUPUESTO'!O7*'PROGRAMA DE OBRA'!Y9+('BASE PRESUPUESTO'!P7+'BASE PRESUPUESTO'!Q7+'BASE PRESUPUESTO'!R7)*'PROGRAMA DE OBRA'!J9 -> 0 | K9: ='BASE PRESUPUESTO'!O7*'PROGRAMA DE OBRA'!Z9+('BASE PRESUPUESTO'!P7+'BASE PRESUPUESTO'!Q7+'BASE PRESUPUESTO'!R7)*'PROGRAMA DE OBRA'!K9 -> 0 | L9: =SUM(F9:K9) -> 1754063 | M9: =IF(E9=0,0,L9/E9) -> 1 | N9: ='BASE PRESUPUESTO'!O7*SUM('PROGRAMA DE OBRA'!U9:Z9) -> 0 | O9: ='BASE PRESUPUESTO'!P7*SUM('PROGRAMA DE OBRA'!F9:K9) -> 1694773.8 | P9: ='BASE PRESUPUESTO'!Q7*SUM('PROGRAMA DE OBRA'!F9:K9) -> 59289.17 | Q9: ='BASE PRESUPUESTO'!R7*SUM('PROGRAMA DE OBRA'!F9:K9) -> 0 | R9: ITEM | S9: ACUEDUCTO AURES
A10: ='BASE PRESUPUESTO'!C8 -> 2.1 | B10: ='BASE PRESUPUESTO'!D8 -> VALVULA VENTOSA 2" DOBLE EFECTO" | C10: ='BASE PRESUPUESTO'!E8 -> UND | D10: ='BASE PRESUPUESTO'!F8 -> 2 | E10: ='BASE PRESUPUESTO'!H8 -> 1218064 | F10: ='BASE PRESUPUESTO'!O8*'PROGRAMA DE OBRA'!U10+('BASE PRESUPUESTO'!P8+'BASE PRESUPUESTO'!Q8+'BASE PRESUPUESTO'!R8)*'PROGRAMA DE OBRA'!F10 -> 0 | G10: ='BASE PRESUPUESTO'!O8*'PROGRAMA DE OBRA'!V10+('BASE PRESUPUESTO'!P8+'BASE PRESUPUESTO'!Q8+'BASE PRESUPUESTO'!R8)*'PROGRAMA DE OBRA'!G10 -> 1080715.3 | H10: ='BASE PRESUPUESTO'!O8*'PROGRAMA DE OBRA'!W10+('BASE PRESUPUESTO'!P8+'BASE PRESUPUESTO'!Q8+'BASE PRESUPUESTO'!R8)*'PROGRAMA DE OBRA'!H10 -> 137348.68 | I10: ='BASE PRESUPUESTO'!O8*'PROGRAMA DE OBRA'!X10+('BASE PRESUPUESTO'!P8+'BASE PRESUPUESTO'!Q8+'BASE PRESUPUESTO'!R8)*'PROGRAMA DE OBRA'!I10 -> 0 | J10: ='BASE PRESUPUESTO'!O8*'PROGRAMA DE OBRA'!Y10+('BASE PRESUPUESTO'!P8+'BASE PRESUPUESTO'!Q8+'BASE PRESUPUESTO'!R8)*'PROGRAMA DE OBRA'!J10 -> 0 | K10: ='BASE PRESUPUESTO'!O8*'PROGRAMA DE OBRA'!Z10+('BASE PRESUPUESTO'!P8+'BASE PRESUPUESTO'!Q8+'BASE PRESUPUESTO'!R8)*'PROGRAMA DE OBRA'!K10 -> 0 | L10: =SUM(F10:K10) -> 1218064 | M10: =IF(E10=0,0,L10/E10) -> 1 | N10: ='BASE PRESUPUESTO'!O8*SUM('PROGRAMA DE OBRA'!U10:Z10) -> 1080715.3 | O10: ='BASE PRESUPUESTO'!P8*SUM('PROGRAMA DE OBRA'!F10:K10) -> 132020.67 | P10: ='BASE PRESUPUESTO'!Q8*SUM('PROGRAMA DE OBRA'!F10:K10) -> 5328.0115 | Q10: ='BASE PRESUPUESTO'!R8*SUM('PROGRAMA DE OBRA'!F10:K10) -> 0 | R10: ITEM | S10: ACUEDUCTO AURES
A11: ='BASE PRESUPUESTO'!C9 -> 2.2 | B11: ='BASE PRESUPUESTO'!D9 -> VALVULA CIERRE RAPIDO 2" | C11: ='BASE PRESUPUESTO'!E9 -> UND | D11: ='BASE PRESUPUESTO'!F9 -> 1 | E11: ='BASE PRESUPUESTO'!H9 -> 189699 | F11: ='BASE PRESUPUESTO'!O9*'PROGRAMA DE OBRA'!U11+('BASE PRESUPUESTO'!P9+'BASE PRESUPUESTO'!Q9+'BASE PRESUPUESTO'!R9)*'PROGRAMA DE OBRA'!F11 -> 0 | G11: ='BASE PRESUPUESTO'!O9*'PROGRAMA DE OBRA'!V11+('BASE PRESUPUESTO'!P9+'BASE PRESUPUESTO'!Q9+'BASE PRESUPUESTO'!R9)*'PROGRAMA DE OBRA'!G11 -> 171284.78 | H11: ='BASE PRESUPUESTO'!O9*'PROGRAMA DE OBRA'!W11+('BASE PRESUPUESTO'!P9+'BASE PRESUPUESTO'!Q9+'BASE PRESUPUESTO'!R9)*'PROGRAMA DE OBRA'!H11 -> 18414.218 | I11: ='BASE PRESUPUESTO'!O9*'PROGRAMA DE OBRA'!X11+('BASE PRESUPUESTO'!P9+'BASE PRESUPUESTO'!Q9+'BASE PRESUPUESTO'!R9)*'PROGRAMA DE OBRA'!I11 -> 0 | J11: ='BASE PRESUPUESTO'!O9*'PROGRAMA DE OBRA'!Y11+('BASE PRESUPUESTO'!P9+'BASE PRESUPUESTO'!Q9+'BASE PRESUPUESTO'!R9)*'PROGRAMA DE OBRA'!J11 -> 0 | K11: ='BASE PRESUPUESTO'!O9*'PROGRAMA DE OBRA'!Z11+('BASE PRESUPUESTO'!P9+'BASE PRESUPUESTO'!Q9+'BASE PRESUPUESTO'!R9)*'PROGRAMA DE OBRA'!K11 -> 0 | L11: =SUM(F11:K11) -> 189699 | M11: =IF(E11=0,0,L11/E11) -> 1 | N11: ='BASE PRESUPUESTO'!O9*SUM('PROGRAMA DE OBRA'!U11:Z11) -> 171284.78 | O11: ='BASE PRESUPUESTO'!P9*SUM('PROGRAMA DE OBRA'!F11:K11) -> 16627.732 | P11: ='BASE PRESUPUESTO'!Q9*SUM('PROGRAMA DE OBRA'!F11:K11) -> 1786.4859 | Q11: ='BASE PRESUPUESTO'!R9*SUM('PROGRAMA DE OBRA'!F11:K11) -> 0 | R11: ITEM | S11: ACUEDUCTO AURES
A12: ='BASE PRESUPUESTO'!C10 -> 2.3 | B12: ='BASE PRESUPUESTO'!D10 -> COLCHON ARENA GRUESA E=5-7CM | C12: ='BASE PRESUPUESTO'!E10 -> M3 | D12: ='BASE PRESUPUESTO'!F10 -> 3.5 | E12: ='BASE PRESUPUESTO'!H10 -> 254667 | F12: ='BASE PRESUPUESTO'!O10*'PROGRAMA DE OBRA'!U12+('BASE PRESUPUESTO'!P10+'BASE PRESUPUESTO'!Q10+'BASE PRESUPUESTO'!R10)*'PROGRAMA DE OBRA'!F12 -> 229431.94 | G12: ='BASE PRESUPUESTO'!O10*'PROGRAMA DE OBRA'!V12+('BASE PRESUPUESTO'!P10+'BASE PRESUPUESTO'!Q10+'BASE PRESUPUESTO'!R10)*'PROGRAMA DE OBRA'!G12 -> 25235.061 | H12: ='BASE PRESUPUESTO'!O10*'PROGRAMA DE OBRA'!W12+('BASE PRESUPUESTO'!P10+'BASE PRESUPUESTO'!Q10+'BASE PRESUPUESTO'!R10)*'PROGRAMA DE OBRA'!H12 -> 0 | I12: ='BASE PRESUPUESTO'!O10*'PROGRAMA DE OBRA'!X12+('BASE PRESUPUESTO'!P10+'BASE PRESUPUESTO'!Q10+'BASE PRESUPUESTO'!R10)*'PROGRAMA DE OBRA'!I12 -> 0 | J12: ='BASE PRESUPUESTO'!O10*'PROGRAMA DE OBRA'!Y12+('BASE PRESUPUESTO'!P10+'BASE PRESUPUESTO'!Q10+'BASE PRESUPUESTO'!R10)*'PROGRAMA DE OBRA'!J12 -> 0 | K12: ='BASE PRESUPUESTO'!O10*'PROGRAMA DE OBRA'!Z12+('BASE PRESUPUESTO'!P10+'BASE PRESUPUESTO'!Q10+'BASE PRESUPUESTO'!R10)*'PROGRAMA DE OBRA'!K12 -> 0 | L12: =SUM(F12:K12) -> 254667 | M12: =IF(E12=0,0,L12/E12) -> 1 | N12: ='BASE PRESUPUESTO'!O10*SUM('PROGRAMA DE OBRA'!U12:Z12) -> 229431.94 | O12: ='BASE PRESUPUESTO'!P10*SUM('PROGRAMA DE OBRA'!F12:K12) -> 24643.092 | P12: ='BASE PRESUPUESTO'!Q10*SUM('PROGRAMA DE OBRA'!F12:K12) -> 591.96943 | Q12: ='BASE PRESUPUESTO'!R10*SUM('PROGRAMA DE OBRA'!F12:K12) -> 0 | R12: ITEM | S12: ACUEDUCTO AURES
A13: ='BASE PRESUPUESTO'!C11 -> 2.4 | B13: ='BASE PRESUPUESTO'!D11 -> TUBERIA PVC RED 21 DIAMETRO 2" | C13: ='BASE PRESUPUESTO'!E11 -> ML | D13: ='BASE PRESUPUESTO'!F11 -> 250 | E13: ='BASE PRESUPUESTO'!H11 -> 7769250 | F13: ='BASE PRESUPUESTO'!O11*'PROGRAMA DE OBRA'!U13+('BASE PRESUPUESTO'!P11+'BASE PRESUPUESTO'!Q11+'BASE PRESUPUESTO'!R11)*'PROGRAMA DE OBRA'!F13 -> 5086536.5 | G13: ='BASE PRESUPUESTO'!O11*'PROGRAMA DE OBRA'!V13+('BASE PRESUPUESTO'!P11+'BASE PRESUPUESTO'!Q11+'BASE PRESUPUESTO'!R11)*'PROGRAMA DE OBRA'!G13 -> 1341356.7 | H13: ='BASE PRESUPUESTO'!O11*'PROGRAMA DE OBRA'!W13+('BASE PRESUPUESTO'!P11+'BASE PRESUPUESTO'!Q11+'BASE PRESUPUESTO'!R11)*'PROGRAMA DE OBRA'!H13 -> 1341356.7 | I13: ='BASE PRESUPUESTO'!O11*'PROGRAMA DE OBRA'!X13+('BASE PRESUPUESTO'!P11+'BASE PRESUPUESTO'!Q11+'BASE PRESUPUESTO'!R11)*'PROGRAMA DE OBRA'!I13 -> 0 | J13: ='BASE PRESUPUESTO'!O11*'PROGRAMA DE OBRA'!Y13+('BASE PRESUPUESTO'!P11+'BASE PRESUPUESTO'!Q11+'BASE PRESUPUESTO'!R11)*'PROGRAMA DE OBRA'!J13 -> 0 | K13: ='BASE PRESUPUESTO'!O11*'PROGRAMA DE OBRA'!Z13+('BASE PRESUPUESTO'!P11+'BASE PRESUPUESTO'!Q11+'BASE PRESUPUESTO'!R11)*'PROGRAMA DE OBRA'!K13 -> 0 | L13: =SUM(F13:K13) -> 7769250 | M13: =IF(E13=0,0,L13/E13) -> 1 | N13: ='BASE PRESUPUESTO'!O11*SUM('PROGRAMA DE OBRA'!U13:Z13) -> 5086536.5 | O13: ='BASE PRESUPUESTO'!P11*SUM('PROGRAMA DE OBRA'!F13:K13) -> 2471347.6 | P13: ='BASE PRESUPUESTO'!Q11*SUM('PROGRAMA DE OBRA'!F13:K13) -> 211365.9 | Q13: ='BASE PRESUPUESTO'!R11*SUM('PROGRAMA DE OBRA'!F13:K13) -> 0 | R13: ITEM | S13: ACUEDUCTO AURES
A14: ='BASE PRESUPUESTO'!C12 -> 2.5 | B14: ='BASE PRESUPUESTO'!D12 -> CAJA INSPECCION 80x 80 CM [CONCRETO] | C14: ='BASE PRESUPUESTO'!E12 -> UND | D14: ='BASE PRESUPUESTO'!F12 -> 3 | E14: ='BASE PRESUPUESTO'!H12 -> 1817481 | F14: ='BASE PRESUPUESTO'!O12*'PROGRAMA DE OBRA'!U14+('BASE PRESUPUESTO'!P12+'BASE PRESUPUESTO'!Q12+'BASE PRESUPUESTO'!R12)*'PROGRAMA DE OBRA'!F14 -> 0 | G14: ='BASE PRESUPUESTO'!O12*'PROGRAMA DE OBRA'!V14+('BASE PRESUPUESTO'!P12+'BASE PRESUPUESTO'!Q12+'BASE PRESUPUESTO'!R12)*'PROGRAMA DE OBRA'!G14 -> 1030878.9 | H14: ='BASE PRESUPUESTO'!O12*'PROGRAMA DE OBRA'!W14+('BASE PRESUPUESTO'!P12+'BASE PRESUPUESTO'!Q12+'BASE PRESUPUESTO'!R12)*'PROGRAMA DE OBRA'!H14 -> 393301.05 | I14: ='BASE PRESUPUESTO'!O12*'PROGRAMA DE OBRA'!X14+('BASE PRESUPUESTO'!P12+'BASE PRESUPUESTO'!Q12+'BASE PRESUPUESTO'!R12)*'PROGRAMA DE OBRA'!I14 -> 393301.05 | J14: ='BASE PRESUPUESTO'!O12*'PROGRAMA DE OBRA'!Y14+('BASE PRESUPUESTO'!P12+'BASE PRESUPUESTO'!Q12+'BASE PRESUPUESTO'!R12)*'PROGRAMA DE OBRA'!J14 -> 0 | K14: ='BASE PRESUPUESTO'!O12*'PROGRAMA DE OBRA'!Z14+('BASE PRESUPUESTO'!P12+'BASE PRESUPUESTO'!Q12+'BASE PRESUPUESTO'!R12)*'PROGRAMA DE OBRA'!K14 -> 0 | L14: =SUM(F14:K14) -> 1817481 | M14: =IF(E14=0,0,L14/E14) -> 1 | N14: ='BASE PRESUPUESTO'!O12*SUM('PROGRAMA DE OBRA'!U14:Z14) -> 1030878.9 | O14: ='BASE PRESUPUESTO'!P12*SUM('PROGRAMA DE OBRA'!F14:K14) -> 786094.54 | P14: ='BASE PRESUPUESTO'!Q12*SUM('PROGRAMA DE OBRA'!F14:K14) -> 507.5599 | Q14: ='BASE PRESUPUESTO'!R12*SUM('PROGRAMA DE OBRA'!F14:K14) -> 0 | R14: ITEM | S14: ACUEDUCTO AURES
A15: ='BASE PRESUPUESTO'!C13 -> 2.6 | B15: ='BASE PRESUPUESTO'!D13 -> ACARREO MATERIALES TRACCION ANIMAL | C15: ='BASE PRESUPUESTO'!E13 -> C-KM | D15: ='BASE PRESUPUESTO'!F13 -> 9 | E15: ='BASE PRESUPUESTO'!H13 -> 84177 | F15: ='BASE PRESUPUESTO'!O13*'PROGRAMA DE OBRA'!U15+('BASE PRESUPUESTO'!P13+'BASE PRESUPUESTO'!Q13+'BASE PRESUPUESTO'!R13)*'PROGRAMA DE OBRA'!F15 -> 0 | G15: ='BASE PRESUPUESTO'!O13*'PROGRAMA DE OBRA'!V15+('BASE PRESUPUESTO'!P13+'BASE PRESUPUESTO'!Q13+'BASE PRESUPUESTO'!R13)*'PROGRAMA DE OBRA'!G15 -> 42088.5 | H15: ='BASE PRESUPUESTO'!O13*'PROGRAMA DE OBRA'!W15+('BASE PRESUPUESTO'!P13+'BASE PRESUPUESTO'!Q13+'BASE PRESUPUESTO'!R13)*'PROGRAMA DE OBRA'!H15 -> 42088.5 | I15: ='BASE PRESUPUESTO'!O13*'PROGRAMA DE OBRA'!X15+('BASE PRESUPUESTO'!P13+'BASE PRESUPUESTO'!Q13+'BASE PRESUPUESTO'!R13)*'PROGRAMA DE OBRA'!I15 -> 0 | J15: ='BASE PRESUPUESTO'!O13*'PROGRAMA DE OBRA'!Y15+('BASE PRESUPUESTO'!P13+'BASE PRESUPUESTO'!Q13+'BASE PRESUPUESTO'!R13)*'PROGRAMA DE OBRA'!J15 -> 0 | K15: ='BASE PRESUPUESTO'!O13*'PROGRAMA DE OBRA'!Z15+('BASE PRESUPUESTO'!P13+'BASE PRESUPUESTO'!Q13+'BASE PRESUPUESTO'!R13)*'PROGRAMA DE OBRA'!K15 -> 0 | L15: =SUM(F15:K15) -> 84177 | M15: =IF(E15=0,0,L15/E15) -> 1 | N15: ='BASE PRESUPUESTO'!O13*SUM('PROGRAMA DE OBRA'!U15:Z15) -> 0 | O15: ='BASE PRESUPUESTO'!P13*SUM('PROGRAMA DE OBRA'!F15:K15) -> 0 | P15: ='BASE PRESUPUESTO'!Q13*SUM('PROGRAMA DE OBRA'!F15:K15) -> 0 | Q15: ='BASE PRESUPUESTO'!R13*SUM('PROGRAMA DE OBRA'!F15:K15) -> 84177 | R15: ITEM | S15: ACUEDUCTO AURES
A16: ='BASE PRESUPUESTO'!C14 -> 2.7 | B16: ='BASE PRESUPUESTO'!D14 -> ACARREO MATERIALES DESDE O HACIA LA OBRA<- 10 KM. | C16: ='BASE PRESUPUESTO'!E14 -> M3 | D16: ='BASE PRESUPUESTO'!F14 -> 2 | E16: ='BASE PRESUPUESTO'!H14 -> 55282 | F16: ='BASE PRESUPUESTO'!O14*'PROGRAMA DE OBRA'!U16+('BASE PRESUPUESTO'!P14+'BASE PRESUPUESTO'!Q14+'BASE PRESUPUESTO'!R14)*'PROGRAMA DE OBRA'!F16 -> 27641 | G16: ='BASE PRESUPUESTO'!O14*'PROGRAMA DE OBRA'!V16+('BASE PRESUPUESTO'!P14+'BASE PRESUPUESTO'!Q14+'BASE PRESUPUESTO'!R14)*'PROGRAMA DE OBRA'!G16 -> 27641 | H16: ='BASE PRESUPUESTO'!O14*'PROGRAMA DE OBRA'!W16+('BASE PRESUPUESTO'!P14+'BASE PRESUPUESTO'!Q14+'BASE PRESUPUESTO'!R14)*'PROGRAMA DE OBRA'!H16 -> 0 | I16: ='BASE PRESUPUESTO'!O14*'PROGRAMA DE OBRA'!X16+('BASE PRESUPUESTO'!P14+'BASE PRESUPUESTO'!Q14+'BASE PRESUPUESTO'!R14)*'PROGRAMA DE OBRA'!I16 -> 0 | J16: ='BASE PRESUPUESTO'!O14*'PROGRAMA DE OBRA'!Y16+('BASE PRESUPUESTO'!P14+'BASE PRESUPUESTO'!Q14+'BASE PRESUPUESTO'!R14)*'PROGRAMA DE OBRA'!J16 -> 0 | K16: ='BASE PRESUPUESTO'!O14*'PROGRAMA DE OBRA'!Z16+('BASE PRESUPUESTO'!P14+'BASE PRESUPUESTO'!Q14+'BASE PRESUPUESTO'!R14)*'PROGRAMA DE OBRA'!K16 -> 0 | L16: =SUM(F16:K16) -> 55282 | M16: =IF(E16=0,0,L16/E16) -> 1 | N16: ='BASE PRESUPUESTO'!O14*SUM('PROGRAMA DE OBRA'!U16:Z16) -> 0 | O16: ='BASE PRESUPUESTO'!P14*SUM('PROGRAMA DE OBRA'!F16:K16) -> 0 | P16: ='BASE PRESUPUESTO'!Q14*SUM('PROGRAMA DE OBRA'!F16:K16) -> 0 | Q16: ='BASE PRESUPUESTO'!R14*SUM('PROGRAMA DE OBRA'!F16:K16) -> 55282 | R16: ITEM | S16: ACUEDUCTO AURES
A17: ='BASE PRESUPUESTO'!C15 -> 2.8 | B17: ='BASE PRESUPUESTO'!D15 -> ACARREO MATERIALES CAMPERO-CAMIONETA | C17: ='BASE PRESUPUESTO'!E15 -> M3-KM | D17: ='BASE PRESUPUESTO'!F15 -> 60 | E17: ='BASE PRESUPUESTO'!H15 -> 785520 | F17: ='BASE PRESUPUESTO'!O15*'PROGRAMA DE OBRA'!U17+('BASE PRESUPUESTO'!P15+'BASE PRESUPUESTO'!Q15+'BASE PRESUPUESTO'!R15)*'PROGRAMA DE OBRA'!F17 -> 261840 | G17: ='BASE PRESUPUESTO'!O15*'PROGRAMA DE OBRA'!V17+('BASE PRESUPUESTO'!P15+'BASE PRESUPUESTO'!Q15+'BASE PRESUPUESTO'!R15)*'PROGRAMA DE OBRA'!G17 -> 261840 | H17: ='BASE PRESUPUESTO'!O15*'PROGRAMA DE OBRA'!W17+('BASE PRESUPUESTO'!P15+'BASE PRESUPUESTO'!Q15+'BASE PRESUPUESTO'!R15)*'PROGRAMA DE OBRA'!H17 -> 261840 | I17: ='BASE PRESUPUESTO'!O15*'PROGRAMA DE OBRA'!X17+('BASE PRESUPUESTO'!P15+'BASE PRESUPUESTO'!Q15+'BASE PRESUPUESTO'!R15)*'PROGRAMA DE OBRA'!I17 -> 0 | J17: ='BASE PRESUPUESTO'!O15*'PROGRAMA DE OBRA'!Y17+('BASE PRESUPUESTO'!P15+'BASE PRESUPUESTO'!Q15+'BASE PRESUPUESTO'!R15)*'PROGRAMA DE OBRA'!J17 -> 0 | K17: ='BASE PRESUPUESTO'!O15*'PROGRAMA DE OBRA'!Z17+('BASE PRESUPUESTO'!P15+'BASE PRESUPUESTO'!Q15+'BASE PRESUPUESTO'!R15)*'PROGRAMA DE OBRA'!K17 -> 0 | L17: =SUM(F17:K17) -> 785520 | M17: =IF(E17=0,0,L17/E17) -> 1 | N17: ='BASE PRESUPUESTO'!O15*SUM('PROGRAMA DE OBRA'!U17:Z17) -> 0 | O17: ='BASE PRESUPUESTO'!P15*SUM('PROGRAMA DE OBRA'!F17:K17) -> 0 | P17: ='BASE PRESUPUESTO'!Q15*SUM('PROGRAMA DE OBRA'!F17:K17) -> 0 | Q17: ='BASE PRESUPUESTO'!R15*SUM('PROGRAMA DE OBRA'!F17:K17) -> 785520 | R17: ITEM | S17: ACUEDUCTO AURES
A18: SUBTOTAL ACUEDUCTO AURES | E18: =SUM(E7:E17) -> 14792621 | F18: =SUM(F7:F17) -> 7206148 | G18: =SUM(G7:G17) -> 4904988.8 | H18: =SUM(H7:H17) -> 2241266.2 | I18: =SUM(I7:I17) -> 440218.05 | J18: =SUM(J7:J17) -> 0 | K18: =SUM(K7:K17) -> 0 | L18: =SUM(L7:L17) -> 14792621 | M18: =IF(E18=0,0,L18/E18) -> 1 | N18: =SUM(N7:N17) -> 7710354.1 | O18: =SUM(O7:O17) -> 5600745.5 | P18: =SUM(P7:P17) -> 368874.41 | Q18: =SUM(Q7:Q17) -> 1112647 | R18: SUB
A20: ACUEDUCTO LA PAVA
A21: ='BASE PRESUPUESTO'!C16 -> 1.1 | B21: ='BASE PRESUPUESTO'!D16 -> LOCALIZACION-REPLANTEO CERRAMIENTO-VARIO | C21: ='BASE PRESUPUESTO'!E16 -> M | D21: ='BASE PRESUPUESTO'!F16 -> 29 | E21: ='BASE PRESUPUESTO'!H16 -> 88276 | F21: ='BASE PRESUPUESTO'!O16*'PROGRAMA DE OBRA'!U19+('BASE PRESUPUESTO'!P16+'BASE PRESUPUESTO'!Q16+'BASE PRESUPUESTO'!R16)*'PROGRAMA DE OBRA'!F19 -> 12990.031 | G21: ='BASE PRESUPUESTO'!O16*'PROGRAMA DE OBRA'!V19+('BASE PRESUPUESTO'!P16+'BASE PRESUPUESTO'!Q16+'BASE PRESUPUESTO'!R16)*'PROGRAMA DE OBRA'!G19 -> 75285.969 | H21: ='BASE PRESUPUESTO'!O16*'PROGRAMA DE OBRA'!W19+('BASE PRESUPUESTO'!P16+'BASE PRESUPUESTO'!Q16+'BASE PRESUPUESTO'!R16)*'PROGRAMA DE OBRA'!H19 -> 0 | I21: ='BASE PRESUPUESTO'!O16*'PROGRAMA DE OBRA'!X19+('BASE PRESUPUESTO'!P16+'BASE PRESUPUESTO'!Q16+'BASE PRESUPUESTO'!R16)*'PROGRAMA DE OBRA'!I19 -> 0 | J21: ='BASE PRESUPUESTO'!O16*'PROGRAMA DE OBRA'!Y19+('BASE PRESUPUESTO'!P16+'BASE PRESUPUESTO'!Q16+'BASE PRESUPUESTO'!R16)*'PROGRAMA DE OBRA'!J19 -> 0 | K21: ='BASE PRESUPUESTO'!O16*'PROGRAMA DE OBRA'!Z19+('BASE PRESUPUESTO'!P16+'BASE PRESUPUESTO'!Q16+'BASE PRESUPUESTO'!R16)*'PROGRAMA DE OBRA'!K19 -> 0 | L21: =SUM(F21:K21) -> 88276 | M21: =IF(E21=0,0,L21/E21) -> 1 | N21: ='BASE PRESUPUESTO'!O16*SUM('PROGRAMA DE OBRA'!U19:Z19) -> 12990.031 | O21: ='BASE PRESUPUESTO'!P16*SUM('PROGRAMA DE OBRA'!F19:K19) -> 64800.742 | P21: ='BASE PRESUPUESTO'!Q16*SUM('PROGRAMA DE OBRA'!F19:K19) -> 10485.227 | Q21: ='BASE PRESUPUESTO'!R16*SUM('PROGRAMA DE OBRA'!F19:K19) -> 0 | R21: ITEM | S21: ACUEDUCTO LA PAVA
A22: ='BASE PRESUPUESTO'!C17 -> 1.2 | B22: ='BASE PRESUPUESTO'!D17 -> BODEGAJE | C22: ='BASE PRESUPUESTO'!E17 -> MES | D22: ='BASE PRESUPUESTO'!F17 -> 2 | E22: ='BASE PRESUPUESTO'!H17 -> 375336 | F22: ='BASE PRESUPUESTO'!O17*'PROGRAMA DE OBRA'!U20+('BASE PRESUPUESTO'!P17+'BASE PRESUPUESTO'!Q17+'BASE PRESUPUESTO'!R17)*'PROGRAMA DE OBRA'!F20 -> 0 | G22: ='BASE PRESUPUESTO'!O17*'PROGRAMA DE OBRA'!V20+('BASE PRESUPUESTO'!P17+'BASE PRESUPUESTO'!Q17+'BASE PRESUPUESTO'!R17)*'PROGRAMA DE OBRA'!G20 -> 46917 | H22: ='BASE PRESUPUESTO'!O17*'PROGRAMA DE OBRA'!W20+('BASE PRESUPUESTO'!P17+'BASE PRESUPUESTO'!Q17+'BASE PRESUPUESTO'!R17)*'PROGRAMA DE OBRA'!H20 -> 46917 | I22: ='BASE PRESUPUESTO'!O17*'PROGRAMA DE OBRA'!X20+('BASE PRESUPUESTO'!P17+'BASE PRESUPUESTO'!Q17+'BASE PRESUPUESTO'!R17)*'PROGRAMA DE OBRA'!I20 -> 46917 | J22: ='BASE PRESUPUESTO'!O17*'PROGRAMA DE OBRA'!Y20+('BASE PRESUPUESTO'!P17+'BASE PRESUPUESTO'!Q17+'BASE PRESUPUESTO'!R17)*'PROGRAMA DE OBRA'!J20 -> 46917 | K22: ='BASE PRESUPUESTO'!O17*'PROGRAMA DE OBRA'!Z20+('BASE PRESUPUESTO'!P17+'BASE PRESUPUESTO'!Q17+'BASE PRESUPUESTO'!R17)*'PROGRAMA DE OBRA'!K20 -> 46917 | L22: =SUM(F22:K22) -> 234585 | M22: =IF(E22=0,0,L22/E22) -> 0.625 | N22: ='BASE PRESUPUESTO'!O17*SUM('PROGRAMA DE OBRA'!U20:Z20) -> 0 | O22: ='BASE PRESUPUESTO'!P17*SUM('PROGRAMA DE OBRA'!F20:K20) -> 0 | P22: ='BASE PRESUPUESTO'!Q17*SUM('PROGRAMA DE OBRA'!F20:K20) -> 0 | Q22: ='BASE PRESUPUESTO'!R17*SUM('PROGRAMA DE OBRA'!F20:K20) -> 234585 | R22: ITEM | S22: ACUEDUCTO LA PAVA
A23: ='BASE PRESUPUESTO'!C18 -> 1.3 | B23: ='BASE PRESUPUESTO'!D18 -> EXCAVACION EN CONGLOMERADO (MANUAL) | C23: ='BASE PRESUPUESTO'!E18 -> M3 | D23: ='BASE PRESUPUESTO'!F18 -> 74.44 | E23: ='BASE PRESUPUESTO'!H18 -> 3481931 | F23: ='BASE PRESUPUESTO'!O18*'PROGRAMA DE OBRA'!U21+('BASE PRESUPUESTO'!P18+'BASE PRESUPUESTO'!Q18+'BASE PRESUPUESTO'!R18)*'PROGRAMA DE OBRA'!F21 -> 0 | G23: ='BASE PRESUPUESTO'!O18*'PROGRAMA DE OBRA'!V21+('BASE PRESUPUESTO'!P18+'BASE PRESUPUESTO'!Q18+'BASE PRESUPUESTO'!R18)*'PROGRAMA DE OBRA'!G21 -> 1740965.5 | H23: ='BASE PRESUPUESTO'!O18*'PROGRAMA DE OBRA'!W21+('BASE PRESUPUESTO'!P18+'BASE PRESUPUESTO'!Q18+'BASE PRESUPUESTO'!R18)*'PROGRAMA DE OBRA'!H21 -> 1740965.5 | I23: ='BASE PRESUPUESTO'!O18*'PROGRAMA DE OBRA'!X21+('BASE PRESUPUESTO'!P18+'BASE PRESUPUESTO'!Q18+'BASE PRESUPUESTO'!R18)*'PROGRAMA DE OBRA'!I21 -> 0 | J23: ='BASE PRESUPUESTO'!O18*'PROGRAMA DE OBRA'!Y21+('BASE PRESUPUESTO'!P18+'BASE PRESUPUESTO'!Q18+'BASE PRESUPUESTO'!R18)*'PROGRAMA DE OBRA'!J21 -> 0 | K23: ='BASE PRESUPUESTO'!O18*'PROGRAMA DE OBRA'!Z21+('BASE PRESUPUESTO'!P18+'BASE PRESUPUESTO'!Q18+'BASE PRESUPUESTO'!R18)*'PROGRAMA DE OBRA'!K21 -> 0 | L23: =SUM(F23:K23) -> 3481931 | M23: =IF(E23=0,0,L23/E23) -> 1 | N23: ='BASE PRESUPUESTO'!O18*SUM('PROGRAMA DE OBRA'!U21:Z21) -> 0 | O23: ='BASE PRESUPUESTO'!P18*SUM('PROGRAMA DE OBRA'!F21:K21) -> 3364238.1 | P23: ='BASE PRESUPUESTO'!Q18*SUM('PROGRAMA DE OBRA'!F21:K21) -> 117692.92 | Q23: ='BASE PRESUPUESTO'!R18*SUM('PROGRAMA DE OBRA'!F21:K21) -> 0 | R23: ITEM | S23: ACUEDUCTO LA PAVA
A24: ='BASE PRESUPUESTO'!C19 -> 2.1 | B24: ='BASE PRESUPUESTO'!D19 -> SOLADO ESPESOR E=0.05M 3000 PSI 210 MPA | C24: ='BASE PRESUPUESTO'!E19 -> M2 | D24: ='BASE PRESUPUESTO'!F19 -> 5.82 | E24: ='BASE PRESUPUESTO'!H19 -> 226706 | F24: ='BASE PRESUPUESTO'!O19*'PROGRAMA DE OBRA'!U22+('BASE PRESUPUESTO'!P19+'BASE PRESUPUESTO'!Q19+'BASE PRESUPUESTO'!R19)*'PROGRAMA DE OBRA'!F22 -> 0 | G24: ='BASE PRESUPUESTO'!O19*'PROGRAMA DE OBRA'!V22+('BASE PRESUPUESTO'!P19+'BASE PRESUPUESTO'!Q19+'BASE PRESUPUESTO'!R19)*'PROGRAMA DE OBRA'!G22 -> 0 | H24: ='BASE PRESUPUESTO'!O19*'PROGRAMA DE OBRA'!W22+('BASE PRESUPUESTO'!P19+'BASE PRESUPUESTO'!Q19+'BASE PRESUPUESTO'!R19)*'PROGRAMA DE OBRA'!H22 -> 139582.09 | I24: ='BASE PRESUPUESTO'!O19*'PROGRAMA DE OBRA'!X22+('BASE PRESUPUESTO'!P19+'BASE PRESUPUESTO'!Q19+'BASE PRESUPUESTO'!R19)*'PROGRAMA DE OBRA'!I22 -> 87123.907 | J24: ='BASE PRESUPUESTO'!O19*'PROGRAMA DE OBRA'!Y22+('BASE PRESUPUESTO'!P19+'BASE PRESUPUESTO'!Q19+'BASE PRESUPUESTO'!R19)*'PROGRAMA DE OBRA'!J22 -> 0 | K24: ='BASE PRESUPUESTO'!O19*'PROGRAMA DE OBRA'!Z22+('BASE PRESUPUESTO'!P19+'BASE PRESUPUESTO'!Q19+'BASE PRESUPUESTO'!R19)*'PROGRAMA DE OBRA'!K22 -> 0 | L24: =SUM(F24:K24) -> 226706 | M24: =IF(E24=0,0,L24/E24) -> 1 | N24: ='BASE PRESUPUESTO'!O19*SUM('PROGRAMA DE OBRA'!U22:Z22) -> 139582.09 | O24: ='BASE PRESUPUESTO'!P19*SUM('PROGRAMA DE OBRA'!F22:K22) -> 86137.576 | P24: ='BASE PRESUPUESTO'!Q19*SUM('PROGRAMA DE OBRA'!F22:K22) -> 986.3304 | Q24: ='BASE PRESUPUESTO'!R19*SUM('PROGRAMA DE OBRA'!F22:K22) -> 0 | R24: ITEM | S24: ACUEDUCTO LA PAVA
A25: ='BASE PRESUPUESTO'!C20 -> 2.2 | B25: ='BASE PRESUPUESTO'!D20 -> VIGA CIMIENTO ENLACE H-20-40CM 3100 PSI | C25: ='BASE PRESUPUESTO'!E20 -> M3 | D25: ='BASE PRESUPUESTO'!F20 -> 2.7125 | E25: ='BASE PRESUPUESTO'!H20 -> 2791721 | F25: ='BASE PRESUPUESTO'!O20*'PROGRAMA DE OBRA'!U23+('BASE PRESUPUESTO'!P20+'BASE PRESUPUESTO'!Q20+'BASE PRESUPUESTO'!R20)*'PROGRAMA DE OBRA'!F23 -> 0 | G25: ='BASE PRESUPUESTO'!O20*'PROGRAMA DE OBRA'!V23+('BASE PRESUPUESTO'!P20+'BASE PRESUPUESTO'!Q20+'BASE PRESUPUESTO'!R20)*'PROGRAMA DE OBRA'!G23 -> 0 | H25: ='BASE PRESUPUESTO'!O20*'PROGRAMA DE OBRA'!W23+('BASE PRESUPUESTO'!P20+'BASE PRESUPUESTO'!Q20+'BASE PRESUPUESTO'!R20)*'PROGRAMA DE OBRA'!H23 -> 1755483.9 | I25: ='BASE PRESUPUESTO'!O20*'PROGRAMA DE OBRA'!X23+('BASE PRESUPUESTO'!P20+'BASE PRESUPUESTO'!Q20+'BASE PRESUPUESTO'!R20)*'PROGRAMA DE OBRA'!I23 -> 518118.57 | J25: ='BASE PRESUPUESTO'!O20*'PROGRAMA DE OBRA'!Y23+('BASE PRESUPUESTO'!P20+'BASE PRESUPUESTO'!Q20+'BASE PRESUPUESTO'!R20)*'PROGRAMA DE OBRA'!J23 -> 518118.57 | K25: ='BASE PRESUPUESTO'!O20*'PROGRAMA DE OBRA'!Z23+('BASE PRESUPUESTO'!P20+'BASE PRESUPUESTO'!Q20+'BASE PRESUPUESTO'!R20)*'PROGRAMA DE OBRA'!K23 -> 0 | L25: =SUM(F25:K25) -> 2791721 | M25: =IF(E25=0,0,L25/E25) -> 1 | N25: ='BASE PRESUPUESTO'!O20*SUM('PROGRAMA DE OBRA'!U23:Z23) -> 1755483.9 | O25: ='BASE PRESUPUESTO'!P20*SUM('PROGRAMA DE OBRA'!F23:K23) -> 1022880.3 | P25: ='BASE PRESUPUESTO'!Q20*SUM('PROGRAMA DE OBRA'!F23:K23) -> 13356.827 | Q25: ='BASE PRESUPUESTO'!R20*SUM('PROGRAMA DE OBRA'!F23:K23) -> 0 | R25: ITEM | S25: ACUEDUCTO LA PAVA
A26: ='BASE PRESUPUESTO'!C21 -> 2.3 | B26: ='BASE PRESUPUESTO'!D21 -> COLUMNA AMARRE MURO | C26: ='BASE PRESUPUESTO'!E21 -> ML | D26: ='BASE PRESUPUESTO'!F21 -> 6 | E26: ='BASE PRESUPUESTO'!H21 -> 462402 | F26: ='BASE PRESUPUESTO'!O21*'PROGRAMA DE OBRA'!U24+('BASE PRESUPUESTO'!P21+'BASE PRESUPUESTO'!Q21+'BASE PRESUPUESTO'!R21)*'PROGRAMA DE OBRA'!F24 -> 0 | G26: ='BASE PRESUPUESTO'!O21*'PROGRAMA DE OBRA'!V24+('BASE PRESUPUESTO'!P21+'BASE PRESUPUESTO'!Q21+'BASE PRESUPUESTO'!R21)*'PROGRAMA DE OBRA'!G24 -> 0 | H26: ='BASE PRESUPUESTO'!O21*'PROGRAMA DE OBRA'!W24+('BASE PRESUPUESTO'!P21+'BASE PRESUPUESTO'!Q21+'BASE PRESUPUESTO'!R21)*'PROGRAMA DE OBRA'!H24 -> 0 | I26: ='BASE PRESUPUESTO'!O21*'PROGRAMA DE OBRA'!X24+('BASE PRESUPUESTO'!P21+'BASE PRESUPUESTO'!Q21+'BASE PRESUPUESTO'!R21)*'PROGRAMA DE OBRA'!I24 -> 146249.86 | J26: ='BASE PRESUPUESTO'!O21*'PROGRAMA DE OBRA'!Y24+('BASE PRESUPUESTO'!P21+'BASE PRESUPUESTO'!Q21+'BASE PRESUPUESTO'!R21)*'PROGRAMA DE OBRA'!J24 -> 316152.14 | K26: ='BASE PRESUPUESTO'!O21*'PROGRAMA DE OBRA'!Z24+('BASE PRESUPUESTO'!P21+'BASE PRESUPUESTO'!Q21+'BASE PRESUPUESTO'!R21)*'PROGRAMA DE OBRA'!K24 -> 0 | L26: =SUM(F26:K26) -> 462402 | M26: =IF(E26=0,0,L26/E26) -> 1 | N26: ='BASE PRESUPUESTO'!O21*SUM('PROGRAMA DE OBRA'!U24:Z24) -> 146249.86 | O26: ='BASE PRESUPUESTO'!P21*SUM('PROGRAMA DE OBRA'!F24:K24) -> 307898.55 | P26: ='BASE PRESUPUESTO'!Q21*SUM('PROGRAMA DE OBRA'!F24:K24) -> 8253.5852 | Q26: ='BASE PRESUPUESTO'!R21*SUM('PROGRAMA DE OBRA'!F24:K24) -> 0 | R26: ITEM | S26: ACUEDUCTO LA PAVA
A27: ='BASE PRESUPUESTO'!C22 -> 2.4 | B27: ='BASE PRESUPUESTO'!D22 -> MURO LADRILLO SOGA LIMPIO 2C | C27: ='BASE PRESUPUESTO'!E22 -> M2 | D27: ='BASE PRESUPUESTO'!F22 -> 14 | E27: ='BASE PRESUPUESTO'!H22 -> 1639428 | F27: ='BASE PRESUPUESTO'!O22*'PROGRAMA DE OBRA'!U25+('BASE PRESUPUESTO'!P22+'BASE PRESUPUESTO'!Q22+'BASE PRESUPUESTO'!R22)*'PROGRAMA DE OBRA'!F25 -> 0 | G27: ='BASE PRESUPUESTO'!O22*'PROGRAMA DE OBRA'!V25+('BASE PRESUPUESTO'!P22+'BASE PRESUPUESTO'!Q22+'BASE PRESUPUESTO'!R22)*'PROGRAMA DE OBRA'!G25 -> 0 | H27: ='BASE PRESUPUESTO'!O22*'PROGRAMA DE OBRA'!W25+('BASE PRESUPUESTO'!P22+'BASE PRESUPUESTO'!Q22+'BASE PRESUPUESTO'!R22)*'PROGRAMA DE OBRA'!H25 -> 0 | I27: ='BASE PRESUPUESTO'!O22*'PROGRAMA DE OBRA'!X25+('BASE PRESUPUESTO'!P22+'BASE PRESUPUESTO'!Q22+'BASE PRESUPUESTO'!R22)*'PROGRAMA DE OBRA'!I25 -> 907153.26 | J27: ='BASE PRESUPUESTO'!O22*'PROGRAMA DE OBRA'!Y25+('BASE PRESUPUESTO'!P22+'BASE PRESUPUESTO'!Q22+'BASE PRESUPUESTO'!R22)*'PROGRAMA DE OBRA'!J25 -> 732274.74 | K27: ='BASE PRESUPUESTO'!O22*'PROGRAMA DE OBRA'!Z25+('BASE PRESUPUESTO'!P22+'BASE PRESUPUESTO'!Q22+'BASE PRESUPUESTO'!R22)*'PROGRAMA DE OBRA'!K25 -> 0 | L27: =SUM(F27:K27) -> 1639428 | M27: =IF(E27=0,0,L27/E27) -> 1 | N27: ='BASE PRESUPUESTO'!O22*SUM('PROGRAMA DE OBRA'!U25:Z25) -> 907153.26 | O27: ='BASE PRESUPUESTO'!P22*SUM('PROGRAMA DE OBRA'!F25:K25) -> 496359.5 | P27: ='BASE PRESUPUESTO'!Q22*SUM('PROGRAMA DE OBRA'!F25:K25) -> 235915.24 | Q27: ='BASE PRESUPUESTO'!R22*SUM('PROGRAMA DE OBRA'!F25:K25) -> 0 | R27: ITEM | S27: ACUEDUCTO LA PAVA
A28: ='BASE PRESUPUESTO'!C23 -> 2.5 | B28: ='BASE PRESUPUESTO'!D23 -> CINTA CONFINAMIENTO MURO | C28: ='BASE PRESUPUESTO'!E23 -> ML | D28: ='BASE PRESUPUESTO'!F23 -> 28 | E28: ='BASE PRESUPUESTO'!H23 -> 1509004 | F28: ='BASE PRESUPUESTO'!O23*'PROGRAMA DE OBRA'!U26+('BASE PRESUPUESTO'!P23+'BASE PRESUPUESTO'!Q23+'BASE PRESUPUESTO'!R23)*'PROGRAMA DE OBRA'!F26 -> 0 | G28: ='BASE PRESUPUESTO'!O23*'PROGRAMA DE OBRA'!V26+('BASE PRESUPUESTO'!P23+'BASE PRESUPUESTO'!Q23+'BASE PRESUPUESTO'!R23)*'PROGRAMA DE OBRA'!G26 -> 0 | H28: ='BASE PRESUPUESTO'!O23*'PROGRAMA DE OBRA'!W26+('BASE PRESUPUESTO'!P23+'BASE PRESUPUESTO'!Q23+'BASE PRESUPUESTO'!R23)*'PROGRAMA DE OBRA'!H26 -> 0 | I28: ='BASE PRESUPUESTO'!O23*'PROGRAMA DE OBRA'!X26+('BASE PRESUPUESTO'!P23+'BASE PRESUPUESTO'!Q23+'BASE PRESUPUESTO'!R23)*'PROGRAMA DE OBRA'!I26 -> 0 | J28: ='BASE PRESUPUESTO'!O23*'PROGRAMA DE OBRA'!Y26+('BASE PRESUPUESTO'!P23+'BASE PRESUPUESTO'!Q23+'BASE PRESUPUESTO'!R23)*'PROGRAMA DE OBRA'!J26 -> 303122.2 | K28: ='BASE PRESUPUESTO'!O23*'PROGRAMA DE OBRA'!Z26+('BASE PRESUPUESTO'!P23+'BASE PRESUPUESTO'!Q23+'BASE PRESUPUESTO'!R23)*'PROGRAMA DE OBRA'!K26 -> 1205881.8 | L28: =SUM(F28:K28) -> 1509004 | M28: =IF(E28=0,0,L28/E28) -> 1 | N28: ='BASE PRESUPUESTO'!O23*SUM('PROGRAMA DE OBRA'!U26:Z26) -> 303122.2 | O28: ='BASE PRESUPUESTO'!P23*SUM('PROGRAMA DE OBRA'!F26:K26) -> 1182877.5 | P28: ='BASE PRESUPUESTO'!Q23*SUM('PROGRAMA DE OBRA'!F26:K26) -> 23004.278 | Q28: ='BASE PRESUPUESTO'!R23*SUM('PROGRAMA DE OBRA'!F26:K26) -> 0 | R28: ITEM | S28: ACUEDUCTO LA PAVA
A29: ='BASE PRESUPUESTO'!C24 -> 2.6 | B29: ='BASE PRESUPUESTO'!D24 -> ACERO REFUERZO FLEJADO 60000 PSI 420 Mpa | C29: ='BASE PRESUPUESTO'!E24 -> KLS | D29: ='BASE PRESUPUESTO'!F24 -> 250 | E29: ='BASE PRESUPUESTO'!H24 -> 1524500 | F29: ='BASE PRESUPUESTO'!O24*'PROGRAMA DE OBRA'!U27+('BASE PRESUPUESTO'!P24+'BASE PRESUPUESTO'!Q24+'BASE PRESUPUESTO'!R24)*'PROGRAMA DE OBRA'!F27 -> 0 | G29: ='BASE PRESUPUESTO'!O24*'PROGRAMA DE OBRA'!V27+('BASE PRESUPUESTO'!P24+'BASE PRESUPUESTO'!Q24+'BASE PRESUPUESTO'!R24)*'PROGRAMA DE OBRA'!G27 -> 0 | H29: ='BASE PRESUPUESTO'!O24*'PROGRAMA DE OBRA'!W27+('BASE PRESUPUESTO'!P24+'BASE PRESUPUESTO'!Q24+'BASE PRESUPUESTO'!R24)*'PROGRAMA DE OBRA'!H27 -> 1231351 | I29: ='BASE PRESUPUESTO'!O24*'PROGRAMA DE OBRA'!X27+('BASE PRESUPUESTO'!P24+'BASE PRESUPUESTO'!Q24+'BASE PRESUPUESTO'!R24)*'PROGRAMA DE OBRA'!I27 -> 293149.04 | J29: ='BASE PRESUPUESTO'!O24*'PROGRAMA DE OBRA'!Y27+('BASE PRESUPUESTO'!P24+'BASE PRESUPUESTO'!Q24+'BASE PRESUPUESTO'!R24)*'PROGRAMA DE OBRA'!J27 -> 0 | K29: ='BASE PRESUPUESTO'!O24*'PROGRAMA DE OBRA'!Z27+('BASE PRESUPUESTO'!P24+'BASE PRESUPUESTO'!Q24+'BASE PRESUPUESTO'!R24)*'PROGRAMA DE OBRA'!K27 -> 0 | L29: =SUM(F29:K29) -> 1524500 | M29: =IF(E29=0,0,L29/E29) -> 1 | N29: ='BASE PRESUPUESTO'!O24*SUM('PROGRAMA DE OBRA'!U27:Z27) -> 1231351 | O29: ='BASE PRESUPUESTO'!P24*SUM('PROGRAMA DE OBRA'!F27:K27) -> 293149.04 | P29: ='BASE PRESUPUESTO'!Q24*SUM('PROGRAMA DE OBRA'!F27:K27) -> 0 | Q29: ='BASE PRESUPUESTO'!R24*SUM('PROGRAMA DE OBRA'!F27:K27) -> 0 | R29: ITEM | S29: ACUEDUCTO LA PAVA
A30: ='BASE PRESUPUESTO'!C25 -> 2.7 | B30: ='BASE PRESUPUESTO'!D25 -> POSTE TUBO GALV. 1 1/2"X3.0MM C.11 | C30: ='BASE PRESUPUESTO'!E25 -> ML | D30: ='BASE PRESUPUESTO'!F25 -> 36 | E30: ='BASE PRESUPUESTO'!H25 -> 1952352 | F30: ='BASE PRESUPUESTO'!O25*'PROGRAMA DE OBRA'!U28+('BASE PRESUPUESTO'!P25+'BASE PRESUPUESTO'!Q25+'BASE PRESUPUESTO'!R25)*'PROGRAMA DE OBRA'!F28 -> 0 | G30: ='BASE PRESUPUESTO'!O25*'PROGRAMA DE OBRA'!V28+('BASE PRESUPUESTO'!P25+'BASE PRESUPUESTO'!Q25+'BASE PRESUPUESTO'!R25)*'PROGRAMA DE OBRA'!G28 -> 0 | H30: ='BASE PRESUPUESTO'!O25*'PROGRAMA DE OBRA'!W28+('BASE PRESUPUESTO'!P25+'BASE PRESUPUESTO'!Q25+'BASE PRESUPUESTO'!R25)*'PROGRAMA DE OBRA'!H28 -> 0 | I30: ='BASE PRESUPUESTO'!O25*'PROGRAMA DE OBRA'!X28+('BASE PRESUPUESTO'!P25+'BASE PRESUPUESTO'!Q25+'BASE PRESUPUESTO'!R25)*'PROGRAMA DE OBRA'!I28 -> 0 | J30: ='BASE PRESUPUESTO'!O25*'PROGRAMA DE OBRA'!Y28+('BASE PRESUPUESTO'!P25+'BASE PRESUPUESTO'!Q25+'BASE PRESUPUESTO'!R25)*'PROGRAMA DE OBRA'!J28 -> 840057.76 | K30: ='BASE PRESUPUESTO'!O25*'PROGRAMA DE OBRA'!Z28+('BASE PRESUPUESTO'!P25+'BASE PRESUPUESTO'!Q25+'BASE PRESUPUESTO'!R25)*'PROGRAMA DE OBRA'!K28 -> 1112294.2 | L30: =SUM(F30:K30) -> 1952352 | M30: =IF(E30=0,0,L30/E30) -> 1 | N30: ='BASE PRESUPUESTO'!O25*SUM('PROGRAMA DE OBRA'!U28:Z28) -> 840057.76 | O30: ='BASE PRESUPUESTO'!P25*SUM('PROGRAMA DE OBRA'!F28:K28) -> 721022.84 | P30: ='BASE PRESUPUESTO'!Q25*SUM('PROGRAMA DE OBRA'!F28:K28) -> 391271.4 | Q30: ='BASE PRESUPUESTO'!R25*SUM('PROGRAMA DE OBRA'!F28:K28) -> 0 | R30: ITEM | S30: ACUEDUCTO LA PAVA
A31: ='BASE PRESUPUESTO'!C26 -> 2.8 | B31: ='BASE PRESUPUESTO'!D26 -> ESMALTE SOBRE TUBERIA METALICA-PVC | C31: ='BASE PRESUPUESTO'!E26 -> ML | D31: ='BASE PRESUPUESTO'!F26 -> 36 | E31: ='BASE PRESUPUESTO'!H26 -> 741636 | F31: ='BASE PRESUPUESTO'!O26*'PROGRAMA DE OBRA'!U29+('BASE PRESUPUESTO'!P26+'BASE PRESUPUESTO'!Q26+'BASE PRESUPUESTO'!R26)*'PROGRAMA DE OBRA'!F29 -> 0 | G31: ='BASE PRESUPUESTO'!O26*'PROGRAMA DE OBRA'!V29+('BASE PRESUPUESTO'!P26+'BASE PRESUPUESTO'!Q26+'BASE PRESUPUESTO'!R26)*'PROGRAMA DE OBRA'!G29 -> 0 | H31: ='BASE PRESUPUESTO'!O26*'PROGRAMA DE OBRA'!W29+('BASE PRESUPUESTO'!P26+'BASE PRESUPUESTO'!Q26+'BASE PRESUPUESTO'!R26)*'PROGRAMA DE OBRA'!H29 -> 0 | I31: ='BASE PRESUPUESTO'!O26*'PROGRAMA DE OBRA'!X29+('BASE PRESUPUESTO'!P26+'BASE PRESUPUESTO'!Q26+'BASE PRESUPUESTO'!R26)*'PROGRAMA DE OBRA'!I29 -> 0 | J31: ='BASE PRESUPUESTO'!O26*'PROGRAMA DE OBRA'!Y29+('BASE PRESUPUESTO'!P26+'BASE PRESUPUESTO'!Q26+'BASE PRESUPUESTO'!R26)*'PROGRAMA DE OBRA'!J29 -> 0 | K31: ='BASE PRESUPUESTO'!O26*'PROGRAMA DE OBRA'!Z29+('BASE PRESUPUESTO'!P26+'BASE PRESUPUESTO'!Q26+'BASE PRESUPUESTO'!R26)*'PROGRAMA DE OBRA'!K29 -> 0 | L31: =SUM(F31:K31) -> 0 | M31: =IF(E31=0,0,L31/E31) -> 0 | N31: ='BASE PRESUPUESTO'!O26*SUM('PROGRAMA DE OBRA'!U29:Z29) -> 0 | O31: ='BASE PRESUPUESTO'!P26*SUM('PROGRAMA DE OBRA'!F29:K29) -> 0 | P31: ='BASE PRESUPUESTO'!Q26*SUM('PROGRAMA DE OBRA'!F29:K29) -> 0 | Q31: ='BASE PRESUPUESTO'!R26*SUM('PROGRAMA DE OBRA'!F29:K29) -> 0 | R31: ITEM | S31: ACUEDUCTO LA PAVA
A32: ='BASE PRESUPUESTO'!C27 -> 2.9 | B32: ='BASE PRESUPUESTO'!D27 -> MALLA ESLABONADA GALV# 10 ROMBO 2" | C32: ='BASE PRESUPUESTO'!E27 -> M2 | D32: ='BASE PRESUPUESTO'!F27 -> 56 | E32: ='BASE PRESUPUESTO'!H27 -> 2696904 | F32: ='BASE PRESUPUESTO'!O27*'PROGRAMA DE OBRA'!U30+('BASE PRESUPUESTO'!P27+'BASE PRESUPUESTO'!Q27+'BASE PRESUPUESTO'!R27)*'PROGRAMA DE OBRA'!F30 -> 0 | G32: ='BASE PRESUPUESTO'!O27*'PROGRAMA DE OBRA'!V30+('BASE PRESUPUESTO'!P27+'BASE PRESUPUESTO'!Q27+'BASE PRESUPUESTO'!R27)*'PROGRAMA DE OBRA'!G30 -> 0 | H32: ='BASE PRESUPUESTO'!O27*'PROGRAMA DE OBRA'!W30+('BASE PRESUPUESTO'!P27+'BASE PRESUPUESTO'!Q27+'BASE PRESUPUESTO'!R27)*'PROGRAMA DE OBRA'!H30 -> 0 | I32: ='BASE PRESUPUESTO'!O27*'PROGRAMA DE OBRA'!X30+('BASE PRESUPUESTO'!P27+'BASE PRESUPUESTO'!Q27+'BASE PRESUPUESTO'!R27)*'PROGRAMA DE OBRA'!I30 -> 0 | J32: ='BASE PRESUPUESTO'!O27*'PROGRAMA DE OBRA'!Y30+('BASE PRESUPUESTO'!P27+'BASE PRESUPUESTO'!Q27+'BASE PRESUPUESTO'!R27)*'PROGRAMA DE OBRA'!J30 -> 0 | K32: ='BASE PRESUPUESTO'!O27*'PROGRAMA DE OBRA'!Z30+('BASE PRESUPUESTO'!P27+'BASE PRESUPUESTO'!Q27+'BASE PRESUPUESTO'!R27)*'PROGRAMA DE OBRA'!K30 -> 1573340.7 | L32: =SUM(F32:K32) -> 1573340.7 | M32: =IF(E32=0,0,L32/E32) -> 0.58338771 | N32: ='BASE PRESUPUESTO'!O27*SUM('PROGRAMA DE OBRA'!U30:Z30) -> 1573340.7 | O32: ='BASE PRESUPUESTO'!P27*SUM('PROGRAMA DE OBRA'!F30:K30) -> 0 | P32: ='BASE PRESUPUESTO'!Q27*SUM('PROGRAMA DE OBRA'!F30:K30) -> 0 | Q32: ='BASE PRESUPUESTO'!R27*SUM('PROGRAMA DE OBRA'!F30:K30) -> 0 | R32: ITEM | S32: ACUEDUCTO LA PAVA
... A42: ='BASE PRESUPUESTO'!C37 -> 2.19 | B42: ='BASE PRESUPUESTO'!D37 -> ADECUACION DESARENADOR, CONSTRUCCION PANTALLA DEFLECTORA, CANAL RECOLECTOR SALIDA | C42: ='BASE PRESUPUESTO'!E37 -> GLB | D42: ='BASE PRESUPUESTO'!F37 -> 1 | E42: ='BASE PRESUPUESTO'!H37 -> 1538871 | F42: ='BASE PRESUPUESTO'!O37*'PROGRAMA DE OBRA'!U40+('BASE PRESUPUESTO'!P37+'BASE PRESUPUESTO'!Q37+'BASE PRESUPUESTO'!R37)*'PROGRAMA DE OBRA'!F40 -> 0 | G42: ='BASE PRESUPUESTO'!O37*'PROGRAMA DE OBRA'!V40+('BASE PRESUPUESTO'!P37+'BASE PRESUPUESTO'!Q37+'BASE PRESUPUESTO'!R37)*'PROGRAMA DE OBRA'!G40 -> 357305.62 | H42: ='BASE PRESUPUESTO'!O37*'PROGRAMA DE OBRA'!W40+('BASE PRESUPUESTO'!P37+'BASE PRESUPUESTO'!Q37+'BASE PRESUPUESTO'!R37)*'PROGRAMA DE OBRA'!H40 -> 590782.69 | I42: ='BASE PRESUPUESTO'!O37*'PROGRAMA DE OBRA'!X40+('BASE PRESUPUESTO'!P37+'BASE PRESUPUESTO'!Q37+'BASE PRESUPUESTO'!R37)*'PROGRAMA DE OBRA'!I40 -> 590782.69 | J42: ='BASE PRESUPUESTO'!O37*'PROGRAMA DE OBRA'!Y40+('BASE PRESUPUESTO'!P37+'BASE PRESUPUESTO'!Q37+'BASE PRESUPUESTO'!R37)*'PROGRAMA DE OBRA'!J40 -> 0 | K42: ='BASE PRESUPUESTO'!O37*'PROGRAMA DE OBRA'!Z40+('BASE PRESUPUESTO'!P37+'BASE PRESUPUESTO'!Q37+'BASE PRESUPUESTO'!R37)*'PROGRAMA DE OBRA'!K40 -> 0 | L42: =SUM(F42:K42) -> 1538871 | M42: =IF(E42=0,0,L42/E42) -> 1 | N42: ='BASE PRESUPUESTO'!O37*SUM('PROGRAMA DE OBRA'!U40:Z40) -> 357305.62 | O42: ='BASE PRESUPUESTO'!P37*SUM('PROGRAMA DE OBRA'!F40:K40) -> 1180720.4 | P42: ='BASE PRESUPUESTO'!Q37*SUM('PROGRAMA DE OBRA'!F40:K40) -> 845.00027 | Q42: ='BASE PRESUPUESTO'!R37*SUM('PROGRAMA DE OBRA'!F40:K40) -> 0 | R42: ITEM | S42: ACUEDUCTO LA PAVA
A43: SUBTOTAL ACUEDUCTO LA PAVA | E43: =SUM(E21:E42) -> 27956091 | F43: =SUM(F21:F42) -> 12990.031 | G43: =SUM(G21:G42) -> 2808859.7 | H43: =SUM(H21:H42) -> 6964022.5 | I43: =SUM(I21:I42) -> 3785350.8 | J43: =SUM(J21:J42) -> 3646158.8 | K43: =SUM(K21:K42) -> 5591958.4 | L43: =SUM(L21:L42) -> 22809340 | M43: =IF(E43=0,0,L43/E43) -> 0.81589877 | N43: =SUM(N21:N42) -> 8646284.5 | O43: =SUM(O21:O42) -> 9878459.9 | P43: =SUM(P21:P42) -> 900992.4 | Q43: =SUM(Q21:Q42) -> 3383603.5 | R43: SUB
A45: ACUEDUCTO SAN GERARDO ALTO
A46: ='BASE PRESUPUESTO'!C38 -> 1.1 | B46: ='BASE PRESUPUESTO'!D38 -> LOCALIZACION-REPLANTEO CERRAMIENTO-VARIO | C46: ='BASE PRESUPUESTO'!E38 -> ML | D46: ='BASE PRESUPUESTO'!F38 -> 26.2 | E46: ='BASE PRESUPUESTO'!H38 -> 79753 | F46: ='BASE PRESUPUESTO'!O38*'PROGRAMA DE OBRA'!U42+('BASE PRESUPUESTO'!P38+'BASE PRESUPUESTO'!Q38+'BASE PRESUPUESTO'!R38)*'PROGRAMA DE OBRA'!F42 -> 0 | G46: ='BASE PRESUPUESTO'!O38*'PROGRAMA DE OBRA'!V42+('BASE PRESUPUESTO'!P38+'BASE PRESUPUESTO'!Q38+'BASE PRESUPUESTO'!R38)*'PROGRAMA DE OBRA'!G42 -> 11735.851 | H46: ='BASE PRESUPUESTO'!O38*'PROGRAMA DE OBRA'!W42+('BASE PRESUPUESTO'!P38+'BASE PRESUPUESTO'!Q38+'BASE PRESUPUESTO'!R38)*'PROGRAMA DE OBRA'!H42 -> 68017.149 | I46: ='BASE PRESUPUESTO'!O38*'PROGRAMA DE OBRA'!X42+('BASE PRESUPUESTO'!P38+'BASE PRESUPUESTO'!Q38+'BASE PRESUPUESTO'!R38)*'PROGRAMA DE OBRA'!I42 -> 0 | J46: ='BASE PRESUPUESTO'!O38*'PROGRAMA DE OBRA'!Y42+('BASE PRESUPUESTO'!P38+'BASE PRESUPUESTO'!Q38+'BASE PRESUPUESTO'!R38)*'PROGRAMA DE OBRA'!J42 -> 0 | K46: ='BASE PRESUPUESTO'!O38*'PROGRAMA DE OBRA'!Z42+('BASE PRESUPUESTO'!P38+'BASE PRESUPUESTO'!Q38+'BASE PRESUPUESTO'!R38)*'PROGRAMA DE OBRA'!K42 -> 0 | L46: =SUM(F46:K46) -> 79753 | M46: =IF(E46=0,0,L46/E46) -> 1 | N46: ='BASE PRESUPUESTO'!O38*SUM('PROGRAMA DE OBRA'!U42:Z42) -> 11735.851 | O46: ='BASE PRESUPUESTO'!P38*SUM('PROGRAMA DE OBRA'!F42:K42) -> 58544.265 | P46: ='BASE PRESUPUESTO'!Q38*SUM('PROGRAMA DE OBRA'!F42:K42) -> 9472.884 | Q46: ='BASE PRESUPUESTO'!R38*SUM('PROGRAMA DE OBRA'!F42:K42) -> 0 | R46: ITEM | S46: ACUEDUCTO SAN GERARDO ALTO
A47: ='BASE PRESUPUESTO'!C39 -> 1.2 | B47: ='BASE PRESUPUESTO'!D39 -> EXCAVACION EN CONGLOMERADO (MANUAL) | C47: ='BASE PRESUPUESTO'!E39 -> M3 | D47: ='BASE PRESUPUESTO'!F39 -> 6.765 | E47: ='BASE PRESUPUESTO'!H39 -> 316433 | F47: ='BASE PRESUPUESTO'!O39*'PROGRAMA DE OBRA'!U43+('BASE PRESUPUESTO'!P39+'BASE PRESUPUESTO'!Q39+'BASE PRESUPUESTO'!R39)*'PROGRAMA DE OBRA'!F43 -> 0 | G47: ='BASE PRESUPUESTO'!O39*'PROGRAMA DE OBRA'!V43+('BASE PRESUPUESTO'!P39+'BASE PRESUPUESTO'!Q39+'BASE PRESUPUESTO'!R39)*'PROGRAMA DE OBRA'!G43 -> 0 | H47: ='BASE PRESUPUESTO'!O39*'PROGRAMA DE OBRA'!W43+('BASE PRESUPUESTO'!P39+'BASE PRESUPUESTO'!Q39+'BASE PRESUPUESTO'!R39)*'PROGRAMA DE OBRA'!H43 -> 316433 | I47: ='BASE PRESUPUESTO'!O39*'PROGRAMA DE OBRA'!X43+('BASE PRESUPUESTO'!P39+'BASE PRESUPUESTO'!Q39+'BASE PRESUPUESTO'!R39)*'PROGRAMA DE OBRA'!I43 -> 0 | J47: ='BASE PRESUPUESTO'!O39*'PROGRAMA DE OBRA'!Y43+('BASE PRESUPUESTO'!P39+'BASE PRESUPUESTO'!Q39+'BASE PRESUPUESTO'!R39)*'PROGRAMA DE OBRA'!J43 -> 0 | K47: ='BASE PRESUPUESTO'!O39*'PROGRAMA DE OBRA'!Z43+('BASE PRESUPUESTO'!P39+'BASE PRESUPUESTO'!Q39+'BASE PRESUPUESTO'!R39)*'PROGRAMA DE OBRA'!K43 -> 0 | L47: =SUM(F47:K47) -> 316433 | M47: =IF(E47=0,0,L47/E47) -> 1 | N47: ='BASE PRESUPUESTO'!O39*SUM('PROGRAMA DE OBRA'!U43:Z43) -> 0 | O47: ='BASE PRESUPUESTO'!P39*SUM('PROGRAMA DE OBRA'!F43:K43) -> 305737.23 | P47: ='BASE PRESUPUESTO'!Q39*SUM('PROGRAMA DE OBRA'!F43:K43) -> 10695.767 | Q47: ='BASE PRESUPUESTO'!R39*SUM('PROGRAMA DE OBRA'!F43:K43) -> 0 | R47: ITEM | S47: ACUEDUCTO SAN GERARDO ALTO
