Workbook
Name CABEZ: #REF!
Name CABEZ: #REF!
Name CABEZ: #REF!
Name CABEZ: #REF!
Name CABEZ: #REF!
Name CABEZ: #REF!
Name CABEZ: #REF!
Name CABEZ: #REF!
Name CABEZ: #REF!
Name CABEZ: #REF!
Name CABEZ: #REF!
Name CABEZ: #REF!
Name CABEZ: #REF!
Name CABEZ: #REF!
Name CABEZ: #REF!
Name CABEZ: #REF!
Name CABEZ: #REF!
Name CABEZ: #REF!
Name CABEZ: #REF!
Name CABEZ: #REF!
Name CABEZ: #REF!
Name CABEZ: #REF!
Name CABEZ: #REF!
Name CABEZ: #REF!
Name CABEZ: #REF!
Name CABEZ: #REF!
Name PAGINA_1_DE_1: #REF!
Name PAGINA_1_DE_1: #REF!
Name PAGINA_1_DE_1: #REF!
Name PAGINA_1_DE_1: #REF!
Name PAGINA_1_DE_1: #REF!
Name PAGINA_1_DE_1: #REF!
Name PAGINA_1_DE_1: #REF!
Name PAGINA_1_DE_1: #REF!
Name PAGINA_1_DE_1: #REF!
Name PAGINA_1_DE_1: #REF!
Name PAGINA_1_DE_1: #REF!
Name PAGINA_1_DE_1: #REF!
Name PAGINA_1_DE_1: #REF!
Name PAGINA_1_DE_1: #REF!
Name PAGINA_1_DE_1: #REF!
Name PAGINA_1_DE_1: #REF!
Name PAGINA_1_DE_1: #REF!
Name PAGINA_1_DE_1: #REF!
Name PAGINA_1_DE_1: #REF!
Name PAGINA_1_DE_1: #REF!
Name PAGINA_1_DE_1: #REF!
Name PAGINA_1_DE_1: #REF!
Name PAGINA_1_DE_1: #REF!
Name PAGINA_1_DE_1: #REF!
Name PAGINA_1_DE_1: #REF!
Name PAGINA_1_DE_1: #REF!
Name Summary: #REF!
Name Summary: #REF!
Name Summary: #REF!
Name Summary: #REF!
Name Summary: #REF!
Name Summary: #REF!
Name Summary: #REF!
Name Summary: #REF!

Sheet PRESUPUESTO
D1: PLANEACIÓN DE OBRAS PÚBLICAS | F1: Código | G1: PM-GOP-PR-01
F2: Versión | G2: 3
D3: PRESUPUESTO DE CANTIDADES | F3: Fecha | G3: 43087
A4: PRESUPUESTO GENERAL
A5: OBJETO: CONSTRUCCIÓN, OPTIMIZACIÓN Y MANTENIMIENTO DEL SISTEMA DE ABASTECIMIENTO DE AGUA POTABLE QUE GARANTICEN LA CONTINUIDAD, CALIDAD Y EFICIENCIA EN LA PRESTACIÓN DEL SERVICIO PÚBLICO DE ACUEDUCTO URBANO EN EL MUNICIPIO DE SÁCAMA CASANARE
A9: CONDICIONES CONTRACTUALES INICIALES
A10: ITEM | C10: DESCRIPCION ELEMENTOS | E10: UNIDAD | F10: CANT | G10: VALOR UNITARIO | H10: VALOR TOTAL
A11: ACUEDUCTO URBANO
A12: 1 | B12: GOB | C12: BOCATOMA | H12: =SUM(H13:H28) -> 70695762
A13: 1.1 | B13: 8115 | C13: Limpieza, raspado y lavado de placas, muros, pisos en concreto existente | E13: M2 | F13: =+'1,1'!M19 -> 137.16692 | G13: 6680 | H13: =F13*G13 -> 916275
A14: 1.2 | B14: 4581 | C14: Recubrimieno impermeable para muros, dos capas | E14: M2 | F14: =+'1,2'!M19 -> 126.06692 | G14: 35855 | H14: =F14*G14 -> 4520129.3
A15: 1.3 | B15: 2863 | C15: Rejilla para sumidero o carcamo con marco y contramarco A=0.50 m. Suministro e Instal. | E15: M | F15: =+'1,3'!M19 -> 1 | G15: 544730 | H15: =F15*G15 -> 544730
A16: 1.4 | B16: 324 | C16: Excavacion a mano en material comun | E16: M3 | F16: =+'1,4'!M18 -> 56.25 | G16: 63831 | H16: =F16*G16 -> 3590493.8
A17: 1.5 | B17: 372 | C17: Retiro de tuberia existente de acueducto PVC Ø 3" | E17: M | F17: =+'1,5'!M20 -> 150 | G17: 3543 | H17: =F17*G17 -> 531450
A18: 1.6 | B18: 5988 | C18: Relleno de excavacion (con material local) | E18: M3 | F18: =+'1,6'!M20 -> 24 | G18: 28917 | H18: =F18*G18 -> 694008
A19: 1.7 | B19: 2186 | C19: Union universal PVC Ø=4". Suministro e Instal. | E19: UND | F19: =+'1,7'!M19 -> 4 | G19: 435017 | H19: =F19*G19 -> 1740068
A20: 1.8 | B20: 8247 | C20: Tuberia de Polietileno PE 100 RDE 11 Ø=110 mm = 4" clase 200 | E20: M | F20: =+'1,8'!M20 -> 150 | G20: 102885 | H20: =F20*G20 -> 15432750
A21: 1.9 | B21: 1972 | C21: Picado superficie placa de piso en concreto o cancha con retiro de sobrantes | E21: M2 | F21: =+'1,9'!M20 -> 118.75 | G21: 17554 | H21: =F21*G21 -> 2084537.5
A22: 1.1 | B22: 5362 | C22: Concreto ciclopeo de resistencia 2500 psi | E22: M3 | F22: =+'1,10'!M19 -> 18.75 | G22: 593362 | H22: =F22*G22 -> 11125538
A23: 1.11 | B23: 7192 | C23: Placa base en concreto impermeabilizado 3000 psi e=0.10 m reforzada con malla Q-5 y polietileno cal. 8 | E23: M2 | F23: =+'1,11'!M21 -> 157.8125 | G23: 129862 | H23: =F23*G23 -> 20493847
A24: 1.12 | B24: 5217 | C24: Relleno con material crudo de rio sin seleccionar (conformacion, riego y compactacion) con transp. | E24: M3 | F24: =+'1,12'!M20 -> 11.25 | G24: 67157 | H24: =F24*G24 -> 755516.25
A25: 1.13 | B25: 1888 | C25: Mediacaña mortero imp 1:3 esmaltado 0.12 x 0.12 m | E25: M | F25: =+'1,13'!M21 -> 22.5 | G25: 48923 | H25: =F25*G25 -> 1100767.5
A26: 1.14 | B26: 336 | C26: Muro en concreto 3000 psi impermeabilizado de resistencia 210 kg/cm². | E26: M3 | F26: =+'1,14'!M21 -> 2 | G26: 1616184 | H26: =F26*G26 -> 3232368
A27: 1.15 | B27: 5067 | C27: Acero de Refuerzo Grado 60 | E27: KG | F27: =+'1,15'!N21 -> 152.12328 | G27: 7632 | H27: =F27*G27 -> 1161004.8
A28: 1.16 | B28: 2269 | C28: Lamina en acero inoxidable C.16 con anclaje. Suministro e Instal. | E28: M2 | F28: =+'1,16'!M21 -> 6.125 | G28: 452617 | H28: =F28*G28 -> 2772279.1
A29: 2 | C29: DESARENADOR | H29: =SUM(H30:H31) -> 9917543
A30: 2.1 | B30: 8115 | C30: Limpieza, raspado y lavado de placas, muros, pisos en concreto existente | E30: M2 | F30: =+'2,1'!M33 -> 370.205 | G30: 6680 | H30: =F30*G30 -> 2472969.4
A31: 2.2 | B31: 4581 | C31: Recubrimieno impermeable para muros, dos capas | E31: M2 | F31: =+'2,2'!M27 -> 207.63 | G31: 35855 | H31: =F31*G31 -> 7444573.6
A32: 3 | C32: APARATOS DE MEDICION | H32: =SUM(H33:H35) -> 17081752
A33: 3.1 | B33: 7011 | C33: Valvula de mariposa en HD Ø 6" wafer con disco en acero inoxidable con actuador tipo palanca. Suministro e Instal. | E33: UND | F33: =+'3,1'!M19 -> 5 | G33: 1054383 | H33: =F33*G33 -> 5271915
A34: 3.2 | B34: 2352 | C34: Estación macromedidora Ø=4" con accesorios. Suministro e Instal.. | E34: UND | F34: =+'3,2'!M18 -> 2 | G34: 5204034 | H34: =F34*G34 -> 10408068
A35: 3.3 | B35: 2460 | C35: Estación macromedidora Ø=2" con accesorios. Suministro e Instal.. | E35: UND | F35: =+'3,3'!M20 -> 1 | G35: 1401769 | H35: =F35*G35 -> 1401769
A36: 4 | C36: TRATAMIENTO DE AGUA POTABLE | H36: =SUM(H37:H40) -> 14737586
A37: 4.1 | B37: 3254 | C37: Lavado y desinfeccion de placa - muros para tanques | E37: M2 | F37: =+'4,1'!M21 -> 203.18 | G37: 9924 | H37: =F37*G37 -> 2016358.3
A38: 4.2 | B38: 4581 | C38: Recubrimieno impermeable para muros, dos capas | E38: M2 | F38: =+'4,2'!M21 -> 203.18 | G38: 35855 | H38: =F38*G38 -> 7285018.9
A39: 4.3 | B39: 5420 | C39: Grava 1/2" - 1/4" para filtros. Suministro e Instal. | E39: M3 | F39: =+'4,3'!M20 -> 5.4613934 | G39: 678463 | H39: =F39*G39 -> 3705353.4
A40: 4.4 | B40: 5.418 | C40: Arena silice malla 20 - 40 para filtros. Suministro e Instal. | E40: M3 | F40: =+'4,4'!M20 -> 2.2619467 | G40: 765206 | H40: =F40*G40 -> 1730855.2
C41: COSTOS DIRECTOS | H41: =H12+H29+H32+H36 -> 1.1243264e+08
C42: AIU | G42: =SUM(G43:G45) -> 0.3 | H42: =SUM(H43:H45) -> 33729793
C43: ADMINISTRACION | G43: 0.25 | H43: =$H$41*$G43 -> 28108161
...

Sheet 1,1
C1: CONTRATO DE OBRA No. | F1: CONTRATO DE INTERVENTORIA No.
C2: CONTRATISTA: | F2: CONTRATISTA:
C3: =+PRESUPUESTO!A5 -> OBJETO: CONSTRUCCIÓN, OPTIMIZACIÓN Y MANTENIMIENTO DEL SISTEMA DE ABASTECIMIENTO DE AGUA POTABLE QUE GARANTICEN LA CONTINUIDAD, CALIDAD Y EFICIENCIA EN LA PRESTACIÓN DEL SERVICIO PÚBLICO DE ACUEDUCTO URBANO EN EL MUNICIPIO DE SÁCAMA CASANARE
C5: OSCAR JAVIER CUESTA SILVA | F5: SECRETARIO DE PLANEACION Y OBRAS PUBLICAS
A6: MEMORIAS DE CANTIDADES DE OBRA
A8: Ítem | B8: Actividad | E8: Unidad | F8: DESCRIPCION Y UBICACIÓN DE LA ACTIVIDAD | I8: LONGITUD | J8: ANCHO | K8: ALTO | L8: CANT | M8: TOTAL
A9: =+PRESUPUESTO!A13 -> 1.1 | B9: =+PRESUPUESTO!C13 -> Limpieza, raspado y lavado de placas, muros, pisos en concreto existente | E9: =+PRESUPUESTO!E13 -> M2
A10: Imagen de Referencia
F11: Bocatoma
F12: Muros Laterales | I12: =9.4+1.7 -> 11.1 | J12: 0.23 | K12: =1.3+0.5 -> 1.8 | L12: 2 | M12: =I12*(J12+K12)*L12 -> 45.066
F13: Placa Fondo Piso | I13: 3.7 | J13: 12.5 | K13: 9.4 | L13: 1 | M13: =(((I13+J13)*K13)/2)*L13 -> 76.14
F14: Muro Frontal Captacion | I14: 4 | J14: 0.74210387 | K14: =0.3+0.37+0.75 -> 1.42 | L14: 1 | M14: =I14*(J14+K14)*L14 -> 8.6484155
F15: Paredes Caja De Captacion | I15: 1.25 | J15: 1.25 | K15: 1.15 | L15: 1 | M15: =(I15+J15+I15+J15)*K15*L15 -> 5.75
F16: Placa Fondo Caja | I16: =+I15 -> 1.25 | J16: =+J15 -> 1.25 | L16: 1 | M16: =I16*(J16+K16)*L16 -> 1.5625
F19: TOTAL | M19: =SUM(M11:M18) -> 137.16692
A21: OBSERVACIONES: | I21: CANTIDAD CONTRATUAL | M21: =+M19 -> 137.16692
J23: CANTIDAD PRESENTA ACTA
B26: Elaboró: | G26: Revisó:
B30: Olneider Diaz Mayorga | G30: Oscar Javier cuesta Silva
B31: Profesional de apoyo. | G31: Secretario de Planeacion

Sheet 1,2
C1: CONTRATO DE OBRA No. | F1: CONTRATO DE INTERVENTORIA No.
C2: CONTRATISTA: | F2: CONTRATISTA:
C3: =+PRESUPUESTO!A5 -> OBJETO: CONSTRUCCIÓN, OPTIMIZACIÓN Y MANTENIMIENTO DEL SISTEMA DE ABASTECIMIENTO DE AGUA POTABLE QUE GARANTICEN LA CONTINUIDAD, CALIDAD Y EFICIENCIA EN LA PRESTACIÓN DEL SERVICIO PÚBLICO DE ACUEDUCTO URBANO EN EL MUNICIPIO DE SÁCAMA CASANARE
C5: OSCAR JAVIER CUESTA SILVA | F5: SECRETARIO DE PLANEACION Y OBRAS PUBLICAS
A6: MEMORIAS DE CANTIDADES DE OBRA
A8: Ítem | B8: Actividad | E8: Unidad | F8: DESCRIPCION Y UBICACIÓN DE LA ACTIVIDAD | I8: LONGITUD | J8: ANCHO | K8: ALTO | L8: CANT | M8: TOTAL
A9: =+PRESUPUESTO!A14 -> 1.2 | B9: =+PRESUPUESTO!C14 -> Recubrimieno impermeable para muros, dos capas | E9: =+PRESUPUESTO!E14 -> M2
A10: Imagen de Referencia
F11: =+'1,1'!F11:H11 -> Bocatoma
F12: =+'1,1'!F12:H12 -> Muros Laterales | I12: =+'1,1'!I12 -> 11.1 | J12: =+'1,1'!J12 -> 0.23 | K12: =+'1,1'!K12-0.5 -> 1.3 | L12: =+'1,1'!L12 -> 2 | M12: =I12*(J12+K12)*L12 -> 33.966
F13: =+'1,1'!F13:H13 -> Placa Fondo Piso | I13: =+'1,1'!I13 -> 3.7 | J13: =+'1,1'!J13 -> 12.5 | K13: =+'1,1'!K13 -> 9.4 | L13: =+'1,1'!L13 -> 1 | M13: =(((I13+J13)*K13)/2)*L13 -> 76.14
F14: =+'1,1'!F14:H14 -> Muro Frontal Captacion | I14: =+'1,1'!I14 -> 4 | J14: =+'1,1'!J14 -> 0.74210387 | K14: =+'1,1'!K14 -> 1.42 | L14: =+'1,1'!L14 -> 1 | M14: =I14*(J14+K14)*L14 -> 8.6484155
F15: =+'1,1'!F15:H15 -> Paredes Caja De Captacion | I15: =+'1,1'!I15 -> 1.25 | J15: =+'1,1'!J15 -> 1.25 | K15: =+'1,1'!K15 -> 1.15 | L15: =+'1,1'!L15 -> 1 | M15: =(I15+J15+I15+J15)*K15*L15 -> 5.75
F16: =+'1,1'!F16:H16 -> Placa Fondo Caja | I16: =+'1,1'!I16 -> 1.25 | J16: =+'1,1'!J16 -> 1.25 | K16: =+'1,1'!K16 -> 0 | L16: =+'1,1'!L16 -> 1 | M16: =I16*(J16+K16)*L16 -> 1.5625
F19: TOTAL | M19: =SUM(M11:M18) -> 126.06692
A21: OBSERVACIONES: | I21: CANTIDAD CONTRATUAL | M21: =+M19 -> 126.06692
J23: CANTIDAD PRESENTA ACTA
B26: Elaboró: | G26: Revisó:
B30: Olneider Diaz Mayorga | G30: Oscar Javier cuesta Silva
B31: Profesional de apoyo. | G31: Secretario de Planeacion

Sheet 1,3
C1: CONTRATO DE OBRA No. | F1: CONTRATO DE INTERVENTORIA No.
C2: CONTRATISTA: | F2: CONTRATISTA:
C3: =+PRESUPUESTO!A5 -> OBJETO: CONSTRUCCIÓN, OPTIMIZACIÓN Y MANTENIMIENTO DEL SISTEMA DE ABASTECIMIENTO DE AGUA POTABLE QUE GARANTICEN LA CONTINUIDAD, CALIDAD Y EFICIENCIA EN LA PRESTACIÓN DEL SERVICIO PÚBLICO DE ACUEDUCTO URBANO EN EL MUNICIPIO DE SÁCAMA CASANARE
C5: OSCAR JAVIER CUESTA SILVA | F5: SECRETARIO DE PLANEACION Y OBRAS PUBLICAS
A6: MEMORIAS DE CANTIDADES DE OBRA
A8: Ítem | B8: Actividad | E8: Unidad | F8: DESCRIPCION Y UBICACIÓN DE LA ACTIVIDAD | I8: LONGITUD | J8: ANCHO | K8: ALTO | L8: CANT | M8: TOTAL
A9: =+PRESUPUESTO!A15 -> 1.3 | B9: =+PRESUPUESTO!C15 -> Rejilla para sumidero o carcamo con marco y contramarco A=0.50 m. Suministro e Instal. | E9: =+PRESUPUESTO!E15 -> M
A10: Imagen de Referencia
F11: Reemplazo rejilla Captacion | I11: 1 | J11: 0.5 | L11: 1 | M11: =I11*L11 -> 1
F19: TOTAL | M19: =SUM(M11:M18) -> 1
A21: OBSERVACIONES: | I21: CANTIDAD CONTRATUAL | M21: =+M19 -> 1
J23: CANTIDAD PRESENTA ACTA
B26: Elaboró: | G26: Revisó:
B30: Olneider Diaz Mayorga | G30: Oscar Javier cuesta Silva
B31: Profesional de apoyo. | G31: Secretario de Planeacion

Sheet 1,4
C1: CONTRATO DE OBRA No. | F1: CONTRATO DE INTERVENTORIA No.
C2: CONTRATISTA: | F2: CONTRATISTA:
C3: =+PRESUPUESTO!A5 -> OBJETO: CONSTRUCCIÓN, OPTIMIZACIÓN Y MANTENIMIENTO DEL SISTEMA DE ABASTECIMIENTO DE AGUA POTABLE QUE GARANTICEN LA CONTINUIDAD, CALIDAD Y EFICIENCIA EN LA PRESTACIÓN DEL SERVICIO PÚBLICO DE ACUEDUCTO URBANO EN EL MUNICIPIO DE SÁCAMA CASANARE
C5: OSCAR JAVIER CUESTA SILVA | F5: SECRETARIO DE PLANEACION Y OBRAS PUBLICAS
A6: MEMORIAS DE CANTIDADES DE OBRA
A8: Ítem | B8: Actividad | E8: Unidad | F8: DESCRIPCION Y UBICACIÓN DE LA ACTIVIDAD | I8: LONGITUD | J8: ANCHO | K8: ALTO | L8: CANT | M8: TOTAL
A9: =+PRESUPUESTO!A16 -> 1.4 | B9: =+PRESUPUESTO!C16 -> Excavacion a mano en material comun | E9: =+PRESUPUESTO!E16 -> M3
A10: Imagen de Referencia
F11: Excavacion tuberia de cambio | I11: =+'1,5'!I11 -> 150 | J11: 0.4 | K11: 0.5 | L11: =+'1,5'!L11 -> 1 | M11: =I11*J11*K11*L11 -> 30
F12: Excavacion Extencion Placa | I12: =+'1,11'!I12 -> 12.5 | J12: =+'1,11'!J12 -> 3 | K12: =+'1,10'!K11+'1,11'!K12+'1,12'!K11 -> 0.7 | L12: =+'1,11'!L12 -> 1 | M12: =I12*J12*K12*L12 -> 26.25
F18: TOTAL | M18: =SUM(M11:M17) -> 56.25
A20: OBSERVACIONES: | I20: CANTIDAD CONTRATUAL | M20: =+M18 -> 56.25
J22: CANTIDAD PRESENTA ACTA
R24: =+M20-M22 -> 56.25
B25: Elaboró: | G25: Revisó:
B29: Olneider Diaz Mayorga | G29: Oscar Javier cuesta Silva
B30: Profesional de apoyo. | G30: Secretario de Planeacion

Sheet 1,5
C1: CONTRATO DE OBRA No. | F1: CONTRATO DE INTERVENTORIA No.
C2: CONTRATISTA: | F2: CONTRATISTA:
C3: =+PRESUPUESTO!A5 -> OBJETO: CONSTRUCCIÓN, OPTIMIZACIÓN Y MANTENIMIENTO DEL SISTEMA DE ABASTECIMIENTO DE AGUA POTABLE QUE GARANTICEN LA CONTINUIDAD, CALIDAD Y EFICIENCIA EN LA PRESTACIÓN DEL SERVICIO PÚBLICO DE ACUEDUCTO URBANO EN EL MUNICIPIO DE SÁCAMA CASANARE
C5: OSCAR JAVIER CUESTA SILVA | F5: SECRETARIO DE PLANEACION Y OBRAS PUBLICAS
A6: MEMORIAS DE CANTIDADES DE OBRA
A8: Ítem | B8: Actividad | E8: Unidad | F8: DESCRIPCION Y UBICACIÓN DE LA ACTIVIDAD | I8: LONGITUD | J8: ANCHO | K8: ALTO | L8: CANT | M8: TOTAL
A9: =+PRESUPUESTO!A17 -> 1.5 | B9: =+PRESUPUESTO!C17 -> Retiro de tuberia existente de acueducto PVC Ø 3" | E9: =+PRESUPUESTO!E17 -> M
A10: Imagen de Referencia
F11: =+B9 -> Retiro de tuberia existente de acueducto PVC Ø 3" | I11: 150 | L11: 1 | M11: =+I11*L11 -> 150
F20: TOTAL | M20: =SUM(M11:M19) -> 150
A22: OBSERVACIONES: | I22: CANTIDAD CONTRATUAL | M22: =+M20 -> 150
J24: CANTIDAD PRESENTA ACTA
R26: =+M22-M24 -> 150
B27: Elaboró: | G27: Revisó:
B31: Olneider Diaz Mayorga | G31: Oscar Javier cuesta Silva
B32: Profesional de apoyo. | G32: Secretario de Planeacion

Sheet 1,6
C1: CONTRATO DE OBRA No. | F1: CONTRATO DE INTERVENTORIA No.
C2: CONTRATISTA: | F2: CONTRATISTA:
C3: =+PRESUPUESTO!A5 -> OBJETO: CONSTRUCCIÓN, OPTIMIZACIÓN Y MANTENIMIENTO DEL SISTEMA DE ABASTECIMIENTO DE AGUA POTABLE QUE GARANTICEN LA CONTINUIDAD, CALIDAD Y EFICIENCIA EN LA PRESTACIÓN DEL SERVICIO PÚBLICO DE ACUEDUCTO URBANO EN EL MUNICIPIO DE SÁCAMA CASANARE
C5: OSCAR JAVIER CUESTA SILVA | F5: SECRETARIO DE PLANEACION Y OBRAS PUBLICAS
A6: MEMORIAS DE CANTIDADES DE OBRA
A8: Ítem | B8: Actividad | E8: Unidad | F8: DESCRIPCION Y UBICACIÓN DE LA ACTIVIDAD | I8: LONGITUD | J8: ANCHO | K8: ALTO | L8: CANT | M8: TOTAL
A9: =+PRESUPUESTO!A18 -> 1.6 | B9: =+PRESUPUESTO!C18 -> Relleno de excavacion (con material local) | E9: =+PRESUPUESTO!E18 -> M3
A10: Imagen de Referencia
F11: Tuberia de Cambio | I11: =+'1,4'!I11 -> 150 | J11: =+'1,4'!J11 -> 0.4 | K11: ='1,4'!K11-(4*0.025) -> 0.4 | L11: =+'1,4'!L11 -> 1 | M11: =I11*J11*K11*L11 -> 24
F20: TOTAL | M20: =SUM(M11:M19) -> 24
A22: OBSERVACIONES: | I22: CANTIDAD CONTRATUAL | M22: =+M20 -> 24
J24: CANTIDAD PRESENTA ACTA
R26: =+M22-M24 -> 24
B27: Elaboró: | G27: Revisó:
B31: Olneider Diaz Mayorga | G31: Oscar Javier cuesta Silva
B32: Profesional de apoyo. | G32: Secretario de Planeacion

Sheet 1,7
C1: CONTRATO DE OBRA No. | F1: CONTRATO DE INTERVENTORIA No.
C2: CONTRATISTA: | F2: CONTRATISTA:
C3: =+PRESUPUESTO!A5 -> OBJETO: CONSTRUCCIÓN, OPTIMIZACIÓN Y MANTENIMIENTO DEL SISTEMA DE ABASTECIMIENTO DE AGUA POTABLE QUE GARANTICEN LA CONTINUIDAD, CALIDAD Y EFICIENCIA EN LA PRESTACIÓN DEL SERVICIO PÚBLICO DE ACUEDUCTO URBANO EN EL MUNICIPIO DE SÁCAMA CASANARE
C5: OSCAR JAVIER CUESTA SILVA | F5: SECRETARIO DE PLANEACION Y OBRAS PUBLICAS
A6: MEMORIAS DE CANTIDADES DE OBRA
A8: Ítem | B8: Actividad | E8: Unidad | F8: DESCRIPCION Y UBICACIÓN DE LA ACTIVIDAD | I8: LONGITUD | J8: ANCHO | K8: ALTO | L8: CANT | M8: TOTAL
A9: =+PRESUPUESTO!A19 -> 1.7 | B9: =+PRESUPUESTO!C19 -> Union universal PVC Ø=4". Suministro e Instal. | E9: =+PRESUPUESTO!E19 -> UND
A10: Imagen de Referencia
F11: Conexion inicio | L11: 1 | M11: =+L11 -> 1
F12: Conexion Tuberia en Red | L12: 2 | M12: =+L12 -> 2
F13: Conexion Final | L13: 1 | M13: =+L13 -> 1
F19: TOTAL | M19: =SUM(M11:M18) -> 4
A21: OBSERVACIONES: | I21: CANTIDAD CONTRATUAL | M21: =+M19 -> 4
J23: CANTIDAD PRESENTA ACTA
R25: =+M21-M23 -> 4
B26: Elaboró: | G26: Revisó:
B30: Olneider Diaz Mayorga | G30: Oscar Javier cuesta Silva
B31: Profesional de apoyo. | G31: Secretario de Planeacion

Sheet 1,8
C1: CONTRATO DE OBRA No. | F1: CONTRATO DE INTERVENTORIA No.
C2: CONTRATISTA: | F2: CONTRATISTA:
C3: =+PRESUPUESTO!A5 -> OBJETO: CONSTRUCCIÓN, OPTIMIZACIÓN Y MANTENIMIENTO DEL SISTEMA DE ABASTECIMIENTO DE AGUA POTABLE QUE GARANTICEN LA CONTINUIDAD, CALIDAD Y EFICIENCIA EN LA PRESTACIÓN DEL SERVICIO PÚBLICO DE ACUEDUCTO URBANO EN EL MUNICIPIO DE SÁCAMA CASANARE
C5: OSCAR JAVIER CUESTA SILVA | F5: SECRETARIO DE PLANEACION Y OBRAS PUBLICAS
A6: MEMORIAS DE CANTIDADES DE OBRA
A8: Ítem | B8: Actividad | E8: Unidad | F8: DESCRIPCION Y UBICACIÓN DE LA ACTIVIDAD | I8: LONGITUD | J8: ANCHO | K8: ALTO | L8: CANT | M8: TOTAL
A9: =+PRESUPUESTO!A20 -> 1.8 | B9: =+PRESUPUESTO!C20 -> Tuberia de Polietileno PE 100 RDE 11 Ø=110 mm = 4" clase 200 | E9: =+PRESUPUESTO!E20 -> M
A10: Imagen de Referencia
F11: Cambio de Tuberia | I11: =+'1,5'!I11 -> 150 | L11: =+'1,5'!L11 -> 1 | M11: =+I11*L11 -> 150
F20: TOTAL | M20: =SUM(M11:M19) -> 150
A22: OBSERVACIONES: | I22: CANTIDAD CONTRATUAL | M22: =+M20 -> 150
J24: CANTIDAD PRESENTA ACTA
R26: =+M22-M24 -> 150
B27: Elaboró: | G27: Revisó:
B31: Olneider Diaz Mayorga | G31: Oscar Javier cuesta Silva
B32: Profesional de apoyo. | G32: Secretario de Planeacion

Sheet 1,9
C1: CONTRATO DE OBRA No. | F1: CONTRATO DE INTERVENTORIA No.
C2: CONTRATISTA: | F2: CONTRATISTA:
C3: =+PRESUPUESTO!A5 -> OBJETO: CONSTRUCCIÓN, OPTIMIZACIÓN Y MANTENIMIENTO DEL SISTEMA DE ABASTECIMIENTO DE AGUA POTABLE QUE GARANTICEN LA CONTINUIDAD, CALIDAD Y EFICIENCIA EN LA PRESTACIÓN DEL SERVICIO PÚBLICO DE ACUEDUCTO URBANO EN EL MUNICIPIO DE SÁCAMA CASANARE
C5: OSCAR JAVIER CUESTA SILVA | F5: SECRETARIO DE PLANEACION Y OBRAS PUBLICAS
A6: MEMORIAS DE CANTIDADES DE OBRA
A8: Ítem | B8: Actividad | E8: Unidad | F8: DESCRIPCION Y UBICACIÓN DE LA ACTIVIDAD | I8: LONGITUD | J8: ANCHO | K8: ALTO | L8: CANT | M8: TOTAL
A9: =+PRESUPUESTO!A21 -> 1.9 | B9: =+PRESUPUESTO!C21 -> Picado superficie placa de piso en concreto o cancha con retiro de sobrantes | E9: =+PRESUPUESTO!E21 -> M2
A10: Imagen de Referencia
F11: PLACA EXISTENTE | I11: =+'1,11'!I11 -> 12.5 | J11: =+'1,11'!J11 -> 9.5 | L11: =+'1,11'!L12 -> 1 | M11: =+I11*J11*L11 -> 118.75
F20: TOTAL | M20: =SUM(M11:M19) -> 118.75
A22: OBSERVACIONES: | I22: CANTIDAD CONTRATUAL | M22: =+M20 -> 118.75
J24: CANTIDAD PRESENTA ACTA
R26: =+M22-M24 -> 118.75
B27: Elaboró: | G27: Revisó:
B31: Olneider Diaz Mayorga | G31: Oscar Javier cuesta Silva
B32: Profesional de apoyo. | G32: Secretario de Planeacion

Sheet 1,10
C1: CONTRATO DE OBRA No. | F1: CONTRATO DE INTERVENTORIA No.
C2: CONTRATISTA: | F2: CONTRATISTA:
C3: =+PRESUPUESTO!A5 -> OBJETO: CONSTRUCCIÓN, OPTIMIZACIÓN Y MANTENIMIENTO DEL SISTEMA DE ABASTECIMIENTO DE AGUA POTABLE QUE GARANTICEN LA CONTINUIDAD, CALIDAD Y EFICIENCIA EN LA PRESTACIÓN DEL SERVICIO PÚBLICO DE ACUEDUCTO URBANO EN EL MUNICIPIO DE SÁCAMA CASANARE
C5: OSCAR JAVIER CUESTA SILVA | F5: SECRETARIO DE PLANEACION Y OBRAS PUBLICAS
A6: MEMORIAS DE CANTIDADES DE OBRA
A8: Ítem | B8: Actividad | E8: Unidad | F8: DESCRIPCION Y UBICACIÓN DE LA ACTIVIDAD | I8: LONGITUD | J8: ANCHO | K8: ALTO | L8: CANT | M8: TOTAL
A9: =+PRESUPUESTO!A22 -> 1.1 | B9: =+PRESUPUESTO!C22 -> Concreto ciclopeo de resistencia 2500 psi | E9: =+PRESUPUESTO!E22 -> M3
A10: Imagen de Referencia
F11: Cimentacion Placa Extencion | I11: =+'1,11'!I12 -> 12.5 | J11: =+'1,11'!J12 -> 3 | K11: 0.3 | L11: =+'1,11'!L12 -> 1 | M11: =I11*J11*K11*L11 -> 11.25
F12: Cimentacion caja de Captacion | I12: =+'1,11'!I12 -> 12.5 | J12: =+'1,11'!J12 -> 3 | K12: 0.2 | L12: =+'1,11'!L12 -> 1 | M12: =I12*J12*K12*L12 -> 7.5
F19: TOTAL | M19: =SUM(M11:M18) -> 18.75
A21: OBSERVACIONES: | I21: CANTIDAD CONTRATUAL | M21: =+M19 -> 18.75
J23: CANTIDAD PRESENTA ACTA
R25: =+M21-M23 -> 18.75
B26: Elaboró: | G26: Revisó:
B30: Olneider Diaz Mayorga | G30: Oscar Javier cuesta Silva
B31: Profesional de apoyo. | G31: Secretario de Planeacion

Sheet 1,11
C1: CONTRATO DE OBRA No. | F1: CONTRATO DE INTERVENTORIA No.
C2: CONTRATISTA: | F2: CONTRATISTA:
C3: =+PRESUPUESTO!A5 -> OBJETO: CONSTRUCCIÓN, OPTIMIZACIÓN Y MANTENIMIENTO DEL SISTEMA DE ABASTECIMIENTO DE AGUA POTABLE QUE GARANTICEN LA CONTINUIDAD, CALIDAD Y EFICIENCIA EN LA PRESTACIÓN DEL SERVICIO PÚBLICO DE ACUEDUCTO URBANO EN EL MUNICIPIO DE SÁCAMA CASANARE
C5: OSCAR JAVIER CUESTA SILVA | F5: SECRETARIO DE PLANEACION Y OBRAS PUBLICAS
A6: MEMORIAS DE CANTIDADES DE OBRA
A8: Ítem | B8: Actividad | E8: Unidad | F8: DESCRIPCION Y UBICACIÓN DE LA ACTIVIDAD | I8: LONGITUD | J8: ANCHO | K8: ALTO | L8: CANT | M8: TOTAL
A9: =+PRESUPUESTO!A23 -> 1.11 | B9: =+PRESUPUESTO!C23 -> Placa base en concreto impermeabilizado 3000 psi e=0.10 m reforzada con malla Q-5 y polietileno cal. 8 | E9: =+PRESUPUESTO!E23 -> M2
A10: Imagen de Referencia
F11: Placa Nueva Sobre Existente | I11: 12.5 | J11: 9.5 | K11: 0.1 | L11: 1 | M11: =I11*J11*L11 -> 118.75
F12: Placa Nueva Extencion | I12: 12.5 | J12: 3 | K12: 0.1 | L12: 1 | M12: =I12*J12*L12 -> 37.5
F13: Placa Fondo Tanque | I13: 1.25 | J13: 1.25 | K13: 0.1 | L13: 1 | M13: =I13*J13*L13 -> 1.5625
F21: TOTAL | M21: =SUM(M11:M20) -> 157.8125
A23: OBSERVACIONES: | I23: CANTIDAD CONTRATUAL | M23: =+M21 -> 157.8125
J25: CANTIDAD PRESENTA ACTA
R27: =+M23-M25 -> 157.8125
B28: Elaboró: | G28: Revisó:
B32: Olneider Diaz Mayorga | G32: Oscar Javier cuesta Silva
B33: Profesional de apoyo. | G33: Secretario de Planeacion

Sheet 1,12
C1: CONTRATO DE OBRA No. | F1: CONTRATO DE INTERVENTORIA No.
C2: CONTRATISTA: | F2: CONTRATISTA:
C3: =+PRESUPUESTO!A5 -> OBJETO: CONSTRUCCIÓN, OPTIMIZACIÓN Y MANTENIMIENTO DEL SISTEMA DE ABASTECIMIENTO DE AGUA POTABLE QUE GARANTICEN LA CONTINUIDAD, CALIDAD Y EFICIENCIA EN LA PRESTACIÓN DEL SERVICIO PÚBLICO DE ACUEDUCTO URBANO EN EL MUNICIPIO DE SÁCAMA CASANARE
C5: OSCAR JAVIER CUESTA SILVA | F5: SECRETARIO DE PLANEACION Y OBRAS PUBLICAS
A6: MEMORIAS DE CANTIDADES DE OBRA
A8: Ítem | B8: Actividad | E8: Unidad | F8: DESCRIPCION Y UBICACIÓN DE LA ACTIVIDAD | I8: LONGITUD | J8: ANCHO | K8: ALTO | L8: CANT | M8: TOTAL
A9: =+PRESUPUESTO!A24 -> 1.12 | B9: =+PRESUPUESTO!C24 -> Relleno con material crudo de rio sin seleccionar (conformacion, riego y compactacion) con transp. | E9: =+PRESUPUESTO!E24 -> M3
A10: Imagen de Referencia
F11: =+'1,11'!F12:H12 -> Placa Nueva Extencion | I11: =+'1,11'!I12 -> 12.5 | J11: =+'1,11'!J12 -> 3 | K11: 0.3 | L11: =+'1,11'!L12 -> 1 | M11: =I11*J11*K11*L11 -> 11.25
F20: TOTAL | M20: =SUM(M11:M19) -> 11.25
A22: OBSERVACIONES: | I22: CANTIDAD CONTRATUAL | M22: =+M20 -> 11.25
J24: CANTIDAD PRESENTA ACTA
R26: =+M22-M24 -> 11.25
B27: Elaboró: | G27: Revisó:
B31: Olneider Diaz Mayorga | G31: Oscar Javier cuesta Silva
B32: Profesional de apoyo. | G32: Secretario de Planeacion

Sheet 1,13
C1: CONTRATO DE OBRA No. | F1: CONTRATO DE INTERVENTORIA No.
C2: CONTRATISTA: | F2: CONTRATISTA:
C3: =+PRESUPUESTO!A5 -> OBJETO: CONSTRUCCIÓN, OPTIMIZACIÓN Y MANTENIMIENTO DEL SISTEMA DE ABASTECIMIENTO DE AGUA POTABLE QUE GARANTICEN LA CONTINUIDAD, CALIDAD Y EFICIENCIA EN LA PRESTACIÓN DEL SERVICIO PÚBLICO DE ACUEDUCTO URBANO EN EL MUNICIPIO DE SÁCAMA CASANARE
C5: OSCAR JAVIER CUESTA SILVA | F5: SECRETARIO DE PLANEACION Y OBRAS PUBLICAS
A6: MEMORIAS DE CANTIDADES DE OBRA
A8: Ítem | B8: Actividad | E8: Unidad | F8: DESCRIPCION Y UBICACIÓN DE LA ACTIVIDAD | I8: LONGITUD | J8: ANCHO | K8: ALTO | L8: CANT | M8: TOTAL
A9: =+PRESUPUESTO!A25 -> 1.13 | B9: =+PRESUPUESTO!C25 -> Mediacaña mortero imp 1:3 esmaltado 0.12 x 0.12 m | E9: =+PRESUPUESTO!E25 -> M
A10: Imagen de Referencia
F11: Media Caña Perimetro Captacion | I11: =+'1,1'!K13+'1,1'!I13+'1,1'!K13 -> 22.5 | L11: 1 | M11: =I11*L11 -> 22.5
F21: TOTAL | M21: =SUM(M11:M20) -> 22.5
A23: OBSERVACIONES: | I23: CANTIDAD CONTRATUAL | M23: =+M21 -> 22.5
J25: CANTIDAD PRESENTA ACTA
R27: =+M23-M25 -> 22.5
B28: Elaboró: | G28: Revisó:
B32: Olneider Diaz Mayorga | G32: Oscar Javier cuesta Silva
B33: Profesional de apoyo. | G33: Secretario de Planeacion

Sheet 1,14
C1: CONTRATO DE OBRA No. | F1: CONTRATO DE INTERVENTORIA No.
C2: CONTRATISTA: | F2: CONTRATISTA:
C3: =+PRESUPUESTO!A5 -> OBJETO: CONSTRUCCIÓN, OPTIMIZACIÓN Y MANTENIMIENTO DEL SISTEMA DE ABASTECIMIENTO DE AGUA POTABLE QUE GARANTICEN LA CONTINUIDAD, CALIDAD Y EFICIENCIA EN LA PRESTACIÓN DEL SERVICIO PÚBLICO DE ACUEDUCTO URBANO EN EL MUNICIPIO DE SÁCAMA CASANARE
C5: OSCAR JAVIER CUESTA SILVA | F5: SECRETARIO DE PLANEACION Y OBRAS PUBLICAS
A6: MEMORIAS DE CANTIDADES DE OBRA
A8: Ítem | B8: Actividad | E8: Unidad | F8: DESCRIPCION Y UBICACIÓN DE LA ACTIVIDAD | I8: LONGITUD | J8: ANCHO | K8: ALTO | L8: CANT | M8: TOTAL
A9: =+PRESUPUESTO!A26 -> 1.14 | B9: =+PRESUPUESTO!C26 -> Muro en concreto 3000 psi impermeabilizado de resistencia 210 kg/cm². | E9: =+PRESUPUESTO!E26 -> M3
A10: Imagen de Referencia
F11: Pantalla retencion de Solidos Granulares | I11: 10 | J11: 0.25 | K11: 0.8 | L11: 1 | M11: =I11*J11*K11*L11 -> 2
F21: TOTAL | M21: =SUM(M11:M20) -> 2
A23: OBSERVACIONES: | I23: CANTIDAD CONTRATUAL | M23: =+M21 -> 2
J25: CANTIDAD PRESENTA ACTA
R27: =+M23-M25 -> 2
B28: Elaboró: | G28: Revisó:
B32: Olneider Diaz Mayorga | G32: Oscar Javier cuesta Silva
B33: Profesional de apoyo. | G33: Secretario de Planeacion

Sheet 1,15
C1: CONTRATO DE OBRA No. | F1: CONTRATO DE INTERVENTORIA No.
C2: CONTRATISTA: | F2: CONTRATISTA:
C3: =+PRESUPUESTO!A5 -> OBJETO: CONSTRUCCIÓN, OPTIMIZACIÓN Y MANTENIMIENTO DEL SISTEMA DE ABASTECIMIENTO DE AGUA POTABLE QUE GARANTICEN LA CONTINUIDAD, CALIDAD Y EFICIENCIA EN LA PRESTACIÓN DEL SERVICIO PÚBLICO DE ACUEDUCTO URBANO EN EL MUNICIPIO DE SÁCAMA CASANARE
C5: OSCAR JAVIER CUESTA SILVA | F5: SECRETARIO DE PLANEACION Y OBRAS PUBLICAS
A6: MEMORIAS DE CANTIDADES DE OBRA
A8: Ítem | B8: Actividad | E8: Unidad | F8: DESCRIPCION Y UBICACIÓN DE LA ACTIVIDAD | I8: # | J8: LONGITUD | K8: CANT DE ELEMETO | L8: CANT | M8: PESO (KG/ML) | N8: TOTAL
A9: =+PRESUPUESTO!A27 -> 1.15 | B9: =+PRESUPUESTO!C27 -> Acero de Refuerzo Grado 60 | E9: =+PRESUPUESTO!E27 -> KG
A10: Imagen de Referencia
F11: Pantalla retencion de Solidos Granulares
F12: Refuerzos Longitudinales | I12: 1/4 | J12: =+('1,14'!I11)+(('1,14'!I11/6)*0.6) -> 11 | K12: =ROUNDUP('1,14'!K11/0.15,0) -> 6 | L12: 1 | M12: 0.25 | N12: =J12*K12*L12*M12 -> 16.5
F13: Refuerzos Transversales | I13: 1/2 | J13: =+(0.6+'1,14'!K11+0.15)+(((0.6+'1,14'!K11+0.15)/6)*0.75) -> 1.74375 | K13: =ROUNDUP('1,14'!I11/0.2,0) -> 50 | L13: =+L12 -> 1 | M13: 0.994 | N13: =J13*K13*L13*M13 -> 86.664375
F14: COLUMNETAS
F15: Refuerzos Longitudinales | I15: 1/2 | J15: =+J13 -> 1.74375 | K15: 4 | L15: =+'1,14'!I11/2.5+2 -> 6 | M15: 0.994 | N15: =J15*K15*L15*M15 -> 41.5989
F16: Refuerzos Transversales (FLEJES) | I16: 1/4 | J16: =(0.1+(('1,14'!J11-0.07)*4)+0.1) -> 0.92 | K16: =+'1,14'!K11/0.15 -> 5.3333333 | L16: =+L15 -> 6 | M16: 0.25 | N16: =J16*K16*L16*M16 -> 7.36
F21: TOTAL | N21: =SUM(N11:N20) -> 152.12328
A23: OBSERVACIONES: | J23: CANTIDAD CONTRATUAL | N23: =+N21 -> 152.12328
K25: CANTIDAD PRESENTA ACTA
S27: =+N23-N25 -> 152.12328
B28: Elaboró: | G28: Revisó:
B32: Olneider Diaz Mayorga | G32: Oscar Javier cuesta Silva
B33: Profesional de apoyo. | G33: Secretario de Planeacion

Sheet 1,16
C1: CONTRATO DE OBRA No. | F1: CONTRATO DE INTERVENTORIA No.
C2: CONTRATISTA: | F2: CONTRATISTA:
C3: =+PRESUPUESTO!A5 -> OBJETO: CONSTRUCCIÓN, OPTIMIZACIÓN Y MANTENIMIENTO DEL SISTEMA DE ABASTECIMIENTO DE AGUA POTABLE QUE GARANTICEN LA CONTINUIDAD, CALIDAD Y EFICIENCIA EN LA PRESTACIÓN DEL SERVICIO PÚBLICO DE ACUEDUCTO URBANO EN EL MUNICIPIO DE SÁCAMA CASANARE
C5: OSCAR JAVIER CUESTA SILVA | F5: SECRETARIO DE PLANEACION Y OBRAS PUBLICAS
A6: MEMORIAS DE CANTIDADES DE OBRA
A8: Ítem | B8: Actividad | E8: Unidad | F8: DESCRIPCION Y UBICACIÓN DE LA ACTIVIDAD | I8: LONGITUD | J8: ANCHO | K8: ALTO | L8: CANT | M8: TOTAL
A9: =+PRESUPUESTO!A28 -> 1.16 | B9: =+PRESUPUESTO!C28 -> Lamina en acero inoxidable C.16 con anclaje. Suministro e Instal. | E9: =+PRESUPUESTO!E28 -> M2
A10: Imagen de Referencia
F11: CAJA FILTRO BOCATOMA LATERALES | I11: =+I12+J12+I12+J12 -> 5 | K11: 0.6 | L11: 1 | M11: =I11*K11*L11 -> 3
F12: CAJA FILTRO BOCATOMA TAPAS | I12: 1.25 | J12: 1.25 | L12: 2 | M12: =I12*J12*L12 -> 3.125
F21: TOTAL | M21: =SUM(M11:M20) -> 6.125
A23: OBSERVACIONES: | I23: CANTIDAD CONTRATUAL | M23: =+M21 -> 6.125
J25: CANTIDAD PRESENTA ACTA
R27: =+M23-M25 -> 6.125
B28: Elaboró: | G28: Revisó:
B32: Olneider Diaz Mayorga | G32: Oscar Javier cuesta Silva
B33: Profesional de apoyo. | G33: Secretario de Planeacion

Sheet 2,1
C1: CONTRATO DE OBRA No. | F1: CONTRATO DE INTERVENTORIA No.
C2: CONTRATISTA: | F2: CONTRATISTA:
C3: =+PRESUPUESTO!A5 -> OBJETO: CONSTRUCCIÓN, OPTIMIZACIÓN Y MANTENIMIENTO DEL SISTEMA DE ABASTECIMIENTO DE AGUA POTABLE QUE GARANTICEN LA CONTINUIDAD, CALIDAD Y EFICIENCIA EN LA PRESTACIÓN DEL SERVICIO PÚBLICO DE ACUEDUCTO URBANO EN EL MUNICIPIO DE SÁCAMA CASANARE
C5: OSCAR JAVIER CUESTA SILVA | F5: SECRETARIO DE PLANEACION Y OBRAS PUBLICAS
A6: MEMORIAS DE CANTIDADES DE OBRA
A8: Ítem | B8: Actividad | E8: Unidad | F8: DESCRIPCION Y UBICACIÓN DE LA ACTIVIDAD | I8: LONGITUD | J8: ANCHO | K8: ALTO | L8: CANT | M8: TOTAL
A9: =+PRESUPUESTO!A30 -> 2.1 | B9: =+PRESUPUESTO!C30 -> Limpieza, raspado y lavado de placas, muros, pisos en concreto existente | E9: =+PRESUPUESTO!E30 -> M2
A10: Imagen de Referencia
F11: Desarenador Grande
F12: Paredes Externas Caja Entrada | I12: =J14+I14+J14 -> 3.35 | J12: 0.15 | K12: 1 | L12: 1 | M12: =+I12*(J12+K12)*L12 -> 3.8525
F13: Paredes Interna Caja Entrada | I13: =(J14-J12)+(I14-J12-J12)+(J14-J12)+(I14-J12-J12) -> 4 | K13: =K12-J12-K14 -> 0.8 | L13: =+L12 -> 1 | M13: =+I13*(J13+K13)*L13 -> 3.2
F14: Placa de Piso y Tapa Cajas | I14: 1.55 | J14: 0.9 | K14: 0.05 | L14: 3 | M14: =+I14*(J14+K14)*L14 -> 4.4175 | P14: GRANDE
F15: Paredes Tanque Central Externas | I15: =+I17+J17+I17+J17 -> 26.3 | K15: 2.25 | L15: 1 | M15: =+I15*(J15+K15)*L15 -> 59.175 | P15: ALTO | Q15: 2.25 | R15: 2
F16: Paredes Tanque Central Internas | I16: =(J17-J12-J12)+(I17-J12-J12)+(J17-J12-J12)+(I17-J12-J12) -> 25.1 | K16: =+K15-J12-K17 -> 2.05 | L16: =+L15 -> 1 | M16: =+I16*(J16+K16)*L16 -> 51.455 | P16: ANCHO | Q16: 2.55 | R16: 2.4
F17: Placa piso y techo | I17: 2.55 | J17: 10.6 | K17: 0.05 | L17: 2 | M17: =+I17*(J17+K17)*L17 -> 54.315 | P17: LARGO | Q17: 10.6 | R17: 9.5
F18: Pantallas Internas | I18: =+I17-J12-J12 -> 2.25 | K18: =+K16-0.55+K17 -> 1.55 | L18: =2*2 -> 4 | M18: =+I18*(J18+K18)*L18 -> 13.95
F19: Paredes Externas Caja Salida | I19: =J21+I21+J21 -> 3.75 | J19: 0.15 | K19: 1.4 | L19: 1 | M19: =+I19*(J19+K19)*L19 -> 5.8125 | P19: GRANDE
F20: Paredes Interna Caja Salida | I20: =(J21-J19)+(I21-J19-J19)+(J21-J19)+(I21-J19-J19) -> 5.4 | K20: =K19-J19-K21 -> 1.2 | L20: =+L19 -> 1 | M20: =+I20*(J20+K20)*L20 -> 6.48
F21: Placa de Piso y Tapa Cajas | I21: 2.55 | J21: 0.6 | K21: 0.05 | L21: 3 | M21: =+I21*(J21+K21)*L21 -> 4.9725
F22: Desarenador Pequeño
F23: Paredes Externas Caja Entrada | I23: =J25+I25+J25 -> 3.35 | J23: 0.15 | K23: 1 | L23: 1 | M23: =+I23*(J23+K23)*L23 -> 3.8525
F24: Paredes Interna Caja Entrada | I24: =(J25-J23)+(I25-J23-J23)+(J25-J23)+(I25-J23-J23) -> 4 | K24: =K23-J23-K25 -> 0.8 | L24: =+L23 -> 1 | M24: =+I24*(J24+K24)*L24 -> 3.2
F25: Placa de Piso y Tapa Cajas | I25: 1.55 | J25: 0.9 | K25: 0.05 | L25: 3 | M25: =+I25*(J25+K25)*L25 -> 4.4175
F26: Paredes Tanque Central Externas | I26: =+I28+J28+I28+J28 -> 23 | K26: 2 | L26: 1 | M26: =+I26*(J26+K26)*L26 -> 46
F27: Paredes Tanque Central Internas | I27: =(J28-J23-J23)+(I28-J23-J23)+(J28-J23-J23)+(I28-J23-J23) -> 21.8 | K27: =+K26-J23-K28 -> 1.8 | L27: =+L26 -> 1 | M27: =+I27*(J27+K27)*L27 -> 39.24
F28: Placa piso y techo | I28: 2 | J28: 9.5 | K28: 0.05 | L28: 2 | M28: =+I28*(J28+K28)*L28 -> 38.2
F29: Pantallas Internas | I29: 2 | K29: =+K27-0.55+K28 -> 1.3 | L29: =2*2 -> 4 | M29: =+I29*(J29+K29)*L29 -> 10.4
F30: Paredes Externas Caja Salida | I30: =J32+I32+J32 -> 3.75 | J30: 0.15 | K30: 1.4 | L30: 1 | M30: =+I30*(J30+K30)*L30 -> 5.8125
F31: Paredes Interna Caja Salida | I31: =(J32-J30)+(I32-J30-J30)+(J32-J30)+(I32-J30-J30) -> 5.4 | K31: =K30-J30-K32 -> 1.2 | L31: =+L30 -> 1 | M31: =+I31*(J31+K31)*L31 -> 6.48 | P31: ANCHO | Q31: 2.1
F32: Placa de Piso y Tapa Cajas | I32: 2.55 | J32: 0.6 | K32: 0.05 | L32: 3 | M32: =+I32*(J32+K32)*L32 -> 4.9725 | P32: LARGO | Q32: 6
F33: TOTAL | M33: =SUM(M12:M32) -> 370.205
A35: OBSERVACIONES: | I35: CANTIDAD CONTRATUAL | M35: =+M33 -> 370.205
J37: CANTIDAD PRESENTA ACTA
Q38: =I15-I16 -> 1.2 | T38: =10.2+10.2+2.15+2.15 -> 24.7
B40: Elaboró: | G40: Revisó:
B44: Olneider Diaz Mayorga | G44: Oscar Javier cuesta Silva
B45: Profesional de apoyo. | G45: Secretario de Planeacion

Sheet 2,2
C1: CONTRATO DE OBRA No. | F1: CONTRATO DE INTERVENTORIA No.
C2: CONTRATISTA: | F2: CONTRATISTA:
C3: =+PRESUPUESTO!A5 -> OBJETO: CONSTRUCCIÓN, OPTIMIZACIÓN Y MANTENIMIENTO DEL SISTEMA DE ABASTECIMIENTO DE AGUA POTABLE QUE GARANTICEN LA CONTINUIDAD, CALIDAD Y EFICIENCIA EN LA PRESTACIÓN DEL SERVICIO PÚBLICO DE ACUEDUCTO URBANO EN EL MUNICIPIO DE SÁCAMA CASANARE
C5: OSCAR JAVIER CUESTA SILVA | F5: SECRETARIO DE PLANEACION Y OBRAS PUBLICAS
A6: MEMORIAS DE CANTIDADES DE OBRA
A8: Ítem | B8: Actividad | E8: Unidad | F8: DESCRIPCION Y UBICACIÓN DE LA ACTIVIDAD | I8: LONGITUD | J8: ANCHO | K8: ALTO | L8: CANT | M8: TOTAL
A9: =+PRESUPUESTO!A31 -> 2.2 | B9: =+PRESUPUESTO!C31 -> Recubrimieno impermeable para muros, dos capas | E9: =+PRESUPUESTO!E31 -> M2
A10: Imagen de Referencia
F11: =+'2,1'!F11:H11 -> Desarenador Grande
F12: =+'2,1'!F12:H12 -> Paredes Externas Caja Entrada | I12: =+'2,1'!I12 -> 3.35 | J12: =+'2,1'!J12 -> 0.15 | K12: =+'2,1'!K12 -> 1 | L12: =+'2,1'!L12 -> 1 | M12: =+I12*(J12+K12)*L12 -> 3.8525
F13: =+'2,1'!F13:H13 -> Paredes Interna Caja Entrada | I13: =+'2,1'!I13 -> 4 | J13: =+'2,1'!J13 -> 0 | K13: =+'2,1'!K13 -> 0.8 | L13: =+'2,1'!L13 -> 1 | M13: =+I13*(J13+K13)*L13 -> 3.2
F14: =+'2,1'!F14:H14 -> Placa de Piso y Tapa Cajas | I14: =+'2,1'!I14 -> 1.55 | J14: =+'2,1'!J14 -> 0.9 | K14: =+'2,1'!K14 -> 0.05 | L14: =+'2,1'!L14 -> 3 | M14: =+I14*(J14+K14)*L14 -> 4.4175
F15: =+'2,1'!F15:H15 -> Paredes Tanque Central Externas | I15: =+'2,1'!I15 -> 26.3 | J15: =+'2,1'!J15 -> 0 | K15: =+'2,1'!K15 -> 2.25 | L15: =+'2,1'!L15 -> 1 | M15: =+I15*(J15+K15)*L15 -> 59.175
F16: =+'2,1'!F16:H16 -> Paredes Tanque Central Internas | I16: =+'2,1'!I16 -> 25.1 | J16: =+'2,1'!J16 -> 0 | K16: =+'2,1'!K16 -> 2.05 | L16: =+'2,1'!L16 -> 1 | M16: =+I16*(J16+K16)*L16 -> 51.455
F17: =+'2,1'!F17:H17 -> Placa piso y techo | I17: =+'2,1'!I17 -> 2.55 | J17: =+'2,1'!J17 -> 10.6 | K17: =+'2,1'!K17 -> 0.05 | L17: =+'2,1'!L17 -> 2 | M17: =+I17*(J17+K17)*L17 -> 54.315
F18: =+'2,1'!F18:H18 -> Pantallas Internas | I18: =+'2,1'!I18 -> 2.25 | J18: =+'2,1'!J18 -> 0 | K18: =+'2,1'!K18 -> 1.55 | L18: =+'2,1'!L18 -> 4 | M18: =+I18*(J18+K18)*L18 -> 13.95
F19: =+'2,1'!F19:H19 -> Paredes Externas Caja Salida | I19: =+'2,1'!I19 -> 3.75 | J19: =+'2,1'!J19 -> 0.15 | K19: =+'2,1'!K19 -> 1.4 | L19: =+'2,1'!L19 -> 1 | M19: =+I19*(J19+K19)*L19 -> 5.8125
F20: =+'2,1'!F20:H20 -> Paredes Interna Caja Salida | I20: =+'2,1'!I20 -> 5.4 | J20: =+'2,1'!J20 -> 0 | K20: =+'2,1'!K20 -> 1.2 | L20: =+'2,1'!L20 -> 1 | M20: =+I20*(J20+K20)*L20 -> 6.48
F21: =+'2,1'!F21:H21 -> Placa de Piso y Tapa Cajas | I21: =+'2,1'!I21 -> 2.55 | J21: =+'2,1'!J21 -> 0.6 | K21: =+'2,1'!K21 -> 0.05 | L21: =+'2,1'!L21 -> 3 | M21: =+I21*(J21+K21)*L21 -> 4.9725
M22: =+I22*(J22+K22)*L22 -> 0
M23: =+I23*(J23+K23)*L23 -> 0
M24: =+I24*(J24+K24)*L24 -> 0
M25: =+I25*(J25+K25)*L25 -> 0
M26: =+I26*(J26+K26)*L26 -> 0
F27: TOTAL | M27: =SUM(M11:M26) -> 207.63
A29: OBSERVACIONES: | I29: CANTIDAD CONTRATUAL | M29: =+M27 -> 207.63
J31: CANTIDAD PRESENTA ACTA
B34: Elaboró: | G34: Revisó:
B38: Olneider Diaz Mayorga | G38: Oscar Javier cuesta Silva
B39: Profesional de apoyo. | G39: Secretario de Planeacion

Sheet 3,1
C1: CONTRATO DE OBRA No. | F1: CONTRATO DE INTERVENTORIA No.
C2: CONTRATISTA: | F2: CONTRATISTA:
C3: =+PRESUPUESTO!A5 -> OBJETO: CONSTRUCCIÓN, OPTIMIZACIÓN Y MANTENIMIENTO DEL SISTEMA DE ABASTECIMIENTO DE AGUA POTABLE QUE GARANTICEN LA CONTINUIDAD, CALIDAD Y EFICIENCIA EN LA PRESTACIÓN DEL SERVICIO PÚBLICO DE ACUEDUCTO URBANO EN EL MUNICIPIO DE SÁCAMA CASANARE
C5: OSCAR JAVIER CUESTA SILVA | F5: SECRETARIO DE PLANEACION Y OBRAS PUBLICAS
A6: MEMORIAS DE CANTIDADES DE OBRA
A8: Ítem | B8: Actividad | E8: Unidad | F8: DESCRIPCION Y UBICACIÓN DE LA ACTIVIDAD | I8: LONGITUD | J8: ANCHO | K8: ALTO | L8: CANT | M8: TOTAL
A9: =+PRESUPUESTO!A33 -> 3.1 | B9: =+PRESUPUESTO!C33 -> Valvula de mariposa en HD Ø 6" wafer con disco en acero inoxidable con actuador tipo palanca. Suministro e Instal. | E9: =+PRESUPUESTO!E33 -> UND
A10: Imagen de Referencia
F11: Cambio de Valvulas Filtros PTAP | L11: 5 | M11: =L11 -> 5
F19: TOTAL | M19: =SUM(M11:M18) -> 5
A21: OBSERVACIONES: | I21: CANTIDAD CONTRATUAL | M21: =+M19 -> 5
J23: CANTIDAD PRESENTA ACTA
R25: =+M21-M23 -> 5
B26: Elaboró: | G26: Revisó:
B30: Olneider Diaz Mayorga | G30: Oscar Javier cuesta Silva
B31: Profesional de apoyo. | G31: Secretario de Planeacion

Sheet 3,2
C1: CONTRATO DE OBRA No. | F1: CONTRATO DE INTERVENTORIA No.
C2: CONTRATISTA: | F2: CONTRATISTA:
C3: =+PRESUPUESTO!A5 -> OBJETO: CONSTRUCCIÓN, OPTIMIZACIÓN Y MANTENIMIENTO DEL SISTEMA DE ABASTECIMIENTO DE AGUA POTABLE QUE GARANTICEN LA CONTINUIDAD, CALIDAD Y EFICIENCIA EN LA PRESTACIÓN DEL SERVICIO PÚBLICO DE ACUEDUCTO URBANO EN EL MUNICIPIO DE SÁCAMA CASANARE
C5: OSCAR JAVIER CUESTA SILVA | F5: SECRETARIO DE PLANEACION Y OBRAS PUBLICAS
A6: MEMORIAS DE CANTIDADES DE OBRA
A8: Ítem | B8: Actividad | E8: Unidad | F8: DESCRIPCION Y UBICACIÓN DE LA ACTIVIDAD | I8: LONGITUD | J8: ANCHO | K8: ALTO | L8: CANT | M8: TOTAL
A9: =+PRESUPUESTO!A34 -> 3.2 | B9: =+PRESUPUESTO!C34 -> Estación macromedidora Ø=4" con accesorios. Suministro e Instal.. | E9: =+PRESUPUESTO!E34 -> UND
A10: Imagen de Referencia
F11: Entrada Red Principal PTAP | L11: 1 | M11: =+L11 -> 1
F12: Salida Red Principal PTAP | L12: 1 | M12: =+L12 -> 1
M13: =+L13 -> 0
M14: =L14 -> 0
M15: =+L15 -> 0
F18: TOTAL | M18: =SUM(M11:M17) -> 2
A20: OBSERVACIONES: | I20: CANTIDAD CONTRATUAL | M20: =+M18 -> 2
J22: CANTIDAD PRESENTA ACTA
R24: =+M20-M22 -> 2
B25: Elaboró: | G25: Revisó:
B29: Olneider Diaz Mayorga | G29: Oscar Javier cuesta Silva
B30: Profesional de apoyo. | G30: Secretario de Planeacion

Sheet 3,3
C1: CONTRATO DE OBRA No. | F1: CONTRATO DE INTERVENTORIA No.
C2: CONTRATISTA: | F2: CONTRATISTA:
C3: =+PRESUPUESTO!A5 -> OBJETO: CONSTRUCCIÓN, OPTIMIZACIÓN Y MANTENIMIENTO DEL SISTEMA DE ABASTECIMIENTO DE AGUA POTABLE QUE GARANTICEN LA CONTINUIDAD, CALIDAD Y EFICIENCIA EN LA PRESTACIÓN DEL SERVICIO PÚBLICO DE ACUEDUCTO URBANO EN EL MUNICIPIO DE SÁCAMA CASANARE
C5: OSCAR JAVIER CUESTA SILVA | F5: SECRETARIO DE PLANEACION Y OBRAS PUBLICAS
A6: MEMORIAS DE CANTIDADES DE OBRA
A8: Ítem | B8: Actividad | E8: Unidad | F8: DESCRIPCION Y UBICACIÓN DE LA ACTIVIDAD | I8: LONGITUD | J8: ANCHO | K8: ALTO | L8: CANT | M8: TOTAL
A9: =+PRESUPUESTO!A35 -> 3.3 | B9: =+PRESUPUESTO!C35 -> Estación macromedidora Ø=2" con accesorios. Suministro e Instal.. | E9: =+PRESUPUESTO!E35 -> UND
A10: Imagen de Referencia
F11: Entrada Tanque de Almacenamiento La Bañadera (cambio) | L11: 1 | M11: =L11 -> 1
F20: TOTAL | M20: =SUM(M11:M19) -> 1
A22: OBSERVACIONES: | I22: CANTIDAD CONTRATUAL | M22: =+M20 -> 1
J24: CANTIDAD PRESENTA ACTA
R26: =+M22-M24 -> 1
B27: Elaboró: | G27: Revisó:
B31: Olneider Diaz Mayorga | G31: Oscar Javier cuesta Silva
B32: Profesional de apoyo. | G32: Secretario de Planeacion

Sheet 4,1
C1: CONTRATO DE OBRA No. | F1: CONTRATO DE INTERVENTORIA No.
C2: CONTRATISTA: | F2: CONTRATISTA:
C3: =+PRESUPUESTO!A5 -> OBJETO: CONSTRUCCIÓN, OPTIMIZACIÓN Y MANTENIMIENTO DEL SISTEMA DE ABASTECIMIENTO DE AGUA POTABLE QUE GARANTICEN LA CONTINUIDAD, CALIDAD Y EFICIENCIA EN LA PRESTACIÓN DEL SERVICIO PÚBLICO DE ACUEDUCTO URBANO EN EL MUNICIPIO DE SÁCAMA CASANARE
C5: OSCAR JAVIER CUESTA SILVA | F5: SECRETARIO DE PLANEACION Y OBRAS PUBLICAS
A6: MEMORIAS DE CANTIDADES DE OBRA
A8: Ítem | B8: Actividad | E8: Unidad | F8: DESCRIPCION Y UBICACIÓN DE LA ACTIVIDAD | I8: LONGITUD | J8: ANCHO | K8: ALTO | L8: CANT | M8: TOTAL
A9: =+PRESUPUESTO!A37 -> 4.1 | B9: =+PRESUPUESTO!C37 -> Lavado y desinfeccion de placa - muros para tanques | E9: =+PRESUPUESTO!E37 -> M2
A10: Imagen de Referencia
F11: TANQUES ALMACENAMIENTO | M11: =(I11+J11)*K11 -> 0
F12: LADO DERECHO | I12: 4.4 | J12: 0.1 | K12: 2.7 | L12: 2 | M12: =(I12+J12)*K12*L12 -> 24.3
F13: DIVISION TANQUES | I13: =+I12 -> 4.4 | J13: 0.1 | K13: =+K12 -> 2.7 | L13: 2 | M13: =(I13+J13)*K13*L13 -> 24.3
F14: LADO IZQUIERDO | I14: 4.4 | J14: 0.1 | K14: 2.7 | L14: 2 | M14: =(I14+J14)*K14*L14 -> 24.3
F15: PARED FONDO | I15: 8.5 | J15: 0.1 | K15: 2.7 | L15: 2 | M15: =(I15+J15)*K15*L15 -> 46.44
F16: PARED FRENTE | I16: 8.5 | J16: 0.1 | K16: 2.7 | L16: 2 | M16: =(I16+J16)*K16*L16 -> 46.44
F17: PARED PISO | I17: 4.4 | J17: 8.5 | L17: 1 | M17: =I17*J17*L17 -> 37.4
F21: TOTAL | M21: =SUM(M11:M20) -> 203.18
A23: OBSERVACIONES: | I23: CANTIDAD CONTRATUAL | M23: =+M21 -> 203.18
J25: CANTIDAD PRESENTA ACTA
R27: =+M23-M25 -> 203.18
B28: Elaboró: | G28: Revisó:
B32: Olneider Diaz Mayorga | G32: Oscar Javier cuesta Silva
B33: Profesional de apoyo. | G33: Secretario de Planeacion

Sheet 4,2
C1: CONTRATO DE OBRA No. | F1: CONTRATO DE INTERVENTORIA No.
C2: CONTRATISTA: | F2: CONTRATISTA:
C3: =+PRESUPUESTO!A5 -> OBJETO: CONSTRUCCIÓN, OPTIMIZACIÓN Y MANTENIMIENTO DEL SISTEMA DE ABASTECIMIENTO DE AGUA POTABLE QUE GARANTICEN LA CONTINUIDAD, CALIDAD Y EFICIENCIA EN LA PRESTACIÓN DEL SERVICIO PÚBLICO DE ACUEDUCTO URBANO EN EL MUNICIPIO DE SÁCAMA CASANARE
C5: OSCAR JAVIER CUESTA SILVA | F5: SECRETARIO DE PLANEACION Y OBRAS PUBLICAS
A6: MEMORIAS DE CANTIDADES DE OBRA
A8: Ítem | B8: Actividad | E8: Unidad | F8: DESCRIPCION Y UBICACIÓN DE LA ACTIVIDAD | I8: LONGITUD | J8: ANCHO | K8: ALTO | L8: CANT | M8: TOTAL
A9: =+PRESUPUESTO!A38 -> 4.2 | B9: =+PRESUPUESTO!C38 -> Recubrimieno impermeable para muros, dos capas | E9: =+PRESUPUESTO!E38 -> M2
A10: Imagen de Referencia
F11: =+'4,1'!F11:H11 -> TANQUES ALMACENAMIENTO | L11: =+'4,1'!L11 -> 0 | M11: =(I11+J11)*K11 -> 0
F12: =+'4,1'!F12:H12 -> LADO DERECHO | I12: =+'4,1'!I12 -> 4.4 | J12: =+'4,1'!J12 -> 0.1 | K12: =+'4,1'!K12 -> 2.7 | L12: =+'4,1'!L12 -> 2 | M12: =(I12+J12)*K12*L12 -> 24.3
F13: =+'4,1'!F13:H13 -> DIVISION TANQUES | I13: =+'4,1'!I13 -> 4.4 | J13: =+'4,1'!J13 -> 0.1 | K13: =+'4,1'!K13 -> 2.7 | L13: =+'4,1'!L13 -> 2 | M13: =(I13+J13)*K13*L13 -> 24.3
F14: =+'4,1'!F14:H14 -> LADO IZQUIERDO | I14: =+'4,1'!I14 -> 4.4 | J14: =+'4,1'!J14 -> 0.1 | K14: =+'4,1'!K14 -> 2.7 | L14: =+'4,1'!L14 -> 2 | M14: =(I14+J14)*K14*L14 -> 24.3
F15: =+'4,1'!F15:H15 -> PARED FONDO | I15: =+'4,1'!I15 -> 8.5 | J15: =+'4,1'!J15 -> 0.1 | K15: =+'4,1'!K15 -> 2.7 | L15: =+'4,1'!L15 -> 2 | M15: =(I15+J15)*K15*L15 -> 46.44
F16: =+'4,1'!F16:H16 -> PARED FRENTE | I16: =+'4,1'!I16 -> 8.5 | J16: =+'4,1'!J16 -> 0.1 | K16: =+'4,1'!K16 -> 2.7 | L16: =+'4,1'!L16 -> 2 | M16: =(I16+J16)*K16*L16 -> 46.44
F17: =+'4,1'!F17:H17 -> PARED PISO | I17: =+'4,1'!I17 -> 4.4 | J17: =+'4,1'!J17 -> 8.5 | K17: =+'4,1'!K17 -> 0 | L17: =+'4,1'!L17 -> 1 | M17: =I17*J17*L17 -> 37.4
F21: TOTAL | M21: =SUM(M11:M20) -> 203.18
A23: OBSERVACIONES: | I23: CANTIDAD CONTRATUAL | M23: =+M21 -> 203.18
J25: CANTIDAD PRESENTA ACTA
R27: =+M23-M25 -> 203.18
B28: Elaboró: | G28: Revisó:
B32: Olneider Diaz Mayorga | G32: Oscar Javier cuesta Silva
B33: Profesional de apoyo. | G33: Secretario de Planeacion

Sheet 4,3
C1: CONTRATO DE OBRA No. | F1: CONTRATO DE INTERVENTORIA No.
C2: CONTRATISTA: | F2: CONTRATISTA:
C3: =+PRESUPUESTO!A5 -> OBJETO: CONSTRUCCIÓN, OPTIMIZACIÓN Y MANTENIMIENTO DEL SISTEMA DE ABASTECIMIENTO DE AGUA POTABLE QUE GARANTICEN LA CONTINUIDAD, CALIDAD Y EFICIENCIA EN LA PRESTACIÓN DEL SERVICIO PÚBLICO DE ACUEDUCTO URBANO EN EL MUNICIPIO DE SÁCAMA CASANARE
C5: OSCAR JAVIER CUESTA SILVA | F5: SECRETARIO DE PLANEACION Y OBRAS PUBLICAS
A6: MEMORIAS DE CANTIDADES DE OBRA
A8: Ítem | B8: Actividad | E8: Unidad | F8: DESCRIPCION Y UBICACIÓN DE LA ACTIVIDAD | I8: LONGITUD | J8: ANCHO | K8: ALTO | L8: CANT | M8: TOTAL
A9: =+PRESUPUESTO!A39 -> 4.3 | B9: =+PRESUPUESTO!C39 -> Grava 1/2" - 1/4" para filtros. Suministro e Instal. | E9: =+PRESUPUESTO!E39 -> M3
A10: Imagen de Referencia
F11: =+B9 -> Grava 1/2" - 1/4" para filtros. Suministro e Instal. | J11: 1.2 | K11: 1 | L11: 4 | M11: =((PI())*((J11/2)^2))*K11*L11 -> 4.5238934
F12: FILTO TANQUE BOCATOMA | I12: =+'1,16'!I12 -> 1.25 | J12: =+'1,16'!J12 -> 1.25 | K12: =+'1,16'!K11 -> 0.6 | L12: =+'1,16'!L11 -> 1 | M12: =I12*J12*K12*L12 -> 0.9375
F20: TOTAL | M20: =SUM(M11:M19) -> 5.4613934
A22: OBSERVACIONES: | I22: CANTIDAD CONTRATUAL | M22: =+M20 -> 5.4613934
J24: CANTIDAD PRESENTA ACTA
B27: Elaboró: | G27: Revisó:
B31: Olneider Diaz Mayorga | G31: Oscar Javier cuesta Silva
B32: Profesional de apoyo. | G32: Secretario de Planeacion

Sheet 4,4
C1: CONTRATO DE OBRA No. | F1: CONTRATO DE INTERVENTORIA No.
C2: CONTRATISTA: | F2: CONTRATISTA:
C3: =+PRESUPUESTO!A5 -> OBJETO: CONSTRUCCIÓN, OPTIMIZACIÓN Y MANTENIMIENTO DEL SISTEMA DE ABASTECIMIENTO DE AGUA POTABLE QUE GARANTICEN LA CONTINUIDAD, CALIDAD Y EFICIENCIA EN LA PRESTACIÓN DEL SERVICIO PÚBLICO DE ACUEDUCTO URBANO EN EL MUNICIPIO DE SÁCAMA CASANARE
C5: OSCAR JAVIER CUESTA SILVA | F5: SECRETARIO DE PLANEACION Y OBRAS PUBLICAS
A6: MEMORIAS DE CANTIDADES DE OBRA
A8: Ítem | B8: Actividad | E8: Unidad | F8: DESCRIPCION Y UBICACIÓN DE LA ACTIVIDAD | I8: LONGITUD | J8: ANCHO | K8: ALTO | L8: CANT | M8: TOTAL
A9: =+PRESUPUESTO!A40 -> 4.4 | B9: =+PRESUPUESTO!C40 -> Arena silice malla 20 - 40 para filtros. Suministro e Instal. | E9: =+PRESUPUESTO!E40 -> M3
A10: Imagen de Referencia
F11: =+B9 -> Arena silice malla 20 - 40 para filtros. Suministro e Instal. | J11: 1.2 | K11: 0.5 | L11: 4 | M11: =((PI())*((J11/2)^2))*K11*L11 -> 2.2619467
F20: TOTAL | M20: =SUM(M11:M19) -> 2.2619467
A22: OBSERVACIONES: | I22: CANTIDAD CONTRATUAL | M22: =+M20 -> 2.2619467
J24: CANTIDAD PRESENTA ACTA
R26: =+M22-M24 -> 2.2619467
B27: Elaboró: | G27: Revisó:
B31: Olneider Diaz Mayorga | G31: Oscar Javier cuesta Silva
B32: Profesional de apoyo. | G32: Secretario de Planeacion
