Workbook

Sheet ESTUDIOS POLIZAS
A3: COTIZACIONES POLIZAS
B4: 1 | E4: 2 | H4: 3
A5: NOMBRE DE ASESOR | B5: Asesoras Profesionales en Seguros, Fianzas y Pólizas. | E5: Asesor de seguros bastet Ltda | H5: Sandra Fabiola Mora Gutiérrez. Asesora Profesional de Seguros, Fianzas y Pólizas.
A6: ENTIDAD ASEGURADORA | B6: SEGUROS DEL ESTADO | E6: COLMENA SEGUROS | F6: SEGUROS DEL ESTADO | G6: METLIFE | H6: SURAMERICANA SEGUROS
A7: VALOR ASEGURADO | B7: 5000000 | C7: 10000000 | D7: 20000000 | E7: 5000000 | F7: 10000000 | G7: 20000000 | H7: 5000000 | I7: 10000000 | J7: 20000000
A8: VALOR DE LA PRIMA | B8: 2000 | C8: 3000 | D8: 5000 | E8: 1300 | F8: 2500 | G8: 2375 | H8: 2500 | I8: 3500 | J8: 6000
A12: ESTUDIO DE POLIZAS POR VALOR ASEGURADO | B12: 5000000 | C12: 10000000 | D12: 20000000
A13: PROMEDIO VALOR PRIMA | B13: =+(B8+E8+H8)/3 -> 1933.3333 | C13: =+(C8+F8+I8)/3 -> 3000 | D13: =+(D8+G8+J8)/3 -> 4458.3333
A14: PROMEDIO VALOR TOTAL | B14: =+AVERAGE(B13:D13) -> 3130.5556
D17: =+B14*3 -> 9391.6667
D18: 9391.6667

Sheet ESTUDIOS MEDIOS TECN
E1: CANTIDAD DE MEDIOS POR SEDE
A2: CONSOLIDADO MEDIOS TECNOLOGICOS SOLICITADOS | E2: Palacio de justicia de cucuta | F2: edificio temis | G2: villa del Rosario | H2: Palacio de Justicia de Los Patios | I2: Bodega Archivos Los Patios | J2: edificio bco Bogota | K2: Juzgado 1 pequeñas causas, LIBERTAD | L2: Juzgado 2 pequeñas causas, ATALAYA | M2: Juzgado 3 pequeñas causas, ATALAYA | N2: Palacio Nacional | O2: CESPA Cucuta | P2: P Just Pamplona | Q2: Palacio Justicia Ocaña | R2: Edificio bahene Juz, prom de flia 1y 2 De Ocaña | S2: Juzgados Administrativos Ocaña | T2: P, Jus, Ocaña Remodelación | U2: Gonzales Cesar | V2: Hacari | W2: Juzgado de Tibu | X2: San calixto | Y2: Juzgado del Tarra | Z2: Juzgado 2 Administrativo y 2 Ejecución Ocaña | AA2: Sede Juzgados 1,3 y 4 Penales del Circuito OCAÑA | AB2: EL CARMEN | AC2: ABREGO | AD2: RIO DE ORO | AE2: CONVENCION | AF2: TEORAMA | AG2: LA PLAYA | AH2: SARDINATA | AI2: Juz, 1 y 2 prom flia Saravena | AJ2: Juz, cto de Saravena | AK2: Juz, de flia de Saravena | AL2: Cespa Arauca | AM2: Palacio Antiguo de Arauca | AN2: Bodega archivo arauca | AO2: Palcio nuevo de Arauca | AP2: Contraloria departamental Juz de Saravena | AQ2: Edificio Atenea Archivo | AR2: Juzgaqdo Tame Arauca | AS2: Juzgado 01 prom de Fortul | AT2: Juzgado Cravo Norte Arauca | AU2: VALORES | AX2: COTIZACION No 01 COOPSERCIVICOS ASOCIADOS | BA2: COTIZACION No 02 EDISMAN LTDA | BD2: COTIZACION No 03 EAGLE AMERICAN DE SEGURIDAD LTDA
A3: ITEM | B3: MEDIO SOLICITADO | C3: ESPECIFICACIÓN TECNICA | D3: CANTIDAD TOTAL | E3: 1 | F3: 2 | G3: 3 | H3: 4 | J3: 5 | K3: 6 | L3: 7 | M3: 8 | N3: 9 | O3: 10 | P3: 11 | Q3: 12 | R3: 13 | S3: 14 | T3: 15 | U3: 16 | V3: 17 | W3: 18 | X3: 19 | Y3: 20 | Z3: 21 | AA3: 22 | AB3: 23 | AC3: 24 | AD3: 25 | AE3: 26 | AF3: 27 | AG3: 28 | AH3: 29 | AI3: 30 | AJ3: 31 | AK3: 32 | AL3: 33 | AM3: 34 | AN3: 35 | AO3: 36 | AP3: 37 | AQ3: 38 | AR3: 39 | AS3: 40 | AT3: 41 | AU3: VALOR UNITARIO | AV3: VALOR TOTAL | AX3: VALOR UNITARIO | AY3: VALOR TOTAL | BA3: VALOR UNITARIO | BB3: VALOR TOTAL | BD3: VALOR UNITARIO | BE3: VALOR TOTAL
A4: 1 | B4: CAMARA PARA INTERIORES | C4: CAMARA 4 EN 1 1/2,7" CMOS 5MP@20FPS TIPO BALA METALICA 2,8MM FOV 93° DWDR IR 20M IP67, Tecnología: 4 en 1. | D4: =SUM(E4:AT4) -> 395 | E4: 83 | F4: 29 | G4: 5 | H4: 30 | I4: 12 | J4: 12 | K4: 4 | L4: 4 | M4: 4 | N4: 9 | O4: 8 | P4: 21 | Q4: 16 | R4: 4 | S4: 4 | U4: 8 | W4: 4 | X4: 4 | Z4: 4 | AA4: 4 | AB4: 4 | AC4: 4 | AD4: 4 | AE4: 4 | AG4: 4 | AH4: 4 | AI4: 8 | AJ4: 4 | AK4: 4 | AL4: 8 | AM4: 16 | AN4: 8 | AO4: 26 | AP4: 4 | AQ4: 12 | AR4: 4 | AS4: 4 | AT4: 4 | AU4: =+AVERAGE(AX4+BA4+BD4)/3 -> 33443.183 | AV4: =+AU4*D4 -> 13210057 | AX4: 34195.923 | AY4: 13370606 | BA4: 33873.32 | BB4: 13244468 | BD4: 32260.305 | BE4: 12613779
A5: 2 | B5: CAMARA PARA EXTERIORES | C5: CAMARA 4 EN 1 1/2,7" CMOS 1080P TIPO BALA METALICA LENTE MOTORIZADO 2,7-12MM FOV 33.4°-105.9° DWDR IR 60M IP67, Tecnología: 4 en 1. | D5: =SUM(E5:AT5) -> 29 | E5: 10 | F5: 7 | G5: 3 | H5: 2 | O5: 2 | P5: 5 | AU5: =+AVERAGE(AX5+BA5+BD5)/3 -> 40459.694 | AV5: =+AU5*D5 -> 1173331.1 | AX5: 40589.789 | AY5: 1177103.9 | BA5: 41760.649 | BB5: 1211058.8 | BD5: 39028.643 | BE5: 1131830.7
A6: 3 | B6: CIBER DOMOS PTZ | C6: Alcance De Vision Inflarroja 100 m Angulo De Vision 360.00 Con Infrarrojo Con Visión Nocturna Distancia De Alcance 60 Metros Modelo ZS Ambiente De Uso Exterior Calidad De Resolucion 2MP Cantidad Máxima De Fps 30 Zoom Óptico 25x Tipo De Cámara PTZ Tipo De Conexión IP. WDR, Smart IR100m, RS485, IP66, 12VDC/3A resolución de 1080P a 25/30 fps. | D6: =SUM(E6:AT6) -> 9 | E6: 4 | H6: 2 | P6: 1 | Q6: 2 | AU6: =+AVERAGE(AX6+BA6+BD6)/3 -> 88218.777 | AV6: =+AU6*D6 -> 793968.99 | AX6: 89883.282 | AY6: 808949.54 | BA6: 91547.787 | BB6: 823930.09 | BD6: 83225.261 | BE6: 749027.35
A7: 4 | B7: XVR DE 32 CANALES | C7: XVR DE 32 CANALES PentahÍbrido 5 en 1, Soporta HDCVI/HDTVI/AHD/CVBS/IP, H.265/H.264 | D7: =SUM(E7:AT7) -> 13 | E7: 7 | F7: 2 | H7: 1 | P7: 1 | Q7: 1 | AO7: 1 | AU7: =+AVERAGE(AX7+BA7+BD7)/3 -> 74182.255 | AV7: =+AU7*D7 -> 964369.32 | AX7: 76115.343 | AY7: 989499.46 | BA7: 73940.619 | BB7: 961228.05 | BD7: 72490.803 | BE7: 942380.44
A8: 5 | B8: XVR DE 16 CANALES | C8: XVR DE 16 CANALES PentahÍbrido 5 en 1, Soporta HDCVI/HDTVI/AHD/CVBS/IP, H.265/H.265 | D8: =SUM(E8:AT8) -> 6 | I8: 1 | J8: 1 | N8: 1 | O8: 1 | AM8: 1 | AQ8: 1 | AU8: =+AVERAGE(AX8+BA8+BD8)/3 -> 109673.98 | AV8: =+AU8*D8 -> 658043.87 | AX8: 113473.71 | AY8: 680842.24 | BA8: 111919.27 | BB8: 671515.63 | BD8: 103628.96 | BE8: 621773.73
A9: 6 | B9: XVR DE 8 CANALES | C9: XVR DE 8 CANALES PentahÍbrido 5 en 1, Soporta HDCVI/HDTVI/AHD/CVBS/IP, H.265/H.264 | D9: =SUM(E9:AT9) -> 6 | E9: 1 | G9: 1 | U9: 1 | AI9: 1 | AL9: 1 | AN9: 1 | AU9: =+AVERAGE(AX9+BA9+BD9)/3 -> 94089.417 | AV9: =+AU9*D9 -> 564536.5 | AX9: 96443.201 | AY9: 578659.21 | BA9: 97336.931 | BB9: 584021.59 | BD9: 88488.119 | BE9: 530928.71
A10: 7 | B10: XVR DE 4 CANALES | C10: XVR DE 4 CANALES PentahÍbrido 5 en 1, Soporta HDCVI/HDTVI/AHD/CVBS/IP, H.265/H.265 | D10: =SUM(E10:AT10) -> 22 | H10: 1 | K10: 1 | L10: 1 | M10: 1 | R10: 1 | S10: 1 | W10: 1 | X10: 1 | Z10: 1 | AA10: 1 | AB10: 1 | AC10: 1 | AD10: 1 | AE10: 1 | AG10: 1 | AH10: 1 | AJ10: 1 | AK10: 1 | AP10: 1 | AR10: 1 | AS10: 1 | AT10: 1 | AU10: =+AVERAGE(AX10+BA10+BD10)/3 -> 94837.126 | AV10: =+AU10*D10 -> 2086416.8 | AX10: 97871.914 | AY10: 2055310.2 | BA10: 95595.823 | BB10: 2007512.3 | BD10: 91043.641 | BE10: 1911916.5
A11: 8 | B11: GABINETE RACK PARA 8 XVR | C11: GABINETE RACK 11Ru F51 *MEDIDAS -56cm ALTURA -52cm ANCHO -51cm FONDO | D11: =SUM(E11:AT11) -> 2 | E11: 2 | AU11: =+AVERAGE(AX11+BA11+BD11)/3 -> 47731.999 | AV11: =+AU11*D11 -> 95463.999 | AX11: 48596.133 | AY11: 97192.266 | BA11: 49119.161 | BB11: 98238.322 | BD11: 45480.704 | BE11: 90961.409
A12: 9 | B12: TELEVISOR 55" | C12: TELEVISOR 55" P1 resolución 4K UHD | D12: =SUM(E12:AT12) -> 10 | E12: 5 | H12: 1 | P12: 1 | Q12: 1 | AM12: 1 | AO12: 1 | AU12: =+AVERAGE(AX12+BA12+BD12)/3 -> 96373.887 | AV12: =+AU12*D12 -> 963738.87 | AX12: 99802.365 | AY12: 998023.65 | BA12: 97860.699 | BB12: 978606.99 | BD12: 91458.597 | BE12: 914585.97
A13: 10 | B13: TELEVISOR 42" | C13: TELEVISOR 42" P1 resolución 4K UHD | D13: =SUM(E13:AT13) -> 15 | E13: 2 | F13: 2 | U13: 1 | W13: 1 | X13: 1 | Z13: 1 | AA13: 1 | AB13: 1 | AC13: 1 | AD13: 1 | AE13: 1 | AG13: 1 | AH13: 1 | AU13: =+AVERAGE(AX13+BA13+BD13)/3 -> 90418.093 | AV13: =+AU13*D13 -> 1356271.4 | AX13: 91575.83 | AY13: 1373637.4 | BA13: 93707.9 | BB13: 1405618.5 | BD13: 85970.55 | BE13: 1289558.3
A14: 11 | B14: TELEVISOR 32" | C14: TELEVISOR 32" P1 resolución 4K UHD | D14: =SUM(E14:AT14) -> 10 | G14: 1 | H14: 1 | I14: 1 | J14: 1 | N14: 1 | O14: 1 | AI14: 1 | AL14: 1 | AN14: 1 | AQ14: 1 | AU14: =+AVERAGE(AX14+BA14+BD14)/3 -> 42523.791 | AV14: =+AU14*D14 -> 425237.91 | AX14: 42620.956 | AY14: 426209.56 | BA14: 43308.055 | BB14: 433080.55 | BD14: 41642.361 | BE14: 416423.61
A15: 12 | B15: TELEVISOR 22" | C15: TELEVISOR 22" 4K UHD | D15: =SUM(E15:AT15) -> 13 | E15: 1 | K15: 1 | L15: 1 | M15: 1 | P15: 1 | R15: 1 | S15: 1 | AJ15: 1 | AK15: 1 | AP15: 1 | AR15: 1 | AS15: 1 | AT15: 1 | AU15: =+AVERAGE(AX15+BA15+BD15)/3 -> 33360.026 | AV15: =+AU15*D15 -> 433680.34 | AX15: 33155.444 | AY15: 397865.32 | BA15: 34278.472 | BB15: 411341.66 | BD15: 32646.164 | BE15: 391753.96
A16: 13 | B16: ESPEJO DE VIGILANCIA VEHICULAR | C16: DE ESPEJO DE 30 Cms CON LITERNA RECARGABLE Espaldar en polipropileno, Brazo en tubo coll roll de 1" cal. 18. | D16: =SUM(E16:AT16) -> 4 | E16: 1 | F16: 1 | P16: 1 | AO16: 1 | AU16: =+AVERAGE(AX16+BA16+BD16)/3 -> 72642.405 | AV16: =+AU16*D16 -> 290569.62 | AX16: 73808.415 | AY16: 295233.66 | BA16: 74158.218 | BB16: 296632.87 | BD16: 69960.583 | BE16: 279842.33
A17: 14 | B17: COMPUTADORES PARA REGISTROS DE INGRESOS | C17: Pantalla de 21,5 Core I5 10110u 8gb ram disco solido 500 gigas Windows 10 y oficce instalado. | D17: =SUM(E17:AT17) -> 16 | E17: 6 | F17: 1 | G17: 1 | H17: 3 | P17: 1 | Q17: 1 | AM17: 1 | AO17: 2 | AU17: =+AVERAGE(AX17+BA17+BD17)/3 -> 121891.15 | AV17: =+AU17*D17 -> 1950258.4 | AX17: 123666.26 | AY17: 1978660.2 | BA17: 123666.26 | BB17: 1978660.2 | BD17: 118340.92 | BE17: 1893454.7
A18: 15 | B18: CAMARAS (PARA COMPUTADORAS) | C18: Cámaras 1080. Camara Web Genius Qcam 6000 Full Hd 1080p Negra | D18: =SUM(E18:AT18) -> 13 | E18: 4 | F18: 1 | G18: 1 | H18: 2 | P18: 1 | Q18: 1 | AM18: 1 | AO18: 2 | AU18: =+AVERAGE(AX18+BA18+BD18)/3 -> 9032.1263 | AV18: =+AU18*D18 -> 117417.64 | AX18: 9362.067 | AY18: 121706.87 | BA18: 9485.7948 | BB18: 123315.33 | BD18: 8248.5172 | BE18: 107230.72
A19: 16 | B19: CAMARAS INALAMBRICAS (PARA COMPUTADORAS) | C19: [szxmkjacMY] Cámara De Seguridad WiFi De Dos Vías Hablar 1080P HD Loop Grabación Para Interior Al Aire Libre NoBrand. Tipo: cámara IP Resolución: 1080P Tarjeta TF: admite hasta 64 gb Frecuencia principal: 180MHz Corriente de carga: 420mA Consumo de energía: 1.5W (infrarrojo); 1.0W (infrarrojo) Capacidad de la batería: 500mAh color negro Tamaño: 3.9cmx3.3cmx3.3cm/1.54inchx1.30inchx1 cuadrada. | D19: =SUM(E19:AT19) -> 3 | E19: 2 | H19: 1 | AU19: =+AVERAGE(AX19+BA19+BD19)/3 -> 38596.988 | AV19: =+AU19*D19 -> 115790.96 | AX19: 39641.463 | AY19: 118924.39 | BA19: 39714.333 | BB19: 119143 | BD19: 36435.168 | BE19: 109305.5
A20: 17 | B20: LECTOR CODIGO DE BARRAS Y QR CEDULA PARA ALTO RENDIMIENTO | C20: Lector de código de barras con soporte Zebra DS2200 Series DS2278 USB/RS-232/PS-2/RS-485 2D 4.5V - 5.5V twilight black alámbrico. | D20: =SUM(E20:AT20) -> 11 | E20: 2 | F20: 1 | G20: 1 | H20: 2 | P20: 1 | Q20: 1 | AM20: 1 | AO20: 2 | AU20: =+AVERAGE(AX20+BA20+BD20)/3 -> 42527.799 | AV20: =+AU20*D20 -> 467805.78 | AX20: 43813.378 | AY20: 481947.16 | BA20: 42299.712 | BB20: 465296.83 | BD20: 41470.306 | BE20: 456173.36
A21: 18 | B21: LECTOR CODIGO DE BARRAS Y QR CEDULA INALAMBRICO DE ALTO RENDIMIENTO | C21: Lector de código de barras con soporte Zebra DS2200 Series DS2278 USB/RS-232/PS-2/RS-485 2D 4.5V - 5.5V twilight black in alámbrico | D21: =SUM(E21:AT21) -> 3 | E21: 2 | H21: 1 | AU21: =+AVERAGE(AX21+BA21+BD21)/3 -> 39873.642 | AV21: =+AU21*D21 -> 119620.93 | AX21: 41728.23 | AY21: 125184.69 | BA21: 39521.91 | BB21: 118565.73 | BD21: 38370.786 | BE21: 115112.36
A22: 19 | B22: ESTACIONES CON LECTOR PARA CODIGOS DE BARRA Y QR INCLUYE BASE SOPORTE https://www.supremainc.com/en/hardware/versatile-intelligent-terminal-xstation2.asp | C22: Lector de código de barras automatico para lectura de barras 1D, QR, 2D. Que se ajuste a las sofware de ingreso | D22: =SUM(E22:AT22) -> 1 | E22: 1 | AU22: =+AVERAGE(AX22+BA22+BD22)/3 -> 71145.306 | AV22: =+AU22*D22 -> 71145.306 | AX22: 74104.951 | AY22: 74104.951 | BA22: 71031.473 | BB22: 71031.473 | BD22: 68299.494 | BE22: 68299.494
A23: 20 | B23: SOFTWARE GLOBAL PARA TODOS LOS COMPUTADORES Y TABLET | C23: CARACTERISTICAS DEL SOFWARE EN COMENTARIOS: | D23: =SUM(E23:AT23) -> 1 | E23: 1 | AU23: =+AVERAGE(AX23+BA23+BD23)/3 -> 6003630.1 | AV23: =+AU23*D23 -> 6003630.1 | AX23: 6056470.8 | AY23: 6056470.8 | BA23: 6021705.1 | BB23: 6021705.1 | BD23: 5932714.4 | BE23: 5932714.4
A24: 21 | B24: ESCANER RAYOS X | C24: Especificaciones Técnicas • Sensitividad 40 AWG Típico, 38 AWG Garantizado • Resolución Espacial 1.0 mm Horizontal, 1.00 mm Vertical • Penetración1 37 mm en Acero Típico, 35 mm Garantizado • Sensitividad al Contraste 24 Niveles Visibles, 4096 en la Escala de Grises | D24: =SUM(E24:AT24) -> 3 | E24: 2 | H24: 1 | AU24: =+AVERAGE(AX24+BA24+BD24)/3 -> 3695624 | AV24: =+AU24*D24 -> 11086872 | AX24: 3759466.8 | AY24: 11278400 | BA24: 3699977 | BB24: 11099931 | BD24: 3627428.4 | BE24: 10882285
A25: 22 | B25: ARCOS DETECTOR DE METALES | C25: Fuente de alimentación AC100 V~240V Temperatura de trabajo -20°C ~+50°C Frecuencia de trabajo 4KHz~8KHz Tamaño externo estándar 2220mm(H)X835mm(W)X578mm(D) Tamaño interno estándar 1990mm(H)X700mm(W)X578mm(D) Dimensiones del paquete 2310mm(H)X350mm(W)X665mm(D) Peso bruto 65kg | D25: =SUM(E25:AT25) -> 2 | E25: 1 | H25: 1 | AU25: =+AVERAGE(AX25+BA25+BD25)/3 -> 1085609 | AV25: =+AU25*D25 -> 2171218 | AX25: 1103130 | AY25: 2206260 | BA25: 1087510.4 | BB25: 2175020.7 | BD25: 1066186.6 | BE25: 2132373.3
A26: 23 | B26: GARRET DETECTOR METAL | C26: DETECTOR AUDIBLE FRECUENCIA AUDIBLE DE 2 kHz | D26: =SUM(E26:AT26) -> 34 | E26: 3 | F26: 1 | G26: 1 | H26: 1 | J26: 1 | K26: 1 | L26: 1 | M26: 1 | N26: 1 | O26: 1 | P26: 1 | Q26: 1 | U26: 1 | V26: 1 | W26: 1 | X26: 1 | Y26: 1 | Z26: 1 | AA26: 1 | AB26: 1 | AC26: 1 | AD26: 1 | AE26: 1 | AF26: 1 | AG26: 1 | AH26: 1 | AI26: 1 | AJ26: 1 | AK26: 1 | AM26: 1 | AO26: 1 | AR26: 1 | AU26: =+AVERAGE(AX26+BA26+BD26)/3 -> 94023.021 | AV26: =+AU26*D26 -> 3196782.7 | AX26: 95948.407 | AY26: 3262245.8 | BA26: 94435.603 | BB26: 3210810.5 | BD26: 91685.052 | BE26: 3117291.8
A27: 24 | B27: CAJAS FUERTE GRANDE | C27: SISTEMA MECANICO GRANDE PESO 90KG DIMENSIONES 70X45X45 | D27: =SUM(E27:AT27) -> 3 | E27: 2 | H27: 1 | AU27: =+AVERAGE(AX27+BA27+BD27)/3 -> 69505.045 | AV27: =+AU27*D27 -> 208515.13 | AX27: 71623.477 | AY27: 214870.43 | BA27: 69123.51 | BB27: 207370.53 | BD27: 67768.147 | BE27: 203304.44
A28: 25 | B28: CAJA FUERTE PEQUEÑA | C28: SISTEMA MECANICO O DIGITAL PEQUEÑA PESO APROX 8 KG DIMENSIONES 43X18X30 | D28: =SUM(E28:AT28) -> 11 | E28: 1 | F28: 1 | G28: 1 | H28: 1 | N28: 1 | P28: 1 | Q28: 1 | AI28: 1 | AL28: 1 | AM28: 1 | AO28: 1 | AU28: =+AVERAGE(AX28+BA28+BD28)/3 -> 55606.35 | AV28: =+AU28*D28 -> 611669.85 | AX28: 56853.096 | AY28: 625384.06 | BA28: 56324.026 | BB28: 619564.28 | BD28: 53641.929 | BE28: 590061.22
A29: 26 | B29: CILINDRO DESCARGE ARMAS | C29: SEGÚN MEDIDAS ESTABLECIDAS DE SEGURIDAD | D29: =SUM(E29:AT29) -> 16 | E29: 5 | F29: 1 | G29: 1 | H29: 2 | O29: 1 | P29: 1 | Q29: 1 | AI29: 1 | AL29: 1 | AM29: 1 | AO29: 1 | AU29: =+AVERAGE(AX29+BA29+BD29)/3 -> 103655.06 | AV29: =+AU29*D29 -> 1658481 | AX29: 106230.97 | AY29: 1699695.5 | BA29: 104374.31 | BB29: 1669988.9 | BD29: 100359.91 | BE29: 1605758.6
A30: 27 | B30: SISTEMA ELECTRONICO DE ALARMA CON INFRAROJO PARA EL CONTROL DE ACCESO SISTEMA AUDITIVO Y SEÑAL A UNA CENTRAL DE ALARMAS | C30: DSC LC100 O 104 DEPEDIENDO LA NECESIDAD DE LA EDIFICACION. | D30: =SUM(E30:AT30) -> 13 | I30: 1 | J30: 1 | K30: 1 | L30: 1 | M30: 1 | R30: 1 | S30: 1 | U30: 1 | AA30: 1 | AJ30: 1 | AK30: 1 | AN30: 1 | AQ30: 1 | AU30: =+AVERAGE(AX30+BA30+BD30)/3 -> 174603.01 | AV30: =+AU30*D30 -> 2269839.2 | AX30: 180141.73 | AY30: 2341842.5 | BA30: 176838.52 | BB30: 2298900.7 | BD30: 166828.79 | BE30: 2168774.3
A31: 28 | B31: SISTEMA DE ALERTA DE HUMO | C31: CON NUMERO DE SENSORES DE HUMO DEPENDIENDO DE LA NECESIDAD DE LA EDIFICACION | D31: =SUM(E31:AT31) -> 2 | E31: 1 | I31: 1 | AU31: =+AVERAGE(AX31+BA31+BD31)/3 -> 182350.13 | AV31: =+AU31*D31 -> 364700.25 | AX31: 191674.35 | AY31: 383348.7 | BA31: 179447.3 | BB31: 358894.6 | BD31: 175928.73 | BE31: 351857.45
A32: 29 | B32: RADIO BASE | C32: GLOBAL | D32: =SUM(E32:AT32) -> 1 | E32: 1 | AU32: =+AVERAGE(AX32+BA32+BD32)/3 -> 419189.64 | AV32: =+AU32*D32 -> 419189.64 | AX32: 439151.06 | AY32: 439151.06 | BA32: 419189.64 | BB32: 419189.64 | BD32: 399228.23 | BE32: 399228.23
A33: 30 | B33: SISTEMA DE COMUNICACIÓN MOVIL INALAMABRICA CON PLAN MENSUAL | C33: Memoria Interna 512 GB, Memoria RAM 8 GB, procesador de 8 nucleos CON PLAN MENSUAL | D33: =SUM(E33:AT33) -> 2 | E33: 2 | AU33: =+AVERAGE(AX33+BA33+BD33)/3 -> 145435.21 | AV33: =+AU33*D33 -> 290870.42 | AX33: 148413.41 | AY33: 296826.81 | BA33: 146073.4 | BB33: 292146.79 | BD33: 141818.83 | BE33: 283637.66
A34: 31 | B34: RADIOS DE COMUNICACIÓN | C34: DIGITAL | D34: =SUM(E34:AT34) -> 1 | E34: 1 | AU34: =+AVERAGE(AX34+BA34+BD34)/3 -> 148835.84 | AV34: =+AU34*D34 -> 148835.84 | AX34: 162616.94 | AY34: 162616.94 | BA34: 146079.62 | BB34: 146079.62 | BD34: 137810.96 | BE34: 137810.96
AU35: Subtotal | AV35: =SUM(AV4:AV34) -> 54288329 | AX35: Subtotal | AY35: =SUM(AY4:AY34) -> 55116774 | BA35: Subtotal | BB35: =SUM(BB4:BB34) -> 54522868 | BD35: Subtotal | BE35: =SUM(BE4:BE34) -> 52439436
B36: NOTA: LOS MEDIOS TECNOLOGICOS DEBEN INCLUIR LOS SIGUIENTES ACCESORIOS EN CASO DE SER NECESARIO PARA LAS DIFERENTES INSTALACIONES, COMO PARA SU OPERACIÓN: | AU36: AIU 10% | AV36: =AV35*10% -> 5428832.9 | AX36: AIU 10% | AY36: =AY35*10% -> 5511677.4 | BA36: AIU 10% | BB36: =BB35*10% -> 5452286.8 | BD36: AIU 10% | BE36: =BE35*10% -> 5243943.6
B37: MEDIOS MAGNETICOS - DISCOS DURO 4 A 6 TB PURPLE, LOS QUE SE REQUIERAN SEGÚN SU USO. | AU37: IVA | AV37: =+AV36*19% -> 1031478.3 | AX37: IVA | AY37: =+AY36*19% -> 1047218.7 | BA37: IVA | BB37: =+BB36*19% -> 1035934.5 | BD37: IVA | BE37: =+BE36*19% -> 996349.28
B38: UPS DE 2 KVA | AU38: TOTAL | AV38: =+AV35+AV37 -> 55319807 | AX38: TOTAL | AY38: =+AY35+AY37 -> 56163992 | BA38: TOTAL | BB38: =+BB35+BB37 -> 55558803 | BD38: TOTAL | BE38: =+BE35+BE37 -> 53435785
B39: SUPRESORES DE PICO DE VOLTAJE
B40: CABLES HDMI DIFERENTES MEDIDAS
...

Sheet CALCULOS
A1: CALCULOS CONTRATO DE VIGILANCIA NORTE DE SANTANDER Y ARAUCA A PARTIR DEL 19 DE MARZO DEL 2026 RESOLUCION SUPERVIGILANCIA Nº 20251300000115CS DEL 30/12/2025
A4: ESPECIFICAR EL VALOR DE LA POLIZA DEL SEGURO COLECTIVO POR PERSONA EN ESTE ESPACIO | D4: =+'ESTUDIOS POLIZAS'!B14 -> 3130.5556
A5: VALOR DE LOS MEDIOS TECNOLOGICOS ANTES DEL IVA, EN ESTA CASILLA | D5: =+'ESTUDIOS MEDIOS TECN'!AV35 -> 54288329
A7: A partir del 25 de diciembre del año 2025. | D7: 9.77
A8: A partir del 01 de julio del año 2026. | D8: 9.85
A9: A partir del 15 de julio del año 2026. | D9: 10.21
I10: 1-VALOR DEL 24 AL 31 DIAS OCTUBRE 2026 CON TARIFA (10,21) (07 DIAS) | Q10: 2- VALOR DE NOVIEMBRE 2026 CON TARIFA (10,21) (30 DIAS) | X10: 3- VALOR DE DIEZ DIAS DE DICIEMBRE 2026 CON TARIFA (10,21) (10 DIAS) | AE10: VALOR TOTAL
M11: 0.1 | U11: 0.1 | AG11: valor por unidades
A12: TIPO DE SERVICIO | B12: UBICACIÓN | C12: SEDE JUDICIAL DIRECCION | D12: CIUDAD | E12: No. SERVICIOS | F12: % UND 02 | G12: % UND 08 | H12: % UND 09 | I12: VALOR | J12: VALOR SEGURO DE VIDA COLECTIVO | K12: PORCENTAJE DE GASTOS DE ADMINISTRACIÓ N Y SUPERVISIÓN | L12: V/R SERVICIO - CIRCULAR EXTERNA No 20241300000445 Y SEGURO DE VIDA - INCUIDO AYS | M12: AIU 10% | N12: IVA 19% | O12: VALOR TOTAL MENSUAL | Q12: VALOR | R12: VALOR SEGURO DE VIDA COLECTIVO | S12: PORCENTAJE DE GASTOS DE ADMINISTRACIÓ N Y SUPERVISIÓN | T12: V/R SERVICIO - CIRCULAR EXTERNA No 20241300000445 Y SEGURO DE VIDA - INCUIDO AYS | U12: AIU 10% | V12: IVA 19% | W12: VALOR TOTAL MENSUAL | X12: VALOR | Y12: VALOR SEGURO DE VIDA COLECTIVO | Z12: PORCENTAJE DE GASTOS DE ADMINISTRACIÓ N Y SUPERVISIÓN | AA12: V/R SERVICIO - CIRCULAR EXTERNA No 20241300000445 Y SEGURO DE VIDA - INCUIDO AYS | AB12: AIU 10% | AC12: IVA 19% | AD12: VALOR TOTAL MENSUAL | AE12: VALOR TOTAL DEL 24 DE OCTUBRE AL 10 DE DICIEMBRE DEL 2026 | AG12: U2 | AH12: U8 | AI12: U9
A13: Servicio de vigilancia física con medio humano, con arma, sin canino, con jornada laboral mes/24 horas de domingo a domingo. | B13: (Interno) Entrada Principal de Funcionarios Palacio deJusticia | C13: PALACIO DE JUSTICIA FRANCISCO PAULA SANTANDER AV GRAN COLOMBIA ENTRE AV 3E Y 4E | D13: Cucuta | E13: 1 | G13: 1 | I13: =(((((1750905*$D$9+J13)*47.59%)/13*13)/30*7)+((((1750905*$D$9+J13)*52.41%)/11*11)/30*7)) -> 4173430.7 | J13: =+$D$4*3 -> 9391.6667 | K13: =SUM(I13)*10% -> 417343.07 | L13: =+I13+K13 -> 4590773.8 | M13: =ROUND(L13*$M$11,0) -> 459077 | N13: =ROUND(M13*19%,0) -> 87225 | O13: =+(L13+N13)*E13 -> 4677998.8 | Q13: =(((((1750905*$D$9+R13)*47.59%)/13*13)/30*30)+((((1750905*$D$9+R13)*52.41%)/11*11)/30*30)) -> 17886132 | R13: =+$D$4*3 -> 9391.6667 | S13: =SUM(Q13)*10% -> 1788613.2 | T13: =+Q13+S13 -> 19674745 | U13: =ROUND(T13*$U$11,0) -> 1967474 | V13: =ROUND(U13*19%,0) -> 373820 | W13: =+(T13+V13)*E13 -> 20048565 | X13: =(((((1750905*$D$9+Y13)*47.59%)/13*13)/30*10)+((((1750905*$D$9+Y13)*52.41%)/11*11)/30*10)) -> 5962043.9 | Y13: =+$D$4*3 -> 9391.6667 | Z13: =SUM(X13)*10% -> 596204.39 | AA13: =+X13+Z13 -> 6558248.3 | AB13: =ROUND(AA13*$U$11,0) -> 655825 | AC13: =ROUND(AB13*19%,0) -> 124607 | AD13: =+(AA13+AC13)*E13 -> 6682855.3 | AE13: =+O13+W13+AD13 -> 31409419 | AG13: =+AE13*F13 -> 0 | AH13: =+AE13*G13 -> 31409419 | AI13: =+AE13*H13 -> 0
A14: Servicio de vigilancia física con medio humano, con arma, sin canino, con jornada laboral mes/12 horas de lunes a sábado, sin festivos | B14: Ingreso parqueadero | C14: PALACIO DE JUSTICIA FRANCISCO PAULA SANTANDER AV GRAN COLOMBIA ENTRE AV 3E Y 4E | D14: Cucuta | E14: 1 | G14: 1 | I14: =(((((1750905*$D$9+J14)*47.59%)/13*12)/30*5)+((((1750905*$D$9+J14)*52.41%)/11*0)/30*0)) -> 1309540 | J14: =+$D$4*3 -> 9391.6667 | K14: =SUM(I14)*10% -> 130954 | L14: =+I14+K14 -> 1440494 | M14: =ROUND(L14*$M$11,0) -> 144049 | N14: =ROUND(M14*19%,0) -> 27369 | O14: =+(L14+N14)*E14 -> 1467863 | Q14: =(((((1750905*$D$9+R14)*47.59%)/13*12)/30*24)+((((1750905*$D$9+R14)*52.41%)/11*0)/30*0)) -> 6285792.1 | R14: =+$D$4*3 -> 9391.6667 | S14: =SUM(Q14)*10% -> 628579.21 | T14: =+Q14+S14 -> 6914371.3 | U14: =ROUND(T14*$U$11,0) -> 691437 | V14: =ROUND(U14*19%,0) -> 131373 | W14: =+(T14+V14)*E14 -> 7045744.3 | X14: =(((((1750905*$D$9+Y14)*47.59%)/13*12)/30*8)+((((1750905*$D$9+Y14)*52.41%)/11*0)/30*0)) -> 2095264 | Y14: =+$D$4*3 -> 9391.6667 | Z14: =SUM(X14)*10% -> 209526.4 | AA14: =+X14+Z14 -> 2304790.4 | AB14: =ROUND(AA14*$U$11,0) -> 230479 | AC14: =ROUND(AB14*19%,0) -> 43791 | AD14: =+(AA14+AC14)*E14 -> 2348581.4 | AE14: =+O14+W14+AD14 -> 10862189 | AG14: =+AE14*F14 -> 0 | AH14: =+AE14*G14 -> 10862189 | AI14: =+AE14*H14 -> 0
A15: Servicio de vigilancia física con medio humano, con arma, sin canino, con jornada laboral mes/24 horas de domingo a domingo. | B15: (Exterior) AV 2E con Cll 9 Esquina frente al Bunquer | C15: PALACIO DE JUSTICIA FRANCISCO PAULA SANTANDER AV GRAN COLOMBIA ENTRE AV 3E Y 4E | D15: Cucuta | E15: 1 | G15: 1 | I15: =(((((1750905*$D$9+J15)*47.59%)/13*13)/30*7)+((((1750905*$D$9+J15)*52.41%)/11*11)/30*7)) -> 4173430.7 | J15: =+$D$4*3 -> 9391.6667 | K15: =SUM(I15)*10% -> 417343.07 | L15: =+I15+K15 -> 4590773.8 | M15: =ROUND(L15*$M$11,0) -> 459077 | N15: =ROUND(M15*19%,0) -> 87225 | O15: =+(L15+N15)*E15 -> 4677998.8 | Q15: =(((((1750905*$D$9+R15)*47.59%)/13*13)/30*30)+((((1750905*$D$9+R15)*52.41%)/11*11)/30*30)) -> 17886132 | R15: =+$D$4*3 -> 9391.6667 | S15: =SUM(Q15)*10% -> 1788613.2 | T15: =+Q15+S15 -> 19674745 | U15: =ROUND(T15*$U$11,0) -> 1967474 | V15: =ROUND(U15*19%,0) -> 373820 | W15: =+(T15+V15)*E15 -> 20048565 | X15: =(((((1750905*$D$9+Y15)*47.59%)/13*13)/30*10)+((((1750905*$D$9+Y15)*52.41%)/11*11)/30*10)) -> 5962043.9 | Y15: =+$D$4*3 -> 9391.6667 | Z15: =SUM(X15)*10% -> 596204.39 | AA15: =+X15+Z15 -> 6558248.3 | AB15: =ROUND(AA15*$U$11,0) -> 655825 | AC15: =ROUND(AB15*19%,0) -> 124607 | AD15: =+(AA15+AC15)*E15 -> 6682855.3 | AE15: =+O15+W15+AD15 -> 31409419 | AG15: =+AE15*F15 -> 0 | AH15: =+AE15*G15 -> 31409419 | AI15: =+AE15*H15 -> 0
A16: Servicio de vigilancia física con medio humano, con arma, sin canino, con jornada laboral mes/24 horas de domingo a domingo. | B16: (Interno) Entrada de Visitantes y Abogados Palacio de Justicia | C16: PALACIO DE JUSTICIA FRANCISCO PAULA SANTANDER AV GRAN COLOMBIA ENTRE AV 3E Y 4E | D16: Cucuta | E16: 1 | G16: 1 | I16: =(((((1750905*$D$9+J16)*47.59%)/13*13)/30*7)+((((1750905*$D$9+J16)*52.41%)/11*11)/30*7)) -> 4173430.7 | J16: =+$D$4*3 -> 9391.6667 | K16: =SUM(I16)*10% -> 417343.07 | L16: =+I16+K16 -> 4590773.8 | M16: =ROUND(L16*$M$11,0) -> 459077 | N16: =ROUND(M16*19%,0) -> 87225 | O16: =+(L16+N16)*E16 -> 4677998.8 | Q16: =(((((1750905*$D$9+R16)*47.59%)/13*13)/30*30)+((((1750905*$D$9+R16)*52.41%)/11*11)/30*30)) -> 17886132 | R16: =+$D$4*3 -> 9391.6667 | S16: =SUM(Q16)*10% -> 1788613.2 | T16: =+Q16+S16 -> 19674745 | U16: =ROUND(T16*$U$11,0) -> 1967474 | V16: =ROUND(U16*19%,0) -> 373820 | W16: =+(T16+V16)*E16 -> 20048565 | X16: =(((((1750905*$D$9+Y16)*47.59%)/13*13)/30*10)+((((1750905*$D$9+Y16)*52.41%)/11*11)/30*10)) -> 5962043.9 | Y16: =+$D$4*3 -> 9391.6667 | Z16: =SUM(X16)*10% -> 596204.39 | AA16: =+X16+Z16 -> 6558248.3 | AB16: =ROUND(AA16*$U$11,0) -> 655825 | AC16: =ROUND(AB16*19%,0) -> 124607 | AD16: =+(AA16+AC16)*E16 -> 6682855.3 | AE16: =+O16+W16+AD16 -> 31409419 | AG16: =+AE16*F16 -> 0 | AH16: =+AE16*G16 -> 31409419 | AI16: =+AE16*H16 -> 0
A17: Servicio de vigilancia física con medio humano, con arma, sin canino, con jornada laboral mes/24 horas de domingo a domingo. | B17: (Exterior) Esquina de Virgilo Barco (subida rampa). | C17: PALACIO DE JUSTICIA FRANCISCO PAULA SANTANDER AV GRAN COLOMBIA ENTRE AV 3E Y 4E | D17: Cucuta | E17: 1 | G17: 1 | I17: =(((((1750905*$D$9+J17)*47.59%)/13*13)/30*7)+((((1750905*$D$9+J17)*52.41%)/11*11)/30*7)) -> 4173430.7 | J17: =+$D$4*3 -> 9391.6667 | K17: =SUM(I17)*10% -> 417343.07 | L17: =+I17+K17 -> 4590773.8 | M17: =ROUND(L17*$M$11,0) -> 459077 | N17: =ROUND(M17*19%,0) -> 87225 | O17: =+(L17+N17)*E17 -> 4677998.8 | Q17: =(((((1750905*$D$9+R17)*47.59%)/13*13)/30*30)+((((1750905*$D$9+R17)*52.41%)/11*11)/30*30)) -> 17886132 | R17: =+$D$4*3 -> 9391.6667 | S17: =SUM(Q17)*10% -> 1788613.2 | T17: =+Q17+S17 -> 19674745 | U17: =ROUND(T17*$U$11,0) -> 1967474 | V17: =ROUND(U17*19%,0) -> 373820 | W17: =+(T17+V17)*E17 -> 20048565 | X17: =(((((1750905*$D$9+Y17)*47.59%)/13*13)/30*10)+((((1750905*$D$9+Y17)*52.41%)/11*11)/30*10)) -> 5962043.9 | Y17: =+$D$4*3 -> 9391.6667 | Z17: =SUM(X17)*10% -> 596204.39 | AA17: =+X17+Z17 -> 6558248.3 | AB17: =ROUND(AA17*$U$11,0) -> 655825 | AC17: =ROUND(AB17*19%,0) -> 124607 | AD17: =+(AA17+AC17)*E17 -> 6682855.3 | AE17: =+O17+W17+AD17 -> 31409419 | AG17: =+AE17*F17 -> 0 | AH17: =+AE17*G17 -> 31409419 | AI17: =+AE17*H17 -> 0
A18: (Operador de medios tecnológicos) Servicio de vigilancia física con medio humano, sin arma, sin canino, con jornada laboral mes/24 horas de domingo a domingo. | B18: (interno). MONITOREO CCTV Cuarto de monitoreo CCTV del Palacio de Justicia de Cúcuta - Avenida Gran Colombia entre Avd. 3E y 4E, Cúcuta. | C18: PALACIO DE JUSTICIA FRANCISCO PAULA SANTANDER AV GRAN COLOMBIA ENTRE AV 3E Y 4E | D18: Cucuta | E18: 1 | F18: 0.32 | G18: 0.64 | H18: 0.04 | I18: =(((((1750905*$D$9+J18)*47.59%)/13*13)/30*7)+((((1750905*$D$9+J18)*52.41%)/11*11)/30*7)) -> 4173430.7 | J18: =+$D$4*3 -> 9391.6667 | K18: =SUM(I18)*8% -> 333874.46 | L18: =+I18+K18 -> 4507305.2 | M18: =ROUND(L18*$M$11,0) -> 450731 | N18: =ROUND(M18*19%,0) -> 85639 | O18: =+(L18+N18)*E18 -> 4592944.2 | Q18: =(((((1750905*$D$9+R18)*47.59%)/13*13)/30*30)+((((1750905*$D$9+R18)*52.41%)/11*11)/30*30)) -> 17886132 | R18: =+$D$4*3 -> 9391.6667 | S18: =SUM(Q18)*8% -> 1430890.5 | T18: =+Q18+S18 -> 19317022 | U18: =ROUND(T18*$U$11,0) -> 1931702 | V18: =ROUND(U18*19%,0) -> 367023 | W18: =+(T18+V18)*E18 -> 19684045 | X18: =(((((1750905*$D$9+Y18)*47.59%)/13*13)/30*10)+((((1750905*$D$9+Y18)*52.41%)/11*11)/30*10)) -> 5962043.9 | Y18: =+$D$4*3 -> 9391.6667 | Z18: =SUM(X18)*8% -> 476963.51 | AA18: =+X18+Z18 -> 6439007.4 | AB18: =ROUND(AA18*$U$11,0) -> 643901 | AC18: =ROUND(AB18*19%,0) -> 122341 | AD18: =+(AA18+AC18)*E18 -> 6561348.4 | AE18: =+O18+W18+AD18 -> 30838338 | AG18: =+AE18*F18 -> 9868268.1 | AH18: =+AE18*G18 -> 19736536 | AI18: =+AE18*H18 -> 1233533.5
A19: Servicio de vigilancia física con medio humano, sin arma, sin canino, con jornada laboral mes/10 horas diurnas de lunes a viernes sin festivos | B19: (interno). FICHERO 1 CUBICULO Control de fichero puerta principal I Etapa del Palacio de Justicia de Cúcuta - Avenida Gran Colombia entre Avd. 3E y 4E de Cúcuta. | C19: PALACIO DE JUSTICIA FRANCISCO PAULA SANTANDER AV GRAN COLOMBIA ENTRE AV 3E Y 4E | D19: Cucuta | E19: 1 | G19: 1 | I19: =(((((1750905*$D$9+J19)*47.59%)/13*10)/30*4)+((((1750905*$D$9+J19)*52.41%)/11*0)/30*0)) -> 873026.68 | J19: =+$D$4*3 -> 9391.6667 | K19: =SUM(I19)*8% -> 69842.134 | L19: =+I19+K19 -> 942868.81 | M19: =ROUND(L19*$M$11,0) -> 94287 | N19: =ROUND(M19*19%,0) -> 17915 | O19: =+(L19+N19)*E19 -> 960783.81 | Q19: =(((((1750905*$D$9+R19)*47.59%)/13*10)/30*20)+((((1750905*$D$9+R19)*52.41%)/11*0)/30*0)) -> 4365133.4 | R19: =+$D$4*3 -> 9391.6667 | S19: =SUM(Q19)*8% -> 349210.67 | T19: =+Q19+S19 -> 4714344 | U19: =ROUND(T19*$U$11,0) -> 471434 | V19: =ROUND(U19*19%,0) -> 89572 | W19: =+(T19+V19)*E19 -> 4803916 | X19: =(((((1750905*$D$9+Y19)*47.59%)/13*10)/30*7)+((((1750905*$D$9+Y19)*52.41%)/11*0)/30*0)) -> 1527796.7 | Y19: =+$D$4*3 -> 9391.6667 | Z19: =SUM(X19)*8% -> 122223.73 | AA19: =+X19+Z19 -> 1650020.4 | AB19: =ROUND(AA19*$U$11,0) -> 165002 | AC19: =ROUND(AB19*19%,0) -> 31350 | AD19: =+(AA19+AC19)*E19 -> 1681370.4 | AE19: =+O19+W19+AD19 -> 7446070.3 | AG19: =+AE19*F19 -> 0 | AH19: =+AE19*G19 -> 7446070.3 | AI19: =+AE19*H19 -> 0
A20: Servicio de vigilancia física con medio humano, sin arma, sin canino, con jornada laboral mes/10 horas diurnas de lunes a viernes sin festivos | B20: (interno) FICHERO 2 CUBICULO Control de fichero puerta principal I Etapa del Palacio de Justicia de Cúcuta - Avenida Gran Colombia entre Avd. 3E y 4E de Cúcuta. | C20: PALACIO DE JUSTICIA FRANCISCO PAULA SANTANDER AV GRAN COLOMBIA ENTRE AV 3E Y 4E | D20: Cucuta | E20: 1 | G20: 1 | I20: =(((((1750905*$D$9+J20)*47.59%)/13*10)/30*4)+((((1750905*$D$9+J20)*52.41%)/11*0)/30*0)) -> 873026.68 | J20: =+$D$4*3 -> 9391.6667 | K20: =SUM(I20)*8% -> 69842.134 | L20: =+I20+K20 -> 942868.81 | M20: =ROUND(L20*$M$11,0) -> 94287 | N20: =ROUND(M20*19%,0) -> 17915 | O20: =+(L20+N20)*E20 -> 960783.81 | Q20: =(((((1750905*$D$9+R20)*47.59%)/13*10)/30*20)+((((1750905*$D$9+R20)*52.41%)/11*0)/30*0)) -> 4365133.4 | R20: =+$D$4*3 -> 9391.6667 | S20: =SUM(Q20)*8% -> 349210.67 | T20: =+Q20+S20 -> 4714344 | U20: =ROUND(T20*$U$11,0) -> 471434 | V20: =ROUND(U20*19%,0) -> 89572 | W20: =+(T20+V20)*E20 -> 4803916 | X20: =(((((1750905*$D$9+Y20)*47.59%)/13*10)/30*7)+((((1750905*$D$9+Y20)*52.41%)/11*0)/30*0)) -> 1527796.7 | Y20: =+$D$4*3 -> 9391.6667 | Z20: =SUM(X20)*8% -> 122223.73 | AA20: =+X20+Z20 -> 1650020.4 | AB20: =ROUND(AA20*$U$11,0) -> 165002 | AC20: =ROUND(AB20*19%,0) -> 31350 | AD20: =+(AA20+AC20)*E20 -> 1681370.4 | AE20: =+O20+W20+AD20 -> 7446070.3 | AG20: =+AE20*F20 -> 0 | AH20: =+AE20*G20 -> 7446070.3 | AI20: =+AE20*H20 -> 0
A21: Servicio de vigilancia física con medio humano, sin arma, sin canino, con jornada laboral mes/10 horas diurnas de lunes a viernes sin festivos | B21: (interno) FICHERO 3 CUBICULO Control de fichero puerta principal, abogados y usuarios. I Etapa del Palacio de Justicia de Cúcuta - Avenida Gran Colombia entre Avd. 3E y 4E de Cúcuta. | C21: PALACIO DE JUSTICIA FRANCISCO PAULA SANTANDER AV GRAN COLOMBIA ENTRE AV 3E Y 4E | D21: Cucuta | E21: 1 | G21: 1 | I21: =(((((1750905*$D$9+J21)*47.59%)/13*10)/30*4)+((((1750905*$D$9+J21)*52.41%)/11*0)/30*0)) -> 873026.68 | J21: =+$D$4*3 -> 9391.6667 | K21: =SUM(I21)*8% -> 69842.134 | L21: =+I21+K21 -> 942868.81 | M21: =ROUND(L21*$M$11,0) -> 94287 | N21: =ROUND(M21*19%,0) -> 17915 | O21: =+(L21+N21)*E21 -> 960783.81 | Q21: =(((((1750905*$D$9+R21)*47.59%)/13*10)/30*20)+((((1750905*$D$9+R21)*52.41%)/11*0)/30*0)) -> 4365133.4 | R21: =+$D$4*3 -> 9391.6667 | S21: =SUM(Q21)*8% -> 349210.67 | T21: =+Q21+S21 -> 4714344 | U21: =ROUND(T21*$U$11,0) -> 471434 | V21: =ROUND(U21*19%,0) -> 89572 | W21: =+(T21+V21)*E21 -> 4803916 | X21: =(((((1750905*$D$9+Y21)*47.59%)/13*10)/30*7)+((((1750905*$D$9+Y21)*52.41%)/11*0)/30*0)) -> 1527796.7 | Y21: =+$D$4*3 -> 9391.6667 | Z21: =SUM(X21)*8% -> 122223.73 | AA21: =+X21+Z21 -> 1650020.4 | AB21: =ROUND(AA21*$U$11,0) -> 165002 | AC21: =ROUND(AB21*19%,0) -> 31350 | AD21: =+(AA21+AC21)*E21 -> 1681370.4 | AE21: =+O21+W21+AD21 -> 7446070.3 | AG21: =+AE21*F21 -> 0 | AH21: =+AE21*G21 -> 7446070.3 | AI21: =+AE21*H21 -> 0
A22: Servicio de vigilancia física con medio humano, sin arma, sin canino, con jornada laboral mes/12 horas de domingo a domingo. | B22: SISTEMA PENAL ACUSATORIO 2DO PISO Seguridad nuevo SPA I Etapa del Palacio de Justicia de Cúcuta | C22: PALACIO DE JUSTICIA FRANCISCO PAULA SANTANDER AV GRAN COLOMBIA ENTRE AV 3E Y 4E | D22: Cucuta | E22: 1 | G22: 1 | I22: =(((((1750905*$D$9+J22)*47.59%)/13*12)/30*7)+((((1750905*$D$9+J22)*52.41%)/11*0)/30*0)) -> 1833356 | J22: =+$D$4*3 -> 9391.6667 | K22: =SUM(I22)*8% -> 146668.48 | L22: =+I22+K22 -> 1980024.5 | M22: =ROUND(L22*$M$11,0) -> 198002 | N22: =ROUND(M22*19%,0) -> 37620 | O22: =+(L22+N22)*E22 -> 2017644.5 | Q22: =(((((1750905*$D$9+R22)*47.59%)/13*12)/30*30)+((((1750905*$D$9+R22)*52.41%)/11*0)/30*0)) -> 7857240.1 | R22: =+$D$4*3 -> 9391.6667 | S22: =SUM(Q22)*8% -> 628579.21 | T22: =+Q22+S22 -> 8485819.3 | U22: =ROUND(T22*$U$11,0) -> 848582 | V22: =ROUND(U22*19%,0) -> 161231 | W22: =+(T22+V22)*E22 -> 8647050.3 | X22: =(((((1750905*$D$9+Y22)*47.59%)/13*12)/30*10)+((((1750905*$D$9+Y22)*52.41%)/11*0)/30*0)) -> 2619080 | Y22: =+$D$4*3 -> 9391.6667 | Z22: =SUM(X22)*8% -> 209526.4 | AA22: =+X22+Z22 -> 2828606.4 | AB22: =ROUND(AA22*$U$11,0) -> 282861 | AC22: =ROUND(AB22*19%,0) -> 53744 | AD22: =+(AA22+AC22)*E22 -> 2882350.4 | AE22: =+O22+W22+AD22 -> 13547045 | AG22: =+AE22*F22 -> 0 | AH22: =+AE22*G22 -> 13547045 | AI22: =+AE22*H22 -> 0
A23: Servicio de vigilancia física con medio humano, con arma, sin canino, con jornada laboral mes/24 horas de domingo a domingo. | B23: (interno y exterior) (FICHERO) GARITA CONTROL VEHICULAR Puesto de control vehicular al sótano del Palacio de Justicia de Cúcuta - Avenida 4E de Cúcuta. | C23: PALACIO DE JUSTICIA FRANCISCO PAULA SANTANDER AV GRAN COLOMBIA ENTRE AV 3E Y 4E | D23: Cucuta | E23: 1 | G23: 1 | I23: =(((((1750905*$D$9+J23)*47.59%)/13*13)/30*7)+((((1750905*$D$9+J23)*52.41%)/11*11)/30*7)) -> 4173430.7 | J23: =+$D$4*3 -> 9391.6667 | K23: =SUM(I23)*10% -> 417343.07 | L23: =+I23+K23 -> 4590773.8 | M23: =ROUND(L23*$M$11,0) -> 459077 | N23: =ROUND(M23*19%,0) -> 87225 | O23: =+(L23+N23)*E23 -> 4677998.8 | Q23: =(((((1750905*$D$9+R23)*47.59%)/13*13)/30*30)+((((1750905*$D$9+R23)*52.41%)/11*11)/30*30)) -> 17886132 | R23: =+$D$4*3 -> 9391.6667 | S23: =SUM(Q23)*10% -> 1788613.2 | T23: =+Q23+S23 -> 19674745 | U23: =ROUND(T23*$U$11,0) -> 1967474 | V23: =ROUND(U23*19%,0) -> 373820 | W23: =+(T23+V23)*E23 -> 20048565 | X23: =(((((1750905*$D$9+Y23)*47.59%)/13*13)/30*10)+((((1750905*$D$9+Y23)*52.41%)/11*11)/30*10)) -> 5962043.9 | Y23: =+$D$4*3 -> 9391.6667 | Z23: =SUM(X23)*10% -> 596204.39 | AA23: =+X23+Z23 -> 6558248.3 | AB23: =ROUND(AA23*$U$11,0) -> 655825 | AC23: =ROUND(AB23*19%,0) -> 124607 | AD23: =+(AA23+AC23)*E23 -> 6682855.3 | AE23: =+O23+W23+AD23 -> 31409419 | AG23: =+AE23*F23 -> 0 | AH23: =+AE23*G23 -> 31409419 | AI23: =+AE23*H23 -> 0
A24: Servicio de vigilancia física con medio humano, sin arma , sin canino, con jornada laboral mes/8 horas diurnas de lunes a viernes. | B24: (interno) Palacio de Justicia RAYOS X usuarios | C24: PALACIO DE JUSTICIA FRANCISCO PAULA SANTANDER AV GRAN COLOMBIA ENTRE AV 3E Y 4E | D24: Cucuta | E24: 1 | G24: 1 | I24: =(((((1750905*$D$9+J24)*47.59%)/13*8)/30*4)+((((1750905*$D$9+J24)*52.41%)/11*0)/30*0)) -> 698421.34 | J24: =+$D$4*3 -> 9391.6667 | K24: =SUM(I24)*8% -> 55873.707 | L24: =+I24+K24 -> 754295.05 | M24: =ROUND(L24*$M$11,0) -> 75430 | N24: =ROUND(M24*19%,0) -> 14332 | O24: =+(L24+N24)*E24 -> 768627.05 | Q24: =(((((1750905*$D$9+R24)*47.59%)/13*8)/30*20)+((((1750905*$D$9+R24)*52.41%)/11*0)/30*0)) -> 3492106.7 | R24: =+$D$4*3 -> 9391.6667 | S24: =SUM(Q24)*8% -> 279368.54 | T24: =+Q24+S24 -> 3771475.2 | U24: =ROUND(T24*$U$11,0) -> 377148 | V24: =ROUND(U24*19%,0) -> 71658 | W24: =+(T24+V24)*E24 -> 3843133.2 | X24: =(((((1750905*$D$9+Y24)*47.59%)/13*8)/30*7)+((((1750905*$D$9+Y24)*52.41%)/11*0)/30*0)) -> 1222237.3 | Y24: =+$D$4*3 -> 9391.6667 | Z24: =SUM(X24)*8% -> 97778.988 | AA24: =+X24+Z24 -> 1320016.3 | AB24: =ROUND(AA24*$U$11,0) -> 132002 | AC24: =ROUND(AB24*19%,0) -> 25080 | AD24: =+(AA24+AC24)*E24 -> 1345096.3 | AE24: =+O24+W24+AD24 -> 5956856.6 | AG24: =+AE24*F24 -> 0 | AH24: =+AE24*G24 -> 5956856.6 | AI24: =+AE24*H24 -> 0
A25: Servicio de vigilancia física con medio humano, sin arma, sin canino, con jornada laboral mes/10 horas diurnas de lunes a viernes sin festivos | B25: (interno) ENTRADA INPEC AV3E I Etapa del Palacio de Justicia de Cúcuta, entrada lateral. | C25: PALACIO DE JUSTICIA FRANCISCO PAULA SANTANDER AV GRAN COLOMBIA ENTRE AV 3E Y 4E | D25: Cucuta | E25: 1 | G25: 1 | I25: =(((((1750905*$D$9+J25)*47.59%)/13*10)/30*4)+((((1750905*$D$9+J25)*52.41%)/11*0)/30*0)) -> 873026.68 | J25: =+$D$4*3 -> 9391.6667 | K25: =SUM(I25)*8% -> 69842.134 | L25: =+I25+K25 -> 942868.81 | M25: =ROUND(L25*$M$11,0) -> 94287 | N25: =ROUND(M25*19%,0) -> 17915 | O25: =+(L25+N25)*E25 -> 960783.81 | Q25: =(((((1750905*$D$9+R25)*47.59%)/13*10)/30*20)+((((1750905*$D$9+R25)*52.41%)/11*0)/30*0)) -> 4365133.4 | R25: =+$D$4*3 -> 9391.6667 | S25: =SUM(Q25)*8% -> 349210.67 | T25: =+Q25+S25 -> 4714344 | U25: =ROUND(T25*$U$11,0) -> 471434 | V25: =ROUND(U25*19%,0) -> 89572 | W25: =+(T25+V25)*E25 -> 4803916 | X25: =(((((1750905*$D$9+Y25)*47.59%)/13*10)/30*7)+((((1750905*$D$9+Y25)*52.41%)/11*0)/30*0)) -> 1527796.7 | Y25: =+$D$4*3 -> 9391.6667 | Z25: =SUM(X25)*8% -> 122223.73 | AA25: =+X25+Z25 -> 1650020.4 | AB25: =ROUND(AA25*$U$11,0) -> 165002 | AC25: =ROUND(AB25*19%,0) -> 31350 | AD25: =+(AA25+AC25)*E25 -> 1681370.4 | AE25: =+O25+W25+AD25 -> 7446070.3 | AG25: =+AE25*F25 -> 0 | AH25: =+AE25*G25 -> 7446070.3 | AI25: =+AE25*H25 -> 0
A26: (Manejador Canino) Servicio de vigilancia física con medio humano, sin arma, con canino, con jornada laboral mes/11 horas de lunes a viernes y sabados 6 horas diurnas | B26: (Interno y externo) Puesto control ingreso al parqueadero palacio de Justicia (CON CANINO) | C26: PALACIO DE JUSTICIA FRANCISCO PAULA SANTANDER AV GRAN COLOMBIA ENTRE AV 3E Y 4E | D26: Cucuta | E26: 1 | G26: 1 | I26: =(((((1750905*$D$9+J26)*47.59%)/13*11)/30*4)+(((1750905*$D$9+J26)*47.59%)/13*6)/30*1)+((((1750905*$D$9+J26)*52.41%)/11*0)/30*0) -> 1091283.3 | J26: =+$D$4*3 -> 9391.6667 | K26: =SUM(I26)*11% -> 120041.17 | L26: =+I26+K26 -> 1211324.5 | M26: =ROUND(L26*$M$11,0) -> 121132 | N26: =ROUND(M26*19%,0) -> 23015 | O26: =+(L26+N26)*E26 -> 1234339.5 | Q26: =(((((1750905*$D$9+R26)*47.59%)/13*11)/30*20)+(((1750905*$D$9+R26)*47.59%)/13*6)/30*4)+((((1750905*$D$9+R26)*52.41%)/11*0)/30*0) -> 5325462.7 | R26: =+$D$4*3 -> 9391.6667 | S26: =SUM(Q26)*11% -> 585800.9 | T26: =+Q26+S26 -> 5911263.6 | U26: =ROUND(T26*$U$11,0) -> 591126 | V26: =ROUND(U26*19%,0) -> 112314 | W26: =+(T26+V26)*E26 -> 6023577.6 | X26: =(((((1750905*$D$9+Y26)*47.59%)/13*11)/30*7)+(((1750905*$D$9+Y26)*47.59%)/13*6)/30*1)+((((1750905*$D$9+Y26)*52.41%)/11*0)/30*0) -> 1811530.4 | Y26: =+$D$4*3 -> 9391.6667 | Z26: =SUM(X26)*11% -> 199268.34 | AA26: =+X26+Z26 -> 2010798.7 | AB26: =ROUND(AA26*$U$11,0) -> 201080 | AC26: =ROUND(AB26*19%,0) -> 38205 | AD26: =+(AA26+AC26)*E26 -> 2049003.7 | AE26: =+O26+W26+AD26 -> 9306920.8 | AG26: =+AE26*F26 -> 0 | AH26: =+AE26*G26 -> 9306920.8 | AI26: =+AE26*H26 -> 0
A27: Servicio de vigilancia física con medio humano, sin arma, sin canino, con jornada laboral mes/12 horas diurnas de lunes a viernes, sin festivos | B27: Piso 3 y 4 Torre A Apoyo INPEC Apoyo sotano | C27: PALACIO DE JUSTICIA FRANCISCO PAULA SANTANDER AV GRAN COLOMBIA ENTRE AV 3E Y 4E | D27: Cucuta | E27: 1 | G27: 1 | I27: =(((((1750905*$D$9+J27)*47.59%)/13*12)/30*4)+((((1750905*$D$9+J27)*52.41%)/11*0)/30*0)) -> 1047632 | J27: =+$D$4*3 -> 9391.6667 | K27: =SUM(I27)*8% -> 83810.561 | L27: =+I27+K27 -> 1131442.6 | M27: =ROUND(L27*$M$11,0) -> 113144 | N27: =ROUND(M27*19%,0) -> 21497 | O27: =+(L27+N27)*E27 -> 1152939.6 | Q27: =(((((1750905*$D$9+R27)*47.59%)/13*12)/30*20)+((((1750905*$D$9+R27)*52.41%)/11*0)/30*0)) -> 5238160.1 | R27: =+$D$4*3 -> 9391.6667 | S27: =SUM(Q27)*8% -> 419052.8 | T27: =+Q27+S27 -> 5657212.9 | U27: =ROUND(T27*$U$11,0) -> 565721 | V27: =ROUND(U27*19%,0) -> 107487 | W27: =+(T27+V27)*E27 -> 5764699.9 | X27: =(((((1750905*$D$9+Y27)*47.59%)/13*12)/30*7)+((((1750905*$D$9+Y27)*52.41%)/11*0)/30*0)) -> 1833356 | Y27: =+$D$4*3 -> 9391.6667 | Z27: =SUM(X27)*8% -> 146668.48 | AA27: =+X27+Z27 -> 1980024.5 | AB27: =ROUND(AA27*$U$11,0) -> 198002 | AC27: =ROUND(AB27*19%,0) -> 37620 | AD27: =+(AA27+AC27)*E27 -> 2017644.5 | AE27: =+O27+W27+AD27 -> 8935283.9 | AG27: =+AE27*F27 -> 0 | AH27: =+AE27*G27 -> 8935283.9 | AI27: =+AE27*H27 -> 0
A28: Servicio de vigilancia física con medio humano, sin arma, sin canino, con jornada laboral mes/8 horas diurnas de lunes a viernes, sin festivos | B28: (interno) SEXTO Y SEPTIMO PISO | C28: EDIFICIO BANCO BOGOTA AVENIDA 6 # 10 - 82 | D28: Cucuta | E28: 1 | G28: 1 | I28: =(((((1750905*$D$9+J28)*47.59%)/13*8)/30*4)+((((1750905*$D$9+J28)*52.41%)/11*0)/30*0)) -> 698421.34 | J28: =+$D$4*3 -> 9391.6667 | K28: =SUM(I28)*8% -> 55873.707 | L28: =+I28+K28 -> 754295.05 | M28: =ROUND(L28*$M$11,0) -> 75430 | N28: =ROUND(M28*19%,0) -> 14332 | O28: =+(L28+N28)*E28 -> 768627.05 | Q28: =(((((1750905*$D$9+R28)*47.59%)/13*8)/30*20)+((((1750905*$D$9+R28)*52.41%)/11*0)/30*0)) -> 3492106.7 | R28: =+$D$4*3 -> 9391.6667 | S28: =SUM(Q28)*8% -> 279368.54 | T28: =+Q28+S28 -> 3771475.2 | U28: =ROUND(T28*$U$11,0) -> 377148 | V28: =ROUND(U28*19%,0) -> 71658 | W28: =+(T28+V28)*E28 -> 3843133.2 | X28: =(((((1750905*$D$9+Y28)*47.59%)/13*8)/30*7)+((((1750905*$D$9+Y28)*52.41%)/11*0)/30*0)) -> 1222237.3 | Y28: =+$D$4*3 -> 9391.6667 | Z28: =SUM(X28)*8% -> 97778.988 | AA28: =+X28+Z28 -> 1320016.3 | AB28: =ROUND(AA28*$U$11,0) -> 132002 | AC28: =ROUND(AB28*19%,0) -> 25080 | AD28: =+(AA28+AC28)*E28 -> 1345096.3 | AE28: =+O28+W28+AD28 -> 5956856.6 | AG28: =+AE28*F28 -> 0 | AH28: =+AE28*G28 -> 5956856.6 | AI28: =+AE28*H28 -> 0
A29: Servicio de vigilancia física con medio humano, sin arma, sin canino, con jornada laboral mes/9 horas diurnas de lunes a viernes sin festivos | B29: (interno) (FICHERO TEMIS) Juridiccion tierras. | C29: EDIFICIO TEMIS CALLE 7A Nº 3 E -103 | D29: Cucuta | E29: 1 | F29: 0.07 | G29: 0.93 | I29: =(((((1750905*$D$9+J29)*47.59%)/13*9)/30*4)+((((1750905*$D$9+J29)*52.41%)/11*0)/30*0)) -> 785724.01 | J29: =+$D$4*3 -> 9391.6667 | K29: =SUM(I29)*8% -> 62857.921 | L29: =+I29+K29 -> 848581.93 | M29: =ROUND(L29*$M$11,0) -> 84858 | N29: =ROUND(M29*19%,0) -> 16123 | O29: =+(L29+N29)*E29 -> 864704.93 | Q29: =(((((1750905*$D$9+R29)*47.59%)/13*9)/30*20)+((((1750905*$D$9+R29)*52.41%)/11*0)/30*0)) -> 3928620 | R29: =+$D$4*3 -> 9391.6667 | S29: =SUM(Q29)*8% -> 314289.6 | T29: =+Q29+S29 -> 4242909.6 | U29: =ROUND(T29*$U$11,0) -> 424291 | V29: =ROUND(U29*19%,0) -> 80615 | W29: =+(T29+V29)*E29 -> 4323524.6 | X29: =(((((1750905*$D$9+Y29)*47.59%)/13*9)/30*7)+((((1750905*$D$9+Y29)*52.41%)/11*0)/30*0)) -> 1375017 | Y29: =+$D$4*3 -> 9391.6667 | Z29: =SUM(X29)*8% -> 110001.36 | AA29: =+X29+Z29 -> 1485018.4 | AB29: =ROUND(AA29*$U$11,0) -> 148502 | AC29: =ROUND(AB29*19%,0) -> 28215 | AD29: =+(AA29+AC29)*E29 -> 1513233.4 | AE29: =+O29+W29+AD29 -> 6701462.9 | AG29: =+AE29*F29 -> 469102.41 | AH29: =+AE29*G29 -> 6232360.5 | AI29: =+AE29*H29 -> 0
A30: Servicio de vigilancia física con medio humano, con arma, sin canino, con jornada laboral mes/24 horas de domingo a domingo. | B30: (Interno) PARTE EXTERIOR Y INTERIOR JURISDICCION DE TIERRAS | C30: EDIFICIO TEMIS CALLE 7A Nº 3 E -103 | D30: Cucuta | E30: 1 | F30: 0.07 | G30: 0.93 | I30: =(((((1750905*$D$9+J30)*47.59%)/13*13)/30*7)+((((1750905*$D$9+J30)*52.41%)/11*11)/30*7)) -> 4173430.7 | J30: =+$D$4*3 -> 9391.6667 | K30: =SUM(I30)*10% -> 417343.07 | L30: =+I30+K30 -> 4590773.8 | M30: =ROUND(L30*$M$11,0) -> 459077 | N30: =ROUND(M30*19%,0) -> 87225 | O30: =+(L30+N30)*E30 -> 4677998.8 | Q30: =(((((1750905*$D$9+R30)*47.59%)/13*13)/30*30)+((((1750905*$D$9+R30)*52.41%)/11*11)/30*30)) -> 17886132 | R30: =+$D$4*3 -> 9391.6667 | S30: =SUM(Q30)*10% -> 1788613.2 | T30: =+Q30+S30 -> 19674745 | U30: =ROUND(T30*$U$11,0) -> 1967474 | V30: =ROUND(U30*19%,0) -> 373820 | W30: =+(T30+V30)*E30 -> 20048565 | X30: =(((((1750905*$D$9+Y30)*47.59%)/13*13)/30*10)+((((1750905*$D$9+Y30)*52.41%)/11*11)/30*10)) -> 5962043.9 | Y30: =+$D$4*3 -> 9391.6667 | Z30: =SUM(X30)*10% -> 596204.39 | AA30: =+X30+Z30 -> 6558248.3 | AB30: =ROUND(AA30*$U$11,0) -> 655825 | AC30: =ROUND(AB30*19%,0) -> 124607 | AD30: =+(AA30+AC30)*E30 -> 6682855.3 | AE30: =+O30+W30+AD30 -> 31409419 | AG30: =+AE30*F30 -> 2198659.3 | AH30: =+AE30*G30 -> 29210760 | AI30: =+AE30*H30 -> 0
A31: Servicio de vigilancia física con medio humano, con arma, sin canino, con jornada laboral mes/10 horas de domingo a domingo. | B31: (externo) PARTE EXTERIOR Y INTERIOR JURISDICCION DE TIERRAS | C31: EDIFICIO TEMIS CALLE 7A Nº 3 E -103 | D31: Cucuta | E31: 1 | F31: 0.07 | G31: 0.93 | I31: =(((((1750905*$D$9+J31)*47.59%)/13*10)/30*7)+((((1750905*$D$9+J31)*52.41%)/11*0)/30*0)) -> 1527796.7 | J31: =+$D$4*3 -> 9391.6667 | K31: =SUM(I31)*10% -> 152779.67 | L31: =+I31+K31 -> 1680576.3 | M31: =ROUND(L31*$M$11,0) -> 168058 | N31: =ROUND(M31*19%,0) -> 31931 | O31: =+(L31+N31)*E31 -> 1712507.3 | Q31: =(((((1750905*$D$9+R31)*47.59%)/13*10)/30*30)+((((1750905*$D$9+R31)*52.41%)/11*0)/30*0)) -> 6547700.1 | R31: =+$D$4*3 -> 9391.6667 | S31: =SUM(Q31)*10% -> 654770.01 | T31: =+Q31+S31 -> 7202470.1 | U31: =ROUND(T31*$U$11,0) -> 720247 | V31: =ROUND(U31*19%,0) -> 136847 | W31: =+(T31+V31)*E31 -> 7339317.1 | X31: =(((((1750905*$D$9+Y31)*47.59%)/13*10)/30*10)+((((1750905*$D$9+Y31)*52.41%)/11*0)/30*0)) -> 2182566.7 | Y31: =+$D$4*3 -> 9391.6667 | Z31: =SUM(X31)*10% -> 218256.67 | AA31: =+X31+Z31 -> 2400823.4 | AB31: =ROUND(AA31*$U$11,0) -> 240082 | AC31: =ROUND(AB31*19%,0) -> 45616 | AD31: =+(AA31+AC31)*E31 -> 2446439.4 | AE31: =+O31+W31+AD31 -> 11498264 | AG31: =+AE31*F31 -> 804878.46 | AH31: =+AE31*G31 -> 10693385 | AI31: =+AE31*H31 -> 0
A32: Servicio de vigilancia física con medio humano, con arma, sin canino, con jornada laboral mes/24 horas de domingo a domingo. | B32: (interno) PARTE INTERIOR VILLA DEL ROSARIO | C32: EDIFICIO LOS PINOS # 22N-197 # 22N-203 LOCAL 201,202,203 Y PARQUEADERO BARRIO MONTEVIDEO DEL MUNICIPIO DE VILLA DEL ROSARIO N/S | D32: Villa Rosario | E32: 1 | G32: 1 | I32: =(((((1750905*$D$9+J32)*47.59%)/13*13)/30*7)+((((1750905*$D$9+J32)*52.41%)/11*11)/30*7)) -> 4173430.7 | J32: =+$D$4*3 -> 9391.6667 | K32: =SUM(I32)*10% -> 417343.07 | L32: =+I32+K32 -> 4590773.8 | M32: =ROUND(L32*$M$11,0) -> 459077 | N32: =ROUND(M32*19%,0) -> 87225 | O32: =+(L32+N32)*E32 -> 4677998.8 | Q32: =(((((1750905*$D$9+R32)*47.59%)/13*13)/30*30)+((((1750905*$D$9+R32)*52.41%)/11*11)/30*30)) -> 17886132 | R32: =+$D$4*3 -> 9391.6667 | S32: =SUM(Q32)*10% -> 1788613.2 | T32: =+Q32+S32 -> 19674745 | U32: =ROUND(T32*$U$11,0) -> 1967474 | V32: =ROUND(U32*19%,0) -> 373820 | W32: =+(T32+V32)*E32 -> 20048565 | X32: =(((((1750905*$D$9+Y32)*47.59%)/13*13)/30*10)+((((1750905*$D$9+Y32)*52.41%)/11*11)/30*10)) -> 5962043.9 | Y32: =+$D$4*3 -> 9391.6667 | Z32: =SUM(X32)*10% -> 596204.39 | AA32: =+X32+Z32 -> 6558248.3 | AB32: =ROUND(AA32*$U$11,0) -> 655825 | AC32: =ROUND(AB32*19%,0) -> 124607 | AD32: =+(AA32+AC32)*E32 -> 6682855.3 | AE32: =+O32+W32+AD32 -> 31409419 | AG32: =+AE32*F32 -> 0 | AH32: =+AE32*G32 -> 31409419 | AI32: =+AE32*H32 -> 0
A33: (Operador de medios tecnológicos) Servicio de vigilancia física con medio humano, sin arma, sin canino, con jornada laboral mes/12 horas diurnas de domingo a domingo. | B33: (Interno) CCTV PALACIO DE JUSTICA LOS PATIOS | C33: PALACIO JUSTICIA DE PATIOS Av. 1 #36-30 | D33: Los Patios | E33: 1 | G33: 1 | I33: =(((((1750905*$D$9+J33)*47.59%)/13*12)/30*7)+((((1750905*$D$9+J33)*52.41%)/11*0)/30*0)) -> 1833356 | J33: =+$D$4*3 -> 9391.6667 | K33: =SUM(I33)*8% -> 146668.48 | L33: =+I33+K33 -> 1980024.5 | M33: =ROUND(L33*$M$11,0) -> 198002 | N33: =ROUND(M33*19%,0) -> 37620 | O33: =+(L33+N33)*E33 -> 2017644.5 | Q33: =(((((1750905*$D$9+R33)*47.59%)/13*12)/30*30)+((((1750905*$D$9+R33)*52.41%)/11*0)/30*0)) -> 7857240.1 | R33: =+$D$4*3 -> 9391.6667 | S33: =SUM(Q33)*8% -> 628579.21 | T33: =+Q33+S33 -> 8485819.3 | U33: =ROUND(T33*$U$11,0) -> 848582 | V33: =ROUND(U33*19%,0) -> 161231 | W33: =+(T33+V33)*E33 -> 8647050.3 | X33: =(((((1750905*$D$9+Y33)*47.59%)/13*12)/30*10)+((((1750905*$D$9+Y33)*52.41%)/11*0)/30*0)) -> 2619080 | Y33: =+$D$4*3 -> 9391.6667 | Z33: =SUM(X33)*8% -> 209526.4 | AA33: =+X33+Z33 -> 2828606.4 | AB33: =ROUND(AA33*$U$11,0) -> 282861 | AC33: =ROUND(AB33*19%,0) -> 53744 | AD33: =+(AA33+AC33)*E33 -> 2882350.4 | AE33: =+O33+W33+AD33 -> 13547045 | AG33: =+AE33*F33 -> 0 | AH33: =+AE33*G33 -> 13547045 | AI33: =+AE33*H33 -> 0
A34: Servicio de vigilancia física con medio humano, sin arma, sin canino, con jornada laboral mes/10 horas diurnas de lunes a viernes sin festivos | B34: (Interno) (FICHERO) PALACIO DE JUSTICIA DE LOS PATIOS | C34: PALACIO JUSTICIA DE PATIOS Av. 1 #36-30 | D34: Los Patios | E34: 1 | G34: 1 | I34: =(((((1750905*$D$9+J34)*47.59%)/13*10)/30*4)+((((1750905*$D$9+J34)*52.41%)/11*0)/30*0)) -> 873026.68 | J34: =+$D$4*3 -> 9391.6667 | K34: =SUM(I34)*8% -> 69842.134 | L34: =+I34+K34 -> 942868.81 | M34: =ROUND(L34*$M$11,0) -> 94287 | N34: =ROUND(M34*19%,0) -> 17915 | O34: =+(L34+N34)*E34 -> 960783.81 | Q34: =(((((1750905*$D$9+R34)*47.59%)/13*10)/30*20)+((((1750905*$D$9+R34)*52.41%)/11*0)/30*0)) -> 4365133.4 | R34: =+$D$4*3 -> 9391.6667 | S34: =SUM(Q34)*8% -> 349210.67 | T34: =+Q34+S34 -> 4714344 | U34: =ROUND(T34*$U$11,0) -> 471434 | V34: =ROUND(U34*19%,0) -> 89572 | W34: =+(T34+V34)*E34 -> 4803916 | X34: =(((((1750905*$D$9+Y34)*47.59%)/13*10)/30*7)+((((1750905*$D$9+Y34)*52.41%)/11*0)/30*0)) -> 1527796.7 | Y34: =+$D$4*3 -> 9391.6667 | Z34: =SUM(X34)*8% -> 122223.73 | AA34: =+X34+Z34 -> 1650020.4 | AB34: =ROUND(AA34*$U$11,0) -> 165002 | AC34: =ROUND(AB34*19%,0) -> 31350 | AD34: =+(AA34+AC34)*E34 -> 1681370.4 | AE34: =+O34+W34+AD34 -> 7446070.3 | AG34: =+AE34*F34 -> 0 | AH34: =+AE34*G34 -> 7446070.3 | AI34: =+AE34*H34 -> 0
A35: Servicio de vigilancia física con medio humano, con arma, sin canino, con jornada laboral mes/24 horas de domingo a domingo. | B35: (Exterior) ESQUINA PALACIO DE JUSTICIA LOS PATIOS | C35: PALACIO JUSTICIA DE PATIOS Av. 1 #36-30 | D35: Los Patios | E35: 1 | G35: 1 | I35: =(((((1750905*$D$9+J35)*47.59%)/13*13)/30*7)+((((1750905*$D$9+J35)*52.41%)/11*11)/30*7)) -> 4173430.7 | J35: =+$D$4*3 -> 9391.6667 | K35: =SUM(I35)*10% -> 417343.07 | L35: =+I35+K35 -> 4590773.8 | M35: =ROUND(L35*$M$11,0) -> 459077 | N35: =ROUND(M35*19%,0) -> 87225 | O35: =+(L35+N35)*E35 -> 4677998.8 | Q35: =(((((1750905*$D$9+R35)*47.59%)/13*13)/30*30)+((((1750905*$D$9+R35)*52.41%)/11*11)/30*30)) -> 17886132 | R35: =+$D$4*3 -> 9391.6667 | S35: =SUM(Q35)*10% -> 1788613.2 | T35: =+Q35+S35 -> 19674745 | U35: =ROUND(T35*$U$11,0) -> 1967474 | V35: =ROUND(U35*19%,0) -> 373820 | W35: =+(T35+V35)*E35 -> 20048565 | X35: =(((((1750905*$D$9+Y35)*47.59%)/13*13)/30*10)+((((1750905*$D$9+Y35)*52.41%)/11*11)/30*10)) -> 5962043.9 | Y35: =+$D$4*3 -> 9391.6667 | Z35: =SUM(X35)*10% -> 596204.39 | AA35: =+X35+Z35 -> 6558248.3 | AB35: =ROUND(AA35*$U$11,0) -> 655825 | AC35: =ROUND(AB35*19%,0) -> 124607 | AD35: =+(AA35+AC35)*E35 -> 6682855.3 | AE35: =+O35+W35+AD35 -> 31409419 | AG35: =+AE35*F35 -> 0 | AH35: =+AE35*G35 -> 31409419 | AI35: =+AE35*H35 -> 0
A36: Servicio de vigilancia física con medio humano, con arma, sin canino, con jornada laboral mes/24 horas de domingo a domingo. | B36: (Interno y Externo) Puesto de control garita parqueadero | C36: PALACIO JUSTICIA DE PATIOS Av. 1 #36-30 | D36: Los Patios | E36: 1 | G36: 1 | I36: =(((((1750905*$D$9+J36)*47.59%)/13*13)/30*7)+((((1750905*$D$9+J36)*52.41%)/11*11)/30*7)) -> 4173430.7 | J36: =+$D$4*3 -> 9391.6667 | K36: =SUM(I36)*10% -> 417343.07 | L36: =+I36+K36 -> 4590773.8 | M36: =ROUND(L36*$M$11,0) -> 459077 | N36: =ROUND(M36*19%,0) -> 87225 | O36: =+(L36+N36)*E36 -> 4677998.8 | Q36: =(((((1750905*$D$9+R36)*47.59%)/13*13)/30*30)+((((1750905*$D$9+R36)*52.41%)/11*11)/30*30)) -> 17886132 | R36: =+$D$4*3 -> 9391.6667 | S36: =SUM(Q36)*10% -> 1788613.2 | T36: =+Q36+S36 -> 19674745 | U36: =ROUND(T36*$U$11,0) -> 1967474 | V36: =ROUND(U36*19%,0) -> 373820 | W36: =+(T36+V36)*E36 -> 20048565 | X36: =(((((1750905*$D$9+Y36)*47.59%)/13*13)/30*10)+((((1750905*$D$9+Y36)*52.41%)/11*11)/30*10)) -> 5962043.9 | Y36: =+$D$4*3 -> 9391.6667 | Z36: =SUM(X36)*10% -> 596204.39 | AA36: =+X36+Z36 -> 6558248.3 | AB36: =ROUND(AA36*$U$11,0) -> 655825 | AC36: =ROUND(AB36*19%,0) -> 124607 | AD36: =+(AA36+AC36)*E36 -> 6682855.3 | AE36: =+O36+W36+AD36 -> 31409419 | AG36: =+AE36*F36 -> 0 | AH36: =+AE36*G36 -> 31409419 | AI36: =+AE36*H36 -> 0
A37: (Manejador Canino) Servicio de vigilancia física con medio humano, sin arma, con canino, con jornada laboral mes/8 horas diurnas de lunes a viernes sin festivos | B37: Palacio de justicia Los Patios | C37: garita | D37: Los Patios | E37: 1 | G37: 1 | I37: =(((((1750905*$D$9+J37)*47.59%)/13*8)/30*4)+((((1750905*$D$9+J37)*52.41%)/11*0)/30*0)) -> 698421.34 | J37: =+$D$4*3 -> 9391.6667 | K37: =SUM(I37)*11% -> 76826.347 | L37: =+I37+K37 -> 775247.69 | M37: =ROUND(L37*$M$11,0) -> 77525 | N37: =ROUND(M37*19%,0) -> 14730 | O37: =+(L37+N37)*E37 -> 789977.69 | Q37: =(((((1750905*$D$9+R37)*47.59%)/13*8)/30*20)+((((1750905*$D$9+R37)*52.41%)/11*0)/30*0)) -> 3492106.7 | R37: =+$D$4*3 -> 9391.6667 | S37: =SUM(Q37)*11% -> 384131.74 | T37: =+Q37+S37 -> 3876238.4 | U37: =ROUND(T37*$U$11,0) -> 387624 | V37: =ROUND(U37*19%,0) -> 73649 | W37: =+(T37+V37)*E37 -> 3949887.4 | X37: =(((((1750905*$D$9+Y37)*47.59%)/13*8)/30*7)+((((1750905*$D$9+Y37)*52.41%)/11*0)/30*0)) -> 1222237.3 | Y37: =+$D$4*3 -> 9391.6667 | Z37: =SUM(X37)*11% -> 134446.11 | AA37: =+X37+Z37 -> 1356683.5 | AB37: =ROUND(AA37*$U$11,0) -> 135668 | AC37: =ROUND(AB37*19%,0) -> 25777 | AD37: =+(AA37+AC37)*E37 -> 1382460.5 | AE37: =+O37+W37+AD37 -> 6122325.6 | AG37: =+AE37*F37 -> 0 | AH37: =+AE37*G37 -> 6122325.6 | AI37: =+AE37*H37 -> 0
A38: Servicio de vigilancia física con medio humano, SIN arma, sin canino, con jornada laboral mes/8 horas diurnas de lunes a viernes, sin festivos | B38: (Interno) Puesto de control JUZGADO 01 PEQUEÑAS CAUSAS, La libertad. | C38: JUZGADO 01 DE PEQUEÑAS CAUSAS Y COMPETENCIA MULTIPLE. BARRIO LA LIBERTAD,CALLE 16 #12-06 DEL MUNICIPIO DE CUCUTA – NORTE DE SANTANDER, | D38: Cucuta | E38: 1 | G38: 1 | I38: =(((((1750905*$D$9+J38)*47.59%)/13*8)/30*4)+((((1750905*$D$9+J38)*52.41%)/11*0)/30*0)) -> 698421.34 | J38: =+$D$4*3 -> 9391.6667 | K38: =SUM(I38)*8% -> 55873.707 | L38: =+I38+K38 -> 754295.05 | M38: =ROUND(L38*$M$11,0) -> 75430 | N38: =ROUND(M38*19%,0) -> 14332 | O38: =+(L38+N38)*E38 -> 768627.05 | Q38: =(((((1750905*$D$9+R38)*47.59%)/13*8)/30*20)+((((1750905*$D$9+R38)*52.41%)/11*0)/30*0)) -> 3492106.7 | R38: =+$D$4*3 -> 9391.6667 | S38: =SUM(Q38)*8% -> 279368.54 | T38: =+Q38+S38 -> 3771475.2 | U38: =ROUND(T38*$U$11,0) -> 377148 | V38: =ROUND(U38*19%,0) -> 71658 | W38: =+(T38+V38)*E38 -> 3843133.2 | X38: =(((((1750905*$D$9+Y38)*47.59%)/13*8)/30*7)+((((1750905*$D$9+Y38)*52.41%)/11*0)/30*0)) -> 1222237.3 | Y38: =+$D$4*3 -> 9391.6667 | Z38: =SUM(X38)*8% -> 97778.988 | AA38: =+X38+Z38 -> 1320016.3 | AB38: =ROUND(AA38*$U$11,0) -> 132002 | AC38: =ROUND(AB38*19%,0) -> 25080 | AD38: =+(AA38+AC38)*E38 -> 1345096.3 | AE38: =+O38+W38+AD38 -> 5956856.6 | AG38: =+AE38*F38 -> 0 | AH38: =+AE38*G38 -> 5956856.6 | AI38: =+AE38*H38 -> 0
A39: Servicio de vigilancia física con medio humano, SIN arma, sin canino, con jornada laboral mes/8 horas diurnas de lunes a viernes, sin festivos | B39: (Interno) Puesto de control JUZGADO 02 PEQUEÑAS CAUSAS, La libertad. | C39: JUZGADO 02 DE PEQUEÑAS CAUSAS Y COMPETENCIA MULTIPLE. BARRIO LA LIBERTAD, CALLE 15 A # 12-15 DEL MUNICIPIO DE CUCUTA - NORTE DE SANTANDER | D39: Cucuta | E39: 1 | G39: 1 | I39: =(((((1750905*$D$9+J39)*47.59%)/13*8)/30*4)+((((1750905*$D$9+J39)*52.41%)/11*0)/30*0)) -> 698421.34 | J39: =+$D$4*3 -> 9391.6667 | K39: =SUM(I39)*8% -> 55873.707 | L39: =+I39+K39 -> 754295.05 | M39: =ROUND(L39*$M$11,0) -> 75430 | N39: =ROUND(M39*19%,0) -> 14332 | O39: =+(L39+N39)*E39 -> 768627.05 | Q39: =(((((1750905*$D$9+R39)*47.59%)/13*8)/30*20)+((((1750905*$D$9+R39)*52.41%)/11*0)/30*0)) -> 3492106.7 | R39: =+$D$4*3 -> 9391.6667 | S39: =SUM(Q39)*8% -> 279368.54 | T39: =+Q39+S39 -> 3771475.2 | U39: =ROUND(T39*$U$11,0) -> 377148 | V39: =ROUND(U39*19%,0) -> 71658 | W39: =+(T39+V39)*E39 -> 3843133.2 | X39: =(((((1750905*$D$9+Y39)*47.59%)/13*8)/30*7)+((((1750905*$D$9+Y39)*52.41%)/11*0)/30*0)) -> 1222237.3 | Y39: =+$D$4*3 -> 9391.6667 | Z39: =SUM(X39)*8% -> 97778.988 | AA39: =+X39+Z39 -> 1320016.3 | AB39: =ROUND(AA39*$U$11,0) -> 132002 | AC39: =ROUND(AB39*19%,0) -> 25080 | AD39: =+(AA39+AC39)*E39 -> 1345096.3 | AE39: =+O39+W39+AD39 -> 5956856.6 | AG39: =+AE39*F39 -> 0 | AH39: =+AE39*G39 -> 5956856.6 | AI39: =+AE39*H39 -> 0
A40: Servicio de vigilancia física con medio humano, SIN arma, sin canino, con jornada laboral mes/8 horas diurnas de lunes a viernes, sin festivos | B40: (Interno) Puesto de control JUZGADO 03 PEQUEÑAS CAUSAS ATALAYA | C40: JUZGADO 03 DE PEQUEÑAS CAUSAS Y COMPETENCIA MULTIPLE. CALLE 4 BN #18-27 APARTAMENTOS 101, Y 102 MZ G 6 LOTE 11, ATALAYA | D40: Cucuta | E40: 1 | G40: 1 | I40: =(((((1750905*$D$9+J40)*47.59%)/13*8)/30*4)+((((1750905*$D$9+J40)*52.41%)/11*0)/30*0)) -> 698421.34 | J40: =+$D$4*3 -> 9391.6667 | K40: =SUM(I40)*8% -> 55873.707 | L40: =+I40+K40 -> 754295.05 | M40: =ROUND(L40*$M$11,0) -> 75430 | N40: =ROUND(M40*19%,0) -> 14332 | O40: =+(L40+N40)*E40 -> 768627.05 | Q40: =(((((1750905*$D$9+R40)*47.59%)/13*8)/30*20)+((((1750905*$D$9+R40)*52.41%)/11*0)/30*0)) -> 3492106.7 | R40: =+$D$4*3 -> 9391.6667 | S40: =SUM(Q40)*8% -> 279368.54 | T40: =+Q40+S40 -> 3771475.2 | U40: =ROUND(T40*$U$11,0) -> 377148 | V40: =ROUND(U40*19%,0) -> 71658 | W40: =+(T40+V40)*E40 -> 3843133.2 | X40: =(((((1750905*$D$9+Y40)*47.59%)/13*8)/30*7)+((((1750905*$D$9+Y40)*52.41%)/11*0)/30*0)) -> 1222237.3 | Y40: =+$D$4*3 -> 9391.6667 | Z40: =SUM(X40)*8% -> 97778.988 | AA40: =+X40+Z40 -> 1320016.3 | AB40: =ROUND(AA40*$U$11,0) -> 132002 | AC40: =ROUND(AB40*19%,0) -> 25080 | AD40: =+(AA40+AC40)*E40 -> 1345096.3 | AE40: =+O40+W40+AD40 -> 5956856.6 | AG40: =+AE40*F40 -> 0 | AH40: =+AE40*G40 -> 5956856.6 | AI40: =+AE40*H40 -> 0
