Workbook
Name CapFinanciera1: #REF!
Name CapFinanciera2: #REF!
Name CapFinanciera3: #REF!
Name CapFinanciera4: #REF!
Name CapTecnica1: #REF!
Name CapTecnica2: #REF!
Name Experiencia1: #REF!
Name Experiencia2: #REF!
Name Experiencia3: #REF!
Name prueba: #REF!

Sheet Formato 5A - Mejores ingresos
C3: Formato 5 - Capacidad residual - Licitación de obra pública de infraestructura social (subsector educativo)
C4: Código | D4: — | E4: Versión | F4: 2
D5: FORMATO 5 A
D6: CAPACIDAD RESIDUAL
H7: MEJORES INGRESOS OPERACIONALES DEL PROPONENTE O INTEGRANTES DEL CONSORCIO
C9: Señores
C10: MUNICIPIO DE VIOTA
C11: Ciudad
C14: REFERENCIA:
C15: Proceso de contratación No. LP-001-2026
C16: Objeto: MEJORAMIENTO DE LA IED SAN GABRIEL DEL MUNICIPIO DE VIOTÁ, CUNDINAMARCA CONVENIO ICCU-1367-2025
C19: Mejor ingreso operacional del proponte o integrante A:
D21: Años de información financiera | G21: Capacidad de organización (CO) | J21: Mejor año | K21: Valor $COP
C24: Mejor ingreso operacional del integrante B:
D26: Años de información financiera | G26: Capacidad de organización (CO) | J26: Mejor año | K26: Valor $COP
C29: En constancia, se firma en _______________, a los _____ días del mes de _________ del 2026
C34: REPRESENTANTE LEGAL
C35: Proponente o integrante A
C38: CONTADOR
C39: Proponente o integrante A
C41: Nota1: La información consignada en este formato deberá estar debidamente soportada mediante los documentos que acrediten lo diligenciado, incluyendo los documentos del profesional que certifica dicha información

Sheet Formato 5B - Capacidad tecnica
C3: Formato 5 - Capacidad residual - Licitación de obra pública de infraestructura social (subsector educativo)
C4: Código | D4: — | E4: Versión | F4: 2
D5: FORMATO 5B
D6: CAPACIDAD RESIDUAL
D7: CAPACIDAD TECNICA DEL PROPONENTE O INTEGRANTES DEL CONSORCIO
C9: Señores
C10: =+'Formato 5A - Mejores ingresos'!C10:I10
C11: =+'Formato 5A - Mejores ingresos'!C11
C14: REFERENCIA:
C15: =+'Formato 5A - Mejores ingresos'!C15
C16: =+'Formato 5A - Mejores ingresos'!C16:M16
C19: Capacidad tecnica del PROPONENTE O INTEGRANTE A
D21: Ítem | E21: Nombre del Socio y/o Profesional de la Arquitectura, Ingenieria o Geologìa | H21: Profesion | I21: No. de Matrìcula Profesional | J21: Nùmero y Año del Contrato Laboral o de Prestaciòn de Servicios | L21: Vigencia del Contrato
D22: 1
D23: 2
C25: Capacidad tecnica del INTEGRANTE B
D27: Ítem | E27: Nombre del Socio y/o Profesional de la Arquitectura, Ingenieria o Geologìa | H27: Profesion | I27: No. de Matrìcula Profesional | J27: Nùmero y Año del Contrato Laboral o de Prestaciòn de Servicios | L27: Vigencia del Contrato
D28: 1
D29: 2
C32: =+'Formato 5A - Mejores ingresos'!C29:L29
C37: =+'Formato 5A - Mejores ingresos'!C34
C38: Proponente o integrante A
C41: =+'Formato 5A - Mejores ingresos'!$C$38
C42: Proponente o integrante A
C45: Nota1: La información registrada en este formato deberá ser certificada por el profesional responsable, quien declarará bajo la gravedad de juramento la veracidad de lo informado

Sheet Formato 5C - Experiencia
C3: Formato 5 - Capacidad residual - Licitación de obra pública de infraestructura social (subsector educativo)
C4: Código | D4: — | E4: Versión | F4: 2
D5: FORMATO 5C
D6: CAPACIDAD RESIDUAL
D7: CONTRATOS DE ACREDITACION DE EXPERIENCIA DEL PROPONENTE O INTEGRANTES DEL CONSORCIO
C9: Señores
C10: =+'Formato 5A - Mejores ingresos'!$C$10:$I$10
C11: =+'Formato 5A - Mejores ingresos'!C11
C14: REFERENCIA:
C15: =+'Formato 5A - Mejores ingresos'!$C$15
C16: =+'Formato 5A - Mejores ingresos'!$C$16:$M$16
C19: Contratos para Acreditación de Experiencia PROPONENTE O INTEGRANTE A
D21: Contrato No. | E21: Valor Contratos Relacionados con la Actividad de la Construcción – Seg. 72 Clasif. UNSPSC del RUP (EN SMMLV) | G21: Participación Porcentual del Proponente o Integrante del Oferente Plural | I21: Valor del SMMLV Vigente 2026 ($1.750.905) | K21: Valor de los Contratos Ejecutados (Valor del Contrato Ponderado por la Participación)
E22: (A) | G22: (B) | I22: (C) | K22: (A*B*C)
D23: 1 | I23: 1750905 | K23: =+E23*G23*I23
D24: =+D23+1 | I24: 1750905 | K24: =+E24*G24*I24
D25: =+D24+1 | I25: 1750905 | K25: =+E25*G25*I25
D26: =+D25+1 | I26: 1750905 | K26: =+E26*G26*I26
D27: =+D26+1 | I27: 1750905 | K27: =+E27*G27*I27
D28: =+D27+1 | I28: 1750905 | K28: =+E28*G28*I28
D29: =+D28+1 | I29: 1750905 | K29: =+E29*G29*I29
D30: =+D29+1 | I30: 1750905 | K30: =+E30*G30*I30
D31: =+D30+1 | I31: 1750905 | K31: =+E31*G31*I31
D32: =+D31+1 | I32: 1750905 | K32: =+E32*G32*I32
D33: =+D32+1 | I33: 1750905 | K33: =+E33*G33*I33
D34: =+D33+1 | I34: 1750905 | K34: =+E34*G34*I34
I35: TOTAL | K35: =SUM(K23:L34)
C37: =+'Formato 5A - Mejores ingresos'!$C$29:$L$29
C41: =+'Formato 5A - Mejores ingresos'!$C$34
C42: Proponente o integrante A
C45: =+'Formato 5A - Mejores ingresos'!$C$38
C46: Proponente o integrante A
C49: Nota 1: La información registrada en este formato deberá ser certificada por el profesional responsable, quien declarará bajo la gravedad de juramento la veracidad de lo informado.
C50: Nota 2: El formulario debe ser diligenciado por el proponente o por cada uno de los integrantes del consorcio o unión temporal cuando el proponente sea plural.

Sheet Formato 5D - Contratos ejecu
C3: Formato 5 - Capacidad residual - Licitación de obra pública de infraestructura social (subsector educativo)
C4: Código | D4: — | E4: Versión | F4: 2
D5: FORMATO 5D
D6: CAPACIDAD RESIDUAL
D7: SALDO DE CONTRATOS EN EJECUCION DEL PROPONENTE O INTEGRANTES DEL CONSORCIO
C9: Señores
C10: =+'Formato 5A - Mejores ingresos'!$C$10:$I$10
C11: =+'Formato 5A - Mejores ingresos'!$C$11
C14: REFERENCIA:
C15: =+'Formato 5A - Mejores ingresos'!$C$15
C16: =+'Formato 5A - Mejores ingresos'!$C$16:$M$16
C19: Saldos de contratos en ejecucion del PROPONENTE O INTEGRANTE A
C21: Contrato de Orden No. | D21: Contrato No. | E21: Objeto del contrato | F21: Entidad con quien suscribió el contrato | G21: Plazo del Contrato en Meses (B) | H21: Valor del Contrato (incluido IVA y adiciones) (A) | I21: Si el Contrato està Suspendido colocar Saldo Pendiente por Ejecutar (Nota 4) (G) | J21: Fecha de Inicio o Reinicio del Contrato (dd/mm/aa) (H) | K21: Fecha de suspensión del Contrato (dd/mm/aa) | L21: Porcentaje de participación (C) | M21: Fecha de Cierre de Presentacion de la Oferta Objeto del Presente Proceso de Contrataciòn (dd/mm/aa) | N21: Dìas Ejecutados del Contrato | O21: Dias por Ejecutar del Contrato a Partir de la Fecha de Presentaciòn de la Oferta Objeto del Proceso de Contrataciòn (D) | P21: Saldo Diario del Contrato en Ejecuciòn A/(Bx30 dìas)= (E) | Q21: Saldo del Contrato en Ejecuciòn (E)x(D)x(C)=(F)
C23: 1 | P23: =IF(G23>0,H23/(G23*30),0) | Q23: =(+P23*O23*L23)
C24: 2 | Q24: =SUM(Q23)
C26: =+'Formato 5A - Mejores ingresos'!$C$29:$L$29
C30: =+'Formato 5A - Mejores ingresos'!$C$34
C31: Proponente o integrante A
C34: =+'Formato 5A - Mejores ingresos'!$C$38
C38: Nota 1: La información de las columnas denominadas (A), (B), (C), (G), (H) es veraz y se presenta bajo la gravedad de juramento con la suscripcion del representante legal, y bajo fe publica con la suscripción de los contadores publicos de acuerdo a lo establecido en el articulo 10 de la ley 43 de 1990.
C39: Nota 2: El formulario debe ser diligenciado por el proponente o por cada uno de los integrantes del consorcio o unión temporal cuando el proponente sea plural.
C40: Nota 3: En la columna denominada (D) si los dìas por ejecutar son mayor a un año, se debe reflejar automaticamente 360 dìas.
C41: Nota 4: cuando el contrato este suspendido en la casilla fecha de inicio se debe colocar la fecha de reinicio o la fecha de cierre del proceso
C42: Nota 5: Si un contrato se encuentra suspendido, el càlculo del Saldo del Contrato en Ejecuciòn, columna denominada (F) del formato, debe hacerse asumiendo que lo que falta por ejecutar empezarà a partir de la Fecha de Cierre de la Presentaciòn de la Oferta Objeto del Presente Proceso de Contratación. Para esto el proponente o integrante, debe informar el Saldo que tiene Pendiente por Ejecutar, digitar ese valor en la columna denominada (G) del formato y en la Formula de la columna (E) del formato "Saldo Diario del Contrato en Ejecuciòn", se debe modificar la formula cambiando el valor de la Columna denominada (A) valor del contrato por el del valor de la columna denominada (G) saldo pendiente por ejecutar y en la columna denominada (H) del formato (Fecha de inicio o reinicio del contrato) digitar la Fecha de Cierre de Presentaciòn de la Oferta Objeto del Presente Proceso de Contratacion.
C43: Nota 6: Si un contrato a la Fecha de Cierre del Proceso estuvo suspendido y se encuentra reeiniciado, se debe digitar en la columna denominada (G) el saldo pendiente por ejecutar del contrato, en la columna denominada (H) digitar la Fecha de reeinicio del contrato
C44: Nota 7: Cuando un contrato ha sido adjudicado y a la fecha de cierre del proceso, no cuenta con Acta de inicio, este debe incluirse en el presente formato 5D con el valor total del contrato, diligenciando de igual manera las columnas denominadas (A), (B), (C), (G), (H), tener presente que para estos casos en la columna denominada (H) se debe registrar la misma fecha de cierre del proceso.
C45: Nota 8: Una vez la entidad verifique la información de las columnas denominadas (D) (E) y (F) del formato Saldo Contratos en Ejecución y se encuentren errores aritméticos y/o de forma, se procederá a realizar las correcciones pertinentes de las columnas mencionadas anteriormente.
C46: Nota 9: En todo caso la entidad solicitará subsanar el formato formato Saldo Contratos en Ejecución, cuando este en alguno de sus contratos presente saldo negativo o cuando no esté firmado por el representante legal y Contador Público y/o Revisor Fiscal.
C47: Nota 10: Para proponentes extranjeros, los valores expresados en moneda extranjera se convertirán a pesos colombianos en los términos de la sección 1.13 del Pliego de Condiciones.
