Workbook
Name _Toc142514101: 'FACTOR MULTIPLICADOR'!#REF!
Name _Toc142514101: INTERVENTORIA!#REF!
Name _Toc142514101: #REF!
Name IMP.: [1]Pivot!$D$21
Name TRM: [1]Pivot!$D$2

Sheet FACTOR MULTIPLICADOR
C1: PLANTILLA OFERTA ECONÓMICA | D1: CÓDIGO | F1: GF-FO-042
D2: VERSIÓN | F2: 1
D3: FECHA | F3: 45623
A4: Proceso: Gestión Financiera
A5: Documento de referencia: Instructivo Estructuración Financiera y Económica de los Porcesos Contractuales; Manual de Contratación
A7: OBJETO: | C7: REALIZAR LA INTERVENTORIA DEL MANTENIMIENTO, ADECUACIÓN Y MEJORAMIENTO DE LA INFRAESTRUCTURA FÍSICA DE LA SEDE POPAYÁN, TERRITORIAL CAUCA DE LA ESCUELA SUPERIOR DE ADMINISTRACIÓN PÚBLICA – ESAP, PARA GARANTIZAR CONDICIONES DE SEGURIDAD, FUNCIONALIDAD Y ADECUADO USO DE LAS INSTALACIONES
A9: Se deben diligenciar todos los campos de la columna " VALOR UNITARIO " que correspondiente al porcentaje cotizado
A11: ITEM | C11: DESCRIPCIÓN | D11: PORCENTAJE TECHO | E11: PORCENTAJE OFERTADO
B12: 1 | C12: Salario Básico (Nómina Total Mensual) | D12: 1 | E12: 0
B13: 2 | C13: Prestaciones Sociales
B14: 2.1 | C14: Primas | D14: 0.0833 | E14: 0
B15: 2.2 | C15: Cesantías | D15: 0.0833 | E15: 0
B16: 2.3 | C16: Intereses de cesantías | D16: 0.01 | E16: 0
B17: 2.4 | C17: Salud | D17: 0.125 | E17: 0
B18: 2.5 | C18: Pensión | D18: 0.16 | E18: 0
B19: 2.6 | C19: SENA | D19: 0.02 | E19: 0
B20: 2.7 | C20: ICBF | D20: 0.03 | E20: 0
B21: 2.8 | C21: Subsidio Familiar | D21: 0.04 | E21: 0
B22: 2.9 | C22: Vacaciones | D22: 0.0417 | E22: 0
B23: 2.1 | C23: ARL | D23: 0.0696 | E23: 0
B24: 2.11 | C24: Dotación | D24: 0.005 | E24: 0
B25: Subtotal prestaciones sociales | D25: =ROUND(SUM(D14:D24),3) -> 0.668 | E25: =ROUND(SUM(E14:E24),3) -> 0
B26: 3 | C26: Costos Indirectos
B27: 3.1 | C27: Gastos de Administración
B28: 3,1,1 | C28: Gastos bancarios, financieros, mensajería, costos de la propuesta | D28: 0.05 | E28: 0
B29: 3,1,2 | C29: Arriendos oficinas | D29: 0.03 | E29: 0
B30: 3,1,3 | C30: Servicios públicos | D30: 0.02 | E30: 0
B31: 3,1,4 | C31: Mantenimiento y operación de oficinas | D31: 0.02 | E31: 0
B32: 3,1,5 | C32: Utiles, papeleria, plotter, planos e impresiones | D32: 0.02 | E32: 0
B33: 3,1,6 | C33: Gastos de transporte (Terrestre, Aereo) y vehículos | D33: 0.08 | E33: 0
B34: 3,1,7 | C34: Viaticos | D34: 0.08 | E34: 0
B35: 3.2 | C35: Otros gastos no reembolsables
B36: 3,2,1 | C36: Seguros/Garantias | D36: 0.03 | E36: 0
B37: 3,2,2 | C37: impuestos | D37: 0.03 | E37: 0
B38: 3,2,3 | C38: Asesoría legal permanente (responsabilidad civil, penal, laboral, etc.) | D38: 0.01 | E38: 0
B39: Subtotal Costos Indirectos | D39: =SUM(D28:D34)+SUM(D36:D38) -> 0.37 | E39: =SUM(E28:E34)+SUM(E36:E38) -> 0
B40: 4 | C40: Cargo por Honorarios | D40: 0.1 | E40: 0
B42: FACTOR MULTIPLICADOR | D42: =ROUND(D12+D25+D39+D40,2) -> 2.14 | E42: =ROUND(E12+E25+E39+E40,2) -> 0
A44: Nota: 1. Se debe diligenciar el porcentaje de todos los items solicitados en el presente FORMATO, para dar como resultado la sumatoria del FACTOR MULTIPLICADOR, que no debe ser superior al 2,14, valor techo establecido en el estudio de mercado, de lo contrario sera rechazada la oferta economica.
B47: NOMBRE DEL PROPONENTE
...

Sheet INTERVENTORIA
C1: PLANTILLA OFERTA ECONÓMICA | K1: CÓDIGO | M1: GF-FO-042
K2: VERSIÓN | M2: 1
K3: FECHA | M3: 45623
A4: Proceso: Gestión Financiera
A5: Documento de referencia: Instructivo Estructuración Financiera y Económica de los Porcesos Contractuales; Manual de Contratación
A7: OBJETO: | C7: REALIZAR LA INTERVENTORIA DEL MANTENIMIENTO, ADECUACIÓN Y MEJORAMIENTO DE LA INFRAESTRUCTURA FÍSICA DE LA SEDE POPAYÁN, TERRITORIAL CAUCA DE LA ESCUELA SUPERIOR DE ADMINISTRACIÓN PÚBLICA – ESAP, PARA GARANTIZAR CONDICIONES DE SEGURIDAD, FUNCIONALIDAD Y ADECUADO USO DE LAS INSTALACIONES
A9: Se deben diligenciar todos los campos de la columna " VALOR OFERTADO"
K10: VALOR OFERTADO
A11: ITEM | C11: DESCRIPCIÓN | D11: NUMERO DE PROFESIONALES | E11: UNIDAD DE MEDIDA | F11: CANTIDAD MESES | G11: DEDICACION | H11: FACTOR MULTIPLICADOR TECHO | I11: PRECIO TECHO MEDIA ARMONICA VALOR UNITARIO (PERSONAL) | J11: PRECIO TECHO MEDIA ARMONICA VALOR TOTAL | K11: VALOR UNITARIO OFERTADO (PERSONAL) | L11: FACTOR MULTIPLICADOR | M11: VALOR TOTAL
B12: PERSONAL DIRECCION
B13: 1 | C13: Director General de interventoria | D13: 1 | E13: MES | F13: 2.5 | G13: 0.25 | H13: ='FACTOR MULTIPLICADOR'!D42 -> 2.14 | I13: 9395591 | J13: =I13*F13*G13*H13 -> 12566603 | L13: ='FACTOR MULTIPLICADOR'!E42 -> 0 | M13: =K13*L13*F13*G13 -> 0
B14: PERSONAL PROFESIONAL
B15: 2 | C15: Residente de interventoria | D15: 1 | E15: MES | F15: 2.5 | G15: 1 | H15: ='FACTOR MULTIPLICADOR'!D42 -> 2.14 | I15: 8607785 | J15: =I15*F15*G15*H15 -> 46051650 | L15: ='FACTOR MULTIPLICADOR'!E42 -> 0 | M15: =K15*L15*F15*G15 -> 0
B16: 3 | C16: Maestro de Obra | D16: 1 | E16: MES | F16: 2.5 | G16: 1 | H16: ='FACTOR MULTIPLICADOR'!D42 -> 2.14 | I16: 3293610 | J16: =I16*F16*G16*H16 -> 17620814 | L16: ='FACTOR MULTIPLICADOR'!E42 -> 0 | M16: =K16*L16*F16*G16 -> 0
B17: 4 | C17: Profesional y/o Técnico y/o Tecnólogo en Seguridad Industrial | D17: 1 | E17: MES | F17: 2.5 | G17: 1 | H17: ='FACTOR MULTIPLICADOR'!D42 -> 2.14 | I17: 4794019 | J17: =I17*F17*G17*H17 -> 25648002 | L17: ='FACTOR MULTIPLICADOR'!E42 -> 0 | M17: =K17*L17*F17*G17 -> 0
B18: 5 | C18: Apoyo Técnico Electricista | D18: 1 | E18: MES | F18: 2.5 | G18: 1 | H18: ='FACTOR MULTIPLICADOR'!D42 -> 2.14 | I18: 3293610 | J18: =I18*F18*G18*H18 -> 17620814 | L18: ='FACTOR MULTIPLICADOR'!E42 -> 0 | M18: =K18*L18*F18*G18 -> 0
B19: 6 | C19: Apoyo Técnico Hidráulico/Sanitario | D19: 1 | E19: MES | F19: 2.5 | G19: 1 | H19: ='FACTOR MULTIPLICADOR'!D42 -> 2.14 | I19: 3293610 | J19: =I19*F19*G19*H19 -> 17620814 | L19: ='FACTOR MULTIPLICADOR'!E42 -> 0 | M19: =K19*L19*F19*G19 -> 0
B20: SUBTOTAL | J20: =SUM(J13:J19) -> 1.3712869e+08 | K20: SUBTOTAL | M20: =SUM(M15:M19)+M13 -> 0
B21: IVA | I21: 0.19 | J21: =J20*19% -> 26054452 | K21: IVA | L21: 0.19 | M21: =M20*L21 -> 0
B22: VALOR TOTAL INTERVENTORÍA | J22: =ROUND(J20+J21,0) -> 163183147 | K22: VALOR TOTAL OFERTADO | M22: =ROUND(M20+M21,0) -> 0
A24: Nota: 1. Los valores unitarios y totales ofertados en cada uno de los ítems y el factor multiplicador no podrán superar los valores techo unitarios y totales expresados en el presente formato y en el estudio de mercado, so pena de rechazo. Así mismo, el valor total de la oferta económica no podrá superar el valor del presupuesto estimado para el proceso, so pena de rechazo. 2. Los valores deben diligenciarse en pesos colombianos y en números enteros y deben contemplarse todos los impuestos, cargos, costos a que haya lugar para el total cumplimiento del contrato. 3. Las condiciones técnicas, generales y específicas se mencionan en el Anexo Técnico. 4. Los ítems del presente formato de oferta económica no podrán ser modificados, so pena de rechazo. 5. La oferta presentada deberá ser diligenciada en su totalidad, teniendo en cuenta las operaciones aritméticas estipuladas en este formato. 6. Presentar la oferta económica en formato excel
B26: NOMBRE DEL PROPONENTE
B27: No. IDENTIFICACIÓN
