Workbook
Name Arial: #REF!
Name Arial: #REF!

Sheet PRESUPUESTO GENERAL
A1: REPÚBLICA DE COLOMBIA DEPARTAMENTO DEL PUTUMAYO MUNICIPIO PUERTO ASÍS ALCALDÍA MUNICIPAL
A2: PRESUPUESTO GENERAL
A3: NOMBRE DEL PROYECTO | C3: FORTALECIMIENTO DE LAS CAPACIDADES OPERATIVAS DE SEGURIDAD Y CONVIVENCIA CIUDADANA DEL BATALLÓN DE ARTILLERÍA DE CAMPAÑA N° 27, MEDIANTE LA IMPLEMENTACIÓN Y PUESTA EN MARCHA DE UN SISTEMA DE VIDEOVIGILANCIA CCTV EN EL MUNICIPIO DE PUERTO ASÍS, PUTUMAYO
A5: No. | B5: Descripción Actividad | D5: Unidad de medida | E5: Cantidad | F5: Valor Unitario | G5: Valor total
A6: 1 | B6: Equipar el Centro de Monitoreo (Control Core) | D6: Suministro/Instalación | E6: 1 | F6: =+'APU1'!G35 -> 39947832 | G6: =F6*E6 -> 39947832
A7: 2 | B7: Suministrar e Instalar dispositivos de captura | D7: Suministro/Instalación | E7: 1 | F7: ='APU 2'!G30 -> 57506002 | G7: =F7*E7 -> 57506002
A8: 3 | B8: Suministrar e Instalar Infraestructura de Red de Conectividad | D8: Suministro/Instalación | E8: 1 | F8: ='APU 3'!G35 -> 48107830 | G8: =F8*E8 -> 48107830
A9: 4 | B9: Suministrar e Instalar Protección Electrica y Soporte Tecnico | D9: Suministro/Instalación | E9: 1 | F9: =+'APU 4'!G46 -> 49420556 | G9: =F9*E9 -> 49420556
A10: TOTAL | G10: =SUM(G6:G9) -> 194982220

Sheet APU1
B2: REPÚBLICA DE COLOMBIA DEPARTAMENTO DEL PUTUMAYO MUNICIPIO PUERTO ASÍS ALCALDÍA MUNICIPAL
B3: NOMBRE DEL PROYECTO | C3: FORTALECIMIENTO DE LAS CAPACIDADES OPERATIVAS DE SEGURIDAD Y CONVIVENCIA CIUDADANA DEL BATALLÓN DE ARTILLERÍA DE CAMPAÑA N° 27, MEDIANTE LA IMPLEMENTACIÓN Y PUESTA EN MARCHA DE UN SISTEMA DE VIDEOVIGILANCIA CCTV EN EL MUNICIPIO DE PUERTO ASÍS, PUTUMAYO
B4: ítem | C4: Equipar el Centro de Monitoreo (Control Core)
B5: I. MATERIALES
B6: Descripción | D6: Unidad | E6: Cantidad | F6: Valor Unitario | G6: Valor total
B7: NVR 32 Megapixel (8K) / 32 Canales IP / Soporta Cámaras con AccuSense / 8 Bahías de Disco Duro / 2 Tarjetas de Red / Soporta RAID con Hot Swap / HDMI en 4K / Soporta POS Compresión de video: H.265+ / H.265 / H.264+ / H.264. Soporta mouse USB para operar (incluido). Soporta 8 HDD´s de hasta 16 TB. (no incluidos) Soporta HOT SWAP con arreglo RAID 0,1,5,6,10. Soporta búsqueda de agenda en forma local o remota. Soporta tecnología ANR con cámara IP cuando la red esta desconectada. E instalación | D7: Unidad | E7: 1 | F7: ='ANALISIS DE COTIZACIONES'!F47 -> 16466667 | G7: =F7*E7 -> 16466667
B8: Unidad de almacenamiento 10TB especializado para CCTV, Velocidad de Transferencia de datos Búfer a host: 6Gb/s, Aplicaciones de Video Vigilancia E instalación | D8: Unidad | E8: 2 | F8: ='ANALISIS DE COTIZACIONES'!F48 -> 3133333 | G8: =F8*E8 -> 6266666
B9: Televisor de 55 pulgadas Qled resolución 4k a 60 Hz con base para pared, Cable HDMI 5 METROS compatible con 8K@60HZ y 4K@120HZ E instalación | D9: Unidad | E9: 2 | F9: ='ANALISIS DE COTIZACIONES'!F49 -> 3520333 | G9: =F9*E9 -> 7040666
B10: JOYSTICK Controlador IP para DVR, NVR y PTZ a través de Red/ Soporta RS-485/ y Puesta en funcionamiento. | D10: Unidad | E10: 1 | F10: ='ANALISIS DE COTIZACIONES'!F50 -> 5003333 | G10: =F10*E10 -> 5003333
B11: Escritorio Moderno Toba Grande. Metal Y Madera Melamina. 160x60x74 Perfil Metálico cold rolled de 1"x1" (2.5x2.5cm) *Mesa en Melamina MDP espesor 1.5 cm, Pintura: Electrostática Texturizada color blanco o negro (aplicada en horno) | D11: Unidad | E11: 1 | F11: ='ANALISIS DE COTIZACIONES'!F51 -> 1200000 | G11: =F11*E11 -> 1200000
B12: Silla Escritorio Ejecutiva Ergonómica Oficina Color Negro Material del tapizado Malla, estructura metalica Características 1. Espalda: Material: Tela mesh Dimensiones: 41 cm ancho x 44 cm alto 2. Asiento: Material: Tela mesh Espesor: 50 mm Dimensiones: 46 cm ancho x 46 cm profundidad 3. Brazos: fijos 4. Mecanismo: posición fija 5. Cilindro neumático Ajuste altura del asiento con elevación de gas y rotación 360 grados. Material: Acero Color: Plateado 6. Estrella de 5 aspas: Diámetro: 600 mm Material: Acero cromado 7. Rodachinas doble carrete Material: Nylon 8. Resistencia máxima de peso: 100 kg | D12: Unidad | E12: 1 | F12: ='ANALISIS DE COTIZACIONES'!F52 -> 760000 | G12: =F12*E12 -> 760000
B13: GABINETE 24U PISO Color Negro alto 120* 60*60cm, METALICO, Incluye Rodachines. Chapa De Seguridad Con 2 Llaves. Puertas Laterales Desmontables. 1 Ventilador Para Rack 4 Pulgadas A 110 voltios 1 Bandeja Para Rack 30cm, 1 Multitoma Para Rack 8 Servicios, 8 Kit Tuerca Canastilla M6 Para Montaje En Rack se entrega instalado | D13: Unidad | E13: 1 | F13: ='ANALISIS DE COTIZACIONES'!F53 -> 3210500 | G13: =F13*E13 -> 3210500
B14: Sub- Total | G14: =SUM(G7:G13) -> 39947832
B15: II. GASTOS LOGISTICOS
B16: Descripción | D16: Unidad | E16: Cantidad | F16: Valor Unitario | G16: Valor total
B18: Sub- Total | G18: =SUM(G17) -> 0
B19: III. HERRAMIENTAS Y EQUIPOS
B20: Descripción | D20: Unidad | E20: Cantidad | F20: Valor Unitario | G20: Valor total
B23: Sub- Total | G23: =SUM(G21:G22) -> 0
B24: IV. TRANSPORTE
B25: Descripción | D25: Unidad | E25: Cantidad | F25: Valor Unitario | G25: Valor total
B28: V. MANO DE OBRA
B29: Descripción | D29: Unidad | E29: Cantidad | F29: Valor Unitario | G29: Valor total
B32: Sub- Total
B35: VALOR TOTAL ACTIVIDAD | G35: =G14+G18+G23+G32 -> 39947832

Sheet APU 2
B2: REPÚBLICA DE COLOMBIA DEPARTAMENTO DEL PUTUMAYO MUNICIPIO PUERTO ASÍS ALCALDÍA MUNICIPAL
B3: NOMBRE DEL PROYECTO | C3: FORTALECIMIENTO DE LAS CAPACIDADES OPERATIVAS DE SEGURIDAD Y CONVIVENCIA CIUDADANA DEL BATALLÓN DE ARTILLERÍA DE CAMPAÑA N° 27, MEDIANTE LA IMPLEMENTACIÓN Y PUESTA EN MARCHA DE UN SISTEMA DE VIDEOVIGILANCIA CCTV EN EL MUNICIPIO DE PUERTO ASÍS, PUTUMAYO
B4: ítem | C4: Suministrar e Instalar dispositivos de captura
B5: I. MATERIALES
B6: Descripción | D6: Unidad | E6: Cantidad | F6: Valor Unitario | G6: Valor total
B7: Cámara PTZ IP Lente 4 megapíxeles, zoom óptico mínimo de 25x, rotación horizontal continua de 360° y movimiento vertical de alta precisión, compresión de video H.265+, alcance infrarrojo mínimo de 150 metros para operación nocturna, tecnología WDR de 120 dB para control de contraluces, protección IP67 e IK10 para intemperie y vandalismo, alimentación PoE+ integración a NVR y plataforma de monitoreo central, patch cord cat 6 certificado 1 metros, E instalación | D7: Unidad | E7: 6 | F7: ='ANALISIS DE COTIZACIONES'!F54 -> 7920167 | G7: =F7*E7 -> 47521002
B8: Cámara IP de 4 megapíxeles, Bala IP 4 Megapixel / Lente 2.8 mm / 30 mts IR + 30 mts Luz Blanca / Micrófono Integrado / Exterior IP67 / WDR 120 dB / PoE / ONVIF compresión de video H.265+, alimentación PoE+ compatibilidad con integración a NVR y plataforma de monitoreo central. con licencia de funcionamiento 10, E instalación | D8: Unidad | E8: 10 | F8: ='ANALISIS DE COTIZACIONES'!F55 -> 998500 | G8: =F8*E8 -> 9985000
G9: =SUM(G7:G8) -> 57506002
B10: II. GASTOS LOGISTICOS
B11: Descripción | D11: Unidad | E11: Cantidad | F11: Valor Unitario | G11: Valor total
B13: Sub- Total | G13: =SUM(G12) -> 0
B14: III. HERRAMIENTAS Y EQUIPOS
B15: Descripción | D15: Unidad | E15: Cantidad | F15: Valor Unitario | G15: Valor total
B18: Sub- Total | G18: =G16+G17 -> 0
B19: IV. TRANSPORTE
B20: Descripción | D20: Unidad | E20: Cantidad | F20: Valor Unitario | G20: Valor total
B22: Sub- Total | G22: =SUM(G21) -> 0
B23: V. MANO DE OBRA
B24: Descripción | D24: Unidad | E24: Cantidad | F24: Valor Unitario | G24: Valor total
B27: Sub- Total
B30: VALOR TOTAL ACTIVIDAD | G30: =G22+G27+G13+G9+G18 -> 57506002

Sheet APU 3
B2: REPÚBLICA DE COLOMBIA DEPARTAMENTO DEL PUTUMAYO MUNICIPIO PUERTO ASÍS ALCALDÍA MUNICIPAL
B3: NOMBRE DEL PROYECTO | C3: FORTALECIMIENTO DE LAS CAPACIDADES OPERATIVAS DE SEGURIDAD Y CONVIVENCIA CIUDADANA DEL BATALLÓN DE ARTILLERÍA DE CAMPAÑA N° 27, MEDIANTE LA IMPLEMENTACIÓN Y PUESTA EN MARCHA DE UN SISTEMA DE VIDEOVIGILANCIA CCTV EN EL MUNICIPIO DE PUERTO ASÍS, PUTUMAYO
B4: ítem | C4: Suministrar e Instalar Infraestructura de Red de Conectividad
B5: I. MATERIALES
B6: Descripción | D6: Unidad | E6: Cantidad | F6: Valor Unitario | G6: Valor total
B7: swicht 24 ptos24SFP/8GT4XS, SFP Gigabit de 24 puertos con 8 puertos RJ45 combinados Switch administrado de capa 2, 4 * 10G se entrega instalado en item ( gabinete 24 u piso ) | D7: Unidad | E7: 1 | F7: ='ANALISIS DE COTIZACIONES'!F56 -> 3020400 | G7: =F7*E7 -> 3020400
B8: Switch PoE Gigabit de 8 puertos | 8 puertos PoE+ @120W 10/100/1000 Mbps RJ45 e instalacion | D8: Unidad | E8: 1 | F8: ='ANALISIS DE COTIZACIONES'!F57 -> 1210533 | G8: =F8*E8 -> 1210533
B9: Switch Administrable, 6 Puertos Gigabit, 4 Puertos PoE+ 802.3af/at Gigabit, 1 Puerto Gigabit Uplink, 1 Puerto Combo SFP Uplink, 54W 9 e instalacion | D9: Unidad | E9: 9 | F9: ='ANALISIS DE COTIZACIONES'!F58 -> 325183 | G9: =F9*E9 -> 2926647
B10: FIBRA OPTICA 12 HILOS x metros instalado | D10: mts | E10: 1850 | F10: ='ANALISIS DE COTIZACIONES'!F59 -> 6783 | G10: =F10*E10 -> 12548550
B11: KIT solar CCTV : panel 450w 12v, bateria en gel 12v 100amp, Controlador De Carga Solar Mppt 100a 12v-48v Auto Regulador, soporte panel solar Aluminio EN AW 6005A T6 Crudo, Kit Completo 2-Pack radio enlace contiene Puente Inalámbrico 802.11ac de Doble Flujo de 5 GHz y 1 emisor y 1 receptor instalado | D11: Kit | E11: 2 | F11: ='ANALISIS DE COTIZACIONES'!F60 -> 9060517 | G11: =F11*E11 -> 18121034
B12: poste 10 metros seccionado metálico 500 kg carga instalado en sitio | D12: Unidad | E12: 2 | F12: ='ANALISIS DE COTIZACIONES'!F61 -> 3550000 | G12: =F12*E12 -> 7100000
B13: Brazo metálico acero galvanizado de 2 metros de longitud, diseñado para la correcta proyección de la cámara y una cobertura óptima del área perimetral, garantizando estabilidad y resistencia a condiciones climáticas exteriores incluye instalacion | D13: Unidad | E13: 2 | F13: ='ANALISIS DE COTIZACIONES'!F62 -> 1590333 | G13: =F13*E13 -> 3180666
B14: Sub- Total | G14: =SUM(G7:G13) -> 48107830
B15: II. GASTOS LOGISTICOS
B16: Descripción | D16: Unidad | E16: Cantidad | F16: Valor Unitario | G16: Valor total
B18: Sub- Total | G18: =SUM(G17) -> 0
B19: III. HERRAMIENTAS Y EQUIPOS
B20: Descripción | D20: Unidad | E20: Cantidad | F20: Valor Unitario | G20: Valor total
G21: =F21*E21 -> 0
G22: =F22*E22 -> 0
B23: Sub- Total | G23: =SUM(G21:G22) -> 0
B24: IV. TRANSPORTE
B25: Descripción | D25: Unidad | E25: Cantidad | F25: Valor Unitario | G25: Valor total
B27: Sub- Total | G27: =SUM(G26) -> 0
B28: V. MANO DE OBRA
B29: Descripción | D29: Unidad | E29: Cantidad | F29: Valor Unitario | G29: Valor total
B32: Sub- Total
B35: VALOR TOTAL ACTIVIDAD | G35: =G27+G32+G18+G14+G23 -> 48107830

Sheet APU 4
B2: REPÚBLICA DE COLOMBIA DEPARTAMENTO DEL PUTUMAYO MUNICIPIO PUERTO ASÍS ALCALDÍA MUNICIPAL
B3: NOMBRE DEL PROYECTO | C3: FORTALECIMIENTO DE LAS CAPACIDADES OPERATIVAS DE SEGURIDAD Y CONVIVENCIA CIUDADANA DEL BATALLÓN DE ARTILLERÍA DE CAMPAÑA N° 27, MEDIANTE LA IMPLEMENTACIÓN Y PUESTA EN MARCHA DE UN SISTEMA DE VIDEOVIGILANCIA CCTV EN EL MUNICIPIO DE PUERTO ASÍS, PUTUMAYO
B4: ítem | C4: Equipar el Centro de Monitoreo (Control Core)
B5: I. MATERIALES
B6: Descripción | D6: Unidad | E6: Cantidad | F6: Valor Unitario | G6: Valor total
B7: UPS DE 3000VA Voltaje de salida: 110V. Voltaje de entrada: 85V - 150V. En línea, doble conversión. Forma de onda: Senoidal pura. Puerto USB, RS-232, SmartSlot para tarjeta de red. : Pantalla LCD con indicadores de estado y navegación. y puesta en funcionamiento | D7: Unidad | E7: 1 | F7: ='ANALISIS DE COTIZACIONES'!F63 -> 7467000 | G7: =+F7*E7 -> 7467000
B8: Pach panel cat 6, 24 puertos incluye jack cat 6 E instalación | D8: Unidad | E8: 1 | F8: ='ANALISIS DE COTIZACIONES'!F64 -> 415433 | G8: =+F8*E8 -> 415433
B9: Conector de Tornillo de Perforación de Chaqueta Aislada 8 a 300-derivación 16 a 8 CDP 150-10 - E instalación | D9: Unidad | E9: 20 | F9: ='ANALISIS DE COTIZACIONES'!F65 -> 40500 | G9: =+F9*E9 -> 810000
B10: varilla de tierra de acero inoxidable macizo con diámetro de 14,2 mm y longitud de 2,4 m E instalación | D10: Unidad | E10: 9 | F10: ='ANALISIS DE COTIZACIONES'!F66 -> 562267 | G10: =+F10*E10 -> 5060403
B11: Tubo EMT UL 1/2-pulg de 3,05 m de longitud, e instalación | D11: Unidad | E11: 32 | F11: ='ANALISIS DE COTIZACIONES'!F67 -> 68917 | G11: =+F11*E11 -> 2205344
B12: CAJA POLO A TIERRA, 0,38 x0,38 x 0,24 m, PC-FV arena natural -CAJA "POLO A TIERRA" 0,38x0,38x0,24cm, PC-FV-NATURAL - TAPA "POLO A TIERRA" 340x340x20mm, PC-NATURAL -, Soldadura Exotérmica #115 E instalación | D12: Unidad | E12: 9 | F12: ='ANALISIS DE COTIZACIONES'!F68 -> 1052100 | G12: =+F12*E12 -> 9468900
B13: cable desnundo N4 Diametro exterior-1263 mm / Area-1072 mm² / MASA NOMINAL -9393 kgkm E instalación | D13: mts | E13: 92 | F13: ='ANALISIS DE COTIZACIONES'!F69 -> 35187 | G13: =+F13*E13 -> 3237204
B14: UPS interactiva con capacidad mínima de 1000 VA / 600 W. Ancho 14,2 cm, Altura 27,9 cm. con regulación automática de voltaje (AVR) se entrega encedida en funcionamiento | D14: Unidad | E14: 9 | F14: ='ANALISIS DE COTIZACIONES'!F70 -> 674517 | G14: =+F14*E14 -> 6070653
B15: multitoma 4 servicios p/t 15a 1800w base policarbonato toma doble blanco con suitche y fusible 3mts ext mtc | D15: Unidad | E15: 9 | F15: ='ANALISIS DE COTIZACIONES'!F71 -> 109567 | G15: =+F15*E15 -> 986103
B16: Gabinete Rack Exterior 12U Altura Externa: 623 mm ( 24.5“) Ancho: 642 mm ( 25.2”) Profundidad: 536 mm ( 21”) Profundidad útil: 450 mm ( 17,7”) Capacidad de carga: 75 Kg Acero galvanizado tipo poste cctv instalacion y puesta en funcionamiento | D16: Unidad | E16: 8 | F16: ='ANALISIS DE COTIZACIONES'!F72 -> 535583 | G16: =+F16*E16 -> 4284664
B17: Gabinete metálico para interior con llave (alto 500 ml ancho 400 ml profundo 250ml) Acero laminado en frío calibre 18 tratado con procesos desengrasantes y fosfatizantes y acabados en Pintura electrostática horneada y fijada por medio de paneles infrarrojos. Cuentan con prueba salina de 400 Horas/ Certificaciones:RETIE 1250 | D17: Unidad | E17: 2 | F17: ='ANALISIS DE COTIZACIONES'!F73 -> 535583 | G17: =+F17*E17 -> 1071166
B18: Caja Plástica de Paso Hermética 20X20 | D18: Unidad | E18: 6 | F18: ='ANALISIS DE COTIZACIONES'!F74 -> 19850 | G18: =+F18*E18 -> 119100
... B25: pach core para fibra optica SC/APC 1 metro | D25: Unidad | E25: 20 | F25: ='ANALISIS DE COTIZACIONES'!F81 -> 14870 | G25: =+F25*E25 -> 297400
B26: Sub-Total | D26: Unidad | E26: 20 | F26: ='ANALISIS DE COTIZACIONES'!#REF! -> #REF! | G26: =SUM(G7:G25) -> 49420556
B27: Descripción | D27: Unidad | E27: Cantidad | F27: Valor Unitario | G27: Valor total
B29: Sub- Total | G29: =SUM(G28) -> 0
B30: III. HERRAMIENTAS Y EQUIPOS
B31: Descripción | D31: Unidad | E31: Cantidad | F31: Valor Unitario | G31: Valor total
B34: Sub- Total | G34: =SUM(G32:G33) -> 0
B35: IV. TRANSPORTE
B36: Descripción | D36: Unidad | E36: Cantidad | F36: Valor Unitario | G36: Valor total
B39: V. MANO DE OBRA
B40: Descripción | D40: Unidad | E40: Cantidad | F40: Valor Unitario | G40: Valor total
B43: Sub- Total
B46: VALOR TOTAL ACTIVIDAD | G46: =G26+G29+G34+G43 -> 49420556

Sheet ANALISIS DE COTIZACIONES
F3: ANALISIS DE LAS COTIZACIONES RECIBIDAS | I3: PROMEDIO
C4: VALORES UNITARIOS | F4: Cotización No. 01 SSI SOLUCIONES S.AS. NIT 900949399-1 | G4: Cotización No. 02 GRUPO EMPRESARIAL AABC SAS ZOMAC NIT 901617088-5 | H4: Cotización No. 03 FUNDACIÓN SOLIDARIOS CONTIGO NIT 901392314-7
B5: ITEM | C5: DETALLE DEL SERVICIO | D5: UNIDAD | E5: CANT | F5: V/R UNIT CON IVA | G5: V/R UNIT CON IVA | H5: V/R UNIT CON IVA | I5: V/R UNIT IVA INCLUIDO
B6: 1 | C6: NVR 32 Megapixel (8K) / 32 Canales IP / Soporta Cámaras con AccuSense / 8 Bahías de Disco Duro / 2 Tarjetas de Red / Soporta RAID con Hot Swap / HDMI en 4K / Soporta POS Compresión de video: H.265+ / H.265 / H.264+ / H.264. Soporta mouse USB para operar (incluido). Soporta 8 HDD´s de hasta 16 TB. (no incluidos) Soporta HOT SWAP con arreglo RAID 0,1,5,6,10. Soporta búsqueda de agenda en forma local o remota. Soporta tecnología ANR con cámara IP cuando la red esta desconectada. E instalación | D6: Unidad | E6: 1 | F6: 16900000 | G6: 15000000 | H6: 17500000 | I6: =ROUND(AVERAGE(F6,G6,H6),0) -> 16466667
B7: 2 | C7: Unidad de almacenamiento 10TB especializado para CCTV, Velocidad de Transferencia de datos Búfer a host: 6Gb/s, Aplicaciones de Video Vigilancia E instalación | D7: Unidad | E7: 1 | F7: 3000000 | G7: 2900000 | H7: 3500000 | I7: =ROUND(AVERAGE(F7,G7,H7),0) -> 3133333
B8: 3 | C8: Televisor de 55 pulgadas Qled resolución 4k a 60 Hz con base para pared, Cable HDMI 5 METROS compatible con 8K@60HZ y 4K@120HZ E instalación | D8: Unidad | E8: 1 | F8: 3500000 | G8: 3261000 | H8: 3800000 | I8: =ROUND(AVERAGE(F8,G8,H8),0) -> 3520333
B9: 4 | C9: JOYSTICK Controlador IP para DVR, NVR y PTZ a través de Red/ Soporta RS-485/ y Puesta en funcionamiento. | D9: Unidad | E9: 1 | F9: 5000000 | G9: 4910000 | H9: 5100000 | I9: =ROUND(AVERAGE(F9,G9,H9),0) -> 5003333
B10: 5 | C10: Escritorio Moderno Toba Grande. Metal Y Madera Melamina. 160x60x74 Perfil Metálico cold rolled de 1"x1" (2.5x2.5cm) *Mesa en Melamina MDP espesor 1.5 cm, Pintura: Electrostática Texturizada color blanco o negro (aplicada en horno) | D10: Unidad | E10: 1 | F10: 1000000 | G10: 1100000 | H10: 1500000 | I10: =ROUND(AVERAGE(F10,G10,H10),0) -> 1200000
B11: =B10+1 -> 6 | C11: Silla Escritorio Ejecutiva Ergonómica Oficina Color Negro Material del tapizado Malla, estructura metalica Características 1. Espalda: Material: Tela mesh Dimensiones: 41 cm ancho x 44 cm alto 2. Asiento: Material: Tela mesh Espesor: 50 mm Dimensiones: 46 cm ancho x 46 cm profundidad 3. Brazos: fijos 4. Mecanismo: posición fija 5. Cilindro neumático Ajuste altura del asiento con elevación de gas y rotación 360 grados. Material: Acero Color: Plateado 6. Estrella de 5 aspas: Diámetro: 600 mm Material: Acero cromado 7. Rodachinas doble carrete Material: Nylon 8. Resistencia máxima de peso: 100 kg | D11: Unidad | E11: 1 | F11: 800000 | G11: 700000 | H11: 780000 | I11: =ROUND(AVERAGE(F11,G11,H11),0) -> 760000
B12: =B11+1 -> 7 | C12: GABINETE 24U PISO Color Negro alto 120* 60*60cm, METALICO, Incluye Rodachines. Chapa De Seguridad Con 2 Llaves. Puertas Laterales Desmontables. 1 Ventilador Para Rack 4 Pulgadas A 110 voltios 1 Bandeja Para Rack 30cm, 1 Multitoma Para Rack 8 Servicios, 8 Kit Tuerca Canastilla M6 Para Montaje En Rack se entrega instalado | D12: Unidad | E12: 1 | F12: 3500000 | G12: 3031500 | H12: 3100000 | I12: =ROUND(AVERAGE(F12,G12,H12),0) -> 3210500
B13: =B12+1 -> 8 | C13: Cámara PTZ IP Lente 4 megapíxeles, zoom óptico mínimo de 25x, rotación horizontal continua de 360° y movimiento vertical de alta precisión, compresión de video H.265+, alcance infrarrojo mínimo de 150 metros para operación nocturna, tecnología WDR de 120 dB para control de contraluces, protección IP67 e IK10 para intemperie y vandalismo, alimentación PoE+ integración a NVR y plataforma de monitoreo central, patch cord cat 6 certificado 1 metros, E instalación | D13: Unidad | E13: 1 | F13: 8000000 | G13: 7260500 | H13: 8500000 | I13: =ROUND(AVERAGE(F13,G13,H13),0) -> 7920167
B14: =B13+1 -> 9 | C14: Cámara IP de 4 megapíxeles, Bala IP 4 Megapixel / Lente 2.8 mm / 30 mts IR + 30 mts Luz Blanca / Micrófono Integrado / Exterior IP67 / WDR 120 dB / PoE / ONVIF compresión de video H.265+, alimentación PoE+ compatibilidad con integración a NVR y plataforma de monitoreo central. con licencia de funcionamiento 10, E instalación | D14: Unidad | E14: 1 | F14: 1179000 | G14: 816400 | H14: 1000100 | I14: =ROUND(AVERAGE(F14,G14,H14),0) -> 998500
B15: =B14+1 -> 10 | C15: swicht 24 ptos24SFP/8GT4XS, SFP Gigabit de 24 puertos con 8 puertos RJ45 combinados Switch administrado de capa 2, 4 * 10G se entrega instalado en item ( gabinete 24 u piso ) | D15: Unidad | E15: 1 | F15: 3000000 | G15: 2861200 | H15: 3200000 | I15: =ROUND(AVERAGE(F15,G15,H15),0) -> 3020400
B16: =B15+1 -> 11 | C16: Switch PoE Gigabit de 8 puertos | 8 puertos PoE+ @120W 10/100/1000 Mbps RJ45 e instalacion | D16: Unidad | E16: 1 | F16: 1500000 | G16: 1031600 | H16: 1100000 | I16: =ROUND(AVERAGE(F16,G16,H16),0) -> 1210533
B17: =B16+1 -> 12 | C17: Switch Administrable, 6 Puertos Gigabit, 4 Puertos PoE+ 802.3af/at Gigabit, 1 Puerto Gigabit Uplink, 1 Puerto Combo SFP Uplink, 54W 9 e instalacion | D17: Unidad | E17: 1 | F17: 340250 | G17: 305300 | H17: 330000 | I17: =ROUND(AVERAGE(F17,G17,H17),0) -> 325183
B18: =B17+1 -> 13 | C18: FIBRA OPTICA 12 HILOS x metros instalado | D18: mts | E18: 1 | F18: 7000 | G18: 6250 | H18: 7100 | I18: =ROUND(AVERAGE(F18,G18,H18),0) -> 6783
B19: =B18+1 -> 14 | C19: KIT solar CCTV : panel 450w 12v, bateria en gel 12v 100amp, Controlador De Carga Solar Mppt 100a 12v-48v Auto Regulador, soporte panel solar Aluminio EN AW 6005A T6 Crudo, Kit Completo 2-Pack radio enlace contiene Puente Inalámbrico 802.11ac de Doble Flujo de 5 GHz y 1 emisor y 1 receptor instalado | D19: kit | E19: 1 | F19: 9000000 | G19: 8681550 | H19: 9500000 | I19: =ROUND(AVERAGE(F19,G19,H19),0) -> 9060517
B20: =B19+1 -> 15 | C20: poste 10 metros seccionado metálico 500 kg carga instalado en sitio | D20: unidad | E20: 1 | F20: 3700000 | G20: 3350000 | H20: 3600000 | I20: =ROUND(AVERAGE(F20,G20,H20),0) -> 3550000
B21: =B20+1 -> 16 | C21: Brazo metálico acero galvanizado de 2 metros de longitud, diseñado para la correcta proyección de la cámara y una cobertura óptima del área perimetral, garantizando estabilidad y resistencia a condiciones climáticas exteriores incluye instalacion | D21: unidad | E21: 1 | F21: 1620000 | G21: 1521000 | H21: 1630000 | I21: =ROUND(AVERAGE(F21,G21,H21),0) -> 1590333
B22: =B21+1 -> 17 | C22: UPS DE 3000VA Voltaje de salida: 110V. Voltaje de entrada: 85V - 150V. En línea, doble conversión. Forma de onda: Senoidal pura. Puerto USB, RS-232, SmartSlot para tarjeta de red. : Pantalla LCD con indicadores de estado y navegación. y puesta en funcionamiento | D22: unidad | E22: 1 | F22: 7800000 | G22: 6601000 | H22: 8000000 | I22: =ROUND(AVERAGE(F22,G22,H22),0) -> 7467000
... B40: =B39+1 -> 35 | C40: pach core para fibra optica SC/APC 1 metro | D40: unidad | E40: 1 | F40: 14850 | G40: 14860 | H40: 14900 | I40: =ROUND(AVERAGE(F40,G40,H40),0) -> 14870
D41: TOTAL | F41: =SUM(F6:F40) -> 75722950 | G41: =SUM(G6:G40) -> 68885700 | H41: =SUM(H6:H40) -> 78507300 | I41: =ROUND(AVERAGE(F41,G41,H41),0) -> 74371983
C44: PRESUPUESTO GENERAL
B46: ITEM | C46: DETALLE DEL SERVICIO | D46: UNIDAD | E46: CANT | F46: V/R UNT | G46: V/R TOTAL
B47: 1 | C47: NVR 32 Megapixel (8K) / 32 Canales IP / Soporta Cámaras con AccuSense / 8 Bahías de Disco Duro / 2 Tarjetas de Red / Soporta RAID con Hot Swap / HDMI en 4K / Soporta POS Compresión de video: H.265+ / H.265 / H.264+ / H.264. Soporta mouse USB para operar (incluido). Soporta 8 HDD´s de hasta 16 TB. (no incluidos) Soporta HOT SWAP con arreglo RAID 0,1,5,6,10. Soporta búsqueda de agenda en forma local o remota. Soporta tecnología ANR con cámara IP cuando la red esta desconectada. E instalación | D47: Unidad | E47: 1 | F47: =I6 -> 16466667 | G47: =F47*E47 -> 16466667
B48: 2 | C48: Unidad de almacenamiento 10TB especializado para CCTV, Velocidad de Transferencia de datos Búfer a host: 6Gb/s, Aplicaciones de Video Vigilancia E instalación | D48: Unidad | E48: 2 | F48: =I7 -> 3133333 | G48: =F48*E48 -> 6266666
B49: 3 | C49: Televisor de 55 pulgadas Qled resolución 4k a 60 Hz con base para pared, Cable HDMI 5 METROS compatible con 8K@60HZ y 4K@120HZ E instalación | D49: Unidad | E49: 2 | F49: =I8 -> 3520333 | G49: =F49*E49 -> 7040666
B50: 4 | C50: JOYSTICK Controlador IP para DVR, NVR y PTZ a través de Red/ Soporta RS-485/ y Puesta en funcionamiento. | D50: Unidad | E50: 1 | F50: =I9 -> 5003333 | G50: =F50*E50 -> 5003333
B51: 5 | C51: Escritorio Moderno Toba Grande. Metal Y Madera Melamina. 160x60x74 Perfil Metálico cold rolled de 1"x1" (2.5x2.5cm) *Mesa en Melamina MDP espesor 1.5 cm, Pintura: Electrostática Texturizada color blanco o negro (aplicada en horno) | D51: Unidad | E51: 1 | F51: =I10 -> 1200000 | G51: =F51*E51 -> 1200000
B52: =B51+1 -> 6 | C52: Silla Escritorio Ejecutiva Ergonómica Oficina Color Negro Material del tapizado Malla, estructura metalica Características 1. Espalda: Material: Tela mesh Dimensiones: 41 cm ancho x 44 cm alto 2. Asiento: Material: Tela mesh Espesor: 50 mm Dimensiones: 46 cm ancho x 46 cm profundidad 3. Brazos: fijos 4. Mecanismo: posición fija 5. Cilindro neumático Ajuste altura del asiento con elevación de gas y rotación 360 grados. Material: Acero Color: Plateado 6. Estrella de 5 aspas: Diámetro: 600 mm Material: Acero cromado 7. Rodachinas doble carrete Material: Nylon 8. Resistencia máxima de peso: 100 kg | D52: Unidad | E52: 1 | F52: =I11 -> 760000 | G52: =F52*E52 -> 760000
B53: =B52+1 -> 7 | C53: GABINETE 24U PISO Color Negro alto 120* 60*60cm, METALICO, Incluye Rodachines. Chapa De Seguridad Con 2 Llaves. Puertas Laterales Desmontables. 1 Ventilador Para Rack 4 Pulgadas A 110 voltios 1 Bandeja Para Rack 30cm, 1 Multitoma Para Rack 8 Servicios, 8 Kit Tuerca Canastilla M6 Para Montaje En Rack se entrega instalado | D53: Unidad | E53: 1 | F53: =I12 -> 3210500 | G53: =F53*E53 -> 3210500
B54: =B53+1 -> 8 | C54: Cámara PTZ IP Lente 4 megapíxeles, zoom óptico mínimo de 25x, rotación horizontal continua de 360° y movimiento vertical de alta precisión, compresión de video H.265+, alcance infrarrojo mínimo de 150 metros para operación nocturna, tecnología WDR de 120 dB para control de contraluces, protección IP67 e IK10 para intemperie y vandalismo, alimentación PoE+ integración a NVR y plataforma de monitoreo central, patch cord cat 6 certificado 1 metros, E instalación | D54: Unidad | E54: 6 | F54: =I13 -> 7920167 | G54: =F54*E54 -> 47521002
B55: =B54+1 -> 9 | C55: Cámara IP de 4 megapíxeles, Bala IP 4 Megapixel / Lente 2.8 mm / 30 mts IR + 30 mts Luz Blanca / Micrófono Integrado / Exterior IP67 / WDR 120 dB / PoE / ONVIF compresión de video H.265+, alimentación PoE+ compatibilidad con integración a NVR y plataforma de monitoreo central. con licencia de funcionamiento 10, E instalación | D55: Unidad | E55: 10 | F55: =I14 -> 998500 | G55: =F55*E55 -> 9985000
B56: =B55+1 -> 10 | C56: swicht 24 ptos24SFP/8GT4XS, SFP Gigabit de 24 puertos con 8 puertos RJ45 combinados Switch administrado de capa 2, 4 * 10G se entrega instalado en item ( gabinete 24 u piso ) | D56: Unidad | E56: 1 | F56: =I15 -> 3020400 | G56: =F56*E56 -> 3020400
B57: =B56+1 -> 11 | C57: Switch PoE Gigabit de 8 puertos | 8 puertos PoE+ @120W 10/100/1000 Mbps RJ45 e instalacion | D57: Unidad | E57: 1 | F57: =I16 -> 1210533 | G57: =F57*E57 -> 1210533
B58: =B57+1 -> 12 | C58: Switch Administrable, 6 Puertos Gigabit, 4 Puertos PoE+ 802.3af/at Gigabit, 1 Puerto Gigabit Uplink, 1 Puerto Combo SFP Uplink, 54W 9 e instalacion | D58: Unidad | E58: 9 | F58: =I17 -> 325183 | G58: =F58*E58 -> 2926647
B59: =B58+1 -> 13 | C59: FIBRA OPTICA 12 HILOS x metros instalado | D59: mts | E59: 1850 | F59: =I18 -> 6783 | G59: =F59*E59 -> 12548550
B60: =B59+1 -> 14 | C60: KIT solar CCTV : panel 450w 12v, bateria en gel 12v 100amp, Controlador De Carga Solar Mppt 100a 12v-48v Auto Regulador, soporte panel solar Aluminio EN AW 6005A T6 Crudo, Kit Completo 2-Pack radio enlace contiene Puente Inalámbrico 802.11ac de Doble Flujo de 5 GHz y 1 emisor y 1 receptor instalado | D60: kit | E60: 2 | F60: =I19 -> 9060517 | G60: =F60*E60 -> 18121034
B61: =B60+1 -> 15 | C61: poste 10 metros seccionado metálico 500 kg carga instalado en sitio | D61: unidad | E61: 2 | F61: =I20 -> 3550000 | G61: =F61*E61 -> 7100000
B62: =B61+1 -> 16 | C62: Brazo metálico acero galvanizado de 2 metros de longitud, diseñado para la correcta proyección de la cámara y una cobertura óptima del área perimetral, garantizando estabilidad y resistencia a condiciones climáticas exteriores incluye instalacion | D62: unidad | E62: 2 | F62: =I21 -> 1590333 | G62: =F62*E62 -> 3180666
...

Sheet CRONOGRAMA
A1: REPÚBLICA DE COLOMBIA DEPARTAMENTO DEL PUTUMAYO MUNICIPIO PUERTO ASÍS ALCALDÍA MUNICIPAL
A2: CRONOGRAMA DE ACTIVIDADES
A3: NOMBRE DEL PROYECTO | C3: FORTALECIMIENTO DE LAS CAPACIDADES OPERATIVAS DE SEGURIDAD Y CONVIVENCIA CIUDADANA DEL BATALLÓN DE ARTILLERÍA DE CAMPAÑA N° 27, MEDIANTE LA IMPLEMENTACIÓN Y PUESTA EN MARCHA DE UN SISTEMA DE VIDEOVIGILANCIA CCTV EN EL MUNICIPIO DE PUERTO ASÍS, PUTUMAYO.
A4: No. | B4: Descripción Actividad | D4: Tiempo de ejecución
D5: MES 1 | E5: MES 2
A6: 1 | B6: Equipar el Centro de Monitoreo (Control Core)
A7: 2 | B7: Suministrar e Instalar dispositivos de captura
A8: 3 | B8: Suministrar e Instalar Infraestructura de Red de Conectividad
A9: 4 | B9: Suministrar e Instalar Protección Electrica y Soporte Tecnico
B12: Aprobó
B13: __________________________________________
B14: CARLOS ORLANDO LINARES BURGOS
B15: Secretaria de Gobierno Municipal
B19: Revisó | C19: Carlos Orlando Linares Burgos - Secretario de Gobierno Municipal
B20: Elaboró | C20: Janeth Mora Benavides - Apoyo a la Secretaria de Gobierno seguimiento de Proyectos
B21: Los arriba firmantes declaramos que hemos realizado el presente documento y los hemos encontrado ajustado a las normas y disposiciones legales y/o técnicas vigentes y por tanto, bajo nuestra responsabilidad lo presentamos para firmar.

Sheet CODIGOS
D6: ITEM
E7: CÓDIGO - CLASE | F7: NOMBRE - CLASE
D8: 1 | E8: 20101800 | F8: Sistemas mecanizados de soporte en tierra
D9: 2 | E9: 26121600 | F9: Cables eléctricos y accesorios
D10: 3 | E10: 30101500 | F10: Ángulos
D11: 4 | E11: 30102400 | F11: Varillas
D12: 5 | E12: 30102900 | F12: Pilares
D13: 6 | E13: 39121000 | F13: Equipamiento para distribución y conversión de alimentación
D14: 7 | E14: 39121300 | F14: Cuadros registros y menaje para electricidad
D15: 8 | E15: 39122100 | F15: Equipo de transmisión y distribución eléctrica
D16: 9 | E16: 39131700 | F16: Conductos eléctricos, electroductos y cables aéreos
D17: 10 | E17: 43201800 | F17: Dispositivo de almacenamiento
D18: 11 | E18: 43211700 | F18: Dispositivos informáticos de entrada de datos
D19: 12 | E19: 43223300 | F19: Dispositivos y equipos para instalación de conectividad de redes y Datacom
... D27: 20 | E27: 60104900 | F27: Materiales de física de electricidad
