Workbook
Name a1_Y1: [2]CONFIGURACIÓN!$D$17
Name a1_Y1: [2]CONFIGURACIÓN!$D$17
Name a1_Y2: [2]CONFIGURACIÓN!$E$17
Name a1_Y2: [2]CONFIGURACIÓN!$E$17
Name a10_Y10: [2]CONFIGURACIÓN!$M$26
Name a10_Y10: [2]CONFIGURACIÓN!$M$26
Name a10_Y11: [2]CONFIGURACIÓN!$N$26
Name a10_Y11: [2]CONFIGURACIÓN!$N$26
Name a2_Y2: [2]CONFIGURACIÓN!$E$18
Name a2_Y2: [2]CONFIGURACIÓN!$E$18
Name a2_Y3: [2]CONFIGURACIÓN!$F$18
Name a2_Y3: [2]CONFIGURACIÓN!$F$18
Name a3_Y3: [2]CONFIGURACIÓN!$F$19
Name a3_Y3: [2]CONFIGURACIÓN!$F$19
Name a3_Y4: [2]CONFIGURACIÓN!$G$19
Name a3_Y4: [2]CONFIGURACIÓN!$G$19
Name a4_Y4: [2]CONFIGURACIÓN!$G$20
Name a4_Y4: [2]CONFIGURACIÓN!$G$20
Name a4_Y5: [2]CONFIGURACIÓN!$H$20
Name a4_Y5: [2]CONFIGURACIÓN!$H$20
Name a5_Y5: [2]CONFIGURACIÓN!$H$21
Name a5_Y5: [2]CONFIGURACIÓN!$H$21
Name a5_Y6: [2]CONFIGURACIÓN!$I$21
Name a5_Y6: [2]CONFIGURACIÓN!$I$21
Name a6_Y6: [2]CONFIGURACIÓN!$I$22
Name a6_Y6: [2]CONFIGURACIÓN!$I$22
Name a6_Y7: [2]CONFIGURACIÓN!$J$22
Name a6_Y7: [2]CONFIGURACIÓN!$J$22
Name a7_Y7: [2]CONFIGURACIÓN!$J$23
Name a7_Y7: [2]CONFIGURACIÓN!$J$23
Name a7_Y8: [2]CONFIGURACIÓN!$K$23
Name a7_Y8: [2]CONFIGURACIÓN!$K$23
Name a8_Y8: [2]CONFIGURACIÓN!$K$24
Name a8_Y8: [2]CONFIGURACIÓN!$K$24
Name a8_Y9: [2]CONFIGURACIÓN!$L$24
Name a8_Y9: [2]CONFIGURACIÓN!$L$24
Name a9_Y10: [2]CONFIGURACIÓN!$M$25
Name a9_Y10: [2]CONFIGURACIÓN!$M$25
Name a9_Y9: [2]CONFIGURACIÓN!$L$25
Name a9_Y9: [2]CONFIGURACIÓN!$L$25
Name ALMUERZO: '[3]Resumen Preparaciones'!$C$52:$C$113
Name almuerzocena: '[3]Resumen Preparaciones'!$C$52:$C$141
Name año1: [2]CONFIGURACIÓN!$F$9
Name año1: [2]CONFIGURACIÓN!$F$9
Name bbb: [4]lista!$A$11:$A$13
Name CALENDARIO: [2]CALENDARIO!$B$6:$H$161
Name CALENDARIO: [2]CALENDARIO!$B$6:$H$161
Name Calidad: [5]PERSONAL!$P$58
Name Campamento: [5]PERSONAL!$P$122
Name Comercio: [6]OCULTAR!$F$14:$G$17
Name Decision: [4]lista!$A$6:$A$7
Name Decision: [4]lista!$A$6:$A$7
Name dependencia: '[7]Datos Inciales'!$B$5:$B$30
Name desayuno: '[3]Resumen Preparaciones'!$C$5:$C$50
Name DESAYUNOS: '[3]Resumen Preparaciones'!$C$5:$C$33
Name Ensayos: [5]PERSONAL!$P$100
Name Estrategia: [8]Tablas!$F$2:$F$34
Name EUR: '[2]DATOS ENTRADA'!$E$2
Name EUR: '[2]DATOS ENTRADA'!$E$2
Name fecha_fin_servicio: [2]CONFIGURACIÓN!$C$10

Sheet SDC
B1: República de Colombia Instituto Colombiano de Bienestar Familiar Cecilia de la Fuente de Lleras Dirección de Administrativa Grupo de Apoyo logístico | I1: Clasificación de la información: Pública
B7: SOLICITUD DE COTIZACIÓN
B8: Objeto | C8: Prestar el servicio de mantenimiento preventivo y correctivo, incluido el suministro de partes, piezas o repuestos de los equipos de aire acondicionado del ICBF, ubicados en la Sede Dirección General en la ciudad de Bogotá.
B10: Fecha: | E10: Empresa: | H10: Nit:
B11: Contacto: | E11: Cargo: | H11: E-Mail:
B12: Tel. celular: | E12: Tel fijo y ext.: | H12: Ciudad
B13: INSTRUCCIONES PARA EL DILIGENCIAMIENTO DEL FORMATO
B14: • Por favor diligenciar solo las celdas en AMARILLO. • Revisar todos los requerimientos que se exponen en el documento "Ficha de Condiciones Técnicas Esenciales para la Prestación del Servicio y/o Entrega del Bien" (FCT) y Anexos; y formular su cotización en concordancia con este, garantizando que los bienes y/o servicios ofrecidos cumplan en su totalidad con las especificaciones técnicas descritas en la FCT. • El precio de la cotización deber ser expresados en PESOS COLOMBIANOS. • Los precios deberán aproximarse por exceso o por defecto al entero más cercano así: (i) si es igual o superior a 50 centavos, se aproxima al entero siguiente; (ii) si es inferior a 50 centavos se baja al entero anterior. • No modificar, agregar o quitar ningún ítem o sub-ítem.
B16: Notas: (1): El precio de los repuestos para el mantenimiento correctivo deberán incluir todos los costos directos e indirectos que generen dichas visItas como el transporte, mano de obra, instalación y demás que llegasen a generar para realizar el mantenimiento. (2) Asignar precio sin incluir el IVA en las celdas de la columna "Precio unitario antes de IVA" y asignar la tarifa de IVA que corresponda en la celda de la columna "Tarifa IVA%". (3) Si remite su cotización mediante el módulo de Solicitud de información a proveedores de la plataforma SECOP II, en la respuesta a la pregunta 1 debe incluir la sumatoria de los precios unitarios cotizado (celda I179). De igual forma deberá subir el presente formato a la plataforma.
B17: 1.MANTENIMIENTO PREVENTIVO
B18: Tarifa IVA (Nota 2)
B19: # de servicios | C19: 2
B20: Item | C20: SERVICIO | E20: Cantidad equipos | F20: Precio unitario antes de IVA (Nota 2) | G20: Precio unitario IVA incluido | H20: Precio total de incluido IVA
B21: 1 | C21: Equipo minisplit marca TRANE de 18000 BTU/H R22, 220V condensadora horizontal | E21: 4 | G21: =+ROUND(F21*(1+$C$18),0) -> 0 | H21: =ROUND(G21*$C$19*E21,0) -> 0
B22: 2 | C22: Equipo minisplit marca TRANE con serpetine spine fine de 18000 BTU/H R22, 220V Compresor Climaluff, condensadora vertical. | E22: 2 | G22: =+ROUND(F22*(1+$C$18),0) -> 0 | H22: =ROUND(G22*$C$19*E22,0) -> 0
B23: 3 | C23: Equipo aire acondicionado minisplit de 18000 BTU/HR 1,5 TON/REF con control remoto marca LG | E23: 1 | G23: =+ROUND(F23*(1+$C$18),0) -> 0 | H23: =ROUND(G23*$C$19*E23,0) -> 0
B24: 4 | C24: Sistema de aire acondicionado Split piso techo de 36.000 BTU/H marca LG | E24: 1 | G24: =+ROUND(F24*(1+$C$18),0) -> 0 | H24: =ROUND(G24*$C$19*E24,0) -> 0
B25: 5 | C25: Sistema de aire acondicionado MiniSplit de pared de 12000 BTU/H (1.0TR). Compresor Inverter, R-410ª/220v/1HP | E25: 2 | G25: =+ROUND(F25*(1+$C$18),0) -> 0 | H25: =ROUND(G25*$C$19*E25,0) -> 0
B26: 6 | C26: Sistema de aire acondicionado SPLIT DE 9.000 BTU/H, Compresor no Inverter, R 410 A, 220 V | E26: 14 | G26: =+ROUND(F26*(1+$C$18),0) -> 0 | H26: =ROUND(G26*$C$19*E26,0) -> 0
B27: 7 | C27: Sistema de aire acondicionado SPLIT DE 24,000 BTU/H, Compresor no Inverter, R 410 A, 220 V | E27: 1 | G27: =+ROUND(F27*(1+$C$18),0) -> 0 | H27: =ROUND(G27*$C$19*E27,0) -> 0
B28: 8 | C28: Sistema de aire acondicionado piso techo de 60,000 BTU/H, Compresor no Inverter, R 410 A, 220 V | E28: 4 | G28: =+ROUND(F28*(1+$C$18),0) -> 0 | H28: =ROUND(G28*$C$19*E28,0) -> 0
B29: 9 | C29: Sistema de aire acondicionado SPLIT DE 12,000 BTU/H, Compresor no Inverter, R 410 A, 220 V | E29: 1 | G29: =+ROUND(F29*(1+$C$18),0) -> 0 | H29: =ROUND(G29*$C$19*E29,0) -> 0
B30: TOTAL | E30: =+SUM($E$21:$E$29) -> 30 | H30: =+ROUND(SUM($H$21:$H$29),0) -> 0
B32: Item | C32: SERVICIO | E32: Unidad de medida | F32: Tarifa IVA | G32: Precio unitario antes de IVA | H32: Precio unitario incluido IVA
B33: 1 | C33: Visita de inspección | E33: servicio/mes | H33: =+ROUND(G33*(1+F33),0) -> 0
B34: TOTAL | H34: =+ROUND(SUM($H$33:$H$33),0) -> 0
B36: 2. MANTENIMIENTO CORRECTIVO (NOTA1)
B38: Item | C38: Descripción de repuestos | F38: Unidad de medida | G38: Tarifa IVA | H38: Precio unitario antes de IVA | I38: Precio unitario incluido IVA
B39: 1 | C39: Compresor rotativo 9000 BTU/H 220 V R-22 | F39: unidad | I39: =+ROUND(H39*(1+G39),0) -> 0
B40: 2 | C40: Compresor rotativo 12000 BTU/H 220 V R-22 | F40: unidad | I40: =+ROUND(H40*(1+G40),0) -> 0
B41: 3 | C41: Compresor rotativo 18000 BTU/H 220 V R-22 | F41: unidad | I41: =+ROUND(H41*(1+G41),0) -> 0
B42: 4 | C42: Compresor rotativo 22000 BTU/H 220 V R-22 | F42: unidad | I42: =+ROUND(H42*(1+G42),0) -> 0
B43: 5 | C43: Compresor rotativo 24000 BTU/H 220 V R-22 | F43: unidad | I43: =+ROUND(H43*(1+G43),0) -> 0
B44: 6 | C44: Compresor rotativo 36000 BTU/H 220 V R-22 | F44: unidad | I44: =+ROUND(H44*(1+G44),0) -> 0
B45: 7 | C45: Compresor rotativo 60000 BTU/H 220 V R-22 | F45: unidad | I45: =+ROUND(H45*(1+G45),0) -> 0
B46: 8 | C46: Compresor rotativo 9000 BTU/H 220 V R-410A | F46: unidad | I46: =+ROUND(H46*(1+G46),0) -> 0
B47: 9 | C47: Compresor rotativo 12000 BTU/H 220 V R-410A | F47: unidad | I47: =+ROUND(H47*(1+G47),0) -> 0
B48: 10 | C48: Compresor rotativo 18000 BTU/H 220 V R-410A | F48: unidad | I48: =+ROUND(H48*(1+G48),0) -> 0
B49: 11 | C49: Compresor rotativo 22000 BTU/H 220 V R-410A | F49: unidad | I49: =+ROUND(H49*(1+G49),0) -> 0
B50: 12 | C50: Compresor rotativo 24000 BTU/H 220 V R-410A | F50: unidad | I50: =+ROUND(H50*(1+G50),0) -> 0
...

Sheet INFO_EMPRESA
B2: PROCESO ADQUISICIÓN DE BIENES Y SERVICIOS | AN2: CLASIFICACIÓN DE LA INFORMACIÓN PÚBLICA
B6: Ficha de identificación de proveedores | AI6: Fecha dd/mm/aa
B7: 1. Información General
B8: 1.1. Identificación
B9: Personas naturales | J9: Nombre Comercial | AK9: Cédula
B11: Personas jurídicas | J11: Razón Social | AK11: NIT con dígito de verificación
B13: Dirección | AE13: Teléfono fijo | AK13: Ciudad
B15: Pagina Web | T15: Sector de la economía al que pertenece | AK15: Subsector al que pertenece
B17: 1.2. Personas de Contacto
B18: Cargo | G18: Nombres y apellidos | Q18: E-mail | AH18: Ext. | AK18: Celular
B22: 1.3. Códigos CIIU | AK22: 1.4.Sector (Correspondencia según Resol.2225/19 del MinCIT) (Nota 1)
B23: Código de Actividad | J23: Descripción Actividad Económica CIIU
B24: Principal (Nota 1) | J24: =IF(G24="","",IFERROR(VLOOKUP(G24,OCULTAR!$A$21:$C$515,2,FALSE),"Código CIIU no encontrado, revisar y ajustar.")) | AK24: =IF(G24="","",IFERROR(VLOOKUP(G24,OCULTAR!$A$21:$C$515,3,FALSE),"Código CIIU no encontrado, revisar y ajustar."))
B25: Secundario | J25: =IF(G25="","",IFERROR(VLOOKUP(G25,OCULTAR!$A$21:$C$515,2,FALSE),"Código CIIU no encontrado, revisar y ajustar.")) | AK25: =IF(G25="","",IFERROR(VLOOKUP(G25,OCULTAR!$A$21:$C$515,3,FALSE),"Código CIIU no encontrado, revisar y ajustar"))
B26: Secundario | J26: =IF(G26="","",IFERROR(VLOOKUP(G26,OCULTAR!$A$21:$C$515,2,FALSE),"Código CIIU no encontrado, revisar y ajustar.")) | AK26: =IF(G26="","",IFERROR(VLOOKUP(G26,OCULTAR!$A$21:$C$515,3,FALSE),"Código CIIU no encontrado, revisar y ajustar"))
B27: 2. Información Financiera (Nota 2)
B28: Nombre del Indicador | L28: Cuenta | V28: Diciembre 31 de 2024
V29: Valores en pesos | AA29: Indicador
B30: Tamaño empresarial (Nota 1) | L30: Ingresos de actividades ordinarias
B31: 3. Encuesta sobre población con características especiales para la inclusión en el sistema de compras públicas (Dec.1860/21)
B32: 3.1. Condiciones para ser considerados como emprendimientos o empresas de mujeres en el sistema de compras públicas (Art. 2.2.1.2.4.2.14. del Dec.1860/21):
B33: Para contestar las preguntas tenga en cuenta que se estima que el cierre del proceso de selección se de en aproximadamente 3 meses y que se deberá acreditar la condición de emprendimientos o empresas de mujeres mediante los documentos señalados en el Dec.1860/21 en el marco del proceso de selección.
B35: 1 | E35: ¿Más del cincuenta por ciento (50%) de las acciones, partes de interés o cuotas de participación de la persona jurídica pertenecen a mujeres y los derechos de propiedad han pertenecido a estas durante al menos el último año anterior a la fecha de cierre del Proceso de Selección? | AQ35: =IF(AO35="No aplica","",IF(ISBLANK($J$10),"","En la pregunta 1.1. indicó PERSONA NATURAL. Debe contestar NO APLICA en el punto 1 del numeral 3.1."))
B37: 2 | E37: ¿Por lo menos el cincuenta por ciento (50%) de los empleos del nivel directivo de la persona jurídica son ejercidos por mujeres y estas han estado vinculadas laboralmente a la empresa durante al menos el último año anterior a la fecha de cierre del Proceso de Selección en el mismo cargo u otro del mismo nivel? | AQ37: =IF(AO37="No aplica","",IF(ISBLANK($J$10),"","En la pregunta 1.1. indicó PERSONA NATURAL. Debe contestar NO APLICA en el punto 2 del numeral 3.1."))
B41: 3 | E41: En los casos en los que la persona natural es mujer: ¿ha ejercido actividades comerciales a través de un establecimiento de comercio durante al menos el último año anterior a la fecha de cierre del proceso de selección? | AQ41: =IF(AO41="No aplica","",IF(ISBLANK($J$12),"","En la pregunta 1.1. indicó PERSONA JURÍDICA. Debe contestar NO APLICA en el punto 3 del numeral 3.1."))
B43: 4 | E43: Para las asociaciones y cooperativas:¿Más del cincuenta por ciento (50%) de los asociados son mujeres y la participación les ha correspondido a estas durante al menos el último año anterior a la fecha de cierre del Proceso de Selección? | AQ43: =IF(AO43="No aplica","",IF(ISBLANK($J$10),"","En la pregunta 1.1. indicó PERSONA NATURAL. Debe contestar NO APLICA en el punto 4 del numeral 3.1."))
B45: 3.2. Fomento a la ejecución de contratos estatales por parte de población en pobreza extrema, desplazados por la violencia, personas en proceso de reintegración o reincorporación y sujetos de especial protección constitucional (Art. 2.2.1.2.4.2.16. del Dec.1860/21):
B47: 1 | E47: De resultar adjudicatario del proceso de selección, ¿qué porcentaje de los bienes o servicios requeridos para la ejecución del contrato serán provistos por parte de población en pobreza extrema, desplazados por la violencia, personas en proceso de reintegración o reincorporación y sujetos de especial protección constitucional, garantizando las condiciones de calidad?
B50: Nota 1: El tamaño empresarial se determinará de acuerdo con el CIIU principal, la correspondencia de sectores establecida en el Art. 3 de la Resol. 2225/19 de MinCIT, los ingresos de actividades ordinarias en UVT y los rangos de tamaños empresariales definidos en el Art.1 de la mencionada resolución.
B51: LOS DATOS PROPORCIONADOS SERÁN TRATADOS DE ACUERDO A LA POLÍTICA DE TRATAMIENTO DE DATOS PERSONALES DEL ICBF Y A LA LEY 1581 DE 2012

Sheet OCULTAR
A1: OCULTAR ESTA HOJA ANTES DE ENVIAR AL MERCADO
A2: Cálculos para determinar el tamaño empresarial
A4: UVT 2020 ---> | B4: 35607 | C4: UVT debe corresponder al último año que se solicita información finanicera.
A6: Resolución conjunta número 2225 de 2019 MinCIT - Artículo 1°
A7: Decreto 957 de 2019 | B7: Manufacturero | D7: Servicio | F7: Comercio
A8: Microempresa | B8: 0 | C8: 23563 | D8: 0 | E8: 32988 | F8: 0 | G8: 44769
A9: Pequeña empresa | B9: 23563 | C9: 204995 | D9: 32988 | E9: 131951 | F9: 44769 | G9: 431196
A10: Mediana empresa | B10: 204995 | C10: 1736565 | D10: 131951 | E10: 483034 | F10: 431196 | G10: 2160692
A11: Gran empresa | B11: 1736565 | D11: 483034 | F11: 2160692
A13: Decreto 957 de 2019 | B13: Manufacturero | D13: Servicio | F13: Comercio
A14: Microempresa | B14: =+B8*$B$4 -> 0 | C14: =+C8*$B$4 -> 839007741 | D14: =+D8*$B$4 -> 0 | E14: =+E8*$B$4 -> 1174603716 | F14: =+F8*$B$4 -> 0 | G14: =+G8*$B$4 -> 1594089783
A15: Pequeña empresa | B15: =+C14+1 -> 839007742 | C15: =+C9*$B$4 -> 7299256965 | D15: =+E14+1 -> 1174603717 | E15: =+E9*$B$4 -> 4698379257 | F15: =+G14+1 -> 1594089784 | G15: =+G9*$B$4 -> 15353595972
A16: Mediana empresa | B16: =+C15+1 -> 7299256966 | C16: =+C10*$B$4 -> 61833869955 | D16: =+E15+1 -> 4698379258 | E16: =+E10*$B$4 -> 17199391638 | F16: =+G15+1 -> 15353595973 | G16: =+G10*$B$4 -> 76935760044
A17: Gran empresa | B17: =+C16+1 -> 61833869956 | C17: =+C11*$B$4 -> 0 | D17: =+E16+1 -> 17199391639 | E17: =+E11*$B$4 -> 0 | F17: =+G16+1 -> 76935760045 | G17: =+G11*$B$4 -> 0
A19: Resolución conjunta número 2225 de 2019 - Artículo 3°. Correspondencia de los sectores. Para efectos de determinar cuál es el rango de tamaño aplicable por actividad económica, considérese la siguiente correspondencia, de acuerdo con lo dispuesto en el parágrafo 4° del artículo 2.2.1.13.2.2 del Decreto número 1074 de 2015, así:
A20: CIIU SIN LETRA | B20: Descripción Clasificación Industrial Internacional Uniforme Versión 4 A.C | C20: Sector
A21: 0111 | B21: Cultivo de cereales (excepto arroz), legumbres y semillas oleaginosas | C21: Manufacturero
A22: 0112 | B22: Cultivo de arroz | C22: Manufacturero
A23: 0113 | B23: Cultivo de hortalizas, raíces y tubérculos | C23: Manufacturero
A24: 0114 | B24: Cultivo de tabaco | C24: Manufacturero
A25: 0115 | B25: Cultivo de plantas textiles | C25: Manufacturero
A26: 0119 | B26: Otros cultivos transitorios n.c.p. | C26: Manufacturero
A27: 0121 | B27: Cultivo de frutas tropicales y subtropicales | C27: Manufacturero
A28: 0122 | B28: Cultivo de plátano y banano | C28: Manufacturero
A29: 0123 | B29: Cultivo de café | C29: Manufacturero
A30: 0124 | B30: Cultivo de caña de azúcar | C30: Manufacturero
A31: 0125 | B31: Cultivo de flor de corte | C31: Manufacturero
... A515: 9900 | B515: Actividades de organizaciones y entidades extraterritoriales | C515: Servicio

Sheet FORMATO COTIZACIÓN no
A1: República de Colombia Instituto Colombiano de Bienestar Familiar Cecilia de la Fuente de Lleras Dirección de Administrativa Grupo de Apoyo logístico | G1: Clasificación de la información: Pública
A7: SOLICITUD DE COTIZACIÓN - Mantenimiento preventivo y correctivo de equipos de bombeo, plantas eléctricas y tanque de agua.
A8: Denominación del Bien o Servicio | B8: Prestar el servicio de mantenimiento preventivo y correctivo, con suministro de partes, piezas y/o repuestos del equipo de bombeo de agua, y de las plantas eléctricas y, mantenimiento del tanque de almacenamiento de agua potable de los bienes a cargo de la Dirección Administrativa del Instituto Colombiano de Bienestar Familiar (ICBF).
A10: Fecha: | C10: Empresa: | F10: Nit:
A11: Contacto: | C11: E-Mail: | F11: Cargo:
A12: Tel. celular: | C12: Tel fijo: | F12: Departamento:
A13: Ciudad:
A15: INSTRUCCIONES PARA EL DILIGENCIAMIENTO DEL FORMATO
A16: • Por favor diligenciar solo las celdas en AMARILLO. • Revisar todos los requerimientos que se exponen en el documento "Ficha de Condiciones Técnicas" (FCT) y anexo, y formular su cotización en concordancia con este, garantizando que los servicios ofrecidos cumplan en su totalidad con las especificaciones técnicas descritas en la FCT. • Los precios de la cotización deben ser expresados en PESOS COLOMBIANOS • Los valores deberán aproximarse por exceso o por defecto al entero más cercano así: (i) si es igual o superior a 50 centavos, se aproxima al entero siguiente; (ii) si es inferior a 50 centavos se baja al entero anterior. • No modificar o quitar ningún ítem o sub-ítem
A18: Notas: (1) El tiempo de ejecución es ESTIMADO y podrá ser inferior. El plazo de ejecución del contrato será a partir del cumplimiento de los requisitos de perfeccionamiento y ejecución, hasta el quince (15) de diciembre de 2023, o hasta el agotamiento de los recursos lo que primero ocurra. (2) Asignar la tarifa IVA que corresponda con los servicios requeridos. (3) Las cantidades son ESTIMADAS y podrán variar en ejecución del contrato de acuerdo con las necesidades de la entidad. (4) Asignar precio sin incluir IVA en las celdas de la columna "Precio unitario antes de IVA". (5) Si remite su cotización mediante el módulo de Solicitud de información a proveedores de la plataforma SECOP II, en la respuesta a la pregunta 1 debe incluir la sumatoria del valor total de la cotización (celda G34). De igual forma deberá subir el presente formato en la pregunta 2 del cuestionario. (6) El precio de los repuestos para el mantenimiento correctivo deberá incluir todos los costos directos e indirectos que generen las visitas q ue haya lugar, como el transporte, mano de obra, instalación y demás que llegasen a generar para realizar el mantenimiento. (7) Asignar la tarifa de IVA que corresponda en las celdas de la columna "Tarifa IVA%", teniendo en cuenta que para el mantenimiento correctivo depende del repuesto. (8) El proveedor potencial podrá, previo al envío de su cotización, realizar una visita técnica los días de lunes a viernes en el horario de 8:00 am a 4:00 pm (cada visita con un lapso de tiempo de 2 horas máximo), y solo se podrá atender a tres (3) proveedores por visita, debido al protocolo de bioseguridad. Para agendar las visitas y que estas sean aprobadas, es necesario que envié un correo a solicitudesmantenimientosedenacional@icbf.gov.co con la siguiente información: - Nombre de la empresa. - Nombre de la persona que realiza la visita. - No. de cedula de la persona. - Horario en el cual realizará las visita. La visita se realizará en las instalaciones de la Sede de la Dirección General del ICBF: Avenida Carrera 68 No. 64C – 75, Bogotá D.C. y posteriormente el grupo se trasladara con acompañamiento del ICBF a las otras sedes.
A20: Tiempo estimado de ejecución (Nota 1) | C20: 10 meses
A22: 1. MANTENIMIENTO PREVENTIVO
A24: Tarifa IVA % (Nota 2)
A25: Servicios Mantenimientos preventivos | B25: 2
A26: Item | B26: SERVICIO / EQUIPOS | D26: Cantidad (Nota 3) | E26: Precio unitario antes de IVA (Nota 4) | F26: Precio unitario IVA incluido | G26: Precio total incluido IVA
A27: 1 | B27: Mantenimiento preventivo al equipo de bombeo (Bomba de superficie) | D27: 5 | F27: =+ROUND(E27*(1+$B$24),0) -> 0 | G27: =ROUND(F27*$B$25*D27,0) -> 0
A28: 2 | B28: Mantenimiento preventivo Tanque hydroflo | D28: 3 | F28: =+ROUND(E28*(1+$B$24),0) -> 0 | G28: =ROUND(F28*$B$25*D28,0) -> 0
A29: 3 | B29: Mantenimiento preventivo equipo eyector (Bomba sumergible) | D29: 2 | F29: =+ROUND(E29*(1+$B$24),0) -> 0 | G29: =ROUND(F29*$B$25*D29,0) -> 0
A30: SUB TOTAL MANTENIMIENTO PREVENTIVO DEL EQUIPO DE BOMBEO Y EYECTOR | G30: =ROUND(SUM(G27:G29),0) -> 0
A31: 4 | B31: Mantenimiento preventivo planta eléctrica FGWILSON 250KVA | D31: 1 | F31: =+ROUND(E31*(1+$B$24),0) -> 0 | G31: =ROUND(F31*$B$25*D31,0) -> 0
A32: 5 | B32: Mantenimiento preventivo planta eléctrica PERKINS 231KVA | D32: 1 | F32: =+ROUND(E32*(1+$B$24),0) -> 0 | G32: =ROUND(F32*$B$25*D32,0) -> 0
A33: 6 | B33: Mantenimiento preventivo planta eléctrica PERKINS 150KVA | D33: 1 | F33: =+ROUND(E33*(1+$B$24),0) -> 0 | G33: =ROUND(F33*$B$25*D33,0) -> 0
A34: SUB TOTAL MANTENIMIENTO PREVENTIVO PLANTAS ELECTRICAS | G34: =ROUND(SUM(G31:G33),0) -> 0
A35: TOTAL MANTENIMIENTO PREVENTIVO (Nota 5) | G35: =ROUND(G30+G34,0) -> 0
A37: 2. MANTENIMIENTO DE TANQUES (Nota 6)
A38: Tarifa IVA % (Nota 2)
A39: Servicios Mantenimientos preventivos | B39: 2
E41: LAVADO Y DESINFECCIÓN
A42: Item | B42: Ubicación | C42: No. de tanques | D42: Área a intervenir (M3) | E42: Precio unitario antes de IVA (Nota 2) | F42: Precio unitario IVA incluido | G42: Precio total IVA incluido
A43: 1 | B43: Dirección General /Av. Carrera 68 No. 64C - 75 (Bogotá) | C43: 1 | D43: 72 | G43: =ROUND(F43*$B$39,0) -> 0
A44: TOTAL | C44: =SUM(C43) -> 1 | D44: =+SUM(D43) -> 72 | G44: =+ROUND(SUM(G43),0) -> 0
A47: 3. MANTENIMIENTO CORRECTIVO (Nota 6)
A49: 3.1. REPUESTOS EQUIPO DE BOMBEO PRESIÓN, EYECTORAS
A50: Item | B50: Descripción de repuestos | D50: Unidad de Medida | E50: Tarifa IVA % (Nota 7) | F50: Precio unitario antes de IVA (Nota 4) | G50: Precio unitario incluido IVA
A51: 1 | B51: Aceite lubricante | D51: Galón | G51: =+ROUND(F51*(1+E51),0) -> 0
A52: =A51+1 -> 2 | B52: Alternador electromagnético | D52: Unidad | G52: =+ROUND(F52*(1+E52),0) -> 0
A53: =A52+1 -> 3 | B53: Arandela de empuje Axial | D53: Unidad | G53: =+ROUND(F53*(1+E53),0) -> 0
A54: =A53+1 -> 4 | B54: Arandela de presión 3/8" | D54: Unidad | G54: =+ROUND(F54*(1+E54),0) -> 0
A55: =A54+1 -> 5 | B55: Arandela plana 1/4" calibre 14 | D55: Unidad | G55: =+ROUND(F55*(1+E55),0) -> 0
A56: =A55+1 -> 6 | B56: Arandela rotor MS AC, INOX | D56: Unidad | G56: =+ROUND(F56*(1+E56),0) -> 0
...

Sheet FORMATO COTIZACIÓN (3)
B1: República de Colombia Instituto Colombiano de Bienestar Familiar Cecilia de la Fuente de Lleras Dirección de Administrativa Grupo de Apoyo logístico | I1: Clasificación de la información: Pública
B7: SOLICITUD DE COTIZACIÓN
B8: Objeto | C8: Prestar el servicio de mantenimiento preventivo y correctivo, incluido el suministro de partes, piezas o repuestos de equipos de aire acondicionado del ICBF, ubicados en la Sede Dirección General en la ciudad de Bogotá y en la primera fase de la unidad aplicativa el Redentor.
B10: Fecha: | E10: Empresa: | H10: Nit:
B11: Contacto: | E11: Cargo: | H11: E-Mail:
B12: Tel. celular: | E12: Tel fijo y ext.: | H12: Ciudad
B13: INSTRUCCIONES PARA EL DILIGENCIAMIENTO DEL FORMATO
B14: • Por favor diligenciar solo las celdas en AMARILLO. • Revisar todos los requerimientos que se exponen en el documento "Ficha de Condiciones Técnicas Esenciales para la Prestación del Servicio y/o Entrega del Bien" (FCT) y Anexos; y formular su cotización en concordancia con estos, garantizando que los bienes y/o servicios ofrecidos cumplan en su totalidad con las especificaciones técnicas descritas en la FCT. • El precio de la cotización deber ser expresados en PESOS COLOMBIANOS. • Los precios deberán aproximarse por exceso o por defecto al entero más cercano así: (i) si es igual o superior a 50 centavos, se aproxima al entero siguiente; (ii) si es inferior a 50 centavos se baja al entero anterior. • No modificar, agregar o quitar ningún ítem o sub-ítem.
B16: Notas: (1)Tener en cuenta para cotizar que el plazo de ejecución es estimado y podrá ser inferior. (2) Asignar precio sin incluir el IVA en las celdas de la columna "Precio unitario antes de IVA" y asignar la tarifa de IVA que corresponda en la celda de la columna "Tarifa IVA%". (3) El precio de los repuestos para el mantenimiento correctivo deberá incluir todos los costos directos e indirectos que generen dichas visItas como el transporte, mano de obra, instalación y demás que llegasen a generar para realizar el mantenimiento. (4) Si remite su cotización mediante el módulo de Solicitud de información a proveedores de la plataforma SECOP II, en la respuesta a la pregunta 1 debe incluir la sumatoria de los precios unitarios cotizados (celda I191). De igual forma deberá subir el presente formato a la plataforma.
B18: Tiempo estimado de ejecución (Nota 1) | D18: 8 | E18: Tarifa IVA (Nota 2)
B20: 1. MANTENIMIENTO PREVENTIVO
B21: # de servicios mantenimiento preventivo | D21: 2
F22: 1. MANTENIMIENTO PREVENTIVO
B23: Item | C23: SERVICIO | E23: Cantidad equipos | F23: Precio unitario antes de IVA (Nota 2) | G23: Precio unitario IVA incluido | H23: Precio total IVA incluido
B24: 1 | C24: Mini split confortfresh de 9.000 BTU | E24: 14 | G24: =+ROUND(F24*(1+$F$18),0) -> 0 | H24: =ROUND(G24*$D$21*E24,0) -> 0
B25: 2 | C25: Mini split LG 11.800 BTU | E25: 2 | G25: =+ROUND(F25*(1+$F$18),0) -> 0 | H25: =ROUND(G25*$D$21*E25,0) -> 0
B26: 3 | C26: Mini split confortfresh de 12.000 BTU | E26: 1 | G26: =+ROUND(F26*(1+$F$18),0) -> 0 | H26: =ROUND(G26*$D$21*E26,0) -> 0
B27: 4 | C27: Mini split LG 17.500 BTU | E27: 1 | G27: =+ROUND(F27*(1+$F$18),0) -> 0 | H27: =ROUND(G27*$D$21*E27,0) -> 0
B28: 5 | C28: Mini split Trane 18.000 BTU | E28: 4 | G28: =+ROUND(F28*(1+$F$18),0) -> 0 | H28: =ROUND(G28*$D$21*E28,0) -> 0
B29: 6 | C29: Mini split Trane 18.200 BTU | E29: 2 | G29: =+ROUND(F29*(1+$F$18),0) -> 0 | H29: =ROUND(G29*$D$21*E29,0) -> 0
B30: 7 | C30: Mini split confortfresh de 24.000 BTU | E30: 1 | G30: =+ROUND(F30*(1+$F$18),0) -> 0 | H30: =ROUND(G30*$D$21*E30,0) -> 0
B31: 8 | C31: Mini split BLUE LINE de 24.000 BTU | E31: 1 | G31: =+ROUND(F31*(1+$F$18),0) -> 0 | H31: =ROUND(G31*$D$21*E31,0) -> 0
B32: 9 | C32: Mini split CONFORTFRESH de 36.000 BTU | E32: 2 | G32: =+ROUND(F32*(1+$F$18),0) -> 0 | H32: =ROUND(G32*$D$21*E32,0) -> 0
B33: 10 | C33: Piso-techo Lenox 60.000 BTU | E33: 4 | G33: =+ROUND(F33*(1+$F$18),0) -> 0 | H33: =ROUND(G33*$D$21*E33,0) -> 0
B34: 11 | C34: Aire Acondicionado tipo cassette, marca LG 4ways, 24.000BTU | E34: 1 | G34: =+ROUND(F34*(1+$F$18),0) -> 0 | H34: =ROUND(G34*$D$21*E34,0) -> 0
B35: 12 | C35: Ventilador de extracción tipo hongo 5000 PCM CA 1” RPM 900 HP 2.0 MODELO RCU-B-24BS, ductería en lámina galvanizada | E35: 2 | G35: =+ROUND(F35*(1+$F$18),0) -> 0 | H35: =ROUND(G35*$D$21*E35,0) -> 0
B36: 13 | C36: Ventilador de extracción tipo hongo 4800 PCM CA 1” RPM 880 HP 1.5 MODELO RCU-B-24BS ductería en lámina galvanizada | E36: 1 | G36: =+ROUND(F36*(1+$F$18),0) -> 0 | H36: =ROUND(G36*$D$21*E36,0) -> 0
B37: TOTAL | E37: =+SUM($E$24:$E$36) -> 36 | H37: =+ROUND(SUM($H$24:$H$36),0) -> 0
B39: 2. MANTENIMIENTO CORRECTIVO (Nota 3)
B41: Item | C41: Descripción de repuestos | F41: Unidad de medida | G41: Tarifa IVA | H41: Precio unitario antes de IVA | I41: Precio unitario incluido IVA
B42: 1 | C42: Aceite mineral capela tipo 32 (3.78 litros) | F42: unidad | I42: =+ROUND(H42*(1+G42),0) -> 0
B43: 2 | C43: Aceite sintético (3.78 litros) | F43: unidad | I43: =+ROUND(H43*(1+G43),0) -> 0
B44: 3 | C44: Aire Acondicionado Portátil 12000 BTU 110V | F44: servicio/día | I44: =+ROUND(H44*(1+G44),0) -> 0
B45: 4 | C45: Aire Acondicionado Portátil 15000 BTU 110V | F45: servicio/día | I45: =+ROUND(H45*(1+G45),0) -> 0
B46: 5 | C46: Aspa metálica 18" eje 1/2"3 aletas | F46: unidad | I46: =+ROUND(H46*(1+G46),0) -> 0
B47: 6 | C47: Aspa metálica 20" eje 1/2"3 aletas | F47: unidad | I47: =+ROUND(H47*(1+G47),0) -> 0
B48: 7 | C48: Aspa metálica 22" eje 1/2"3 aletas | F48: unidad | I48: =+ROUND(H48*(1+G48),0) -> 0
B49: 8 | C49: Aspa metálica 22" eje 1/2"4 aletas | F49: unidad | I49: =+ROUND(H49*(1+G49),0) -> 0
B50: 9 | C50: Aspa metálica 24" eje 1/2"3 aletas | F50: unidad | I50: =+ROUND(H50*(1+G50),0) -> 0
B51: 10 | C51: Aspa metálica 26" eje 5/8"3 aletas | F51: unidad | I51: =+ROUND(H51*(1+G51),0) -> 0
...

Sheet FORMATO COTIZACIÓN (2)
B1: República de Colombia Instituto Colombiano de Bienestar Familiar Cecilia de la Fuente de Lleras Dirección de Administrativa Grupo de Apoyo logístico | J1: Clasificación de la información: Pública
B7: SOLICITUD DE COTIZACIÓN
B8: Objeto | C8: Prestar el servicio de mantenimiento preventivo y correctivo, incluido el suministro de partes, piezas o repuestos de equipos de aire acondicionado del ICBF, ubicados en la Sede Dirección General en la ciudad de Bogotá y en la primera fase de la unidad aplicativa el Redentor.
B10: Fecha: | E10: Empresa: | H10: Nit:
B11: Contacto: | E11: Cargo: | H11: E-Mail:
B12: Tel. celular: | E12: Tel fijo y ext.: | H12: Ciudad
B13: INSTRUCCIONES PARA EL DILIGENCIAMIENTO DEL FORMATO
B14: • Por favor diligenciar solo las celdas en AMARILLO. • Revisar todos los requerimientos que se exponen en el documento "Ficha de Condiciones Técnicas Esenciales para la Prestación del Servicio y/o Entrega del Bien" (FCT) y Anexos; y formular su cotización en concordancia con estos, garantizando que los bienes y/o servicios ofrecidos cumplan en su totalidad con las especificaciones técnicas descritas en la FCT. • El precio de la cotización deber ser expresados en PESOS COLOMBIANOS. • Los precios deberán aproximarse por exceso o por defecto al entero más cercano así: (i) si es igual o superior a 50 centavos, se aproxima al entero siguiente; (ii) si es inferior a 50 centavos se baja al entero anterior. • No modificar, agregar o quitar ningún ítem o sub-ítem.
B16: Notas: (1)Tener en cuenta para cotizar que el plazo de ejecución es estimado y podrá ser inferior. La cantidad de servicios de mantenimiento predictivo dependerá del plazo de ejecución real del contrato. (2) Asignar precio sin incluir el IVA en las celdas de la columna "Precio unitario antes de IVA" y asignar la tarifa de IVA que corresponda en la celda de la columna "Tarifa IVA%". (3): El precio de los repuestos para el mantenimiento correctivo deberá incluir todos los costos directos e indirectos que generen dichas visItas como el transporte, mano de obra, instalación y demás que llegasen a generar para realizar el mantenimiento. (4) Si remite su cotización mediante el módulo de Solicitud de información a proveedores de la plataforma SECOP II, en la respuesta a la pregunta 1 debe incluir la sumatoria de los precios unitarios cotizados (celda I180). De igual forma deberá subir el presente formato a la plataforma.
B18: Tiempo estimado de ejecución (Nota 1) | D18: 8 | E18: Tarifa IVA (Nota 2)
B20: 1.MANTENIMIENTO PREDICTIVO y 2.MANTENIMIENTO PREVENTIVO
B21: # de servicios mantenimiento predictivo (Nota 1) | D21: =+D18 -> 8 | E21: # de servicios mantenimiento preventivo | F21: 2
F22: 1.MANTENIMIENTO PREDICTIVO | J22: 2.MANTENIMIENTO PREVENTIVO
B23: Item | C23: SERVICIO | E23: Cantidad equipos | F23: Unidad de medida | G23: Precio unitario antes de IVA (Nota 2) | H23: Precio unitario IVA incluido | I23: Precio total IVA incluido | J23: Precio unitario antes de IVA (Nota 2) | K23: Precio unitario IVA incluido | L23: Precio total IVA incluido
B24: 1 | C24: Mini split confortfresh de 9.000 BTU | E24: 14 | F24: Unidad | H24: =ROUND(G24*(1+$F$18),0) -> 0 | I24: =ROUND(H24*$D$21,0) -> 0 | K24: =+ROUND(J24*(1+$F$18),0) -> 0 | L24: =ROUND(K24*$F$21*E24,0) -> 0
B25: 2 | C25: Mini split LG 11.800 BTU | E25: 2 | F25: Unidad | H25: =ROUND(G25*(1+$F$18),0) -> 0 | I25: =ROUND(H25*$D$21,0) -> 0 | K25: =+ROUND(J25*(1+$F$18),0) -> 0 | L25: =ROUND(K25*$F$21*E25,0) -> 0
B26: 3 | C26: Mini split confortfresh de 12.000 BTU | E26: 1 | F26: Unidad | H26: =ROUND(G26*(1+$F$18),0) -> 0 | I26: =ROUND(H26*$D$21,0) -> 0 | K26: =+ROUND(J26*(1+$F$18),0) -> 0 | L26: =ROUND(K26*$F$21*E26,0) -> 0
B27: 4 | C27: Mini split LG 17.500 BTU | E27: 1 | F27: Unidad | H27: =ROUND(G27*(1+$F$18),0) -> 0 | I27: =ROUND(H27*$D$21,0) -> 0 | K27: =+ROUND(J27*(1+$F$18),0) -> 0 | L27: =ROUND(K27*$F$21*E27,0) -> 0
B28: 5 | C28: Mini split Trane 18.000 BTU | E28: 4 | F28: Unidad | H28: =ROUND(G28*(1+$F$18),0) -> 0 | I28: =ROUND(H28*$D$21,0) -> 0 | K28: =+ROUND(J28*(1+$F$18),0) -> 0 | L28: =ROUND(K28*$F$21*E28,0) -> 0
B29: 6 | C29: Mini split Trane 18.200 BTU | E29: 2 | F29: Unidad | H29: =ROUND(G29*(1+$F$18),0) -> 0 | I29: =ROUND(H29*$D$21,0) -> 0 | K29: =+ROUND(J29*(1+$F$18),0) -> 0 | L29: =ROUND(K29*$F$21*E29,0) -> 0
B30: 7 | C30: Mini split confortfresh de 24.000 BTU | E30: 1 | F30: Unidad | H30: =ROUND(G30*(1+$F$18),0) -> 0 | I30: =ROUND(H30*$D$21,0) -> 0 | K30: =+ROUND(J30*(1+$F$18),0) -> 0 | L30: =ROUND(K30*$F$21*E30,0) -> 0
B31: 8 | C31: Piso-Techo LG 36.000 BTU | E31: 1 | F31: Unidad | H31: =ROUND(G31*(1+$F$18),0) -> 0 | I31: =ROUND(H31*$D$21,0) -> 0 | K31: =+ROUND(J31*(1+$F$18),0) -> 0 | L31: =ROUND(K31*$F$21*E31,0) -> 0
B32: 9 | C32: Piso-techo Lenox 60.000 BTU | E32: 4 | F32: Unidad | H32: =ROUND(G32*(1+$F$18),0) -> 0 | I32: =ROUND(H32*$D$21,0) -> 0 | K32: =+ROUND(J32*(1+$F$18),0) -> 0 | L32: =ROUND(K32*$F$21*E32,0) -> 0
B33: TOTAL | E33: =+SUM($E$24:$E$32) -> 30 | G33: TOTAL | I33: =ROUND(SUM(I24:I32),0) -> 0 | L33: =+ROUND(SUM($L$24:$L$32),0) -> 0
B35: 3. MANTENIMIENTO CORRECTIVO (NOTA3)
B37: Item | C37: Descripción de repuestos | F37: Unidad de medida | G37: Tarifa IVA | H37: Precio unitario antes de IVA | I37: Precio unitario incluido IVA
B38: 1 | C38: Barrido y pruebas de rigor por un tiempo de 24 de horas con nitrógeno de condensadora, cambio de válvulas tipo gusanillo de baja y alta ; translado a laboratorio y reintegro a la Entidad. | F38: servicio por aire acondicionado | I38: =+ROUND(H38*(1+G38),0) -> 0
B39: 2 | C39: Barrido y pruebas de rigor por un tiempo de 24 de horas con nitrógeno de evaporadora ; traslado a laboratorio y reintegro a la Entidad. | F39: servicio por aire acondicionado | I39: =+ROUND(H39*(1+G39),0) -> 0
B40: 3 | C40: Capacitor de 45+5 MFD | F40: unidad | I40: =+ROUND(H40*(1+G40),0) -> 0
B41: 4 | C41: Compresor rotativo 9000 BTU/H 220 V R-22 | F41: unidad | I41: =+ROUND(H41*(1+G41),0) -> 0
B42: 5 | C42: Compresor rotativo 12000 BTU/H 220 V R-22 | F42: unidad | I42: =+ROUND(H42*(1+G42),0) -> 0
B43: 6 | C43: Compresor rotativo 18000 BTU/H 220 V R-22 | F43: unidad | I43: =+ROUND(H43*(1+G43),0) -> 0
B44: 7 | C44: Compresor rotativo 22000 BTU/H 220 V R-22 | F44: unidad | I44: =+ROUND(H44*(1+G44),0) -> 0
B45: 8 | C45: Compresor rotativo 24000 BTU/H 220 V R-22 | F45: unidad | I45: =+ROUND(H45*(1+G45),0) -> 0
B46: 9 | C46: Compresor rotativo 36000 BTU/H 220 V R-22 | F46: unidad | I46: =+ROUND(H46*(1+G46),0) -> 0
B47: 10 | C47: Compresor rotativo 60000 BTU/H 220 V R-22 | F47: unidad | I47: =+ROUND(H47*(1+G47),0) -> 0
B48: 11 | C48: Compresor rotativo 9000 BTU/H 220 V R-410A | F48: unidad | I48: =+ROUND(H48*(1+G48),0) -> 0
B49: 12 | C49: Compresor rotativo 12000 BTU/H 220 V R-410A | F49: unidad | I49: =+ROUND(H49*(1+G49),0) -> 0
... B188: 141 | C188: Detección y arreglo de fugas de refrigerante a todo costo | F188: servicio por aire acondicionado | I188: =+ROUND(H188*(1+G188),0) -> 0
B189: TOTAL | I189: =ROUND(SUM(I41:I188),0) -> 0
...
