Workbook
Name contratación: 'IDENTIFICACION Y ANALISIS'!$B$28:$B$31
Name ejecución: 'IDENTIFICACION Y ANALISIS'!$B$33:$B$51
Name OPCIONES: 'ASIGNACION Y TRATAMIENTO'!$B$47:$B$49
Name planeación: 'IDENTIFICACION Y ANALISIS'!$B$19:$B$21
Name selección: 'IDENTIFICACION Y ANALISIS'!$B$23:$B$26

Sheet CONTEXTO
C2: MATRIZ DE RIESGOS EN CONTRATACIÓN | F2: Código: GCO-GCI-F164 Versión: 02 Vigencia: 01 de diciembre de 2022 Caso HOLA: 280117
B6: ESTABLECER EL CONTEXTO
B7: El punto inicial es identificar el contexto en el cual interactúa la Entidad Estatal para conocer el ambiente social, económico y político, e identificar (i) sus propios Riesgos; (ii) los Riesgos comunes a sus Procesos de Contratación; y (iii) los Riesgos del Proceso de Contratación en particular. (Aplica igual para contratos interadministrativos) En este paso la Entidad Estatal debe identificar los aspectos que se mencionan a continuación y los posibles efectos adversos que estos pueden generar.
B8: Objeto del Proceso de Contratación: “PRESTAR SERVICIOS PARA EJECUTAR ACCIONES COMPLEMENTARIAS EN SALUD DIRIGIDAS A PERSONAS CON DISCAPACIDAD Y SUS CUIDADORES Y CUIDADORAS EN LA LOCALIDAD DE SUBA”.
B9: Partícipes del Proceso de Contratación: Agentes externos (Organismos de control, veedurías ciudadanas, centros comerciales), agentes internos (supervisores, funcionarios y demás usuarios).
B10: Ciudadanía que se beneficia del Proceso de Contratación: Personas con discapacidad y sus cuidadores o cuidadoras de la Localidad de Suba.
B11: Capacidad de la Entidad Estatal entendida como la disponibilidad de recursos y conocimientos para el Proceso de Contratación: La disponibilidad de la Entidad de sus recursos y el conocimiento de su equipo humano se refleja en los diferentes funcionarios que participarán en las diversas etapas del proceso de selección: participan las áreas que requieren los procesos de contratación (Etapa de Planeación), Dirección de Contratación, Comité Evaluador (Etapa de selección), Dirección de Contratación (Etapa de contratación) y la supervisión y apoyos a la misma (Estapa de Ejecución).
B12: Suficiencia del presupuesto oficial del Proceso de Contratación: De acuerdo al Plan Anual de Adquisiciones se deben estimar los recursos necesarios para el desarrollo del proceso de la contratación, el cual tendrá el soporte presupuestal suficiente para su desarrollo.
B13: Condiciones geográficas y de acceso del lugar en el cual se debe cumplir el objeto del Proceso de Contratación: El suministro, obra o servicio se prestará principalmente en la localidad de suba, especialmente en el lugar indicado en los estudios previos del proceso.
B14: Entorno socio ambiental: Si aplican
B15: Condiciones políticas: Si aplican
B16: Factores ambientales: El contratista debe tener en cuenta todas aquellas normas ambientales aplcables a la ejecución de las actvidades del proyecto tales como la elaboración del tejido, la realización de ferias itinerantes, la exihibición de productos en vitrina comercial y el conversatorio.
B17: Sector del objeto del Proceso de Contratación y su mercado: Gestión Pública
... B19: Experiencia propia y de otras Entidades Estatales en Procesos de Contratación del mismo tipo. En el estudio o análisis del sector se hace un recuento de los contratos celebrados por la entidad para este tmismo tema en años anteriores, y aquellos contratos de similares características que han sdo ejecutados por otras entidades públicas, especialmente otras alcaldías locales de Bogotá Distrito Capital.

Sheet IDENTIFICACION Y ANALISIS
C2: MATRIZ DE RIESGOS DE CONTRATACIÓN | F2: Código: GCO-GCI-F164 Versión: 02 Vigencia: 01 de diciembre de 2022 Caso HOLA: 280117
B6: DEFINICIONES
B7: RIESGO: Evento que puede generar efectos adversos y de distinta magnitud en el logro de los objetivos del Proceso de Contratación o en la ejecución de un contrato RIESGOS PREVISIBLES: Son los posibles hechos o circunstancias que por la naturaleza del contrato y de la actividad a ejecutar es factible su ocurrencia. ETAPA DE PLANEACIÓN: Está comprendida desde el momento en que se identifican las necesidades que debe satisfacer la Secretaría Distrital de Gobierno y los Fondos de Desarrollo Local, a través del abastecimiento de bienes, obras o servicios, la elaboración del Plan Anual de Adquisiciones y la estructuración de los documentos y estudios previos. ETAPA DE SELECCIÓN: Está comprendida entre el acto de Apertura del Proceso de Contratación y la Adjudicación o la declaración de desierto del Proceso de Contratación ETAPA DE CONTRATACIÓN: Una vez adjudicado el contrato objeto del Proceso de Contratación, inicia la etapa para la celebración del contrato y el cumplimiento de los requisitos para de perfeccionamiento y ejecución. ETAPA DE EJECUCIÓN: Inicia una vez cumplidos los requisitos previstos para iniciar la ejecución del contrato respectivo y termina con el vencimiento del plazo del contrato o la fecha de liquidación si hay lugar a ella. RIESGO GENERAL: Es un riesgo de todos los procesos de contratación adelantados por la Entidad Estatal, por lo cual está presente en toda su actividad contractual. RIEGO ESPECIFICO: Es un riesgo propio del proceso de contratación objeto de análisis. RIESGOS ECONÓMICOS: Son los derivados del comportamiento del mercado, tales como la fluctuación de los precios de los insumos, desabastecimiento y especulación de los mismos, entre otros. RIESGOS SOCIALES O POLÍTICOS: son los derivados de los cambios de las políticas gubernamentales y de cambios en las condiciones sociales que tengan impacto en la ejecución del contrato. RIESGOS OPERACIONALES: Son los asociados a la operatividad del contrato, tales como la suficiencia del presupuesto oficial, del plazo o los derivados de procesos, procedimientos, parámetros, sistemas de información y tecnológicos, equipos humanos o técnicos inadecuados o insuficientes. RIESGOS FINANCIEROS: Son (i) el riesgo de consecución de financiación o riesgo de liquidez para obtener recursos para cumplir con el objeto del contrato, y (ii) el riesgo de las condiciones financieras establecidas para la obtención de los recursos, tales como plazos, tasas, garantías, contragarantías, y refinanciaciones, entre otros. RIESGOS REGULATORIOS: Derivados de cambios regulatorios o reglamentarios que afecten la ecuación económica del contrato. RIESGOS DE LA NATURALEZA: Son los eventos naturales previsibles en los cuales no hay intervención humana que puedan tener impacto en la ejecución del contrato, por ejemplo los temblores, inundaciones, lluvias, sequías, entre otros. RIESGOS AMBIENTALES: Son los derivados de las obligaciones legales o reglamentarias de carácter ambiental, así como de las licencias, planes de manejo o de permisos y autorizaciones ambientales, incluyendo tasas retributivas y compensatorias, obligaciones de mitigación, tareas de monitoreo y control, entre otras. RIESGOS TECNOLÓGICOS: Son los derivados de fallas en los sistemas de comunicación de voz y de datos, suspensión de servicios públicos, nuevos desarrollos tecnológicos o estándares que deben ser tenidos en cuenta para la ejecución del contrato, obsolescencia tecnológica.
B15: INSTRUCCIONES PARA LA IDENTIFICACIÓN, ANALISIS, EVALUACIÓN , ASIGNACIÓN Y TRATAMIENTO DE RIESGOS EN LA CONTRATACIÓN
B16: 1) Identifique los riesgos previsibles que le apliquen al objeto contractual que se adelante. Los relacionados a continuación se establecen de manera general y como proforma. No obstante, si del objeto contractual se identifican otros riesgos diferentes a los aquí determinados, por favor reemplace el texto de la casilla teniendo en cuenta la etapa del proceso. Así mismo, seleccione la clase, fuente y el tipo (Operacional, Económico, Sociales o Políticos, Regulatorios, Financieros, Tecnológicos, De la naturaleza, Ambientales) 2) Continúe en la hoja de "EVALUACIÓN" (SI EXISTEN DUDAS CONCEPTUALES PARA LA ELABORACIÓN DE LA MATRIZ DE RIESGO CONSULTE EL MANUAL PARA LA IDENTIFICACIÓN Y COBERTURA DEL RIESGO EN LOS PROCESOS DE CONTRATACIÓN EXPEDIDO POR COLOMBIA COMPRA EFICIENTE Y LA GUÍA DE RIESGOS PREVISIBLES CONTRACTUALES, EXPEDIDA POR LA VEEDURÍA DISTRITAL)
C17: ETAPAS | D17: CLASE | E17: FUENTE | F17: TIPO
C18: PLANEACIÓN
B19: Requisitos habilitantes inapropiados para el proceso de selección | D19: Especifico | E19: Interno | F19: Operacionales
B20: Declaratoria de Desierta del Proceso de Contratación, por la No Presentación de propuestas, debido a errores Involuntarios que hayan quedado en los Estudios Previos, Pliegos de Condiciones, Estudio de Sector y en general a cualquier documento que forme parte integral del mismo | D20: General | E20: Interno | F20: Economicos
B21: Inadecuada descripción del bien o servicio requerido | D21: Estatal | E21: Interno | F21: Operacionales
C22: SELECCIÓN
B23: No concurrencia de proponentes o insuficiencia de ellos en el proceso de contratación o no presentación de proponentes al proceso de Selección | D23: General | E23: Externo | F23: Operacionales
B24: Falta de claridad en la elaboración de los actos administrativos | D24: Estatal | E24: Interno | F24: Operacionales
B25: Contestación inoportuna a todas las observaciones formuladas a los documentos de la contratación | D25: Estatal | E25: Interno | F25: Operacionales
B26: No publicación de la documentación del proceso de selección en el SECOP | D26: Estatal | E26: Interno | F26: Operacionales
C27: CONTRATACIÓN
B28: Riesgo de que no se firme el contrato. | D28: General | E28: Interno | F28: Operacionales
B29: Falta de constitución o constitución tardía de la garantía única. Aceptación de garantías que no se ajustan a lo contemplado en el contrato | D29: General | E29: Externo | F29: Operacionales
B30: Falta de solicitud o solicitud tardía del registro presupuestal | D30: Estatal | E30: Interno | F30: Operacionales
B31: Presentación de reclamos de terceros sobre la selección del oferente que retrasen el perfeccionamiento del contrato. | D31: Especifico | E31: Externo | F31: Operacionales
C32: EJECUCIÓN
B33: Fluctuaciones del valor de la moneda | D33: Especifico | E33: Externo | F33: Economicos
B34: Cambio de precios en insumos o elementos utilizados en el proyecto. | D34: General | E34: Externo | F34: Economicos
B35: Variación de los precios del mercado | D35: General | E35: Externo | F35: Economicos
B36: Variación en la disponibilidad o en el costo de los insumos necesarios para prestar los servicios. | D36: General | E36: Externo | F36: Economicos
B37: Incumplimiento de compromisos adquiridos por el contratista seleccionado con sus subcontratistas, suministradores de bienes y servicios. | D37: Especifico | E37: Externo | F37: Economicos
B38: Incumplimiento de la administración en los pagos. | D38: Estatal | E38: Externo | F38: Economicos
B39: Daños a los equipos objeto de mantenimiento y/o otros bienes | D39: Especifico | E39: Externo | F39: Operacionales
B40: Imposición de nuevos tributos | D40: Estatal | E40: Externo | F40: Regulatorios
B41: Imposición de nuevos trámites o permisos. | D41: Estatal | E41: Externo | F41: Regulatorios
B42: Cambios en el marco regulatorio o políticas públicas o normatividad aplicable al proyecto. | D42: Estatal | E42: Externo | F42: Regulatorios
B43: Demoras y retrasos en la ejecución del contrato atribuibles a la falta o falla en las actividades a cargo del contratista. | D43: General | E43: Interno | F43: Operacionales
B44: Calidad de las obras | D44: General | E44: Externo | F44: Operacionales
... B51: Mayor tiempo del previsto en la ejecución del contrato y en la ejecución de actividades, que afecten el desarrollo normal del contrato por retrasos y/o demoras en tramites de importación (si aplica). | D51: Especifico | E51: Externo | F51: Técnologicos
B56: General
B57: Estatal
B58: Especifico
B60: Interno
B61: Externo

Sheet EVALUACION
C2: MATRIZ DE RIESGOS DE CONTRATACIÓN | K2: Código: GCO-GCI-F164 Versión: 02 Vigencia: 01 de diciembre de 2022 Caso HOLA: 280117
B6: “PRESTAR SERVICIOS PARA EJECUTAR ACCIONES COMPLEMENTARIAS EN SALUD DIRIGIDAS A PERSONAS CON DISCAPACIDAD Y SUS CUIDADORES Y CUIDADORAS EN LA LOCALIDAD DE SUBA”.
B7: INSTRUCCIONES PARA LA IDENTIFICACIÓN, ANALISIS, EVALUACIÓN , ASIGNACIÓN Y TRATAMIENTO DE RIESGOS EN LA CONTRATACIÓN
B8: 1) Diligencie el objeto contractual y seleccione la(s) etapas y los riesgos que aplican al objeto contractual, de acuerdo a lo definido en la hoja de "IDENTIFICACIÓN Y ANÁLISIS"
B9: 2) Describa las consecuencias de la ocurrencia del Riesgo/evento.
B10: 3) Asigne la probabilidad de ocurrencia del riesgo, de conformidad con la tabla de probabilidad y la valoración del riesgo (Cualitativa o Monetaria)
B11: 4) Asigne el impacto que generaría la materialización del riesgo, de conformidad con la tabla de impacto y la valoración del riesgo (Cualitativa o Monetaria)
B12: 5) Al realizar las anteriores actividades se obtendrá la calificación total y la valoración del riesgo (prioridad).
B13: 6) Continúe en la hoja de "EVALUACIÓN DE CONTROLES"
B15: CALIFICACIÓN | H15: Cualitativa
B16: ETAPA | C16: Descripción (Que puede pasar y, cómo puede ocurrir) | H16: Consecuencias de la ocurrencia del evento | I16: Probabilidad de Ocurrencia | J16: Impacto | K16: Calificación Total | L16: Prioridad
B17: EJECUCIÓN | C17: Cambio de precios en insumos o elementos utilizados en el proyecto. | H17: 1. Insolvencia del contratista 2. Afectación del flujo de caja del contratista como consecuencia de no radicar de forma oportuna, completa y con aval de supervisión, los informes o presentarlos sin atender las fechas de programación del Plan Anual Mensualizado de Caja PAC, que señale la entidad contratante | I17: 3 | J17: 2 | K17: =+I17+J17 -> 5 | L17: =IF(K17<=4,"BAJO",IF(K17=5,"MEDIO",IF(K17=6,"ALTO",IF(K17=7,"ALTO","EXTREMO")))) -> MEDIO
B18: EJECUCIÓN | C18: Imposición de nuevos trámites o permisos. | H18: 1. Demoras en la ejecución o incumplimiento del contrato | I18: 1 | J18: 2 | K18: =+I18+J18 -> 3 | L18: =IF(K18<=4,"BAJO",IF(K18=5,"MEDIO",IF(K18=6,"ALTO",IF(K18=7,"ALTO","EXTREMO")))) -> BAJO
B19: EJECUCIÓN | C19: Cambios en el marco regulatorio o políticas públicas o normatividad aplicable al proyecto. | H19: 1. Insolvencia del contratista 2. Demoras en la ejecución o incumplimiento del contrato | I19: 1 | J19: 2 | K19: =+I19+J19 -> 3 | L19: =IF(K19<=4,"BAJO",IF(K19=5,"MEDIO",IF(K19=6,"ALTO",IF(K19=7,"ALTO","EXTREMO")))) -> BAJO
B20: EJECUCIÓN | C20: Bajo impacto del proyecto por deficiencias en la identificación y/o caracterización de la población beneficiaria. | H20: 1. Protestas y/o reclamos antes el FDL de Suba. 2. Entrega de productos y/o servicios inadecuados. | I20: 3 | J20: 4 | K20: =+I20+J20 -> 7 | L20: =IF(K20<=4,"BAJO",IF(K20=5,"MEDIO",IF(K20=6,"ALTO",IF(K20=7,"ALTO","EXTREMO")))) -> ALTO
B21: EJECUCIÓN | C21: Accidentes durante la implementación de las distitnas fases del circuito del cuidado. | H21: 1. Acciones legales contra el FDL de Suba. 2. Quejas ante el FDL de Suba. 3. Perdida de reputación del FDL de Suba. | I21: 2 | J21: 3 | K21: =+I21+J21 -> 5 | L21: =IF(K21<=4,"BAJO",IF(K21=5,"MEDIO",IF(K21=6,"ALTO",IF(K21=7,"ALTO","EXTREMO")))) -> MEDIO
B22: EJECUCIÓN | C22: Demoras en tramites administrativos o permisos. | H22: 1. Retrazos o incumplimientos del contrato. 2. Demoras en pagos o desembolsos del contrato. | I22: 2 | J22: 4 | K22: =+I22+J22 -> 6 | L22: =IF(K22<=4,"BAJO",IF(K22=5,"MEDIO",IF(K22=6,"ALTO",IF(K22=7,"ALTO","EXTREMO")))) -> ALTO
B23: EJECUCIÓN | C23: Baja participación de los beneficiarios a las sesiones del circuito del cuidado. | H23: 1. Incumplimiento de la meta del Plan de Desarrollo Local para la vigencia. 2. Incumplimiento del contrato. | I23: 2 | J23: 4 | K23: =+I23+J23 -> 6 | L23: =IF(K23<=4,"BAJO",IF(K23=5,"MEDIO",IF(K23=6,"ALTO",IF(K23=7,"ALTO","EXTREMO")))) -> ALTO
B24: EJECUCIÓN | C24: Entrega de productos o insumos o elementos inadecuados o de mala calidad para el desarrollo de las sesiones del circuito del cuidado. | H24: 1. Bajo impacto del proyecto en la población beneficiada. 2. Perdada de recursos del FDL de Suba. 3. Poibles accidentes o emergencias. | I24: 2 | J24: 5 | K24: =+I24+J24 -> 7 | L24: =IF(K24<=4,"BAJO",IF(K24=5,"MEDIO",IF(K24=6,"ALTO",IF(K24=7,"ALTO","EXTREMO")))) -> ALTO
B25: EJECUCIÓN | C25: No consecusión de población beneficiaria para las diferentes actividades del contrato | H25: ▪ Incumplimiento del objeto o de las obligaciones contractuales. ▪ Incumplimiento de la metas propuestas por la entidad. ▪Indemnizacion por daños y perjuicios causados al contratante ▪Posibles acciones legales | I25: 3 | J25: 4 | K25: 7 | L25: ALTO
B26: EJECUCIÓN | C26: Incumplimiento del contratista total o parcial de las actividades relacionadas del contrato | H26: ▪ Incumplimiento del objeto o de las obligaciones contractuales. ▪ Incumplimiento de la metas propuestas por la entidad. ▪Indemnizacion por daños y perjuicios causados al contratante ▪Posibles acciones legales | I26: 3 | J26: 4 | K26: 7 | L26: ALTO
B27: EJECUCIÓN | C27: Accidentes, contigencias, emergencias, perjuicios y/o siniestros presentados con ocasión a los productos entregados por el contratista | H27: ▪ Incumplimiento del objeto o de las obligaciones contractuales. ▪ Incumplimiento de la metas propuestas por la entidad. ▪Indemnizacion por daños y perjuicios causados al contratante ▪Posibles acciones legales | I27: 2 | J27: 3 | K27: 5 | L27: MEDIO
B28: EJECUCIÓN | C28: Alta tasa de retiro de particiantes en diferentes actividades del proyecto que requieren más de una sesión para su ejecución, no permitiendo contar con los beneficiarios mínimos requeridos al finalizar la actividad para que esta sea válida. | H28: ▪ Incumplimiento del objeto o de las obligaciones contractuales. ▪ Incumplimiento de la metas propuestas por la entidad. ▪Indemnizacion por daños y perjuicios causados al contratante ▪Posibles acciones legales | I28: 3 | J28: 4 | K28: 7 | L28: ALTO
B29: EJECUCIÓN | C29: Protestas o reclamos por inconformidad de los beneficarios del proyecto con las actividades y beneficios entregados | H29: 1. Posibles procesos legales contra el FDL de Suba. 2. Llamado a sesiones de control politico ante la Jal, Consejo, entes de ocntrol u otras instancias. | I29: 1 | J29: 5 | K29: =+I29+J29 -> 6 | L29: =IF(K29<=4,"BAJO",IF(K29=5,"MEDIO",IF(K29=6,"ALTO",IF(K29=7,"ALTO","EXTREMO")))) -> ALTO
B30: SELECCIÓN | C30: No concurrencia de proponentes o insuficiencia de ellos en el proceso de contratación o no presentación de proponentes al proceso de Selección | H30: Presentación de metodologías estandarizadas que no correspondan adecuadamente a la diversidad de las necesidades de las personas con discapacidad y sus cuidadores | I30: 3 | J30: 4 | K30: 7 | L30: =IF(K30<=4,"BAJO",IF(K30=5,"MEDIO",IF(K30=6,"ALTO",IF(K30=7,"ALTO","EXTREMO")))) -> ALTO
B31: EJECUCIÓN | C31: Entrega de productos o insumos o elementos inadecuados o de mala calidad para el desarrollo de las sesiones | H31: Limitación o imposibilidad de acceso efectivo a las actividades y servicios del proyecto. Afectación de la participación y permanencia de los beneficiarios en las actividades programadas. Incremento de barreras de acceso y riesgo de exclusión de personas con discapacidad. Incumplimiento de las condiciones de accesibilidad y enfoque diferencial previstas en el proyecto. | I31: 4 | J31: 4 | K31: 8 | L31: =IF(K31<=4,"BAJO",IF(K31=5,"MEDIO",IF(K31=6,"ALTO",IF(K31=7,"ALTO","EXTREMO")))) -> EXTREMO
B34: Probabilidad | C34: Catagoria | E34: Valoración | G34: Impacto | H34: Categoria | I34: Valoración
C35: Raro (puede ocurrir excepcionalmente) | E35: 1 | H35: Insignificante | I35: 1
C36: Improbable (puede ocurrir ocasionalmente) | E36: 2 | H36: Menor | I36: 2
C37: Posible (puede ocurrir en cualquier momento futuro) | E37: 3 | H37: Moderado | I37: 3
C38: Probable (probablemente va a ocurrir) | E38: 4 | H38: Mayor | I38: 4
C39: Casi cierto (ocurre en la mayoria de circunstancias) | E39: 5 | H39: Catastrófico | I39: 5
C41: Valoración del Riesgo
C42: Calificación Cualitativa | F42: Obstruye la ejecución del contrato de manera intrascendente. | G42: Dificulta la ejecución del contrato de manera baja, aplicando medidas mínimas se pueden lograr el objeto contractual | H42: Afecta la ejecución del contrato sin alterar el beneficio para las partes | I42: Obstruye la ejecución del contrato sustancialmente pero aun así permite la consecución del objeto contractual | K42: Perturba la ejecución del contrato de manera grave imposibilitando la consecución del objeto contractual.
C43: Calificación Monetaria | F43: Los sobrecostos no representan más del uno por ciento (1%) del valor del contrato. | G43: Los sobrecostos no representan más del cinco por ciento (5%) del valor del contrato. | H43: Genera un impacto sobre el valor del contrato entre el cinco (5%) y el quince por ciento (15%). | I43: Incrementa el valor del contrato entre el quince (15%) y el treinta por ciento (30%). | K43: Impacto sobre el valor del contrato en más del treinta por ciento (30%).
C44: Categoría | E44: Valoración | F44: Insignificante | G44: Menor | H44: Moderado | I44: Mayor | K44: Catastrófico
F45: 1 | G45: 2 | H45: 3 | I45: 4 | K45: 5
C46: Raro (puede ocurrir excepcionalmente) | E46: 1 | F46: 2 | G46: 3 | H46: 4 | I46: 5 | K46: 6
C47: Improbable (puede ocurrir ocasionalmente) | E47: 2 | F47: 3 | G47: 4 | H47: 5 | I47: 6 | K47: 7
C48: Posible (puede ocurrir en cualquier momento futuro) | E48: 3 | F48: 4 | G48: 5 | H48: 6 | I48: 7 | K48: 8
...

Sheet EVALUACION CON CONTROLES
C2: MATRIZ DE RIESGOS DE CONTRATACIÓN | Q2: Código: GCO-GCI-F164 Versión: 02 Vigencia: 01 de diciembre de 2022 Caso HOLA: 280117
B6: OBJETO: “PRESTAR SERVICIOS PARA EJECUTAR ACCIONES COMPLEMENTARIAS EN SALUD DIRIGIDAS A PERSONAS CON DISCAPACIDAD Y SUS CUIDADORES Y CUIDADORAS EN LA LOCALIDAD DE SUBA”.
B7: INSTRUCCIONES PARA LA IDENTIFICACIÓN, ANALISIS, EVALUACIÓN , ASIGNACIÓN Y TRATAMIENTO DE RIESGOS EN LA CONTRATACIÓN
B8: 1) Describa el tratamiento/controles a ser implementados
B9: 2) Diligencie la información de las siguientes columnas, de acuerdo con el análisis realizado a cada riesgo: Afecta el equilibrio económico, persona responsable de implementar el tratamiento, fecha estimada de inicio del tratamiento, fecha estimada en la que se completa el tratamiento, cómo se realiza el monitoreo y la periodicidad.
B10: 3) Continúe en la hoja de "ASIGNACIÓN Y TRATAMIENTO" y diligencie las siguientes casillas: A quien se le asigna y el porcentaje que asume cada una de las partes en caso de que sea compartido.
B15: ETAPA | C15: Descripción (Que puede pasar y, cómo puede ocurrir) | G15: Tratamiento/Controles a ser implementados | I15: Probabilidad de Ocurrencia | J15: Impacto | K15: Calificación Total | L15: Prioridad | M15: ¿Afecta el equilibrio económico del contrato? | N15: Persona responsable por implementar el tratamiento | O15: Fecha estimada en que se inicia el tratamiento | P15: Fecha estimada en que se completa el tratamiento | Q15: ¿Cómo se realiza el monitoreo? | R15: Periodicidad ¿Cuándo?
B16: =EVALUACION!B17 -> EJECUCIÓN | C16: =EVALUACION!C17 -> Cambio de precios en insumos o elementos utilizados en el proyecto. | G16: 1. Una vez materializado el riesgo, el comité técnico deberá: i) si el precios de algunos insumos o elementos aumentaron significativamente, se procederá a hablar con las empresas cotizantes para que mantengan los precios de las ctizaciones. De no ser posible, se realizará un comité extraordinario donde se determinen cambios de estos elementos por otros que cumplan la misma función y cuenten con calidad similar o superior a precio mas económico. ii) Si el precio de algunos insumos o elementos es significativamente menor se realizará un comité extraordinario para autorizar el uso del presupuesto extra o sobrante para comprar más unidades de estos insumos o elementos u tros que se consideren pertienentes. | I16: =EVALUACION!I17 -> 3 | J16: 1 | K16: =I16+J16 -> 4 | L16: =IF(K16<=4,"BAJO",IF(K16=5,"MEDIO",IF(K16=6,"ALTO",IF(K16=7,"ALTO","EXTREMO")))) -> BAJO | M16: Si | N16: Ejecutor, Apoyo a la supervisión | O16: Una vez se haya materializado el riesgo | P16: Sesión del comité técnico en el que se tome la decisión respecto a las modifiaciones de elementos o insumos a adquirir. | Q16: Se presenta informe en comité técnico | R16: Mensual | S16: Correctivo
B17: =EVALUACION!B18 -> EJECUCIÓN | C17: =EVALUACION!C18 -> Imposición de nuevos trámites o permisos. | G17: El ejecutor y el apoyo a la supervisión deberán realizar al menos uno de los siguientes tratamientos, considerando cual ofrece una mejor solución a la situación presentada respecto al nuevo trámite o permiso: 1. Gestión anticipada: monitoreo costante de cambios normativos a través del abogado contratado y socialización al comité técnico con el fin de anticiparse y disctuir y aprobar (en el comité) los posibles cambios que deben hacerse en el proyecto. 2. Capacitación y asesoría legal: Preparación del equipo y beneficiarios del proyecto para adaptarse a posibles cambios en trámites. 3. Automatización de procesos: Digitalización y simplificación de trámites internos para absorber nuevos requerimientos con menor impacto 4. Presión social y jurídica: En casos donde los nuevos trámites afecten desproporcionadamente a las víctimas, considerar acciones legales o de incidencia para revertir su aplicación. | I17: 0 | J17: =EVALUACION!J18 -> 2 | K17: =I17+J17 -> 2 | L17: =IF(K17<=4,"BAJO",IF(K17=5,"MEDIO",IF(K17=6,"ALTO",IF(K17=7,"ALTO","EXTREMO")))) -> BAJO | M17: No | N17: Ejecutor, Apoyo a la supervisión | O17: 1. Una vez se materialice el riesgo. | P17: 1. Al finalizar el proyecto | Q17: Se presenta informe en comité técnico | R17: Mensual | S17: Detectivo
B18: =EVALUACION!B19 -> EJECUCIÓN | C18: =EVALUACION!C19 -> Cambios en el marco regulatorio o políticas públicas o normatividad aplicable al proyecto. | G18: 1. El ejecutor deberá establecer acuerdos de largo plazo con entidades públicas y privadas para blindar el proyecto frente a cambios políticos o normatividad aplicable al proyecto. 2. Con apoyo del abogado contratado para el proyecto, el ejecutor deberá establecer un plan de mitigación en caso de cambios normativos o de política pública y presnetarlo para que sea arobado en comité técnico. | I18: 0 | J18: 2 | K18: =I18+J18 -> 2 | L18: =IF(K18<=4,"BAJO",IF(K18=5,"MEDIO",IF(K18=6,"ALTO",IF(K18=7,"ALTO","EXTREMO")))) -> BAJO | M18: No | N18: Ejecutor | O18: Primer mes de ejecución del proyecto (alistamiento) | P18: Primer mes de ejecución del proyecto (alistamiento) | Q18: Se presenta informe en comité técnico | R18: Mensual | S18: Preventivo
B19: =EVALUACION!B20 -> EJECUCIÓN | C19: =EVALUACION!C20 -> Bajo impacto del proyecto por deficiencias en la identificación y/o caracterización de la población beneficiaria. | G19: 1. Selección de Beneficiarios: El comité técnico deberá exigir al ejecutor la aprobación de los Beenficiarios del proyecto para evitar que los escogidos cuenten con condicioens especiales que no sean atendidas (físicas, mentales, sociales, económicas, etc.). Emeplo: un vegetariao al que se le de refrigerio con proteina animal. 2. Una vez se metrialice el riesgo, el ejecutor con acompañamiento del apoyo a la supervisión del contrato, deberá realizar cambio de productos o insumos o procesos inapropiados paraa población beneficiaria o parte de ella. | I19: 1 | J19: =EVALUACION!J20 -> 4 | K19: =I19+J19 -> 5 | L19: =IF(K19<=4,"BAJO",IF(K19=5,"MEDIO",IF(K19=6,"ALTO",IF(K19=7,"ALTO","EXTREMO")))) -> MEDIO | M19: No | N19: Ejecutor. Solo en el caso de la selección de centros comerciales es el ejecutor con aprobación del apoyo a la sueprvisión quien realiza la acción | O19: 1. Ejecución del proyecto 2 y 3. Ejecución de las vitrinas comerciales | P19: 1. Cuando se perueben los Centros Comerciales 2 y 3. Ejecución de las vitrinas comerciales | Q19: Se presenta informe en comité técnico | R19: Mensual | S19: Preventivo
B20: =EVALUACION!B21 -> EJECUCIÓN | C20: =EVALUACION!C21 -> Accidentes durante la implementación de las distitnas fases del circuito del cuidado. | G20: 1. Una vez se materialice el riesgo, el ejector deberá crear mesas de diálogo para tratar el tema internamente y buscar una solución. De no logralo, deberá acudir a facilitadores expertos en resolución de conflictos o expertos en mediación comuniitaria u organizaciones de la sociedad civil para gestionar los conflictos y resistencias. | I20: =EVALUACION!I21 -> 2 | J20: 1 | K20: =I20+J20 -> 3 | L20: =IF(K20<=4,"BAJO",IF(K20=5,"MEDIO",IF(K20=6,"ALTO",IF(K20=7,"ALTO","EXTREMO")))) -> BAJO | M20: No | N20: Ejecutor | O20: 1. Una vez se materialice el riesgo. | P20: 1. Al finalizar el proyecto | Q20: Se presenta informe en comité técnico | R20: Mensual | S20: Correctivo
B21: =EVALUACION!B22 -> EJECUCIÓN | C21: =EVALUACION!C22 -> Demoras en tramites administrativos o permisos. | G21: 1. El ejecutor deberá crear un equipo dedicado a la gestión de trámites y relaciones interinstitucionales. 2. Así mismo, el ejecutor deberá planificar tiempos con márgenes de seguridad u holgura. 3. En el caso particular de pagos y tramites internos an al FDL de suba, el apoyo a la sueprvisión deberá estar pendiente durante todo el tramite y prestar el apoyo necesario al ejecutor. | I21: 1 | J21: =EVALUACION!J22 -> 4 | K21: =I21+J21 -> 5 | L21: =IF(K21<=4,"BAJO",IF(K21=5,"MEDIO",IF(K21=6,"ALTO",IF(K21=7,"ALTO","EXTREMO")))) -> MEDIO | M21: No | N21: Ejecutor, Apoyo a la supervisión (cuando sea un trámite internos de FDL de Suba) | O21: 1. Ejecución del proyecto | P21: 1. Al finalizar el proyecto | Q21: Se presenta informe en comité técnico | R21: Mensual | S21: Preventivo
B22: =EVALUACION!B23 -> EJECUCIÓN | C22: =EVALUACION!C23 -> Baja participación de los beneficiarios a las sesiones del circuito del cuidado. | G22: Para prevenir la baja participación de beneficiarios, el ejecutor deberá implementar uno o varios de los siguientes controles o tratamientos según lo amerite la situación: 1. Entregar incentivos para la participación activa de beneficiarios. 2. Diseñar estrategias de difusión en territorio para mejorar la asistencia a eventos y capacitaciones. 3. Realizar acercamientos previos con los beneficiarios, utilizando líderes comunitarios o personas de confianza para facilitar la vinculación. 4. Coordinar con organizaciones comunitarias, ONG o instituciones públicas que ya tengan credibilidad entre los beneficiarios. 5. Incluir acompañamiento emocional o psicológico para ayudar a superar el miedo o la desconfianza, especialmente en contextos de violencia o conflicto. 6. Explicar de manera sencilla los objetivos, beneficios y condiciones del proyecto, usando canales y lenguajes adecuados para la comunidad. 7. Asegurar que las actividades se desarrollen en entornos protegidos, sin riesgos de represalias o exposición de los participantes. 8. Adaptar los horarios, formatos y lugares de encuentro para facilitar la participación de diferentes grupos (ej. mujeres, adultos mayores, desplazados). 9. Realizar seguimiento permanente de las actividades del proyecto para identificar barreras específicas de participación y ajustar las estrategias según la retroalimentación de los beneficiarios. | I22: 1 | J22: =EVALUACION!J23 -> 4 | K22: =I22+J22 -> 5 | L22: =IF(K22<=4,"BAJO",IF(K22=5,"MEDIO",IF(K22=6,"ALTO",IF(K22=7,"ALTO","EXTREMO")))) -> MEDIO | M22: No | N22: Ejecutor | O22: 1. Ejecución del proyecto | P22: 1. Al finalizar el proyecto | Q22: Se presenta informe en comité técnico | R22: Mensual | S22: Preventivo
B23: =EVALUACION!B24 -> EJECUCIÓN | C23: =EVALUACION!C24 -> Entrega de productos o insumos o elementos inadecuados o de mala calidad para el desarrollo de las sesiones del circuito del cuidado. | G23: 1. Para prevenir el riesgo, la ALS deberá exigir al ejecutor la aprobación de lso productos a qanregar antes de la realización de las actividades previsatas. 2. Una vez se metrialice el riesgo, el ejecutor con acompañamiento del apoyo a la supervisión del contrato, deberá realizar cambio de productos o insumos o procesos inapropiados para población beneficiaria o parte de ella. | I23: 1 | J23: =EVALUACION!J24 -> 5 | K23: =I23+J23 -> 6 | L23: =IF(K23<=4,"BAJO",IF(K23=5,"MEDIO",IF(K23=6,"ALTO",IF(K23=7,"ALTO","EXTREMO")))) -> ALTO | M23: No | N23: Ejecutor | O23: 1. Ejecución del proyecto | P23: 1. Al finalizar el proyecto | Q23: Se presenta informe en comité técnico | R23: Mensual | S23: Preventivo, dtectivo
B24: EJECUCIÓN | C24: No consecusión de población beneficiaria para las diferentes actividades del contrato | G24: Implementar estrategias de convocatoria y divulgación amplias, focalizadas y accesibles (considerando diversos formatos y canales), diseñadas y ejecutadas conjuntamente por el Contratista (Subred ESE) y con apoyo de la ALS y líderes comunitarios, para informar sobre el proyecto y los criterios de participación. Establecer en los documentos del proyecto criterios de elegibilidad, priorización y selección de beneficiarios claros, transparentes, técnicos y equitativos, que serán aplicados por el Contratista y verificados por la supervisión de la ALS. Si el número de participantes para ejecutar cualquier actividad no es suficiente para cumplir las metas, el Contratista, previa autorización de la supervisión, podrá intensificar la convocatoria en las zonas priorizadas o, de ser necesario y justificado, buscar en otras zonas de la localidad hasta completar el número mínimo requerido. | I24: 3 | J24: 4 | K24: 7 | L24: ALTO | M24: Si | N24: Contratista | O24: Inmediatamente se detecte la falta de población requerida | P24: Cuando se consiga la población requerida faltante | Q24: Listado de beneficiarios inscritos en actividades a desarrollar en el contrato | R24: Permanente
B25: EJECUCIÓN | C25: Incumplimiento del contratista total o parcial de las actividades relacionadas del contrato | G25: Una vez se presnete esta soituación el comité técnico aplicará y/o hará exigibles las causulas del contrato | I25: 3 | J25: 4 | K25: 7 | L25: ALTO | M25: Si | N25: Contratista y Supervisor del Contrato | O25: En la etapa de Ejecución | P25: Hasta la terminación del contrato | Q25: Reuniones periódicas para verificar el cronograma de trabajo y la variación de la TRM | R25: Permanente
B26: EJECUCIÓN | C26: Accidentes, contigencias, emergencias, perjuicios y/o siniestros presentados con ocasión a los productos entregados por el contratista | G26: 1. El contratista deberá contar con plan de emergencias previo a la realización de cualquier evento para la ALS y aplicarlo cuando se presente una emergencia. 2. En caso de que se presente una contingencia o emergencia por la prestación de servicios de parte del contratista y este no la pueda subsanar se deberá hacer uso de las pólizas del contrato (hacerlas exigibles). 3. Exigir al Contratista (Subred E.S.E.) la implementación de un programa de capacitación taller individualizado y grupal documentado, para cada beneficiario y/o su cuidador principal de acuerdo a Lineamiento Distrital. Dicha capacitación debe ser verificable por la supervisión. 4. Entrega de las respectivas garant;ias de cada Dispositivo, con información clara y precisa. 5. En caso de contingencias o emergencias mayores no cubiertas por los puntos anteriores, o que generen daños a terceros, se activarán los mecanismos de las pólizas de seguro exigidas en el convenio. El Contratista debe tener un plan de contingencia para la gestión de estos eventos. | I26: 2 | J26: 3 | K26: 5 | L26: MEDIO | M26: No | N26: Supervisión del contrato, Contratista | O26: A partir de la firma de acta de inicio | P26: Hasta la terminación del contrato | Q26: Verificación de las situaciones externas. | R26: Permanente
B27: EJECUCIÓN | C27: Alta tasa de retiro de particiantes en diferentes actividades del proyecto que requieren más de una sesión para su ejecución, no permitiendo contar con los beneficiarios mínimos requeridos al finalizar la actividad para que esta sea válida. | G27: El contratista ejecutor deberá realizar la creación de una lista de participantes, previo al comienzo de las actividades que requieren varias sesiones. Si el número de participantes que se retira es mayor al permitido (se llega a un número de participantes que continúan durante más del 80% de las sesiones menor al establecido en la meta), el contratista ejecutor deberá realizar el reemplazo del o los participantes que no continúan el proceso. Diseñar las actividades y servicios (especialmente los dirigidos a cuidadores y aquellos que requieren múltiples sesiones) considerando la pertinencia, utilidad percibida, flexibilidad de horario y, accesibilidad de los lugares de encuentro, Incluir mecanismos sencillos de retroalimentación de los participantes sobre las actividades para permitir ajustes oportunos por parte del Contratista que mejoren la adherencia. El Contratista mantendrá una lista de participantes de reemplazo y gestionará los reemplazos conforme al protocolo establecido, cuando la deserción afecte el cumplimiento de metas, previa información a la supervisión. | I27: 3 | J27: 4 | K27: 7 | L27: ALTO | M27: Si | N27: Supervisión del contrato | O27: A partir de la firma de acta de inicio | P27: Hasta la terminación del contrato | Q27: Verificación de las situaciones externas. | R27: Permanente
B28: =EVALUACION!B29 -> EJECUCIÓN | C28: =EVALUACION!C29 -> Protestas o reclamos por inconformidad de los beneficarios del proyecto con las actividades y beneficios entregados | G28: El ejecutor deberá realizar al menos uno de los siguientes controles o tratamientos: 1. Participación y consulta previa: Involucrar a los beneficiarios desde el diseño del proyecto para alinear expectativas y reducir inconformidades. 2. Transparencia y comunicación clara: Explicar de manera detallada los criterios de selección, alcances y limitaciones del proyecto para evitar malentendidos. 3. Mecanismos de atención de quejas: Crear canales formales (buzón de sugerencias, mesas de diálogo, reuniones periódicas) para escuchar y resolver inquietudes antes de que escalen en conjunto con la supervisión del proyecto. 4. Flexibilidad en la ejecución: Diseñar el proyecto con márgenes de ajuste para adaptarse a necesidades emergentes sin comprometer los objetivos principales. 5. Articulación con líderes de instancias o asociaciones de victimas y excombatientes para gestionar expectativas y facilitar la comunicación. 6. Mediación con entidades externas: Vincular organismos de derechos humanos u otras instituciones que puedan servir de intermediarios en caso de conflicto. 7. Preparación para contingencias: En casos donde la protesta sea inevitable, prever planes de gestión de crisis que incluyan diálogo, adaptación de actividades o reorientación del proyecto. | I28: =EVALUACION!I29 -> 1 | J28: 3 | K28: =I28+J28 -> 4 | L28: =IF(K28<=4,"BAJO",IF(K28=5,"MEDIO",IF(K28=6,"ALTO",IF(K28=7,"ALTO","EXTREMO")))) -> BAJO | M28: No | N28: supervisor | O28: 1. Ejecución del proyecto | P28: 1. Al finalizar el proyecto | Q28: Se presenta informe en comité técnico | R28: Mensual | S28: Correctivo
B29: SELECCIÓN | C29: No concurrencia de proponentes o insuficiencia de ellos en el proceso de contratación o no presentación de proponentes al proceso de Selección | G29: Establecimiento de requisitos técnicos mínimos que exijan la incorporación de enfoques diferenciales, de discapacidad, cuidado, género y curso de vida; evaluación de la pertinencia y adaptabilidad de la metodología propuesta; exigencia de experiencia específica en atención a personas con discapacidad y sus cuidadores; seguimiento y aprobación de los planes de trabajo por parte de la supervisión del contrato | I29: 3 | J29: 4 | K29: 7 | L29: ALTO | M29: No | N29: Estructurador | O29: Primer mes de ejecución del proyecto (alistamiento) | P29: Primer mes de ejecución del proyecto (alistamiento) | Q29: Se presenta informe en comité técnico | R29: Mensual
B30: EJECUCIÓN | C30: Entrega de productos o insumos o elementos inadecuados o de mala calidad para el desarrollo de las sesiones | G30: Verificar que el ejecutor garantice la contratación de transporte adaptado y accesible para los beneficiarios que lo requieran. Realizar seguimiento al cumplimiento de las condiciones de accesibilidad del servicio de transporte. Establecer mecanismos de reporte y atención oportuna de novedades que puedan afectar el traslado de los beneficiarios. | I30: 4 | J30: 4 | K30: 8 | L30: =IF(K30<=4,"BAJO",IF(K30=5,"MEDIO",IF(K30=6,"ALTO",IF(K30=7,"ALTO","EXTREMO")))) -> EXTREMO | M30: No | N30: Ejecutor | O30: 1. Ejecución del proyecto | P30: 1. Al finalizar el proyecto | Q30: Se presenta informe en comité técnico | R30: Mensual
C32: Categoria del Riesgo | H32: Impacto del Riesgo
B33: Probabilidad | C33: Catagoria | F33: Valoración | H33: Categoria | J33: Valoración | N33: Categoria del Riesgo
C34: Raro (puede ocurrir excepcionalmente) | F34: 1 | H34: Insignificante | J34: 1 | N34: Valoración del Riesgo | P34: Categoría
C35: Improbable (puede ocurrir ocasionalmente) | F35: 2 | H35: Menor | J35: 2 | N35: 8, 9 y 10 | P35: Riesgo extremo
C36: Posible (puede ocurrir en cualquier momento futuro) | F36: 3 | H36: Moderado | J36: 3 | N36: 6 y 7 | P36: Riesgo alto
C37: Probable (probablemente va a ocurrir) | F37: 4 | H37: Mayor | J37: 4 | N37: 5 | P37: Riesgo medio
C38: Casi cierto (ocurre en la mayoria de circunstancias) | F38: 5 | H38: Catastrófico | J38: 5 | N38: 2, 3 y 4 | P38: Riesgo bajo
C40: Valoración del Riesgo
C41: Calificación Cualitativa | G41: Obstruye la ejecución del contrato de manera intrascendente. | I41: Dificulta la ejecución del contrato de manera baja, aplicando medidas mínimas se pueden lograr el objeto contractual | L41: Afecta la ejecución del contrato sin alterar el beneficio para las partes | N41: Obstruye la ejecución del contrato sustancialmente pero aun así permite la consecución del objeto contractual | P41: Perturba la ejecución del contrato de manera grave imposibilitando la consecución del objeto contractual.
C42: Calificación Monetaria | G42: Los sobrecostos no representan más del uno por ciento (1%) del valor del contrato. | I42: Los sobrecostos no representan más del cinco por ciento (5%) del valor del contrato. | L42: Genera un impacto sobre el valor del contrato entre el cinco (5%) y el quince por ciento (15%). | N42: Incrementa el valor del contrato entre el quince (15%) y el treinta por ciento (30%). | P42: Impacto sobre el valor del contrato en más del treinta por ciento (30%).
C43: Catagoria | F43: Valoración | G43: Insignificante | I43: Menor | L43: Moderado | N43: Mayor | P43: Catastrófico
G44: 1 | I44: 2 | L44: 3 | N44: 4 | P44: 5
C45: Raro (puede ocurrir excepcionalmente) | F45: 1 | G45: 2 | I45: 3 | L45: 4 | N45: 5 | P45: 6
C46: Improbable (puede ocurrir ocasionalmente) | F46: 2 | G46: 3 | I46: 4 | L46: 5 | N46: 6 | P46: 7
C47: Posible (puede ocurrir en cualquier momento futuro) | F47: 3 | G47: 4 | I47: 5 | L47: 6 | N47: 7 | P47: 8
C48: Probable (probablemente va a ocurrir) | F48: 4 | G48: 5 | I48: 6 | L48: 7 | N48: 8 | P48: 9
C49: Casi cierto (ocurre en la mayoria de circunstancias) | F49: 5 | G49: 6 | I49: 7 | L49: 8 | N49: 9 | P49: 10

Sheet ASIGNACION Y TRATAMIENTO
C2: MATRIZ DE RIESGOS DE CONTRATACIÓN | W2: Código: GCO-GCI-F164 Versión: 02 Vigencia: 01 de diciembre de 2022 Caso HOLA: 280117
B6: OBJETO: “PRESTAR SERVICIOS PARA EJECUTAR ACCIONES COMPLEMENTARIAS EN SALUD DIRIGIDAS A PERSONAS CON DISCAPACIDAD Y SUS CUIDADORES Y CUIDADORAS EN LA LOCALIDAD DE SUBA”.
B7: Esta matriz es un documento anexo del Estudio Previo
B10: No | C10: Descripción (Que puede pasar y, cómo puede ocurrir) | D10: Etapa | E10: Clase | F10: Fuente | G10: Consecuencias de la ocurrencia del evento | H10: Probabilidad | I10: Impacto | J10: Calificación total | K10: Prioridad | L10: ¿A quien se le asigna? | M10: % | N10: Tratamiento/Controles a ser implementados | O10: Probabilidad | P10: Impacto | Q10: Calificación total | R10: Prioridad | S10: ¿Afecta el equilibrio económico del contrato? | T10: Persona responsable por implementar el tratamiento | U10: Fecha estimada en que se inicia el tratamiento | V10: Fecha estimada en que se completa el tratamiento | W10: ¿Cómo se realiza el monitoreo | X10: Periodicidad ¿Cuándo?
B11: 1 | C11: =EVALUACION!C17 -> Cambio de precios en insumos o elementos utilizados en el proyecto. | D11: =+'EVALUACION CON CONTROLES'!B16 -> EJECUCIÓN | E11: =VLOOKUP(C11,'IDENTIFICACION Y ANALISIS'!$B$19:$F$51,3,FALSE) -> General | F11: =VLOOKUP(C11,'IDENTIFICACION Y ANALISIS'!$B$19:$F$51,4,FALSE) -> Externo | G11: =EVALUACION!H17 -> 1. Insolvencia del contratista 2. Afectación del flujo de caja del contratista como consecuencia de no radicar de forma oportuna, completa y con aval de supervisión, los informes o presentarlos sin atender las fechas de programación del Plan Anual Mensualizado de Caja PAC, que señale la entidad contratante | H11: =EVALUACION!I17 -> 3 | I11: =EVALUACION!J17 -> 2 | J11: =EVALUACION!K17 -> 5 | K11: =EVALUACION!L17 -> MEDIO | L11: EJECUTOR Y ALS | M11: 100 | N11: ='EVALUACION CON CONTROLES'!G16 -> 1. Una vez materializado el riesgo, el comité técnico deberá: i) si el precios de algunos insumos o elementos aumentaron significativamente, se procederá a hablar con las empresas cotizantes para que mantengan los precios de las ctizaciones. De no ser posible, se realizará un comité extraordinario donde se determinen cambios de estos elementos por otros que cumplan la misma función y cuenten con calidad similar o superior a precio mas económico. ii) Si el precio de algunos insumos o elementos es significativamente menor se realizará un comité extraordinario para autorizar el uso del presupuesto extra o sobrante para comprar más unidades de estos insumos o elementos u tros que se consideren pertienentes. | O11: =+'EVALUACION CON CONTROLES'!I16 -> 3 | P11: =+'EVALUACION CON CONTROLES'!J16 -> 1 | Q11: =+'EVALUACION CON CONTROLES'!K16 -> 4 | R11: =+'EVALUACION CON CONTROLES'!L16 -> BAJO | S11: =+'EVALUACION CON CONTROLES'!M16 -> Si | T11: =+'EVALUACION CON CONTROLES'!N16 -> Ejecutor, Apoyo a la supervisión | U11: =+'EVALUACION CON CONTROLES'!O16 -> Una vez se haya materializado el riesgo | V11: =+'EVALUACION CON CONTROLES'!P16 -> Sesión del comité técnico en el que se tome la decisión respecto a las modifiaciones de elementos o insumos a adquirir. | ... X11: =+'EVALUACION CON CONTROLES'!R16 -> Mensual
B12: 2 | C12: =EVALUACION!C18 -> Imposición de nuevos trámites o permisos. | D12: =+'EVALUACION CON CONTROLES'!B17 -> EJECUCIÓN | E12: =VLOOKUP(C12,'IDENTIFICACION Y ANALISIS'!$B$19:$F$51,3,FALSE) -> Estatal | F12: =VLOOKUP(C12,'IDENTIFICACION Y ANALISIS'!$B$19:$F$51,4,FALSE) -> Externo | G12: =EVALUACION!H18 -> 1. Demoras en la ejecución o incumplimiento del contrato | H12: =EVALUACION!I18 -> 1 | I12: =EVALUACION!J18 -> 2 | J12: =EVALUACION!K18 -> 3 | K12: =EVALUACION!L18 -> BAJO | L12: EJECUTOR | M12: 100 | N12: ='EVALUACION CON CONTROLES'!G17 -> El ejecutor y el apoyo a la supervisión deberán realizar al menos uno de los siguientes tratamientos, considerando cual ofrece una mejor solución a la situación presentada respecto al nuevo trámite o permiso: 1. Gestión anticipada: monitoreo costante de cambios normativos a través del abogado contratado y socialización al comité técnico con el fin de anticiparse y disctuir y aprobar (en el comité) los posibles cambios que deben hacerse en el proyecto. 2. Capacitación y asesoría legal: Preparación del equipo y beneficiarios del proyecto para adaptarse a posibles cambios en trámites. 3. Automatización de procesos: Digitalización y simplificación de trámites internos para absorber nuevos requerimientos con menor impacto 4. Presión social y jurídica: En casos donde los nuevos trámites afecten desproporcionadamente a las víctimas, considerar acciones legales o de incidencia para revertir su aplicación. | O12: =+'EVALUACION CON CONTROLES'!I17 -> 0 | P12: =+'EVALUACION CON CONTROLES'!J17 -> 2 | Q12: =+'EVALUACION CON CONTROLES'!K17 -> 2 | R12: =+'EVALUACION CON CONTROLES'!L17 -> BAJO | S12: =+'EVALUACION CON CONTROLES'!M17 -> No | T12: =+'EVALUACION CON CONTROLES'!N17 -> Ejecutor, Apoyo a la supervisión | U12: =+'EVALUACION CON CONTROLES'!O17 -> 1. Una vez se materialice el riesgo. | V12: =+'EVALUACION CON CONTROLES'!P17 -> 1. Al finalizar el proyecto | ... X12: =+'EVALUACION CON CONTROLES'!R17 -> Mensual
B13: 3 | C13: =EVALUACION!C19 -> Cambios en el marco regulatorio o políticas públicas o normatividad aplicable al proyecto. | D13: =+'EVALUACION CON CONTROLES'!B18 -> EJECUCIÓN | E13: =VLOOKUP(C13,'IDENTIFICACION Y ANALISIS'!$B$19:$F$51,3,FALSE) -> Estatal | F13: =VLOOKUP(C13,'IDENTIFICACION Y ANALISIS'!$B$19:$F$51,4,FALSE) -> Externo | G13: =EVALUACION!H19 -> 1. Insolvencia del contratista 2. Demoras en la ejecución o incumplimiento del contrato | H13: =EVALUACION!I19 -> 1 | I13: =EVALUACION!J19 -> 2 | J13: =EVALUACION!K19 -> 3 | K13: =EVALUACION!L19 -> BAJO | L13: EJECUTOR Y ALS | M13: 50 | N13: ='EVALUACION CON CONTROLES'!G18 -> 1. El ejecutor deberá establecer acuerdos de largo plazo con entidades públicas y privadas para blindar el proyecto frente a cambios políticos o normatividad aplicable al proyecto. 2. Con apoyo del abogado contratado para el proyecto, el ejecutor deberá establecer un plan de mitigación en caso de cambios normativos o de política pública y presnetarlo para que sea arobado en comité técnico. | O13: =+'EVALUACION CON CONTROLES'!I18 -> 0 | P13: =+'EVALUACION CON CONTROLES'!J18 -> 2 | Q13: =+'EVALUACION CON CONTROLES'!K18 -> 2 | R13: =+'EVALUACION CON CONTROLES'!L18 -> BAJO | S13: =+'EVALUACION CON CONTROLES'!M18 -> No | T13: =+'EVALUACION CON CONTROLES'!N18 -> Ejecutor | U13: =+'EVALUACION CON CONTROLES'!O18 -> Primer mes de ejecución del proyecto (alistamiento) | V13: =+'EVALUACION CON CONTROLES'!P18 -> Primer mes de ejecución del proyecto (alistamiento) | ... X13: =+'EVALUACION CON CONTROLES'!R18 -> Mensual
B14: 4 | C14: =EVALUACION!C20 -> Bajo impacto del proyecto por deficiencias en la identificación y/o caracterización de la población beneficiaria. | D14: =+'EVALUACION CON CONTROLES'!B19 -> EJECUCIÓN | E14: =VLOOKUP(C14,'IDENTIFICACION Y ANALISIS'!$B$19:$F$51,3,FALSE) -> Especifico | F14: =VLOOKUP(C14,'IDENTIFICACION Y ANALISIS'!$B$19:$F$51,4,FALSE) -> Externo | G14: =EVALUACION!H20 -> 1. Protestas y/o reclamos antes el FDL de Suba. 2. Entrega de productos y/o servicios inadecuados. | H14: =EVALUACION!I20 -> 3 | I14: =EVALUACION!J20 -> 4 | J14: =EVALUACION!K20 -> 7 | K14: =EVALUACION!L20 -> ALTO | L14: EJECUTOR Y ALS | M14: 50 | N14: ='EVALUACION CON CONTROLES'!G19 -> 1. Selección de Beneficiarios: El comité técnico deberá exigir al ejecutor la aprobación de los Beenficiarios del proyecto para evitar que los escogidos cuenten con condicioens especiales que no sean atendidas (físicas, mentales, sociales, económicas, etc.). Emeplo: un vegetariao al que se le de refrigerio con proteina animal. 2. Una vez se metrialice el riesgo, el ejecutor con acompañamiento del apoyo a la supervisión del contrato, deberá realizar cambio de productos o insumos o procesos inapropiados paraa población beneficiaria o parte de ella. | O14: =+'EVALUACION CON CONTROLES'!I19 -> 1 | P14: =+'EVALUACION CON CONTROLES'!J19 -> 4 | Q14: =+'EVALUACION CON CONTROLES'!K19 -> 5 | R14: =+'EVALUACION CON CONTROLES'!L19 -> MEDIO | S14: =+'EVALUACION CON CONTROLES'!M19 -> No | T14: =+'EVALUACION CON CONTROLES'!N19 -> Ejecutor. Solo en el caso de la selección de centros comerciales es el ejecutor con aprobación del apoyo a la sueprvisión quien realiza la acción | U14: =+'EVALUACION CON CONTROLES'!O19 -> 1. Ejecución del proyecto 2 y 3. Ejecución de las vitrinas comerciales | V14: =+'EVALUACION CON CONTROLES'!P19 -> 1. Cuando se perueben los Centros Comerciales 2 y 3. Ejecución de las vitrinas comerciales | ... X14: =+'EVALUACION CON CONTROLES'!R19 -> Mensual
B15: 5 | C15: =EVALUACION!C21 -> Accidentes durante la implementación de las distitnas fases del circuito del cuidado. | D15: =+'EVALUACION CON CONTROLES'!B20 -> EJECUCIÓN | E15: =VLOOKUP(C15,'IDENTIFICACION Y ANALISIS'!$B$19:$F$51,3,FALSE) -> Especifico | F15: =VLOOKUP(C15,'IDENTIFICACION Y ANALISIS'!$B$19:$F$51,4,FALSE) -> Externo | G15: =EVALUACION!H21 -> 1. Acciones legales contra el FDL de Suba. 2. Quejas ante el FDL de Suba. 3. Perdida de reputación del FDL de Suba. | H15: =EVALUACION!I21 -> 2 | I15: =EVALUACION!J21 -> 3 | J15: =EVALUACION!K21 -> 5 | K15: =EVALUACION!L21 -> MEDIO | L15: EJECUTOR | M15: 100 | N15: ='EVALUACION CON CONTROLES'!G20 -> 1. Una vez se materialice el riesgo, el ejector deberá crear mesas de diálogo para tratar el tema internamente y buscar una solución. De no logralo, deberá acudir a facilitadores expertos en resolución de conflictos o expertos en mediación comuniitaria u organizaciones de la sociedad civil para gestionar los conflictos y resistencias. | O15: =+'EVALUACION CON CONTROLES'!I20 -> 2 | P15: =+'EVALUACION CON CONTROLES'!J20 -> 1 | Q15: =+'EVALUACION CON CONTROLES'!K20 -> 3 | R15: =+'EVALUACION CON CONTROLES'!L20 -> BAJO | S15: =+'EVALUACION CON CONTROLES'!M20 -> No | T15: =+'EVALUACION CON CONTROLES'!N20 -> Ejecutor | U15: =+'EVALUACION CON CONTROLES'!O20 -> 1. Una vez se materialice el riesgo. | V15: =+'EVALUACION CON CONTROLES'!P20 -> 1. Al finalizar el proyecto | ... X15: =+'EVALUACION CON CONTROLES'!R20 -> Mensual
B16: 6 | C16: =EVALUACION!C22 -> Demoras en tramites administrativos o permisos. | D16: =+'EVALUACION CON CONTROLES'!B21 -> EJECUCIÓN | E16: =VLOOKUP(C16,'IDENTIFICACION Y ANALISIS'!$B$19:$F$51,3,FALSE) -> Estatal | F16: =VLOOKUP(C16,'IDENTIFICACION Y ANALISIS'!$B$19:$F$51,4,FALSE) -> Interno | G16: =EVALUACION!H22 -> 1. Retrazos o incumplimientos del contrato. 2. Demoras en pagos o desembolsos del contrato. | H16: =EVALUACION!I22 -> 2 | I16: =EVALUACION!J22 -> 4 | J16: =EVALUACION!K22 -> 6 | K16: =EVALUACION!L22 -> ALTO | L16: EJECUTOR Y ALS | M16: 50 | N16: ='EVALUACION CON CONTROLES'!G21 -> 1. El ejecutor deberá crear un equipo dedicado a la gestión de trámites y relaciones interinstitucionales. 2. Así mismo, el ejecutor deberá planificar tiempos con márgenes de seguridad u holgura. 3. En el caso particular de pagos y tramites internos an al FDL de suba, el apoyo a la sueprvisión deberá estar pendiente durante todo el tramite y prestar el apoyo necesario al ejecutor. | O16: =+'EVALUACION CON CONTROLES'!I21 -> 1 | P16: =+'EVALUACION CON CONTROLES'!J21 -> 4 | Q16: =+'EVALUACION CON CONTROLES'!K21 -> 5 | R16: =+'EVALUACION CON CONTROLES'!L21 -> MEDIO | S16: =+'EVALUACION CON CONTROLES'!M21 -> No | T16: =+'EVALUACION CON CONTROLES'!N21 -> Ejecutor, Apoyo a la supervisión (cuando sea un trámite internos de FDL de Suba) | U16: =+'EVALUACION CON CONTROLES'!O21 -> 1. Ejecución del proyecto | V16: =+'EVALUACION CON CONTROLES'!P21 -> 1. Al finalizar el proyecto | ... X16: =+'EVALUACION CON CONTROLES'!R21 -> Mensual
B17: 7 | C17: =EVALUACION!C23 -> Baja participación de los beneficiarios a las sesiones del circuito del cuidado. | D17: =+'EVALUACION CON CONTROLES'!B22 -> EJECUCIÓN | E17: =VLOOKUP(C17,'IDENTIFICACION Y ANALISIS'!$B$19:$F$51,3,FALSE) -> Especifico | F17: =VLOOKUP(C17,'IDENTIFICACION Y ANALISIS'!$B$19:$F$51,4,FALSE) -> Externo | G17: =EVALUACION!H23 -> 1. Incumplimiento de la meta del Plan de Desarrollo Local para la vigencia. 2. Incumplimiento del contrato. | H17: =EVALUACION!I23 -> 2 | I17: =EVALUACION!J23 -> 4 | J17: =EVALUACION!K23 -> 6 | K17: =EVALUACION!L23 -> ALTO | L17: EJECUTOR | M17: 100 | N17: ='EVALUACION CON CONTROLES'!G22 -> Para prevenir la baja participación de beneficiarios, el ejecutor deberá implementar uno o varios de los siguientes controles o tratamientos según lo amerite la situación: 1. Entregar incentivos para la participación activa de beneficiarios. 2. Diseñar estrategias de difusión en territorio para mejorar la asistencia a eventos y capacitaciones. 3. Realizar acercamientos previos con los beneficiarios, utilizando líderes comunitarios o personas de confianza para facilitar la vinculación. 4. Coordinar con organizaciones comunitarias, ONG o instituciones públicas que ya tengan credibilidad entre los beneficiarios. 5. Incluir acompañamiento emocional o psicológico para ayudar a superar el miedo o la desconfianza, especialmente en contextos de violencia o conflicto. 6. Explicar de manera sencilla los objetivos, beneficios y condiciones del proyecto, usando canales y lenguajes adecuados para la comunidad. 7. Asegurar que las actividades se desarrollen en entornos protegidos, sin riesgos de represalias o exposición de los participantes. 8. Adaptar los horarios, formatos y lugares de encuentro para facilitar la participación de diferentes grupos (ej. mujeres, adultos mayores, desplazados). 9. Realizar seguimiento permanente de las actividades del proyecto para identificar barreras específicas de participación y ajustar las estrategias según la retroalimentación de los beneficiarios. | O17: =+'EVALUACION CON CONTROLES'!I22 -> 1 | P17: =+'EVALUACION CON CONTROLES'!J22 -> 4 | Q17: =+'EVALUACION CON CONTROLES'!K22 -> 5 | R17: =+'EVALUACION CON CONTROLES'!L22 -> MEDIO | S17: =+'EVALUACION CON CONTROLES'!M22 -> No | T17: =+'EVALUACION CON CONTROLES'!N22 -> Ejecutor | U17: =+'EVALUACION CON CONTROLES'!O22 -> 1. Ejecución del proyecto | V17: =+'EVALUACION CON CONTROLES'!P22 -> 1. Al finalizar el proyecto | ... X17: =+'EVALUACION CON CONTROLES'!R22 -> Mensual
B18: 8 | C18: =EVALUACION!C24 -> Entrega de productos o insumos o elementos inadecuados o de mala calidad para el desarrollo de las sesiones del circuito del cuidado. | D18: =+'EVALUACION CON CONTROLES'!B23 -> EJECUCIÓN | E18: =VLOOKUP(C18,'IDENTIFICACION Y ANALISIS'!$B$19:$F$51,3,FALSE) -> #N/A | F18: =VLOOKUP(C18,'IDENTIFICACION Y ANALISIS'!$B$19:$F$51,4,FALSE) -> #N/A | G18: =EVALUACION!H24 -> 1. Bajo impacto del proyecto en la población beneficiada. 2. Perdada de recursos del FDL de Suba. 3. Poibles accidentes o emergencias. | H18: =EVALUACION!I24 -> 2 | I18: =EVALUACION!J24 -> 5 | J18: =EVALUACION!K24 -> 7 | K18: =EVALUACION!L24 -> ALTO | L18: EJECUTOR | M18: 100 | N18: ='EVALUACION CON CONTROLES'!G23 -> 1. Para prevenir el riesgo, la ALS deberá exigir al ejecutor la aprobación de lso productos a qanregar antes de la realización de las actividades previsatas. 2. Una vez se metrialice el riesgo, el ejecutor con acompañamiento del apoyo a la supervisión del contrato, deberá realizar cambio de productos o insumos o procesos inapropiados para población beneficiaria o parte de ella. | O18: =+'EVALUACION CON CONTROLES'!I23 -> 1 | P18: =+'EVALUACION CON CONTROLES'!J23 -> 5 | Q18: =+'EVALUACION CON CONTROLES'!K23 -> 6 | R18: =+'EVALUACION CON CONTROLES'!L23 -> ALTO | S18: =+'EVALUACION CON CONTROLES'!M23 -> No | T18: =+'EVALUACION CON CONTROLES'!N23 -> Ejecutor | U18: =+'EVALUACION CON CONTROLES'!O23 -> 1. Ejecución del proyecto | V18: =+'EVALUACION CON CONTROLES'!P23 -> 1. Al finalizar el proyecto | ... X18: =+'EVALUACION CON CONTROLES'!R23 -> Mensual
