Workbook

Sheet Valores Unitarios
B2: ALCALDÍA MAYOR DE BOGOTÁ D.C. SECRETARÍA DE EDUCACIÓN DEL DISTRITO FORMATO OFERTA ECONÓMICA SED-LP-OTIC-XXX-2026
B6: OBJETO: PRESTAR LOS SERVICIOS DE TELECOMUNICACIONES A LA SECRETARÍA DE EDUCACIÓN EN LOS TRES NIVELES INSTITUCIONALES DE ACUERDO CON LA ZONA ADJUDICADA.
B7: ÁREA ENCARGADA: OFICINA DE TECNOLOGÍAS DE LA INFORMACIÓN Y LAS COMUNICACIONES
B8: Nombre del proponente: | J8: NIT:
B9: Contacto : | J9: Cargo:
B11: 1. COSTOS DIRECTOS
B12: INDICACIONES: | D12: El proponente deberá diligenciar solamente las colummnas F y J.
B14: ZONA 2
B15: NIVEL | C15: CÓDIGO SERVICIO | D15: SERVICIO | F15: COSTOS INSTALACIÓN | G15: VALIDACION VR. UNITARIO INSTALACIÓN INCLUIDO IVA | H15: PRECIO TECHO INSTALACIÓN INCLUIDO IVA | I15: VALIDACIÓN | J15: COSTO MENSUAL SERVICIO | K15: VALIDACION VR. UNITARIO PRESTACIÓN MENSUAL SERVICIO IVA INCLUIDO CUANDO APLIQUE | L15: PRECIO TECHO VALOR MENSUAL SERVICIO IVA INCLUIDO (CUANDO APLIQUE) | M15: VALIDACIÓN
F16: VR. UNITARIO INSTALACIÓN IVA INCLUIDO | J16: VR. UNITARIO PRESTACIÓN MENSUAL SERVICIO IVA INCLUIDO CUANDO APLIQUE
B17: CENTRAL | C17: NVC01 | D17: Equipo Router Core Datos Múltiple Operador Zona 0 De Acuerdo Con Anexo Técnico | G17: =IF(ISBLANK(F17),"NO DILIGENCIADO","DILIGENCIADO") -> NO DILIGENCIADO | H17: 1793013 | I17: =#REF!<=H17 -> #REF! | K17: =IF(ISBLANK(J17),"NO DILIGENCIADO","DILIGENCIADO") -> NO DILIGENCIADO | L17: 19977675 | M17: =#REF!<=L17 -> #REF!
C18: NVC02 | D18: Enlace de Datos Dedicado Simétrico Punto de Concentración (incluye equipo) 100 Mbps U.M Fibra Óptica | G18: =IF(ISBLANK(F18),"NO DILIGENCIADO","DILIGENCIADO") -> NO DILIGENCIADO | H18: 1716605 | I18: =#REF!<=H18 -> #REF! | K18: =IF(ISBLANK(J18),"NO DILIGENCIADO","DILIGENCIADO") -> NO DILIGENCIADO | L18: 4083730 | M18: =#REF!<=L18 -> #REF!
C19: NVC03 | D19: Redundancia Enlace de Datos Dedicado Simétrico Punto de Concentración (incluye equipo) 100 Mbps U.M Fibra Óptica Activo/Pasivo | G19: =IF(ISBLANK(F19),"NO DILIGENCIADO","DILIGENCIADO") -> NO DILIGENCIADO | H19: 1716605 | I19: =#REF!<=H19 -> #REF! | K19: =IF(ISBLANK(J19),"NO DILIGENCIADO","DILIGENCIADO") -> NO DILIGENCIADO | L19: 3409920 | M19: =#REF!<=L19 -> #REF!
C20: NVC04 | D20: Enlace de Datos Dedicado Simétrico Punto de Concentración (incluye equipo) 200 Mbps U.M Fibra Óptica | G20: =IF(ISBLANK(F20),"NO DILIGENCIADO","DILIGENCIADO") -> NO DILIGENCIADO | H20: 1722006 | I20: =#REF!<=H20 -> #REF! | K20: =IF(ISBLANK(J20),"NO DILIGENCIADO","DILIGENCIADO") -> NO DILIGENCIADO | L20: 5988060 | M20: =#REF!<=L20 -> #REF!
C21: NVC05 | D21: Redundancia Enlace de Datos Dedicado Simétrico Punto de Concentración (incluye equipo) 200 Mbps U.M Fibra Óptica Activo/Pasivo | G21: =IF(ISBLANK(F21),"NO DILIGENCIADO","DILIGENCIADO") -> NO DILIGENCIADO | H21: 1722006 | I21: =#REF!<=H21 -> #REF! | K21: =IF(ISBLANK(J21),"NO DILIGENCIADO","DILIGENCIADO") -> NO DILIGENCIADO | L21: 3690452 | M21: =#REF!<=L21 -> #REF!
C22: NVC06 | D22: Enlace de Datos Dedicado Simétrico Punto de Concentración (incluye equipo) 300 Mbps U.M Fibra Óptica | G22: =IF(ISBLANK(F22),"NO DILIGENCIADO","DILIGENCIADO") -> NO DILIGENCIADO | H22: 1716605 | I22: =#REF!<=H22 -> #REF! | K22: =IF(ISBLANK(J22),"NO DILIGENCIADO","DILIGENCIADO") -> NO DILIGENCIADO | L22: 5859405 | M22: =#REF!<=L22 -> #REF!
C23: NVC07 | D23: Redundancia Enlace de Datos Dedicado Simétrico Punto de Concentración (incluye equipo) 300 Mbps U.M Fibra Óptica Activo/Pasivo | G23: =IF(ISBLANK(F23),"NO DILIGENCIADO","DILIGENCIADO") -> NO DILIGENCIADO | H23: 1716605 | I23: =#REF!<=H23 -> #REF! | K23: =IF(ISBLANK(J23),"NO DILIGENCIADO","DILIGENCIADO") -> NO DILIGENCIADO | L23: 4828659 | M23: =#REF!<=L23 -> #REF!
C24: NVC08 | D24: Enlace de Datos Dedicado Simétrico Punto de Concentración (incluye equipo) 400 Mbps U.M Fibra Óptica | G24: =IF(ISBLANK(F24),"NO DILIGENCIADO","DILIGENCIADO") -> NO DILIGENCIADO | H24: 1716605 | I24: =#REF!<=H24 -> #REF! | K24: =IF(ISBLANK(J24),"NO DILIGENCIADO","DILIGENCIADO") -> NO DILIGENCIADO | L24: 6999250 | M24: =#REF!<=L24 -> #REF!
C25: NVC09 | D25: Redundancia Enlace de Datos Dedicado Simétrico Punto de Concentración (incluye equipo) 400 Mbps Activo/Pasivo | G25: =IF(ISBLANK(F25),"NO DILIGENCIADO","DILIGENCIADO") -> NO DILIGENCIADO | H25: 1716605 | I25: =#REF!<=H25 -> #REF! | K25: =IF(ISBLANK(J25),"NO DILIGENCIADO","DILIGENCIADO") -> NO DILIGENCIADO | L25: 5684171 | M25: =#REF!<=L25 -> #REF!
C26: NVC10 | D26: Enlace de Datos Dedicado Simétrico Punto de Concentración (Incluye Equipo) 700 Mbps U.M Fibra Óptica | G26: =IF(ISBLANK(F26),"NO DILIGENCIADO","DILIGENCIADO") -> NO DILIGENCIADO | H26: 1716605 | I26: =#REF!<=H26 -> #REF! | K26: =IF(ISBLANK(J26),"NO DILIGENCIADO","DILIGENCIADO") -> NO DILIGENCIADO | L26: 8704993 | M26: =#REF!<=L26 -> #REF!
C27: NVC11 | D27: Redundancia Enlace de Datos Dedicado Simétrico Punto de Concentración (incluye equipo) 700 Mbps U.M Fibra Óptica Activo/Pasivo | G27: =IF(ISBLANK(F27),"NO DILIGENCIADO","DILIGENCIADO") -> NO DILIGENCIADO | H27: 1716605 | I27: =#REF!<=H27 -> #REF! | K27: =IF(ISBLANK(J27),"NO DILIGENCIADO","DILIGENCIADO") -> NO DILIGENCIADO | L27: 17308067 | M27: =#REF!<=L27 -> #REF!
C28: NVC12 | D28: Enlace de DatosDedicado Simétrico Punto de Concentración (incluye equipo) 1 Gbps U.M Fibra Óptica | G28: =IF(ISBLANK(F28),"NO DILIGENCIADO","DILIGENCIADO") -> NO DILIGENCIADO | H28: 1716605 | I28: =#REF!<=H28 -> #REF! | K28: =IF(ISBLANK(J28),"NO DILIGENCIADO","DILIGENCIADO") -> NO DILIGENCIADO | L28: 20007614 | M28: =#REF!<=L28 -> #REF!
C29: NVC13 | D29: Redundancia Enlace de Datos Dedicado Simétrico Punto de Concentración (incluye equipo) 1 Gbps U.M Fibra Óptica Activo/Pasivo | G29: =IF(ISBLANK(F29),"NO DILIGENCIADO","DILIGENCIADO") -> NO DILIGENCIADO | H29: 1716605 | I29: =#REF!<=H29 -> #REF! | K29: =IF(ISBLANK(J29),"NO DILIGENCIADO","DILIGENCIADO") -> NO DILIGENCIADO | L29: 18880504 | M29: =#REF!<=L29 -> #REF!
... C41: NVC39 | D41: Enlace Internet Dedicado Simétrico (U.M. Fibra Óptica) 1Gbps BP (pasivo) | G41: =IF(ISBLANK(F41),"NO DILIGENCIADO","DILIGENCIADO") -> NO DILIGENCIADO | H41: 2246375 | I41: =#REF!<=H41 -> #REF! | K41: =IF(ISBLANK(J41),"NO DILIGENCIADO","DILIGENCIADO") -> NO DILIGENCIADO | L41: 10945311 | M41: =#REF!<=L41 -> #REF!
B42: INSTITUCIONAL Y LOCAL | C42: NVIL01 | D42: Enlace de Datos Dedicado Simétrico 1 Mbps (incluye CPE) U.M. Fibra Óptica | G42: =IF(ISBLANK(F42),"NO DILIGENCIADO","DILIGENCIADO") -> NO DILIGENCIADO | H42: 1318478 | I42: =#REF!<=H42 -> #REF! | K42: =IF(ISBLANK(J42),"NO DILIGENCIADO","DILIGENCIADO") -> NO DILIGENCIADO | L42: 822547 | M42: =#REF!<=L42 -> #REF!
C43: NVIL02 | D43: Enlace de Datos Dedicado Simétrico 2 Mbps (incluye CPE) U.M. Fibra Óptica | G43: =IF(ISBLANK(F43),"NO DILIGENCIADO","DILIGENCIADO") -> NO DILIGENCIADO | H43: 1317020 | I43: =#REF!<=H43 -> #REF! | K43: =IF(ISBLANK(J43),"NO DILIGENCIADO","DILIGENCIADO") -> NO DILIGENCIADO | L43: 954645 | M43: =#REF!<=L43 -> #REF!
C44: NVIL03 | D44: Enlace de Datos Dedicado Simétrico 3 Mbps (incluye CPE) U.M. Fibra Óptica | G44: =IF(ISBLANK(F44),"NO DILIGENCIADO","DILIGENCIADO") -> NO DILIGENCIADO | H44: 1317020 | I44: =#REF!<=H44 -> #REF! | K44: =IF(ISBLANK(J44),"NO DILIGENCIADO","DILIGENCIADO") -> NO DILIGENCIADO | L44: 1006049 | M44: =#REF!<=L44 -> #REF!
C45: NVIL04 | D45: Enlace de Datos Dedicado Simétrico 5 Mbps (incluye CPE) U.M. Fibra Óptica | G45: =IF(ISBLANK(F45),"NO DILIGENCIADO","DILIGENCIADO") -> NO DILIGENCIADO | H45: 1317020 | I45: =#REF!<=H45 -> #REF! | K45: =IF(ISBLANK(J45),"NO DILIGENCIADO","DILIGENCIADO") -> NO DILIGENCIADO | L45: 1136053 | M45: =#REF!<=L45 -> #REF!
C46: NVIL05 | D46: Enlace de Datos Dedicado Simétrico 10 Mbps (incluye CPE) U.M. Fibra Óptica | G46: =IF(ISBLANK(F46),"NO DILIGENCIADO","DILIGENCIADO") -> NO DILIGENCIADO | H46: 1224738 | I46: =#REF!<=H46 -> #REF! | K46: =IF(ISBLANK(J46),"NO DILIGENCIADO","DILIGENCIADO") -> NO DILIGENCIADO | L46: 1166415 | M46: =#REF!<=L46 -> #REF!
C47: NVIL06 | D47: Enlace de Datos Dedicado Simétrico 20 Mbps (incluye CPE) U.M. Fibra Óptica | G47: =IF(ISBLANK(F47),"NO DILIGENCIADO","DILIGENCIADO") -> NO DILIGENCIADO | H47: 1441123 | I47: =#REF!<=H47 -> #REF! | K47: =IF(ISBLANK(J47),"NO DILIGENCIADO","DILIGENCIADO") -> NO DILIGENCIADO | L47: 1452073 | M47: =#REF!<=L47 -> #REF!
C48: NVIL07 | D48: Enlace de Datos Dedicado Simétrico 30 Mbps(incluye CPE) U.M. Fibra Óptica | G48: =IF(ISBLANK(F48),"NO DILIGENCIADO","DILIGENCIADO") -> NO DILIGENCIADO | H48: 1752473 | I48: =#REF!<=H48 -> #REF! | K48: =IF(ISBLANK(J48),"NO DILIGENCIADO","DILIGENCIADO") -> NO DILIGENCIADO | L48: 1851994 | M48: =#REF!<=L48 -> #REF!
C49: NVIL08 | D49: Enlace de Datos Dedicado Simétrico 50 Mbps (incluye CPE) U.M. Fibra Óptica | G49: =IF(ISBLANK(F49),"NO DILIGENCIADO","DILIGENCIADO") -> NO DILIGENCIADO | H49: 2012687 | I49: =#REF!<=H49 -> #REF! | K49: =IF(ISBLANK(J49),"NO DILIGENCIADO","DILIGENCIADO") -> NO DILIGENCIADO | L49: 2272806 | M49: =#REF!<=L49 -> #REF!
C50: NVIL09 | D50: Enlace de Datos Dedicado Simétrico 50 MbpsBP (Pasivo) (incluye CPE) U.M. Fibra Óptica | G50: =IF(ISBLANK(F50),"NO DILIGENCIADO","DILIGENCIADO") -> NO DILIGENCIADO | H50: 1403935 | I50: =#REF!<=H50 -> #REF! | K50: =IF(ISBLANK(J50),"NO DILIGENCIADO","DILIGENCIADO") -> NO DILIGENCIADO | L50: 2049493 | M50: =#REF!<=L50 -> #REF!
C51: NVIL10 | D51: Enlace de Datos Dedicado Simétrico 80 Mbps (incluye CPE) U.M. Fibra Óptica | G51: =IF(ISBLANK(F51),"NO DILIGENCIADO","DILIGENCIADO") -> NO DILIGENCIADO | H51: 1755250 | I51: =#REF!<=H51 -> #REF! | K51: =IF(ISBLANK(J51),"NO DILIGENCIADO","DILIGENCIADO") -> NO DILIGENCIADO | L51: 3046893 | M51: =#REF!<=L51 -> #REF!
C52: NVIL11 | D52: Enlace de DatosDedicado Simétrico 80 Mbps BP (Pasivo) (incluye CPE) U.M. Fibra Óptica | G52: =IF(ISBLANK(F52),"NO DILIGENCIADO","DILIGENCIADO") -> NO DILIGENCIADO | H52: 1524423 | I52: =#REF!<=H52 -> #REF! | K52: =IF(ISBLANK(J52),"NO DILIGENCIADO","DILIGENCIADO") -> NO DILIGENCIADO | L52: 3269070 | M52: =#REF!<=L52 -> #REF!
C53: NVIL12 | D53: Enlace de Datos Dedicado Simétrico 100Mbps (incluye CPE) U.M. Fibra Óptica | G53: =IF(ISBLANK(F53),"NO DILIGENCIADO","DILIGENCIADO") -> NO DILIGENCIADO | H53: 1903158 | I53: =#REF!<=H53 -> #REF! | K53: =IF(ISBLANK(J53),"NO DILIGENCIADO","DILIGENCIADO") -> NO DILIGENCIADO | L53: 4264531 | M53: =#REF!<=L53 -> #REF!
C54: NVIL13 | D54: Enlace de DatosDedicado Simétrico 100 Mbps BP (Pasivo) (incluye CPE) U.M. Fibra Óptica | G54: =IF(ISBLANK(F54),"NO DILIGENCIADO","DILIGENCIADO") -> NO DILIGENCIADO | H54: 1642548 | I54: =#REF!<=H54 -> #REF! | K54: =IF(ISBLANK(J54),"NO DILIGENCIADO","DILIGENCIADO") -> NO DILIGENCIADO | L54: 3734250 | M54: =#REF!<=L54 -> #REF!
... C92: NVIL51 | D92: Seguridad Internet Dedicado 1 Gbps | G92: =IF(ISBLANK(F92),"NO DILIGENCIADO","DILIGENCIADO") -> NO DILIGENCIADO | H92: 2462975 | I92: =#REF!<=H92 -> #REF! | K92: =IF(ISBLANK(J92),"NO DILIGENCIADO","DILIGENCIADO") -> NO DILIGENCIADO | L92: 14373093 | M92: =#REF!<=L92 -> #REF!
F94: SUMATORIA VALORES UNITARIOS INSTALACIÓN IVA INCLUIDO | H94: MÁXIMO SUMATORIA VALORES UNITARIOS INSTALACIÓN | J94: SUMATORIA VALORES UNITARIOS PRESTACION MENSUAL SERVICIO IVA INCLUIDO CUANDO APLIQUE | L94: MÁXIMO SUMATORIA VALORES UNITARIOS PRESTACIÓN MENSUAL SERVICIO IVA INCLUIDO CUANDO APLIQUE
F95: =SUM(F17:F92) -> 0 | H95: =SUM(H17:H92) -> 151230454 | J95: =SUM(J17:J92) -> 0 | L95: =SUM(L17:L92) -> 542133862
...

Sheet Cálculo_Valor_Zona2
B3: Nombre del proponente: | L3: NIT:
B4: Contacto : | L4: Cargo:
B6: PREMISAS PARA EL ANÁLISIS
B7: DÍAS DEL MES | C7: 30
B8: MESES COMPLETOS EN 2027 | C8: 8
B9: DÍAS REQUERIDOS EN DICIEMBRE 2027 | C9: 17
I10: INSTALACIÓN | K10: PRESTACIÓN DEL SERVICIO
B11: ZONA 2 | C11: CANTIDADES REQUERIDAS CANAL DATOS | F11: CANTIDADES REQUERIDAS CANAL INTERNET | I11: VALOR UNITARIO INSTALACION- IVA INCLUIDO | J11: VALOR INSTALACIÓN TODOS LOS SERVICIOS (A PAGAR EN 2026) | K11: VALOR UNITARIO SERVICIO MENSUAL - IVA INCLUIDO CUANDO APLIQUE | L11: VALOR UNITARIO SERVICIO MESES COMPLETOS REQUERIDOS 2027 (DE ABRIL A NOVIEMBRE) - IVA INCLUIDO CUANDO APLIQUE | M11: VALOR UNITARIO SERVICIO DÍAS REQUERIDOS DICIEMBRE 2027 - IVA INCLUIDO CUANDO APLIQUE | N11: VALOR TOTAL UNITARIO SERVICIO DURANTE LA VIGENCIA DEL CONTRATO - IVA INCLUIDO CUANDO APLIQUE | O11: VALOR TODOS LOS SERVICIOS REQUERIDOS EN LA ZONA DURANTE LA VIGENCIA DEL CONTRATO INCLUYE IVA CUANDO APLIQUE
C12: INSTITUCIONAL | D12: LOCAL | E12: CENTRAL | F12: INSTITUCIONAL | G12: LOCAL | H12: CENTRAL
B13: NVIL01 - Enlace de Datos Dedicado Simétrico 1 Mbps (incluye CPE) U.M. Fibra Óptica | C13: 238 | D13: 0 | E13: 0 | F13: 0 | G13: 0 | H13: 0 | I13: ='Valores Unitarios'!F42 -> 0 | J13: =I13*(SUM(C13:H13)+SUM(C14:H14)) -> 0 | K13: ='Valores Unitarios'!J42 -> 0 | L13: =+K13*$C$8 -> 0 | M13: =ROUND((K13/$C$7)*$C$9,0) -> 0 | N13: =L13+M13 -> 0 | O13: =+N13*(SUM(C13:H13)) -> 0
C14: 0 | D14: 10 | E14: 0 | F14: 0 | G14: 0 | H14: 0 | L14: =+K13*$C$8 -> 0 | M14: =+K13 -> 0 | N14: =L14+M14 -> 0 | O14: =+N14*(SUM(C14:H14)) -> 0
B15: NVIL27 - Enlace Intenet Dedicado Simétrico (U.M. Fibra Óptica) 30 Mbps | C15: 0 | D15: 0 | E15: 0 | F15: 13 | G15: 0 | H15: 0 | I15: ='Valores Unitarios'!F68 -> 0 | J15: =I15*(SUM(C15:H15)+SUM(C16:H16)) -> 0 | K15: ='Valores Unitarios'!J68 -> 0 | L15: =+K15*$C$8 -> 0 | M15: =ROUND((K15/$C$7)*$C$9,0) -> 0 | N15: =L15+M15 -> 0 | O15: =+N15*(SUM(C15:H15)) -> 0
C16: 0 | D16: 0 | E16: 0 | F16: 0 | G16: 3 | H16: 0 | L16: =+K15*$C$8 -> 0 | M16: =+K15 -> 0 | N16: =L16+M16 -> 0 | O16: =+N16*(SUM(C16:H16)) -> 0
B17: NVIL44 - Seguridad Internet Dedicado 30 Mbps | C17: 0 | D17: 0 | E17: 0 | F17: 13 | G17: 0 | H17: 0 | I17: ='Valores Unitarios'!F85 -> 0 | J17: =I17*(SUM(C17:H17)+SUM(C18:H18)) -> 0 | K17: ='Valores Unitarios'!J85 -> 0 | L17: =+K17*$C$8 -> 0 | M17: =ROUND((K17/$C$7)*$C$9,0) -> 0 | N17: =L17+M17 -> 0 | O17: =+N17*(SUM(C17:H17)) -> 0
C18: 0 | D18: 0 | E18: 0 | F18: 0 | G18: 3 | H18: 0 | L18: =+K17*$C$8 -> 0 | M18: =+K17 -> 0 | N18: =L18+M18 -> 0 | O18: =+N18*(SUM(C18:H18)) -> 0
B19: NVIL31 - Enlace Internet Dedicado Simétrico (U.M. Fibra Óptica) 60 Mbps | C19: 0 | D19: 0 | E19: 0 | F19: =3+111 -> 114 | G19: 0 | H19: 0 | I19: ='Valores Unitarios'!F72 -> 0 | J19: =I19*(SUM(C19:H19)+SUM(C20:H20)) -> 0 | K19: ='Valores Unitarios'!J72 -> 0 | L19: =+K19*$C$8 -> 0 | M19: =ROUND((K19/$C$7)*$C$9,0) -> 0 | N19: =L19+M19 -> 0 | O19: =+N19*(SUM(C19:H19)) -> 0
C20: 0 | D20: 0 | E20: 0 | F20: 0 | G20: =7-1 -> 6 | H20: 0 | L20: =+K19*$C$8 -> 0 | M20: =+K19 -> 0 | N20: =L20+M20 -> 0 | O20: =+N20*(SUM(C20:H20)) -> 0
B21: NVIL46 - Seguridad Internet Dedicado 60 Mbps | C21: 0 | D21: 0 | E21: 0 | F21: =3+111 -> 114 | G21: 0 | H21: 0 | I21: ='Valores Unitarios'!F87 -> 0 | J21: =I21*(SUM(C21:H21)+SUM(C22:H22)) -> 0 | K21: ='Valores Unitarios'!J87 -> 0 | L21: =+K21*$C$8 -> 0 | M21: =ROUND((K21/$C$7)*$C$9,0) -> 0 | N21: =L21+M21 -> 0 | O21: =+N21*(SUM(C21:H21)) -> 0
C22: 0 | D22: 0 | E22: 0 | F22: 0 | G22: =7-1 -> 6 | H22: 0 | L22: =+K21*$C$8 -> 0 | M22: =+K21 -> 0 | N22: =L22+M22 -> 0 | O22: =+N22*(SUM(C22:H22)) -> 0
B23: NVIL33 - Enlace Internet Dedicado Simétrico (U.M. Fibra Óptica) 100 Mbps | C23: 0 | D23: 0 | E23: 0 | F23: =111-111+5+20 -> 25 | G23: 0 | H23: 0 | I23: ='Valores Unitarios'!F74 -> 0 | J23: =I23*(SUM(C23:H24)) -> 0 | K23: ='Valores Unitarios'!J74 -> 0 | L23: =+K23*$C$8 -> 0 | M23: =ROUND((K23/$C$7)*$C$9,0) -> 0 | N23: =L23+M23 -> 0 | O23: =+N23*(SUM(C23:H23)) -> 0
C24: 0 | D24: 0 | E24: 0 | F24: 0 | G24: 1 | H24: 0 | L24: =+K23*$C$8 -> 0 | M24: =+K23 -> 0 | N24: =L24+M24 -> 0 | O24: =+N24*(SUM(C24:H24)) -> 0
B25: NVIL47 - Seguridad Internet Dedicado 100 Mbps | C25: 0 | D25: 0 | E25: 0 | F25: =111-111+5+20 -> 25 | G25: 0 | H25: 0 | I25: ='Valores Unitarios'!F88 -> 0 | J25: =I25*(SUM(C25:H26)) -> 0 | K25: ='Valores Unitarios'!J88 -> 0 | L25: =+K25*$C$8 -> 0 | M25: =ROUND((K25/$C$7)*$C$9,0) -> 0 | N25: =L25+M25 -> 0 | O25: =+N25*(SUM(C25:H25)) -> 0
C26: 0 | D26: 0 | E26: 0 | F26: 0 | G26: 1 | H26: 0 | L26: =+K25*$C$8 -> 0 | M26: =+K25 -> 0 | N26: =L26+M26 -> 0 | O26: =+N26*(SUM(C26:H26)) -> 0
B27: NVIL37 - Enlace Internet Dedicado Simétrico (U.M. Fibra Óptica) 256 Mbps | C27: 0 | D27: 0 | E27: 0 | F27: =112-5-20 -> 87 | G27: 0 | H27: 0 | I27: ='Valores Unitarios'!F78 -> 0 | J27: =I27*(SUM(C27:H27)) -> 0 | K27: ='Valores Unitarios'!J78 -> 0 | L27: =+K27*$C$8 -> 0 | M27: =ROUND((K27/$C$7)*$C$9,0) -> 0 | N27: =L27+M27 -> 0 | O27: =+N27*(SUM(C27:H27)) -> 0
B28: NVIL49 - Seguridad Internet Dedicado 256 Mbps | C28: 0 | D28: 0 | E28: 0 | F28: =112-5-20 -> 87 | G28: 0 | H28: 0 | I28: ='Valores Unitarios'!F90 -> 0 | J28: =I28*(SUM(C28:H28)) -> 0 | K28: ='Valores Unitarios'!J90 -> 0 | L28: =+K28*$C$8 -> 0 | M28: =ROUND((K28/$C$7)*$C$9,0) -> 0 | N28: =L28+M28 -> 0 | O28: =+N28*(SUM(C28:H28)) -> 0
B29: NVC02 - Enlace Dedicado Simétrico Punto de Concentración (incluye equipo) 100 Mbps U.M Fibra Óptica | C29: 0 | D29: 0 | E29: 1 | F29: 0 | G29: 0 | H29: 0 | I29: ='Valores Unitarios'!F18 -> 0 | J29: =I29*(SUM(C29:H29)) -> 0 | K29: ='Valores Unitarios'!J18 -> 0 | L29: =+K29*$C$8 -> 0 | M29: =+K29 -> 0 | N29: =L29+M29 -> 0 | O29: =+N29*(SUM(C29:H29)) -> 0
B30: NVC03 - Redundancia Enlace Dedicado Simétrico Punto de Concentración (incluye equipo) 100 Mbps U.M Fibra Óptica Activo/Pasivo | C30: 0 | D30: 0 | E30: 1 | F30: 0 | G30: 0 | H30: 0 | I30: ='Valores Unitarios'!F19 -> 0 | J30: =I30*(SUM(C30:H30)) -> 0 | K30: ='Valores Unitarios'!J19 -> 0 | L30: =+K30*$C$8 -> 0 | M30: =+K30 -> 0 | N30: =L30+M30 -> 0 | O30: =+N30*(SUM(C30:H30)) -> 0
H32: VALOR TOTAL INSTALACIÓN TODOS LOS SERVICIOS ZONA 2 | J32: =SUM(J13:J30) -> 0 | M32: VALOR TOTAL PRESTACIÓN DE TODOS LOS SERVICIOS ZONA 2 DURANTE TODA LA VIGENCIA | O32: =SUM(O13:O30) -> 0
J34: VALOR TOTAL, ZONA 2 (INSTALACIÓN + PRESTACIÓN DURANTE TODA LA VIGENCIA) DE TODOS LOS SERVICIOS | N34: =+J32+O32 -> 0
B37: Nota 1: El Formato Oferta Económica debe diligenciarse para cada zona ofertada. Este formato cuenta con dos (2) hojas: el Proponente debe diligenciar las columnas F y J de la primera hoja denominada Valores Unitarios ofertados IVA incluido, tanto para la instalación como para la prestación mensual del servicio, dichos valores en ningún caso pueden sobrepasar el valor techo indicado para cada ítem, so pena de rechazo de la propuesta. Nota 2: La segunda hoja, se encuentra bloqueada para su diligenciamiento, pues automáticamente a partir de la información registrada el formato cálcula de manera automática el valor para los servicios que aplique y el valor unitario mensual IVA incluido cuando aplique. Asimismo, el formato obtiene el costo total para cada Zona, los cuales corresponden a la hoja número 2 denominada Cálculo_Valor_Zona, esto teniendo en cuenta que la Entidad tiene claridad de los servicios y cantidades requeridas tanto en la Zona 1 como en la Zona 2. Nota 3: El proponente deberá diligenciar y ofertar en cada ítem de la primera hoja, un número entero como valor en pesos colombianos sin subdivisiones en centavos, en caso de que diligencie uno o varios de los ítems con cualquier otro signo, carácter o símbolo diferente a un número entero o no diligencie ningún valor, será causal de RECHAZO. El proponente podrá ingresar como valor de uno o varios ítems CERO PESOS ($0), en este caso deberá registrar este número, en el evento en que el proponente no registre ninguna información para uno o varios ítems, incurrirá en causal de RECHAZO de la propuesta. Nota 4: De acuerdo a lo establecido en el numeral 21 del artículo 476 del Estatuto Tributario, estará excluido del Impuesto sobre las ventas los servicios de “Suministro de páginas web, servidores (hosting), computación en la nube (cloud computing)” en tal sentido los ítems de los servicios de seguridad estarán excluidos de IVA. Nota 5: Regla de Redondeo: La cual consiste en: Los valores unitarios registrados en la plataforma deberán aproximarse por exceso o por defecto al entero más cercano así: (i) si es superior a 50 centavos, se aproxima al entero siguiente; (ii) si es inferior a 50 centavos se baja al entero anterior y (iii) si es 50 centavos, el oferente deberá aproximarlo al entero superior o al inferior que él decida. En todo caso, si la cifra no está aproximada y aparece con 50 centavos, la SED aproximará al entero superior. Nota 6: Servicios seguridad. Para los servicios de seguridad Internet Dedicado (NVIL43 hasta NVIL51), el valor del servicio mensual no aplicará IVA. No obstante, se precisa que el oferente debe indicar el valor mensual del servicio en las respectivas celdas de la columna J.
B46: ___________________________________________________________________________________
B47: FIRMA REPRESENTANTE LEGAL
B48: Nombre:
B49: CC No.:
B50: NOMBRE DEL PROPONENTE:
