Workbook

Sheet HONDA
B1: Se realizó el análisis comparativo entre los precios actuales del mercado y las tarifas del contrato vigente para la vigencia 2025, ejecutado a través del Acuerdo Marco de Precios.De dicho análisis se identificaron las siguientes situaciones: Incompatibilidad de ítems en mano de obra donde en el componente de mano de obra se identificaron ítems no equivalentes ni comparables, debido a variaciones en la denominación de las actividades y en sus alcances específicos. Desviaciones significativas en precios donde registraron diferencias tarifarias superiores al 30 % respecto a las referencias del Acuerdo Marco. Debido a esta dispersión, dichos ítems no se consideran técnicamente viables ni representativos para sustentar el análisis comparativo del estudio de mercado.
E4: VALOR TECHO 2026 | F4: OFERTA ECONOMICA contrato vigencia 2025 acuerdo marco | M4: Cant de repuestos | N4: VALOR TECHO 2026 | O4: OFERTA ECONOMICA contrato vigencia 2025 acuerdo marco | Q4: diferencial | S4: VALOR TECHO 2026 | T4: OFERTA ECONOMICA contrato vigencia 2025 acuerdo marco | U4: diferencial
A5: N° | B5: DESCRIPCION DEL SERVICIO MANO DE OBRA | C5: und | D5: Cant | E5: PRECIO DE MANO DE OBRA | F5: PRECIO DE MANO DE OBRA | H5: N° | I5: DESCRIPCION DEL REPUESTO | L5: und | N5: XRE300 ABS | O5: 2025 | S5: XR-250 TORNADO | T5: 2025
E6: VALOR CON IVA | F6: VALOR CON IVA | N6: VALOR REPUESTO CON IVA | P6: precios techo | R6: precios tevho | S6: VALOR REPUESTO CON IVA
A7: 1 | B7: CAMBIO ACEITE | C7: ud | D7: 1 | E7: =IFERROR(VLOOKUP(B7,Hoja1!$B$6:$E$202,4,FALSE),"N/A") -> 40743 | F7: =IFERROR(VLOOKUP(B7,'Hoja 3'!E5:G299,3,FALSE),"item no compatible") -> item no compatible | H7: 1 | I7: ACEITE 4T | L7: 1/4GAL | M7: 1 | N7: =IFERROR(VLOOKUP(I7,Hoja1!$I$6:$N$202,6,FALSE),"N/A") -> 52990 | O7: =VLOOKUP(I7,'Hoja 3'!$E$878:$G$1152,3,FALSE) -> 18030.4 | P7: =VLOOKUP(I7, 'Hoja 3'!$E$304:$H$578, 4, FALSE) -> 25906.16 | Q7: =((N7-O7)/N7) -> 0.65973957 | R7: =((N7-P7)/N7) -> 0.51111229 | S7: =IFERROR(VLOOKUP(I7,Hoja1!$I$6:$P$202,8,FALSE),"N/A") -> 52270 | T7: =VLOOKUP(I7,'Hoja 3'!$E$878:$G$1152,3,FALSE) -> 18030.4 | U7: =((S7-T7)/S7) -> 0.65505261
A8: =A7+1 -> 2 | B8: CAMBIO ACEITE HIDRAULICO | C8: ud | D8: 1 | E8: =IFERROR(VLOOKUP(B8,Hoja1!$B$6:$E$202,4,FALSE),"N/A") -> 314958 | F8: =IFERROR(VLOOKUP(B8,'Hoja 3'!E6:G300,3,FALSE),"item no compatible") -> item no compatible | H8: =H7+1 -> 2 | I8: ACEITE HIDRAULICO | L8: 1/4GAL | M8: 1 | N8: =IFERROR(VLOOKUP(I8,Hoja1!$I$6:$N$202,6,FALSE),"N/A") -> 54633 | O8: =VLOOKUP(I8,'Hoja 3'!$E$878:$G$1152,3,FALSE) -> 21826.4 | P8: =VLOOKUP(I8, 'Hoja 3'!$E$304:$H$578, 4, FALSE) -> 31360.09 | Q8: =((N8-O8)/N8) -> 0.60049055 | R8: =((N8-P8)/N8) -> 0.42598631 | S8: =IFERROR(VLOOKUP(I8,Hoja1!$I$6:$P$202,8,FALSE),"N/A") -> 54633 | T8: =VLOOKUP(I8,'Hoja 3'!$E$878:$G$1152,3,FALSE) -> 21826.4 | U8: =((S8-T8)/S8) -> 0.60049055
A9: =A8+1 -> 3 | B9: CAMBIO AMORTIGUADOR DELANTERO | C9: ud | D9: 1 | E9: =IFERROR(VLOOKUP(B9,Hoja1!$B$6:$E$202,4,FALSE),"N/A") -> 314958 | F9: =IFERROR(VLOOKUP(B9,'Hoja 3'!E7:G301,3,FALSE),"item no compatible") -> item no compatible | H9: =H8+1 -> 3 | I9: AMORTIGUADOR DELANTERO | L9: ud. | M9: 1 | N9: =IFERROR(VLOOKUP(I9,Hoja1!$I$6:$N$202,6,FALSE),"N/A") -> 2299419 | O9: =VLOOKUP(I9,'Hoja 3'!$E$878:$G$1152,3,FALSE) -> 1 | P9: =VLOOKUP(I9, 'Hoja 3'!$E$304:$H$578, 4, FALSE) -> 422679.42 | Q9: =((N9-O9)/N9) -> 0.99999957 | R9: =((N9-P9)/N9) -> 0.8161799 | S9: =IFERROR(VLOOKUP(I9,Hoja1!$I$6:$P$202,8,FALSE),"N/A") -> 1255215 | T9: =VLOOKUP(I9,'Hoja 3'!$E$878:$G$1152,3,FALSE) -> 1 | U9: =((S9-T9)/S9) -> 0.9999992
A10: =A9+1 -> 4 | B10: CAMBIO AMORTIGUADOR TRASERO | C10: ud | D10: 1 | E10: =IFERROR(VLOOKUP(B10,Hoja1!$B$6:$E$202,4,FALSE),"N/A") -> 128846.5 | F10: =IFERROR(VLOOKUP(B10,'Hoja 3'!E8:G302,3,FALSE),"item no compatible") -> item no compatible | H10: =H9+1 -> 4 | I10: AMORTIGUADOR TRASERO | L10: ud. | M10: 1 | N10: =IFERROR(VLOOKUP(I10,Hoja1!$I$6:$N$202,6,FALSE),"N/A") -> 2197579.9 | O10: =VLOOKUP(I10,'Hoja 3'!$E$878:$G$1152,3,FALSE) -> 130894.4 | P10: =VLOOKUP(I10, 'Hoja 3'!$E$304:$H$578, 4, FALSE) -> 1158959.7 | Q10: =((N10-O10)/N10) -> 0.94043702 | R10: =((N10-P10)/N10) -> 0.47261998 | S10: =IFERROR(VLOOKUP(I10,Hoja1!$I$6:$P$202,8,FALSE),"N/A") -> 1975267 | T10: =VLOOKUP(I10,'Hoja 3'!$E$878:$G$1152,3,FALSE) -> 130894.4 | U10: =((S10-T10)/S10) -> 0.93373331
A11: =A10+1 -> 5 | B11: CAMBIO ANILLOS | C11: ud | D11: 1 | E11: =IFERROR(VLOOKUP(B11,Hoja1!$B$6:$E$202,4,FALSE),"N/A") -> 701497.5 | F11: =IFERROR(VLOOKUP(B11,'Hoja 3'!E9:G303,3,FALSE),"item no compatible") -> item no compatible | H11: =H10+1 -> 5 | I11: ANILLOS | L11: ud. | M11: 1 | N11: =IFERROR(VLOOKUP(I11,Hoja1!$I$6:$N$202,6,FALSE),"N/A") -> 367776 | O11: =VLOOKUP(I11,'Hoja 3'!$E$878:$G$1152,3,FALSE) -> 57004.8 | P11: =VLOOKUP(I11, 'Hoja 3'!$E$304:$H$578, 4, FALSE) -> 115895.97 | Q11: =((N11-O11)/N11) -> 0.84500131 | R11: =((N11-P11)/N11) -> 0.68487348 | S11: =IFERROR(VLOOKUP(I11,Hoja1!$I$6:$P$202,8,FALSE),"N/A") -> 432102 | T11: =VLOOKUP(I11,'Hoja 3'!$E$878:$G$1152,3,FALSE) -> 57004.8 | U11: =((S11-T11)/S11) -> 0.86807559
A12: =A11+1 -> 6 | B12: CAMBIO ARRANQUE | C12: ud | D12: 1 | E12: =IFERROR(VLOOKUP(B12,Hoja1!$B$6:$E$202,4,FALSE),"N/A") -> 171145 | F12: =IFERROR(VLOOKUP(B12,'Hoja 3'!E10:G304,3,FALSE),"item no compatible") -> item no compatible | H12: =H11+1 -> 6 | I12: ARRANQUE | L12: ud. | M12: 1 | N12: =IFERROR(VLOOKUP(I12,Hoja1!$I$6:$N$202,6,FALSE),"N/A") -> 674923.59 | O12: =VLOOKUP(I12,'Hoja 3'!$E$878:$G$1152,3,FALSE) -> 1 | P12: =VLOOKUP(I12, 'Hoja 3'!$E$304:$H$578, 4, FALSE) -> 1227133.8 | Q12: =((N12-O12)/N12) -> 0.99999852 | R12: =((N12-P12)/N12) -> -0.81818182 | S12: =IFERROR(VLOOKUP(I12,Hoja1!$I$6:$P$202,8,FALSE),"N/A") -> 547073.4 | T12: =VLOOKUP(I12,'Hoja 3'!$E$878:$G$1152,3,FALSE) -> 1 | U12: =((S12-T12)/S12) -> 0.99999817
A13: =A12+1 -> 7 | B13: CAMBIO AUTOMATICO ARRANQUE | C13: ud | D13: 1 | E13: =IFERROR(VLOOKUP(B13,Hoja1!$B$6:$E$202,4,FALSE),"N/A") -> 79950 | F13: =IFERROR(VLOOKUP(B13,'Hoja 3'!E11:G305,3,FALSE),"item no compatible") -> item no compatible | H13: =H12+1 -> 7 | I13: AUTOMATICO ARRANQUE | L13: ud. | M13: 1 | N13: =IFERROR(VLOOKUP(I13,Hoja1!$I$6:$N$202,6,FALSE),"N/A") -> 473456.1 | O13: =VLOOKUP(I13,'Hoja 3'!$E$878:$G$1152,3,FALSE) -> 1 | P13: =VLOOKUP(I13, 'Hoja 3'!$E$304:$H$578, 4, FALSE) -> 102261.15 | Q13: =((N13-O13)/N13) -> 0.99999789 | R13: =((N13-P13)/N13) -> 0.78401134 | S13: =IFERROR(VLOOKUP(I13,Hoja1!$I$6:$P$202,8,FALSE),"N/A") -> 531110.3 | T13: =VLOOKUP(I13,'Hoja 3'!$E$878:$G$1152,3,FALSE) -> 1 | U13: =((S13-T13)/S13) -> 0.99999812
A14: =A13+1 -> 8 | B14: CAMBIO BALANCIN ADMISION | C14: ud | D14: 1 | E14: =IFERROR(VLOOKUP(B14,Hoja1!$B$6:$E$202,4,FALSE),"N/A") -> N/A | F14: =IFERROR(VLOOKUP(B14,'Hoja 3'!E12:G306,3,FALSE),"item no compatible") -> item no compatible | H14: =H13+1 -> 8 | I14: BALANCIN ADMISION | L14: ud. | M14: 1 | N14: =IFERROR(VLOOKUP(I14,Hoja1!$I$6:$N$202,6,FALSE),"N/A") -> N/A | O14: =VLOOKUP(I14,'Hoja 3'!$E$878:$G$1152,3,FALSE) -> 18324.8 | P14: =VLOOKUP(I14, 'Hoja 3'!$E$304:$H$578, 4, FALSE) -> 218157.12 | Q14: N/A | R14: N/A | S14: =IFERROR(VLOOKUP(I14,Hoja1!$I$6:$P$202,8,FALSE),"N/A") -> N/A | T14: =VLOOKUP(I14,'Hoja 3'!$E$878:$G$1152,3,FALSE) -> 18324.8 | U14: N/A
A15: =A14+1 -> 9 | B15: CAMBIO BALANCIN ESCAPE | C15: ud | D15: 1 | E15: =IFERROR(VLOOKUP(B15,Hoja1!$B$6:$E$202,4,FALSE),"N/A") -> N/A | F15: =IFERROR(VLOOKUP(B15,'Hoja 3'!E13:G307,3,FALSE),"item no compatible") -> item no compatible | H15: =H14+1 -> 9 | I15: BALANCIN ESCAPE | L15: ud. | M15: 1 | N15: =IFERROR(VLOOKUP(I15,Hoja1!$I$6:$N$202,6,FALSE),"N/A") -> N/A | O15: =VLOOKUP(I15,'Hoja 3'!$E$878:$G$1152,3,FALSE) -> 18456 | P15: =VLOOKUP(I15, 'Hoja 3'!$E$304:$H$578, 4, FALSE) -> 224974.53 | Q15: N/A | R15: N/A | S15: =IFERROR(VLOOKUP(I15,Hoja1!$I$6:$P$202,8,FALSE),"N/A") -> N/A | T15: =VLOOKUP(I15,'Hoja 3'!$E$878:$G$1152,3,FALSE) -> 18456 | U15: N/A
A16: =A15+1 -> 10 | B16: CAMBIO BANDAS FRENO TRASERO | C16: ud | D16: 1 | E16: =IFERROR(VLOOKUP(B16,Hoja1!$B$6:$E$202,4,FALSE),"N/A") -> 42949.5 | F16: =IFERROR(VLOOKUP(B16,'Hoja 3'!E14:G308,3,FALSE),"item no compatible") -> item no compatible | H16: =H15+1 -> 10 | I16: BANDAS FRENO TRASERO | L16: ud. | M16: 1 | N16: =IFERROR(VLOOKUP(I16,Hoja1!$I$6:$N$202,6,FALSE),"N/A") -> N/A | O16: =VLOOKUP(I16,'Hoja 3'!$E$878:$G$1152,3,FALSE) -> 1 | P16: =VLOOKUP(I16, 'Hoja 3'!$E$304:$H$578, 4, FALSE) -> 65447.14 | Q16: N/A | R16: N/A | S16: =IFERROR(VLOOKUP(I16,Hoja1!$I$6:$P$202,8,FALSE),"N/A") -> 166145 | T16: =VLOOKUP(I16,'Hoja 3'!$E$878:$G$1152,3,FALSE) -> 1 | U16: N/A
A17: =A16+1 -> 11 | B17: CAMBIO BASE ESPEJO IZQUIERDO COMPLETO | C17: ud | D17: 1 | E17: =IFERROR(VLOOKUP(B17,Hoja1!$B$6:$E$202,4,FALSE),"N/A") -> 21233.352 | F17: =IFERROR(VLOOKUP(B17,'Hoja 3'!E15:G309,3,FALSE),"item no compatible") -> item no compatible | H17: =H16+1 -> 11 | I17: BASE ESPEJO IZQUIERDO COMPLETO | L17: ud. | M17: 1 | N17: =IFERROR(VLOOKUP(I17,Hoja1!$I$6:$N$202,6,FALSE),"N/A") -> 80177 | O17: =VLOOKUP(I17,'Hoja 3'!$E$878:$G$1152,3,FALSE) -> 8726.4 | P17: =VLOOKUP(I17, 'Hoja 3'!$E$304:$H$578, 4, FALSE) -> 70901.06 | Q17: =((N17-O17)/N17) -> 0.89116081 | R17: =((N17-P17)/N17) -> 0.11569328 | S17: =IFERROR(VLOOKUP(I17,Hoja1!$I$6:$P$202,8,FALSE),"N/A") -> 135868.25 | T17: =VLOOKUP(I17,'Hoja 3'!$E$878:$G$1152,3,FALSE) -> 8726.4 | U17: =((S17-T17)/S17) -> 0.93577307
A18: =A17+1 -> 12 | B18: CAMBIO BASE MALETERO | C18: ud | D18: 1 | E18: =IFERROR(VLOOKUP(B18,Hoja1!$B$6:$E$202,4,FALSE),"N/A") -> 33312.5 | F18: =IFERROR(VLOOKUP(B18,'Hoja 3'!E16:G310,3,FALSE),"item no compatible") -> item no compatible | H18: =H17+1 -> 12 | I18: BASE MALETERO | L18: ud. | M18: 1 | N18: =IFERROR(VLOOKUP(I18,Hoja1!$I$6:$N$202,6,FALSE),"N/A") -> 227361 | O18: =VLOOKUP(I18,'Hoja 3'!$E$878:$G$1152,3,FALSE) -> 47612.8 | P18: =VLOOKUP(I18, 'Hoja 3'!$E$304:$H$578, 4, FALSE) -> 61356.69 | Q18: N/A | R18: N/A | S18: =IFERROR(VLOOKUP(I18,Hoja1!$I$6:$P$202,8,FALSE),"N/A") -> 217475 | T18: =VLOOKUP(I18,'Hoja 3'!$E$878:$G$1152,3,FALSE) -> 47612.8 | U18: N/A
A19: =A18+1 -> 13 | B19: CAMBIO BATERIA | C19: ud | D19: 1 | E19: =IFERROR(VLOOKUP(B19,Hoja1!$B$6:$E$202,4,FALSE),"N/A") -> 13325 | F19: =IFERROR(VLOOKUP(B19,'Hoja 3'!E17:G311,3,FALSE),"item no compatible") -> item no compatible | H19: =H18+1 -> 13 | I19: BATERIA | L19: ud. | M19: 1 | N19: =IFERROR(VLOOKUP(I19,Hoja1!$I$6:$N$202,6,FALSE),"N/A") -> 190654 | O19: =VLOOKUP(I19,'Hoja 3'!$E$878:$G$1152,3,FALSE) -> 113878.4 | P19: =VLOOKUP(I19, 'Hoja 3'!$E$304:$H$578, 4, FALSE) -> 197704.89 | Q19: =((N19-O19)/N19) -> 0.40269598 | R19: =((N19-P19)/N19) -> -0.036982649 | S19: =IFERROR(VLOOKUP(I19,Hoja1!$I$6:$P$202,8,FALSE),"N/A") -> 179498 | T19: =VLOOKUP(I19,'Hoja 3'!$E$878:$G$1152,3,FALSE) -> 113878.4 | U19: =((S19-T19)/S19) -> 0.36557288
A20: =A19+1 -> 14 | B20: CAMBIO BIELA | C20: ud | D20: 1 | E20: =IFERROR(VLOOKUP(B20,Hoja1!$B$6:$E$202,4,FALSE),"N/A") -> 435299.61 | F20: =IFERROR(VLOOKUP(B20,'Hoja 3'!E18:G312,3,FALSE),"item no compatible") -> item no compatible | H20: =H19+1 -> 14 | I20: BIELA | L20: ud. | M20: 1 | N20: =IFERROR(VLOOKUP(I20,Hoja1!$I$6:$N$202,6,FALSE),"N/A") -> 705602 | O20: =VLOOKUP(I20,'Hoja 3'!$E$878:$G$1152,3,FALSE) -> 42540.8 | P20: =VLOOKUP(I20, 'Hoja 3'!$E$304:$H$578, 4, FALSE) -> 204522.3 | Q20: N/A | R20: N/A | S20: =IFERROR(VLOOKUP(I20,Hoja1!$I$6:$P$202,8,FALSE),"N/A") -> 674924 | T20: =VLOOKUP(I20,'Hoja 3'!$E$878:$G$1152,3,FALSE) -> 42540.8 | U20: N/A
A21: =A20+1 -> 15 | B21: CAMBIO BOBINA DE ALTA | C21: ud | D21: 1 | E21: =IFERROR(VLOOKUP(B21,Hoja1!$B$6:$E$202,4,FALSE),"N/A") -> 159900 | F21: =IFERROR(VLOOKUP(B21,'Hoja 3'!E19:G313,3,FALSE),"item no compatible") -> item no compatible | H21: =H20+1 -> 15 | I21: BOBINA DE ALTA | L21: ud. | M21: 1 | N21: =IFERROR(VLOOKUP(I21,Hoja1!$I$6:$N$202,6,FALSE),"N/A") -> 478354 | O21: =VLOOKUP(I21,'Hoja 3'!$E$878:$G$1152,3,FALSE) -> 1 | P21: =VLOOKUP(I21, 'Hoja 3'!$E$304:$H$578, 4, FALSE) -> 24542.68 | Q21: =((N21-O21)/N21) -> 0.99999791 | R21: =((N21-P21)/N21) -> 0.94869348 | S21: =IFERROR(VLOOKUP(I21,Hoja1!$I$6:$P$202,8,FALSE),"N/A") -> 472161.95 | T21: =VLOOKUP(I21,'Hoja 3'!$E$878:$G$1152,3,FALSE) -> 1 | U21: =((S21-T21)/S21) -> 0.99999788
A22: =A21+1 -> 16 | B22: CAMBIO BOBINA DE CARGA | C22: ud | D22: 1 | E22: =IFERROR(VLOOKUP(B22,Hoja1!$B$6:$E$202,4,FALSE),"N/A") -> 149068 | F22: =IFERROR(VLOOKUP(B22,'Hoja 3'!E20:G314,3,FALSE),"item no compatible") -> item no compatible | H22: =H21+1 -> 16 | I22: BOBINA DE CARGA | L22: ud. | M22: 1 | N22: =IFERROR(VLOOKUP(I22,Hoja1!$I$6:$N$202,6,FALSE),"N/A") -> 1817759 | O22: =VLOOKUP(I22,'Hoja 3'!$E$878:$G$1152,3,FALSE) -> 78536.8 | P22: =VLOOKUP(I22, 'Hoja 3'!$E$304:$H$578, 4, FALSE) -> 2045223 | Q22: =((N22-O22)/N22) -> 0.95679471 | R22: =((N22-P22)/N22) -> -0.1251343 | S22: =IFERROR(VLOOKUP(I22,Hoja1!$I$6:$P$202,8,FALSE),"N/A") -> 1317987 | T22: =VLOOKUP(I22,'Hoja 3'!$E$878:$G$1152,3,FALSE) -> 78536.8 | U22: =((S22-T22)/S22) -> 0.94041155
A23: =A22+1 -> 17 | B23: CAMBIO BOMBA ACEITE | C23: ud | D23: 1 | E23: =IFERROR(VLOOKUP(B23,Hoja1!$B$6:$E$202,4,FALSE),"N/A") -> 227070 | F23: =IFERROR(VLOOKUP(B23,'Hoja 3'!E21:G315,3,FALSE),"item no compatible") -> item no compatible | H23: =H22+1 -> 17 | I23: BOMBA ACEITE | L23: ud. | M23: 1 | N23: =IFERROR(VLOOKUP(I23,Hoja1!$I$6:$N$202,6,FALSE),"N/A") -> 421165 | O23: =VLOOKUP(I23,'Hoja 3'!$E$878:$G$1152,3,FALSE) -> 21379.2 | P23: =VLOOKUP(I23, 'Hoja 3'!$E$304:$H$578, 4, FALSE) -> 179979.62 | Q23: =((N23-O23)/N23) -> 0.94923795 | R23: =((N23-P23)/N23) -> 0.57266245 | S23: =IFERROR(VLOOKUP(I23,Hoja1!$I$6:$P$202,8,FALSE),"N/A") -> 413693 | T23: =VLOOKUP(I23,'Hoja 3'!$E$878:$G$1152,3,FALSE) -> 21379.2 | U23: =((S23-T23)/S23) -> 0.9483211
A24: =A23+1 -> 18 | B24: CAMBIO BOMBA FRENO DELANTERO CON DEPOSITO | C24: ud | D24: 1 | E24: =IFERROR(VLOOKUP(B24,Hoja1!$B$6:$E$202,4,FALSE),"N/A") -> 178292 | F24: =IFERROR(VLOOKUP(B24,'Hoja 3'!E22:G316,3,FALSE),"item no compatible") -> item no compatible | H24: =H23+1 -> 18 | I24: BOMBA FRENO DELANTERO CON DEPOSITO | L24: ud. | M24: 1 | N24: =IFERROR(VLOOKUP(I24,Hoja1!$I$6:$N$202,6,FALSE),"N/A") -> 1146824 | O24: =VLOOKUP(I24,'Hoja 3'!$E$878:$G$1152,3,FALSE) -> 13089.6 | P24: =VLOOKUP(I24, 'Hoja 3'!$E$304:$H$578, 4, FALSE) -> 804454.38 | Q24: =((N24-O24)/N24) -> 0.98858622 | R24: =((N24-P24)/N24) -> 0.29853719 | S24: =IFERROR(VLOOKUP(I24,Hoja1!$I$6:$P$202,8,FALSE),"N/A") -> N/A | T24: =VLOOKUP(I24,'Hoja 3'!$E$878:$G$1152,3,FALSE) -> 13089.6 | U24: N/A
A25: =A24+1 -> 19 | B25: CAMBIO BOMBA FRENO TRASERO CON DEPOSITO | C25: ud | D25: 1 | E25: =IFERROR(VLOOKUP(B25,Hoja1!$B$6:$E$202,4,FALSE),"N/A") -> 199875 | F25: =IFERROR(VLOOKUP(B25,'Hoja 3'!E23:G317,3,FALSE),"item no compatible") -> item no compatible | H25: =H24+1 -> 19 | I25: BOMBA FRENO TRASERO CON DEPOSITO | L25: ud. | M25: 1 | N25: =IFERROR(VLOOKUP(I25,Hoja1!$I$6:$N$202,6,FALSE),"N/A") -> 613089 | O25: =VLOOKUP(I25,'Hoja 3'!$E$878:$G$1152,3,FALSE) -> 61084 | P25: =VLOOKUP(I25, 'Hoja 3'!$E$304:$H$578, 4, FALSE) -> 409044.6 | Q25: =((N25-O25)/N25) -> 0.90036683 | R25: =((N25-P25)/N25) -> 0.33281367 | S25: =IFERROR(VLOOKUP(I25,Hoja1!$I$6:$P$202,8,FALSE),"N/A") -> 501232 | T25: =VLOOKUP(I25,'Hoja 3'!$E$878:$G$1152,3,FALSE) -> 61084 | U25: =((S25-T25)/S25) -> 0.87813228
A26: =A25+1 -> 20 | B26: CAMBIO BOMBILLO DIRECCIONAL | C26: ud | D26: 1 | E26: =IFERROR(VLOOKUP(B26,Hoja1!$B$6:$E$202,4,FALSE),"N/A") -> 59962.5 | F26: =IFERROR(VLOOKUP(B26,'Hoja 3'!E24:G318,3,FALSE),"item no compatible") -> item no compatible | H26: =H25+1 -> 20 | I26: BOMBILLO DIRECCIONAL | L26: ud. | M26: 1 | N26: =IFERROR(VLOOKUP(I26,Hoja1!$I$6:$N$202,6,FALSE),"N/A") -> N/A | O26: =VLOOKUP(I26,'Hoja 3'!$E$878:$G$1152,3,FALSE) -> 5039.2 | P26: =VLOOKUP(I26, 'Hoja 3'!$E$304:$H$578, 4, FALSE) -> 10907.86 | Q26: N/A | R26: N/A | S26: =IFERROR(VLOOKUP(I26,Hoja1!$I$6:$P$202,8,FALSE),"N/A") -> 6036 | T26: =VLOOKUP(I26,'Hoja 3'!$E$878:$G$1152,3,FALSE) -> 5039.2 | U26: N/A
A27: =A26+1 -> 21 | B27: CAMBIO BOMBILLO FAROLA | C27: ud | D27: 1 | E27: =IFERROR(VLOOKUP(B27,Hoja1!$B$6:$E$202,4,FALSE),"N/A") -> 69386 | F27: =IFERROR(VLOOKUP(B27,'Hoja 3'!E25:G319,3,FALSE),"item no compatible") -> item no compatible | H27: =H26+1 -> 21 | I27: BOMBILLO FAROLA | L27: ud. | M27: 1 | N27: =IFERROR(VLOOKUP(I27,Hoja1!$I$6:$N$202,6,FALSE),"N/A") -> N/A | O27: =VLOOKUP(I27,'Hoja 3'!$E$878:$G$1152,3,FALSE) -> 9599.2 | P27: =VLOOKUP(I27, 'Hoja 3'!$E$304:$H$578, 4, FALSE) -> 47721.87 | Q27: N/A | R27: N/A | S27: =IFERROR(VLOOKUP(I27,Hoja1!$I$6:$P$202,8,FALSE),"N/A") -> 38229.5 | T27: =VLOOKUP(I27,'Hoja 3'!$E$878:$G$1152,3,FALSE) -> 9599.2 | U27: N/A
A28: =A27+1 -> 22 | B28: CAMBIO BOMBILLO PORTA PLACA | C28: ud | D28: 1 | E28: =IFERROR(VLOOKUP(B28,Hoja1!$B$6:$E$202,4,FALSE),"N/A") -> 38607 | F28: =IFERROR(VLOOKUP(B28,'Hoja 3'!E26:G320,3,FALSE),"item no compatible") -> item no compatible | H28: =H27+1 -> 22 | I28: BOMBILLO PORTA PLACA | L28: ud. | M28: 1 | N28: =IFERROR(VLOOKUP(I28,Hoja1!$I$6:$N$202,6,FALSE),"N/A") -> 16414 | O28: =VLOOKUP(I28,'Hoja 3'!$E$878:$G$1152,3,FALSE) -> 2400 | P28: =VLOOKUP(I28, 'Hoja 3'!$E$304:$H$578, 4, FALSE) -> 8863.27 | Q28: =((N28-O28)/N28) -> 0.85378336 | R28: =((N28-P28)/N28) -> 0.46001767 | S28: =IFERROR(VLOOKUP(I28,Hoja1!$I$6:$P$202,8,FALSE),"N/A") -> N/A | T28: =VLOOKUP(I28,'Hoja 3'!$E$878:$G$1152,3,FALSE) -> 2400 | U28: N/A
A29: =A28+1 -> 23 | B29: CAMBIO BOMBILLO STOP | C29: ud | D29: 1 | E29: =IFERROR(VLOOKUP(B29,Hoja1!$B$6:$E$202,4,FALSE),"N/A") -> 38607 | F29: =IFERROR(VLOOKUP(B29,'Hoja 3'!E27:G321,3,FALSE),"item no compatible") -> item no compatible | H29: =H28+1 -> 23 | I29: BOMBILLO STOP | L29: ud. | M29: 1 | N29: =IFERROR(VLOOKUP(I29,Hoja1!$I$6:$N$202,6,FALSE),"N/A") -> N/A | O29: =VLOOKUP(I29,'Hoja 3'!$E$878:$G$1152,3,FALSE) -> 916 | P29: =VLOOKUP(I29, 'Hoja 3'!$E$304:$H$578, 4, FALSE) -> 12271.34 | Q29: N/A | R29: N/A | S29: =IFERROR(VLOOKUP(I29,Hoja1!$I$6:$P$202,8,FALSE),"N/A") -> 15547 | T29: =VLOOKUP(I29,'Hoja 3'!$E$878:$G$1152,3,FALSE) -> 916 | U29: N/A
A30: =A29+1 -> 24 | B30: CAMBIO BRAZO TENSOR MECANICO | C30: ud | D30: 1 | E30: =IFERROR(VLOOKUP(B30,Hoja1!$B$6:$E$202,4,FALSE),"N/A") -> 95553.259 | F30: =IFERROR(VLOOKUP(B30,'Hoja 3'!E28:G322,3,FALSE),"item no compatible") -> item no compatible | H30: =H29+1 -> 24 | I30: BRAZO TENSOR MECANICO | L30: ud. | M30: 1 | N30: =IFERROR(VLOOKUP(I30,Hoja1!$I$6:$N$202,6,FALSE),"N/A") -> 294278 | O30: =VLOOKUP(I30,'Hoja 3'!$E$878:$G$1152,3,FALSE) -> 16361.6 | P30: =VLOOKUP(I30, 'Hoja 3'!$E$304:$H$578, 4, FALSE) -> 61356.69 | Q30: =((N30-O30)/N30) -> 0.94440087 | R30: =((N30-P30)/N30) -> 0.79150093 | S30: =IFERROR(VLOOKUP(I30,Hoja1!$I$6:$P$202,8,FALSE),"N/A") -> 318281.51 | T30: =VLOOKUP(I30,'Hoja 3'!$E$878:$G$1152,3,FALSE) -> 16361.6 | U30: =((S30-T30)/S30) -> 0.94859394
A31: =A30+1 -> 25 | B31: CAMBIO BUJE SEPARADOR RODAMIENTO RUEDA TRASERA | C31: ud | D31: 1 | E31: =IFERROR(VLOOKUP(B31,Hoja1!$B$6:$E$202,4,FALSE),"N/A") -> 125957 | F31: =IFERROR(VLOOKUP(B31,'Hoja 3'!E29:G323,3,FALSE),"item no compatible") -> item no compatible | H31: =H30+1 -> 25 | I31: BUJE SEPARADOR RODAMIENTO RUEDA TRASERA | L31: ud. | M31: 1 | N31: =IFERROR(VLOOKUP(I31,Hoja1!$I$6:$N$202,6,FALSE),"N/A") -> 86563 | O31: =VLOOKUP(I31,'Hoja 3'!$E$878:$G$1152,3,FALSE) -> 11110.4 | P31: =VLOOKUP(I31, 'Hoja 3'!$E$304:$H$578, 4, FALSE) -> 16361.78 | Q31: =((N31-O31)/N31) -> 0.87164955 | R31: =((N31-P31)/N31) -> 0.81098414 | S31: =IFERROR(VLOOKUP(I31,Hoja1!$I$6:$P$202,8,FALSE),"N/A") -> 19363.8 | T31: =VLOOKUP(I31,'Hoja 3'!$E$878:$G$1152,3,FALSE) -> 11110.4 | U31: =((S31-T31)/S31) -> 0.42622832
A32: =A31+1 -> 26 | B32: CAMBIO BUJES BALANCIN SUSPENSION TRASERA | C32: ud | D32: 1 | E32: =IFERROR(VLOOKUP(B32,Hoja1!$B$6:$E$202,4,FALSE),"N/A") -> 163224 | F32: =IFERROR(VLOOKUP(B32,'Hoja 3'!E30:G324,3,FALSE),"item no compatible") -> item no compatible | H32: =H31+1 -> 26 | I32: BUJES BALANCIN SUSPENSION TRASERA | L32: ud. | M32: 1 | N32: =IFERROR(VLOOKUP(I32,Hoja1!$I$6:$N$202,6,FALSE),"N/A") -> 40278.7 | O32: =VLOOKUP(I32,'Hoja 3'!$E$878:$G$1152,3,FALSE) -> 19044.8 | P32: =VLOOKUP(I32, 'Hoja 3'!$E$304:$H$578, 4, FALSE) -> 31360.09 | Q32: =((N32-O32)/N32) -> 0.52717441 | R32: =((N32-P32)/N32) -> 0.22142249 | S32: =IFERROR(VLOOKUP(I32,Hoja1!$I$6:$P$202,8,FALSE),"N/A") -> 73672.35 | T32: =VLOOKUP(I32,'Hoja 3'!$E$878:$G$1152,3,FALSE) -> 19044.8 | U32: =((S32-T32)/S32) -> 0.74149325
A33: =A32+1 -> 27 | B33: CAMBIO BUJES MONO BRAZO COMPLETO | C33: ud | D33: 1 | E33: =IFERROR(VLOOKUP(B33,Hoja1!$B$6:$E$202,4,FALSE),"N/A") -> 159900 | F33: =IFERROR(VLOOKUP(B33,'Hoja 3'!E31:G325,3,FALSE),"item no compatible") -> item no compatible | H33: =H32+1 -> 27 | I33: BUJES MONO BRAZO COMPLETO | L33: ud. | M33: 1 | N33: =IFERROR(VLOOKUP(I33,Hoja1!$I$6:$N$202,6,FALSE),"N/A") -> 113390 | O33: =VLOOKUP(I33,'Hoja 3'!$E$878:$G$1152,3,FALSE) -> 1 | P33: =VLOOKUP(I33, 'Hoja 3'!$E$304:$H$578, 4, FALSE) -> 245426.76 | Q33: =((N33-O33)/N33) -> 0.99999118 | R33: =((N33-P33)/N33) -> -1.164448 | S33: =IFERROR(VLOOKUP(I33,Hoja1!$I$6:$P$202,8,FALSE),"N/A") -> 113390 | T33: =VLOOKUP(I33,'Hoja 3'!$E$878:$G$1152,3,FALSE) -> 1 | U33: =((S33-T33)/S33) -> 0.99999118
A34: =A33+1 -> 28 | B34: CAMBIO BUJES SUSPENSION TRASERA | C34: ud | D34: 1 | E34: =IFERROR(VLOOKUP(B34,Hoja1!$B$6:$E$202,4,FALSE),"N/A") -> 159685 | F34: =IFERROR(VLOOKUP(B34,'Hoja 3'!E32:G326,3,FALSE),"item no compatible") -> item no compatible | H34: =H33+1 -> 28 | I34: BUJES SUSPENSION TRASERA | L34: ud. | M34: 1 | N34: =IFERROR(VLOOKUP(I34,Hoja1!$I$6:$N$202,6,FALSE),"N/A") -> 191880 | O34: =VLOOKUP(I34,'Hoja 3'!$E$878:$G$1152,3,FALSE) -> 70900.8 | P34: =VLOOKUP(I34, 'Hoja 3'!$E$304:$H$578, 4, FALSE) -> 245426.76 | Q34: =((N34-O34)/N34) -> 0.63049406 | R34: =((N34-P34)/N34) -> -0.27906379 | S34: =IFERROR(VLOOKUP(I34,Hoja1!$I$6:$P$202,8,FALSE),"N/A") -> 191880 | T34: =VLOOKUP(I34,'Hoja 3'!$E$878:$G$1152,3,FALSE) -> 70900.8 | U34: =((S34-T34)/S34) -> 0.63049406
A35: =A34+1 -> 29 | B35: CAMBIO BUJES TIJERA COMPLETO | C35: ud | D35: 1 | E35: =IFERROR(VLOOKUP(B35,Hoja1!$B$6:$E$202,4,FALSE),"N/A") -> 163224 | F35: =IFERROR(VLOOKUP(B35,'Hoja 3'!E33:G327,3,FALSE),"item no compatible") -> item no compatible | H35: =H34+1 -> 29 | I35: BUJES TIJERA COMPLETO | L35: ud. | M35: 1 | N35: =IFERROR(VLOOKUP(I35,Hoja1!$I$6:$N$202,6,FALSE),"N/A") -> 158566.98 | O35: =VLOOKUP(I35,'Hoja 3'!$E$878:$G$1152,3,FALSE) -> 69810.4 | P35: =VLOOKUP(I35, 'Hoja 3'!$E$304:$H$578, 4, FALSE) -> 272696.4 | Q35: =((N35-O35)/N35) -> 0.55974188 | R35: =((N35-P35)/N35) -> -0.71975528 | S35: =IFERROR(VLOOKUP(I35,Hoja1!$I$6:$P$202,8,FALSE),"N/A") -> 151672.76 | T35: =VLOOKUP(I35,'Hoja 3'!$E$878:$G$1152,3,FALSE) -> 69810.4 | U35: =((S35-T35)/S35) -> 0.53973015
A36: =A35+1 -> 30 | B36: CAMBIO BUJIA | C36: ud | D36: 1 | E36: =IFERROR(VLOOKUP(B36,Hoja1!$B$6:$E$202,4,FALSE),"N/A") -> 13325 | F36: =IFERROR(VLOOKUP(B36,'Hoja 3'!E34:G328,3,FALSE),"item no compatible") -> item no compatible | H36: =H35+1 -> 30 | I36: BUJIA | L36: ud. | M36: 1 | N36: =IFERROR(VLOOKUP(I36,Hoja1!$I$6:$N$202,6,FALSE),"N/A") -> 411654 | O36: =VLOOKUP(I36,'Hoja 3'!$E$878:$G$1152,3,FALSE) -> 8464.8 | P36: =VLOOKUP(I36, 'Hoja 3'!$E$304:$H$578, 4, FALSE) -> 10907.86 | Q36: =((N36-O36)/N36) -> 0.9794371 | R36: =((N36-P36)/N36) -> 0.97350236 | S36: =IFERROR(VLOOKUP(I36,Hoja1!$I$6:$P$202,8,FALSE),"N/A") -> 97336.7 | T36: =VLOOKUP(I36,'Hoja 3'!$E$878:$G$1152,3,FALSE) -> 8464.8 | U36: =((S36-T36)/S36) -> 0.91303588
A37: =A36+1 -> 31 | B37: CAMBIO CABLE POSITIVO BATERIA | C37: ud | D37: 1 | E37: =IFERROR(VLOOKUP(B37,Hoja1!$B$6:$E$202,4,FALSE),"N/A") -> 13325 | F37: =IFERROR(VLOOKUP(B37,'Hoja 3'!E35:G329,3,FALSE),"item no compatible") -> item no compatible | H37: =H36+1 -> 31 | I37: CABLE POSITIVO BATERIA | L37: ud. | M37: 1 | N37: =IFERROR(VLOOKUP(I37,Hoja1!$I$6:$N$202,6,FALSE),"N/A") -> N/A | O37: =VLOOKUP(I37,'Hoja 3'!$E$878:$G$1152,3,FALSE) -> 9816.8 | P37: =VLOOKUP(I37, 'Hoja 3'!$E$304:$H$578, 4, FALSE) -> 65447.14 | Q37: N/A | R37: N/A | S37: =IFERROR(VLOOKUP(I37,Hoja1!$I$6:$P$202,8,FALSE),"N/A") -> 21718.35 | T37: =VLOOKUP(I37,'Hoja 3'!$E$878:$G$1152,3,FALSE) -> 9816.8 | U37: N/A
A38: =A37+1 -> 32 | B38: CAMBIO CADENILLA REPARTICION | C38: ud | D38: 1 | E38: =IFERROR(VLOOKUP(B38,Hoja1!$B$6:$E$202,4,FALSE),"N/A") -> 258555 | F38: =IFERROR(VLOOKUP(B38,'Hoja 3'!E36:G330,3,FALSE),"item no compatible") -> item no compatible | H38: =H37+1 -> 32 | I38: CADENILLA REPARTICION | L38: ud. | M38: 1 | N38: =IFERROR(VLOOKUP(I38,Hoja1!$I$6:$N$202,6,FALSE),"N/A") -> 403662 | O38: =VLOOKUP(I38,'Hoja 3'!$E$878:$G$1152,3,FALSE) -> 50176 | P38: =VLOOKUP(I38, 'Hoja 3'!$E$304:$H$578, 4, FALSE) -> 327235.68 | Q38: =((N38-O38)/N38) -> 0.87569798 | R38: =((N38-P38)/N38) -> 0.18933246 | S38: =IFERROR(VLOOKUP(I38,Hoja1!$I$6:$P$202,8,FALSE),"N/A") -> 398047 | T38: =VLOOKUP(I38,'Hoja 3'!$E$878:$G$1152,3,FALSE) -> 50176 | U38: =((S38-T38)/S38) -> 0.87394453
A39: =A38+1 -> 33 | B39: CAMBIO CAJA COMPLETA FILTRO DE AIRE | C39: ud | D39: 1 | E39: =IFERROR(VLOOKUP(B39,Hoja1!$B$6:$E$202,4,FALSE),"N/A") -> 26021.554 | F39: =IFERROR(VLOOKUP(B39,'Hoja 3'!E37:G331,3,FALSE),"item no compatible") -> item no compatible | H39: =H38+1 -> 33 | I39: CAJA COMPLETA FILTRO DE AIRE | L39: ud. | M39: 1 | N39: =IFERROR(VLOOKUP(I39,Hoja1!$I$6:$N$202,6,FALSE),"N/A") -> 117634 | O39: =VLOOKUP(I39,'Hoja 3'!$E$878:$G$1152,3,FALSE) -> 12762.4 | P39: =VLOOKUP(I39, 'Hoja 3'!$E$304:$H$578, 4, FALSE) -> 654471.36 | Q39: N/A | R39: N/A | S39: =IFERROR(VLOOKUP(I39,Hoja1!$I$6:$P$202,8,FALSE),"N/A") -> 112519 | T39: =VLOOKUP(I39,'Hoja 3'!$E$878:$G$1152,3,FALSE) -> 12762.4 | U39: N/A
A40: =A39+1 -> 34 | B40: CAMBIO CAJA EMBRAGUE COMPLETO | C40: ud | D40: 1 | E40: =IFERROR(VLOOKUP(B40,Hoja1!$B$6:$E$202,4,FALSE),"N/A") -> 192388 | F40: =IFERROR(VLOOKUP(B40,'Hoja 3'!E38:G332,3,FALSE),"item no compatible") -> item no compatible | H40: =H39+1 -> 34 | I40: CAJA EMBRAGUE COMPLETO | L40: ud. | M40: 1 | N40: =IFERROR(VLOOKUP(I40,Hoja1!$I$6:$N$202,6,FALSE),"N/A") -> 183991.5 | O40: =VLOOKUP(I40,'Hoja 3'!$E$878:$G$1152,3,FALSE) -> 1 | P40: =VLOOKUP(I40, 'Hoja 3'!$E$304:$H$578, 4, FALSE) -> 1090785.6 | Q40: =((N40-O40)/N40) -> 0.99999456 | R40: =((N40-P40)/N40) -> -4.9284565 | S40: =IFERROR(VLOOKUP(I40,Hoja1!$I$6:$P$202,8,FALSE),"N/A") -> 168361.5 | T40: =VLOOKUP(I40,'Hoja 3'!$E$878:$G$1152,3,FALSE) -> 1 | U40: =((S40-T40)/S40) -> 0.99999406
A41: =A40+1 -> 35 | B41: CAMBIO CAJA PIÑON VELOCIMETRO | C41: ud | D41: 1 | E41: =IFERROR(VLOOKUP(B41,Hoja1!$B$6:$E$202,4,FALSE),"N/A") -> 57911.022 | F41: =IFERROR(VLOOKUP(B41,'Hoja 3'!E39:G333,3,FALSE),"item no compatible") -> item no compatible | H41: =H40+1 -> 35 | I41: CAJA PIÑON VELOCIMETRO | L41: ud. | M41: 1 | N41: =IFERROR(VLOOKUP(I41,Hoja1!$I$6:$N$202,6,FALSE),"N/A") -> N/A | O41: =VLOOKUP(I41,'Hoja 3'!$E$878:$G$1152,3,FALSE) -> 1 | P41: =VLOOKUP(I41, 'Hoja 3'!$E$304:$H$578, 4, FALSE) -> 554937.17 | Q41: N/A | R41: N/A | S41: =IFERROR(VLOOKUP(I41,Hoja1!$I$6:$P$202,8,FALSE),"N/A") -> 464157 | T41: =VLOOKUP(I41,'Hoja 3'!$E$878:$G$1152,3,FALSE) -> 1 | U41: N/A
A42: =A41+1 -> 36 | B42: CAMBIO CALIPER FRENO DELANTERO | C42: ud | D42: 1 | E42: =IFERROR(VLOOKUP(B42,Hoja1!$B$6:$E$202,4,FALSE),"N/A") -> 163224 | F42: =IFERROR(VLOOKUP(B42,'Hoja 3'!E40:G334,3,FALSE),"item no compatible") -> item no compatible | H42: =H41+1 -> 36 | I42: CALIPER FRENO DELANTERO | L42: ud. | M42: 1 | N42: =IFERROR(VLOOKUP(I42,Hoja1!$I$6:$N$202,6,FALSE),"N/A") -> 803842 | O42: =VLOOKUP(I42,'Hoja 3'!$E$878:$G$1152,3,FALSE) -> 50176 | P42: =VLOOKUP(I42, 'Hoja 3'!$E$304:$H$578, 4, FALSE) -> 559027.62 | Q42: =((N42-O42)/N42) -> 0.93757977 | R42: =((N42-P42)/N42) -> 0.30455535 | S42: =IFERROR(VLOOKUP(I42,Hoja1!$I$6:$P$202,8,FALSE),"N/A") -> 913030 | T42: =VLOOKUP(I42,'Hoja 3'!$E$878:$G$1152,3,FALSE) -> 50176 | U42: =((S42-T42)/S42) -> 0.94504452
A43: =A42+1 -> 37 | B43: CAMBIO CALIPER FRENO TRASERO | C43: ud | D43: 1 | E43: =IFERROR(VLOOKUP(B43,Hoja1!$B$6:$E$202,4,FALSE),"N/A") -> 159685 | F43: =IFERROR(VLOOKUP(B43,'Hoja 3'!E41:G335,3,FALSE),"item no compatible") -> item no compatible | H43: =H42+1 -> 37 | I43: CALIPER FRENO TRASERO | L43: ud. | M43: 1 | N43: =IFERROR(VLOOKUP(I43,Hoja1!$I$6:$N$202,6,FALSE),"N/A") -> 840105 | O43: =VLOOKUP(I43,'Hoja 3'!$E$878:$G$1152,3,FALSE) -> 30105.6 | P43: =VLOOKUP(I43, 'Hoja 3'!$E$304:$H$578, 4, FALSE) -> 613566.9 | Q43: =((N43-O43)/N43) -> 0.96416448 | R43: =((N43-P43)/N43) -> 0.26965451 | S43: =IFERROR(VLOOKUP(I43,Hoja1!$I$6:$P$202,8,FALSE),"N/A") -> N/A | T43: =VLOOKUP(I43,'Hoja 3'!$E$878:$G$1152,3,FALSE) -> 30105.6 | U43: N/A
A44: =A43+1 -> 38 | B44: CAMBIO CAMPANA TRASERA | C44: ud | D44: 1 | E44: =IFERROR(VLOOKUP(B44,Hoja1!$B$6:$E$202,4,FALSE),"N/A") -> 223781 | F44: =IFERROR(VLOOKUP(B44,'Hoja 3'!E42:G336,3,FALSE),"item no compatible") -> item no compatible | H44: =H43+1 -> 38 | I44: CAMPANA TRASERA | L44: ud. | M44: 1 | N44: =IFERROR(VLOOKUP(I44,Hoja1!$I$6:$N$202,6,FALSE),"N/A") -> 1053586 | O44: =VLOOKUP(I44,'Hoja 3'!$E$878:$G$1152,3,FALSE) -> 78536.8 | P44: =VLOOKUP(I44, 'Hoja 3'!$E$304:$H$578, 4, FALSE) -> 1022611.5 | Q44: =((N44-O44)/N44) -> 0.92545763 | R44: =((N44-P44)/N44) -> 0.029399119 | S44: =IFERROR(VLOOKUP(I44,Hoja1!$I$6:$P$202,8,FALSE),"N/A") -> 936473 | T44: =VLOOKUP(I44,'Hoja 3'!$E$878:$G$1152,3,FALSE) -> 78536.8 | U44: =((S44-T44)/S44) -> 0.91613554
A45: =A44+1 -> 39 | B45: CAMBIO CAÑA ACELERADOR | C45: ud | D45: 1 | E45: =IFERROR(VLOOKUP(B45,Hoja1!$B$6:$E$202,4,FALSE),"N/A") -> 40744 | F45: =IFERROR(VLOOKUP(B45,'Hoja 3'!E43:G337,3,FALSE),"item no compatible") -> item no compatible | H45: =H44+1 -> 39 | I45: CAÑA ACELERADOR | L45: ud. | M45: 1 | N45: =IFERROR(VLOOKUP(I45,Hoja1!$I$6:$N$202,6,FALSE),"N/A") -> 61850 | O45: =VLOOKUP(I45,'Hoja 3'!$E$878:$G$1152,3,FALSE) -> 10471.2 | P45: =VLOOKUP(I45, 'Hoja 3'!$E$304:$H$578, 4, FALSE) -> 73628.03 | Q45: =((N45-O45)/N45) -> 0.83070008 | R45: =((N45-P45)/N45) -> -0.19042894 | S45: =IFERROR(VLOOKUP(I45,Hoja1!$I$6:$P$202,8,FALSE),"N/A") -> 63069.457 | T45: =VLOOKUP(I45,'Hoja 3'!$E$878:$G$1152,3,FALSE) -> 10471.2 | U45: =((S45-T45)/S45) -> 0.83397352
A46: =A45+1 -> 40 | B46: CAMBIO CAPUCHON BUJIA | C46: ud | D46: 1 | E46: =IFERROR(VLOOKUP(B46,Hoja1!$B$6:$E$202,4,FALSE),"N/A") -> 13325 | F46: =IFERROR(VLOOKUP(B46,'Hoja 3'!E44:G338,3,FALSE),"item no compatible") -> item no compatible | H46: =H45+1 -> 40 | I46: CAPUCHON BUJIA | L46: ud. | M46: 1 | N46: =IFERROR(VLOOKUP(I46,Hoja1!$I$6:$N$202,6,FALSE),"N/A") -> 10010 | O46: =VLOOKUP(I46,'Hoja 3'!$E$878:$G$1152,3,FALSE) -> 6872 | P46: =VLOOKUP(I46, 'Hoja 3'!$E$304:$H$578, 4, FALSE) -> 43631.42 | Q46: N/A | R46: N/A | S46: =IFERROR(VLOOKUP(I46,Hoja1!$I$6:$P$202,8,FALSE),"N/A") -> 9574 | T46: =VLOOKUP(I46,'Hoja 3'!$E$878:$G$1152,3,FALSE) -> 6872 | U46: N/A
A47: =A46+1 -> 41 | B47: CAMBIO CASQUETES BIELA | C47: ud | D47: 1 | E47: =IFERROR(VLOOKUP(B47,Hoja1!$B$6:$E$202,4,FALSE),"N/A") -> 318511.4 | F47: =IFERROR(VLOOKUP(B47,'Hoja 3'!E45:G339,3,FALSE),"item no compatible") -> item no compatible | H47: =H46+1 -> 41 | I47: CASQUETES BIELA | L47: ud. | M47: 1 | N47: =IFERROR(VLOOKUP(I47,Hoja1!$I$6:$N$202,6,FALSE),"N/A") -> 179654 | O47: =VLOOKUP(I47,'Hoja 3'!$E$878:$G$1152,3,FALSE) -> 1 | P47: =VLOOKUP(I47, 'Hoja 3'!$E$304:$H$578, 4, FALSE) -> 65447.14 | Q47: N/A | R47: N/A | S47: =IFERROR(VLOOKUP(I47,Hoja1!$I$6:$P$202,8,FALSE),"N/A") -> 171843 | T47: =VLOOKUP(I47,'Hoja 3'!$E$878:$G$1152,3,FALSE) -> 1 | U47: N/A
A48: =A47+1 -> 42 | B48: CAMBIO CATALINA DE CADENA | C48: ud | D48: 1 | E48: =IFERROR(VLOOKUP(B48,Hoja1!$B$6:$E$202,4,FALSE),"N/A") -> 48258.918 | F48: =IFERROR(VLOOKUP(B48,'Hoja 3'!E46:G340,3,FALSE),"item no compatible") -> item no compatible | H48: =H47+1 -> 42 | I48: CATALINA DE CADENA | L48: ud. | M48: 1 | N48: =IFERROR(VLOOKUP(I48,Hoja1!$I$6:$N$202,6,FALSE),"N/A") -> 393431 | O48: =VLOOKUP(I48,'Hoja 3'!$E$878:$G$1152,3,FALSE) -> 1 | P48: =VLOOKUP(I48, 'Hoja 3'!$E$304:$H$578, 4, FALSE) -> 286331.22 | Q48: =((N48-O48)/N48) -> 0.99999746 | R48: =((N48-P48)/N48) -> 0.27221998 | S48: =IFERROR(VLOOKUP(I48,Hoja1!$I$6:$P$202,8,FALSE),"N/A") -> 306752 | T48: =VLOOKUP(I48,'Hoja 3'!$E$878:$G$1152,3,FALSE) -> 1 | U48: =((S48-T48)/S48) -> 0.99999674
A49: =A48+1 -> 43 | B49: CAMBIO CAUCHO CAMPANA | C49: ud | D49: 1 | E49: =IFERROR(VLOOKUP(B49,Hoja1!$B$6:$E$202,4,FALSE),"N/A") -> 46329 | F49: =IFERROR(VLOOKUP(B49,'Hoja 3'!E47:G341,3,FALSE),"item no compatible") -> item no compatible | H49: =H48+1 -> 43 | I49: CAUCHO CAMPANA | L49: ud. | M49: 1 | N49: =IFERROR(VLOOKUP(I49,Hoja1!$I$6:$N$202,6,FALSE),"N/A") -> 164625 | O49: =VLOOKUP(I49,'Hoja 3'!$E$878:$G$1152,3,FALSE) -> 33214.4 | P49: =VLOOKUP(I49, 'Hoja 3'!$E$304:$H$578, 4, FALSE) -> 51812.32 | Q49: =((N49-O49)/N49) -> 0.79824207 | R49: =((N49-P49)/N49) -> 0.68527065 | S49: =IFERROR(VLOOKUP(I49,Hoja1!$I$6:$P$202,8,FALSE),"N/A") -> N/A | T49: =VLOOKUP(I49,'Hoja 3'!$E$878:$G$1152,3,FALSE) -> 33214.4 | U49: N/A
A50: =A49+1 -> 44 | B50: CAMBIO CAUCHO MANGO IZQUIERDO | C50: ud | D50: 1 | E50: =IFERROR(VLOOKUP(B50,Hoja1!$B$6:$E$202,4,FALSE),"N/A") -> 13325 | F50: =IFERROR(VLOOKUP(B50,'Hoja 3'!E48:G342,3,FALSE),"item no compatible") -> item no compatible | H50: =H49+1 -> 44 | I50: CAUCHO MANGO IZQUIERDO | L50: ud. | M50: 1 | N50: =IFERROR(VLOOKUP(I50,Hoja1!$I$6:$N$202,6,FALSE),"N/A") -> 38975.5 | O50: =VLOOKUP(I50,'Hoja 3'!$E$878:$G$1152,3,FALSE) -> 3272 | P50: =VLOOKUP(I50, 'Hoja 3'!$E$304:$H$578, 4, FALSE) -> 40904.46 | Q50: =((N50-O50)/N50) -> 0.91604983 | R50: =((N50-P50)/N50) -> -0.049491604 | S50: =IFERROR(VLOOKUP(I50,Hoja1!$I$6:$P$202,8,FALSE),"N/A") -> 38840.85 | T50: =VLOOKUP(I50,'Hoja 3'!$E$878:$G$1152,3,FALSE) -> 3272 | U50: =((S50-T50)/S50) -> 0.9157588
A51: =A50+1 -> 45 | B51: CAMBIO CAUCHO MANILAR IZQUIERDO | C51: ud | D51: 1 | E51: =IFERROR(VLOOKUP(B51,Hoja1!$B$6:$E$202,4,FALSE),"N/A") -> 13325 | F51: =IFERROR(VLOOKUP(B51,'Hoja 3'!E49:G343,3,FALSE),"item no compatible") -> item no compatible | H51: =H50+1 -> 45 | I51: CAUCHO MANILAR IZQUIERDO | L51: ud. | M51: 1 | N51: =IFERROR(VLOOKUP(I51,Hoja1!$I$6:$N$202,6,FALSE),"N/A") -> 5175.6 | O51: =VLOOKUP(I51,'Hoja 3'!$E$878:$G$1152,3,FALSE) -> 1 | P51: =VLOOKUP(I51, 'Hoja 3'!$E$304:$H$578, 4, FALSE) -> 29996.6 | Q51: =((N51-O51)/N51) -> 0.99980679 | R51: =((N51-P51)/N51) -> -4.7957725 | S51: =IFERROR(VLOOKUP(I51,Hoja1!$I$6:$P$202,8,FALSE),"N/A") -> 5175.6 | T51: =VLOOKUP(I51,'Hoja 3'!$E$878:$G$1152,3,FALSE) -> 1 | U51: =((S51-T51)/S51) -> 0.99980679
A52: =A51+1 -> 46 | B52: CAMBIO CAUCHO MORDAZA | C52: ud | D52: 1 | E52: =IFERROR(VLOOKUP(B52,Hoja1!$B$6:$E$202,4,FALSE),"N/A") -> 19987.5 | F52: =IFERROR(VLOOKUP(B52,'Hoja 3'!E50:G344,3,FALSE),"item no compatible") -> item no compatible | H52: =H51+1 -> 46 | I52: CAUCHO MORDAZA | L52: ud. | M52: 1 | N52: =IFERROR(VLOOKUP(I52,Hoja1!$I$6:$N$202,6,FALSE),"N/A") -> 54288 | O52: =VLOOKUP(I52,'Hoja 3'!$E$878:$G$1152,3,FALSE) -> 4188.8 | P52: =VLOOKUP(I52, 'Hoja 3'!$E$304:$H$578, 4, FALSE) -> 55902.76 | Q52: =((N52-O52)/N52) -> 0.92284114 | R52: =((N52-P52)/N52) -> -0.029744327 | S52: =IFERROR(VLOOKUP(I52,Hoja1!$I$6:$P$202,8,FALSE),"N/A") -> 53720 | T52: =VLOOKUP(I52,'Hoja 3'!$E$878:$G$1152,3,FALSE) -> 4188.8 | U52: =((S52-T52)/S52) -> 0.92202532
A53: =A52+1 -> 47 | B53: CAMBIO CDI UNIDAD ELECTRONICA | C53: ud | D53: 1 | E53: =IFERROR(VLOOKUP(B53,Hoja1!$B$6:$E$202,4,FALSE),"N/A") -> 46637.5 | F53: =IFERROR(VLOOKUP(B53,'Hoja 3'!E51:G345,3,FALSE),"item no compatible") -> item no compatible | H53: =H52+1 -> 47 | I53: CDI UNIDAD ELECTRONICA | L53: ud. | M53: 1 | N53: =IFERROR(VLOOKUP(I53,Hoja1!$I$6:$N$202,6,FALSE),"N/A") -> 580283.75 | O53: =VLOOKUP(I53,'Hoja 3'!$E$878:$G$1152,3,FALSE) -> 1 | P53: =VLOOKUP(I53, 'Hoja 3'!$E$304:$H$578, 4, FALSE) -> 1090785.6 | Q53: =((N53-O53)/N53) -> 0.99999828 | R53: =((N53-P53)/N53) -> -0.87974521 | S53: =IFERROR(VLOOKUP(I53,Hoja1!$I$6:$P$202,8,FALSE),"N/A") -> 1465291 | T53: =VLOOKUP(I53,'Hoja 3'!$E$878:$G$1152,3,FALSE) -> 1 | U53: =((S53-T53)/S53) -> 0.99999932
A54: =A53+1 -> 48 | B54: CAMBIO CHAPA MALETERO | C54: ud | D54: 1 | E54: =IFERROR(VLOOKUP(B54,Hoja1!$B$6:$E$202,4,FALSE),"N/A") -> 38606.814 | F54: =IFERROR(VLOOKUP(B54,'Hoja 3'!E52:G346,3,FALSE),"item no compatible") -> item no compatible | H54: =H53+1 -> 48 | I54: CHAPA MALETERO | L54: ud. | M54: 1 | N54: =IFERROR(VLOOKUP(I54,Hoja1!$I$6:$N$202,6,FALSE),"N/A") -> 43984 | O54: =VLOOKUP(I54,'Hoja 3'!$E$878:$G$1152,3,FALSE) -> 6283.2 | P54: =VLOOKUP(I54, 'Hoja 3'!$E$304:$H$578, 4, FALSE) -> 65447.14 | Q54: N/A | R54: N/A | S54: =IFERROR(VLOOKUP(I54,Hoja1!$I$6:$P$202,8,FALSE),"N/A") -> 42072 | T54: =VLOOKUP(I54,'Hoja 3'!$E$878:$G$1152,3,FALSE) -> 6283.2 | U54: N/A
A55: =A54+1 -> 49 | B55: CAMBIO CIGÜEÑAL | C55: ud | D55: 1 | E55: =IFERROR(VLOOKUP(B55,Hoja1!$B$6:$E$202,4,FALSE),"N/A") -> 836023 | F55: =IFERROR(VLOOKUP(B55,'Hoja 3'!E53:G347,3,FALSE),"item no compatible") -> item no compatible | H55: =H54+1 -> 49 | I55: CIGÜEÑAL | L55: ud. | M55: 1 | N55: =IFERROR(VLOOKUP(I55,Hoja1!$I$6:$N$202,6,FALSE),"N/A") -> 1945889 | O55: =VLOOKUP(I55,'Hoja 3'!$E$878:$G$1152,3,FALSE) -> 29451.2 | P55: =VLOOKUP(I55, 'Hoja 3'!$E$304:$H$578, 4, FALSE) -> 1636178.4 | Q55: =((N55-O55)/N55) -> 0.98486491 | R55: =((N55-P55)/N55) -> 0.15916149 | S55: =IFERROR(VLOOKUP(I55,Hoja1!$I$6:$P$202,8,FALSE),"N/A") -> 2539344 | T55: =VLOOKUP(I55,'Hoja 3'!$E$878:$G$1152,3,FALSE) -> 29451.2 | U55: =((S55-T55)/S55) -> 0.98840204
A56: =A55+1 -> 50 | B56: CAMBIO CILINDRO MOTOR | C56: ud | D56: 1 | E56: =IFERROR(VLOOKUP(B56,Hoja1!$B$6:$E$202,4,FALSE),"N/A") -> 516509 | F56: =IFERROR(VLOOKUP(B56,'Hoja 3'!E54:G348,3,FALSE),"item no compatible") -> item no compatible | H56: =H55+1 -> 50 | I56: CILINDRO MOTOR | L56: ud. | M56: 1 | N56: =IFERROR(VLOOKUP(I56,Hoja1!$I$6:$N$202,6,FALSE),"N/A") -> 1341525 | O56: =VLOOKUP(I56,'Hoja 3'!$E$878:$G$1152,3,FALSE) -> 98170.4 | P56: =VLOOKUP(I56, 'Hoja 3'!$E$304:$H$578, 4, FALSE) -> 1227133.8 | Q56: =((N56-O56)/N56) -> 0.92682179 | R56: =((N56-P56)/N56) -> 0.085269525 | S56: =IFERROR(VLOOKUP(I56,Hoja1!$I$6:$P$202,8,FALSE),"N/A") -> 1306789 | T56: =VLOOKUP(I56,'Hoja 3'!$E$878:$G$1152,3,FALSE) -> 98170.4 | U56: =((S56-T56)/S56) -> 0.92487663
A57: =A56+1 -> 51 | B57: CAMBIO CONJUNTO MANIJA EMBRAGUE | C57: ud | D57: 1 | E57: =IFERROR(VLOOKUP(B57,Hoja1!$B$6:$E$202,4,FALSE),"N/A") -> 19987.5 | F57: =IFERROR(VLOOKUP(B57,'Hoja 3'!E55:G349,3,FALSE),"item no compatible") -> item no compatible | H57: =H56+1 -> 51 | I57: CONJUNTO MANIJA EMBRAGUE | L57: ud. | M57: 1 | N57: =IFERROR(VLOOKUP(I57,Hoja1!$I$6:$N$202,6,FALSE),"N/A") -> 168444 | O57: =VLOOKUP(I57,'Hoja 3'!$E$878:$G$1152,3,FALSE) -> 17452.8 | P57: =VLOOKUP(I57, 'Hoja 3'!$E$304:$H$578, 4, FALSE) -> 70901.06 | Q57: =((N57-O57)/N57) -> 0.89638812 | R57: =((N57-P57)/N57) -> 0.57908231 | S57: =IFERROR(VLOOKUP(I57,Hoja1!$I$6:$P$202,8,FALSE),"N/A") -> 160666 | T57: =VLOOKUP(I57,'Hoja 3'!$E$878:$G$1152,3,FALSE) -> 17452.8 | U57: =((S57-T57)/S57) -> 0.89137216
A58: =A57+1 -> 52 | B58: CAMBIO CORONA BOBINA | C58: ud | D58: 1 | E58: =IFERROR(VLOOKUP(B58,Hoja1!$B$6:$E$202,4,FALSE),"N/A") -> 124252 | F58: =IFERROR(VLOOKUP(B58,'Hoja 3'!E56:G350,3,FALSE),"item no compatible") -> item no compatible | H58: =H57+1 -> 52 | I58: CORONA BOBINA | L58: ud. | M58: 1 | N58: =IFERROR(VLOOKUP(I58,Hoja1!$I$6:$N$202,6,FALSE),"N/A") -> 1620376 | O58: =VLOOKUP(I58,'Hoja 3'!$E$878:$G$1152,3,FALSE) -> 1 | P58: =VLOOKUP(I58, 'Hoja 3'!$E$304:$H$578, 4, FALSE) -> 1772526.6 | Q58: =((N58-O58)/N58) -> 0.99999938 | R58: =((N58-P58)/N58) -> -0.09389833 | S58: =IFERROR(VLOOKUP(I58,Hoja1!$I$6:$P$202,8,FALSE),"N/A") -> 1799254 | T58: =VLOOKUP(I58,'Hoja 3'!$E$878:$G$1152,3,FALSE) -> 1 | U58: =((S58-T58)/S58) -> 0.99999944
A59: =A58+1 -> 53 | B59: CAMBIO CULATA MOTOR | C59: ud | D59: 1 | E59: =IFERROR(VLOOKUP(B59,Hoja1!$B$6:$E$202,4,FALSE),"N/A") -> 201723.2 | F59: =IFERROR(VLOOKUP(B59,'Hoja 3'!E57:G351,3,FALSE),"item no compatible") -> item no compatible | H59: =H58+1 -> 53 | I59: CULATA MOTOR | L59: ud. | M59: 1 | N59: =IFERROR(VLOOKUP(I59,Hoja1!$I$6:$N$202,6,FALSE),"N/A") -> 2706438 | O59: =VLOOKUP(I59,'Hoja 3'!$E$878:$G$1152,3,FALSE) -> 117804.8 | P59: =VLOOKUP(I59, 'Hoja 3'!$E$304:$H$578, 4, FALSE) -> 1772526.6 | Q59: =((N59-O59)/N59) -> 0.95647238 | R59: =((N59-P59)/N59) -> 0.34507031 | S59: =IFERROR(VLOOKUP(I59,Hoja1!$I$6:$P$202,8,FALSE),"N/A") -> 2815858.1 | T59: =VLOOKUP(I59,'Hoja 3'!$E$878:$G$1152,3,FALSE) -> 117804.8 | U59: =((S59-T59)/S59) -> 0.9581638
A60: =A59+1 -> 54 | B60: CAMBIO CUNAS DIRECCION | C60: ud | D60: 1 | E60: =IFERROR(VLOOKUP(B60,Hoja1!$B$6:$E$202,4,FALSE),"N/A") -> 26021.554 | F60: =IFERROR(VLOOKUP(B60,'Hoja 3'!E58:G352,3,FALSE),"item no compatible") -> item no compatible | H60: =H59+1 -> 54 | I60: CUNAS DIRECCION | L60: ud. | M60: 1 | N60: =IFERROR(VLOOKUP(I60,Hoja1!$I$6:$N$202,6,FALSE),"N/A") -> 412851 | O60: =VLOOKUP(I60,'Hoja 3'!$E$878:$G$1152,3,FALSE) -> 45158.4 | P60: =VLOOKUP(I60, 'Hoja 3'!$E$304:$H$578, 4, FALSE) -> 299966.04 | Q60: =((N60-O60)/N60) -> 0.89061816 | R60: =((N60-P60)/N60) -> 0.27342785 | S60: =IFERROR(VLOOKUP(I60,Hoja1!$I$6:$P$202,8,FALSE),"N/A") -> 406316 | T60: =VLOOKUP(I60,'Hoja 3'!$E$878:$G$1152,3,FALSE) -> 45158.4 | U60: =((S60-T60)/S60) -> 0.88885892
A61: =A60+1 -> 55 | B61: CAMBIO DIRECCIONAL DELANTERA R Y L | C61: ud | D61: 1 | E61: =IFERROR(VLOOKUP(B61,Hoja1!$B$6:$E$202,4,FALSE),"N/A") -> 69386 | F61: =IFERROR(VLOOKUP(B61,'Hoja 3'!E59:G353,3,FALSE),"item no compatible") -> item no compatible | H61: =H60+1 -> 55 | I61: DIRECCIONAL DELANTERA R Y L | L61: ud. | M61: 1 | N61: =IFERROR(VLOOKUP(I61,Hoja1!$I$6:$N$202,6,FALSE),"N/A") -> 161057.48 | O61: =VLOOKUP(I61,'Hoja 3'!$E$878:$G$1152,3,FALSE) -> 1 | P61: =VLOOKUP(I61, 'Hoja 3'!$E$304:$H$578, 4, FALSE) -> 149983.02 | Q61: =((N61-O61)/N61) -> 0.99999379 | R61: =((N61-P61)/N61) -> 0.0687609 | S61: =IFERROR(VLOOKUP(I61,Hoja1!$I$6:$P$202,8,FALSE),"N/A") -> 154054.98 | T61: =VLOOKUP(I61,'Hoja 3'!$E$878:$G$1152,3,FALSE) -> 1 | U61: =((S61-T61)/S61) -> 0.99999351
A62: =A61+1 -> 56 | B62: CAMBIO DIRECCIONAL TRASERA R Y L | C62: ud | D62: 1 | E62: =IFERROR(VLOOKUP(B62,Hoja1!$B$6:$E$202,4,FALSE),"N/A") -> 69386 | F62: =IFERROR(VLOOKUP(B62,'Hoja 3'!E60:G354,3,FALSE),"item no compatible") -> item no compatible | H62: =H61+1 -> 56 | I62: DIRECCIONAL TRASERA R Y L | L62: ud. | M62: 1 | N62: =IFERROR(VLOOKUP(I62,Hoja1!$I$6:$N$202,6,FALSE),"N/A") -> 161057.48 | O62: =VLOOKUP(I62,'Hoja 3'!$E$878:$G$1152,3,FALSE) -> 1 | P62: =VLOOKUP(I62, 'Hoja 3'!$E$304:$H$578, 4, FALSE) -> 149983.02 | Q62: =((N62-O62)/N62) -> 0.99999379 | R62: =((N62-P62)/N62) -> 0.0687609 | S62: =IFERROR(VLOOKUP(I62,Hoja1!$I$6:$P$202,8,FALSE),"N/A") -> 154054.98 | T62: =VLOOKUP(I62,'Hoja 3'!$E$878:$G$1152,3,FALSE) -> 1 | U62: =((S62-T62)/S62) -> 0.99999351
A63: =A62+1 -> 57 | B63: CAMBIO DISCO EMBRAGUE | C63: ud | D63: 1 | E63: =IFERROR(VLOOKUP(B63,Hoja1!$B$6:$E$202,4,FALSE),"N/A") -> 163181 | F63: =IFERROR(VLOOKUP(B63,'Hoja 3'!E61:G355,3,FALSE),"item no compatible") -> item no compatible | H63: =H62+1 -> 57 | I63: DISCO EMBRAGUE | L63: ud. | M63: 1 | N63: =IFERROR(VLOOKUP(I63,Hoja1!$I$6:$N$202,6,FALSE),"N/A") -> 523057 | O63: =VLOOKUP(I63,'Hoja 3'!$E$878:$G$1152,3,FALSE) -> 1 | P63: =VLOOKUP(I63, 'Hoja 3'!$E$304:$H$578, 4, FALSE) -> 381774.96 | Q63: =((N63-O63)/N63) -> 0.99999809 | R63: =((N63-P63)/N63) -> 0.27010831 | S63: =IFERROR(VLOOKUP(I63,Hoja1!$I$6:$P$202,8,FALSE),"N/A") -> 189839.85 | T63: =VLOOKUP(I63,'Hoja 3'!$E$878:$G$1152,3,FALSE) -> 1 | U63: =((S63-T63)/S63) -> 0.99999473
A64: =A63+1 -> 58 | B64: CAMBIO DISCO FRENO DELANTERO | C64: ud | D64: 1 | E64: =IFERROR(VLOOKUP(B64,Hoja1!$B$6:$E$202,4,FALSE),"N/A") -> 104723 | F64: =IFERROR(VLOOKUP(B64,'Hoja 3'!E62:G356,3,FALSE),"item no compatible") -> item no compatible | H64: =H63+1 -> 58 | I64: DISCO FRENO DELANTERO | L64: ud. | M64: 1 | N64: =IFERROR(VLOOKUP(I64,Hoja1!$I$6:$N$202,6,FALSE),"N/A") -> 963633.55 | O64: =VLOOKUP(I64,'Hoja 3'!$E$878:$G$1152,3,FALSE) -> 54975.2 | P64: =VLOOKUP(I64, 'Hoja 3'!$E$304:$H$578, 4, FALSE) -> 722645.46 | Q64: =((N64-O64)/N64) -> 0.9429501 | R64: =((N64-P64)/N64) -> 0.25008271 | S64: =IFERROR(VLOOKUP(I64,Hoja1!$I$6:$P$202,8,FALSE),"N/A") -> 250841.85 | T64: =VLOOKUP(I64,'Hoja 3'!$E$878:$G$1152,3,FALSE) -> 54975.2 | U64: =((S64-T64)/S64) -> 0.78083721
A65: =A64+1 -> 59 | B65: CAMBIO DISCO FRENO TRASERO | C65: ud | D65: 1 | E65: =IFERROR(VLOOKUP(B65,Hoja1!$B$6:$E$202,4,FALSE),"N/A") -> 108262 | F65: =IFERROR(VLOOKUP(B65,'Hoja 3'!E63:G357,3,FALSE),"item no compatible") -> item no compatible | H65: =H64+1 -> 59 | I65: DISCO FRENO TRASERO | L65: ud. | M65: 1 | N65: =IFERROR(VLOOKUP(I65,Hoja1!$I$6:$N$202,6,FALSE),"N/A") -> 761294 | O65: =VLOOKUP(I65,'Hoja 3'!$E$878:$G$1152,3,FALSE) -> 124349.6 | P65: =VLOOKUP(I65, 'Hoja 3'!$E$304:$H$578, 4, FALSE) -> 613566.9 | Q65: =((N65-O65)/N65) -> 0.83666021 | R65: =((N65-P65)/N65) -> 0.19404737 | S65: =IFERROR(VLOOKUP(I65,Hoja1!$I$6:$P$202,8,FALSE),"N/A") -> 194005.25 | T65: =VLOOKUP(I65,'Hoja 3'!$E$878:$G$1152,3,FALSE) -> 124349.6 | U65: =((S65-T65)/S65) -> 0.35904003
A66: =A65+1 -> 60 | B66: CAMBIO EJE DE CAMBIOS | C66: ud | D66: 1 | E66: =IFERROR(VLOOKUP(B66,Hoja1!$B$6:$E$202,4,FALSE),"N/A") -> 148638.24 | F66: =IFERROR(VLOOKUP(B66,'Hoja 3'!E64:G358,3,FALSE),"item no compatible") -> item no compatible | H66: =H65+1 -> 60 | I66: EJE DE CAMBIOS | L66: ud. | M66: 1 | N66: =IFERROR(VLOOKUP(I66,Hoja1!$I$6:$N$202,6,FALSE),"N/A") -> 177404 | O66: =VLOOKUP(I66,'Hoja 3'!$E$878:$G$1152,3,FALSE) -> 19372 | P66: =VLOOKUP(I66, 'Hoja 3'!$E$304:$H$578, 4, FALSE) -> 272696.4 | Q66: =((N66-O66)/N66) -> 0.89080291 | R66: =((N66-P66)/N66) -> -0.53714911 | S66: =IFERROR(VLOOKUP(I66,Hoja1!$I$6:$P$202,8,FALSE),"N/A") -> 72068.25 | T66: =VLOOKUP(I66,'Hoja 3'!$E$878:$G$1152,3,FALSE) -> 19372 | U66: =((S66-T66)/S66) -> 0.73119925
... A70: =A69+1 -> 64 | B70: CAMBIO EMBOLO VALVULA ESCAPE (MONEDA) | C70: ud | D70: 1 | E70: =IFERROR(VLOOKUP(B70,Hoja1!$B$6:$E$202,4,FALSE),"N/A") -> 205907 | F70: =IFERROR(VLOOKUP(B70,'Hoja 3'!E68:G362,3,FALSE),"item no compatible") -> item no compatible | H70: =H69+1 -> 64 | I70: EMBOLO VALVULA ESCAPE (MONEDA) | L70: ud. | M70: 1 | N70: =IFERROR(VLOOKUP(I70,Hoja1!$I$6:$N$202,6,FALSE),"N/A") -> 150856 | O70: =VLOOKUP(I70,'Hoja 3'!$E$878:$G$1152,3,FALSE) -> 21837.6 | P70: =VLOOKUP(I70, 'Hoja 3'!$E$304:$H$578, 4, FALSE) -> 43631.42 | Q70: =((N70-O70)/N70) -> 0.85524209 | R70: =((N70-P70)/N70) -> 0.71077438 | S70: =IFERROR(VLOOKUP(I70,Hoja1!$I$6:$P$202,8,FALSE),"N/A") -> 148991 | T70: =VLOOKUP(I70,'Hoja 3'!$E$878:$G$1152,3,FALSE) -> 21837.6 | U70: =((S70-T70)/S70) -> 0.85343007
A71: =A70+1 -> 65 | B71: CAMBIO EMBRAGUE DEL ARRANQUECOMPLETO | C71: ud | D71: 1 | E71: =IFERROR(VLOOKUP(B71,Hoja1!$B$6:$E$202,4,FALSE),"N/A") -> N/A | F71: =IFERROR(VLOOKUP(B71,'Hoja 3'!E69:G363,3,FALSE),"item no compatible") -> item no compatible | H71: =H70+1 -> 65 | I71: EMBRAGUE DEL ARRANQUECOMPLETO | L71: ud. | M71: 1 | N71: =IFERROR(VLOOKUP(I71,Hoja1!$I$6:$N$202,6,FALSE),"N/A") -> N/A | O71: =VLOOKUP(I71,'Hoja 3'!$E$878:$G$1152,3,FALSE) -> 1 | P71: =VLOOKUP(I71, 'Hoja 3'!$E$304:$H$578, 4, FALSE) -> 276786.85 | Q71: N/A | R71: N/A | S71: =IFERROR(VLOOKUP(I71,Hoja1!$I$6:$P$202,8,FALSE),"N/A") -> N/A | T71: =VLOOKUP(I71,'Hoja 3'!$E$878:$G$1152,3,FALSE) -> 1 | U71: N/A
A72: =A71+1 -> 66 | B72: CAMBIO EMPAQUE ARBOL LEVA (CULATA) | C72: ud | D72: 1 | E72: =IFERROR(VLOOKUP(B72,Hoja1!$B$6:$E$202,4,FALSE),"N/A") -> N/A | F72: =IFERROR(VLOOKUP(B72,'Hoja 3'!E70:G364,3,FALSE),"item no compatible") -> item no compatible | H72: =H71+1 -> 66 | I72: EMPAQUE ARBOL LEVA (CULATA) | L72: ud. | M72: 1 | N72: =IFERROR(VLOOKUP(I72,Hoja1!$I$6:$N$202,6,FALSE),"N/A") -> N/A | O72: =VLOOKUP(I72,'Hoja 3'!$E$878:$G$1152,3,FALSE) -> 9162.4 | P72: =VLOOKUP(I72, 'Hoja 3'!$E$304:$H$578, 4, FALSE) -> 115895.97 | Q72: N/A | R72: N/A | S72: =IFERROR(VLOOKUP(I72,Hoja1!$I$6:$P$202,8,FALSE),"N/A") -> N/A | T72: =VLOOKUP(I72,'Hoja 3'!$E$878:$G$1152,3,FALSE) -> 9162.4 | U72: N/A
A73: =A72+1 -> 67 | B73: CAMBIO EMPAQUE CILINDRO | C73: ud | D73: 1 | E73: =IFERROR(VLOOKUP(B73,Hoja1!$B$6:$E$202,4,FALSE),"N/A") -> 269753 | F73: =IFERROR(VLOOKUP(B73,'Hoja 3'!E71:G365,3,FALSE),"item no compatible") -> item no compatible | H73: =H72+1 -> 67 | I73: EMPAQUE CILINDRO | L73: ud. | M73: 1 | N73: =IFERROR(VLOOKUP(I73,Hoja1!$I$6:$N$202,6,FALSE),"N/A") -> 36541 | O73: =VLOOKUP(I73,'Hoja 3'!$E$878:$G$1152,3,FALSE) -> 2094.4 | P73: =VLOOKUP(I73, 'Hoja 3'!$E$304:$H$578, 4, FALSE) -> 29996.6 | Q73: =((N73-O73)/N73) -> 0.94268356 | R73: =((N73-P73)/N73) -> 0.17909745 | S73: =IFERROR(VLOOKUP(I73,Hoja1!$I$6:$P$202,8,FALSE),"N/A") -> 17150.65 | T73: =VLOOKUP(I73,'Hoja 3'!$E$878:$G$1152,3,FALSE) -> 2094.4 | U73: =((S73-T73)/S73) -> 0.87788218
A74: =A73+1 -> 68 | B74: CAMBIO EMPAQUE CLUTCH | C74: ud | D74: 1 | E74: =IFERROR(VLOOKUP(B74,Hoja1!$B$6:$E$202,4,FALSE),"N/A") -> 104652 | F74: =IFERROR(VLOOKUP(B74,'Hoja 3'!E72:G366,3,FALSE),"item no compatible") -> item no compatible | H74: =H73+1 -> 68 | I74: EMPAQUE CLUTCH | L74: ud. | M74: 1 | N74: =IFERROR(VLOOKUP(I74,Hoja1!$I$6:$N$202,6,FALSE),"N/A") -> 106556 | O74: =VLOOKUP(I74,'Hoja 3'!$E$878:$G$1152,3,FALSE) -> 22252 | P74: =VLOOKUP(I74, 'Hoja 3'!$E$304:$H$578, 4, FALSE) -> 55902.76 | Q74: =((N74-O74)/N74) -> 0.79117084 | R74: =((N74-P74)/N74) -> 0.47536732 | S74: =IFERROR(VLOOKUP(I74,Hoja1!$I$6:$P$202,8,FALSE),"N/A") -> 28669.9 | T74: =VLOOKUP(I74,'Hoja 3'!$E$878:$G$1152,3,FALSE) -> 22252 | U74: =((S74-T74)/S74) -> 0.22385498
A75: =A74+1 -> 69 | B75: CAMBIO EMPAQUE CULATA | C75: ud | D75: 1 | E75: =IFERROR(VLOOKUP(B75,Hoja1!$B$6:$E$202,4,FALSE),"N/A") -> 212985 | F75: =IFERROR(VLOOKUP(B75,'Hoja 3'!E73:G367,3,FALSE),"item no compatible") -> item no compatible | H75: =H74+1 -> 69 | I75: EMPAQUE CULATA | L75: ud. | M75: 1 | N75: =IFERROR(VLOOKUP(I75,Hoja1!$I$6:$N$202,6,FALSE),"N/A") -> 164170 | O75: =VLOOKUP(I75,'Hoja 3'!$E$878:$G$1152,3,FALSE) -> 9162.4 | P75: =VLOOKUP(I75, 'Hoja 3'!$E$304:$H$578, 4, FALSE) -> 115895.97 | Q75: =((N75-O75)/N75) -> 0.94418956 | R75: =((N75-P75)/N75) -> 0.29404903 | S75: =IFERROR(VLOOKUP(I75,Hoja1!$I$6:$P$202,8,FALSE),"N/A") -> 52347.25 | T75: =VLOOKUP(I75,'Hoja 3'!$E$878:$G$1152,3,FALSE) -> 9162.4 | U75: =((S75-T75)/S75) -> 0.82496884
A76: =A75+1 -> 70 | B76: CAMBIO EMPAQUE CULATIN | C76: ud | D76: 1 | E76: =IFERROR(VLOOKUP(B76,Hoja1!$B$6:$E$202,4,FALSE),"N/A") -> 55865 | F76: =IFERROR(VLOOKUP(B76,'Hoja 3'!E74:G368,3,FALSE),"item no compatible") -> item no compatible | H76: =H75+1 -> 70 | I76: EMPAQUE CULATIN | L76: ud. | M76: 1 | N76: =IFERROR(VLOOKUP(I76,Hoja1!$I$6:$N$202,6,FALSE),"N/A") -> 102244 | O76: =VLOOKUP(I76,'Hoja 3'!$E$878:$G$1152,3,FALSE) -> 1374.4 | P76: =VLOOKUP(I76, 'Hoja 3'!$E$304:$H$578, 4, FALSE) -> 88626.33 | Q76: =((N76-O76)/N76) -> 0.98655765 | R76: =((N76-P76)/N76) -> 0.13318796 | S76: =IFERROR(VLOOKUP(I76,Hoja1!$I$6:$P$202,8,FALSE),"N/A") -> 15398.4 | T76: =VLOOKUP(I76,'Hoja 3'!$E$878:$G$1152,3,FALSE) -> 1374.4 | U76: =((S76-T76)/S76) -> 0.91074397
A77: =A76+1 -> 71 | B77: CAMBIO EMPAQUE SALIDA EXHOSTO | C77: ud | D77: 1 | E77: =IFERROR(VLOOKUP(B77,Hoja1!$B$6:$E$202,4,FALSE),"N/A") -> 30636 | F77: =IFERROR(VLOOKUP(B77,'Hoja 3'!E75:G369,3,FALSE),"item no compatible") -> item no compatible | H77: =H76+1 -> 71 | I77: EMPAQUE SALIDA EXHOSTO | L77: ud. | M77: 1 | N77: =IFERROR(VLOOKUP(I77,Hoja1!$I$6:$N$202,6,FALSE),"N/A") -> 39310 | O77: =VLOOKUP(I77,'Hoja 3'!$E$878:$G$1152,3,FALSE) -> 6544.8 | P77: =VLOOKUP(I77, 'Hoja 3'!$E$304:$H$578, 4, FALSE) -> 17725.27 | Q77: =((N77-O77)/N77) -> 0.83350801 | R77: =((N77-P77)/N77) -> 0.54909005 | S77: =IFERROR(VLOOKUP(I77,Hoja1!$I$6:$P$202,8,FALSE),"N/A") -> 38762 | T77: =VLOOKUP(I77,'Hoja 3'!$E$878:$G$1152,3,FALSE) -> 6544.8 | U77: =((S77-T77)/S77) -> 0.83115422
A78: =A77+1 -> 72 | B78: CAMBIO EMPAQUE TAPA CAMBIOS | C78: ud | D78: 1 | E78: =IFERROR(VLOOKUP(B78,Hoja1!$B$6:$E$202,4,FALSE),"N/A") -> 88690 | F78: =IFERROR(VLOOKUP(B78,'Hoja 3'!E76:G370,3,FALSE),"item no compatible") -> item no compatible | H78: =H77+1 -> 72 | I78: EMPAQUE TAPA CAMBIOS | L78: ud. | M78: 1 | N78: =IFERROR(VLOOKUP(I78,Hoja1!$I$6:$N$202,6,FALSE),"N/A") -> 20853.5 | O78: =VLOOKUP(I78,'Hoja 3'!$E$878:$G$1152,3,FALSE) -> 4232 | P78: =VLOOKUP(I78, 'Hoja 3'!$E$304:$H$578, 4, FALSE) -> 9544.37 | Q78: =((N78-O78)/N78) -> 0.79706045 | R78: =((N78-P78)/N78) -> 0.54231328 | S78: =IFERROR(VLOOKUP(I78,Hoja1!$I$6:$P$202,8,FALSE),"N/A") -> 24852.65 | T78: =VLOOKUP(I78,'Hoja 3'!$E$878:$G$1152,3,FALSE) -> 4232 | U78: =((S78-T78)/S78) -> 0.82971635
A79: =A78+1 -> 73 | B79: CAMBIO EMPAQUE TAPA DE CARTER DERECHA | C79: ud | D79: 1 | E79: =IFERROR(VLOOKUP(B79,Hoja1!$B$6:$E$202,4,FALSE),"N/A") -> 92229 | F79: =IFERROR(VLOOKUP(B79,'Hoja 3'!E77:G371,3,FALSE),"item no compatible") -> item no compatible | H79: =H78+1 -> 73 | I79: EMPAQUE TAPA DE CARTER DERECHA | L79: ud. | M79: 1 | N79: =IFERROR(VLOOKUP(I79,Hoja1!$I$6:$N$202,6,FALSE),"N/A") -> 81541 | O79: =VLOOKUP(I79,'Hoja 3'!$E$878:$G$1152,3,FALSE) -> 916 | P79: =VLOOKUP(I79, 'Hoja 3'!$E$304:$H$578, 4, FALSE) -> 42267.94 | Q79: =((N79-O79)/N79) -> 0.98876639 | R79: =((N79-P79)/N79) -> 0.48163574 | S79: =IFERROR(VLOOKUP(I79,Hoja1!$I$6:$P$202,8,FALSE),"N/A") -> 28669.9 | T79: =VLOOKUP(I79,'Hoja 3'!$E$878:$G$1152,3,FALSE) -> 916 | U79: =((S79-T79)/S79) -> 0.96805012
A80: =A79+1 -> 74 | B80: CAMBIO EMPAQUE TAPA VALVULA | C80: ud | D80: 1 | E80: =IFERROR(VLOOKUP(B80,Hoja1!$B$6:$E$202,4,FALSE),"N/A") -> 95840 | F80: =IFERROR(VLOOKUP(B80,'Hoja 3'!E78:G372,3,FALSE),"item no compatible") -> item no compatible | H80: =H79+1 -> 74 | I80: EMPAQUE TAPA VALVULA | L80: ud. | M80: 1 | N80: =IFERROR(VLOOKUP(I80,Hoja1!$I$6:$N$202,6,FALSE),"N/A") -> 90699 | O80: =VLOOKUP(I80,'Hoja 3'!$E$878:$G$1152,3,FALSE) -> 9162.4 | P80: =VLOOKUP(I80, 'Hoja 3'!$E$304:$H$578, 4, FALSE) -> 69537.58 | Q80: =((N80-O80)/N80) -> 0.89898014 | R80: =((N80-P80)/N80) -> 0.23331481 | S80: =IFERROR(VLOOKUP(I80,Hoja1!$I$6:$P$202,8,FALSE),"N/A") -> 15398.4 | T80: =VLOOKUP(I80,'Hoja 3'!$E$878:$G$1152,3,FALSE) -> 9162.4 | U80: =((S80-T80)/S80) -> 0.40497714
A81: =A80+1 -> 75 | B81: CAMBIO EMPAQUE TENSOR AUTOMATICO CADENILLA | C81: ud | D81: 1 | E81: =IFERROR(VLOOKUP(B81,Hoja1!$B$6:$E$202,4,FALSE),"N/A") -> 38606.814 | F81: =IFERROR(VLOOKUP(B81,'Hoja 3'!E79:G373,3,FALSE),"item no compatible") -> item no compatible | H81: =H80+1 -> 75 | I81: EMPAQUE TENSOR AUTOMATICO CADENILLA | L81: ud. | M81: 1 | N81: =IFERROR(VLOOKUP(I81,Hoja1!$I$6:$N$202,6,FALSE),"N/A") -> 14020 | O81: =VLOOKUP(I81,'Hoja 3'!$E$878:$G$1152,3,FALSE) -> 2617.6 | P81: =VLOOKUP(I81, 'Hoja 3'!$E$304:$H$578, 4, FALSE) -> 9544.37 | Q81: =((N81-O81)/N81) -> 0.81329529 | R81: =((N81-P81)/N81) -> 0.31923181 | S81: =IFERROR(VLOOKUP(I81,Hoja1!$I$6:$P$202,8,FALSE),"N/A") -> 13779 | T81: =VLOOKUP(I81,'Hoja 3'!$E$878:$G$1152,3,FALSE) -> 2617.6 | U81: =((S81-T81)/S81) -> 0.81002976
A82: =A81+1 -> 76 | B82: CAMBIO EMPAQUE UNION EXOSTO | C82: ud | D82: 1 | E82: =IFERROR(VLOOKUP(B82,Hoja1!$B$6:$E$202,4,FALSE),"N/A") -> 48402 | F82: =IFERROR(VLOOKUP(B82,'Hoja 3'!E80:G374,3,FALSE),"item no compatible") -> item no compatible | H82: =H81+1 -> 76 | I82: EMPAQUE UNION EXOSTO | L82: ud. | M82: 1 | N82: =IFERROR(VLOOKUP(I82,Hoja1!$I$6:$N$202,6,FALSE),"N/A") -> N/A | O82: =VLOOKUP(I82,'Hoja 3'!$E$878:$G$1152,3,FALSE) -> 1963.2 | P82: =VLOOKUP(I82, 'Hoja 3'!$E$304:$H$578, 4, FALSE) -> 21815.71 | Q82: N/A | R82: =((N82-P82)/N82) -> #VALUE! | S82: =IFERROR(VLOOKUP(I82,Hoja1!$I$6:$P$202,8,FALSE),"N/A") -> 30972 | T82: =VLOOKUP(I82,'Hoja 3'!$E$878:$G$1152,3,FALSE) -> 1963.2 | U82: =((S82-T82)/S82) -> 0.93661372
A83: =A82+1 -> 77 | B83: CAMBIO EMPAQUE VOLANTE | C83: ud | D83: 1 | E83: =IFERROR(VLOOKUP(B83,Hoja1!$B$6:$E$202,4,FALSE),"N/A") -> 83417 | F83: =IFERROR(VLOOKUP(B83,'Hoja 3'!E81:G375,3,FALSE),"item no compatible") -> item no compatible | H83: =H82+1 -> 77 | I83: EMPAQUE VOLANTE | L83: ud. | M83: 1 | N83: =IFERROR(VLOOKUP(I83,Hoja1!$I$6:$N$202,6,FALSE),"N/A") -> 73410 | O83: =VLOOKUP(I83,'Hoja 3'!$E$878:$G$1152,3,FALSE) -> 9816.8 | P83: =VLOOKUP(I83, 'Hoja 3'!$E$304:$H$578, 4, FALSE) -> 47721.87 | Q83: =((N83-O83)/N83) -> 0.86627435 | R83: =((N83-P83)/N83) -> 0.34992685 | S83: =IFERROR(VLOOKUP(I83,Hoja1!$I$6:$P$202,8,FALSE),"N/A") -> 15851.4 | T83: =VLOOKUP(I83,'Hoja 3'!$E$878:$G$1152,3,FALSE) -> 9816.8 | U83: =((S83-T83)/S83) -> 0.38069823
A84: =A83+1 -> 78 | B84: CAMBIO EMPAQUETADURA BOMBA FRENO TRASERO | C84: ud | D84: 1 | E84: =IFERROR(VLOOKUP(B84,Hoja1!$B$6:$E$202,4,FALSE),"N/A") -> 151642 | F84: =IFERROR(VLOOKUP(B84,'Hoja 3'!E82:G376,3,FALSE),"item no compatible") -> item no compatible | H84: =H83+1 -> 78 | I84: EMPAQUETADURA BOMBA FRENO TRASERO | L84: ud. | M84: 1 | N84: =IFERROR(VLOOKUP(I84,Hoja1!$I$6:$N$202,6,FALSE),"N/A") -> 143570 | O84: =VLOOKUP(I84,'Hoja 3'!$E$878:$G$1152,3,FALSE) -> 1 | P84: =VLOOKUP(I84, 'Hoja 3'!$E$304:$H$578, 4, FALSE) -> 68174.1 | Q84: =((N84-O84)/N84) -> 0.99999303 | R84: =((N84-P84)/N84) -> 0.5251508 | S84: =IFERROR(VLOOKUP(I84,Hoja1!$I$6:$P$202,8,FALSE),"N/A") -> 140749 | T84: =VLOOKUP(I84,'Hoja 3'!$E$878:$G$1152,3,FALSE) -> 1 | U84: =((S84-T84)/S84) -> 0.9999929
A85: =A84+1 -> 79 | B85: CAMBIO EMPAQUETADURA MOTOR | C85: ud | D85: 1 | E85: =IFERROR(VLOOKUP(B85,Hoja1!$B$6:$E$202,4,FALSE),"N/A") -> 587289 | F85: =IFERROR(VLOOKUP(B85,'Hoja 3'!E83:G377,3,FALSE),"item no compatible") -> item no compatible | H85: =H84+1 -> 79 | I85: EMPAQUETADURA MOTOR | L85: ud. | M85: 1 | N85: =IFERROR(VLOOKUP(I85,Hoja1!$I$6:$N$202,6,FALSE),"N/A") -> 576706 | O85: =VLOOKUP(I85,'Hoja 3'!$E$878:$G$1152,3,FALSE) -> 1 | P85: =VLOOKUP(I85, 'Hoja 3'!$E$304:$H$578, 4, FALSE) -> 245426.76 | Q85: =((N85-O85)/N85) -> 0.99999827 | R85: =((N85-P85)/N85) -> 0.57443349 | S85: =IFERROR(VLOOKUP(I85,Hoja1!$I$6:$P$202,8,FALSE),"N/A") -> 446704 | T85: =VLOOKUP(I85,'Hoja 3'!$E$878:$G$1152,3,FALSE) -> 1 | U85: =((S85-T85)/S85) -> 0.99999776
A86: =A85+1 -> 80 | B86: CAMBIO ENGRANAJE DE PARTIDA ARRANQUE | C86: ud | D86: 1 | E86: =IFERROR(VLOOKUP(B86,Hoja1!$B$6:$E$202,4,FALSE),"N/A") -> 266070 | F86: =IFERROR(VLOOKUP(B86,'Hoja 3'!E84:G378,3,FALSE),"item no compatible") -> item no compatible | H86: =H85+1 -> 80 | I86: ENGRANAJE DE PARTIDA ARRANQUE | L86: ud. | M86: 1 | N86: =IFERROR(VLOOKUP(I86,Hoja1!$I$6:$N$202,6,FALSE),"N/A") -> N/A | O86: =VLOOKUP(I86,'Hoja 3'!$E$878:$G$1152,3,FALSE) -> 1 | P86: =VLOOKUP(I86, 'Hoja 3'!$E$304:$H$578, 4, FALSE) -> 276786.85 | Q86: N/A | R86: =((N86-P86)/N86) -> #VALUE! | S86: =IFERROR(VLOOKUP(I86,Hoja1!$I$6:$P$202,8,FALSE),"N/A") -> 277494.65 | T86: =VLOOKUP(I86,'Hoja 3'!$E$878:$G$1152,3,FALSE) -> 1 | U86: =((S86-T86)/S86) -> 0.9999964
A87: =A86+1 -> 81 | B87: CAMBIO ENGRANAJE SECUNDARIO TERCERA | C87: ud | D87: 1 | E87: =IFERROR(VLOOKUP(B87,Hoja1!$B$6:$E$202,4,FALSE),"N/A") -> 105999.44 | F87: =IFERROR(VLOOKUP(B87,'Hoja 3'!E85:G379,3,FALSE),"item no compatible") -> item no compatible | H87: =H86+1 -> 81 | I87: ENGRANAJE SECUNDARIO TERCERA | L87: ud. | M87: 1 | N87: =IFERROR(VLOOKUP(I87,Hoja1!$I$6:$N$202,6,FALSE),"N/A") -> N/A | O87: =VLOOKUP(I87,'Hoja 3'!$E$878:$G$1152,3,FALSE) -> 31414.4 | P87: =VLOOKUP(I87, 'Hoja 3'!$E$304:$H$578, 4, FALSE) -> 381774.96 | Q87: N/A | R87: =((N87-P87)/N87) -> #VALUE! | S87: =IFERROR(VLOOKUP(I87,Hoja1!$I$6:$P$202,8,FALSE),"N/A") -> 105334.87 | T87: =VLOOKUP(I87,'Hoja 3'!$E$878:$G$1152,3,FALSE) -> 31414.4 | U87: =((S87-T87)/S87) -> 0.70176637
A88: =A87+1 -> 82 | B88: CAMBIO ESCOBILLA ARRANQUEY PORTA ESCOBILLA | C88: ud | D88: 1 | E88: =IFERROR(VLOOKUP(B88,Hoja1!$B$6:$E$202,4,FALSE),"N/A") -> 172179 | F88: =IFERROR(VLOOKUP(B88,'Hoja 3'!E86:G380,3,FALSE),"item no compatible") -> item no compatible | H88: =H87+1 -> 82 | I88: ESCOBILLA ARRANQUEY PORTA ESCOBILLA | L88: ud. | M88: 1 | N88: =IFERROR(VLOOKUP(I88,Hoja1!$I$6:$N$202,6,FALSE),"N/A") -> 113537 | O88: =VLOOKUP(I88,'Hoja 3'!$E$878:$G$1152,3,FALSE) -> 1 | P88: =VLOOKUP(I88, 'Hoja 3'!$E$304:$H$578, 4, FALSE) -> 141802.13 | Q88: =((N88-O88)/N88) -> 0.99999119 | R88: =((N88-P88)/N88) -> -0.24895083 | S88: =IFERROR(VLOOKUP(I88,Hoja1!$I$6:$P$202,8,FALSE),"N/A") -> N/A | T88: =VLOOKUP(I88,'Hoja 3'!$E$878:$G$1152,3,FALSE) -> 1 | U88: N/A
A89: =A88+1 -> 83 | B89: CAMBIO ESFERAS DE LA DIRECCION | C89: ud | D89: 1 | E89: =IFERROR(VLOOKUP(B89,Hoja1!$B$6:$E$202,4,FALSE),"N/A") -> 125957 | F89: =IFERROR(VLOOKUP(B89,'Hoja 3'!E87:G381,3,FALSE),"item no compatible") -> item no compatible | H89: =H88+1 -> 83 | I89: ESFERAS DE LA DIRECCION | L89: ud. | M89: 1 | N89: =IFERROR(VLOOKUP(I89,Hoja1!$I$6:$N$202,6,FALSE),"N/A") -> 450866 | O89: =VLOOKUP(I89,'Hoja 3'!$E$878:$G$1152,3,FALSE) -> 1 | P89: =VLOOKUP(I89, 'Hoja 3'!$E$304:$H$578, 4, FALSE) -> 10907.86 | Q89: N/A | R89: N/A | S89: =IFERROR(VLOOKUP(I89,Hoja1!$I$6:$P$202,8,FALSE),"N/A") -> 431263 | T89: =VLOOKUP(I89,'Hoja 3'!$E$878:$G$1152,3,FALSE) -> 1 | U89: N/A
A90: =A89+1 -> 84 | B90: CAMBIO ESPEJO DERECHO O IZQUIERDO | C90: ud | D90: 1 | E90: =IFERROR(VLOOKUP(B90,Hoja1!$B$6:$E$202,4,FALSE),"N/A") -> 24127 | F90: =IFERROR(VLOOKUP(B90,'Hoja 3'!E88:G382,3,FALSE),"item no compatible") -> item no compatible | H90: =H89+1 -> 84 | I90: ESPEJO DERECHO O IZQUIERDO | L90: ud. | M90: 1 | N90: =IFERROR(VLOOKUP(I90,Hoja1!$I$6:$N$202,6,FALSE),"N/A") -> 224261 | O90: N/A | P90: =VLOOKUP(I90, 'Hoja 3'!$E$304:$H$578, 4, FALSE) -> #N/A | Q90: N/A | R90: N/A | S90: =IFERROR(VLOOKUP(I90,Hoja1!$I$6:$P$202,8,FALSE),"N/A") -> N/A | T90: N/A | U90: N/A
A91: =A90+1 -> 85 | B91: CAMBIO FAROLA DELANTERA | C91: ud | D91: 1 | E91: =IFERROR(VLOOKUP(B91,Hoja1!$B$6:$E$202,4,FALSE),"N/A") -> 63701.646 | F91: =IFERROR(VLOOKUP(B91,'Hoja 3'!E89:G383,3,FALSE),"item no compatible") -> item no compatible | H91: =H90+1 -> 85 | I91: FAROLA DELANTERA | L91: ud. | M91: 1 | N91: =IFERROR(VLOOKUP(I91,Hoja1!$I$6:$N$202,6,FALSE),"N/A") -> 488834.44 | O91: =VLOOKUP(I91,'Hoja 3'!$E$878:$G$1152,3,FALSE) -> 1 | P91: =VLOOKUP(I91, 'Hoja 3'!$E$304:$H$578, 4, FALSE) -> 436314.24 | Q91: =((N91-O91)/N91) -> 0.99999795 | R91: =((N91-P91)/N91) -> 0.10743966 | S91: =IFERROR(VLOOKUP(I91,Hoja1!$I$6:$P$202,8,FALSE),"N/A") -> 467580.77 | T91: =VLOOKUP(I91,'Hoja 3'!$E$878:$G$1152,3,FALSE) -> 1 | U91: =((S91-T91)/S91) -> 0.99999786
A92: =A91+1 -> 86 | B92: CAMBIO FILTRO ACEITE | C92: ud | D92: 1 | E92: =IFERROR(VLOOKUP(B92,Hoja1!$B$6:$E$202,4,FALSE),"N/A") -> 26650 | F92: =IFERROR(VLOOKUP(B92,'Hoja 3'!E90:G384,3,FALSE),"item no compatible") -> item no compatible | H92: =H91+1 -> 86 | I92: FILTRO ACEITE | L92: ud. | M92: 1 | N92: =IFERROR(VLOOKUP(I92,Hoja1!$I$6:$N$202,6,FALSE),"N/A") -> 97088 | O92: =VLOOKUP(I92,'Hoja 3'!$E$878:$G$1152,3,FALSE) -> 12696.8 | P92: =VLOOKUP(I92, 'Hoja 3'!$E$304:$H$578, 4, FALSE) -> 34087.05 | Q92: =((N92-O92)/N92) -> 0.8692238 | R92: =((N92-P92)/N92) -> 0.64890563 | S92: =IFERROR(VLOOKUP(I92,Hoja1!$I$6:$P$202,8,FALSE),"N/A") -> 95844 | T92: =VLOOKUP(I92,'Hoja 3'!$E$878:$G$1152,3,FALSE) -> 12696.8 | U92: =((S92-T92)/S92) -> 0.8675264
A93: =A92+1 -> 87 | B93: CAMBIO FILTRO AIRE | C93: ud | D93: 1 | E93: =IFERROR(VLOOKUP(B93,Hoja1!$B$6:$E$202,4,FALSE),"N/A") -> 19987.5 | F93: =IFERROR(VLOOKUP(B93,'Hoja 3'!E91:G385,3,FALSE),"item no compatible") -> item no compatible | H93: =H92+1 -> 87 | I93: FILTRO AIRE | L93: ud. | M93: 1 | N93: =IFERROR(VLOOKUP(I93,Hoja1!$I$6:$N$202,6,FALSE),"N/A") -> 277768 | O93: =VLOOKUP(I93,'Hoja 3'!$E$878:$G$1152,3,FALSE) -> 17452.8 | P93: =VLOOKUP(I93, 'Hoja 3'!$E$304:$H$578, 4, FALSE) -> 190887.48 | Q93: =((N93-O93)/N93) -> 0.93716771 | R93: =((N93-P93)/N93) -> 0.31278088 | S93: =IFERROR(VLOOKUP(I93,Hoja1!$I$6:$P$202,8,FALSE),"N/A") -> 276003 | T93: =VLOOKUP(I93,'Hoja 3'!$E$878:$G$1152,3,FALSE) -> 17452.8 | U93: =((S93-T93)/S93) -> 0.9367659
A94: =A93+1 -> 88 | B94: CAMBIO FILTRO COMBUSTIBLE | C94: ud | D94: 1 | E94: =IFERROR(VLOOKUP(B94,Hoja1!$B$6:$E$202,4,FALSE),"N/A") -> 60503 | F94: =IFERROR(VLOOKUP(B94,'Hoja 3'!E92:G386,3,FALSE),"item no compatible") -> item no compatible | H94: =H93+1 -> 88 | I94: FILTRO COMBUSTIBLE | L94: ud. | M94: 1 | N94: =IFERROR(VLOOKUP(I94,Hoja1!$I$6:$N$202,6,FALSE),"N/A") -> 63268 | O94: =VLOOKUP(I94,'Hoja 3'!$E$878:$G$1152,3,FALSE) -> 12696.8 | P94: =VLOOKUP(I94, 'Hoja 3'!$E$304:$H$578, 4, FALSE) -> 16361.78 | Q94: =((N94-O94)/N94) -> 0.79931719 | R94: =((N94-P94)/N94) -> 0.74138933 | S94: =IFERROR(VLOOKUP(I94,Hoja1!$I$6:$P$202,8,FALSE),"N/A") -> 62188 | T94: =VLOOKUP(I94,'Hoja 3'!$E$878:$G$1152,3,FALSE) -> 12696.8 | U94: =((S94-T94)/S94) -> 0.79583199
A95: =A94+1 -> 89 | B95: CAMBIO FLASHER 12 VOLTIOS | C95: ud | D95: 1 | E95: =IFERROR(VLOOKUP(B95,Hoja1!$B$6:$E$202,4,FALSE),"N/A") -> 69386 | F95: =IFERROR(VLOOKUP(B95,'Hoja 3'!E93:G387,3,FALSE),"item no compatible") -> item no compatible | H95: =H94+1 -> 89 | I95: FLASHER 12 VOLTIOS | L95: ud. | M95: 1 | N95: =IFERROR(VLOOKUP(I95,Hoja1!$I$6:$N$202,6,FALSE),"N/A") -> 70593.682 | O95: =VLOOKUP(I95,'Hoja 3'!$E$878:$G$1152,3,FALSE) -> 17997.6 | P95: =VLOOKUP(I95, 'Hoja 3'!$E$304:$H$578, 4, FALSE) -> 89989.81 | Q95: =((N95-O95)/N95) -> 0.74505367 | R95: =((N95-P95)/N95) -> -0.27475729 | S95: =IFERROR(VLOOKUP(I95,Hoja1!$I$6:$P$202,8,FALSE),"N/A") -> 67524.391 | T95: =VLOOKUP(I95,'Hoja 3'!$E$878:$G$1152,3,FALSE) -> 17997.6 | U95: =((S95-T95)/S95) -> 0.7334652
A96: =A95+1 -> 90 | B96: CAMBIO GUAYA ACELERADOR | C96: ud | D96: 1 | E96: =IFERROR(VLOOKUP(B96,Hoja1!$B$6:$E$202,4,FALSE),"N/A") -> 105999.44 | F96: =IFERROR(VLOOKUP(B96,'Hoja 3'!E94:G388,3,FALSE),"item no compatible") -> item no compatible | H96: =H95+1 -> 90 | I96: GUAYA ACELERADOR | L96: ud. | M96: 1 | N96: =IFERROR(VLOOKUP(I96,Hoja1!$I$6:$N$202,6,FALSE),"N/A") -> 74808.592 | O96: =VLOOKUP(I96,'Hoja 3'!$E$878:$G$1152,3,FALSE) -> 26876.8 | P96: =VLOOKUP(I96, 'Hoja 3'!$E$304:$H$578, 4, FALSE) -> 106351.6 | Q96: =((N96-O96)/N96) -> 0.64072576 | R96: =((N96-P96)/N96) -> -0.42164953 | S96: =IFERROR(VLOOKUP(I96,Hoja1!$I$6:$P$202,8,FALSE),"N/A") -> 71556.045 | T96: =VLOOKUP(I96,'Hoja 3'!$E$878:$G$1152,3,FALSE) -> 26876.8 | U96: =((S96-T96)/S96) -> 0.62439512
A97: =A96+1 -> 91 | B97: CAMBIO GUAYA EMBRAGUE | C97: ud | D97: 1 | E97: =IFERROR(VLOOKUP(B97,Hoja1!$B$6:$E$202,4,FALSE),"N/A") -> 53084.96 | F97: =IFERROR(VLOOKUP(B97,'Hoja 3'!E95:G389,3,FALSE),"item no compatible") -> item no compatible | H97: =H96+1 -> 91 | I97: GUAYA EMBRAGUE | L97: ud. | M97: 1 | N97: =IFERROR(VLOOKUP(I97,Hoja1!$I$6:$N$202,6,FALSE),"N/A") -> 74808.592 | O97: =VLOOKUP(I97,'Hoja 3'!$E$878:$G$1152,3,FALSE) -> 45551.2 | P97: =VLOOKUP(I97, 'Hoja 3'!$E$304:$H$578, 4, FALSE) -> 103624.63 | Q97: =((N97-O97)/N97) -> 0.39109668 | R97: =((N97-P97)/N97) -> -0.38519689 | S97: =IFERROR(VLOOKUP(I97,Hoja1!$I$6:$P$202,8,FALSE),"N/A") -> 71556.045 | T97: =VLOOKUP(I97,'Hoja 3'!$E$878:$G$1152,3,FALSE) -> 45551.2 | U97: =((S97-T97)/S97) -> 0.36341926
A98: =A97+1 -> 92 | B98: CAMBIO GUAYA FRENO TRASERO | C98: ud | D98: 1 | E98: =IFERROR(VLOOKUP(B98,Hoja1!$B$6:$E$202,4,FALSE),"N/A") -> N/A | F98: =IFERROR(VLOOKUP(B98,'Hoja 3'!E96:G390,3,FALSE),"item no compatible") -> item no compatible | H98: =H97+1 -> 92 | I98: GUAYA FRENO TRASERO | L98: ud. | M98: 1 | N98: =IFERROR(VLOOKUP(I98,Hoja1!$I$6:$N$202,6,FALSE),"N/A") -> N/A | O98: =VLOOKUP(I98,'Hoja 3'!$E$878:$G$1152,3,FALSE) -> 1 | P98: =VLOOKUP(I98, 'Hoja 3'!$E$304:$H$578, 4, FALSE) -> 68174.1 | Q98: N/A | R98: N/A | S98: =IFERROR(VLOOKUP(I98,Hoja1!$I$6:$P$202,8,FALSE),"N/A") -> N/A | T98: =VLOOKUP(I98,'Hoja 3'!$E$878:$G$1152,3,FALSE) -> 1 | U98: N/A
A99: =A98+1 -> 93 | B99: CAMBIO GUAYA VELOCIMETRO | C99: ud | D99: 1 | E99: =IFERROR(VLOOKUP(B99,Hoja1!$B$6:$E$202,4,FALSE),"N/A") -> 76568 | F99: =IFERROR(VLOOKUP(B99,'Hoja 3'!E97:G391,3,FALSE),"item no compatible") -> item no compatible | H99: =H98+1 -> 93 | I99: GUAYA VELOCIMETRO | L99: ud. | M99: 1 | N99: =IFERROR(VLOOKUP(I99,Hoja1!$I$6:$N$202,6,FALSE),"N/A") -> 90193 | O99: =VLOOKUP(I99,'Hoja 3'!$E$878:$G$1152,3,FALSE) -> 1 | P99: =VLOOKUP(I99, 'Hoja 3'!$E$304:$H$578, 4, FALSE) -> 55902.76 | Q99: N/A | R99: N/A | S99: =IFERROR(VLOOKUP(I99,Hoja1!$I$6:$P$202,8,FALSE),"N/A") -> 86272 | T99: =VLOOKUP(I99,'Hoja 3'!$E$878:$G$1152,3,FALSE) -> 1 | U99: N/A
A100: =A99+1 -> 94 | B100: CAMBIO GUIA CADENILLA | C100: ud | D100: 1 | E100: =IFERROR(VLOOKUP(B100,Hoja1!$B$6:$E$202,4,FALSE),"N/A") -> 116788.2 | F100: =IFERROR(VLOOKUP(B100,'Hoja 3'!E98:G392,3,FALSE),"item no compatible") -> item no compatible | H100: =H99+1 -> 94 | I100: GUIA CADENILLA | L100: ud. | M100: 1 | N100: =IFERROR(VLOOKUP(I100,Hoja1!$I$6:$N$202,6,FALSE),"N/A") -> 641783 | O100: =VLOOKUP(I100,'Hoja 3'!$E$878:$G$1152,3,FALSE) -> 7526.4 | P100: =VLOOKUP(I100, 'Hoja 3'!$E$304:$H$578, 4, FALSE) -> 313600.86 | Q100: =((N100-O100)/N100) -> 0.98827267 | R100: =((N100-P100)/N100) -> 0.51135998 | S100: =IFERROR(VLOOKUP(I100,Hoja1!$I$6:$P$202,8,FALSE),"N/A") -> 533220.97 | T100: =VLOOKUP(I100,'Hoja 3'!$E$878:$G$1152,3,FALSE) -> 7526.4 | U100: =((S100-T100)/S100) -> 0.98588503
A101: =A100+1 -> 95 | B101: CAMBIO GUIAS VALVULAS | C101: ud | D101: 1 | E101: =IFERROR(VLOOKUP(B101,Hoja1!$B$6:$E$202,4,FALSE),"N/A") -> 350821 | F101: =IFERROR(VLOOKUP(B101,'Hoja 3'!E99:G393,3,FALSE),"item no compatible") -> item no compatible | H101: =H100+1 -> 95 | I101: GUIAS VALVULAS | L101: ud. | M101: 1 | N101: =IFERROR(VLOOKUP(I101,Hoja1!$I$6:$N$202,6,FALSE),"N/A") -> 109041.09 | O101: =VLOOKUP(I101,'Hoja 3'!$E$878:$G$1152,3,FALSE) -> 20943.2 | P101: =VLOOKUP(I101, 'Hoja 3'!$E$304:$H$578, 4, FALSE) -> 88626.33 | Q101: =((N101-O101)/N101) -> 0.80793296 | R101: =((N101-P101)/N101) -> 0.18722081 | S101: =IFERROR(VLOOKUP(I101,Hoja1!$I$6:$P$202,8,FALSE),"N/A") -> 121692 | T101: =VLOOKUP(I101,'Hoja 3'!$E$878:$G$1152,3,FALSE) -> 20943.2 | U101: =((S101-T101)/S101) -> 0.82789994
A102: =A101+1 -> 96 | B102: CAMBIO HORQUILLA | C102: ud | D102: 1 | E102: =IFERROR(VLOOKUP(B102,Hoja1!$B$6:$E$202,4,FALSE),"N/A") -> 128853 | F102: =IFERROR(VLOOKUP(B102,'Hoja 3'!E100:G394,3,FALSE),"item no compatible") -> item no compatible | H102: =H101+1 -> 96 | I102: HORQUILLA | L102: ud. | M102: 1 | N102: =IFERROR(VLOOKUP(I102,Hoja1!$I$6:$N$202,6,FALSE),"N/A") -> 1299454 | O102: =VLOOKUP(I102,'Hoja 3'!$E$878:$G$1152,3,FALSE) -> 63484 | P102: =VLOOKUP(I102, 'Hoja 3'!$E$304:$H$578, 4, FALSE) -> 98170.7 | Q102: =((N102-O102)/N102) -> 0.95114564 | R102: =((N102-P102)/N102) -> 0.92445235 | S102: =IFERROR(VLOOKUP(I102,Hoja1!$I$6:$P$202,8,FALSE),"N/A") -> 1906148 | T102: =VLOOKUP(I102,'Hoja 3'!$E$878:$G$1152,3,FALSE) -> 63484 | U102: =((S102-T102)/S102) -> 0.96669514
A103: =A102+1 -> 97 | B103: CAMBIO INSTALACION ELECTRICA (ARNEX) | C103: ud | D103: 1 | E103: =IFERROR(VLOOKUP(B103,Hoja1!$B$6:$E$202,4,FALSE),"N/A") -> N/A | F103: =IFERROR(VLOOKUP(B103,'Hoja 3'!E101:G395,3,FALSE),"item no compatible") -> item no compatible | H103: =H102+1 -> 97 | I103: INSTALACION ELECTRICA (ARNEX) | L103: ud. | M103: 1 | N103: =IFERROR(VLOOKUP(I103,Hoja1!$I$6:$N$202,6,FALSE),"N/A") -> 1305831 | O103: =VLOOKUP(I103,'Hoja 3'!$E$878:$G$1152,3,FALSE) -> 82463.2 | P103: =VLOOKUP(I103, 'Hoja 3'!$E$304:$H$578, 4, FALSE) -> 121349.9 | Q103: =((N103-O103)/N103) -> 0.93685002 | R103: =((N103-P103)/N103) -> 0.90707075 | S103: =IFERROR(VLOOKUP(I103,Hoja1!$I$6:$P$202,8,FALSE),"N/A") -> 2072359 | T103: =VLOOKUP(I103,'Hoja 3'!$E$878:$G$1152,3,FALSE) -> 82463.2 | U103: =((S103-T103)/S103) -> 0.96020805
A104: =A103+1 -> 98 | B104: CAMBIO INTERRUPTOR APAGADO RUN | C104: ud | D104: 1 | E104: =IFERROR(VLOOKUP(B104,Hoja1!$B$6:$E$202,4,FALSE),"N/A") -> 53228 | F104: =IFERROR(VLOOKUP(B104,'Hoja 3'!E102:G396,3,FALSE),"item no compatible") -> item no compatible | H104: =H103+1 -> 98 | I104: INTERRUPTOR APAGADO RUN | L104: ud. | M104: 1 | N104: =IFERROR(VLOOKUP(I104,Hoja1!$I$6:$N$202,6,FALSE),"N/A") -> 282578.54 | O104: =VLOOKUP(I104,'Hoja 3'!$E$878:$G$1152,3,FALSE) -> 18324.8 | P104: =VLOOKUP(I104, 'Hoja 3'!$E$304:$H$578, 4, FALSE) -> 313600.86 | Q104: =((N104-O104)/N104) -> 0.93515148 | R104: =((N104-P104)/N104) -> -0.109783 | S104: =IFERROR(VLOOKUP(I104,Hoja1!$I$6:$P$202,8,FALSE),"N/A") -> 252900 | T104: =VLOOKUP(I104,'Hoja 3'!$E$878:$G$1152,3,FALSE) -> 18324.8 | U104: =((S104-T104)/S104) -> 0.92754132
A105: =A104+1 -> 99 | B105: CAMBIO INYECTOR | C105: ud | D105: 1 | E105: =IFERROR(VLOOKUP(B105,Hoja1!$B$6:$E$202,4,FALSE),"N/A") -> 200491 | F105: =IFERROR(VLOOKUP(B105,'Hoja 3'!E103:G397,3,FALSE),"item no compatible") -> item no compatible | H105: =H104+1 -> 99 | I105: INYECTOR | L105: ud. | M105: 1 | N105: =IFERROR(VLOOKUP(I105,Hoja1!$I$6:$N$202,6,FALSE),"N/A") -> 2081101 | O105: =VLOOKUP(I105,'Hoja 3'!$E$878:$G$1152,3,FALSE) -> 132203.2 | P105: =VLOOKUP(I105, 'Hoja 3'!$E$304:$H$578, 4, FALSE) -> 654471.36 | Q105: =((N105-O105)/N105) -> 0.93647439 | R105: =((N105-P105)/N105) -> 0.68551677 | S105: =IFERROR(VLOOKUP(I105,Hoja1!$I$6:$P$202,8,FALSE),"N/A") -> N/A | T105: =VLOOKUP(I105,'Hoja 3'!$E$878:$G$1152,3,FALSE) -> 132203.2 | U105: N/A
...

Sheet Hoja1
E3: VALOR TECHO | F3: OFERTA ECONOMICA | M3: Cant de repuestos | N3: VALOR TECHO | O3: OFERTA ECONOMICA | P3: VALOR TECHO | Q3: OFERTA ECONOMICA
A4: N° | B4: DESCRIPCION DEL SERVICIO MANO DE OBRA | C4: und | D4: Cant | E4: PRECIO DE MANO DE OBRA | F4: PRECIO DE MANO DE OBRA | H4: N° | I4: DESCRIPCION DEL REPUESTO | L4: und | N4: XRE300 ABS | O4: XRE300 ABS | P4: XR-250 TORNADO | Q4: XR-250 TORNADO
E5: VALOR CON IVA | F5: VALOR CON IVA | N5: VALOR REPUESTO CON IVA | O5: VALOR REPUESTO CON IVA | P5: VALOR REPUESTO CON IVA | Q5: VALOR REPUESTO CON IVA
A6: 1 | B6: CAMBIO ACEITE | C6: ud | D6: 1 | E6: 40743 | H6: 1 | I6: ACEITE 4T | L6: 1/4GAL | M6: 1 | N6: 52990 | P6: 52270
A7: =A6+1 -> 2 | B7: CAMBIO ACEITE HIDRAULICO | C7: ud | D7: 1 | E7: 314958 | H7: =H6+1 -> 2 | I7: ACEITE HIDRAULICO | L7: 1/4GAL | M7: 1 | N7: 54633 | P7: 54633
A8: =A7+1 -> 3 | B8: CAMBIO AMORTIGUADOR DELANTERO | C8: ud | D8: 1 | E8: 314958 | H8: =H7+1 -> 3 | I8: AMORTIGUADOR DELANTERO | L8: ud. | M8: 1 | N8: 2299419 | P8: 1255215
A9: =A8+1 -> 4 | B9: CAMBIO AMORTIGUADOR TRASERO | C9: ud | D9: 1 | E9: 128846.5 | H9: =H8+1 -> 4 | I9: AMORTIGUADOR TRASERO | L9: ud. | M9: 1 | N9: 2197579.8 | P9: 1975267
A10: =A9+1 -> 5 | B10: CAMBIO ANILLOS | C10: ud | D10: 1 | E10: 701497.5 | H10: =H9+1 -> 5 | I10: ANILLOS | L10: ud. | M10: 1 | N10: 367776 | P10: 432102
A11: =A10+1 -> 6 | B11: CAMBIO ARRANQUE | C11: ud | D11: 1 | E11: 171145 | H11: =H10+1 -> 6 | I11: ARRANQUE | L11: ud. | M11: 1 | N11: 674923.59 | P11: 547073.4
A12: =A11+1 -> 7 | B12: CAMBIO AUTOMATICO ARRANQUE | C12: ud | D12: 1 | E12: 79950 | H12: =H11+1 -> 7 | I12: AUTOMATICO ARRANQUE | L12: ud. | M12: 1 | N12: 473456.1 | P12: 531110.3
A13: =A12+1 -> 8 | B13: CAMBIO BANDAS FRENO TRASERO | C13: ud | D13: 1 | E13: 42949.5 | H13: =H12+1 -> 8 | I13: BANDAS FRENO TRASERO | L13: ud. | M13: 1 | N13: N/A | O13: N/A | P13: 166145
A14: =A13+1 -> 9 | B14: CAMBIO BASE ESPEJO IZQUIERDO COMPLETO | C14: ud | D14: 1 | E14: 21233.352 | H14: =H13+1 -> 9 | I14: BASE ESPEJO IZQUIERDO COMPLETO | L14: ud. | M14: 1 | N14: 80177 | P14: 135868.25
A15: =A14+1 -> 10 | B15: CAMBIO BASE MALETERO | C15: ud | D15: 1 | E15: 33312.5 | H15: =H14+1 -> 10 | I15: BASE MALETERO | L15: ud. | M15: 1 | N15: 227361 | P15: 217475
A16: =A15+1 -> 11 | B16: CAMBIO BATERIA | C16: ud | D16: 1 | E16: 13325 | H16: =H15+1 -> 11 | I16: BATERIA | L16: ud. | M16: 1 | N16: 190654 | P16: 179498
A17: =A16+1 -> 12 | B17: CAMBIO BIELA | C17: ud | D17: 1 | E17: 435299.61 | H17: =H16+1 -> 12 | I17: BIELA | L17: ud. | M17: 1 | N17: 705602 | P17: 674924
A18: =A17+1 -> 13 | B18: CAMBIO BOBINA DE ALTA | C18: ud | D18: 1 | E18: 159900 | H18: =H17+1 -> 13 | I18: BOBINA DE ALTA | L18: ud. | M18: 1 | N18: 478354 | P18: 472161.95
A19: =A18+1 -> 14 | B19: CAMBIO BOBINA DE CARGA | C19: ud | D19: 1 | E19: 149068 | H19: =H18+1 -> 14 | I19: BOBINA DE CARGA | L19: ud. | M19: 1 | N19: 1817759 | P19: 1317987
A20: =A19+1 -> 15 | B20: CAMBIO BOMBA ACEITE | C20: ud | D20: 1 | E20: 227070 | H20: =H19+1 -> 15 | I20: BOMBA ACEITE | L20: ud. | M20: 1 | N20: 421165 | P20: 413693
A21: =A20+1 -> 16 | B21: CAMBIO BOMBA FRENO DELANTERO CON DEPOSITO | C21: ud | D21: 1 | E21: 178292 | H21: =H20+1 -> 16 | I21: BOMBA FRENO DELANTERO CON DEPOSITO | L21: ud. | M21: 1 | N21: 1146824 | P21: N/A | Q21: N/A
A22: =A21+1 -> 17 | B22: CAMBIO BOMBA FRENO TRASERO CON DEPOSITO | C22: ud | D22: 1 | E22: 199875 | H22: =H21+1 -> 17 | I22: BOMBA FRENO TRASERO CON DEPOSITO | L22: ud. | M22: 1 | N22: 613089 | P22: 501232
A23: =A22+1 -> 18 | B23: CAMBIO BOMBILLO DIRECCIONAL | C23: ud | D23: 1 | E23: 59962.5 | H23: =H22+1 -> 18 | I23: BOMBILLO DIRECCIONAL | L23: ud. | M23: 1 | N23: N/A | O23: N/A | P23: 6036
A24: =A23+1 -> 19 | B24: CAMBIO BOMBILLO FAROLA | C24: ud | D24: 1 | E24: 69386 | H24: =H23+1 -> 19 | I24: BOMBILLO FAROLA | L24: ud. | M24: 1 | N24: N/A | O24: N/A | P24: 38229.5
A25: =A24+1 -> 20 | B25: CAMBIO BOMBILLO PORTA PLACA | C25: ud | D25: 1 | E25: 38607 | H25: =H24+1 -> 20 | I25: BOMBILLO PORTA PLACA | L25: ud. | M25: 1 | N25: 16414 | P25: N/A | Q25: N/A
A26: =A25+1 -> 21 | B26: CAMBIO BOMBILLO STOP | C26: ud | D26: 1 | E26: 38607 | H26: =H25+1 -> 21 | I26: BOMBILLO STOP | L26: ud. | M26: 1 | N26: N/A | O26: N/A | P26: 15547
A27: =A26+1 -> 22 | B27: CAMBIO BRAZO TENSOR MECANICO | C27: ud | D27: 1 | E27: 95553.259 | H27: =H26+1 -> 22 | I27: BRAZO TENSOR MECANICO | L27: ud. | M27: 1 | N27: 294278 | P27: 318281.51
A28: =A27+1 -> 23 | B28: CAMBIO BUJE SEPARADOR RODAMIENTO RUEDA TRASERA | C28: ud | D28: 1 | E28: 125957 | H28: =H27+1 -> 23 | I28: BUJE SEPARADOR RODAMIENTO RUEDA TRASERA | L28: ud. | M28: 1 | N28: 86563 | P28: 19363.8
A29: =A28+1 -> 24 | B29: CAMBIO BUJES BALANCIN SUSPENSION TRASERA | C29: ud | D29: 1 | E29: 163224 | H29: =H28+1 -> 24 | I29: BUJES BALANCIN SUSPENSION TRASERA | L29: ud. | M29: 1 | N29: 40278.7 | P29: 73672.35
A30: =A29+1 -> 25 | B30: CAMBIO BUJES MONO BRAZO COMPLETO | C30: ud | D30: 1 | E30: 159900 | H30: =H29+1 -> 25 | I30: BUJES MONO BRAZO COMPLETO | L30: ud. | M30: 1 | N30: 113390 | P30: 113390
A31: =A30+1 -> 26 | B31: CAMBIO BUJES SUSPENSION TRASERA | C31: ud | D31: 1 | E31: 159685 | H31: =H30+1 -> 26 | I31: BUJES SUSPENSION TRASERA | L31: ud. | M31: 1 | N31: 191880 | P31: 191880
A32: =A31+1 -> 27 | B32: CAMBIO BUJES TIJERA COMPLETO | C32: ud | D32: 1 | E32: 163224 | H32: =H31+1 -> 27 | I32: BUJES TIJERA COMPLETO | L32: ud. | M32: 1 | N32: 158566.98 | P32: 151672.76
A33: =A32+1 -> 28 | B33: CAMBIO BUJIA | C33: ud | D33: 1 | E33: 13325 | H33: =H32+1 -> 28 | I33: BUJIA | L33: ud. | M33: 1 | N33: 411654 | P33: 97336.7
A34: =A33+1 -> 29 | B34: CAMBIO CABLE POSITIVO BATERIA | C34: ud | D34: 1 | E34: 13325 | H34: =H33+1 -> 29 | I34: CABLE POSITIVO BATERIA | L34: ud. | M34: 1 | N34: N/A | O34: N/A | P34: 21718.35
A35: =A34+1 -> 30 | B35: CAMBIO CADENILLA REPARTICION | C35: ud | D35: 1 | E35: 258555 | H35: =H34+1 -> 30 | I35: CADENILLA REPARTICION | L35: ud. | M35: 1 | N35: 403662 | P35: 398047
A36: =A35+1 -> 31 | B36: CAMBIO CAJA COMPLETA FILTRO DE AIRE | C36: ud | D36: 1 | E36: 26021.554 | H36: =H35+1 -> 31 | I36: CAJA COMPLETA FILTRO DE AIRE | L36: ud. | M36: 1 | N36: 117634 | P36: 112519
A37: =A36+1 -> 32 | B37: CAMBIO CAJA EMBRAGUE COMPLETO | C37: ud | D37: 1 | E37: 192388 | H37: =H36+1 -> 32 | I37: CAJA EMBRAGUE COMPLETO | L37: ud. | M37: 1 | N37: 183991.5 | P37: 168361.5
A38: =A37+1 -> 33 | B38: CAMBIO CAJA PIÑON VELOCIMETRO | C38: ud | D38: 1 | E38: 57911.022 | H38: =H37+1 -> 33 | I38: CAJA PIÑON VELOCIMETRO | L38: ud. | M38: 1 | N38: N/A | O38: N/A | P38: 464157
A39: =A38+1 -> 34 | B39: CAMBIO CALIPER FRENO DELANTERO | C39: ud | D39: 1 | E39: 163224 | H39: =H38+1 -> 34 | I39: CALIPER FRENO DELANTERO | L39: ud. | M39: 1 | N39: 803842 | P39: 913030
A40: =A39+1 -> 35 | B40: CAMBIO CALIPER FRENO TRASERO | C40: ud | D40: 1 | E40: 159685 | H40: =H39+1 -> 35 | I40: CALIPER FRENO TRASERO | L40: ud. | M40: 1 | N40: 840105 | P40: N/A | Q40: N/A
A41: =A40+1 -> 36 | B41: CAMBIO CAMPANA TRASERA | C41: ud | D41: 1 | E41: 223781 | H41: =H40+1 -> 36 | I41: CAMPANA TRASERA | L41: ud. | M41: 1 | N41: 1053586 | P41: 936473
A42: =A41+1 -> 37 | B42: CAMBIO CAÑA ACELERADOR | C42: ud | D42: 1 | E42: 40744 | H42: =H41+1 -> 37 | I42: CAÑA ACELERADOR | L42: ud. | M42: 1 | N42: 61850 | P42: 63069.457
A43: =A42+1 -> 38 | B43: CAMBIO CAPUCHON BUJIA | C43: ud | D43: 1 | E43: 13325 | H43: =H42+1 -> 38 | I43: CAPUCHON BUJIA | L43: ud. | M43: 1 | N43: 10010 | P43: 9574
A44: =A43+1 -> 39 | B44: CAMBIO CASQUETES BIELA | C44: ud | D44: 1 | E44: 318511.4 | H44: =H43+1 -> 39 | I44: CASQUETES BIELA | L44: ud. | M44: 1 | N44: 179654 | P44: 171843
A45: =A44+1 -> 40 | B45: CAMBIO CATALINA DE CADENA | C45: ud | D45: 1 | E45: 48258.918 | H45: =H44+1 -> 40 | I45: CATALINA DE CADENA | L45: ud. | M45: 1 | N45: 393431 | P45: 306752
A46: =A45+1 -> 41 | B46: CAMBIO CAUCHO CAMPANA | C46: ud | D46: 1 | E46: 46329 | H46: =H45+1 -> 41 | I46: CAUCHO CAMPANA | L46: ud. | M46: 1 | N46: 164625 | P46: N/A | Q46: N/A
A47: =A46+1 -> 42 | B47: CAMBIO CAUCHO MANGO IZQUIERDO | C47: ud | D47: 1 | E47: 13325 | H47: =H46+1 -> 42 | I47: CAUCHO MANGO IZQUIERDO | L47: ud. | M47: 1 | N47: 38975.5 | P47: 38840.85
A48: =A47+1 -> 43 | B48: CAMBIO CAUCHO MANILAR IZQUIERDO | C48: ud | D48: 1 | E48: 13325 | H48: =H47+1 -> 43 | I48: CAUCHO MANILAR IZQUIERDO | L48: ud. | M48: 1 | N48: 5175.6 | P48: 5175.6
A49: =A48+1 -> 44 | B49: CAMBIO CAUCHO MORDAZA | C49: ud | D49: 1 | E49: 19987.5 | H49: =H48+1 -> 44 | I49: CAUCHO MORDAZA | L49: ud. | M49: 1 | N49: 54288 | P49: 53720
A50: =A49+1 -> 45 | B50: CAMBIO CDI UNIDAD ELECTRONICA | C50: ud | D50: 1 | E50: 46637.5 | H50: =H49+1 -> 45 | I50: CDI UNIDAD ELECTRONICA | L50: ud. | M50: 1 | N50: 580283.75 | P50: 1465291
A51: =A50+1 -> 46 | B51: CAMBIO CHAPA MALETERO | C51: ud | D51: 1 | E51: 38606.814 | H51: =H50+1 -> 46 | I51: CHAPA MALETERO | L51: ud. | M51: 1 | N51: 43984 | P51: 42072
A52: =A51+1 -> 47 | B52: CAMBIO CIGÜEÑAL | C52: ud | D52: 1 | E52: 836023 | H52: =H51+1 -> 47 | I52: CIGÜEÑAL | L52: ud. | M52: 1 | N52: 1945889 | P52: 2539344
A53: =A52+1 -> 48 | B53: CAMBIO CILINDRO MOTOR | C53: ud | D53: 1 | E53: 516509 | H53: =H52+1 -> 48 | I53: CILINDRO MOTOR | L53: ud. | M53: 1 | N53: 1341525 | P53: 1306789
A54: =A53+1 -> 49 | B54: CAMBIO CONJUNTO MANIJA EMBRAGUE | C54: ud | D54: 1 | E54: 19987.5 | H54: =H53+1 -> 49 | I54: CONJUNTO MANIJA EMBRAGUE | L54: ud. | M54: 1 | N54: 168444 | P54: 160666
A55: =A54+1 -> 50 | B55: CAMBIO CORONA BOBINA | C55: ud | D55: 1 | E55: 124252 | H55: =H54+1 -> 50 | I55: CORONA BOBINA | L55: ud. | M55: 1 | N55: 1620376 | P55: 1799254
A56: =A55+1 -> 51 | B56: CAMBIO CULATA MOTOR | C56: ud | D56: 1 | E56: 201723.2 | H56: =H55+1 -> 51 | I56: CULATA MOTOR | L56: ud. | M56: 1 | N56: 2706438 | P56: 2815858.1
A57: =A56+1 -> 52 | B57: CAMBIO CUNAS DIRECCION | C57: ud | D57: 1 | E57: 26021.554 | H57: =H56+1 -> 52 | I57: CUNAS DIRECCION | L57: ud. | M57: 1 | N57: 412851 | P57: 406316
A58: =A57+1 -> 53 | B58: CAMBIO DIRECCIONAL DELANTERA R Y L | C58: ud | D58: 1 | E58: 69386 | H58: =H57+1 -> 53 | I58: DIRECCIONAL DELANTERA R Y L | L58: ud. | M58: 1 | N58: 161057.48 | P58: 154054.98
... A64: =A63+1 -> 59 | B64: CAMBIO EJE DE LEVAS | C64: ud | D64: 1 | E64: 237115 | H64: =H63+1 -> 59 | I64: EJE DE LEVAS | L64: ud. | M64: 1 | N64: 1172050.5 | P64: 1121091.7
A65: =A64+1 -> 60 | B65: CAMBIO EJE LEVA FRENO | C65: ud | D65: 1 | E65: N/A | F65: N/A | H65: =H64+1 -> 60 | I65: EJE LEVA FRENO | L65: ud. | M65: 1 | N65: 170137 | P65: 214553
A66: =A65+1 -> 61 | B66: CAMBIO EMBOLO VALVULA ADMISION (MONEDA) | C66: ud | D66: 1 | E66: 205907 | H66: =H65+1 -> 61 | I66: EMBOLO VALVULA ADMISION (MONEDA) | L66: ud. | M66: 1 | N66: 169813 | P66: 166659
A67: =A66+1 -> 62 | B67: CAMBIO EMBOLO VALVULA ESCAPE (MONEDA) | C67: ud | D67: 1 | E67: 205907 | H67: =H66+1 -> 62 | I67: EMBOLO VALVULA ESCAPE (MONEDA) | L67: ud. | M67: 1 | N67: 150856 | P67: 148991
A68: =A67+1 -> 63 | B68: CAMBIO EMPAQUE CILINDRO | C68: ud | D68: 1 | E68: 269753 | H68: =H67+1 -> 63 | I68: EMPAQUE CILINDRO | L68: ud. | M68: 1 | N68: 36541 | P68: 17150.65
A69: =A68+1 -> 64 | B69: CAMBIO EMPAQUE CLUTCH | C69: ud | D69: 1 | E69: 104652 | H69: =H68+1 -> 64 | I69: EMPAQUE CLUTCH | L69: ud. | M69: 1 | N69: 106556 | P69: 28669.9
A70: =A69+1 -> 65 | B70: CAMBIO EMPAQUE CULATA | C70: ud | D70: 1 | E70: 212985 | H70: =H69+1 -> 65 | I70: EMPAQUE CULATA | L70: ud. | M70: 1 | N70: 164170 | P70: 52347.25
A71: =A70+1 -> 66 | B71: CAMBIO EMPAQUE CULATIN | C71: ud | D71: 1 | E71: 55865 | H71: =H70+1 -> 66 | I71: EMPAQUE CULATIN | L71: ud. | M71: 1 | N71: 102244 | P71: 15398.4
A72: =A71+1 -> 67 | B72: CAMBIO EMPAQUE SALIDA EXHOSTO | C72: ud | D72: 1 | E72: 30636 | H72: =H71+1 -> 67 | I72: EMPAQUE SALIDA EXHOSTO | L72: ud. | M72: 1 | N72: 39310 | P72: 38762
A73: =A72+1 -> 68 | B73: CAMBIO EMPAQUE TAPA CAMBIOS | C73: ud | D73: 1 | E73: 88690 | H73: =H72+1 -> 68 | I73: EMPAQUE TAPA CAMBIOS | L73: ud. | M73: 1 | N73: 20853.5 | P73: 24852.65
A74: =A73+1 -> 69 | B74: CAMBIO EMPAQUE TAPA DE CARTER DERECHA | C74: ud | D74: 1 | E74: 92229 | H74: =H73+1 -> 69 | I74: EMPAQUE TAPA DE CARTER DERECHA | L74: ud. | M74: 1 | N74: 81541 | P74: 28669.9
A75: =A74+1 -> 70 | B75: CAMBIO EMPAQUE TAPA VALVULA | C75: ud | D75: 1 | E75: 95840 | H75: =H74+1 -> 70 | I75: EMPAQUE TAPA VALVULA | L75: ud. | M75: 1 | N75: 90699 | P75: 15398.4
A76: =A75+1 -> 71 | B76: CAMBIO EMPAQUE TENSOR AUTOMATICO CADENILLA | C76: ud | D76: 1 | E76: 38606.814 | H76: =H75+1 -> 71 | I76: EMPAQUE TENSOR AUTOMATICO CADENILLA | L76: ud. | M76: 1 | N76: 14020 | P76: 13779
A77: =A76+1 -> 72 | B77: CAMBIO EMPAQUE UNION EXOSTO | C77: ud | D77: 1 | E77: 48402 | H77: =H76+1 -> 72 | I77: EMPAQUE UNION EXOSTO | L77: ud. | M77: 1 | N77: N/A | O77: N/A | P77: 30972
A78: =A77+1 -> 73 | B78: CAMBIO EMPAQUE VOLANTE | C78: ud | D78: 1 | E78: 83417 | H78: =H77+1 -> 73 | I78: EMPAQUE VOLANTE | L78: ud. | M78: 1 | N78: 73410 | P78: 15851.4
A79: =A78+1 -> 74 | B79: CAMBIO EMPAQUETADURA BOMBA FRENO TRASERO | C79: ud | D79: 1 | E79: 151642 | H79: =H78+1 -> 74 | I79: EMPAQUETADURA BOMBA FRENO TRASERO | L79: ud. | M79: 1 | N79: 143570 | P79: 140749
A80: =A79+1 -> 75 | B80: CAMBIO EMPAQUETADURA MOTOR | C80: ud | D80: 1 | E80: 587289 | H80: =H79+1 -> 75 | I80: EMPAQUETADURA MOTOR | L80: ud. | M80: 1 | N80: 576706 | P80: 446704
A81: =A80+1 -> 76 | B81: CAMBIO ENGRANAJE DE PARTIDA ARRANQUE | C81: ud | D81: 1 | E81: 266070 | H81: =H80+1 -> 76 | I81: ENGRANAJE DE PARTIDA ARRANQUE | L81: ud. | M81: 1 | N81: N/A | O81: N/A | P81: 277494.65
A82: =A81+1 -> 77 | B82: CAMBIO ENGRANAJE SECUNDARIO TERCERA | C82: ud | D82: 1 | E82: 105999.44 | H82: =H81+1 -> 77 | I82: ENGRANAJE SECUNDARIO TERCERA | L82: ud. | M82: 1 | N82: N/A | O82: N/A | P82: 105334.87
A83: =A82+1 -> 78 | B83: CAMBIO ESCOBILLA ARRANQUEY PORTA ESCOBILLA | C83: ud | D83: 1 | E83: 172179 | H83: =H82+1 -> 78 | I83: ESCOBILLA ARRANQUEY PORTA ESCOBILLA | L83: ud. | M83: 1 | N83: 113537 | P83: N/A | Q83: N/A
A84: =A83+1 -> 79 | B84: CAMBIO ESFERAS DE LA DIRECCION | C84: ud | D84: 1 | E84: 125957 | H84: =H83+1 -> 79 | I84: ESFERAS DE LA DIRECCION | L84: ud. | M84: 1 | N84: 450866 | P84: 431263
A85: =A84+1 -> 80 | B85: CAMBIO ESPEJO DERECHO O IZQUIERDO | C85: ud | D85: 1 | E85: 24127 | H85: =H84+1 -> 80 | I85: ESPEJO DERECHO O IZQUIERDO | L85: ud. | M85: 1 | N85: 224261 | P85: N/A | Q85: N/A
A86: =A85+1 -> 81 | B86: CAMBIO FAROLA DELANTERA | C86: ud | D86: 1 | E86: 63701.646 | H86: =H85+1 -> 81 | I86: FAROLA DELANTERA | L86: ud. | M86: 1 | N86: 488834.44 | P86: 467580.77
A87: =A86+1 -> 82 | B87: CAMBIO FILTRO ACEITE | C87: ud | D87: 1 | E87: 26650 | H87: =H86+1 -> 82 | I87: FILTRO ACEITE | L87: ud. | M87: 1 | N87: 97088 | P87: 95844
A88: =A87+1 -> 83 | B88: CAMBIO FILTRO AIRE | C88: ud | D88: 1 | E88: 19987.5 | H88: =H87+1 -> 83 | I88: FILTRO AIRE | L88: ud. | M88: 1 | N88: 277768 | P88: 276003
A89: =A88+1 -> 84 | B89: CAMBIO FILTRO COMBUSTIBLE | C89: ud | D89: 1 | E89: 60503 | H89: =H88+1 -> 84 | I89: FILTRO COMBUSTIBLE | L89: ud. | M89: 1 | N89: 63268 | P89: 62188
A90: =A89+1 -> 85 | B90: CAMBIO FLASHER 12 VOLTIOS | C90: ud | D90: 1 | E90: 69386 | H90: =H89+1 -> 85 | I90: FLASHER 12 VOLTIOS | L90: ud. | M90: 1 | N90: 70593.681 | P90: 67524.391
A91: =A90+1 -> 86 | B91: CAMBIO GUAYA ACELERADOR | C91: ud | D91: 1 | E91: 105999.44 | H91: =H90+1 -> 86 | I91: GUAYA ACELERADOR | L91: ud. | M91: 1 | N91: 74808.592 | P91: 71556.045
A92: =A91+1 -> 87 | B92: CAMBIO GUAYA EMBRAGUE | C92: ud | D92: 1 | E92: 53084.96 | H92: =H91+1 -> 87 | I92: GUAYA EMBRAGUE | L92: ud. | M92: 1 | N92: 74808.592 | P92: 71556.045
A93: =A92+1 -> 88 | B93: CAMBIO GUAYA VELOCIMETRO | C93: ud | D93: 1 | E93: 76568 | H93: =H92+1 -> 88 | I93: GUAYA VELOCIMETRO | L93: ud. | M93: 1 | N93: 90193 | P93: 86272
A94: =A93+1 -> 89 | B94: CAMBIO GUIA CADENILLA | C94: ud | D94: 1 | E94: 116788.2 | H94: =H93+1 -> 89 | I94: GUIA CADENILLA | L94: ud. | M94: 1 | N94: 641783 | P94: 533220.97
A95: =A94+1 -> 90 | B95: CAMBIO GUIAS VALVULAS | C95: ud | D95: 1 | E95: 350821 | H95: =H94+1 -> 90 | I95: GUIAS VALVULAS | L95: ud. | M95: 1 | N95: 109041.09 | P95: 121692
A96: =A95+1 -> 91 | B96: CAMBIO HORQUILLA | C96: ud | D96: 1 | E96: 128853 | H96: =H95+1 -> 91 | I96: HORQUILLA | L96: ud. | M96: 1 | N96: 1299454 | P96: 1906148
A97: =A96+1 -> 92 | B97: CAMBIO INSTALACION ELECTRICA (ARNEX) | C97: ud | D97: 1 | E97: N/A | F97: N/A | H97: =H96+1 -> 92 | I97: INSTALACION ELECTRICA (ARNEX) | L97: ud. | M97: 1 | N97: 1305831 | P97: 2072359
A98: =A97+1 -> 93 | B98: CAMBIO INTERRUPTOR APAGADO RUN | C98: ud | D98: 1 | E98: 53228 | H98: =H97+1 -> 93 | I98: INTERRUPTOR APAGADO RUN | L98: ud. | M98: 1 | N98: 282578.54 | P98: 252900
A99: =A98+1 -> 94 | B99: CAMBIO INYECTOR | C99: ud | D99: 1 | E99: 200491 | H99: =H98+1 -> 94 | I99: INYECTOR | L99: ud. | M99: 1 | N99: 2081101 | P99: N/A | Q99: N/A
A100: =A99+1 -> 95 | B100: CAMBIO JUEGO CUACHOS MANILARES | C100: ud | D100: 1 | E100: 38295 | H100: =H99+1 -> 95 | I100: JUEGO CUACHOS MANILARES | L100: ud. | M100: 1 | N100: 89438 | P100: 88413
A101: =A100+1 -> 96 | B101: CAMBIO JUEGO DISCOS EMBRAGUE | C101: ud | D101: 1 | E101: 227141 | H101: =H100+1 -> 96 | I101: JUEGO DISCOS EMBRAGUE | L101: ud. | M101: 1 | N101: 523057 | P101: 189839.85
A102: =A101+1 -> 97 | B102: CAMBIO KIT ARRASTRE | C102: ud | D102: 1 | E102: 157952 | H102: =H101+1 -> 97 | I102: KIT ARRASTRE | L102: ud. | M102: 1 | N102: 764862 | P102: 605358
A103: =A102+1 -> 98 | B103: CAMBIO KIT BIELA | C103: ud | D103: 1 | E103: 1145301 | H103: =H102+1 -> 98 | I103: KIT BIELA | L103: ud. | M103: 1 | N103: 1532223 | P103: N/A | Q103: N/A
A104: =A103+1 -> 99 | B104: CAMBIO KIT BUJES TIJERA COMPLETO | C104: ud | D104: 1 | E104: 137379 | H104: =H103+1 -> 99 | I104: KIT BUJES TIJERA COMPLETO | L104: ud. | M104: 1 | N104: 90402.995 | P104: 86472.43
A105: =A104+1 -> 100 | B105: CAMBIO KIT PISTON | C105: ud | D105: 1 | E105: 337815.61 | H105: =H104+1 -> 100 | I105: KIT PISTON | L105: ud. | M105: 1 | N105: 689057 | P105: 513391
A106: =A105+1 -> 101 | B106: CAMBIO KIT RETENEDORES MOTOR | C106: ud | D106: 1 | E106: 191106.53 | H106: =H105+1 -> 101 | I106: KIT RETENEDORES MOTOR | L106: ud. | M106: 1 | N106: 98050.6 | P106: 98050.6
A107: =A106+1 -> 102 | B107: CAMBIO KIT RODAMIETOS CAJA CAMBIOS 4 | C107: ud | D107: 1 | E107: 456532.97 | H107: =H106+1 -> 102 | I107: KIT RODAMIETOS CAJA CAMBIOS 4 | L107: ud. | M107: 1 | N107: 309618.97 | P107: 881024.8
...

Sheet Hoja 3
B3: OMAR HENRY CORTES VELASQUEZ | G3: precios 2025 ofertados
B4: Referencia producto | C4: INTERVALO | D4: TIPO | E4: Descripción | F4: Cantidad | G4: Precio unitario | H4: Precio Techo | I4: CONDICION | J4: DIFERENCIA | K4: h
B5: I3-MO-TEMP-00001 | C5: INTERVALO 3 | D5: TEMPARIO | E5: ACEITE | F5: 1 | G5: 1 | H5: 3604.34 | I5: TRUE | J5: $ 24.546,06 | K5: 1 | M5: 1
B6: I3-MO-TEMP-00002 | C6: INTERVALO 3 | D6: TEMPARIO | E6: ACEITE 4T | F6: 1 | G6: 1254.4 | H6: 3604.34 | I6: TRUE | J6: $ 17.234,90 | K6: 0.9999 | M6: 1
B7: I3-MO-TEMP-00003 | C7: INTERVALO 3 | D7: TEMPARIO | E7: ACEITE DE DIFERENCIAL FRONTAL SAE 90 | F7: 1 | G7: 1 | H7: 36037.66 | I7: TRUE | J7: $ 17.234,90 | K7: 0.9999 | M7: 1
B8: I3-MO-TEMP-00004 | C8: INTERVALO 3 | D8: TEMPARIO | E8: ACEITE DEL ENGRANAJE FINAL SAE 90 | F8: 1 | G8: 1 | H8: 36037.66 | I8: TRUE | J8: $ 111.890,39 | K8: 0.8782 | M8: 15524
B9: I3-MO-TEMP-00005 | C9: INTERVALO 3 | D9: TEMPARIO | E9: ACEITE HIDRAULICO | F9: 1 | G9: 648.8 | H9: 54056.49 | I9: TRUE | J9: $ 112.029,48 | K9: 1 | M9: 1
B10: I3-MO-TEMP-00006 | C10: INTERVALO 3 | D10: TEMPARIO | E10: AGUJA CARBURADOR | F10: 1 | G10: 1 | H10: 36037.66 | I10: TRUE | J10: $ 123.907,28 | K10: 1 | M10: 1
B11: I3-MO-TEMP-00007 | C11: INTERVALO 3 | D11: TEMPARIO | E11: ALTERNADOR | F11: 1 | G11: 1 | H11: 54056.49 | I11: TRUE | J11: $ 145.882,05 | K11: 1 | M11: 1
B12: I3-MO-TEMP-00008 | C12: INTERVALO 3 | D12: TEMPARIO | E12: AMORTIGUADOR DELANTERO | F12: 1 | G12: 1 | H12: 54056.49 | I12: TRUE | J12: $ 138.592,08 | K12: 0.8941 | M12: 16410
B13: I3-MO-TEMP-00009 | C13: INTERVALO 3 | D13: TEMPARIO | E13: AMORTIGUADOR TRASERO | F13: 1 | G13: 8649.2 | H13: 54056.49 | I13: TRUE | J13: $ 236.124,24 | K13: 1 | M13: 1
B14: I3-MO-TEMP-00010 | C14: INTERVALO 3 | D14: TEMPARIO | E14: ANILLOS | F14: 1 | G14: 1730 | H14: 144150.63 | I14: TRUE | J14: $ 297.378,01 | K14: 1 | M14: 1
B15: I3-MO-TEMP-00011 | C15: INTERVALO 3 | D15: TEMPARIO | E15: ARBOL DE LEVAS | F15: 1 | G15: 1 | H15: 72075.32 | I15: TRUE | J15: $ 96.319,59 | K15: 1 | M15: 1
B16: I3-MO-TEMP-00012 | C16: INTERVALO 3 | D16: TEMPARIO | E16: ARRANQUE | F16: 1 | G16: 1 | H16: 36037.66 | I16: TRUE | J16: $ 75.746,98 | K16: 1 | M16: 1
... B576: I3-MO-REP-00273 | C576: INTERVALO 3 | D576: REPUESTO | E576: VENTILADOR | F576: 1 | G576: 1 | H576: 1295307.9 | I576: TRUE | J576: $ 260.616,99 | K576: 0.8641 | M576: 41004.09
B577: I3-MO-TEC-00001 | C577: INTERVALO 3 | D577: REPUESTO | E577: REVISION TECNICOMECANICA | F577: 1 | G577: 10 | H577: #N/D | I577: TRUE | J577: $ 698.035,75 | K577: 1 | M577: 1
B578: I3-MO-GASES-00001 | C578: INTERVALO 3 | D578: REPUESTO | E578: GASES | F578: 1 | G578: 10 | H578: #N/D | I578: TRUE | J578: $ 77.559,11 | K578: 1 | M578: 1
B579: I2-MO-TEMP-00001 | C579: INTERVALO 2 | D579: TEMPARIO | E579: ACEITE | F579: 1 | G579: 1 | H579: 3604.34 | I579: TRUE | J579: $ 70.988,67 | K579: 0.6337 | M579: 41041.81
B580: I2-MO-TEMP-00002 | C580: INTERVALO 2 | D580: TEMPARIO | E580: ACEITE 4T | F580: 1 | G580: 1110 | H580: 3604.34 | I580: TRUE | J580: $ 8.616,95 | K580: 0.9999 | M580: 1
B581: I2-MO-TEMP-00003 | C581: INTERVALO 2 | D581: TEMPARIO | E581: ACEITE DE DIFERENCIAL FRONTAL SAE 90 | F581: 1 | G581: 1 | H581: 18018.83 | I581: TRUE | J581: $ 34.469,37 | K581: 1 | M581: 1
B582: I2-MO-TEMP-00004 | C582: INTERVALO 2 | D582: TEMPARIO | E582: ACEITE DEL ENGRANAJE FINAL SAE 90 | F582: 1 | G582: 1 | H582: 18018.83 | I582: TRUE | J582: $ 206.824,07 | K582: 1 | M582: 1
B583: I2-MO-TEMP-00005 | C583: INTERVALO 2 | D583: TEMPARIO | E583: ACEITE HIDRAULICO | F583: 1 | G583: 1730 | H583: 36037.66 | I583: TRUE | J583: $ 129.265,38 | K583: 1 | M583: 1
B584: I2-MO-TEMP-00006 | C584: INTERVALO 2 | D584: TEMPARIO | E584: AGUJA CARBURADOR | F584: 1 | G584: 1 | H584: 36037.66 | I584: TRUE | J584: $ 34.469,37 | K584: 1 | M584: 1
B585: I2-MO-TEMP-00007 | C585: INTERVALO 2 | D585: TEMPARIO | E585: ALTERNADOR | F585: 1 | G585: 1 | H585: 36037.66 | I585: TRUE | J585: $ 22.157,01 | K585: 0.6428 | M585: 12313.36
B586: I2-MO-TEMP-00008 | C586: INTERVALO 2 | D586: TEMPARIO | E586: AMORTIGUADOR DELANTERO | F586: 1 | G586: 1 | H586: 36037.66 | I586: TRUE | J586: $ 34.469,37 | K586: 1 | M586: 1
B587: I2-MO-TEMP-00009 | C587: INTERVALO 2 | D587: TEMPARIO | E587: AMORTIGUADOR TRASERO | F587: 1 | G587: 7207.6 | H587: 36037.66 | I587: TRUE | J587: $ 27.582,85 | K587: 0.6401 | M587: 15505.47
B588: I2-MO-TEMP-00010 | C588: INTERVALO 2 | D588: TEMPARIO | E588: ANILLOS | F588: 1 | G588: 1297.2 | H588: 108112.98 | I588: TRUE | J588: $ 43.087,32 | K588: 1 | M588: 1
B589: I2-MO-TEMP-00011 | C589: INTERVALO 2 | D589: TEMPARIO | E589: ARBOL DE LEVAS | F589: 1 | G589: 1 | H589: 36037.66 | I589: TRUE | J589: $ 112.029,48 | K589: 1 | M589: 1
B590: I2-MO-TEMP-00012 | C590: INTERVALO 2 | D590: TEMPARIO | E590: ARRANQUE | F590: 1 | G590: 1 | H590: 18018.83 | I590: TRUE | J590: $ 33.008,69 | K590: 0.6384 | M590: 18697.58
... B1150: I2-MO-REP-00273 | C1150: INTERVALO 2 | D1150: REPUESTO | E1150: VENTILADOR | F1150: 1 | G1150: 1 | H1150: 818089.2 | I1150: TRUE | J1150: $ 232.714,64 | K1150: 0.9646 | M1150: 8538.1
B1151: I2-MO-TEC-00001 | C1151: INTERVALO 2 | D1151: REPUESTO | E1151: REVISION TECNICOMECANICA | F1151: 1 | G1151: 10 | H1151: #N/D | I1151: TRUE | J1151: $ 61.046,07 | K1151: 0.8773 | M1151: 8538.1
B1152: I2-MO-GASES-00001 | C1152: INTERVALO 2 | D1152: REPUESTO | E1152: GASES | F1152: 1 | G1152: 10 | H1152: #N/D | I1152: TRUE | J1152: $ 152.872,92 | K1152: 1 | M1152: 1
B1153: I3-MO-TEMP-00121 | C1153: INTERVALO 3 | D1153: TEMPARIO | E1153: GUAYA ACELERADOR | G1153: 12864.36 | H1153: 81978.7 | I1153: TRUE | J1153: $ 69.114,34 | K1153: 0.8431 | M1153: 12864.36
B1154: I3-MO-TEMP-00123 | C1154: INTERVALO 3 | D1154: TEMPARIO | E1154: GUAYA CLUTCH | G1154: 1 | H1154: 94794.59 | I1154: TRUE | J1154: $ 94.793,59 | K1154: 1 | M1154: 1
B1155: I3-MO-TEMP-00124 | C1155: INTERVALO 3 | D1155: TEMPARIO | E1155: GUAYA EMBRAGUE | G1155: 11344 | H1155: 94794.59 | I1155: TRUE | J1155: $ 83.450,59 | K1155: 0.8803 | M1155: 11344
B1156: I3-MO-TEMP-00125 | C1156: INTERVALO 3 | D1156: TEMPARIO | E1156: GUAYA FRENO TRASERO | G1156: 1 | H1156: 103412.54 | I1156: TRUE | J1156: $ 103.411,54 | K1156: 1 | M1156: 1
B1157: I3-MO-TEMP-00126 | C1157: INTERVALO 3 | D1157: TEMPARIO | E1157: GUAYA VELOCIMETRO | G1157: 1 | H1157: 60324.22 | I1157: TRUE | J1157: $ 60.323,22 | K1157: 1 | M1157: 1
B1158: I3-MO-TEMP-00127 | C1158: INTERVALO 3 | D1158: TEMPARIO | E1158: GUIA CADENILLA | G1158: 8662.4 | H1158: 235174.34 | I1158: TRUE | J1158: $ 226.511,94 | K1158: 0.9632 | M1158: 8662.4
B1159: I3-MO-TEMP-00128 | C1159: INTERVALO 3 | D1159: TEMPARIO | E1159: GUIAS VALVULAS | G1159: 16983.11 | H1159: 482321.84 | I1159: TRUE | J1159: $ 465.338,73 | K1159: 0.9648 | M1159: 16983.11
B1160: I3-MO-TEMP-00129 | C1160: INTERVALO 3 | D1160: TEMPARIO | E1160: HORQUILLA | G1160: 33801.2 | H1160: 997031.45 | I1160: TRUE | J1160: $ 963.230,25 | K1160: 0.9661 | M1160: 33801.2
B1161: I3-MO-TEMP-00130 | C1161: INTERVALO 3 | D1161: TEMPARIO | E1161: INSTALACION ELECTRICA (ARNEX) | G1161: 18054.39 | H1161: 293820.23 | I1161: TRUE | J1161: $ 275.765,84 | K1161: 0.9386 | M1161: 18054.39
B1162: I3-MO-TEMP-00131 | C1162: INTERVALO 3 | D1162: TEMPARIO | E1162: INTERRUPTOR APAGADO RUN | G1162: 9391.93 | H1162: 91106.26 | I1162: TRUE | J1162: $ 81.714,33 | K1162: 0.8969 | M1162: 9391.93
B1163: I3-MO-TEMP-00132 | C1163: INTERVALO 3 | D1163: TEMPARIO | E1163: INYECTOR | G1163: 1 | H1163: 326223.66 | I1163: TRUE | J1163: $ 326.222,66 | K1163: 1 | M1163: 1
B1164: I3-MO-TEMP-00133 | C1164: INTERVALO 3 | D1164: TEMPARIO | E1164: JUEGO CUACHOS MANILARES | G1164: 5294.85 | H1164: 70305.89 | I1164: TRUE | J1164: $ 65.011,04 | K1164: 0.9247 | M1164: 5294.85
... B1543: I3-MO-REP-00271 | C1543: INTERVALO 3 | D1543: REPUESTO | E1543: VENTILADOR | G1543: 84369.6 | H1543: 2041659.2 | I1543: TRUE | J1543: $ 1.957.289,61 | K1543: 0.9587 | M1543: 84369.6

Sheet STARKER
A2: N° | B2: DESCRIPCION DEL SERVICIO MANO DE OBRA | C2: und | D2: Cantidad | E2: MANO DE OBRA | G2: N° | H2: DESCRIPCION DEL REPUESTO | I2: und | J2: Cantidad | K2: THUNDER 1500
E3: VALOR CON IVA | K3: VALOR REPUESTO CON IVA
A4: 1 | B4: CAMBIO ACEITE DE DIFERENCIAL FRONTAL SAE 90 | C4: ud | D4: 1 | G4: 1 | H4: ACEITE DE DIFERENCIAL FRONTAL SAE 90 | I4: 1/4Gal | J4: 1
A5: =A4+1 -> 2 | B5: CAMBIO ACEITE DEL ENGRANAJE FINAL SAE 90 | C5: ud | D5: 1 | G5: =G4+1 -> 2 | H5: ACEITE DEL ENGRANAJE FINAL SAE 90 | I5: 1/4Gal | J5: 1
A6: =A5+1 -> 3 | B6: CAMBIO ACEITE DIELECTRICO | C6: ud | D6: 1 | G6: =G5+1 -> 3 | H6: ACEITE DIELECTRICO | I6: 1/4Gal | J6: 1
A7: =A6+1 -> 4 | B7: CAMBIO ACEITE HIDRAULICO | C7: ud | D7: 1 | G7: =G6+1 -> 4 | H7: ACEITE HIDRAULICO | I7: 1/4Gal | J7: 1
A8: =A7+1 -> 5 | B8: CAMBIO AMORTIGUADOR DELANTERO | C8: ud | D8: 1 | G8: =G7+1 -> 5 | H8: AMORTIGUADOR DELANTERO | I8: ud | J8: 1
A9: =A8+1 -> 6 | B9: CAMBIO AMORTIGUADOR TRASERO | C9: ud | D9: 1 | G9: =G8+1 -> 6 | H9: AMORTIGUADOR TRASERO | I9: ud | J9: 1
A10: =A9+1 -> 7 | B10: CAMBIO BANDAS FRENO TRASERO | C10: ud | D10: 1 | G10: =G9+1 -> 7 | H10: BANDAS FRENO TRASERO | I10: ud | J10: 1
A11: =A10+1 -> 8 | B11: CAMBIO BANDAS FRENO DELANTERO | C11: ud | D11: 1 | G11: =G10+1 -> 8 | H11: BANDAS FRENO DELANTERO | I11: ud | J11: 1
A12: =A11+1 -> 9 | B12: CAMBIO BASE ESPEJO IZQUIERDO O DERECHO COMPLETO | C12: ud | D12: 1 | G12: =G11+1 -> 9 | H12: BASE ESPEJO IZQUIERDO O DERECHO COMPLETO | I12: ud | J12: 1
A13: =A12+1 -> 10 | B13: CAMBIO BASE MALETERO | C13: ud | D13: 1 | G13: =G12+1 -> 10 | H13: BASE MALETERO | I13: ud | J13: 1
A14: =A13+1 -> 11 | B14: CAMBIO BATERIA | C14: ud | D14: 1 | G14: =G13+1 -> 11 | H14: BATERIA | I14: ud | J14: 1
A15: =A14+1 -> 12 | B15: CAMBIO BOBINA DE CARGA | C15: ud | D15: 1 | G15: =G14+1 -> 12 | H15: BOBINA DE CARGA | I15: ud | J15: 1
A16: =A15+1 -> 13 | B16: CAMBIO BOBINA DE ENCENDIDO | C16: ud | D16: 1 | G16: =G15+1 -> 13 | H16: BOBINA DE ENCENDIDO | I16: ud | J16: 1
... A122: =A121+1 -> 119 | B122: CAMBIO VENTILADOR | C122: ud | D122: 1 | G122: =G121+1 -> 119 | H122: VENTILADOR | I122: ud | J122: 1
A123: SUBTOTAL | E123: =SUM(E13:E122) -> 0 | G123: SUBTOTAL | K123: =SUM(K4:K122) -> 0
A125: N° | B125: SERVICIOS A TODO COSTO | C125: und | D125: cant. | E125: THUNDER 1500
E126: VALOR REPUESTO CON IVA
A127: =A122+1 -> 120 | B127: AJUSTE DE PIEZAS Y LUBRICACION (CADENA) | C127: ud | D127: 1
A128: =A127+1 -> 121 | B128: CAMBIO CAMBIO SIMBOLOGIA INSTITUCIONAL (CALCOMANIAS) | C128: ud | D128: 1
A129: =A128+1 -> 122 | B129: ENGRASE CUNAS DIRECCION | C129: ud | D129: 1
A130: =A129+1 -> 123 | B130: ENGRASE SUSPENSION TRASERA | C130: ud | D130: 1
A131: =A130+1 -> 124 | B131: LUBRICACION GUAYA | C131: ud | D131: 1
A132: =A131+1 -> 125 | B132: MANTENIMIENTO KIT DE ARRASTRE | C132: ud | D132: 1
A133: =A132+1 -> 126 | B133: CAMBIO REPARACION CAJA | C133: ud | D133: 1
A134: =A133+1 -> 127 | B134: CAMBIO REPARACION GENERAL DE MOTOR (Incluye el desmonte y monte de todos los elementos del motor) | C134: ud | D134: 1
A135: =A134+1 -> 128 | B135: REVISION ELECTRICA | C135: ud | D135: 1
A136: =A135+1 -> 129 | B136: SINCRONIZACION MOTOR | C136: ud | D136: 1
A137: =A136+1 -> 130 | B137: CAMBIO SISTEMA DE DIRECCIÓN | C137: ud | D137: 1
A138: =A137+1 -> 131 | B138: CAMBIO SISTEMA DE FRENOS | C138: ud | D138: 1
A139: =A138+1 -> 132 | B139: CAMBIO SISTEMA ELECTRICO | C139: ud | D139: 1
A140: SUBTOTAL | E140: =SUM(E127:G139) -> 0
A141: TOTAL | E141: =E123*K123*E140 -> 0
