Workbook

Sheet HONDA
B1: Se realizó el análisis comparativo entre los precios actuales del mercado y las tarifas del contrato vigente para la vigencia 2025, ejecutado a través del Acuerdo Marco de Precios.De dicho análisis se identificaron las siguientes situaciones: Incompatibilidad de ítems en mano de obra donde en el componente de mano de obra se identificaron ítems no equivalentes ni comparables, debido a variaciones en la denominación de las actividades y en sus alcances específicos. Desviaciones significativas en precios donde registraron diferencias tarifarias superiores al 30 % respecto a las referencias del Acuerdo Marco. Debido a esta dispersión, dichos ítems no se consideran técnicamente viables ni representativos para sustentar el análisis comparativo del estudio de mercado.
E4: VALOR TECHO 2026 | F4: OFERTA ECONOMICA contrato vigencia 2025 acuerdo marco | M4: Cant de repuestos | N4: VALOR TECHO 2026 | O4: OFERTA ECONOMICA contrato vigencia 2025 acuerdo marco | Q4: diferencial | S4: VALOR TECHO 2026 | T4: OFERTA ECONOMICA contrato vigencia 2025 acuerdo marco | U4: diferencial
A5: N° | B5: DESCRIPCION DEL SERVICIO MANO DE OBRA | C5: und | D5: Cant | E5: PRECIO DE MANO DE OBRA | F5: PRECIO DE MANO DE OBRA | H5: N° | I5: DESCRIPCION DEL REPUESTO | L5: und | N5: XRE300 ABS | O5: 2025 | S5: XR-250 TORNADO | T5: 2025
E6: VALOR CON IVA | F6: VALOR CON IVA | N6: VALOR REPUESTO CON IVA | P6: precios techo | R6: precios tevho | S6: VALOR REPUESTO CON IVA
A7: 1 | B7: CAMBIO ACEITE | C7: ud | D7: 1 | E7: =IFERROR(VLOOKUP(B7,Hoja1!$B$6:$E$202,4,FALSE),"N/A") -> 40743 | F7: =IFERROR(VLOOKUP(B7,'Hoja 3'!E5:G299,3,FALSE),"item no compatible") -> item no compatible | H7: 1 | I7: ACEITE 4T | L7: 1/4GAL | M7: 1 | N7: =IFERROR(VLOOKUP(I7,Hoja1!$I$6:$N$202,6,FALSE),"N/A") -> 52990 | O7: =VLOOKUP(I7,'Hoja 3'!$E$878:$G$1152,3,FALSE) -> 18030.4 | P7: =VLOOKUP(I7, 'Hoja 3'!$E$304:$H$578, 4, FALSE) -> 25906.16 | Q7: =((N7-O7)/N7) -> 0.65973957 | R7: =((N7-P7)/N7) -> 0.51111229 | S7: =IFERROR(VLOOKUP(I7,Hoja1!$I$6:$P$202,8,FALSE),"N/A") -> 52270 | T7: =VLOOKUP(I7,'Hoja 3'!$E$878:$G$1152,3,FALSE) -> 18030.4 | U7: =((S7-T7)/S7) -> 0.65505261
A8: =A7+1 -> 2 | B8: CAMBIO ACEITE HIDRAULICO | C8: ud | D8: 1 | E8: =IFERROR(VLOOKUP(B8,Hoja1!$B$6:$E$202,4,FALSE),"N/A") -> 314958 | F8: =IFERROR(VLOOKUP(B8,'Hoja 3'!E6:G300,3,FALSE),"item no compatible") -> item no compatible | H8: =H7+1 -> 2 | I8: ACEITE HIDRAULICO | L8: 1/4GAL | M8: 1 | N8: =IFERROR(VLOOKUP(I8,Hoja1!$I$6:$N$202,6,FALSE),"N/A") -> 54633 | O8: =VLOOKUP(I8,'Hoja 3'!$E$878:$G$1152,3,FALSE) -> 21826.4 | P8: =VLOOKUP(I8, 'Hoja 3'!$E$304:$H$578, 4, FALSE) -> 31360.09 | Q8: =((N8-O8)/N8) -> 0.60049055 | R8: =((N8-P8)/N8) -> 0.42598631 | S8: =IFERROR(VLOOKUP(I8,Hoja1!$I$6:$P$202,8,FALSE),"N/A") -> 54633 | T8: =VLOOKUP(I8,'Hoja 3'!$E$878:$G$1152,3,FALSE) -> 21826.4 | U8: =((S8-T8)/S8) -> 0.60049055
A9: =A8+1 -> 3 | B9: CAMBIO AMORTIGUADOR DELANTERO | C9: ud | D9: 1 | E9: =IFERROR(VLOOKUP(B9,Hoja1!$B$6:$E$202,4,FALSE),"N/A") -> 314958 | F9: =IFERROR(VLOOKUP(B9,'Hoja 3'!E7:G301,3,FALSE),"item no compatible") -> item no compatible | H9: =H8+1 -> 3 | I9: AMORTIGUADOR DELANTERO | L9: ud. | M9: 1 | N9: =IFERROR(VLOOKUP(I9,Hoja1!$I$6:$N$202,6,FALSE),"N/A") -> 2299419 | O9: =VLOOKUP(I9,'Hoja 3'!$E$878:$G$1152,3,FALSE) -> 1 | P9: =VLOOKUP(I9, 'Hoja 3'!$E$304:$H$578, 4, FALSE) -> 422679.42 | Q9: =((N9-O9)/N9) -> 0.99999957 | R9: =((N9-P9)/N9) -> 0.8161799 | S9: =IFERROR(VLOOKUP(I9,Hoja1!$I$6:$P$202,8,FALSE),"N/A") -> 1255215 | T9: =VLOOKUP(I9,'Hoja 3'!$E$878:$G$1152,3,FALSE) -> 1 | U9: =((S9-T9)/S9) -> 0.9999992
A10: =A9+1 -> 4 | B10: CAMBIO AMORTIGUADOR TRASERO | C10: ud | D10: 1 | E10: =IFERROR(VLOOKUP(B10,Hoja1!$B$6:$E$202,4,FALSE),"N/A") -> 128846.5 | F10: =IFERROR(VLOOKUP(B10,'Hoja 3'!E8:G302,3,FALSE),"item no compatible") -> item no compatible | H10: =H9+1 -> 4 | I10: AMORTIGUADOR TRASERO | L10: ud. | M10: 1 | N10: =IFERROR(VLOOKUP(I10,Hoja1!$I$6:$N$202,6,FALSE),"N/A") -> 2197579.9 | O10: =VLOOKUP(I10,'Hoja 3'!$E$878:$G$1152,3,FALSE) -> 130894.4 | P10: =VLOOKUP(I10, 'Hoja 3'!$E$304:$H$578, 4, FALSE) -> 1158959.7 | Q10: =((N10-O10)/N10) -> 0.94043702 | R10: =((N10-P10)/N10) -> 0.47261998 | S10: =IFERROR(VLOOKUP(I10,Hoja1!$I$6:$P$202,8,FALSE),"N/A") -> 1975267 | T10: =VLOOKUP(I10,'Hoja 3'!$E$878:$G$1152,3,FALSE) -> 130894.4 | U10: =((S10-T10)/S10) -> 0.93373331
A11: =A10+1 -> 5 | B11: CAMBIO ANILLOS | C11: ud | D11: 1 | E11: =IFERROR(VLOOKUP(B11,Hoja1!$B$6:$E$202,4,FALSE),"N/A") -> 701497.5 | F11: =IFERROR(VLOOKUP(B11,'Hoja 3'!E9:G303,3,FALSE),"item no compatible") -> item no compatible | H11: =H10+1 -> 5 | I11: ANILLOS | L11: ud. | M11: 1 | N11: =IFERROR(VLOOKUP(I11,Hoja1!$I$6:$N$202,6,FALSE),"N/A") -> 367776 | O11: =VLOOKUP(I11,'Hoja 3'!$E$878:$G$1152,3,FALSE) -> 57004.8 | P11: =VLOOKUP(I11, 'Hoja 3'!$E$304:$H$578, 4, FALSE) -> 115895.97 | Q11: =((N11-O11)/N11) -> 0.84500131 | R11: =((N11-P11)/N11) -> 0.68487348 | S11: =IFERROR(VLOOKUP(I11,Hoja1!$I$6:$P$202,8,FALSE),"N/A") -> 432102 | T11: =VLOOKUP(I11,'Hoja 3'!$E$878:$G$1152,3,FALSE) -> 57004.8 | U11: =((S11-T11)/S11) -> 0.86807559
A12: =A11+1 -> 6 | B12: CAMBIO ARRANQUE | C12: ud | D12: 1 | E12: =IFERROR(VLOOKUP(B12,Hoja1!$B$6:$E$202,4,FALSE),"N/A") -> 171145 | F12: =IFERROR(VLOOKUP(B12,'Hoja 3'!E10:G304,3,FALSE),"item no compatible") -> item no compatible | H12: =H11+1 -> 6 | I12: ARRANQUE | L12: ud. | M12: 1 | N12: =IFERROR(VLOOKUP(I12,Hoja1!$I$6:$N$202,6,FALSE),"N/A") -> 674923.59 | O12: =VLOOKUP(I12,'Hoja 3'!$E$878:$G$1152,3,FALSE) -> 1 | P12: =VLOOKUP(I12, 'Hoja 3'!$E$304:$H$578, 4, FALSE) -> 1227133.8 | Q12: =((N12-O12)/N12) -> 0.99999852 | R12: =((N12-P12)/N12) -> -0.81818182 | S12: =IFERROR(VLOOKUP(I12,Hoja1!$I$6:$P$202,8,FALSE),"N/A") -> 547073.4 | T12: =VLOOKUP(I12,'Hoja 3'!$E$878:$G$1152,3,FALSE) -> 1 | U12: =((S12-T12)/S12) -> 0.99999817
A13: =A12+1 -> 7 | B13: CAMBIO AUTOMATICO ARRANQUE | C13: ud | D13: 1 | E13: =IFERROR(VLOOKUP(B13,Hoja1!$B$6:$E$202,4,FALSE),"N/A") -> 79950 | F13: =IFERROR(VLOOKUP(B13,'Hoja 3'!E11:G305,3,FALSE),"item no compatible") -> item no compatible | H13: =H12+1 -> 7 | I13: AUTOMATICO ARRANQUE | L13: ud. | M13: 1 | N13: =IFERROR(VLOOKUP(I13,Hoja1!$I$6:$N$202,6,FALSE),"N/A") -> 473456.1 | O13: =VLOOKUP(I13,'Hoja 3'!$E$878:$G$1152,3,FALSE) -> 1 | P13: =VLOOKUP(I13, 'Hoja 3'!$E$304:$H$578, 4, FALSE) -> 102261.15 | Q13: =((N13-O13)/N13) -> 0.99999789 | R13: =((N13-P13)/N13) -> 0.78401134 | S13: =IFERROR(VLOOKUP(I13,Hoja1!$I$6:$P$202,8,FALSE),"N/A") -> 531110.3 | T13: =VLOOKUP(I13,'Hoja 3'!$E$878:$G$1152,3,FALSE) -> 1 | U13: =((S13-T13)/S13) -> 0.99999812
A14: =A13+1 -> 8 | B14: CAMBIO BALANCIN ADMISION | C14: ud | D14: 1 | E14: =IFERROR(VLOOKUP(B14,Hoja1!$B$6:$E$202,4,FALSE),"N/A") -> N/A | F14: =IFERROR(VLOOKUP(B14,'Hoja 3'!E12:G306,3,FALSE),"item no compatible") -> item no compatible | H14: =H13+1 -> 8 | I14: BALANCIN ADMISION | L14: ud. | M14: 1 | N14: =IFERROR(VLOOKUP(I14,Hoja1!$I$6:$N$202,6,FALSE),"N/A") -> N/A | O14: =VLOOKUP(I14,'Hoja 3'!$E$878:$G$1152,3,FALSE) -> 18324.8 | P14: =VLOOKUP(I14, 'Hoja 3'!$E$304:$H$578, 4, FALSE) -> 218157.12 | Q14: N/A | R14: N/A | S14: =IFERROR(VLOOKUP(I14,Hoja1!$I$6:$P$202,8,FALSE),"N/A") -> N/A | T14: =VLOOKUP(I14,'Hoja 3'!$E$878:$G$1152,3,FALSE) -> 18324.8 | U14: N/A
A15: =A14+1 -> 9 | B15: CAMBIO BALANCIN ESCAPE | C15: ud | D15: 1 | E15: =IFERROR(VLOOKUP(B15,Hoja1!$B$6:$E$202,4,FALSE),"N/A") -> N/A | F15: =IFERROR(VLOOKUP(B15,'Hoja 3'!E13:G307,3,FALSE),"item no compatible") -> item no compatible | H15: =H14+1 -> 9 | I15: BALANCIN ESCAPE | L15: ud. | M15: 1 | N15: =IFERROR(VLOOKUP(I15,Hoja1!$I$6:$N$202,6,FALSE),"N/A") -> N/A | O15: =VLOOKUP(I15,'Hoja 3'!$E$878:$G$1152,3,FALSE) -> 18456 | P15: =VLOOKUP(I15, 'Hoja 3'!$E$304:$H$578, 4, FALSE) -> 224974.53 | Q15: N/A | R15: N/A | S15: =IFERROR(VLOOKUP(I15,Hoja1!$I$6:$P$202,8,FALSE),"N/A") -> N/A | T15: =VLOOKUP(I15,'Hoja 3'!$E$878:$G$1152,3,FALSE) -> 18456 | U15: N/A
A16: =A15+1 -> 10 | B16: CAMBIO BANDAS FRENO TRASERO | C16: ud | D16: 1 | E16: =IFERROR(VLOOKUP(B16,Hoja1!$B$6:$E$202,4,FALSE),"N/A") -> 42949.5 | F16: =IFERROR(VLOOKUP(B16,'Hoja 3'!E14:G308,3,FALSE),"item no compatible") -> item no compatible | H16: =H15+1 -> 10 | I16: BANDAS FRENO TRASERO | L16: ud. | M16: 1 | N16: =IFERROR(VLOOKUP(I16,Hoja1!$I$6:$N$202,6,FALSE),"N/A") -> N/A | O16: =VLOOKUP(I16,'Hoja 3'!$E$878:$G$1152,3,FALSE) -> 1 | P16: =VLOOKUP(I16, 'Hoja 3'!$E$304:$H$578, 4, FALSE) -> 65447.14 | Q16: N/A | R16: N/A | S16: =IFERROR(VLOOKUP(I16,Hoja1!$I$6:$P$202,8,FALSE),"N/A") -> 166145 | T16: =VLOOKUP(I16,'Hoja 3'!$E$878:$G$1152,3,FALSE) -> 1 | U16: N/A
A17: =A16+1 -> 11 | B17: CAMBIO BASE ESPEJO IZQUIERDO COMPLETO | C17: ud | D17: 1 | E17: =IFERROR(VLOOKUP(B17,Hoja1!$B$6:$E$202,4,FALSE),"N/A") -> 21233.352 | F17: =IFERROR(VLOOKUP(B17,'Hoja 3'!E15:G309,3,FALSE),"item no compatible") -> item no compatible | H17: =H16+1 -> 11 | I17: BASE ESPEJO IZQUIERDO COMPLETO | L17: ud. | M17: 1 | N17: =IFERROR(VLOOKUP(I17,Hoja1!$I$6:$N$202,6,FALSE),"N/A") -> 80177 | O17: =VLOOKUP(I17,'Hoja 3'!$E$878:$G$1152,3,FALSE) -> 8726.4 | P17: =VLOOKUP(I17, 'Hoja 3'!$E$304:$H$578, 4, FALSE) -> 70901.06 | Q17: =((N17-O17)/N17) -> 0.89116081 | R17: =((N17-P17)/N17) -> 0.11569328 | S17: =IFERROR(VLOOKUP(I17,Hoja1!$I$6:$P$202,8,FALSE),"N/A") -> 135868.25 | T17: =VLOOKUP(I17,'Hoja 3'!$E$878:$G$1152,3,FALSE) -> 8726.4 | U17: =((S17-T17)/S17) -> 0.93577307
A18: =A17+1 -> 12 | B18: CAMBIO BASE MALETERO | C18: ud | D18: 1 | E18: =IFERROR(VLOOKUP(B18,Hoja1!$B$6:$E$202,4,FALSE),"N/A") -> 33312.5 | F18: =IFERROR(VLOOKUP(B18,'Hoja 3'!E16:G310,3,FALSE),"item no compatible") -> item no compatible | H18: =H17+1 -> 12 | I18: BASE MALETERO | L18: ud. | M18: 1 | N18: =IFERROR(VLOOKUP(I18,Hoja1!$I$6:$N$202,6,FALSE),"N/A") -> 227361 | O18: =VLOOKUP(I18,'Hoja 3'!$E$878:$G$1152,3,FALSE) -> 47612.8 | P18: =VLOOKUP(I18, 'Hoja 3'!$E$304:$H$578, 4, FALSE) -> 61356.69 | Q18: N/A | R18: N/A | S18: =IFERROR(VLOOKUP(I18,Hoja1!$I$6:$P$202,8,FALSE),"N/A") -> 217475 | T18: =VLOOKUP(I18,'Hoja 3'!$E$878:$G$1152,3,FALSE) -> 47612.8 | U18: N/A
A19: =A18+1 -> 13 | B19: CAMBIO BATERIA | C19: ud | D19: 1 | E19: =IFERROR(VLOOKUP(B19,Hoja1!$B$6:$E$202,4,FALSE),"N/A") -> 13325 | F19: =IFERROR(VLOOKUP(B19,'Hoja 3'!E17:G311,3,FALSE),"item no compatible") -> item no compatible | H19: =H18+1 -> 13 | I19: BATERIA | L19: ud. | M19: 1 | N19: =IFERROR(VLOOKUP(I19,Hoja1!$I$6:$N$202,6,FALSE),"N/A") -> 190654 | O19: =VLOOKUP(I19,'Hoja 3'!$E$878:$G$1152,3,FALSE) -> 113878.4 | P19: =VLOOKUP(I19, 'Hoja 3'!$E$304:$H$578, 4, FALSE) -> 197704.89 | Q19: =((N19-O19)/N19) -> 0.40269598 | R19: =((N19-P19)/N19) -> -0.036982649 | S19: =IFERROR(VLOOKUP(I19,Hoja1!$I$6:$P$202,8,FALSE),"N/A") -> 179498 | T19: =VLOOKUP(I19,'Hoja 3'!$E$878:$G$1152,3,FALSE) -> 113878.4 | U19: =((S19-T19)/S19) -> 0.36557288
A20: =A19+1 -> 14 | B20: CAMBIO BIELA | C20: ud | D20: 1 | E20: =IFERROR(VLOOKUP(B20,Hoja1!$B$6:$E$202,4,FALSE),"N/A") -> 435299.61 | F20: =IFERROR(VLOOKUP(B20,'Hoja 3'!E18:G312,3,FALSE),"item no compatible") -> item no compatible | H20: =H19+1 -> 14 | I20: BIELA | L20: ud. | M20: 1 | N20: =IFERROR(VLOOKUP(I20,Hoja1!$I$6:$N$202,6,FALSE),"N/A") -> 705602 | O20: =VLOOKUP(I20,'Hoja 3'!$E$878:$G$1152,3,FALSE) -> 42540.8 | P20: =VLOOKUP(I20, 'Hoja 3'!$E$304:$H$578, 4, FALSE) -> 204522.3 | Q20: N/A | R20: N/A | S20: =IFERROR(VLOOKUP(I20,Hoja1!$I$6:$P$202,8,FALSE),"N/A") -> 674924 | T20: =VLOOKUP(I20,'Hoja 3'!$E$878:$G$1152,3,FALSE) -> 42540.8 | U20: N/A
A21: =A20+1 -> 15 | B21: CAMBIO BOBINA DE ALTA | C21: ud | D21: 1 | E21: =IFERROR(VLOOKUP(B21,Hoja1!$B$6:$E$202,4,FALSE),"N/A") -> 159900 | F21: =IFERROR(VLOOKUP(B21,'Hoja 3'!E19:G313,3,FALSE),"item no compatible") -> item no compatible | H21: =H20+1 -> 15 | I21: BOBINA DE ALTA | L21: ud. | M21: 1 | N21: =IFERROR(VLOOKUP(I21,Hoja1!$I$6:$N$202,6,FALSE),"N/A") -> 478354 | O21: =VLOOKUP(I21,'Hoja 3'!$E$878:$G$1152,3,FALSE) -> 1 | P21: =VLOOKUP(I21, 'Hoja 3'!$E$304:$H$578, 4, FALSE) -> 24542.68 | Q21: =((N21-O21)/N21) -> 0.99999791 | R21: =((N21-P21)/N21) -> 0.94869348 | S21: =IFERROR(VLOOKUP(I21,Hoja1!$I$6:$P$202,8,FALSE),"N/A") -> 472161.95 | T21: =VLOOKUP(I21,'Hoja 3'!$E$878:$G$1152,3,FALSE) -> 1 | U21: =((S21-T21)/S21) -> 0.99999788
A22: =A21+1 -> 16 | B22: CAMBIO BOBINA DE CARGA | C22: ud | D22: 1 | E22: =IFERROR(VLOOKUP(B22,Hoja1!$B$6:$E$202,4,FALSE),"N/A") -> 149068 | F22: =IFERROR(VLOOKUP(B22,'Hoja 3'!E20:G314,3,FALSE),"item no compatible") -> item no compatible | H22: =H21+1 -> 16 | I22: BOBINA DE CARGA | L22: ud. | M22: 1 | N22: =IFERROR(VLOOKUP(I22,Hoja1!$I$6:$N$202,6,FALSE),"N/A") -> 1817759 | O22: =VLOOKUP(I22,'Hoja 3'!$E$878:$G$1152,3,FALSE) -> 78536.8 | P22: =VLOOKUP(I22, 'Hoja 3'!$E$304:$H$578, 4, FALSE) -> 2045223 | Q22: =((N22-O22)/N22) -> 0.95679471 | R22: =((N22-P22)/N22) -> -0.1251343 | S22: =IFERROR(VLOOKUP(I22,Hoja1!$I$6:$P$202,8,FALSE),"N/A") -> 1317987 | T22: =VLOOKUP(I22,'Hoja 3'!$E$878:$G$1152,3,FALSE) -> 78536.8 | U22: =((S22-T22)/S22) -> 0.94041155
A23: =A22+1 -> 17 | B23: CAMBIO BOMBA ACEITE | C23: ud | D23: 1 | E23: =IFERROR(VLOOKUP(B23,Hoja1!$B$6:$E$202,4,FALSE),"N/A") -> 227070 | F23: =IFERROR(VLOOKUP(B23,'Hoja 3'!E21:G315,3,FALSE),"item no compatible") -> item no compatible | H23: =H22+1 -> 17 | I23: BOMBA ACEITE | L23: ud. | M23: 1 | N23: =IFERROR(VLOOKUP(I23,Hoja1!$I$6:$N$202,6,FALSE),"N/A") -> 421165 | O23: =VLOOKUP(I23,'Hoja 3'!$E$878:$G$1152,3,FALSE) -> 21379.2 | P23: =VLOOKUP(I23, 'Hoja 3'!$E$304:$H$578, 4, FALSE) -> 179979.62 | Q23: =((N23-O23)/N23) -> 0.94923795 | R23: =((N23-P23)/N23) -> 0.57266245 | S23: =IFERROR(VLOOKUP(I23,Hoja1!$I$6:$P$202,8,FALSE),"N/A") -> 413693 | T23: =VLOOKUP(I23,'Hoja 3'!$E$878:$G$1152,3,FALSE) -> 21379.2 | U23: =((S23-T23)/S23) -> 0.9483211
A24: =A23+1 -> 18 | B24: CAMBIO BOMBA FRENO DELANTERO CON DEPOSITO | C24: ud | D24: 1 | E24: =IFERROR(VLOOKUP(B24,Hoja1!$B$6:$E$202,4,FALSE),"N/A") -> 178292 | F24: =IFERROR(VLOOKUP(B24,'Hoja 3'!E22:G316,3,FALSE),"item no compatible") -> item no compatible | H24: =H23+1 -> 18 | I24: BOMBA FRENO DELANTERO CON DEPOSITO | L24: ud. | M24: 1 | N24: =IFERROR(VLOOKUP(I24,Hoja1!$I$6:$N$202,6,FALSE),"N/A") -> 1146824 | O24: =VLOOKUP(I24,'Hoja 3'!$E$878:$G$1152,3,FALSE) -> 13089.6 | P24: =VLOOKUP(I24, 'Hoja 3'!$E$304:$H$578, 4, FALSE) -> 804454.38 | Q24: =((N24-O24)/N24) -> 0.98858622 | R24: =((N24-P24)/N24) -> 0.29853719 | S24: =IFERROR(VLOOKUP(I24,Hoja1!$I$6:$P$202,8,FALSE),"N/A") -> N/A | T24: =VLOOKUP(I24,'Hoja 3'!$E$878:$G$1152,3,FALSE) -> 13089.6 | U24: N/A
A25: =A24+1 -> 19 | B25: CAMBIO BOMBA FRENO TRASERO CON DEPOSITO | C25: ud | D25: 1 | E25: =IFERROR(VLOOKUP(B25,Hoja1!$B$6:$E$202,4,FALSE),"N/A") -> 199875 | F25: =IFERROR(VLOOKUP(B25,'Hoja 3'!E23:G317,3,FALSE),"item no compatible") -> item no compatible | H25: =H24+1 -> 19 | I25: BOMBA FRENO TRASERO CON DEPOSITO | L25: ud. | M25: 1 | N25: =IFERROR(VLOOKUP(I25,Hoja1!$I$6:$N$202,6,FALSE),"N/A") -> 613089 | O25: =VLOOKUP(I25,'Hoja 3'!$E$878:$G$1152,3,FALSE) -> 61084 | P25: =VLOOKUP(I25, 'Hoja 3'!$E$304:$H$578, 4, FALSE) -> 409044.6 | Q25: =((N25-O25)/N25) -> 0.90036683 | R25: =((N25-P25)/N25) -> 0.33281367 | S25: =IFERROR(VLOOKUP(I25,Hoja1!$I$6:$P$202,8,FALSE),"N/A") -> 501232 | T25: =VLOOKUP(I25,'Hoja 3'!$E$878:$G$1152,3,FALSE) -> 61084 | U25: =((S25-T25)/S25) -> 0.87813228
A26: =A25+1 -> 20 | B26: CAMBIO BOMBILLO DIRECCIONAL | C26: ud | D26: 1 | E26: =IFERROR(VLOOKUP(B26,Hoja1!$B$6:$E$202,4,FALSE),"N/A") -> 59962.5 | F26: =IFERROR(VLOOKUP(B26,'Hoja 3'!E24:G318,3,FALSE),"item no compatible") -> item no compatible | H26: =H25+1 -> 20 | I26: BOMBILLO DIRECCIONAL | L26: ud. | M26: 1 | N26: =IFERROR(VLOOKUP(I26,Hoja1!$I$6:$N$202,6,FALSE),"N/A") -> N/A | O26: =VLOOKUP(I26,'Hoja 3'!$E$878:$G$1152,3,FALSE) -> 5039.2 | P26: =VLOOKUP(I26, 'Hoja 3'!$E$304:$H$578, 4, FALSE) -> 10907.86 | Q26: N/A | R26: N/A | S26: =IFERROR(VLOOKUP(I26,Hoja1!$I$6:$P$202,8,FALSE),"N/A") -> 6036 | T26: =VLOOKUP(I26,'Hoja 3'!$E$878:$G$1152,3,FALSE) -> 5039.2 | U26: N/A
A27: =A26+1 -> 21 | B27: CAMBIO BOMBILLO FAROLA | C27: ud | D27: 1 | E27: =IFERROR(VLOOKUP(B27,Hoja1!$B$6:$E$202,4,FALSE),"N/A") -> 69386 | F27: =IFERROR(VLOOKUP(B27,'Hoja 3'!E25:G319,3,FALSE),"item no compatible") -> item no compatible | H27: =H26+1 -> 21 | I27: BOMBILLO FAROLA | L27: ud. | M27: 1 | N27: =IFERROR(VLOOKUP(I27,Hoja1!$I$6:$N$202,6,FALSE),"N/A") -> N/A | O27: =VLOOKUP(I27,'Hoja 3'!$E$878:$G$1152,3,FALSE) -> 9599.2 | P27: =VLOOKUP(I27, 'Hoja 3'!$E$304:$H$578, 4, FALSE) -> 47721.87 | Q27: N/A | R27: N/A | S27: =IFERROR(VLOOKUP(I27,Hoja1!$I$6:$P$202,8,FALSE),"N/A") -> 38229.5 | T27: =VLOOKUP(I27,'Hoja 3'!$E$878:$G$1152,3,FALSE) -> 9599.2 | U27: N/A
A28: =A27+1 -> 22 | B28: CAMBIO BOMBILLO PORTA PLACA | C28: ud | D28: 1 | E28: =IFERROR(VLOOKUP(B28,Hoja1!$B$6:$E$202,4,FALSE),"N/A") -> 38607 | F28: =IFERROR(VLOOKUP(B28,'Hoja 3'!E26:G320,3,FALSE),"item no compatible") -> item no compatible | H28: =H27+1 -> 22 | I28: BOMBILLO PORTA PLACA | L28: ud. | M28: 1 | N28: =IFERROR(VLOOKUP(I28,Hoja1!$I$6:$N$202,6,FALSE),"N/A") -> 16414 | O28: =VLOOKUP(I28,'Hoja 3'!$E$878:$G$1152,3,FALSE) -> 2400 | P28: =VLOOKUP(I28, 'Hoja 3'!$E$304:$H$578, 4, FALSE) -> 8863.27 | Q28: =((N28-O28)/N28) -> 0.85378336 | R28: =((N28-P28)/N28) -> 0.46001767 | S28: =IFERROR(VLOOKUP(I28,Hoja1!$I$6:$P$202,8,FALSE),"N/A") -> N/A | T28: =VLOOKUP(I28,'Hoja 3'!$E$878:$G$1152,3,FALSE) -> 2400 | U28: N/A
A29: =A28+1 -> 23 | B29: CAMBIO BOMBILLO STOP | C29: ud | D29: 1 | E29: =IFERROR(VLOOKUP(B29,Hoja1!$B$6:$E$202,4,FALSE),"N/A") -> 38607 | F29: =IFERROR(VLOOKUP(B29,'Hoja 3'!E27:G321,3,FALSE),"item no compatible") -> item no compatible | H29: =H28+1 -> 23 | I29: BOMBILLO STOP | L29: ud. | M29: 1 | N29: =IFERROR(VLOOKUP(I29,Hoja1!$I$6:$N$202,6,FALSE),"N/A") -> N/A | O29: =VLOOKUP(I29,'Hoja 3'!$E$878:$G$1152,3,FALSE) -> 916 | P29: =VLOOKUP(I29, 'Hoja 3'!$E$304:$H$578, 4, FALSE) -> 12271.34 | Q29: N/A | R29: N/A | S29: =IFERROR(VLOOKUP(I29,Hoja1!$I$6:$P$202,8,FALSE),"N/A") -> 15547 | T29: =VLOOKUP(I29,'Hoja 3'!$E$878:$G$1152,3,FALSE) -> 916 | U29: N/A
A30: =A29+1 -> 24 | B30: CAMBIO BRAZO TENSOR MECANICO | C30: ud | D30: 1 | E30: =IFERROR(VLOOKUP(B30,Hoja1!$B$6:$E$202,4,FALSE),"N/A") -> 95553.259 | F30: =IFERROR(VLOOKUP(B30,'Hoja 3'!E28:G322,3,FALSE),"item no compatible") -> item no compatible | H30: =H29+1 -> 24 | I30: BRAZO TENSOR MECANICO | L30: ud. | M30: 1 | N30: =IFERROR(VLOOKUP(I30,Hoja1!$I$6:$N$202,6,FALSE),"N/A") -> 294278 | O30: =VLOOKUP(I30,'Hoja 3'!$E$878:$G$1152,3,FALSE) -> 16361.6 | P30: =VLOOKUP(I30, 'Hoja 3'!$E$304:$H$578, 4, FALSE) -> 61356.69 | Q30: =((N30-O30)/N30) -> 0.94440087 | R30: =((N30-P30)/N30) -> 0.79150093 | S30: =IFERROR(VLOOKUP(I30,Hoja1!$I$6:$P$202,8,FALSE),"N/A") -> 318281.51 | T30: =VLOOKUP(I30,'Hoja 3'!$E$878:$G$1152,3,FALSE) -> 16361.6 | U30: =((S30-T30)/S30) -> 0.94859394
A31: =A30+1 -> 25 | B31: CAMBIO BUJE SEPARADOR RODAMIENTO RUEDA TRASERA | C31: ud | D31: 1 | E31: =IFERROR(VLOOKUP(B31,Hoja1!$B$6:$E$202,4,FALSE),"N/A") -> 125957 | F31: =IFERROR(VLOOKUP(B31,'Hoja 3'!E29:G323,3,FALSE),"item no compatible") -> item no compatible | H31: =H30+1 -> 25 | I31: BUJE SEPARADOR RODAMIENTO RUEDA TRASERA | L31: ud. | M31: 1 | N31: =IFERROR(VLOOKUP(I31,Hoja1!$I$6:$N$202,6,FALSE),"N/A") -> 86563 | O31: =VLOOKUP(I31,'Hoja 3'!$E$878:$G$1152,3,FALSE) -> 11110.4 | P31: =VLOOKUP(I31, 'Hoja 3'!$E$304:$H$578, 4, FALSE) -> 16361.78 | Q31: =((N31-O31)/N31) -> 0.87164955 | R31: =((N31-P31)/N31) -> 0.81098414 | S31: =IFERROR(VLOOKUP(I31,Hoja1!$I$6:$P$202,8,FALSE),"N/A") -> 19363.8 | T31: =VLOOKUP(I31,'Hoja 3'!$E$878:$G$1152,3,FALSE) -> 11110.4 | U31: =((S31-T31)/S31) -> 0.42622832
A32: =A31+1 -> 26 | B32: CAMBIO BUJES BALANCIN SUSPENSION TRASERA | C32: ud | D32: 1 | E32: =IFERROR(VLOOKUP(B32,Hoja1!$B$6:$E$202,4,FALSE),"N/A") -> 163224 | F32: =IFERROR(VLOOKUP(B32,'Hoja 3'!E30:G324,3,FALSE),"item no compatible") -> item no compatible | H32: =H31+1 -> 26 | I32: BUJES BALANCIN SUSPENSION TRASERA | L32: ud. | M32: 1 | N32: =IFERROR(VLOOKUP(I32,Hoja1!$I$6:$N$202,6,FALSE),"N/A") -> 40278.7 | O32: =VLOOKUP(I32,'Hoja 3'!$E$878:$G$1152,3,FALSE) -> 19044.8 | P32: =VLOOKUP(I32, 'Hoja 3'!$E$304:$H$578, 4, FALSE) -> 31360.09 | Q32: =((N32-O32)/N32) -> 0.52717441 | R32: =((N32-P32)/N32) -> 0.22142249 | S32: =IFERROR(VLOOKUP(I32,Hoja1!$I$6:$P$202,8,FALSE),"N/A") -> 73672.35 | T32: =VLOOKUP(I32,'Hoja 3'!$E$878:$G$1152,3,FALSE) -> 19044.8 | U32: =((S32-T32)/S32) -> 0.74149325
A33: =A32+1 -> 27 | B33: CAMBIO BUJES MONO BRAZO COMPLETO | C33: ud | D33: 1 | E33: =IFERROR(VLOOKUP(B33,Hoja1!$B$6:$E$202,4,FALSE),"N/A") -> 159900 | F33: =IFERROR(VLOOKUP(B33,'Hoja 3'!E31:G325,3,FALSE),"item no compatible") -> item no compatible | H33: =H32+1 -> 27 | I33: BUJES MONO BRAZO COMPLETO | L33: ud. | M33: 1 | N33: =IFERROR(VLOOKUP(I33,Hoja1!$I$6:$N$202,6,FALSE),"N/A") -> 113390 | O33: =VLOOKUP(I33,'Hoja 3'!$E$878:$G$1152,3,FALSE) -> 1 | P33: =VLOOKUP(I33, 'Hoja 3'!$E$304:$H$578, 4, FALSE) -> 245426.76 | Q33: =((N33-O33)/N33) -> 0.99999118 | R33: =((N33-P33)/N33) -> -1.164448 | S33: =IFERROR(VLOOKUP(I33,Hoja1!$I$6:$P$202,8,FALSE),"N/A") -> 113390 | T33: =VLOOKUP(I33,'Hoja 3'!$E$878:$G$1152,3,FALSE) -> 1 | U33: =((S33-T33)/S33) -> 0.99999118
A34: =A33+1 -> 28 | B34: CAMBIO BUJES SUSPENSION TRASERA | C34: ud | D34: 1 | E34: =IFERROR(VLOOKUP(B34,Hoja1!$B$6:$E$202,4,FALSE),"N/A") -> 159685 | F34: =IFERROR(VLOOKUP(B34,'Hoja 3'!E32:G326,3,FALSE),"item no compatible") -> item no compatible | H34: =H33+1 -> 28 | I34: BUJES SUSPENSION TRASERA | L34: ud. | M34: 1 | N34: =IFERROR(VLOOKUP(I34,Hoja1!$I$6:$N$202,6,FALSE),"N/A") -> 191880 | O34: =VLOOKUP(I34,'Hoja 3'!$E$878:$G$1152,3,FALSE) -> 70900.8 | P34: =VLOOKUP(I34, 'Hoja 3'!$E$304:$H$578, 4, FALSE) -> 245426.76 | Q34: =((N34-O34)/N34) -> 0.63049406 | R34: =((N34-P34)/N34) -> -0.27906379 | S34: =IFERROR(VLOOKUP(I34,Hoja1!$I$6:$P$202,8,FALSE),"N/A") -> 191880 | T34: =VLOOKUP(I34,'Hoja 3'!$E$878:$G$1152,3,FALSE) -> 70900.8 | U34: =((S34-T34)/S34) -> 0.63049406
A35: =A34+1 -> 29 | B35: CAMBIO BUJES TIJERA COMPLETO | C35: ud | D35: 1 | E35: =IFERROR(VLOOKUP(B35,Hoja1!$B$6:$E$202,4,FALSE),"N/A") -> 163224 | F35: =IFERROR(VLOOKUP(B35,'Hoja 3'!E33:G327,3,FALSE),"item no compatible") -> item no compatible | H35: =H34+1 -> 29 | I35: BUJES TIJERA COMPLETO | L35: ud. | M35: 1 | N35: =IFERROR(VLOOKUP(I35,Hoja1!$I$6:$N$202,6,FALSE),"N/A") -> 158566.98 | O35: =VLOOKUP(I35,'Hoja 3'!$E$878:$G$1152,3,FALSE) -> 69810.4 | P35: =VLOOKUP(I35, 'Hoja 3'!$E$304:$H$578, 4, FALSE) -> 272696.4 | Q35: =((N35-O35)/N35) -> 0.55974188 | R35: =((N35-P35)/N35) -> -0.71975528 | S35: =IFERROR(VLOOKUP(I35,Hoja1!$I$6:$P$202,8,FALSE),"N/A") -> 151672.76 | T35: =VLOOKUP(I35,'Hoja 3'!$E$878:$G$1152,3,FALSE) -> 69810.4 | U35: =((S35-T35)/S35) -> 0.53973015
A36: =A35+1 -> 30 | B36: CAMBIO BUJIA | C36: ud | D36: 1 | E36: =IFERROR(VLOOKUP(B36,Hoja1!$B$6:$E$202,4,FALSE),"N/A") -> 13325 | F36: =IFERROR(VLOOKUP(B36,'Hoja 3'!E34:G328,3,FALSE),"item no compatible") -> item no compatible | H36: =H35+1 -> 30 | I36: BUJIA | L36: ud. | M36: 1 | N36: =IFERROR(VLOOKUP(I36,Hoja1!$I$6:$N$202,6,FALSE),"N/A") -> 411654 | O36: =VLOOKUP(I36,'Hoja 3'!$E$878:$G$1152,3,FALSE) -> 8464.8 | P36: =VLOOKUP(I36, 'Hoja 3'!$E$304:$H$578, 4, FALSE) -> 10907.86 | Q36: =((N36-O36)/N36) -> 0.9794371 | R36: =((N36-P36)/N36) -> 0.97350236 | S36: =IFERROR(VLOOKUP(I36,Hoja1!$I$6:$P$202,8,FALSE),"N/A") -> 97336.7 | T36: =VLOOKUP(I36,'Hoja 3'!$E$878:$G$1152,3,FALSE) -> 8464.8 | U36: =((S36-T36)/S36) -> 0.91303588
A37: =A36+1 -> 31 | B37: CAMBIO CABLE POSITIVO BATERIA | C37: ud | D37: 1 | E37: =IFERROR(VLOOKUP(B37,Hoja1!$B$6:$E$202,4,FALSE),"N/A") -> 13325 | F37: =IFERROR(VLOOKUP(B37,'Hoja 3'!E35:G329,3,FALSE),"item no compatible") -> item no compatible | H37: =H36+1 -> 31 | I37: CABLE POSITIVO BATERIA | L37: ud. | M37: 1 | N37: =IFERROR(VLOOKUP(I37,Hoja1!$I$6:$N$202,6,FALSE),"N/A") -> N/A | O37: =VLOOKUP(I37,'Hoja 3'!$E$878:$G$1152,3,FALSE) -> 9816.8 | P37: =VLOOKUP(I37, 'Hoja 3'!$E$304:$H$578, 4, FALSE) -> 65447.14 | Q37: N/A | R37: N/A | S37: =IFERROR(VLOOKUP(I37,Hoja1!$I$6:$P$202,8,FALSE),"N/A") -> 21718.35 | T37: =VLOOKUP(I37,'Hoja 3'!$E$878:$G$1152,3,FALSE) -> 9816.8 | U37: N/A
A38: =A37+1 -> 32 | B38: CAMBIO CADENILLA REPARTICION | C38: ud | D38: 1 | E38: =IFERROR(VLOOKUP(B38,Hoja1!$B$6:$E$202,4,FALSE),"N/A") -> 258555 | F38: =IFERROR(VLOOKUP(B38,'Hoja 3'!E36:G330,3,FALSE),"item no compatible") -> item no compatible | H38: =H37+1 -> 32 | I38: CADENILLA REPARTICION | L38: ud. | M38: 1 | N38: =IFERROR(VLOOKUP(I38,Hoja1!$I$6:$N$202,6,FALSE),"N/A") -> 403662 | O38: =VLOOKUP(I38,'Hoja 3'!$E$878:$G$1152,3,FALSE) -> 50176 | P38: =VLOOKUP(I38, 'Hoja 3'!$E$304:$H$578, 4, FALSE) -> 327235.68 | Q38: =((N38-O38)/N38) -> 0.87569798 | R38: =((N38-P38)/N38) -> 0.18933246 | S38: =IFERROR(VLOOKUP(I38,Hoja1!$I$6:$P$202,8,FALSE),"N/A") -> 398047 | T38: =VLOOKUP(I38,'Hoja 3'!$E$878:$G$1152,3,FALSE) -> 50176 | U38: =((S38-T38)/S38) -> 0.87394453
A39: =A38+1 -> 33 | B39: CAMBIO CAJA COMPLETA FILTRO DE AIRE | C39: ud | D39: 1 | E39: =IFERROR(VLOOKUP(B39,Hoja1!$B$6:$E$202,4,FALSE),"N/A") -> 26021.554 | F39: =IFERROR(VLOOKUP(B39,'Hoja 3'!E37:G331,3,FALSE),"item no compatible") -> item no compatible | H39: =H38+1 -> 33 | I39: CAJA COMPLETA FILTRO DE AIRE | L39: ud. | M39: 1 | N39: =IFERROR(VLOOKUP(I39,Hoja1!$I$6:$N$202,6,FALSE),"N/A") -> 117634 | O39: =VLOOKUP(I39,'Hoja 3'!$E$878:$G$1152,3,FALSE) -> 12762.4 | P39: =VLOOKUP(I39, 'Hoja 3'!$E$304:$H$578, 4, FALSE) -> 654471.36 | Q39: N/A | R39: N/A | S39: =IFERROR(VLOOKUP(I39,Hoja1!$I$6:$P$202,8,FALSE),"N/A") -> 112519 | T39: =VLOOKUP(I39,'Hoja 3'!$E$878:$G$1152,3,FALSE) -> 12762.4 | U39: N/A
A40: =A39+1 -> 34 | B40: CAMBIO CAJA EMBRAGUE COMPLETO | C40: ud | D40: 1 | E40: =IFERROR(VLOOKUP(B40,Hoja1!$B$6:$E$202,4,FALSE),"N/A") -> 192388 | F40: =IFERROR(VLOOKUP(B40,'Hoja 3'!E38:G332,3,FALSE),"item no compatible") -> item no compatible | H40: =H39+1 -> 34 | I40: CAJA EMBRAGUE COMPLETO | L40: ud. | M40: 1 | N40: =IFERROR(VLOOKUP(I40,Hoja1!$I$6:$N$202,6,FALSE),"N/A") -> 183991.5 | O40: =VLOOKUP(I40,'Hoja 3'!$E$878:$G$1152,3,FALSE) -> 1 | P40: =VLOOKUP(I40, 'Hoja 3'!$E$304:$H$578, 4, FALSE) -> 1090785.6 | Q40: =((N40-O40)/N40) -> 0.99999456 | R40: =((N40-P40)/N40) -> -4.9284565 | S40: =IFERROR(VLOOKUP(I40,Hoja1!$I$6:$P$202,8,FALSE),"N/A") -> 168361.5 | T40: =VLOOKUP(I40,'Hoja 3'!$E$878:$G$1152,3,FALSE) -> 1 | U40: =((S40-T40)/S40) -> 0.99999406
A41: =A40+1 -> 35 | B41: CAMBIO CAJA PIÑON VELOCIMETRO | C41: ud | D41: 1 | E41: =IFERROR(VLOOKUP(B41,Hoja1!$B$6:$E$202,4,FALSE),"N/A") -> 57911.022 | F41: =IFERROR(VLOOKUP(B41,'Hoja 3'!E39:G333,3,FALSE),"item no compatible") -> item no compatible | H41: =H40+1 -> 35 | I41: CAJA PIÑON VELOCIMETRO | L41: ud. | M41: 1 | N41: =IFERROR(VLOOKUP(I41,Hoja1!$I$6:$N$202,6,FALSE),"N/A") -> N/A | O41: =VLOOKUP(I41,'Hoja 3'!$E$878:$G$1152,3,FALSE) -> 1 | P41: =VLOOKUP(I41, 'Hoja 3'!$E$304:$H$578, 4, FALSE) -> 554937.17 | Q41: N/A | R41: N/A | S41: =IFERROR(VLOOKUP(I41,Hoja1!$I$6:$P$202,8,FALSE),"N/A") -> 464157 | T41: =VLOOKUP(I41,'Hoja 3'!$E$878:$G$1152,3,FALSE) -> 1 | U41: N/A
A42: =A41+1 -> 36 | B42: CAMBIO CALIPER FRENO DELANTERO | C42: ud | D42: 1 | E42: =IFERROR(VLOOKUP(B42,Hoja1!$B$6:$E$202,4,FALSE),"N/A") -> 163224 | F42: =IFERROR(VLOOKUP(B42,'Hoja 3'!E40:G334,3,FALSE),"item no compatible") -> item no compatible | H42: =H41+1 -> 36 | I42: CALIPER FRENO DELANTERO | L42: ud. | M42: 1 | N42: =IFERROR(VLOOKUP(I42,Hoja1!$I$6:$N$202,6,FALSE),"N/A") -> 803842 | O42: =VLOOKUP(I42,'Hoja 3'!$E$878:$G$1152,3,FALSE) -> 50176 | P42: =VLOOKUP(I42, 'Hoja 3'!$E$304:$H$578, 4, FALSE) -> 559027.62 | Q42: =((N42-O42)/N42) -> 0.93757977 | R42: =((N42-P42)/N42) -> 0.30455535 | S42: =IFERROR(VLOOKUP(I42,Hoja1!$I$6:$P$202,8,FALSE),"N/A") -> 913030 | T42: =VLOOKUP(I42,'Hoja 3'!$E$878:$G$1152,3,FALSE) -> 50176 | U42: =((S42-T42)/S42) -> 0.94504452
...

Sheet Hoja1
E3: VALOR TECHO | F3: OFERTA ECONOMICA | M3: Cant de repuestos | N3: VALOR TECHO | O3: OFERTA ECONOMICA | P3: VALOR TECHO | Q3: OFERTA ECONOMICA
A4: N° | B4: DESCRIPCION DEL SERVICIO MANO DE OBRA | C4: und | D4: Cant | E4: PRECIO DE MANO DE OBRA | F4: PRECIO DE MANO DE OBRA | H4: N° | I4: DESCRIPCION DEL REPUESTO | L4: und | N4: XRE300 ABS | O4: XRE300 ABS | P4: XR-250 TORNADO | Q4: XR-250 TORNADO
E5: VALOR CON IVA | F5: VALOR CON IVA | N5: VALOR REPUESTO CON IVA | O5: VALOR REPUESTO CON IVA | P5: VALOR REPUESTO CON IVA | Q5: VALOR REPUESTO CON IVA
A6: 1 | B6: CAMBIO ACEITE | C6: ud | D6: 1 | E6: 40743 | H6: 1 | I6: ACEITE 4T | L6: 1/4GAL | M6: 1 | N6: 52990 | P6: 52270
A7: =A6+1 -> 2 | B7: CAMBIO ACEITE HIDRAULICO | C7: ud | D7: 1 | E7: 314958 | H7: =H6+1 -> 2 | I7: ACEITE HIDRAULICO | L7: 1/4GAL | M7: 1 | N7: 54633 | P7: 54633
A8: =A7+1 -> 3 | B8: CAMBIO AMORTIGUADOR DELANTERO | C8: ud | D8: 1 | E8: 314958 | H8: =H7+1 -> 3 | I8: AMORTIGUADOR DELANTERO | L8: ud. | M8: 1 | N8: 2299419 | P8: 1255215
A9: =A8+1 -> 4 | B9: CAMBIO AMORTIGUADOR TRASERO | C9: ud | D9: 1 | E9: 128846.5 | H9: =H8+1 -> 4 | I9: AMORTIGUADOR TRASERO | L9: ud. | M9: 1 | N9: 2197579.8 | P9: 1975267
A10: =A9+1 -> 5 | B10: CAMBIO ANILLOS | C10: ud | D10: 1 | E10: 701497.5 | H10: =H9+1 -> 5 | I10: ANILLOS | L10: ud. | M10: 1 | N10: 367776 | P10: 432102
A11: =A10+1 -> 6 | B11: CAMBIO ARRANQUE | C11: ud | D11: 1 | E11: 171145 | H11: =H10+1 -> 6 | I11: ARRANQUE | L11: ud. | M11: 1 | N11: 674923.59 | P11: 547073.4
A12: =A11+1 -> 7 | B12: CAMBIO AUTOMATICO ARRANQUE | C12: ud | D12: 1 | E12: 79950 | H12: =H11+1 -> 7 | I12: AUTOMATICO ARRANQUE | L12: ud. | M12: 1 | N12: 473456.1 | P12: 531110.3
A13: =A12+1 -> 8 | B13: CAMBIO BANDAS FRENO TRASERO | C13: ud | D13: 1 | E13: 42949.5 | H13: =H12+1 -> 8 | I13: BANDAS FRENO TRASERO | L13: ud. | M13: 1 | N13: N/A | O13: N/A | P13: 166145
A14: =A13+1 -> 9 | B14: CAMBIO BASE ESPEJO IZQUIERDO COMPLETO | C14: ud | D14: 1 | E14: 21233.352 | H14: =H13+1 -> 9 | I14: BASE ESPEJO IZQUIERDO COMPLETO | L14: ud. | M14: 1 | N14: 80177 | P14: 135868.25
A15: =A14+1 -> 10 | B15: CAMBIO BASE MALETERO | C15: ud | D15: 1 | E15: 33312.5 | H15: =H14+1 -> 10 | I15: BASE MALETERO | L15: ud. | M15: 1 | N15: 227361 | P15: 217475
A16: =A15+1 -> 11 | B16: CAMBIO BATERIA | C16: ud | D16: 1 | E16: 13325 | H16: =H15+1 -> 11 | I16: BATERIA | L16: ud. | M16: 1 | N16: 190654 | P16: 179498
A17: =A16+1 -> 12 | B17: CAMBIO BIELA | C17: ud | D17: 1 | E17: 435299.61 | H17: =H16+1 -> 12 | I17: BIELA | L17: ud. | M17: 1 | N17: 705602 | P17: 674924
A18: =A17+1 -> 13 | B18: CAMBIO BOBINA DE ALTA | C18: ud | D18: 1 | E18: 159900 | H18: =H17+1 -> 13 | I18: BOBINA DE ALTA | L18: ud. | M18: 1 | N18: 478354 | P18: 472161.95
A19: =A18+1 -> 14 | B19: CAMBIO BOBINA DE CARGA | C19: ud | D19: 1 | E19: 149068 | H19: =H18+1 -> 14 | I19: BOBINA DE CARGA | L19: ud. | M19: 1 | N19: 1817759 | P19: 1317987
A20: =A19+1 -> 15 | B20: CAMBIO BOMBA ACEITE | C20: ud | D20: 1 | E20: 227070 | H20: =H19+1 -> 15 | I20: BOMBA ACEITE | L20: ud. | M20: 1 | N20: 421165 | P20: 413693
A21: =A20+1 -> 16 | B21: CAMBIO BOMBA FRENO DELANTERO CON DEPOSITO | C21: ud | D21: 1 | E21: 178292 | H21: =H20+1 -> 16 | I21: BOMBA FRENO DELANTERO CON DEPOSITO | L21: ud. | M21: 1 | N21: 1146824 | P21: N/A | Q21: N/A
A22: =A21+1 -> 17 | B22: CAMBIO BOMBA FRENO TRASERO CON DEPOSITO | C22: ud | D22: 1 | E22: 199875 | H22: =H21+1 -> 17 | I22: BOMBA FRENO TRASERO CON DEPOSITO | L22: ud. | M22: 1 | N22: 613089 | P22: 501232
A23: =A22+1 -> 18 | B23: CAMBIO BOMBILLO DIRECCIONAL | C23: ud | D23: 1 | E23: 59962.5 | H23: =H22+1 -> 18 | I23: BOMBILLO DIRECCIONAL | L23: ud. | M23: 1 | N23: N/A | O23: N/A | P23: 6036
A24: =A23+1 -> 19 | B24: CAMBIO BOMBILLO FAROLA | C24: ud | D24: 1 | E24: 69386 | H24: =H23+1 -> 19 | I24: BOMBILLO FAROLA | L24: ud. | M24: 1 | N24: N/A | O24: N/A | P24: 38229.5
A25: =A24+1 -> 20 | B25: CAMBIO BOMBILLO PORTA PLACA | C25: ud | D25: 1 | E25: 38607 | H25: =H24+1 -> 20 | I25: BOMBILLO PORTA PLACA | L25: ud. | M25: 1 | N25: 16414 | P25: N/A | Q25: N/A
A26: =A25+1 -> 21 | B26: CAMBIO BOMBILLO STOP | C26: ud | D26: 1 | E26: 38607 | H26: =H25+1 -> 21 | I26: BOMBILLO STOP | L26: ud. | M26: 1 | N26: N/A | O26: N/A | P26: 15547
A27: =A26+1 -> 22 | B27: CAMBIO BRAZO TENSOR MECANICO | C27: ud | D27: 1 | E27: 95553.259 | H27: =H26+1 -> 22 | I27: BRAZO TENSOR MECANICO | L27: ud. | M27: 1 | N27: 294278 | P27: 318281.51
A28: =A27+1 -> 23 | B28: CAMBIO BUJE SEPARADOR RODAMIENTO RUEDA TRASERA | C28: ud | D28: 1 | E28: 125957 | H28: =H27+1 -> 23 | I28: BUJE SEPARADOR RODAMIENTO RUEDA TRASERA | L28: ud. | M28: 1 | N28: 86563 | P28: 19363.8
A29: =A28+1 -> 24 | B29: CAMBIO BUJES BALANCIN SUSPENSION TRASERA | C29: ud | D29: 1 | E29: 163224 | H29: =H28+1 -> 24 | I29: BUJES BALANCIN SUSPENSION TRASERA | L29: ud. | M29: 1 | N29: 40278.7 | P29: 73672.35
A30: =A29+1 -> 25 | B30: CAMBIO BUJES MONO BRAZO COMPLETO | C30: ud | D30: 1 | E30: 159900 | H30: =H29+1 -> 25 | I30: BUJES MONO BRAZO COMPLETO | L30: ud. | M30: 1 | N30: 113390 | P30: 113390
A31: =A30+1 -> 26 | B31: CAMBIO BUJES SUSPENSION TRASERA | C31: ud | D31: 1 | E31: 159685 | H31: =H30+1 -> 26 | I31: BUJES SUSPENSION TRASERA | L31: ud. | M31: 1 | N31: 191880 | P31: 191880
A32: =A31+1 -> 27 | B32: CAMBIO BUJES TIJERA COMPLETO | C32: ud | D32: 1 | E32: 163224 | H32: =H31+1 -> 27 | I32: BUJES TIJERA COMPLETO | L32: ud. | M32: 1 | N32: 158566.98 | P32: 151672.76
A33: =A32+1 -> 28 | B33: CAMBIO BUJIA | C33: ud | D33: 1 | E33: 13325 | H33: =H32+1 -> 28 | I33: BUJIA | L33: ud. | M33: 1 | N33: 411654 | P33: 97336.7
A34: =A33+1 -> 29 | B34: CAMBIO CABLE POSITIVO BATERIA | C34: ud | D34: 1 | E34: 13325 | H34: =H33+1 -> 29 | I34: CABLE POSITIVO BATERIA | L34: ud. | M34: 1 | N34: N/A | O34: N/A | P34: 21718.35
A35: =A34+1 -> 30 | B35: CAMBIO CADENILLA REPARTICION | C35: ud | D35: 1 | E35: 258555 | H35: =H34+1 -> 30 | I35: CADENILLA REPARTICION | L35: ud. | M35: 1 | N35: 403662 | P35: 398047
A36: =A35+1 -> 31 | B36: CAMBIO CAJA COMPLETA FILTRO DE AIRE | C36: ud | D36: 1 | E36: 26021.554 | H36: =H35+1 -> 31 | I36: CAJA COMPLETA FILTRO DE AIRE | L36: ud. | M36: 1 | N36: 117634 | P36: 112519
A37: =A36+1 -> 32 | B37: CAMBIO CAJA EMBRAGUE COMPLETO | C37: ud | D37: 1 | E37: 192388 | H37: =H36+1 -> 32 | I37: CAJA EMBRAGUE COMPLETO | L37: ud. | M37: 1 | N37: 183991.5 | P37: 168361.5
A38: =A37+1 -> 33 | B38: CAMBIO CAJA PIÑON VELOCIMETRO | C38: ud | D38: 1 | E38: 57911.022 | H38: =H37+1 -> 33 | I38: CAJA PIÑON VELOCIMETRO | L38: ud. | M38: 1 | N38: N/A | O38: N/A | P38: 464157
A39: =A38+1 -> 34 | B39: CAMBIO CALIPER FRENO DELANTERO | C39: ud | D39: 1 | E39: 163224 | H39: =H38+1 -> 34 | I39: CALIPER FRENO DELANTERO | L39: ud. | M39: 1 | N39: 803842 | P39: 913030
A40: =A39+1 -> 35 | B40: CAMBIO CALIPER FRENO TRASERO | C40: ud | D40: 1 | E40: 159685 | H40: =H39+1 -> 35 | I40: CALIPER FRENO TRASERO | L40: ud. | M40: 1 | N40: 840105 | P40: N/A | Q40: N/A
A41: =A40+1 -> 36 | B41: CAMBIO CAMPANA TRASERA | C41: ud | D41: 1 | E41: 223781 | H41: =H40+1 -> 36 | I41: CAMPANA TRASERA | L41: ud. | M41: 1 | N41: 1053586 | P41: 936473
A42: =A41+1 -> 37 | B42: CAMBIO CAÑA ACELERADOR | C42: ud | D42: 1 | E42: 40744 | H42: =H41+1 -> 37 | I42: CAÑA ACELERADOR | L42: ud. | M42: 1 | N42: 61850 | P42: 63069.457
...

Sheet Hoja 3
B3: OMAR HENRY CORTES VELASQUEZ | G3: precios 2025 ofertados
B4: Referencia producto | C4: INTERVALO | D4: TIPO | E4: Descripción | F4: Cantidad | G4: Precio unitario | H4: Precio Techo | I4: CONDICION | J4: DIFERENCIA | K4: h
B5: I3-MO-TEMP-00001 | C5: INTERVALO 3 | D5: TEMPARIO | E5: ACEITE | F5: 1 | G5: 1 | H5: 3604.34 | I5: TRUE | J5: $ 24.546,06 | K5: 1 | M5: 1
B6: I3-MO-TEMP-00002 | C6: INTERVALO 3 | D6: TEMPARIO | E6: ACEITE 4T | F6: 1 | G6: 1254.4 | H6: 3604.34 | I6: TRUE | J6: $ 17.234,90 | K6: 0.9999 | M6: 1
B7: I3-MO-TEMP-00003 | C7: INTERVALO 3 | D7: TEMPARIO | E7: ACEITE DE DIFERENCIAL FRONTAL SAE 90 | F7: 1 | G7: 1 | H7: 36037.66 | I7: TRUE | J7: $ 17.234,90 | K7: 0.9999 | M7: 1
B8: I3-MO-TEMP-00004 | C8: INTERVALO 3 | D8: TEMPARIO | E8: ACEITE DEL ENGRANAJE FINAL SAE 90 | F8: 1 | G8: 1 | H8: 36037.66 | I8: TRUE | J8: $ 111.890,39 | K8: 0.8782 | M8: 15524
B9: I3-MO-TEMP-00005 | C9: INTERVALO 3 | D9: TEMPARIO | E9: ACEITE HIDRAULICO | F9: 1 | G9: 648.8 | H9: 54056.49 | I9: TRUE | J9: $ 112.029,48 | K9: 1 | M9: 1
B10: I3-MO-TEMP-00006 | C10: INTERVALO 3 | D10: TEMPARIO | E10: AGUJA CARBURADOR | F10: 1 | G10: 1 | H10: 36037.66 | I10: TRUE | J10: $ 123.907,28 | K10: 1 | M10: 1
B11: I3-MO-TEMP-00007 | C11: INTERVALO 3 | D11: TEMPARIO | E11: ALTERNADOR | F11: 1 | G11: 1 | H11: 54056.49 | I11: TRUE | J11: $ 145.882,05 | K11: 1 | M11: 1
B12: I3-MO-TEMP-00008 | C12: INTERVALO 3 | D12: TEMPARIO | E12: AMORTIGUADOR DELANTERO | F12: 1 | G12: 1 | H12: 54056.49 | I12: TRUE | J12: $ 138.592,08 | K12: 0.8941 | M12: 16410
B13: I3-MO-TEMP-00009 | C13: INTERVALO 3 | D13: TEMPARIO | E13: AMORTIGUADOR TRASERO | F13: 1 | G13: 8649.2 | H13: 54056.49 | I13: TRUE | J13: $ 236.124,24 | K13: 1 | M13: 1
B14: I3-MO-TEMP-00010 | C14: INTERVALO 3 | D14: TEMPARIO | E14: ANILLOS | F14: 1 | G14: 1730 | H14: 144150.63 | I14: TRUE | J14: $ 297.378,01 | K14: 1 | M14: 1
B15: I3-MO-TEMP-00011 | C15: INTERVALO 3 | D15: TEMPARIO | E15: ARBOL DE LEVAS | F15: 1 | G15: 1 | H15: 72075.32 | I15: TRUE | J15: $ 96.319,59 | K15: 1 | M15: 1
B16: I3-MO-TEMP-00012 | C16: INTERVALO 3 | D16: TEMPARIO | E16: ARRANQUE | F16: 1 | G16: 1 | H16: 36037.66 | I16: TRUE | J16: $ 75.746,98 | K16: 1 | M16: 1
... B576: I3-MO-REP-00273 | C576: INTERVALO 3 | D576: REPUESTO | E576: VENTILADOR | F576: 1 | G576: 1 | H576: 1295307.9 | I576: TRUE | J576: $ 260.616,99 | K576: 0.8641 | M576: 41004.09
B577: I3-MO-TEC-00001 | C577: INTERVALO 3 | D577: REPUESTO | E577: REVISION TECNICOMECANICA | F577: 1 | G577: 10 | H577: #N/D | I577: TRUE | J577: $ 698.035,75 | K577: 1 | M577: 1
B578: I3-MO-GASES-00001 | C578: INTERVALO 3 | D578: REPUESTO | E578: GASES | F578: 1 | G578: 10 | H578: #N/D | I578: TRUE | J578: $ 77.559,11 | K578: 1 | M578: 1
B579: I2-MO-TEMP-00001 | C579: INTERVALO 2 | D579: TEMPARIO | E579: ACEITE | F579: 1 | G579: 1 | H579: 3604.34 | I579: TRUE | J579: $ 70.988,67 | K579: 0.6337 | M579: 41041.81
B580: I2-MO-TEMP-00002 | C580: INTERVALO 2 | D580: TEMPARIO | E580: ACEITE 4T | F580: 1 | G580: 1110 | H580: 3604.34 | I580: TRUE | J580: $ 8.616,95 | K580: 0.9999 | M580: 1
B581: I2-MO-TEMP-00003 | C581: INTERVALO 2 | D581: TEMPARIO | E581: ACEITE DE DIFERENCIAL FRONTAL SAE 90 | F581: 1 | G581: 1 | H581: 18018.83 | I581: TRUE | J581: $ 34.469,37 | K581: 1 | M581: 1
B582: I2-MO-TEMP-00004 | C582: INTERVALO 2 | D582: TEMPARIO | E582: ACEITE DEL ENGRANAJE FINAL SAE 90 | F582: 1 | G582: 1 | H582: 18018.83 | I582: TRUE | J582: $ 206.824,07 | K582: 1 | M582: 1
B583: I2-MO-TEMP-00005 | C583: INTERVALO 2 | D583: TEMPARIO | E583: ACEITE HIDRAULICO | F583: 1 | G583: 1730 | H583: 36037.66 | I583: TRUE | J583: $ 129.265,38 | K583: 1 | M583: 1
B584: I2-MO-TEMP-00006 | C584: INTERVALO 2 | D584: TEMPARIO | E584: AGUJA CARBURADOR | F584: 1 | G584: 1 | H584: 36037.66 | I584: TRUE | J584: $ 34.469,37 | K584: 1 | M584: 1
B585: I2-MO-TEMP-00007 | C585: INTERVALO 2 | D585: TEMPARIO | E585: ALTERNADOR | F585: 1 | G585: 1 | H585: 36037.66 | I585: TRUE | J585: $ 22.157,01 | K585: 0.6428 | M585: 12313.36
B586: I2-MO-TEMP-00008 | C586: INTERVALO 2 | D586: TEMPARIO | E586: AMORTIGUADOR DELANTERO | F586: 1 | G586: 1 | H586: 36037.66 | I586: TRUE | J586: $ 34.469,37 | K586: 1 | M586: 1
B587: I2-MO-TEMP-00009 | C587: INTERVALO 2 | D587: TEMPARIO | E587: AMORTIGUADOR TRASERO | F587: 1 | G587: 7207.6 | H587: 36037.66 | I587: TRUE | J587: $ 27.582,85 | K587: 0.6401 | M587: 15505.47
B588: I2-MO-TEMP-00010 | C588: INTERVALO 2 | D588: TEMPARIO | E588: ANILLOS | F588: 1 | G588: 1297.2 | H588: 108112.98 | I588: TRUE | J588: $ 43.087,32 | K588: 1 | M588: 1
B589: I2-MO-TEMP-00011 | C589: INTERVALO 2 | D589: TEMPARIO | E589: ARBOL DE LEVAS | F589: 1 | G589: 1 | H589: 36037.66 | I589: TRUE | J589: $ 112.029,48 | K589: 1 | M589: 1
B590: I2-MO-TEMP-00012 | C590: INTERVALO 2 | D590: TEMPARIO | E590: ARRANQUE | F590: 1 | G590: 1 | H590: 18018.83 | I590: TRUE | J590: $ 33.008,69 | K590: 0.6384 | M590: 18697.58
... B1150: I2-MO-REP-00273 | C1150: INTERVALO 2 | D1150: REPUESTO | E1150: VENTILADOR | F1150: 1 | G1150: 1 | H1150: 818089.2 | I1150: TRUE | J1150: $ 232.714,64 | K1150: 0.9646 | M1150: 8538.1
B1151: I2-MO-TEC-00001 | C1151: INTERVALO 2 | D1151: REPUESTO | E1151: REVISION TECNICOMECANICA | F1151: 1 | G1151: 10 | H1151: #N/D | I1151: TRUE | J1151: $ 61.046,07 | K1151: 0.8773 | M1151: 8538.1
B1152: I2-MO-GASES-00001 | C1152: INTERVALO 2 | D1152: REPUESTO | E1152: GASES | F1152: 1 | G1152: 10 | H1152: #N/D | I1152: TRUE | J1152: $ 152.872,92 | K1152: 1 | M1152: 1
B1153: I3-MO-TEMP-00121 | C1153: INTERVALO 3 | D1153: TEMPARIO | E1153: GUAYA ACELERADOR | G1153: 12864.36 | H1153: 81978.7 | I1153: TRUE | J1153: $ 69.114,34 | K1153: 0.8431 | M1153: 12864.36
B1154: I3-MO-TEMP-00123 | C1154: INTERVALO 3 | D1154: TEMPARIO | E1154: GUAYA CLUTCH | G1154: 1 | H1154: 94794.59 | I1154: TRUE | J1154: $ 94.793,59 | K1154: 1 | M1154: 1
B1155: I3-MO-TEMP-00124 | C1155: INTERVALO 3 | D1155: TEMPARIO | E1155: GUAYA EMBRAGUE | G1155: 11344 | H1155: 94794.59 | I1155: TRUE | J1155: $ 83.450,59 | K1155: 0.8803 | M1155: 11344
B1156: I3-MO-TEMP-00125 | C1156: INTERVALO 3 | D1156: TEMPARIO | E1156: GUAYA FRENO TRASERO | G1156: 1 | H1156: 103412.54 | I1156: TRUE | J1156: $ 103.411,54 | K1156: 1 | M1156: 1
B1157: I3-MO-TEMP-00126 | C1157: INTERVALO 3 | D1157: TEMPARIO | E1157: GUAYA VELOCIMETRO | G1157: 1 | H1157: 60324.22 | I1157: TRUE | J1157: $ 60.323,22 | K1157: 1 | M1157: 1
B1158: I3-MO-TEMP-00127 | C1158: INTERVALO 3 | D1158: TEMPARIO | E1158: GUIA CADENILLA | G1158: 8662.4 | H1158: 235174.34 | I1158: TRUE | J1158: $ 226.511,94 | K1158: 0.9632 | M1158: 8662.4
B1159: I3-MO-TEMP-00128 | C1159: INTERVALO 3 | D1159: TEMPARIO | E1159: GUIAS VALVULAS | G1159: 16983.11 | H1159: 482321.84 | I1159: TRUE | J1159: $ 465.338,73 | K1159: 0.9648 | M1159: 16983.11
B1160: I3-MO-TEMP-00129 | C1160: INTERVALO 3 | D1160: TEMPARIO | E1160: HORQUILLA | G1160: 33801.2 | H1160: 997031.45 | I1160: TRUE | J1160: $ 963.230,25 | K1160: 0.9661 | M1160: 33801.2
...

Sheet STARKER
A2: N° | B2: DESCRIPCION DEL SERVICIO MANO DE OBRA | C2: und | D2: Cantidad | E2: MANO DE OBRA | G2: N° | H2: DESCRIPCION DEL REPUESTO | I2: und | J2: Cantidad | K2: THUNDER 1500
E3: VALOR CON IVA | K3: VALOR REPUESTO CON IVA
A4: 1 | B4: CAMBIO ACEITE DE DIFERENCIAL FRONTAL SAE 90 | C4: ud | D4: 1 | G4: 1 | H4: ACEITE DE DIFERENCIAL FRONTAL SAE 90 | I4: 1/4Gal | J4: 1
A5: =A4+1 -> 2 | B5: CAMBIO ACEITE DEL ENGRANAJE FINAL SAE 90 | C5: ud | D5: 1 | G5: =G4+1 -> 2 | H5: ACEITE DEL ENGRANAJE FINAL SAE 90 | I5: 1/4Gal | J5: 1
A6: =A5+1 -> 3 | B6: CAMBIO ACEITE DIELECTRICO | C6: ud | D6: 1 | G6: =G5+1 -> 3 | H6: ACEITE DIELECTRICO | I6: 1/4Gal | J6: 1
A7: =A6+1 -> 4 | B7: CAMBIO ACEITE HIDRAULICO | C7: ud | D7: 1 | G7: =G6+1 -> 4 | H7: ACEITE HIDRAULICO | I7: 1/4Gal | J7: 1
A8: =A7+1 -> 5 | B8: CAMBIO AMORTIGUADOR DELANTERO | C8: ud | D8: 1 | G8: =G7+1 -> 5 | H8: AMORTIGUADOR DELANTERO | I8: ud | J8: 1
A9: =A8+1 -> 6 | B9: CAMBIO AMORTIGUADOR TRASERO | C9: ud | D9: 1 | G9: =G8+1 -> 6 | H9: AMORTIGUADOR TRASERO | I9: ud | J9: 1
A10: =A9+1 -> 7 | B10: CAMBIO BANDAS FRENO TRASERO | C10: ud | D10: 1 | G10: =G9+1 -> 7 | H10: BANDAS FRENO TRASERO | I10: ud | J10: 1
A11: =A10+1 -> 8 | B11: CAMBIO BANDAS FRENO DELANTERO | C11: ud | D11: 1 | G11: =G10+1 -> 8 | H11: BANDAS FRENO DELANTERO | I11: ud | J11: 1
A12: =A11+1 -> 9 | B12: CAMBIO BASE ESPEJO IZQUIERDO O DERECHO COMPLETO | C12: ud | D12: 1 | G12: =G11+1 -> 9 | H12: BASE ESPEJO IZQUIERDO O DERECHO COMPLETO | I12: ud | J12: 1
A13: =A12+1 -> 10 | B13: CAMBIO BASE MALETERO | C13: ud | D13: 1 | G13: =G12+1 -> 10 | H13: BASE MALETERO | I13: ud | J13: 1
A14: =A13+1 -> 11 | B14: CAMBIO BATERIA | C14: ud | D14: 1 | G14: =G13+1 -> 11 | H14: BATERIA | I14: ud | J14: 1
A15: =A14+1 -> 12 | B15: CAMBIO BOBINA DE CARGA | C15: ud | D15: 1 | G15: =G14+1 -> 12 | H15: BOBINA DE CARGA | I15: ud | J15: 1
A16: =A15+1 -> 13 | B16: CAMBIO BOBINA DE ENCENDIDO | C16: ud | D16: 1 | G16: =G15+1 -> 13 | H16: BOBINA DE ENCENDIDO | I16: ud | J16: 1
... A122: =A121+1 -> 119 | B122: CAMBIO VENTILADOR | C122: ud | D122: 1 | G122: =G121+1 -> 119 | H122: VENTILADOR | I122: ud | J122: 1
A123: SUBTOTAL | E123: =SUM(E13:E122) -> 0 | G123: SUBTOTAL | K123: =SUM(K4:K122) -> 0
A125: N° | B125: SERVICIOS A TODO COSTO | C125: und | D125: cant. | E125: THUNDER 1500
E126: VALOR REPUESTO CON IVA
A127: =A122+1 -> 120 | B127: AJUSTE DE PIEZAS Y LUBRICACION (CADENA) | C127: ud | D127: 1
A128: =A127+1 -> 121 | B128: CAMBIO CAMBIO SIMBOLOGIA INSTITUCIONAL (CALCOMANIAS) | C128: ud | D128: 1
A129: =A128+1 -> 122 | B129: ENGRASE CUNAS DIRECCION | C129: ud | D129: 1
A130: =A129+1 -> 123 | B130: ENGRASE SUSPENSION TRASERA | C130: ud | D130: 1
A131: =A130+1 -> 124 | B131: LUBRICACION GUAYA | C131: ud | D131: 1
A132: =A131+1 -> 125 | B132: MANTENIMIENTO KIT DE ARRASTRE | C132: ud | D132: 1
A133: =A132+1 -> 126 | B133: CAMBIO REPARACION CAJA | C133: ud | D133: 1
A134: =A133+1 -> 127 | B134: CAMBIO REPARACION GENERAL DE MOTOR (Incluye el desmonte y monte de todos los elementos del motor) | C134: ud | D134: 1
A135: =A134+1 -> 128 | B135: REVISION ELECTRICA | C135: ud | D135: 1
A136: =A135+1 -> 129 | B136: SINCRONIZACION MOTOR | C136: ud | D136: 1
A137: =A136+1 -> 130 | B137: CAMBIO SISTEMA DE DIRECCIÓN | C137: ud | D137: 1
A138: =A137+1 -> 131 | B138: CAMBIO SISTEMA DE FRENOS | C138: ud | D138: 1
A139: =A138+1 -> 132 | B139: CAMBIO SISTEMA ELECTRICO | C139: ud | D139: 1
A140: SUBTOTAL | E140: =SUM(E127:G139) -> 0
A141: TOTAL | E141: =E123*K123*E140 -> 0
