Workbook
Name incBuyerDossierDetaillnkRequestName: HONDA!$F$2

Sheet SDM-COT-097-2026
A1: DATOS DEL PARTICIPANTE
A2: Nombre del PARTICIPANTE | C2: UNION MOTOR GROUP SAS
A3: NIT | C3: 900500816 - 3
A4: N° | B4: DESCRIPCIÓN DEL SERVICIO MANO DE OBRA | C4: und | D4: Cant | E4: PRECIO DE MANO DE OBRA | G4: N° | H4: DESCRIPCION DEL REPUESTO | K4: und | M4: XRE300 ABS | N4: XR-250 TORNADO
E5: VALOR CON IVA | M5: VALOR REPUESTO CON IVA | N5: VALOR REPUESTO CON IVA
A6: 1 | B6: CAMBIO ACEITE | C6: ud | D6: 1 | E6: 28955.36 | G6: 1 | H6: ACEITE 4T | K6: 1/4GAL | L6: 1 | M6: 49705.3 | N6: 47544.2
A7: =A6+1 -> 2 | B7: CAMBIO ACEITE HIDRÁULICO | C7: ud | D7: 1 | E7: 106169.28 | G7: =G6+1 -> 2 | H7: ACEITE HIDRÁULICO | K7: 1/4GAL | L7: 1 | M7: 50256.15 | N7: 48071.1
A8: =A7+1 -> 3 | B8: CAMBIO AMORTIGUADOR DELANTERO | C8: ud | D8: 1 | E8: N/A | G8: =G7+1 -> 3 | H8: AMORTIGUADOR DELANTERO | K8: ud. | L8: 1 | M8: N/A | N8: N/A
A9: =A8+1 -> 4 | B9: CAMBIO AMORTIGUADOR TRASERO | C9: ud | D9: 1 | E9: 339745.28 | G9: =G8+1 -> 4 | H9: AMORTIGUADOR TRASERO | K9: ud. | L9: 1 | M9: 2197579.8 | N9: 2102032.9
A10: =A9+1 -> 5 | B10: CAMBIO ANILLOS | C10: ud | D10: 1 | E10: 339745.28 | G10: =G9+1 -> 5 | H10: ANILLOS | K10: ud. | L10: 1 | M10: 456063.55 | N10: 436234.7
A11: =A10+1 -> 6 | B11: CAMBIO ARRANQUE | C11: ud | D11: 1 | E11: 169873.18 | G11: =G10+1 -> 6 | H11: ARRANQUE | K11: ud. | L11: 1 | M11: 674923.59 | N11: 547073.4
A12: =A11+1 -> 7 | B12: CAMBIO AUTOMÁTICO ARRANQUE | C12: ud | D12: 1 | E12: 48258.918 | G12: =G11+1 -> 7 | H12: AUTOMATICO ARRANQUE | K12: ud. | L12: 1 | M12: 1400542.4 | N12: 1339649.3
A13: =A12+1 -> 8 | B13: CAMBIO BANDAS FRENO TRASERO | C13: ud | D13: 1 | E13: 74319.918 | G13: =G12+1 -> 8 | H13: BANDAS FRENO TRASERO | K13: ud. | L13: 1 | M13: N/A | N13: 217475.38
A14: =A13+1 -> 9 | B14: CAMBIO BASE ESPEJO IZQUIERDO COMPLETO | C14: ud | D14: 1 | E14: 21233.352 | G14: =G13+1 -> 9 | H14: BASE ESPEJO IZQUIERDO COMPLETO | K14: ud. | L14: 1 | M14: 74319.918 | N14: 74319.918
A15: =A14+1 -> 10 | B15: CAMBIO BASE MALETERO | C15: ud | D15: 1 | E15: 74319.918 | G15: =G14+1 -> 10 | H15: BASE MALETERO | K15: ud. | L15: 1 | M15: 227360.62 | N15: 217475.38
A16: =A15+1 -> 11 | B16: CAMBIO BATERIA | C16: ud | D16: 1 | E16: 48258.918 | G16: =G15+1 -> 11 | H16: BATERÍA | K16: ud. | L16: 1 | M16: 485608.16 | N16: 485608.16
A17: =A16+1 -> 12 | B17: CAMBIO BIELA | C17: ud | D17: 1 | E17: 435299.61 | G17: =G16+1 -> 12 | H17: BIELA | K17: ud. | L17: 1 | M17: 705601.93 | N17: 674923.59
A18: =A17+1 -> 13 | B18: CAMBIO BOBINA DE ALTA | C18: ud | D18: 1 | E18: 84936.589 | G18: =G17+1 -> 13 | H18: BOBINA DE ALTA | K18: ud. | L18: 1 | M18: 1276856.3 | N18: 1221340.8
A19: =A18+1 -> 14 | B19: CAMBIO BOBINA DE CARGA | C19: ud | D19: 1 | E19: 127404.88 | G19: =G18+1 -> 14 | H19: BOBINA DE CARGA | K19: ud. | L19: 1 | M19: 1276856.3 | N19: 1221340.8
A20: =A19+1 -> 15 | B20: CAMBIO BOMBA ACEITE | C20: ud | D20: 1 | E20: 254809.77 | G20: =G19+1 -> 15 | H20: BOMBA ACEITE | K20: ud. | L20: 1 | M20: 403135.8 | N20: 385608.16
A21: =A20+1 -> 16 | B21: CAMBIO BOMBA FRENO DELANTERO CON DEPOSITO | C21: ud | D21: 1 | E21: 135126.24 | G21: =G20+1 -> 16 | H21: BOMBA FRENO DELANTERO CON DEPOSITO | K21: ud. | L21: 1 | M21: 806770.97 | N21: N/A
A22: =A21+1 -> 17 | B22: CAMBIO BOMBA FRENO TRASERO CON DEPÓSITO | C22: ud | D22: 1 | E22: 127404.88 | G22: =G21+1 -> 17 | H22: BOMBA FRENO TRASERO CON DEPOSITO | K22: ud. | L22: 1 | M22: 494618.73 | N22: 473113.56
A23: =A22+1 -> 18 | B23: CAMBIO BOMBILLO DIRECCIONAL | C23: ud | D23: 1 | E23: 21233.352 | G23: =G22+1 -> 18 | H23: BOMBILLO DIRECCIONAL | K23: ud. | L23: 1 | M23: N/A | N23: 77168.146
A24: =A23+1 -> 19 | B24: CAMBIO BOMBILLO FAROLA | C24: ud | D24: 1 | E24: 48258.918 | G24: =G23+1 -> 19 | H24: BOMBILLO FAROLA | K24: ud. | L24: 1 | M24: N/A | N24: 122603.11
A25: =A24+1 -> 20 | B25: CAMBIO BOMBILLO PORTA PLACA | C25: ud | D25: 1 | E25: 38606.814 | G25: =G24+1 -> 20 | H25: BOMBILLO PORTA PLACA | K25: ud. | L25: 1 | M25: 31127.142 | N25: N/A
A26: =A25+1 -> 21 | B26: CAMBIO BOMBILLO STOP | C26: ud | D26: 1 | E26: 38606.814 | G26: =G25+1 -> 21 | H26: BOMBILLO STOP | K26: ud. | L26: 1 | M26: N/A | N26: 19323.722
A27: =A26+1 -> 22 | B27: CAMBIO BRAZO TENSOR MECANICO | C27: ud | D27: 1 | E27: 95553.259 | G27: =G26+1 -> 22 | H27: BRAZO TENSOR MECANICO | K27: ud. | L27: 1 | M27: 332748.85 | N27: 318281.51
A28: =A27+1 -> 23 | B28: CAMBIO BUJE SEPARADOR RODAMIENTO RUEDA TRASERA | C28: ud | D28: 1 | E28: 138021.55 | G28: =G27+1 -> 23 | H28: BUJE SEPARADOR RODAMIENTO RUEDA TRASERA | K28: ud. | L28: 1 | M28: 82555.349 | N28: 78965.986
A29: =A28+1 -> 24 | B29: CAMBIO BUJES BALANCIN SUSPENSION TRASERA | C29: ud | D29: 1 | E29: 169873.18 | G29: =G28+1 -> 24 | H29: BUJES BALANCIN SUSPENSION TRASERA | K29: ud. | L29: 1 | M29: 447073.4 | N29: 427635.43
A30: =A29+1 -> 25 | B30: CAMBIO BUJES MONO BRAZO COMPLETO | C30: ud | D30: 1 | E30: N/A | G30: =G29+1 -> 25 | H30: BUJES MONO BRAZO COMPLETO | K30: ud. | L30: 1 | M30: N/A | N30: N/A
A31: =A30+1 -> 26 | B31: CAMBIO BUJES SUSPENSION TRASERA | C31: ud | D31: 1 | E31: 159256.5 | G31: =G30+1 -> 26 | H31: BUJES SUSPENSION TRASERA | K31: ud. | L31: 1 | M31: 447073.4 | N31: 427635.43
A32: =A31+1 -> 27 | B32: CAMBIO BUJES TIJERA COMPLETO | C32: ud | D32: 1 | E32: 169873.18 | G32: =G31+1 -> 27 | H32: BUJES TIJERA COMPLETO | K32: ud. | L32: 1 | M32: 158566.98 | N32: 151672.76
A33: =A32+1 -> 28 | B33: CAMBIO BUJIA | C33: ud | D33: 1 | E33: 28956.312 | G33: =G32+1 -> 28 | H33: BUJIA | K33: ud. | L33: 1 | M33: 396314.91 | N33: 379083.83
A34: =A33+1 -> 29 | B34: CAMBIO CABLE POSITIVO BATERIA | C34: ud | D34: 1 | E34: 48258.918 | G34: =G33+1 -> 29 | H34: CABLE POSITIVO BATERIA | K34: ud. | L34: 1 | M34: N/A | N34: 51902.202
A35: =A34+1 -> 30 | B35: CAMBIO CADENILLA REPARTICION | C35: ud | D35: 1 | E35: 231644.08 | G35: =G34+1 -> 30 | H35: CADENILLA REPARTICION | K35: ud. | L35: 1 | M35: 387431.01 | N35: 370586.18
A36: =A35+1 -> 31 | B36: CAMBIO CAJA COMPLETA FILTRO DE AIRE | C36: ud | D36: 1 | E36: 26021.554 | G36: =G35+1 -> 31 | H36: CAJA COMPLETA FILTRO DE AIRE | K36: ud. | L36: 1 | M36: 117633.81 | N36: 112519.3
A37: =A36+1 -> 32 | B37: CAMBIO CAJA EMBRAGUE COMPLETO | C37: ud | D37: 1 | E37: 233574.82 | G37: =G36+1 -> 32 | H37: CAJA EMBRAGUE COMPLETO | K37: ud. | L37: 1 | M37: 1063909.1 | N37: 1017652.2
A38: =A37+1 -> 33 | B38: CAMBIO CAJA PIÑON VELOCIMETRO | C38: ud | D38: 1 | E38: 57911.022 | G38: =G37+1 -> 33 | H38: CAJA PIÑON VELOCIMETRO | K38: ud. | L38: 1 | M38: N/A | N38: 527800
A39: =A38+1 -> 34 | B39: CAMBIO CALIPER FRENO DELANTERO | C39: ud | D39: 1 | E39: 169873.18 | G39: =G38+1 -> 34 | H39: CALIPER FRENO DELANTERO | K39: ud. | L39: 1 | M39: 859033.42 | N39: 821684.14
A40: =A39+1 -> 35 | B40: CAMBIO CALIPER FRENO TRASERO | C40: ud | D40: 1 | E40: 159256.5 | G40: =G39+1 -> 35 | H40: CALIPER FRENO TRASERO | K40: ud. | L40: 1 | M40: 982770.36 | N40: N/A
...

Sheet OFERTA ECONÓMICA
B3: GRUPO DE TRABAJO | C3: CLASE | D3: MARCA | E3: LÍNEA | F3: MODELO | G3: TIPO COMBUSTIBLE | H3: CILINDRAJE CC | I3: TOTAL
B4: En comodato a la Policía Nacional - Seccional de Tránsito y Transporte | C4: MOTOCICLETA | D4: HONDA | E4: XRE300 ABS | F4: 2022 | G4: GASOLINA | H4: 300 | I4: 232
B5: Subdirección de Gestión en Vía y Agentes Civiles de Tránsito y Transporte | C5: MOTOCICLETA | D5: HONDA | E5: XR-250 TORNADO | F5: 2015 | G5: GASOLINA | H5: 250 | I5: 19
B6: TOTAL | I6: =SUM(I4:I5) -> 251

Sheet HONDA
A1: pasos destacados del analisis 1.organizacion de cotizaciones a evaluar 2,calculo de promedios y desviacion estandar para verificar los niveles de confiavilidad entre los valores cotizados 3,calcuo de limites superiores inferiores, asi como analisis de valores minimos para valores sobrecosteado para eliminar valores atipicos 4,elimiacion de precios techo con un solo valor de respaldo cotizado 5,recalcular promedios y desviacion estandar para verificar los niveles de confiavilidad entre los valores cotizados.
E2: SDM-COT-049-2026 | F2: SDM-COT-049-2026 | G2: SDM-COT-097-2026 | M2: SDM-COT-049-2026 | N2: SDM-COT-049-2026 | O2: SDM-COT-097-2026 | P2: SDM-COT-049-2026 | Q2: SDM-COT-049-2026 | R2: SDM-COT-097-2026 | BD2: PRECIOS TECHO
B3: COTIZACIONES RECIBIDAS | E3: GRUPO SUERMOTOS S.A.S | F3: SUERMOTOS DE HUILA S.A.S | G3: UNION MOTOR GROUP SAS | J3: COTIZACIONES RECIBIDAS | M3: GRUPO SUERMOTOS S.A.S | N3: SUERMOTOS DE HUILA S.A.S | O3: UNION MOTOR GROUP SAS | P3: GRUPO SUERMOTOS S.A.S | Q3: SUERMOTOS DE HUILA S.A.S | R3: UNION MOTOR GROUP SAS | T3: DESCRIPCION DEL SERVICIO MANO DE OBRA | Y3: DESCRIPCION DEL REPUESTO | AI3: LÍMITES MANO DE OBRA | AK3: LÍMITES REPUESTOS XRE300 ABS | AM3: LÍMITES REPUESTOS XR-250 TORNADO | AO3: =F4 -> PRECIO DE MANO DE OBRA | AR3: =N4 -> XRE300 ABS | AU3: =P4 -> XR-250 TORNADO | AX3: PROMEDIO | BA3: NIVEL CONFIABILIDAD | BD3: PRECIO DE MANO DE OBRA | BF3: REPUESTO
A4: N° | B4: DESCRIPCION DEL SERVICIO MANO DE OBRA | C4: und | D4: Cantidad | E4: PRECIO DE MANO DE OBRA | F4: PRECIO DE MANO DE OBRA | G4: PRECIO DE MANO DE OBRA | I4: N° | J4: DESCRIPCION DEL REPUESTO | K4: und | L4: Cantidad de repuestos | M4: XRE300 ABS | N4: XRE300 ABS | O4: XRE300 ABS | P4: XR-250 TORNADO | Q4: XR-250 TORNADO | R4: XR-250 TORNADO | T4: promedios unitario | U4: desviación estandar | V4: coeficiente de variacion | W4: margen de confiabilidad | X4: nivel de confiabilidad | Y4: promedios unitario | Z4: desviacion estandar | AA4: coeficiente de variacion | AB4: margen de confiabilidad | AC4: nivel de confiabilidad | AD4: promedios unitario | AE4: desviación estandar | AF4: coeficiente de variación | AG4: margen de confiabilidad | AH4: nivel de confiabilidad | AI4: LÍMITES REPUESTOS | AK4: LÍMITES INSUMOS | AM4: LÍMITES INSUMOS | AO4: VALOR MANO DE OBRA CON IVA | AR4: VALOR MANO DE OBRA CON IVA | AU4: VALOR MANO DE OBRA CON IVA | AX4: COSTO PROMEDIO AJUSTADO | BA4: NIVEL CONFIABILIDAD AJUSTADA | BD4: PRECIO DE MANO DE OBRA | BF4: XRE300 ABS | BG4: XR-250 TORNADO
E5: VALOR CON IVA | F5: VALOR CON IVA | G5: VALOR CON IVA | M5: VALOR REPUESTO CON IVA | N5: VALOR REPUESTO CON IVA | O5: VALOR CON IVA | P5: VALOR REPUESTO CON IVA | Q5: VALOR REPUESTO CON IVA | R5: VALOR CON IVA | Y5: XRE300 ABS | AD5: XR-250 TORNADO | AI5: Límite inferior | AJ5: Límite superior | AK5: Límite inferior | AL5: Límite superior | AM5: Límite inferior | AN5: Límite superior | AO5: =M3 -> GRUPO SUERMOTOS S.A.S | AP5: =N3 -> SUERMOTOS DE HUILA S.A.S | AQ5: =O3 -> UNION MOTOR GROUP SAS | AR5: =P3 -> GRUPO SUERMOTOS S.A.S | AS5: =Q3 -> SUERMOTOS DE HUILA S.A.S | AT5: =R3 -> UNION MOTOR GROUP SAS | AU5: =P3 -> GRUPO SUERMOTOS S.A.S | AV5: =Q3 -> SUERMOTOS DE HUILA S.A.S | AW5: =R3 -> UNION MOTOR GROUP SAS | AX5: =AO3 -> PRECIO DE MANO DE OBRA | AY5: =AR3 -> XRE300 ABS | AZ5: =AU3 -> XR-250 TORNADO | BA5: VALOR REPUESTOS CON IVA | BB5: VALOR INSUMOS CON IVA | BC5: VALOR MANO DE OBRA CON IVA | BD5: VALOR CON IVA | BF5: VALOR REPUESTO CON IVA | BG5: VALOR REPUESTO CON IVA
A6: 1 | B6: CAMBIO ACEITE | C6: ud | D6: 1 | E6: 45500 | F6: 47775 | G6: =IFERROR(VLOOKUP(HONDA!B6,'SDM-COT-097-2026'!$B$6:$E$203,4,FALSE),"N/A") -> 28955.36 | I6: 1 | J6: ACEITE 4T | K6: 1/4GAL | L6: 1 | M6: 53300 | N6: 55965 | O6: =IFERROR(VLOOKUP($J6,'SDM-COT-097-2026'!$H$6:$M$203,6,FALSE),"N/A") -> 49705.3 | P6: 53300 | Q6: 55965 | R6: =IFERROR(VLOOKUP($J6,'SDM-COT-097-2026'!$H$6:$N$203,7,FALSE),"N/A") -> 47544.2 | T6: =IFERROR(ROUND(AVERAGE($E6,$F6,G6),0),"N/A") -> 40743 | U6: =IFERROR(ROUND(STDEVP($E6,$F6,G6),0),"N/A") -> 8387 | V6: =IFERROR(ROUND((U6/T6)*100,0),"N/A") -> 21 | W6: =IFERROR(ROUND(100-V6,0),"N/A") -> 79 | X6: =IF(W6>75,"ALTO","BAJO") -> ALTO | Y6: =IFERROR(ROUND(AVERAGE($M6,$N6,O6),0),"N/A") -> 52990 | Z6: =IFERROR(ROUND(STDEVP($M6,$N6,R6),0),"N/A") -> 3514 | AA6: =IFERROR(ROUND((Z6/Y6)*100,0),"N/A") -> 7 | AB6: =IFERROR(ROUND(100-AA6,0),"N/A") -> 93 | AC6: =IF(AB6>75,"ALTO","BAJO") -> ALTO | AD6: =IFERROR(ROUND(AVERAGE($P6,$Q6,R6),0),"N/A") -> 52270 | AE6: =IFERROR(ROUND(STDEVP($P6,$Q6,R6),0),"N/A") -> 3514 | AF6: =IFERROR(ROUND((AE6/AD6)*100,0),"N/A") -> 7 | AG6: =IFERROR(ROUND(100-AF6,0),"N/A") -> 93 | AH6: =IF(AG6>75,"ALTO","BAJO") -> ALTO | AI6: =IFERROR(IF(X6="BAJO",(T6-_xlfn.STDEV.S($E6,$F6,$G6)),""),"N/A") | AJ6: =IFERROR(IF(X6="BAJO",(T6+_xlfn.STDEV.S($E6,$F6,$G6)),""),"N/A") | AK6: =IFERROR(IF(AC6="BAJO",(Y6-_xlfn.STDEV.S($M6,$N6,$O6)),""),"N/A") | AL6: =IFERROR(IF(AC6="BAJO",(Y6+_xlfn.STDEV.S($M6,$N6,$O6)),""),"N/A") | AM6: =IFERROR(IF(AH6="BAJO",(AD6-_xlfn.STDEV.S($P6,$Q6,$R6)),""),"N/A") | AN6: =IFERROR(IF(AH6="BAJO",(AD6+_xlfn.STDEV.S($P6,$Q6,$R6)),""),"N/A") | AO6: =E6 -> 45500 | AP6: =F6 -> 47775 | AQ6: =G6 -> 28955.36 | AR6: =M6 -> 53300 | AS6: =N6 -> 55965 | AT6: =O6 -> 49705.3 | AU6: =P6 -> 53300 | AV6: =Q6 -> 55965 | AW6: =R6 -> 47544.2 | AX6: =IFERROR(IF(AI6="",$T6,AVERAGEIFS((AO6:AQ6),(AO6:AQ6),">"&AI6,(AO6:AQ6),"<"&AJ6)),"N/A") -> 40743 | AY6: =IFERROR(IF(AK6="",$Y6,AVERAGEIFS((AR6:AT6),(AR6:AT6),">"&AK6,(AR6:AT6),"<"&AL6)),"N/A") -> 52990 | AZ6: =IFERROR(IF(AM6="",$AD6,AVERAGEIFS((AU6:AW6),(AU6:AW6),">"&AM6,(AU6:AW6),"<"&AN6)),"N/A") -> 52270 | BA6: {=IF(AI6="",X6,IF(1-(_xlfn.STDEV.S(IF(AO6:AQ6>AI6,IF(AO6:AQ6<AJ6,AO6:AQ6)))/AX6)>70%,"ALTO","BAJO"))} -> ALTO | BB6: {=IF(AK6="",AC6,IF(1-(_xlfn.STDEV.S(IF(AR6:AT6>AK6,IF(AR6:AT6<AL6,AR6:AT6)))/AY6)>70%,"ALTO","BAJO"))} -> ALTO | BC6: {=IF(AM6="",AH6,IF(1-(_xlfn.STDEV.S(IF(AU6:AW6>AM6,IF(AU6:AW6<AN6,AU6:AW6)))/AZ6)>70%,"ALTO","BAJO"))} -> ALTO | BD6: =AX6 -> 40743 | BF6: =AY6 -> 52990 | BG6: =AZ6 -> 52270
A7: =A6+1 -> 2 | B7: CAMBIO ACEITE DEL ENGRANAJE FINAL SAE 90 | C7: ud | D7: 1 | G7: =IFERROR(VLOOKUP(HONDA!B7,'SDM-COT-097-2026'!$B$6:$E$203,4,FALSE),"N/A") -> N/A | I7: =I6+1 -> 2 | J7: ACEITE DEL ENGRANAJE FINAL SAE 90 | K7: 1/4GAL | L7: 1 | M7: N/A | O7: =IFERROR(VLOOKUP($J7,'SDM-COT-097-2026'!$H$6:$M$203,6,FALSE),"N/A") -> N/A | R7: =IFERROR(VLOOKUP($J7,'SDM-COT-097-2026'!$H$6:$N$203,7,FALSE),"N/A") -> N/A | T7: =IFERROR(ROUND(AVERAGE($E7,$F7,G7),0),"N/A") -> N/A | U7: =IFERROR(ROUND(STDEVP($E7,$F7,G7),0),"N/A") -> N/A | V7: =IFERROR(ROUND((U7/T7)*100,0),"N/A") -> N/A | W7: =IFERROR(ROUND(100-V7,0),"N/A") -> N/A | X7: =IF(W7>75,"ALTO","BAJO") -> ALTO | Y7: =IFERROR(ROUND(AVERAGE($M7,$N7,O7),0),"N/A") -> N/A | Z7: =IFERROR(ROUND(STDEVP($M7,$N7,R7),0),"N/A") -> N/A | AA7: =IFERROR(ROUND((Z7/Y7)*100,0),"N/A") -> N/A | AB7: =IFERROR(ROUND(100-AA7,0),"N/A") -> N/A | AC7: =IF(AB7>75,"ALTO","BAJO") -> ALTO | AD7: =IFERROR(ROUND(AVERAGE($P7,$Q7,R7),0),"N/A") -> N/A | AE7: =IFERROR(ROUND(STDEVP($P7,$Q7,R7),0),"N/A") -> N/A | AF7: =IFERROR(ROUND((AE7/AD7)*100,0),"N/A") -> N/A | AG7: =IFERROR(ROUND(100-AF7,0),"N/A") -> N/A | AH7: =IF(AG7>75,"ALTO","BAJO") -> ALTO | AI7: =IFERROR(IF(X7="BAJO",(T7-_xlfn.STDEV.S($E7,$F7,$G7)),""),"N/A") | AJ7: =IFERROR(IF(X7="BAJO",(T7+_xlfn.STDEV.S($E7,$F7,$G7)),""),"N/A") | AK7: =IFERROR(IF(AC7="BAJO",(Y7-_xlfn.STDEV.S($M7,$N7,$O7)),""),"N/A") | AL7: =IFERROR(IF(AC7="BAJO",(Y7+_xlfn.STDEV.S($M7,$N7,$O7)),""),"N/A") | AM7: =IFERROR(IF(AH7="BAJO",(AD7-_xlfn.STDEV.S($P7,$Q7,$R7)),""),"N/A") | AN7: =IFERROR(IF(AH7="BAJO",(AD7+_xlfn.STDEV.S($P7,$Q7,$R7)),""),"N/A") | AO7: =E7 | AP7: =F7 | AQ7: =G7 -> N/A | AR7: =M7 -> N/A | AS7: =N7 | AT7: =O7 -> N/A | AU7: =P7 | AV7: =Q7 | AW7: =R7 -> N/A | AX7: =IFERROR(IF(AI7="",$T7,AVERAGEIFS((AO7:AQ7),(AO7:AQ7),">"&AI7,(AO7:AQ7),"<"&AJ7)),"N/A") -> N/A | AY7: =IFERROR(IF(AK7="",$Y7,AVERAGEIFS((AR7:AT7),(AR7:AT7),">"&AK7,(AR7:AT7),"<"&AL7)),"N/A") -> N/A | AZ7: =IFERROR(IF(AM7="",$AD7,AVERAGEIFS((AU7:AW7),(AU7:AW7),">"&AM7,(AU7:AW7),"<"&AN7)),"N/A") -> N/A | BA7: {=IF(AI7="",X7,IF(1-(_xlfn.STDEV.S(IF(AO7:AQ7>AI7,IF(AO7:AQ7<AJ7,AO7:AQ7)))/AX7)>70%,"ALTO","BAJO"))} -> ALTO | BB7: {=IF(AK7="",AC7,IF(1-(_xlfn.STDEV.S(IF(AR7:AT7>AK7,IF(AR7:AT7<AL7,AR7:AT7)))/AY7)>70%,"ALTO","BAJO"))} -> ALTO | BC7: {=IF(AM7="",AH7,IF(1-(_xlfn.STDEV.S(IF(AU7:AW7>AM7,IF(AU7:AW7<AN7,AU7:AW7)))/AZ7)>70%,"ALTO","BAJO"))} -> ALTO | BD7: =AX7 -> N/A | BF7: =AY7 -> N/A | BG7: =AZ7 -> N/A
A8: =A7+1 -> 3 | B8: CAMBIO ACEITE HIDRAULICO | C8: ud | D8: 1 | E8: 307276 | F8: 322640 | G8: =IFERROR(VLOOKUP(HONDA!B8,'SDM-COT-097-2026'!$B$6:$E$203,4,FALSE),"N/A") -> N/A | I8: =I7+1 -> 3 | J8: ACEITE HIDRAULICO | K8: 1/4GAL | L8: 1 | M8: 53300 | N8: 55965 | O8: =IFERROR(VLOOKUP($J8,'SDM-COT-097-2026'!$H$6:$M$203,6,FALSE),"N/A") -> N/A | P8: 53300 | Q8: 55965 | R8: =IFERROR(VLOOKUP($J8,'SDM-COT-097-2026'!$H$6:$N$203,7,FALSE),"N/A") -> N/A | T8: =IFERROR(ROUND(AVERAGE($E8,$F8,G8),0),"N/A") -> 314958 | U8: =IFERROR(ROUND(STDEVP($E8,$F8,G8),0),"N/A") -> 7682 | V8: =IFERROR(ROUND((U8/T8)*100,0),"N/A") -> 2 | W8: =IFERROR(ROUND(100-V8,0),"N/A") -> 98 | X8: =IF(W8>75,"ALTO","BAJO") -> ALTO | Y8: =IFERROR(ROUND(AVERAGE($M8,$N8,O8),0),"N/A") -> 54633 | Z8: =IFERROR(ROUND(STDEVP($M8,$N8,R8),0),"N/A") -> 1333 | AA8: =IFERROR(ROUND((Z8/Y8)*100,0),"N/A") -> 2 | AB8: =IFERROR(ROUND(100-AA8,0),"N/A") -> 98 | AC8: =IF(AB8>75,"ALTO","BAJO") -> ALTO | AD8: =IFERROR(ROUND(AVERAGE($P8,$Q8,R8),0),"N/A") -> 54633 | AE8: =IFERROR(ROUND(STDEVP($P8,$Q8,R8),0),"N/A") -> 1333 | AF8: =IFERROR(ROUND((AE8/AD8)*100,0),"N/A") -> 2 | AG8: =IFERROR(ROUND(100-AF8,0),"N/A") -> 98 | AH8: =IF(AG8>75,"ALTO","BAJO") -> ALTO | AI8: =IFERROR(IF(X8="BAJO",(T8-_xlfn.STDEV.S($E8,$F8,$G8)),""),"N/A") | AJ8: =IFERROR(IF(X8="BAJO",(T8+_xlfn.STDEV.S($E8,$F8,$G8)),""),"N/A") | AK8: =IFERROR(IF(AC8="BAJO",(Y8-_xlfn.STDEV.S($M8,$N8,$O8)),""),"N/A") | AL8: =IFERROR(IF(AC8="BAJO",(Y8+_xlfn.STDEV.S($M8,$N8,$O8)),""),"N/A") | AM8: =IFERROR(IF(AH8="BAJO",(AD8-_xlfn.STDEV.S($P8,$Q8,$R8)),""),"N/A") | AN8: =IFERROR(IF(AH8="BAJO",(AD8+_xlfn.STDEV.S($P8,$Q8,$R8)),""),"N/A") | AO8: =E8 -> 307276 | AP8: =F8 -> 322640 | AQ8: =G8 -> N/A | AR8: =M8 -> 53300 | AS8: =N8 -> 55965 | AT8: =O8 -> N/A | AU8: =P8 -> 53300 | AV8: =Q8 -> 55965 | AW8: =R8 -> N/A | AX8: =IFERROR(IF(AI8="",$T8,AVERAGEIFS((AO8:AQ8),(AO8:AQ8),">"&AI8,(AO8:AQ8),"<"&AJ8)),"N/A") -> 314958 | AY8: =IFERROR(IF(AK8="",$Y8,AVERAGEIFS((AR8:AT8),(AR8:AT8),">"&AK8,(AR8:AT8),"<"&AL8)),"N/A") -> 54633 | AZ8: =IFERROR(IF(AM8="",$AD8,AVERAGEIFS((AU8:AW8),(AU8:AW8),">"&AM8,(AU8:AW8),"<"&AN8)),"N/A") -> 54633 | BA8: {=IF(AI8="",X8,IF(1-(_xlfn.STDEV.S(IF(AO8:AQ8>AI8,IF(AO8:AQ8<AJ8,AO8:AQ8)))/AX8)>70%,"ALTO","BAJO"))} -> ALTO | BB8: {=IF(AK8="",AC8,IF(1-(_xlfn.STDEV.S(IF(AR8:AT8>AK8,IF(AR8:AT8<AL8,AR8:AT8)))/AY8)>70%,"ALTO","BAJO"))} -> ALTO | BC8: {=IF(AM8="",AH8,IF(1-(_xlfn.STDEV.S(IF(AU8:AW8>AM8,IF(AU8:AW8<AN8,AU8:AW8)))/AZ8)>70%,"ALTO","BAJO"))} -> ALTO | BD8: =AX8 -> 314958 | BF8: =AY8 -> 54633 | BG8: =AZ8 -> 54633
A9: =A8+1 -> 4 | B9: CAMBIO AMORTIGUADOR DELANTERO | C9: ud | D9: 1 | E9: 307276 | F9: 322640 | G9: =IFERROR(VLOOKUP(HONDA!B9,'SDM-COT-097-2026'!$B$6:$E$203,4,FALSE),"N/A") -> N/A | I9: =I8+1 -> 4 | J9: AMORTIGUADOR DELANTERO | K9: ud. | L9: 1 | M9: 2243335.9 | N9: 2355503 | O9: =IFERROR(VLOOKUP($J9,'SDM-COT-097-2026'!$H$6:$M$203,6,FALSE),"N/A") -> N/A | P9: 1224600 | Q9: 1285830 | R9: =IFERROR(VLOOKUP($J9,'SDM-COT-097-2026'!$H$6:$N$203,7,FALSE),"N/A") -> N/A | T9: =IFERROR(ROUND(AVERAGE($E9,$F9,G9),0),"N/A") -> 314958 | U9: =IFERROR(ROUND(STDEVP($E9,$F9,G9),0),"N/A") -> 7682 | V9: =IFERROR(ROUND((U9/T9)*100,0),"N/A") -> 2 | W9: =IFERROR(ROUND(100-V9,0),"N/A") -> 98 | X9: =IF(W9>75,"ALTO","BAJO") -> ALTO | Y9: =IFERROR(ROUND(AVERAGE($M9,$N9,O9),0),"N/A") -> 2299419 | Z9: =IFERROR(ROUND(STDEVP($M9,$N9,R9),0),"N/A") -> 56084 | AA9: =IFERROR(ROUND((Z9/Y9)*100,0),"N/A") -> 2 | AB9: =IFERROR(ROUND(100-AA9,0),"N/A") -> 98 | AC9: =IF(AB9>75,"ALTO","BAJO") -> ALTO | AD9: =IFERROR(ROUND(AVERAGE($P9,$Q9,R9),0),"N/A") -> 1255215 | AE9: =IFERROR(ROUND(STDEVP($P9,$Q9,R9),0),"N/A") -> 30615 | AF9: =IFERROR(ROUND((AE9/AD9)*100,0),"N/A") -> 2 | AG9: =IFERROR(ROUND(100-AF9,0),"N/A") -> 98 | AH9: =IF(AG9>75,"ALTO","BAJO") -> ALTO | AI9: =IFERROR(IF(X9="BAJO",(T9-_xlfn.STDEV.S($E9,$F9,$G9)),""),"N/A") | AJ9: =IFERROR(IF(X9="BAJO",(T9+_xlfn.STDEV.S($E9,$F9,$G9)),""),"N/A") | AK9: =IFERROR(IF(AC9="BAJO",(Y9-_xlfn.STDEV.S($M9,$N9,$O9)),""),"N/A") | AL9: =IFERROR(IF(AC9="BAJO",(Y9+_xlfn.STDEV.S($M9,$N9,$O9)),""),"N/A") | AM9: =IFERROR(IF(AH9="BAJO",(AD9-_xlfn.STDEV.S($P9,$Q9,$R9)),""),"N/A") | AN9: =IFERROR(IF(AH9="BAJO",(AD9+_xlfn.STDEV.S($P9,$Q9,$R9)),""),"N/A") | AO9: =E9 -> 307276 | AP9: =F9 -> 322640 | AQ9: =G9 -> N/A | AR9: =M9 -> 2243335.9 | AS9: =N9 -> 2355503 | AT9: =O9 -> N/A | AU9: =P9 -> 1224600 | AV9: =Q9 -> 1285830 | AW9: =R9 -> N/A | AX9: =IFERROR(IF(AI9="",$T9,AVERAGEIFS((AO9:AQ9),(AO9:AQ9),">"&AI9,(AO9:AQ9),"<"&AJ9)),"N/A") -> 314958 | AY9: =IFERROR(IF(AK9="",$Y9,AVERAGEIFS((AR9:AT9),(AR9:AT9),">"&AK9,(AR9:AT9),"<"&AL9)),"N/A") -> 2299419 | AZ9: =IFERROR(IF(AM9="",$AD9,AVERAGEIFS((AU9:AW9),(AU9:AW9),">"&AM9,(AU9:AW9),"<"&AN9)),"N/A") -> 1255215 | BA9: {=IF(AI9="",X9,IF(1-(_xlfn.STDEV.S(IF(AO9:AQ9>AI9,IF(AO9:AQ9<AJ9,AO9:AQ9)))/AX9)>70%,"ALTO","BAJO"))} -> ALTO | BB9: {=IF(AK9="",AC9,IF(1-(_xlfn.STDEV.S(IF(AR9:AT9>AK9,IF(AR9:AT9<AL9,AR9:AT9)))/AY9)>70%,"ALTO","BAJO"))} -> ALTO | BC9: {=IF(AM9="",AH9,IF(1-(_xlfn.STDEV.S(IF(AU9:AW9>AM9,IF(AU9:AW9<AN9,AU9:AW9)))/AZ9)>70%,"ALTO","BAJO"))} -> ALTO | BD9: =AX9 -> 314958 | BF9: =AY9 -> 2299419 | BG9: =AZ9 -> 1255215
A10: =A9+1 -> 5 | B10: CAMBIO AMORTIGUADOR TRASERO | C10: ud | D10: 1 | E10: 125704 | F10: 131989 | G10: =IFERROR(VLOOKUP(HONDA!B10,'SDM-COT-097-2026'!$B$6:$E$203,4,FALSE),"N/A") -> 339745.28 | I10: =I9+1 -> 5 | J10: AMORTIGUADOR TRASERO | K10: ud. | L10: 1 | M10: 3882557.9 | N10: 4076686 | O10: =IFERROR(VLOOKUP($J10,'SDM-COT-097-2026'!$H$6:$M$203,6,FALSE),"N/A") -> 2197579.9 | P10: 1865253 | Q10: 1958516 | R10: =IFERROR(VLOOKUP($J10,'SDM-COT-097-2026'!$H$6:$N$203,7,FALSE),"N/A") -> 2102032.9 | T10: =IFERROR(ROUND(AVERAGE($E10,$F10,G10),0),"N/A") -> 199146 | U10: =IFERROR(ROUND(STDEVP($E10,$F10,G10),0),"N/A") -> 99452 | V10: =IFERROR(ROUND((U10/T10)*100,0),"N/A") -> 50 | W10: =IFERROR(ROUND(100-V10,0),"N/A") -> 50 | X10: =IF(W10>75,"ALTO","BAJO") -> BAJO | Y10: =IFERROR(ROUND(AVERAGE($M10,$N10,O10),0),"N/A") -> 3385608 | Z10: =IFERROR(ROUND(STDEVP($M10,$N10,R10),0),"N/A") -> 888645 | AA10: =IFERROR(ROUND((Z10/Y10)*100,0),"N/A") -> 26 | AB10: =IFERROR(ROUND(100-AA10,0),"N/A") -> 74 | AC10: =IF(AB10>75,"ALTO","BAJO") -> BAJO | AD10: =IFERROR(ROUND(AVERAGE($P10,$Q10,R10),0),"N/A") -> 1975267 | AE10: =IFERROR(ROUND(STDEVP($P10,$Q10,R10),0),"N/A") -> 97388 | AF10: =IFERROR(ROUND((AE10/AD10)*100,0),"N/A") -> 5 | AG10: =IFERROR(ROUND(100-AF10,0),"N/A") -> 95 | AH10: =IF(AG10>75,"ALTO","BAJO") -> ALTO | AI10: =IFERROR(IF(X10="BAJO",(T10-_xlfn.STDEV.S($E10,$F10,$G10)),""),"N/A") -> 77342.988 | AJ10: =IFERROR(IF(X10="BAJO",(T10+_xlfn.STDEV.S($E10,$F10,$G10)),""),"N/A") -> 320949.01 | AK10: =IFERROR(MIN($M10,$N10,$O10),"N/A") -> 2197579.9 | AL10: 3872557.9 | AM10: =IFERROR(IF(AH10="BAJO",(AD10-_xlfn.STDEV.S($P10,$Q10,$R10)),""),"N/A") | AN10: =IFERROR(IF(AH10="BAJO",(AD10+_xlfn.STDEV.S($P10,$Q10,$R10)),""),"N/A") | AO10: =E10 -> 125704 | AP10: =F10 -> 131989 | AQ10: =G10 -> 339745.28 | AR10: =M10 -> 3882557.9 | AS10: =N10 -> 4076686 | AT10: =O10 -> 2197579.9 | AU10: =P10 -> 1865253 | AV10: =Q10 -> 1958516 | AW10: =R10 -> 2102032.9 | AX10: =IFERROR(IF(AI10="",$T10,AVERAGEIFS((AO10:AQ10),(AO10:AQ10),">"&AI10,(AO10:AQ10),"<"&AJ10)),"N/A") -> 128846.5 | AY10: =IFERROR(IF(AK10="",$Y10,AVERAGEIFS((AR10:AT10),(AR10:AT10),">="&AK10,(AR10:AT10),"<"&AL10)),"N/A") -> 2197579.9 | AZ10: =IFERROR(IF(AM10="",$AD10,AVERAGEIFS((AU10:AW10),(AU10:AW10),">"&AM10,(AU10:AW10),"<"&AN10)),"N/A") -> 1975267 | BA10: {=IF(AI10="",X10,IF(1-(_xlfn.STDEV.S(IF(AO10:AQ10>AI10,IF(AO10:AQ10<AJ10,AO10:AQ10)))/AX10)>70%,"ALTO","BAJO"))} -> ALTO | BB10: {=IFERROR(IF(AK10="",AC10,IF(1-(_xlfn.STDEV.S(IF(AR10:AT10>AK10,IF(AR10:AT10<AL10,AR10:AT10)))/AY10)>70%,"ALTO","BAJO")),"ALTO")} -> ALTO | BC10: {=IF(AM10="",AH10,IF(1-(_xlfn.STDEV.S(IF(AU10:AW10>AM10,IF(AU10:AW10<AN10,AU10:AW10)))/AZ10)>70%,"ALTO","BAJO"))} -> ALTO | BD10: =AX10 -> 128846.5 | BF10: =AY10 -> 2197579.9 | BG10: =AZ10 -> 1975267
A11: =A10+1 -> 6 | B11: CAMBIO ANILLOS | C11: ud | D11: 1 | E11: 684388 | F11: 718607 | G11: =IFERROR(VLOOKUP(HONDA!B11,'SDM-COT-097-2026'!$B$6:$E$203,4,FALSE),"N/A") -> 339745.28 | I11: =I10+1 -> 6 | J11: ANILLOS | K11: ud. | L11: 1 | M11: 315738.8 | N11: 331526 | O11: =IFERROR(VLOOKUP($J11,'SDM-COT-097-2026'!$H$6:$M$203,6,FALSE),"N/A") -> 456063.55 | P11: 419546.4 | Q11: 440524 | R11: =IFERROR(VLOOKUP($J11,'SDM-COT-097-2026'!$H$6:$N$203,7,FALSE),"N/A") -> 436234.7 | T11: =IFERROR(ROUND(AVERAGE($E11,$F11,G11),0),"N/A") -> 580913 | U11: =IFERROR(ROUND(STDEVP($E11,$F11,G11),0),"N/A") -> 171103 | V11: =IFERROR(ROUND((U11/T11)*100,0),"N/A") -> 29 | W11: =IFERROR(ROUND(100-V11,0),"N/A") -> 71 | X11: =IF(W11>75,"ALTO","BAJO") -> BAJO | Y11: =IFERROR(ROUND(AVERAGE($M11,$N11,O11),0),"N/A") -> 367776 | Z11: =IFERROR(ROUND(STDEVP($M11,$N11,R11),0),"N/A") -> 53471 | AA11: =IFERROR(ROUND((Z11/Y11)*100,0),"N/A") -> 15 | AB11: =IFERROR(ROUND(100-AA11,0),"N/A") -> 85 | AC11: =IF(AB11>75,"ALTO","BAJO") -> ALTO | AD11: =IFERROR(ROUND(AVERAGE($P11,$Q11,R11),0),"N/A") -> 432102 | AE11: =IFERROR(ROUND(STDEVP($P11,$Q11,R11),0),"N/A") -> 9049 | AF11: =IFERROR(ROUND((AE11/AD11)*100,0),"N/A") -> 2 | AG11: =IFERROR(ROUND(100-AF11,0),"N/A") -> 98 | AH11: =IF(AG11>75,"ALTO","BAJO") -> ALTO | AI11: =IFERROR(IF(X11="BAJO",(T11-_xlfn.STDEV.S($E11,$F11,$G11)),""),"N/A") -> 371355.63 | AJ11: =IFERROR(IF(X11="BAJO",(T11+_xlfn.STDEV.S($E11,$F11,$G11)),""),"N/A") -> 790470.37 | AK11: =IFERROR(IF(AC11="BAJO",(Y11-_xlfn.STDEV.S($M11,$N11,$O11)),""),"N/A") | AL11: =IFERROR(IF(AC11="BAJO",(Y11+_xlfn.STDEV.S($M11,$N11,$O11)),""),"N/A") | AM11: =IFERROR(IF(AH11="BAJO",(AD11-_xlfn.STDEV.S($P11,$Q11,$R11)),""),"N/A") | AN11: =IFERROR(IF(AH11="BAJO",(AD11+_xlfn.STDEV.S($P11,$Q11,$R11)),""),"N/A") | AO11: =E11 -> 684388 | AP11: =F11 -> 718607 | AQ11: =G11 -> 339745.28 | AR11: =M11 -> 315738.8 | AS11: =N11 -> 331526 | AT11: =O11 -> 456063.55 | AU11: =P11 -> 419546.4 | AV11: =Q11 -> 440524 | AW11: =R11 -> 436234.7 | AX11: =IFERROR(IF(AI11="",$T11,AVERAGEIFS((AO11:AQ11),(AO11:AQ11),">"&AI11,(AO11:AQ11),"<"&AJ11)),"N/A") -> 701497.5 | AY11: =IFERROR(IF(AK11="",$Y11,AVERAGEIFS((AR11:AT11),(AR11:AT11),">"&AK11,(AR11:AT11),"<"&AL11)),"N/A") -> 367776 | AZ11: =IFERROR(IF(AM11="",$AD11,AVERAGEIFS((AU11:AW11),(AU11:AW11),">"&AM11,(AU11:AW11),"<"&AN11)),"N/A") -> 432102 | BA11: {=IF(AI11="",X11,IF(1-(_xlfn.STDEV.S(IF(AO11:AQ11>AI11,IF(AO11:AQ11<AJ11,AO11:AQ11)))/AX11)>70%,"ALTO","BAJO"))} -> ALTO | BB11: {=IF(AK11="",AC11,IF(1-(_xlfn.STDEV.S(IF(AR11:AT11>AK11,IF(AR11:AT11<AL11,AR11:AT11)))/AY11)>70%,"ALTO","BAJO"))} -> ALTO | BC11: {=IF(AM11="",AH11,IF(1-(_xlfn.STDEV.S(IF(AU11:AW11>AM11,IF(AU11:AW11<AN11,AU11:AW11)))/AZ11)>70%,"ALTO","BAJO"))} -> ALTO | BD11: =AX11 -> 701497.5 | BF11: =AY11 -> 367776 | BG11: =AZ11 -> 432102
A12: =A11+1 -> 7 | B12: CAMBIO ARRANQUE | C12: ud | D12: 1 | E12: 167591 | F12: 175971 | G12: =IFERROR(VLOOKUP(HONDA!B12,'SDM-COT-097-2026'!$B$6:$E$203,4,FALSE),"N/A") -> 169873.18 | I12: =I11+1 -> 7 | J12: ARRANQUE | K12: ud. | L12: 1 | M12: 1492190.7 | N12: 1566800 | O12: =IFERROR(VLOOKUP($J12,'SDM-COT-097-2026'!$H$6:$M$203,6,FALSE),"N/A") -> 674923.59 | P12: 2443780.3 | Q12: 2565969 | R12: =IFERROR(VLOOKUP($J12,'SDM-COT-097-2026'!$H$6:$N$203,7,FALSE),"N/A") -> 547073.4 | T12: =IFERROR(ROUND(AVERAGE($E12,$F12,G12),0),"N/A") -> 171145 | U12: =IFERROR(ROUND(STDEVP($E12,$F12,G12),0),"N/A") -> 3537 | V12: =IFERROR(ROUND((U12/T12)*100,0),"N/A") -> 2 | W12: =IFERROR(ROUND(100-V12,0),"N/A") -> 98 | X12: =IF(W12>75,"ALTO","BAJO") -> ALTO | Y12: =IFERROR(ROUND(AVERAGE($M12,$N12,O12),0),"N/A") -> 1244638 | Z12: =IFERROR(ROUND(STDEVP($M12,$N12,R12),0),"N/A") -> 464119 | AA12: =IFERROR(ROUND((Z12/Y12)*100,0),"N/A") -> 37 | AB12: =IFERROR(ROUND(100-AA12,0),"N/A") -> 63 | AC12: =IF(AB12>75,"ALTO","BAJO") -> BAJO | AD12: =IFERROR(ROUND(AVERAGE($P12,$Q12,R12),0),"N/A") -> 1852274 | AE12: =IFERROR(ROUND(STDEVP($P12,$Q12,R12),0),"N/A") -> 924263 | AF12: =IFERROR(ROUND((AE12/AD12)*100,0),"N/A") -> 50 | AG12: =IFERROR(ROUND(100-AF12,0),"N/A") -> 50 | AH12: =IF(AG12>75,"ALTO","BAJO") -> BAJO | AI12: =IFERROR(IF(X12="BAJO",(T12-_xlfn.STDEV.S($E12,$F12,$G12)),""),"N/A") | AJ12: =IFERROR(IF(X12="BAJO",(T12+_xlfn.STDEV.S($E12,$F12,$G12)),""),"N/A") | AK12: =IFERROR(MIN($M12,$N12,$O12),"N/A") -> 674923.59 | AL12: 1491190.7 | AM12: =IFERROR(MIN($P12,$Q12,$R12),"N/A") -> 547073.4 | AN12: 2384260.9 | AO12: =E12 -> 167591 | AP12: =F12 -> 175971 | AQ12: =G12 -> 169873.18 | AR12: =M12 -> 1492190.7 | AS12: =N12 -> 1566800 | AT12: =O12 -> 674923.59 | AU12: =P12 -> 2443780.3 | AV12: =Q12 -> 2565969 | AW12: =R12 -> 547073.4 | AX12: =IFERROR(IF(AI12="",$T12,AVERAGEIFS((AO12:AQ12),(AO12:AQ12),">"&AI12,(AO12:AQ12),"<"&AJ12)),"N/A") -> 171145 | AY12: =IFERROR(IF(AK12="",$Y12,AVERAGEIFS((AR12:AT12),(AR12:AT12),">="&AK12,(AR12:AT12),"<"&AL12)),"N/A") -> 674923.59 | AZ12: =IFERROR(IF(AM12="",$AD12,AVERAGEIFS((AU12:AW12),(AU12:AW12),">="&AM12,(AU12:AW12),"<"&AN12)),"N/A") -> 547073.4 | BA12: {=IF(AI12="",X12,IF(1-(_xlfn.STDEV.S(IF(AO12:AQ12>AI12,IF(AO12:AQ12<AJ12,AO12:AQ12)))/AX12)>70%,"ALTO","BAJO"))} -> ALTO | BB12: {=IFERROR(IF(AK12="",AC12,IF(1-(_xlfn.STDEV.S(IF(AR12:AT12>AK12,IF(AR12:AT12<AL12,AR12:AT12)))/AY12)>70%,"ALTO","BAJO")),"ALTO")} -> ALTO | BC12: {=IFERROR(IF(AM12="",AH12,IF(1-(_xlfn.STDEV.S(IF(AU12:AW12>AM12,IF(AU12:AW12<AN12,AU12:AW12)))/AZ12)>70%,"ALTO","BAJO")),"ALTO")} -> ALTO | BD12: =AX12 -> 171145 | BF12: =AY12 -> 674923.59 | BG12: =AZ12 -> 547073.4
A13: =A12+1 -> 8 | B13: CAMBIO AUTOMATICO ARRANQUE | C13: ud | D13: 1 | E13: 78000 | F13: 81900 | G13: =IFERROR(VLOOKUP(HONDA!B13,'SDM-COT-097-2026'!$B$6:$E$203,4,FALSE),"N/A") -> N/A | I13: =I12+1 -> 8 | J13: AUTOMATICO ARRANQUE | K13: ud. | L13: 1 | M13: 461908.2 | N13: 485004 | O13: =IFERROR(VLOOKUP($J13,'SDM-COT-097-2026'!$H$6:$M$203,6,FALSE),"N/A") -> 1400542.4 | P13: 518156.6 | Q13: 544064 | R13: =IFERROR(VLOOKUP($J13,'SDM-COT-097-2026'!$H$6:$N$203,7,FALSE),"N/A") -> 1339649.3 | T13: =IFERROR(ROUND(AVERAGE($E13,$F13,G13),0),"N/A") -> 79950 | U13: =IFERROR(ROUND(STDEVP($E13,$F13,G13),0),"N/A") -> 1950 | V13: =IFERROR(ROUND((U13/T13)*100,0),"N/A") -> 2 | W13: =IFERROR(ROUND(100-V13,0),"N/A") -> 98 | X13: =IF(W13>75,"ALTO","BAJO") -> ALTO | Y13: =IFERROR(ROUND(AVERAGE($M13,$N13,O13),0),"N/A") -> 782485 | Z13: =IFERROR(ROUND(STDEVP($M13,$N13,R13),0),"N/A") -> 408436 | AA13: =IFERROR(ROUND((Z13/Y13)*100,0),"N/A") -> 52 | AB13: =IFERROR(ROUND(100-AA13,0),"N/A") -> 48 | AC13: =IF(AB13>75,"ALTO","BAJO") -> BAJO | AD13: =IFERROR(ROUND(AVERAGE($P13,$Q13,R13),0),"N/A") -> 800623 | AE13: =IFERROR(ROUND(STDEVP($P13,$Q13,R13),0),"N/A") -> 381296 | AF13: =IFERROR(ROUND((AE13/AD13)*100,0),"N/A") -> 48 | AG13: =IFERROR(ROUND(100-AF13,0),"N/A") -> 52 | AH13: =IF(AG13>75,"ALTO","BAJO") -> BAJO | AI13: =IFERROR(IF(X13="BAJO",(T13-_xlfn.STDEV.S($E13,$F13,$G13)),""),"N/A") | AJ13: =IFERROR(IF(X13="BAJO",(T13+_xlfn.STDEV.S($E13,$F13,$G13)),""),"N/A") | AK13: =IFERROR(IF(AC13="BAJO",(Y13-_xlfn.STDEV.S($M13,$N13,$O13)),""),"N/A") -> 247106.89 | AL13: =IFERROR(IF(AC13="BAJO",(Y13+_xlfn.STDEV.S($M13,$N13,$O13)),""),"N/A") -> 1317863.1 | AM13: =IFERROR(IF(AH13="BAJO",(AD13-_xlfn.STDEV.S($P13,$Q13,$R13)),""),"N/A") -> 333633.1 | AN13: =IFERROR(IF(AH13="BAJO",(AD13+_xlfn.STDEV.S($P13,$Q13,$R13)),""),"N/A") -> 1267612.9 | AO13: =E13 -> 78000 | AP13: =F13 -> 81900 | AQ13: =G13 -> N/A | AR13: =M13 -> 461908.2 | AS13: =N13 -> 485004 | AT13: =O13 -> 1400542.4 | AU13: =P13 -> 518156.6 | AV13: =Q13 -> 544064 | AW13: =R13 -> 1339649.3 | AX13: =IFERROR(IF(AI13="",$T13,AVERAGEIFS((AO13:AQ13),(AO13:AQ13),">"&AI13,(AO13:AQ13),"<"&AJ13)),"N/A") -> 79950 | AY13: =IFERROR(IF(AK13="",$Y13,AVERAGEIFS((AR13:AT13),(AR13:AT13),">"&AK13,(AR13:AT13),"<"&AL13)),"N/A") -> 473456.1 | AZ13: =IFERROR(IF(AM13="",$AD13,AVERAGEIFS((AU13:AW13),(AU13:AW13),">"&AM13,(AU13:AW13),"<"&AN13)),"N/A") -> 531110.3 | BA13: {=IF(AI13="",X13,IF(1-(_xlfn.STDEV.S(IF(AO13:AQ13>AI13,IF(AO13:AQ13<AJ13,AO13:AQ13)))/AX13)>70%,"ALTO","BAJO"))} -> ALTO | BB13: {=IF(AK13="",AC13,IF(1-(_xlfn.STDEV.S(IF(AR13:AT13>AK13,IF(AR13:AT13<AL13,AR13:AT13)))/AY13)>70%,"ALTO","BAJO"))} -> ALTO | BC13: {=IF(AM13="",AH13,IF(1-(_xlfn.STDEV.S(IF(AU13:AW13>AM13,IF(AU13:AW13<AN13,AU13:AW13)))/AZ13)>70%,"ALTO","BAJO"))} -> ALTO | BD13: =AX13 -> 79950 | BF13: =AY13 -> 473456.1 | BG13: =AZ13 -> 531110.3
A14: =A13+1 -> 9 | B14: CAMBIO BALANCIN ADMISION | C14: ud | D14: 1 | E14: 342194 | F14: 359304 | G14: =IFERROR(VLOOKUP(HONDA!B14,'SDM-COT-097-2026'!$B$6:$E$203,4,FALSE),"N/A") -> N/A | I14: =I13+1 -> 9 | J14: BALANCIN ADMISION | K14: ud. | L14: 1 | O14: =IFERROR(VLOOKUP($J14,'SDM-COT-097-2026'!$H$6:$M$203,6,FALSE),"N/A") -> N/A | R14: =IFERROR(VLOOKUP($J14,'SDM-COT-097-2026'!$H$6:$N$203,7,FALSE),"N/A") -> N/A | T14: =IFERROR(ROUND(AVERAGE($E14,$F14,G14),0),"N/A") -> 350749 | U14: =IFERROR(ROUND(STDEVP($E14,$F14,G14),0),"N/A") -> 8555 | V14: =IFERROR(ROUND((U14/T14)*100,0),"N/A") -> 2 | W14: =IFERROR(ROUND(100-V14,0),"N/A") -> 98 | X14: =IF(W14>75,"ALTO","BAJO") -> ALTO | Y14: =IFERROR(ROUND(AVERAGE($M14,$N14,O14),0),"N/A") -> N/A | Z14: =IFERROR(ROUND(STDEVP($M14,$N14,R14),0),"N/A") -> N/A | AA14: =IFERROR(ROUND((Z14/Y14)*100,0),"N/A") -> N/A | AB14: =IFERROR(ROUND(100-AA14,0),"N/A") -> N/A | AC14: =IF(AB14>75,"ALTO","BAJO") -> ALTO | AD14: =IFERROR(ROUND(AVERAGE($P14,$Q14,R14),0),"N/A") -> N/A | AE14: =IFERROR(ROUND(STDEVP($P14,$Q14,R14),0),"N/A") -> N/A | AF14: =IFERROR(ROUND((AE14/AD14)*100,0),"N/A") -> N/A | AG14: =IFERROR(ROUND(100-AF14,0),"N/A") -> N/A | AH14: =IF(AG14>75,"ALTO","BAJO") -> ALTO | AI14: =IFERROR(IF(X14="BAJO",(T14-_xlfn.STDEV.S($E14,$F14,$G14)),""),"N/A") | AJ14: =IFERROR(IF(X14="BAJO",(T14+_xlfn.STDEV.S($E14,$F14,$G14)),""),"N/A") | AK14: =IFERROR(IF(AC14="BAJO",(Y14-_xlfn.STDEV.S($M14,$N14,$O14)),""),"N/A") | AL14: =IFERROR(IF(AC14="BAJO",(Y14+_xlfn.STDEV.S($M14,$N14,$O14)),""),"N/A") | AM14: =IFERROR(IF(AH14="BAJO",(AD14-_xlfn.STDEV.S($P14,$Q14,$R14)),""),"N/A") | AN14: =IFERROR(IF(AH14="BAJO",(AD14+_xlfn.STDEV.S($P14,$Q14,$R14)),""),"N/A") | AO14: =E14 -> 342194 | AP14: =F14 -> 359304 | AQ14: =G14 -> N/A | AR14: =M14 | AS14: =N14 | AT14: =O14 -> N/A | AU14: =P14 | AV14: =Q14 | AW14: =R14 -> N/A | AX14: =IFERROR(IF(AI14="",$T14,AVERAGEIFS((AO14:AQ14),(AO14:AQ14),">"&AI14,(AO14:AQ14),"<"&AJ14)),"N/A") -> 350749 | AY14: =IFERROR(IF(AK14="",$Y14,AVERAGEIFS((AR14:AT14),(AR14:AT14),">"&AK14,(AR14:AT14),"<"&AL14)),"N/A") -> N/A | AZ14: =IFERROR(IF(AM14="",$AD14,AVERAGEIFS((AU14:AW14),(AU14:AW14),">"&AM14,(AU14:AW14),"<"&AN14)),"N/A") -> N/A | BA14: {=IF(AI14="",X14,IF(1-(_xlfn.STDEV.S(IF(AO14:AQ14>AI14,IF(AO14:AQ14<AJ14,AO14:AQ14)))/AX14)>70%,"ALTO","BAJO"))} -> ALTO | BB14: {=IF(AK14="",AC14,IF(1-(_xlfn.STDEV.S(IF(AR14:AT14>AK14,IF(AR14:AT14<AL14,AR14:AT14)))/AY14)>70%,"ALTO","BAJO"))} -> ALTO | BC14: {=IF(AM14="",AH14,IF(1-(_xlfn.STDEV.S(IF(AU14:AW14>AM14,IF(AU14:AW14<AN14,AU14:AW14)))/AZ14)>70%,"ALTO","BAJO"))} -> ALTO | BD14: =AX14 -> 350749 | BF14: =AY14 -> N/A | BG14: =AZ14 -> N/A
A15: =A14+1 -> 10 | B15: CAMBIO BALANCIN ESCAPE | C15: ud | D15: 1 | E15: 342194 | F15: 359304 | G15: =IFERROR(VLOOKUP(HONDA!B15,'SDM-COT-097-2026'!$B$6:$E$203,4,FALSE),"N/A") -> N/A | I15: =I14+1 -> 10 | J15: BALANCIN ESCAPE | K15: ud. | L15: 1 | O15: =IFERROR(VLOOKUP($J15,'SDM-COT-097-2026'!$H$6:$M$203,6,FALSE),"N/A") -> N/A | R15: =IFERROR(VLOOKUP($J15,'SDM-COT-097-2026'!$H$6:$N$203,7,FALSE),"N/A") -> N/A | T15: =IFERROR(ROUND(AVERAGE($E15,$F15,G15),0),"N/A") -> 350749 | U15: =IFERROR(ROUND(STDEVP($E15,$F15,G15),0),"N/A") -> 8555 | V15: =IFERROR(ROUND((U15/T15)*100,0),"N/A") -> 2 | W15: =IFERROR(ROUND(100-V15,0),"N/A") -> 98 | X15: =IF(W15>75,"ALTO","BAJO") -> ALTO | Y15: =IFERROR(ROUND(AVERAGE($M15,$N15,O15),0),"N/A") -> N/A | Z15: =IFERROR(ROUND(STDEVP($M15,$N15,R15),0),"N/A") -> N/A | AA15: =IFERROR(ROUND((Z15/Y15)*100,0),"N/A") -> N/A | AB15: =IFERROR(ROUND(100-AA15,0),"N/A") -> N/A | AC15: =IF(AB15>75,"ALTO","BAJO") -> ALTO | AD15: =IFERROR(ROUND(AVERAGE($P15,$Q15,R15),0),"N/A") -> N/A | AE15: =IFERROR(ROUND(STDEVP($P15,$Q15,R15),0),"N/A") -> N/A | AF15: =IFERROR(ROUND((AE15/AD15)*100,0),"N/A") -> N/A | AG15: =IFERROR(ROUND(100-AF15,0),"N/A") -> N/A | AH15: =IF(AG15>75,"ALTO","BAJO") -> ALTO | AI15: =IFERROR(IF(X15="BAJO",(T15-_xlfn.STDEV.S($E15,$F15,$G15)),""),"N/A") | AJ15: =IFERROR(IF(X15="BAJO",(T15+_xlfn.STDEV.S($E15,$F15,$G15)),""),"N/A") | AK15: =IFERROR(IF(AC15="BAJO",(Y15-_xlfn.STDEV.S($M15,$N15,$O15)),""),"N/A") | AL15: =IFERROR(IF(AC15="BAJO",(Y15+_xlfn.STDEV.S($M15,$N15,$O15)),""),"N/A") | AM15: =IFERROR(IF(AH15="BAJO",(AD15-_xlfn.STDEV.S($P15,$Q15,$R15)),""),"N/A") | AN15: =IFERROR(IF(AH15="BAJO",(AD15+_xlfn.STDEV.S($P15,$Q15,$R15)),""),"N/A") | AO15: =E15 -> 342194 | AP15: =F15 -> 359304 | AQ15: =G15 -> N/A | AR15: =M15 | AS15: =N15 | AT15: =O15 -> N/A | AU15: =P15 | AV15: =Q15 | AW15: =R15 -> N/A | AX15: =IFERROR(IF(AI15="",$T15,AVERAGEIFS((AO15:AQ15),(AO15:AQ15),">"&AI15,(AO15:AQ15),"<"&AJ15)),"N/A") -> 350749 | AY15: =IFERROR(IF(AK15="",$Y15,AVERAGEIFS((AR15:AT15),(AR15:AT15),">"&AK15,(AR15:AT15),"<"&AL15)),"N/A") -> N/A | AZ15: =IFERROR(IF(AM15="",$AD15,AVERAGEIFS((AU15:AW15),(AU15:AW15),">"&AM15,(AU15:AW15),"<"&AN15)),"N/A") -> N/A | BA15: {=IF(AI15="",X15,IF(1-(_xlfn.STDEV.S(IF(AO15:AQ15>AI15,IF(AO15:AQ15<AJ15,AO15:AQ15)))/AX15)>70%,"ALTO","BAJO"))} -> ALTO | BB15: {=IF(AK15="",AC15,IF(1-(_xlfn.STDEV.S(IF(AR15:AT15>AK15,IF(AR15:AT15<AL15,AR15:AT15)))/AY15)>70%,"ALTO","BAJO"))} -> ALTO | BC15: {=IF(AM15="",AH15,IF(1-(_xlfn.STDEV.S(IF(AU15:AW15>AM15,IF(AU15:AW15<AN15,AU15:AW15)))/AZ15)>70%,"ALTO","BAJO"))} -> ALTO | BD15: =AX15 -> 350749 | BF15: =AY15 -> N/A | BG15: =AZ15 -> N/A
A16: =A15+1 -> 11 | B16: CAMBIO BANDAS FRENO TRASERO | C16: ud | D16: 1 | E16: 41902 | F16: 43997 | G16: =IFERROR(VLOOKUP(HONDA!B16,'SDM-COT-097-2026'!$B$6:$E$203,4,FALSE),"N/A") -> 74319.918 | I16: =I15+1 -> 11 | J16: BANDAS FRENO TRASERO | K16: ud. | L16: 1 | O16: =IFERROR(VLOOKUP($J16,'SDM-COT-097-2026'!$H$6:$M$203,6,FALSE),"N/A") -> N/A | P16: 137053.8 | Q16: 143906 | R16: =IFERROR(VLOOKUP($J16,'SDM-COT-097-2026'!$H$6:$N$203,7,FALSE),"N/A") -> 217475.38 | T16: =IFERROR(ROUND(AVERAGE($E16,$F16,G16),0),"N/A") -> 53406 | U16: =IFERROR(ROUND(STDEVP($E16,$F16,G16),0),"N/A") -> 14813 | V16: =IFERROR(ROUND((U16/T16)*100,0),"N/A") -> 28 | W16: =IFERROR(ROUND(100-V16,0),"N/A") -> 72 | X16: =IF(W16>75,"ALTO","BAJO") -> BAJO | Y16: =IFERROR(ROUND(AVERAGE($M16,$N16,O16),0),"N/A") -> N/A | Z16: =IFERROR(ROUND(STDEVP($M16,$N16,R16),0),"N/A") -> 0 | AA16: =IFERROR(ROUND((Z16/Y16)*100,0),"N/A") -> N/A | AB16: =IFERROR(ROUND(100-AA16,0),"N/A") -> N/A | AC16: =IF(AB16>75,"ALTO","BAJO") -> ALTO | AD16: =IFERROR(ROUND(AVERAGE($P16,$Q16,R16),0),"N/A") -> 166145 | AE16: =IFERROR(ROUND(STDEVP($P16,$Q16,R16),0),"N/A") -> 36404 | AF16: =IFERROR(ROUND((AE16/AD16)*100,0),"N/A") -> 22 | AG16: =IFERROR(ROUND(100-AF16,0),"N/A") -> 78 | AH16: =IF(AG16>75,"ALTO","BAJO") -> ALTO | AI16: =IFERROR(IF(X16="BAJO",(T16-_xlfn.STDEV.S($E16,$F16,$G16)),""),"N/A") -> 35264.014 | AJ16: =IFERROR(IF(X16="BAJO",(T16+_xlfn.STDEV.S($E16,$F16,$G16)),""),"N/A") -> 71547.986 | AK16: =IFERROR(IF(AC16="BAJO",(Y16-_xlfn.STDEV.S($M16,$N16,$O16)),""),"N/A") | AL16: =IFERROR(IF(AC16="BAJO",(Y16+_xlfn.STDEV.S($M16,$N16,$O16)),""),"N/A") | AM16: =IFERROR(IF(AH16="BAJO",(AD16-_xlfn.STDEV.S($P16,$Q16,$R16)),""),"N/A") | AN16: =IFERROR(IF(AH16="BAJO",(AD16+_xlfn.STDEV.S($P16,$Q16,$R16)),""),"N/A") | AO16: =E16 -> 41902 | AP16: =F16 -> 43997 | AQ16: =G16 -> 74319.918 | AR16: =M16 | AS16: =N16 | AT16: =O16 -> N/A | AU16: =P16 -> 137053.8 | AV16: =Q16 -> 143906 | AW16: =R16 -> 217475.38 | AX16: =IFERROR(IF(AI16="",$T16,AVERAGEIFS((AO16:AQ16),(AO16:AQ16),">"&AI16,(AO16:AQ16),"<"&AJ16)),"N/A") -> 42949.5 | AY16: =IFERROR(IF(AK16="",$Y16,AVERAGEIFS((AR16:AT16),(AR16:AT16),">"&AK16,(AR16:AT16),"<"&AL16)),"N/A") -> N/A | AZ16: =IFERROR(IF(AM16="",$AD16,AVERAGEIFS((AU16:AW16),(AU16:AW16),">"&AM16,(AU16:AW16),"<"&AN16)),"N/A") -> 166145 | BA16: {=IF(AI16="",X16,IF(1-(_xlfn.STDEV.S(IF(AO16:AQ16>AI16,IF(AO16:AQ16<AJ16,AO16:AQ16)))/AX16)>70%,"ALTO","BAJO"))} -> ALTO | BB16: {=IF(AK16="",AC16,IF(1-(_xlfn.STDEV.S(IF(AR16:AT16>AK16,IF(AR16:AT16<AL16,AR16:AT16)))/AY16)>70%,"ALTO","BAJO"))} -> ALTO | BC16: {=IF(AM16="",AH16,IF(1-(_xlfn.STDEV.S(IF(AU16:AW16>AM16,IF(AU16:AW16<AN16,AU16:AW16)))/AZ16)>70%,"ALTO","BAJO"))} -> ALTO | BD16: =AX16 -> 42949.5 | BF16: =AY16 -> N/A | BG16: =AZ16 -> 166145
A17: =A16+1 -> 12 | B17: CAMBIO BASE ESPEJO IZQUIERDO COMPLETO | C17: ud | D17: 1 | E17: 46410 | F17: 48731 | G17: =IFERROR(VLOOKUP(HONDA!B17,'SDM-COT-097-2026'!$B$6:$E$203,4,FALSE),"N/A") -> 21233.352 | I17: =I16+1 -> 12 | J17: BASE ESPEJO IZQUIERDO COMPLETO | K17: ud. | L17: 1 | M17: 81078.4 | N17: 85132 | O17: =IFERROR(VLOOKUP($J17,'SDM-COT-097-2026'!$H$6:$M$203,6,FALSE),"N/A") -> 74319.918 | P17: 132554.5 | Q17: 139182 | R17: =IFERROR(VLOOKUP($J17,'SDM-COT-097-2026'!$H$6:$N$203,7,FALSE),"N/A") -> 74319.918 | T17: =IFERROR(ROUND(AVERAGE($E17,$F17,G17),0),"N/A") -> 38791 | U17: =IFERROR(ROUND(STDEVP($E17,$F17,G17),0),"N/A") -> 12452 | V17: =IFERROR(ROUND((U17/T17)*100,0),"N/A") -> 32 | W17: =IFERROR(ROUND(100-V17,0),"N/A") -> 68 | X17: =IF(W17>75,"ALTO","BAJO") -> BAJO | Y17: =IFERROR(ROUND(AVERAGE($M17,$N17,O17),0),"N/A") -> 80177 | Z17: =IFERROR(ROUND(STDEVP($M17,$N17,R17),0),"N/A") -> 4460 | AA17: =IFERROR(ROUND((Z17/Y17)*100,0),"N/A") -> 6 | AB17: =IFERROR(ROUND(100-AA17,0),"N/A") -> 94 | AC17: =IF(AB17>75,"ALTO","BAJO") -> ALTO | AD17: =IFERROR(ROUND(AVERAGE($P17,$Q17,R17),0),"N/A") -> 115352 | AE17: =IFERROR(ROUND(STDEVP($P17,$Q17,R17),0),"N/A") -> 29140 | AF17: =IFERROR(ROUND((AE17/AD17)*100,0),"N/A") -> 25 | AG17: =IFERROR(ROUND(100-AF17,0),"N/A") -> 75 | AH17: =IF(AG17>75,"ALTO","BAJO") -> BAJO | AI17: 20541.02 | AJ17: 45410 | AK17: =IFERROR(IF(AC17="BAJO",(Y17-_xlfn.STDEV.S($M17,$N17,$O17)),""),"N/A") | AL17: =IFERROR(IF(AC17="BAJO",(Y17+_xlfn.STDEV.S($M17,$N17,$O17)),""),"N/A") | AM17: =IFERROR(IF(AH17="BAJO",(AD17-_xlfn.STDEV.S($P17,$Q17,$R17)),""),"N/A") -> 79662.88 | AN17: =IFERROR(IF(AH17="BAJO",(AD17+_xlfn.STDEV.S($P17,$Q17,$R17)),""),"N/A") -> 151041.12 | AO17: =E17 -> 46410 | AP17: =F17 -> 48731 | AQ17: =G17 -> 21233.352 | AR17: =M17 -> 81078.4 | AS17: =N17 -> 85132 | AT17: =O17 -> 74319.918 | AU17: =P17 -> 132554.5 | AV17: =Q17 -> 139182 | AW17: =R17 -> 74319.918 | AX17: =IFERROR(IF(AI17="",$T17,AVERAGEIFS((AO17:AQ17),(AO17:AQ17),">"&AI17,(AO17:AQ17),"<"&AJ17)),"N/A") -> 21233.352 | AY17: =IFERROR(IF(AK17="",$Y17,AVERAGEIFS((AR17:AT17),(AR17:AT17),">"&AK17,(AR17:AT17),"<"&AL17)),"N/A") -> 80177 | AZ17: =IFERROR(IF(AM17="",$AD17,AVERAGEIFS((AU17:AW17),(AU17:AW17),">"&AM17,(AU17:AW17),"<"&AN17)),"N/A") -> 135868.25 | BA17: {=IFERROR(IF(AI17="",X17,IF(1-(_xlfn.STDEV.S(IF(AO17:AQ17>AI17,IF(AO17:AQ17<AJ17,AO17:AQ17)))/AX17)>70%,"ALTO","BAJO")),"ALTO")} -> ALTO | BB17: {=IF(AK17="",AC17,IF(1-(_xlfn.STDEV.S(IF(AR17:AT17>AK17,IF(AR17:AT17<AL17,AR17:AT17)))/AY17)>70%,"ALTO","BAJO"))} -> ALTO | BC17: {=IF(AM17="",AH17,IF(1-(_xlfn.STDEV.S(IF(AU17:AW17>AM17,IF(AU17:AW17<AN17,AU17:AW17)))/AZ17)>70%,"ALTO","BAJO"))} -> ALTO | BD17: =AX17 -> 21233.352 | BF17: =AY17 -> 80177 | BG17: =AZ17 -> 135868.25
A18: =A17+1 -> 13 | B18: CAMBIO BASE MALETERO | C18: ud | D18: 1 | E18: 32500 | F18: 34125 | G18: =IFERROR(VLOOKUP(HONDA!B18,'SDM-COT-097-2026'!$B$6:$E$203,4,FALSE),"N/A") -> 74319.918 | I18: =I17+1 -> 13 | J18: BASE MALETERO | K18: ud. | L18: 1 | O18: =IFERROR(VLOOKUP($J18,'SDM-COT-097-2026'!$H$6:$M$203,6,FALSE),"N/A") -> 227360.62 | R18: =IFERROR(VLOOKUP($J18,'SDM-COT-097-2026'!$H$6:$N$203,7,FALSE),"N/A") -> 217475.38 | T18: =IFERROR(ROUND(AVERAGE($E18,$F18,G18),0),"N/A") -> 46982 | U18: =IFERROR(ROUND(STDEVP($E18,$F18,G18),0),"N/A") -> 19342 | V18: =IFERROR(ROUND((U18/T18)*100,0),"N/A") -> 41 | W18: =IFERROR(ROUND(100-V18,0),"N/A") -> 59 | X18: =IF(W18>75,"ALTO","BAJO") -> BAJO | Y18: =IFERROR(ROUND(AVERAGE($M18,$N18,O18),0),"N/A") -> 227361 | Z18: =IFERROR(ROUND(STDEVP($M18,$N18,R18),0),"N/A") -> 0 | AA18: =IFERROR(ROUND((Z18/Y18)*100,0),"N/A") -> 0 | AB18: =IFERROR(ROUND(100-AA18,0),"N/A") -> 100 | AC18: =IF(AB18>75,"ALTO","BAJO") -> ALTO | AD18: =IFERROR(ROUND(AVERAGE($P18,$Q18,R18),0),"N/A") -> 217475 | AE18: =IFERROR(ROUND(STDEVP($P18,$Q18,R18),0),"N/A") -> 0 | AF18: =IFERROR(ROUND((AE18/AD18)*100,0),"N/A") -> 0 | AG18: =IFERROR(ROUND(100-AF18,0),"N/A") -> 100 | AH18: =IF(AG18>75,"ALTO","BAJO") -> ALTO | AI18: =IFERROR(IF(X18="BAJO",(T18-_xlfn.STDEV.S($E18,$F18,$G18)),""),"N/A") -> 23292.418 | AJ18: =IFERROR(IF(X18="BAJO",(T18+_xlfn.STDEV.S($E18,$F18,$G18)),""),"N/A") -> 70671.582 | AK18: =IFERROR(IF(AC18="BAJO",(Y18-_xlfn.STDEV.S($M18,$N18,$O18)),""),"N/A") | AL18: =IFERROR(IF(AC18="BAJO",(Y18+_xlfn.STDEV.S($M18,$N18,$O18)),""),"N/A") | AM18: =IFERROR(IF(AH18="BAJO",(AD18-_xlfn.STDEV.S($P18,$Q18,$R18)),""),"N/A") | AN18: =IFERROR(IF(AH18="BAJO",(AD18+_xlfn.STDEV.S($P18,$Q18,$R18)),""),"N/A") | AO18: =E18 -> 32500 | AP18: =F18 -> 34125 | AQ18: =G18 -> 74319.918 | AR18: =M18 | AS18: =N18 | AT18: =O18 -> 227360.62 | AU18: =P18 | AV18: =Q18 | AW18: =R18 -> 217475.38 | AX18: =IFERROR(IF(AI18="",$T18,AVERAGEIFS((AO18:AQ18),(AO18:AQ18),">"&AI18,(AO18:AQ18),"<"&AJ18)),"N/A") -> 33312.5 | AY18: =IFERROR(IF(AK18="",$Y18,AVERAGEIFS((AR18:AT18),(AR18:AT18),">"&AK18,(AR18:AT18),"<"&AL18)),"N/A") -> 227361 | AZ18: =IFERROR(IF(AM18="",$AD18,AVERAGEIFS((AU18:AW18),(AU18:AW18),">"&AM18,(AU18:AW18),"<"&AN18)),"N/A") -> 217475 | BA18: {=IF(AI18="",X18,IF(1-(_xlfn.STDEV.S(IF(AO18:AQ18>AI18,IF(AO18:AQ18<AJ18,AO18:AQ18)))/AX18)>70%,"ALTO","BAJO"))} -> ALTO | BB18: {=IF(AK18="",AC18,IF(1-(_xlfn.STDEV.S(IF(AR18:AT18>AK18,IF(AR18:AT18<AL18,AR18:AT18)))/AY18)>70%,"ALTO","BAJO"))} -> ALTO | BC18: {=IF(AM18="",AH18,IF(1-(_xlfn.STDEV.S(IF(AU18:AW18>AM18,IF(AU18:AW18<AN18,AU18:AW18)))/AZ18)>70%,"ALTO","BAJO"))} -> ALTO | BD18: =AX18 -> 33312.5 | BF18: =AY18 -> 227361 | BG18: =AZ18 -> 217475
A19: =A18+1 -> 14 | B19: CAMBIO BATERIA | C19: ud | D19: 1 | E19: 13000 | F19: 13650 | G19: =IFERROR(VLOOKUP(HONDA!B19,'SDM-COT-097-2026'!$B$6:$E$203,4,FALSE),"N/A") -> 48258.918 | I19: =I18+1 -> 14 | J19: BATERIA | K19: ud. | L19: 1 | M19: 186004 | N19: 195304 | O19: =IFERROR(VLOOKUP($J19,'SDM-COT-097-2026'!$H$6:$M$203,6,FALSE),"N/A") -> N/A | P19: 175120.4 | Q19: 183876 | R19: =IFERROR(VLOOKUP($J19,'SDM-COT-097-2026'!$H$6:$N$203,7,FALSE),"N/A") -> N/A | T19: =IFERROR(ROUND(AVERAGE($E19,$F19,G19),0),"N/A") -> 24970 | U19: =IFERROR(ROUND(STDEVP($E19,$F19,G19),0),"N/A") -> 16470 | V19: =IFERROR(ROUND((U19/T19)*100,0),"N/A") -> 66 | W19: =IFERROR(ROUND(100-V19,0),"N/A") -> 34 | X19: =IF(W19>75,"ALTO","BAJO") -> BAJO | Y19: =IFERROR(ROUND(AVERAGE($M19,$N19,O19),0),"N/A") -> 190654 | Z19: =IFERROR(ROUND(STDEVP($M19,$N19,R19),0),"N/A") -> 4650 | AA19: =IFERROR(ROUND((Z19/Y19)*100,0),"N/A") -> 2 | AB19: =IFERROR(ROUND(100-AA19,0),"N/A") -> 98 | AC19: =IF(AB19>75,"ALTO","BAJO") -> ALTO | AD19: =IFERROR(ROUND(AVERAGE($P19,$Q19,R19),0),"N/A") -> 179498 | AE19: =IFERROR(ROUND(STDEVP($P19,$Q19,R19),0),"N/A") -> 4378 | AF19: =IFERROR(ROUND((AE19/AD19)*100,0),"N/A") -> 2 | AG19: =IFERROR(ROUND(100-AF19,0),"N/A") -> 98 | AH19: =IF(AG19>75,"ALTO","BAJO") -> ALTO | AI19: =IFERROR(IF(X19="BAJO",(T19-_xlfn.STDEV.S($E19,$F19,$G19)),""),"N/A") -> 4798.2745 | AJ19: =IFERROR(IF(X19="BAJO",(T19+_xlfn.STDEV.S($E19,$F19,$G19)),""),"N/A") -> 45141.726 | AK19: =IFERROR(IF(AC19="BAJO",(Y19-_xlfn.STDEV.S($M19,$N19,$O19)),""),"N/A") | AL19: =IFERROR(IF(AC19="BAJO",(Y19+_xlfn.STDEV.S($M19,$N19,$O19)),""),"N/A") | AM19: =IFERROR(IF(AH19="BAJO",(AD19-_xlfn.STDEV.S($P19,$Q19,$R19)),""),"N/A") | AN19: =IFERROR(IF(AH19="BAJO",(AD19+_xlfn.STDEV.S($P19,$Q19,$R19)),""),"N/A") | AO19: =E19 -> 13000 | AP19: =F19 -> 13650 | AQ19: =G19 -> 48258.918 | AR19: =M19 -> 186004 | AS19: =N19 -> 195304 | AT19: =O19 -> N/A | AU19: =P19 -> 175120.4 | AV19: =Q19 -> 183876 | AW19: =R19 -> N/A | AX19: =IFERROR(IF(AI19="",$T19,AVERAGEIFS((AO19:AQ19),(AO19:AQ19),">"&AI19,(AO19:AQ19),"<"&AJ19)),"N/A") -> 13325 | AY19: =IFERROR(IF(AK19="",$Y19,AVERAGEIFS((AR19:AT19),(AR19:AT19),">"&AK19,(AR19:AT19),"<"&AL19)),"N/A") -> 190654 | AZ19: =IFERROR(IF(AM19="",$AD19,AVERAGEIFS((AU19:AW19),(AU19:AW19),">"&AM19,(AU19:AW19),"<"&AN19)),"N/A") -> 179498 | BA19: {=IF(AI19="",X19,IF(1-(_xlfn.STDEV.S(IF(AO19:AQ19>AI19,IF(AO19:AQ19<AJ19,AO19:AQ19)))/AX19)>70%,"ALTO","BAJO"))} -> ALTO | BB19: {=IF(AK19="",AC19,IF(1-(_xlfn.STDEV.S(IF(AR19:AT19>AK19,IF(AR19:AT19<AL19,AR19:AT19)))/AY19)>70%,"ALTO","BAJO"))} -> ALTO | BC19: {=IF(AM19="",AH19,IF(1-(_xlfn.STDEV.S(IF(AU19:AW19>AM19,IF(AU19:AW19<AN19,AU19:AW19)))/AZ19)>70%,"ALTO","BAJO"))} -> ALTO | BD19: =AX19 -> 13325 | BF19: =AY19 -> 190654 | BG19: =AZ19 -> 179498
A20: =A19+1 -> 15 | B20: CAMBIO BIELA | C20: ud | D20: 1 | E20: 1117367 | F20: 1173235 | G20: =IFERROR(VLOOKUP(HONDA!B20,'SDM-COT-097-2026'!$B$6:$E$203,4,FALSE),"N/A") -> 435299.61 | I20: =I19+1 -> 15 | J20: BIELA | K20: ud. | L20: 1 | O20: =IFERROR(VLOOKUP($J20,'SDM-COT-097-2026'!$H$6:$M$203,6,FALSE),"N/A") -> 705601.94 | R20: =IFERROR(VLOOKUP($J20,'SDM-COT-097-2026'!$H$6:$N$203,7,FALSE),"N/A") -> 674923.59 | T20: =IFERROR(ROUND(AVERAGE($E20,$F20,G20),0),"N/A") -> 908634 | U20: =IFERROR(ROUND(STDEVP($E20,$F20,G20),0),"N/A") -> 335474 | V20: =IFERROR(ROUND((U20/T20)*100,0),"N/A") -> 37 | W20: =IFERROR(ROUND(100-V20,0),"N/A") -> 63 | X20: =IF(W20>75,"ALTO","BAJO") -> BAJO | Y20: =IFERROR(ROUND(AVERAGE($M20,$N20,O20),0),"N/A") -> 705602 | Z20: =IFERROR(ROUND(STDEVP($M20,$N20,R20),0),"N/A") -> 0 | AA20: =IFERROR(ROUND((Z20/Y20)*100,0),"N/A") -> 0 | AB20: =IFERROR(ROUND(100-AA20,0),"N/A") -> 100 | AC20: =IF(AB20>75,"ALTO","BAJO") -> ALTO | AD20: =IFERROR(ROUND(AVERAGE($P20,$Q20,R20),0),"N/A") -> 674924 | AE20: =IFERROR(ROUND(STDEVP($P20,$Q20,R20),0),"N/A") -> 0 | AF20: =IFERROR(ROUND((AE20/AD20)*100,0),"N/A") -> 0 | AG20: =IFERROR(ROUND(100-AF20,0),"N/A") -> 100 | AH20: =IF(AG20>75,"ALTO","BAJO") -> ALTO | AI20: =IFERROR(MIN($E20,$F20,$G20),"N/A") -> 435299.61 | AJ20: 1019504.2 | AK20: =IFERROR(IF(AC20="BAJO",(Y20-_xlfn.STDEV.S($M20,$N20,$O20)),""),"N/A") | AL20: =IFERROR(IF(AC20="BAJO",(Y20+_xlfn.STDEV.S($M20,$N20,$O20)),""),"N/A") | AM20: =IFERROR(IF(AH20="BAJO",(AD20-_xlfn.STDEV.S($P20,$Q20,$R20)),""),"N/A") | AN20: =IFERROR(IF(AH20="BAJO",(AD20+_xlfn.STDEV.S($P20,$Q20,$R20)),""),"N/A") | AO20: =E20 -> 1117367 | AP20: =F20 -> 1173235 | AQ20: =G20 -> 435299.61 | AR20: =M20 | AS20: =N20 | AT20: =O20 -> 705601.94 | AU20: =P20 | AV20: =Q20 | AW20: =R20 -> 674923.59 | AX20: =IFERROR(IF(AI20="",$T20,AVERAGEIFS((AO20:AQ20),(AO20:AQ20),">="&AI20,(AO20:AQ20),"<"&AJ20)),"N/A") -> 435299.61 | AY20: =IFERROR(IF(AK20="",$Y20,AVERAGEIFS((AR20:AT20),(AR20:AT20),">"&AK20,(AR20:AT20),"<"&AL20)),"N/A") -> 705602 | AZ20: =IFERROR(IF(AM20="",$AD20,AVERAGEIFS((AU20:AW20),(AU20:AW20),">"&AM20,(AU20:AW20),"<"&AN20)),"N/A") -> 674924 | BA20: {=IFERROR(IF(AI20="",X20,IF(1-(_xlfn.STDEV.S(IF(AO20:AQ20>AI20,IF(AO20:AQ20<AJ20,AO20:AQ20)))/AX20)>70%,"ALTO","BAJO")),"ALTO")} -> ALTO | BB20: {=IF(AK20="",AC20,IF(1-(_xlfn.STDEV.S(IF(AR20:AT20>AK20,IF(AR20:AT20<AL20,AR20:AT20)))/AY20)>70%,"ALTO","BAJO"))} -> ALTO | BC20: {=IF(AM20="",AH20,IF(1-(_xlfn.STDEV.S(IF(AU20:AW20>AM20,IF(AU20:AW20<AN20,AU20:AW20)))/AZ20)>70%,"ALTO","BAJO"))} -> ALTO | BD20: =AX20 -> 435299.61 | BF20: =AY20 -> 705602 | BG20: =AZ20 -> 674924
A21: =A20+1 -> 16 | B21: CAMBIO BOBINA DE ALTA | C21: ud | D21: 1 | E21: 156000 | F21: 163800 | G21: =IFERROR(VLOOKUP(HONDA!B21,'SDM-COT-097-2026'!$B$6:$E$203,4,FALSE),"N/A") -> 84936.589 | I21: =I20+1 -> 16 | J21: BOBINA DE ALTA | K21: ud. | L21: 1 | M21: 466687 | N21: 490021 | O21: =IFERROR(VLOOKUP($J21,'SDM-COT-097-2026'!$H$6:$M$203,6,FALSE),"N/A") -> 1276856.3 | P21: 460645.9 | Q21: 483678 | R21: =IFERROR(VLOOKUP($J21,'SDM-COT-097-2026'!$H$6:$N$203,7,FALSE),"N/A") -> 1221340.8 | T21: =IFERROR(ROUND(AVERAGE($E21,$F21,G21),0),"N/A") -> 134912 | U21: =IFERROR(ROUND(STDEVP($E21,$F21,G21),0),"N/A") -> 35481 | V21: =IFERROR(ROUND((U21/T21)*100,0),"N/A") -> 26 | W21: =IFERROR(ROUND(100-V21,0),"N/A") -> 74 | X21: =IF(W21>75,"ALTO","BAJO") -> BAJO | Y21: =IFERROR(ROUND(AVERAGE($M21,$N21,O21),0),"N/A") -> 744521 | Z21: =IFERROR(ROUND(STDEVP($M21,$N21,R21),0),"N/A") -> 350377 | AA21: =IFERROR(ROUND((Z21/Y21)*100,0),"N/A") -> 47 | AB21: =IFERROR(ROUND(100-AA21,0),"N/A") -> 53 | AC21: =IF(AB21>75,"ALTO","BAJO") -> BAJO | AD21: =IFERROR(ROUND(AVERAGE($P21,$Q21,R21),0),"N/A") -> 721888 | AE21: =IFERROR(ROUND(STDEVP($P21,$Q21,R21),0),"N/A") -> 353291 | AF21: =IFERROR(ROUND((AE21/AD21)*100,0),"N/A") -> 49 | AG21: =IFERROR(ROUND(100-AF21,0),"N/A") -> 51 | AH21: =IF(AG21>75,"ALTO","BAJO") -> BAJO | AI21: =IFERROR(IF(X21="BAJO",(T21-_xlfn.STDEV.S($E21,$F21,$G21)),""),"N/A") -> 91456.494 | AJ21: =IFERROR(IF(X21="BAJO",(T21+_xlfn.STDEV.S($E21,$F21,$G21)),""),"N/A") -> 178367.51 | AK21: =IFERROR(IF(AC21="BAJO",(Y21-_xlfn.STDEV.S($M21,$N21,$O21)),""),"N/A") -> 283357.86 | AL21: =IFERROR(IF(AC21="BAJO",(Y21+_xlfn.STDEV.S($M21,$N21,$O21)),""),"N/A") -> 1205684.1 | AM21: =IFERROR(IF(AH21="BAJO",(AD21-_xlfn.STDEV.S($P21,$Q21,$R21)),""),"N/A") -> 289196.09 | AN21: =IFERROR(IF(AH21="BAJO",(AD21+_xlfn.STDEV.S($P21,$Q21,$R21)),""),"N/A") -> 1154579.9 | AO21: =E21 -> 156000 | AP21: =F21 -> 163800 | AQ21: =G21 -> 84936.589 | AR21: =M21 -> 466687 | AS21: =N21 -> 490021 | AT21: =O21 -> 1276856.3 | AU21: =P21 -> 460645.9 | AV21: =Q21 -> 483678 | AW21: =R21 -> 1221340.8 | AX21: =IFERROR(IF(AI21="",$T21,AVERAGEIFS((AO21:AQ21),(AO21:AQ21),">"&AI21,(AO21:AQ21),"<"&AJ21)),"N/A") -> 159900 | AY21: =IFERROR(IF(AK21="",$Y21,AVERAGEIFS((AR21:AT21),(AR21:AT21),">"&AK21,(AR21:AT21),"<"&AL21)),"N/A") -> 478354 | AZ21: =IFERROR(IF(AM21="",$AD21,AVERAGEIFS((AU21:AW21),(AU21:AW21),">"&AM21,(AU21:AW21),"<"&AN21)),"N/A") -> 472161.95 | BA21: {=IF(AI21="",X21,IF(1-(_xlfn.STDEV.S(IF(AO21:AQ21>AI21,IF(AO21:AQ21<AJ21,AO21:AQ21)))/AX21)>70%,"ALTO","BAJO"))} -> ALTO | BB21: {=IF(AK21="",AC21,IF(1-(_xlfn.STDEV.S(IF(AR21:AT21>AK21,IF(AR21:AT21<AL21,AR21:AT21)))/AY21)>70%,"ALTO","BAJO"))} -> ALTO | BC21: {=IF(AM21="",AH21,IF(1-(_xlfn.STDEV.S(IF(AU21:AW21>AM21,IF(AU21:AW21<AN21,AU21:AW21)))/AZ21)>70%,"ALTO","BAJO"))} -> ALTO | BD21: =AX21 -> 159900 | BF21: =AY21 -> 478354 | BG21: =AZ21 -> 472161.95
A22: =A21+1 -> 17 | B22: CAMBIO BOBINA DE CARGA | C22: ud | D22: 1 | E22: 156000 | F22: 163800 | G22: =IFERROR(VLOOKUP(HONDA!B22,'SDM-COT-097-2026'!$B$6:$E$203,4,FALSE),"N/A") -> 127404.88 | I22: =I21+1 -> 17 | J22: BOBINA DE CARGA | K22: ud. | L22: 1 | M22: 2037278.1 | N22: 2139142 | O22: =IFERROR(VLOOKUP($J22,'SDM-COT-097-2026'!$H$6:$M$203,6,FALSE),"N/A") -> 1276856.3 | P22: 1332984.9 | Q22: 1399634 | R22: =IFERROR(VLOOKUP($J22,'SDM-COT-097-2026'!$H$6:$N$203,7,FALSE),"N/A") -> 1221340.8 | T22: =IFERROR(ROUND(AVERAGE($E22,$F22,G22),0),"N/A") -> 149068 | U22: =IFERROR(ROUND(STDEVP($E22,$F22,G22),0),"N/A") -> 15646 | V22: =IFERROR(ROUND((U22/T22)*100,0),"N/A") -> 10 | W22: =IFERROR(ROUND(100-V22,0),"N/A") -> 90 | X22: =IF(W22>75,"ALTO","BAJO") -> ALTO | Y22: =IFERROR(ROUND(AVERAGE($M22,$N22,O22),0),"N/A") -> 1817759 | Z22: =IFERROR(ROUND(STDEVP($M22,$N22,R22),0),"N/A") -> 410757 | AA22: =IFERROR(ROUND((Z22/Y22)*100,0),"N/A") -> 23 | AB22: =IFERROR(ROUND(100-AA22,0),"N/A") -> 77 | AC22: =IF(AB22>75,"ALTO","BAJO") -> ALTO | AD22: =IFERROR(ROUND(AVERAGE($P22,$Q22,R22),0),"N/A") -> 1317987 | AE22: =IFERROR(ROUND(STDEVP($P22,$Q22,R22),0),"N/A") -> 73556 | AF22: =IFERROR(ROUND((AE22/AD22)*100,0),"N/A") -> 6 | AG22: =IFERROR(ROUND(100-AF22,0),"N/A") -> 94 | AH22: =IF(AG22>75,"ALTO","BAJO") -> ALTO | AI22: =IFERROR(IF(X22="BAJO",(T22-_xlfn.STDEV.S($E22,$F22,$G22)),""),"N/A") | AJ22: =IFERROR(IF(X22="BAJO",(T22+_xlfn.STDEV.S($E22,$F22,$G22)),""),"N/A") | AK22: =IFERROR(IF(AC22="BAJO",(Y22-_xlfn.STDEV.S($M22,$N22,$O22)),""),"N/A") | AL22: =IFERROR(IF(AC22="BAJO",(Y22+_xlfn.STDEV.S($M22,$N22,$O22)),""),"N/A") | AM22: =IFERROR(IF(AH22="BAJO",(AD22-_xlfn.STDEV.S($P22,$Q22,$R22)),""),"N/A") | AN22: =IFERROR(IF(AH22="BAJO",(AD22+_xlfn.STDEV.S($P22,$Q22,$R22)),""),"N/A") | AO22: =E22 -> 156000 | AP22: =F22 -> 163800 | AQ22: =G22 -> 127404.88 | AR22: =M22 -> 2037278.1 | AS22: =N22 -> 2139142 | AT22: =O22 -> 1276856.3 | AU22: =P22 -> 1332984.9 | AV22: =Q22 -> 1399634 | AW22: =R22 -> 1221340.8 | AX22: =IFERROR(IF(AI22="",$T22,AVERAGEIFS((AO22:AQ22),(AO22:AQ22),">"&AI22,(AO22:AQ22),"<"&AJ22)),"N/A") -> 149068 | AY22: =IFERROR(IF(AK22="",$Y22,AVERAGEIFS((AR22:AT22),(AR22:AT22),">"&AK22,(AR22:AT22),"<"&AL22)),"N/A") -> 1817759 | AZ22: =IFERROR(IF(AM22="",$AD22,AVERAGEIFS((AU22:AW22),(AU22:AW22),">"&AM22,(AU22:AW22),"<"&AN22)),"N/A") -> 1317987 | BA22: {=IF(AI22="",X22,IF(1-(_xlfn.STDEV.S(IF(AO22:AQ22>AI22,IF(AO22:AQ22<AJ22,AO22:AQ22)))/AX22)>70%,"ALTO","BAJO"))} -> ALTO | BB22: {=IF(AK22="",AC22,IF(1-(_xlfn.STDEV.S(IF(AR22:AT22>AK22,IF(AR22:AT22<AL22,AR22:AT22)))/AY22)>70%,"ALTO","BAJO"))} -> ALTO | BC22: {=IF(AM22="",AH22,IF(1-(_xlfn.STDEV.S(IF(AU22:AW22>AM22,IF(AU22:AW22<AN22,AU22:AW22)))/AZ22)>70%,"ALTO","BAJO"))} -> ALTO | BD22: =AX22 -> 149068 | BF22: =AY22 -> 1817759 | BG22: =AZ22 -> 1317987
A23: =A22+1 -> 18 | B23: CAMBIO BOBINA DE LUCES | C23: ud | D23: 1 | E23: 156000 | F23: 163800 | G23: =IFERROR(VLOOKUP(HONDA!B23,'SDM-COT-097-2026'!$B$6:$E$203,4,FALSE),"N/A") -> N/A | I23: =I22+1 -> 18 | J23: BOBINA DE LUCES | K23: ud. | L23: 1 | O23: =IFERROR(VLOOKUP($J23,'SDM-COT-097-2026'!$H$6:$M$203,6,FALSE),"N/A") -> N/A | R23: =IFERROR(VLOOKUP($J23,'SDM-COT-097-2026'!$H$6:$N$203,7,FALSE),"N/A") -> N/A | T23: =IFERROR(ROUND(AVERAGE($E23,$F23,G23),0),"N/A") -> 159900 | U23: =IFERROR(ROUND(STDEVP($E23,$F23,G23),0),"N/A") -> 3900 | V23: =IFERROR(ROUND((U23/T23)*100,0),"N/A") -> 2 | W23: =IFERROR(ROUND(100-V23,0),"N/A") -> 98 | X23: =IF(W23>75,"ALTO","BAJO") -> ALTO | Y23: =IFERROR(ROUND(AVERAGE($M23,$N23,O23),0),"N/A") -> N/A | Z23: =IFERROR(ROUND(STDEVP($M23,$N23,R23),0),"N/A") -> N/A | AA23: =IFERROR(ROUND((Z23/Y23)*100,0),"N/A") -> N/A | AB23: =IFERROR(ROUND(100-AA23,0),"N/A") -> N/A | AC23: =IF(AB23>75,"ALTO","BAJO") -> ALTO | AD23: =IFERROR(ROUND(AVERAGE($P23,$Q23,R23),0),"N/A") -> N/A | AE23: =IFERROR(ROUND(STDEVP($P23,$Q23,R23),0),"N/A") -> N/A | AF23: =IFERROR(ROUND((AE23/AD23)*100,0),"N/A") -> N/A | AG23: =IFERROR(ROUND(100-AF23,0),"N/A") -> N/A | AH23: =IF(AG23>75,"ALTO","BAJO") -> ALTO | AI23: =IFERROR(IF(X23="BAJO",(T23-_xlfn.STDEV.S($E23,$F23,$G23)),""),"N/A") | AJ23: =IFERROR(IF(X23="BAJO",(T23+_xlfn.STDEV.S($E23,$F23,$G23)),""),"N/A") | AK23: =IFERROR(IF(AC23="BAJO",(Y23-_xlfn.STDEV.S($M23,$N23,$O23)),""),"N/A") | AL23: =IFERROR(IF(AC23="BAJO",(Y23+_xlfn.STDEV.S($M23,$N23,$O23)),""),"N/A") | AM23: =IFERROR(IF(AH23="BAJO",(AD23-_xlfn.STDEV.S($P23,$Q23,$R23)),""),"N/A") | AN23: =IFERROR(IF(AH23="BAJO",(AD23+_xlfn.STDEV.S($P23,$Q23,$R23)),""),"N/A") | AO23: =E23 -> 156000 | AP23: =F23 -> 163800 | AQ23: =G23 -> N/A | AR23: =M23 | AS23: =N23 | AT23: =O23 -> N/A | AU23: =P23 | AV23: =Q23 | AW23: =R23 -> N/A | AX23: =IFERROR(IF(AI23="",$T23,AVERAGEIFS((AO23:AQ23),(AO23:AQ23),">"&AI23,(AO23:AQ23),"<"&AJ23)),"N/A") -> 159900 | AY23: =IFERROR(IF(AK23="",$Y23,AVERAGEIFS((AR23:AT23),(AR23:AT23),">"&AK23,(AR23:AT23),"<"&AL23)),"N/A") -> N/A | AZ23: =IFERROR(IF(AM23="",$AD23,AVERAGEIFS((AU23:AW23),(AU23:AW23),">"&AM23,(AU23:AW23),"<"&AN23)),"N/A") -> N/A | BA23: {=IF(AI23="",X23,IF(1-(_xlfn.STDEV.S(IF(AO23:AQ23>AI23,IF(AO23:AQ23<AJ23,AO23:AQ23)))/AX23)>70%,"ALTO","BAJO"))} -> ALTO | BB23: {=IF(AK23="",AC23,IF(1-(_xlfn.STDEV.S(IF(AR23:AT23>AK23,IF(AR23:AT23<AL23,AR23:AT23)))/AY23)>70%,"ALTO","BAJO"))} -> ALTO | BC23: {=IF(AM23="",AH23,IF(1-(_xlfn.STDEV.S(IF(AU23:AW23>AM23,IF(AU23:AW23<AN23,AU23:AW23)))/AZ23)>70%,"ALTO","BAJO"))} -> ALTO | BD23: =AX23 -> 159900 | BF23: =AY23 -> N/A | BG23: =AZ23 -> N/A
