Workbook
Name Print_Area: 'PRECIOS ARTIF BAJOS (2)'!$A$1:$C$26

Sheet ORDEN DE OFERTAS
A1: Posición | B1: Proponente
A2: 1 | B2: =+'EQUISUMINISTROS Y CONSTRUCCIONE'!D7 -> EQUISUMINISTROS Y CONSTRUCCIONES SAS NIT: 900352345-0 | C2: =+'EQUISUMINISTROS Y CONSTRUCCIONE'!G56 -> 18715569 | D2: Cumple
A3: 1 | B3: =+'LOGISEVENT S.A.S.'!D7 -> LOGISEVENT S.A.S. NIT: 901791901-2 | C3: =+'LOGISEVENT S.A.S.'!H56 -> 18774200 | D3: Cumple
A4: 1 | B4: =+'AGROVET MEDICAL SAS'!D7 -> AGROVET MEDICAL SAS NIT: 900694527-1 | C4: =+'AGROVET MEDICAL SAS'!H56 -> 18775862 | D4: Cumple

Sheet EQUISUMINISTROS Y CONSTRUCCIONE
C2: LOTE 8 - SASI-RC-CDAE-001-2026
C3: OBJETO: Contratar el suministro de Materiales de formación y Elementos de Protección Personal para Aprendices de las diferentes formaciones del Centro de Desarrollo Agroindustrial y empresarial del SENA Regional Cundinamarca
C6: PRESUPUESTO OFICIAL: | D6: 18775862
C7: OFERENTE: | D7: EQUISUMINISTROS Y CONSTRUCCIONES SAS NIT: 900352345-0
B9: ITEM | C9: PRODUCTO | D9: UNIDAD DE MEDIDA | E9: CANT | F9: VALOR UNITARIO DETERMINADO POR LA ENTIDAD EN EL ESTUDIO DE MERCADO | G9: VALOR UNITARIO PRESENTADO POR EL OFERENTE | H9: VALOR TOTAL PRESENTADO POR EL OFERENTE | I9: VALOR DE MEJORA DEL (3%) | J9: VALOR TOTAL DE LA OFERTA CON PORCENTAJE % DE MEJORA
B11: 1 | C11: BROCHA PLANA DE 2” | D11: UN | E11: 1 | F11: 20622 | G11: 20555 | H11: =+G11*E11 -> 20555 | I11: =+G11*3% -> 616.65 | J11: =ROUND(G11-I11,0) -> 19938
B12: 2 | C12: ESPUMA LIMPIADORA PARA EQUIPOS ELECTRÓNICOS | D12: UN | E12: 1 | F12: 59637 | G12: 59445 | H12: =+G12*E12 -> 59445 | I12: =+G12*3% -> 1783.35 | J12: =ROUND(G12-I12,0) -> 57662
B13: =+B12+1 -> 3 | C13: AEROSOL LIMPIADOR DE CONTACTOS ELECTRÓNICOS | D13: UN | E13: 1 | F13: 71765 | G13: 71534 | H13: =+G13*E13 -> 71534 | I13: =+G13*3% -> 2146.02 | J13: =ROUND(G13-I13,0) -> 69388
B14: =+B13+1 -> 4 | C14: LIMPIADOR LÍQUIDO PARA PANTALLAS | D14: UN | E14: 1 | F14: 40289 | G14: 40159 | H14: =+G14*E14 -> 40159 | I14: =+G14*3% -> 1204.77 | J14: =ROUND(G14-I14,0) -> 38954
B15: =+B14+1 -> 5 | C15: PASTA TÉRMICA DISIPADORA DE CALOR | D15: UN | E15: 1 | F15: 60018 | G15: 59825 | H15: =+G15*E15 -> 59825 | I15: =+G15*3% -> 1794.75 | J15: =ROUND(G15-I15,0) -> 58030
B16: =+B15+1 -> 6 | C16: SILICONA LÍQUIDA MULTIPROPÓSITO | D16: UN | E16: 1 | F16: 38612 | G16: 38488 | H16: =+G16*E16 -> 38488 | I16: =+G16*3% -> 1154.64 | J16: =ROUND(G16-I16,0) -> 37333
B17: =+B16+1 -> 7 | C17: CABLE UTP CATEGORÍA 5E | D17: ROL | E17: 1 | F17: 1002225 | G17: 999007 | H17: =+G17*E17 -> 999007 | I17: =+G17*3% -> 29970.21 | J17: =ROUND(G17-I17,0) -> 969037
B18: =+B17+1 -> 8 | C18: CABLE UTP CATEGORÍA 6 | D18: ROL | E18: 1 | F18: 1080975 | G18: 1077505 | H18: =+G18*E18 -> 1077505 | I18: =+G18*3% -> 32325.15 | J18: =ROUND(G18-I18,0) -> 1045180
B19: =+B18+1 -> 9 | C19: CONECTOR RJ45 CATEGORÍA 5E | D19: EMB | E19: 1 | F19: 89500 | G19: 89212 | H19: =+G19*E19 -> 89212 | I19: =+G19*3% -> 2676.36 | J19: =ROUND(G19-I19,0) -> 86536
B20: =+B19+1 -> 10 | C20: CONECTOR RJ45 CATEGORÍA 6A | D20: EMB | E20: 1 | F20: 185075 | G20: 184480 | H20: =+G20*E20 -> 184480 | I20: =+G20*3% -> 5534.4 | J20: =ROUND(G20-I20,0) -> 178946
B21: =+B20+1 -> 11 | C21: ALICATE CORTA FRÍO DE 6” | D21: UN | E21: 1 | F21: 53751 | G21: 53578 | H21: =+G21*E21 -> 53578 | I21: =+G21*3% -> 1607.34 | J21: =ROUND(G21-I21,0) -> 51971
B22: =+B21+1 -> 12 | C22: CRIMPEADORA MECÁNICA PARA CONECTORES RJ45 | D22: UN | E22: 1 | F22: 135559 | G22: 135123 | H22: =+G22*E22 -> 135123 | I22: =+G22*3% -> 4053.69 | J22: =ROUND(G22-I22,0) -> 131069
B23: =+B22+1 -> 13 | C23: FLEXÓMETRO DECÁMETRO | D23: UN | E23: 1 | F23: 59745 | G23: 59553 | H23: =+G23*E23 -> 59553 | I23: =+G23*3% -> 1786.59 | J23: =ROUND(G23-I23,0) -> 57766
B24: =+B23+1 -> 14 | C24: HERRAMIENTA PUNCHDOWN DE IMPACTO | D24: UN | E24: 1 | F24: 160908 | G24: 160391 | H24: =+G24*E24 -> 160391 | I24: =+G24*3% -> 4811.73 | J24: =ROUND(G24-I24,0) -> 155579
... B55: =+B54+1 -> 45 | C55: ADAPTADOR WIFI 5GHZ USB 3.0 DUAL 5G 1300MBPS | D55: UN | E55: 1 | F55: 120531 | G55: 120144 | H55: =+G55*E55 -> 120144 | I55: =+G55*3% -> 3604.32 | J55: =ROUND(G55-I55,0) -> 116540
E56: =SUM(E11:E11) -> 1 | F56: =SUM(F11:F55) -> 18775862 | G56: =SUM(G11:G55) -> 18715569 | H56: =SUM(H11:H55) -> 18715569 | I56: =SUM(I11:I55) -> 561467.07
B57: TOTAL DE LA OFERTA INCLUIDO IVA PRESENTADO POR EL OFERENTE | H57: =+H56 -> 18715569 | J57: =SUM(J11:J55) -> 18154101
B58: DIFERENCIA PRESUPUESTO DE LA ENTIDAD VS OFERTA DEL PROPONENTE | H58: =+D6 -> 18775862 | J58: =+D6-J57 -> 621761
B60: Conclusión: La oferta económica presentada cumple con los requisitos establecidos. Teniendo en cuenta la observación presentada al proceso respecto del ítem 22 – MULTÍMETRO DIGITAL, correspondiente al Lote No. 8, cuyo valor estimado en el estudio de mercado fue de $740.303, y frente a la cual se evidenció que el valor comercial del elemento en el mercado era superior al establecido por la Entidad, se procedió a efectuar la respectiva modificación mediante adenda, retirando dicho ítem del proceso. No obstante, teniendo en cuenta que la modificación se efectuó dentro de las 24 horas previas al cierre del proceso y que, para ese momento, varios oferentes ya habían presentado sus ofertas en la plataforma, la Entidad deja constancia de que el ítem retirado no será requerido ni solicitado durante la ejecución del contrato, por lo que no hará parte de las obligaciones contractuales a cargo del futuro contratista.
B62: Elaboró:
B64: Adriana Patricia Rubiano Ossa
B65: Evaluador Económico
B66: Grupo de Apoyo Administrativo
B67: Centro de Desarrollo Agroindustrial y Empresarial
B68: Regional Cundinamarca

Sheet LOGISEVENT S.A.S.
C2: LOTE 8 - PROCESO SASI-RC-CDAE-001-2026
C3: OBJETO: Contratar el suministro de Materiales de formación y Elementos de Protección Personal para Aprendices de las diferentes formaciones del Centro de Desarrollo Agroindustrial y empresarial del SENA Regional Cundinamarca
C6: PRESUPUESTO OFICIAL: | D6: 18775862
C7: OFERENTE: | D7: LOGISEVENT S.A.S. NIT: 901791901-2
B9: ITEM | C9: PRODUCTO | D9: UNIDAD DE MEDIDA | E9: CANT | F9: VALOR UNITARIO DETERMINADO POR LA ENTIDAD EN EL ESTUDIO DE MERCADO | G9: VALOR UNITARIO PRESENTADO POR EL OFERENTE | H9: VALOR TOTAL PRESENTADO POR EL OFERENTE | I9: VALOR DE MEJORA DEL (3%) | J9: VALOR TOTAL DE LA OFERTA CON PORCENTAJE % DE MEJORA
B11: =+'AGROVET MEDICAL SAS'!H56 -> 18775862 | C11: BROCHA PLANA DE 2” | D11: UN | E11: 1 | F11: 20622 | G11: 20600 | H11: =+G11*E11 -> 20600 | I11: =+G11*3% -> 618 | J11: =ROUND(G11-I11,0) -> 19982
B12: 2 | C12: ESPUMA LIMPIADORA PARA EQUIPOS ELECTRÓNICOS | D12: UN | E12: 1 | F12: 59637 | G12: 59600 | H12: =+G12*E12 -> 59600 | I12: =+G12*3% -> 1788 | J12: =ROUND(G12-I12,0) -> 57812
B13: =+B12+1 -> 3 | C13: AEROSOL LIMPIADOR DE CONTACTOS ELECTRÓNICOS | D13: UN | E13: 1 | F13: 71765 | G13: 71700 | H13: =+G13*E13 -> 71700 | I13: =+G13*3% -> 2151 | J13: =ROUND(G13-I13,0) -> 69549
B14: =+B13+1 -> 4 | C14: LIMPIADOR LÍQUIDO PARA PANTALLAS | D14: UN | E14: 1 | F14: 40289 | G14: 40200 | H14: =+G14*E14 -> 40200 | I14: =+G14*3% -> 1206 | J14: =ROUND(G14-I14,0) -> 38994
B15: =+B14+1 -> 5 | C15: PASTA TÉRMICA DISIPADORA DE CALOR | D15: UN | E15: 1 | F15: 60018 | G15: 60000 | H15: =+G15*E15 -> 60000 | I15: =+G15*3% -> 1800 | J15: =ROUND(G15-I15,0) -> 58200
B16: =+B15+1 -> 6 | C16: SILICONA LÍQUIDA MULTIPROPÓSITO | D16: UN | E16: 1 | F16: 38612 | G16: 38600 | H16: =+G16*E16 -> 38600 | I16: =+G16*3% -> 1158 | J16: =ROUND(G16-I16,0) -> 37442
B17: =+B16+1 -> 7 | C17: CABLE UTP CATEGORÍA 5E | D17: ROL | E17: 1 | F17: 1002225 | G17: 1002200 | H17: =+G17*E17 -> 1002200 | I17: =+G17*3% -> 30066 | J17: =ROUND(G17-I17,0) -> 972134
B18: =+B17+1 -> 8 | C18: CABLE UTP CATEGORÍA 6 | D18: ROL | E18: 1 | F18: 1080975 | G18: 1080900 | H18: =+G18*E18 -> 1080900 | I18: =+G18*3% -> 32427 | J18: =ROUND(G18-I18,0) -> 1048473
B19: =+B18+1 -> 9 | C19: CONECTOR RJ45 CATEGORÍA 5E | D19: EMB | E19: 1 | F19: 89500 | G19: 89500 | H19: =+G19*E19 -> 89500 | I19: =+G19*3% -> 2685 | J19: =ROUND(G19-I19,0) -> 86815
B20: =+B19+1 -> 10 | C20: CONECTOR RJ45 CATEGORÍA 6A | D20: EMB | E20: 1 | F20: 185075 | G20: 185000 | H20: =+G20*E20 -> 185000 | I20: =+G20*3% -> 5550 | J20: =ROUND(G20-I20,0) -> 179450
B21: =+B20+1 -> 11 | C21: ALICATE CORTA FRÍO DE 6” | D21: UN | E21: 1 | F21: 53751 | G21: 53700 | H21: =+G21*E21 -> 53700 | I21: =+G21*3% -> 1611 | J21: =ROUND(G21-I21,0) -> 52089
B22: =+B21+1 -> 12 | C22: CRIMPEADORA MECÁNICA PARA CONECTORES RJ45 | D22: UN | E22: 1 | F22: 135559 | G22: 135500 | H22: =+G22*E22 -> 135500 | I22: =+G22*3% -> 4065 | J22: =ROUND(G22-I22,0) -> 131435
B23: =+B22+1 -> 13 | C23: FLEXÓMETRO DECÁMETRO | D23: UN | E23: 1 | F23: 59745 | G23: 59700 | H23: =+G23*E23 -> 59700 | I23: =+G23*3% -> 1791 | J23: =ROUND(G23-I23,0) -> 57909
B24: =+B23+1 -> 14 | C24: HERRAMIENTA PUNCHDOWN DE IMPACTO | D24: UN | E24: 1 | F24: 160908 | G24: 160900 | H24: =+G24*E24 -> 160900 | I24: =+G24*3% -> 4827 | J24: =ROUND(G24-I24,0) -> 156073
... B55: =+B54+1 -> 45 | C55: ADAPTADOR WIFI 5GHZ USB 3.0 DUAL 5G 1300MBPS | D55: UN | E55: 1 | F55: 120531 | G55: 120500 | H55: =+G55*E55 -> 120500 | I55: =+G55*3% -> 3615 | J55: =ROUND(G55-I55,0) -> 116885
E56: =SUM(E11:E11) -> 1 | F56: =SUM(F11:F55) -> 18775862 | G56: =SUM(G11:G55) -> 18774200 | H56: =SUM(H11:H55) -> 18774200 | I56: =SUM(I11:I55) -> 563226
B57: TOTAL DE LA OFERTA INCLUIDO IVA PRESENTADO POR EL OFERENTE | H57: =+H56 -> 18774200 | J57: =SUM(J11:J55) -> 18210974
B58: DIFERENCIA PRESUPUESTO DE LA ENTIDAD VS OFERTA DEL PROPONENTE | H58: =+D6 -> 18775862 | J58: =+D6-J57 -> 564888
B60: Conclusión: La oferta económica presentada cumple con los requisitos establecidos.
B62: Elaboró:
B64: Karen Lorena Figueredo Rojas
B65: Evaluador Económico
B66: Grupo de Apoyo Administrativo
B67: Centro de Desarrollo Agroindustrial y Empresarial
B68: Regional Cundinamarca

Sheet AGROVET MEDICAL SAS
C2: EVALUACIÓN ECONÓMICA PROCESO SASI-RC-CDAE-001-2026
C3: OBJETO: Contratar el suministro de Materiales de formación y Elementos de Protección Personal para Aprendices de las diferentes formaciones del Centro de Desarrollo Agroindustrial y empresarial del SENA Regional Cundinamarca
C6: PRESUPUESTO OFICIAL: | D6: 18775862
C7: OFERENTE: | D7: AGROVET MEDICAL SAS NIT: 900694527-1
B9: ITEM | C9: PRODUCTO | D9: UNIDAD DE MEDIDA | E9: CANT | F9: VALOR UNITARIO DETERMINADO POR LA ENTIDAD EN EL ESTUDIO DE MERCADO | G9: VALOR UNITARIO PRESENTADO POR EL OFERENTE | H9: VALOR TOTAL PRESENTADO POR EL OFERENTE | I9: DIFERENCIA
B11: =+'AGROVET MEDICAL SAS'!H56 -> 18775862 | C11: BROCHA PLANA DE 2” | D11: UN | E11: 1 | F11: 20622 | G11: 20622 | H11: =+G11*E11 -> 20622 | I11: =+F11-G11 -> 0
B12: =+B11+1 -> 18775863 | C12: ESPUMA LIMPIADORA PARA EQUIPOS ELECTRÓNICOS | D12: UN | E12: 1 | F12: 59637 | G12: 59637 | H12: =+G12*E12 -> 59637 | I12: =+F12-G12 -> 0
B13: =+B12+1 -> 18775864 | C13: AEROSOL LIMPIADOR DE CONTACTOS ELECTRÓNICOS | D13: UN | E13: 1 | F13: 71765 | G13: 71765 | H13: =+G13*E13 -> 71765 | I13: =+F13-G13 -> 0
B14: =+B13+1 -> 18775865 | C14: LIMPIADOR LÍQUIDO PARA PANTALLAS | D14: UN | E14: 1 | F14: 40289 | G14: 40289 | H14: =+G14*E14 -> 40289 | I14: =+F14-G14 -> 0
B15: =+B14+1 -> 18775866 | C15: PASTA TÉRMICA DISIPADORA DE CALOR | D15: UN | E15: 1 | F15: 60018 | G15: 60018 | H15: =+G15*E15 -> 60018 | I15: =+F15-G15 -> 0
B16: =+B15+1 -> 18775867 | C16: SILICONA LÍQUIDA MULTIPROPÓSITO | D16: UN | E16: 1 | F16: 38612 | G16: 38612 | H16: =+G16*E16 -> 38612 | I16: =+F16-G16 -> 0
B17: =+B16+1 -> 18775868 | C17: CABLE UTP CATEGORÍA 5E | D17: ROL | E17: 1 | F17: 1002225 | G17: 1002225 | H17: =+G17*E17 -> 1002225 | I17: =+F17-G17 -> 0
B18: =+B17+1 -> 18775869 | C18: CABLE UTP CATEGORÍA 6 | D18: ROL | E18: 1 | F18: 1080975 | G18: 1080975 | H18: =+G18*E18 -> 1080975 | I18: =+F18-G18 -> 0
B19: =+B18+1 -> 18775870 | C19: CONECTOR RJ45 CATEGORÍA 5E | D19: EMB | E19: 1 | F19: 89500 | G19: 89500 | H19: =+G19*E19 -> 89500 | I19: =+F19-G19 -> 0
B20: =+B19+1 -> 18775871 | C20: CONECTOR RJ45 CATEGORÍA 6A | D20: EMB | E20: 1 | F20: 185075 | G20: 185075 | H20: =+G20*E20 -> 185075 | I20: =+F20-G20 -> 0
B21: =+B20+1 -> 18775872 | C21: ALICATE CORTA FRÍO DE 6” | D21: UN | E21: 1 | F21: 53751 | G21: 53751 | H21: =+G21*E21 -> 53751 | I21: =+F21-G21 -> 0
B22: =+B21+1 -> 18775873 | C22: CRIMPEADORA MECÁNICA PARA CONECTORES RJ45 | D22: UN | E22: 1 | F22: 135559 | G22: 135559 | H22: =+G22*E22 -> 135559 | I22: =+F22-G22 -> 0
B23: =+B22+1 -> 18775874 | C23: FLEXÓMETRO DECÁMETRO | D23: UN | E23: 1 | F23: 59745 | G23: 59745 | H23: =+G23*E23 -> 59745 | I23: =+F23-G23 -> 0
... B55: =+B54+1 -> 18775906 | C55: ADAPTADOR WIFI 5GHZ USB 3.0 DUAL 5G 1300MBPS | D55: UN | E55: 1 | F55: 120531 | G55: 120531 | H55: =+G55*E55 -> 120531 | I55: =+F55-G55 -> 0
E56: =SUM(E11:E11) -> 1 | F56: =SUM(F11:F55) -> 18775862 | G56: =SUM(G11:G55) -> 18775862 | H56: =SUM(H11:H55) -> 18775862
B57: PRESUPUESTO TOTAL INCLUIDO IVA PRESENTADO POR EL OFERENTE | H57: =+H56 -> 18775862 | I57: DIFERENCIA
B58: PRESUPUESTO OFICIAL DETERMINADO POR LA ENTIDAD | H58: =+D6 -> 18775862 | I58: =+H58-H57 -> 0
B60: Conclusión: La oferta económica presentada cumple con los requisitos establecidos.
B62: Elaboró:
B64: Adriana Patricia Rubiano Ossa
B65: Evaluador Económico
B66: Grupo de Apoyo Administrativo
B67: Centro de Desarrollo Agroindustrial y Empresarial
B68: Regional Cundinamarca

Sheet PRECIOS ARTIF BAJOS (2)
B2: CENTRO DE DESARROLLO AGROINDUSTRIAL Y EMPRESARIAL REGIONAL CUNDINAMARCA
B4: VERIFICACION DE OFERTAS ARTIFICIALMENTE BAJAS
B5: EVALUACIÓN ECONÓMICA PROCESO SASI-RC-CDAE-001-2026
B6: OBJETO: Contratar el suministro de Materiales de formación y Elementos de Protección Personal para Aprendices de las diferentes formaciones del Centro de Desarrollo Agroindustrial y empresarial del SENA Regional Cundinamarca
B7: PRESUPUESTO OFICIAL | C7: =+'EQUISUMINISTROS Y CONSTRUCCIONE'!D6 -> 18775862
B8: VALOR DE LAS OFERTAS | C8: PROPONENTE
B9: =+'EQUISUMINISTROS Y CONSTRUCCIONE'!G56 -> 18715569 | C9: =+'EQUISUMINISTROS Y CONSTRUCCIONE'!D7 -> EQUISUMINISTROS Y CONSTRUCCIONES SAS NIT: 900352345-0
B10: =+'LOGISEVENT S.A.S.'!H56 -> 18774200 | C10: =+'LOGISEVENT S.A.S.'!D7 -> LOGISEVENT S.A.S. NIT: 901791901-2
B11: =+'AGROVET MEDICAL SAS'!H56 -> 18775862 | C11: =+'AGROVET MEDICAL SAS'!D7 -> AGROVET MEDICAL SAS NIT: 900694527-1
C13: PRESUPUESTO OFICIAL *80 % /100
B14: =+C7*0.8 -> 15020690
B16: Conclusión: De acuerdo con las ofertas económicas presentadas para el proceso SASI-RC-CDAE-001-2026, se evidencia que la oferta presentada por el proponente COMERCIALIZADORA SERLE.COM SAS se encuentra por debajo del 80% del presupuesto oficial estimado por la entidad ($399,064), ubicándose por debajo del valor de referencia de $319,251. En consecuencia, se requiere al proponente para que presente explicación del precio ofertado, conforme a la Guía de Colombia Compra Eficiente para el manejo de ofertas artificialmente bajas. Por favor enviar explicación de precios artificialmente bajos, de acuerdo con los siguientes aspectos: -Enviar desagregación de precios teniendo en cuenta la siguiente fórmula de Colombia Compra Eficiente: -Indicar técnicas diferenciadas de producción del bien o provisión del servicio. -Indicar si la entidad cuenta con vehículos propios para la entrega de los productos. -Indicar si la entidad cuenta con mayor diversificación de productos o servicios relacionados. -Indicar si las instalaciones son propias o en arrendamiento. -Indicar estructura de precios unitarios detallada. -Indicar si la entidad cuenta con equipos tecnológicos propios. -Indicar si subcontratan personal o manejan una nómina propia. -Indicar si los productos son comprados directamente al fabricante. NOTA: Anexar los soportes respectivos que respalden cada uno de los ítems anteriormente mencionados.
B18: Evaluó:
B21: Adriana Patricia Rubiano Ossa
B22: Evaluador económico y financiero
B23: Grupo de Apoyo Administrativo
B24: Centro de Desarrollo Agroindustrial y Empresarial
B25: Regional Cundinamarca
