Workbook

Sheet METODOLOGÍA DE EVALUACIÓN
B2: MUNICIPIO DE CALDAS
B4: Formato No 3. Condiciones tecnicas adicionales
B5: METODOLOGÍA DE EVALUACIÓN - APLICABLE A TODAS LAS PÓLIZAS
B6: El Asegurado precisa que las condiciones, coberturas, cláusulas, límites y/o plazo indicados a continuación no son de obligatorio ofrecimiento y las aseguradoras participantes tienen la postedad de decidir su ofrecimiento. Para su evaluación se considerarán los siguientes criterios que corresponden a los generales aplicables, por lo tanto en el caso que se estipulen criterios particulares dentro del contenido de las condiciones, estos primarán sobre los generales: Las aseguradoras deben tener en cuenta que el ofrecimiento de condiciones que presten beneficio a la Entidad adicionales a las relacionadas en cada póliza pero que son en exceso a las mismas; no serán objeto de asignación de puntaje adicional a esos exceso y solo evaluables con base en los criterios que esten definidos en cada condición, no obstante la presentación de éstas obliga a la Aseguradora a su otorgamiento en caso de que el contrato le sea adjudicado y el oferente con la firma de la propuesta acepta esta condición.
B7: CONDICIONES ADICIONALES QUE CONTIENEN SOLO TEXTO: | D7: Se otorgará el máximo puntaje asignado a las propuestas que las ofrezcan con el mismo texto y bajo las mismas condiciones o en condiciones superiores en beneficio de la Entidad. Las propuestas que modifiquen el texto, sin que ello conlleve a la pérdida de la aplicabilidad y/u operatividad de la condición, se le asignará el 50% del puntaje y las propuestas que no las ofrezcan se calificarán con cero (0) puntos.
B8: CONDICIONES ADICIONALES QUE APLIQUEN PARA OFERTAS DE LÍMITES Y/O VALORES FIJOS QUE SE REGISTREN EN TABLAS Y/O CONTENGAN RANGOS Y/O VALORES CON BASE EN LOS CUALES SE DEBE EFECTUAR EL OFRECIMIENTO. | D8: Las aseguradoras deben tener en cuenta: 1. Para acceder a calificación, el oferente deberá registrar en forma expresa y de manera clara, el valor y/o límite que ofrece. En aquellos casos que se exprese valores en COL$ o en SMMLV para realizar una evaluación equitativa, se podrá homologar el ofrecimiento a alguna de las dos constantes COL$ o SMMLV. 2. Se otorga el máximo puntaje a la propuesta que dentro del rango o tabla se aproxime al máximo sublímite o plazo requerido y las demas ofertas se calificaran en forma proporcional a la propuesta calificada con el máximo puntaje. 3. En el caso de presentar propuesta por un valor y/o límite diferente al establecido en los rangos de la tabla, se tomará para la asignación de puntaje, el monto y/o límite del rango inmediatamente anterior al del valor ofrecido y el oferente acepta esta condición con la firma de la oferta y, de ser adjudicada la propuesta, expedirá la póliza con el valor indicado en la propuesta.
A9: 45444 | B9: CONDICIONES ADICIONALES | D9: NOTA: Las aseguradoras deben señalar expresamente en su propuesta las Condiciones Adicionales que ofrece especificando los límites, periodos y demás información necesaria para su evaluación de acuerdo con las condiciones de cada una de ellas, en caso que manifieste "SE OTORGA" ó "SI" u otra expresión que implica que si esta otorgando la condición, pero no está especificado, se entenderá que las mismas fueron ofrecidas al máximo límite, sublímite o periodos o plazos y por lo tanto se asignará el mayor puntaje de esta condición, al límite, sublímite o períodos o plazos requerido y de ser adjudicada la propuesta, la aseguradora expedirá la póliza con las condiciones máximas exigidas de ese criterio en particular.
B10: By: Tiger | G10: VERSIÓN: AGOSTO 2026

Sheet G1. COND ADIC. TRDMC
B3: MUNICIPIO DE CALDAS
B5: Formato No 3. Condiciones tecnicas adicionales
B6: GRUPO No. 1
B7: 1. PÓLIZA DE SEGURO DE TODO RIESGO DAÑOS MATERIALES COMBINADOS
B8: OBJETO DEL SEGURO
B9: Amparar todos los activos (bienes inmuebles y muebles) de propiedad del MUNICIPIO DE CALDAS, o aquellos que se encuentren bajo su control, tenencia, responsabilidad o custodia, contra los daños o pérdidas materiales a consecuencia de cualquier riesgo, tanto por eventos internos o externos y en general los recibidos a cualquier título o por los que tenga algún interés asegurable, ubicados en el territorio nacional o por aquellos que por su naturaleza se deban trasladar a nivel mundial, dentro o fuera de las instalaciones del asegurado y/o en predios de terceros o a la intemperie y los utilizados en desarrollo del objeto social del MUNICIPIO DE CALDAS.
B10: INFORMACIÓN GENERAL:
B11: TOMADOR: | C11: =+B3 -> MUNICIPIO DE CALDAS | G11: NIT | H11: 890980447-1
B12: ASEGURADO: | C12: =+C11 -> MUNICIPIO DE CALDAS | G12: =+G11 -> NIT | H12: =+H11 -> 890980447-1
B13: BENEFICIARIO: | C13: =+C11 -> MUNICIPIO DE CALDAS | G13: =+G12 -> NIT | H13: =+H11 -> 890980447-1
B14: NOTA: | C14: CADA SUBLÍMITE O GASTOS OFRECIDOS EN FORMA ADICIONAL QUEDA CONTEMPLADO DENTRO DEL LÍMITE ASEGURADO.
B15: CRITERIOS DE EVALUACIÓN:
B16: CONDICIÓN REQUERIDA PARA EVALUACIÓN | E16: CRITERIO DE EVALUACIÓN | F16: PUNTAJE ESTABLECIDO | G16: OFRECIMIENTO DEL PROPONENTE | H16: PUNTAJE OBTENIDO POR EL PROPONENTE
B17: GASTOS ADICIONALES. Sublímite por la suma de $3.000.000.000 evento / agregado anual, incluido en el valor asegurado,sin aplicación de deducible y combinado para los gastos relacionados en en Anexo No. 1. NOTA 1: Solo se acepta propuesta en los límites señados en los siguientes rangos. Ofrecimientos de otros valores diferentes serán evaluados con cero (0) puntos), excepto que sea superior al último rango. NOTA 2: Se otorga el máximo puntaje a la propuesta que dentro del rango se aproxime al máximo sublímite requerido y las demas ofertas se calificaran en forma proporcional a la propuesta calificada con el máximo puntaje. | D17: PUNTOS AL MAYOR VALOR DENTRO DEL RANGO | E17: Se califica el aumento adicional del sublímite Hasta un monto total de $3.000.000.000 incluido el básico | F17: 10
B18: Límite adicional al básico mayor a $250.000.000 y hasta $500.000.000 | D18: 1
B19: Límite adicional al básico mayor a $500.000.000 y hasta $700.000.000 | D19: 3
B20: Límite adicional al básico mayor a $700.000.000 y hasta $800.000.000 | D20: 6
B21: Límite adicional al básico mayor a $800.000.000 y hasta $1.000.000.000 | D21: 10
B22: GASTOS EXTRAORDINARIOS. Sublímite por la suma de $500.000.000 evento / agregado anual, incluido en el valor asegurado,sin aplicación de deducible y combinado para los gastos relacionados en en Anexo No. 1. NOTA 1: Solo se acepta propuesta en los límites señados en los siguientes rangos. Ofrecimientos de otros valores diferentes serán evaluados con cero (0) puntos), excepto que sea superior al último rango. NOTA 2: Se otorga el máximo puntaje a la propuesta que dentro del rango se aproxime al máximo sublímite requerido y las demas ofertas se calificaran en forma proporcional a la propuesta calificada con el máximo puntaje. | D22: PUNTOS AL MAYOR VALOR DENTRO DEL RANGO | E22: Se califica el aumento adicional del sublímite Hasta un monto total de $2.500.000.000 incluido el básico | F22: 8
B23: Límite adicional al básico mayor a $200.000.000 y hasta $500.000.000 | D23: 1
B24: Límite adicional al básico mayor a $600.000.000 y hasta $1.000.000.000 | D24: 4
B25: Límite adicional al básico mayor a $1.100.000.000 y hasta $1.500.000.000 | D25: 6
B26: Límite adicional al básico mayor a $1.600.000.000 y hasta $2.000.000.000 | D26: 8
B27: ANTICIPO DE INDEMNIZACIÓN DEL 50%. NOTA: Si el aumento adicional del porcentaje de anticipo es condicionado a la demostración de la ocurrencia y cuantía, se califica con cero (0) puntos este factor. | E27: Se califica el aumento adicional del porcentaje ofrecido. Bajo la definición del texto de la condición obligatoria y sin estar condicionada a la demostración de ocurrencia y cuantía. | F27: 1.5
B28: ASISTENCIA DOMICILIARIA Bajo esta condición la aseguradora se compromete a brindar el servicio de asistencia domiciliaria a la sede principal de la Entidad, para los servicios de plomería, electricidad y cerrajería. Acorde con las políticas establecidas en los clausulados particulares de cada aseguradora. | E28: Se califica el ofrecimiento e esta codicion SIN COBRO DE PRIMA ADICIONAL Bajo la definición del texto de la condición obligatoria y sin estar condicionada a la demostración de ocurrencia y cuantía. | F28: 1.5
B29: RENUNCIA A LA APLICACIÓN DE SEGURO INSUFICIENTE Y/O INFRASEGURO Siempre y cuando la diferencia entre el valor asegurado y el valor asegurable no sea superior al 10%. | E29: Se califica en Condiciones Adicionales el aumento adicional del porcentaje ofrecido. Hasta un máximo del 30% incluido el básico | F29: 3
B30: CLÁUSULA DE NO TASACIÓN EN CASO DE SINIESTRO Sublímite de hasta $100.000.000, por siniestro. NOTA 1: Solo se acepta propuesta en los límites señados en los siguientes rangos. Ofrecimientos de otros valores diferentes serán evaluados con cero (0) puntos), excepto que sea superior al último rango. NOTA 2: Se otorga el máximo puntaje a la propuesta que dentro del rango se aproxime al máximo sublímite requerido y las demas ofertas se calificaran en forma proporcional a la propuesta calificada con el máximo puntaje. | D30: PUNTOS AL MAYOR VALOR DENTRO DEL RANGO | E30: Se califica el aumento adicional del sublímite Hasta un monto total de $400.000.000 incluido el básico | F30: 3
B31: Límite adicional al básico mayor a $25.000.000 y hasta $50.000.000 | D31: 0.5
B32: Límite adicional al básico mayor a $60.000.000 y hasta $100.000.000 | D32: 2
B33: Límite adicional al básico mayor a $150.000.000 y hasta $200.000.000 | D33: 3
B34: AUTORIZACIÓN EXPRESA AL ASEGURADO PARA ATENCIÓN DE DAÑOS POR SINIESTROS CUYO VALOR NO EXCEDA $50.000.000. NOTA 1: Solo se acepta propuesta en los límites señados en los siguientes rangos. Ofrecimientos de otros valores diferentes serán evaluados con cero (0) puntos), excepto que sea superior al último rango. NOTA 2: Se otorga el máximo puntaje a la propuesta que dentro del rango se aproxime al máximo sublímite requerido y las demas ofertas se calificaran en forma proporcional a la propuesta calificada con el máximo puntaje. | D34: PUNTOS AL MAYOR VALOR DENTRO DEL RANGO | E34: Se califica el aumento adicional del sublímite para la autorización expresa para la atención de siniestros. Hasta un monto total de $350.000.000 incluido el básico | F34: =+D37 -> 3
B35: Límite adicional al básico mayor a $75.000.000 y hasta $100.000.000 | D35: 1.5
B36: Límite adicional al básico mayor a $150.000.000 y hasta $200.000.000 | D36: 2.25
B37: Límite adicional al básico mayor a $250.000.000 y hasta $300.000.000 | D37: 3
B38: MÁXIMO CALIFICACIÓN | F38: =SUM(F17:F34) -> 30 | G38: CALIFICACIÓN DEL PROPONENTE | H38: =SUM(H17:H34) -> 0
B39: By: Tiger | H39: =+'METODOLOGÍA DE EVALUACIÓN'!G10 -> VERSIÓN: AGOSTO 2026

Sheet G5. ADICIONALES TR. EQ. Y MAQ.
B3: MUNICIPIO DE CALDAS
B5: Formato No 3. Condiciones tecnicas adicionales
B6: GRUPO No. 1
B8: 1. PÓLIZA DE SEGURO DE TODO RIESGO EQUIPO Y MAQUINARÍA
B9: OBJETO DEL SEGURO
B10: Amparar las pérdidas o daños materiales que afecten a los Equipos y Maquinarías de propiedad del MUNICIPIO DE CALDAS o aquellos que se encuentren bajo su control, tenencia, responsabilidad o custodia, ubicados en el territorio nacional contra los daños o pérdidas materiales a consecuencia de cualquier riesgo, tanto por eventos externos, incluyendo las pérdidas consecuenciales por todo concepto dentro o fuera de las instalaciones del asegurado y/o en predios de terceros y los utilizados en desarrollo del objeto social del MUNICIPIO DE CALDAS
B11: INFORMACIÓN GENERAL:
B12: TOMADOR: | C12: =+B3 -> MUNICIPIO DE CALDAS | G12: NIT. | H12: 890980447-1
B13: ASEGURADO: | C13: =+C12 -> MUNICIPIO DE CALDAS | G13: NIT. | H13: =+H12 -> 890980447-1
B14: BENEFICIARIO: | C14: =+C12 -> MUNICIPIO DE CALDAS | G14: NIT. | H14: =+H13 -> 890980447-1
B15: NOTA: | C15: CADA SUBLÍMITE O GASTOS OFRECIDOS EN FORMA ADICIONAL QUEDA CONTEMPLADO DENTRO DEL LÍMITE ASEGURADO.
B16: CRITERIOS DE EVALUACIÓN:
B17: CONDICIÓN REQUERIDA PARA EVALUACIÓN | E17: CRITERIO DE EVALUACIÓN | F17: PUNTAJE ESTABLECIDO | G17: OFRECIMIENTO DEL OFERENTE | H17: PUNTAJE OBTENIDO POR EL OFERENTE
B18: GASTOS ADICIONALES. Sublímite por la suma de $100.000.000, incluido en el valor asegurado,sin aplicación de deducible y combinado para los siguientes gastos y coberturas. | E18: Se califica el aumento adicional del sublímite Hasta un monto total de $210.000.000 incluido el básico | F18: 12
B19: ANTICIPO DE INDEMNIZACIÓN DEL 50%. NOTA: Si el aumento adicional del porcentaje de anticipo es condicionado a la demostración de la ocurrencia y cuantía, se califica con cero (0) puntos este factor. | E19: Se califica el aumento adicional del porcentaje ofrecido. Bajo la definición del texto de la condición obligatoria y sin estar condicionada a la demostración de ocurrencia y cuantía. | F19: 6
B20: RENUNCIA A LA APLICACIÓN DE SEGURO INSUFICIENTE Y/O INFRASEGURO Siempre y cuando la diferencia entre el valor asegurado y el valor asegurable no sea superior al 10%. | E20: Se califica en Condiciones Adicionales el aumento adicional del porcentaje ofrecido. Hasta un máximo del 30% | F20: 6
B21: CLÁUSULA DE NO TASACIÓN EN CASO DE SINIESTRO Sublímite de hasta $100.000.000, por siniestro. | E21: Se califica el aumento adicional del sublímite Hasta un monto total de $200.000.000. Incluido el básico | F21: 6
B22: MÁXIMO CALIFICACIÓN | F22: =SUM(F18:F21) -> 30 | G22: CALIFICACIÓN DEL OFERENTE | H22: =SUM(H18:H21) -> 0 | I22: VERIFICAR QUE LA SUMATORIA COMPRENDE TODO EL RANGO DE CELDAS
B23: By: Tiger | H23: =+'METODOLOGÍA DE EVALUACIÓN'!G10 -> VERSIÓN: AGOSTO 2026

Sheet G1 COND ADIC. AUTOMÓVILES
B3: MUNICIPIO DE CALDAS
B5: Formato No 3. Condiciones tecnicas adicionales
B6: GRUPO No. 1
B7: 4. PÓLIZA DE AUTOMÓVILES
B8: OBJETO DEL SEGURO
B9: Amparar a la Entidad por los perjuicios que cause patrimonial (daños materiales incluyendo daño emergente y lucro cesante) y extrapatrimonialmnte (incluidos el daño moral, daño fisiológico y daño a la vida en relación), al igual que los daños a bienes o lesiones o muerte a terceros. De igual forma se amparan los daños y/o pérdidas que afecten a los vehículos de su propiedad, bajo tenencia, control o por los que sea legalmente responsable o incluidos aquellos recibidos por parte de otras entidades para el desarrollo misional de la Entidad.
B10: INFORMACIÓN GENERAL:
B11: TOMADOR: | C11: =+B3 -> MUNICIPIO DE CALDAS | G11: NIT. | H11: 890.980.447-1
B12: ASEGURADO: | C12: =+C11 -> MUNICIPIO DE CALDAS | G12: NIT. | H12: =+H11 -> 890.980.447-1
B13: BENEFICIARIO: | C13: =+C11 -> MUNICIPIO DE CALDAS | G13: NIT. | H13: =+H11 -> 890.980.447-1
B14: NOTA: | C14: CADA SUBLÍMITE O GASTOS OFRECIDOS EN FORMA ADICIONAL QUEDA CONTEMPLADO DENTRO DEL LÍMITE ASEGURADO.
B15: CRITERIOS DE EVALUACIÓN:
B16: CONDICIÓN REQUERIDA PARA EVALUACIÓN | E16: CRITERIO DE EVALUACIÓN | F16: PUNTAJE ESTABLECIDO | G16: OFRECIMIENTO DEL OFERENTE | H16: PUNTAJE OBTENIDO POR EL OFERENTE
B17: INCREMENTO DEL LÍMITE BÁSICO PARA LA COBERTURA DE RESPONSABILIDAD CIVIL EXTRACONTRACTUAL EVENTO /AGREGADO ANUAL. NOTA: Solo se acepta propuesta en los límites señados en los siguientes rangos. Ofrecimientos de otros valores diferentes serán evaluados con cero (0) puntos), excepto que sea superior al último rango. | E17: Se califica el aumento adicional del límite asegurado. SIN COBRO DE PRIMA | F17: =+D22 -> 8
B18: Al proponente que ofrezca únicamente el límite básico exigido de $800.000.000 / $800.000.000 / $1.600.000.000, ó Límite único combinado de $2.400.0000.000, se evaluara con CERO (0) puntos. Solo se acepta propuesta en los límites a continuación señalados, ofrecimientos de otros valores diferentes serán evaluados con cero (0) puntos). | D18: PUNTOS
B19: Al proponente que ofrezca límite de: $1.000.000.000 / $1.000.000.000 / $2.000.000.000. O límite único combinado de $3.000.000.000. | D19: 2
B20: Al proponente que ofrezca límite de: $1.800.000.000 / $1.800.000.000 / $3.600.000.000. O límite único combinado de $5.400.000.000. | D20: 4
B21: Al proponente que ofrezca límite de: $2.000.000.000 / $2.000.000.000 / $4.000.000.000. O límite único combinado de $6.000.000.000. | D21: 6
B22: Al proponente que ofrezca límite de: $2.200.000.000 / $2.200.000.000 / $4.400.000.000. O límite único combinado de $6.600.000.000. | D22: 8
B23: GASTOS DE TRANSPORTE POR PÉRDIDAS TOTALES (Daños y/o Hurto) (esta condición no aplica para motos y vehiculos pesados.) Limite de $32.000 diarios y hasta (60) días | E23: Se califica el aumento adicional del (incluido el básico) monto de los gastos de transporte. | F23: 3
B24: GASTOS DE BODEGAJE Limite de $5.000.000 evento / vigencia. | E24: Se califica el aumento adicional del monto de los gastos de bodegaje. | F24: 2
B25: Límite mínimo adicional al básico mayor a $500.000
B26: ANTICIPO DE INDEMNIZACIÓN DEL 50%. NOTA: Si el aumento adicional del porcentaje de anticipo es condicionado a la demostración de la ocurrencia y cuantía, se califica con cero (0) puntos este factor. | E26: Se califica el aumento adicional del porcentaje ofrecido. Bajo la definición del texto de la condición obligatoria y sin estar condicionada a la demostración de ocurrencia y cuantía. | F26: 3
B27: AMPARO AUTOMÁTICO DE VEHÍCULOS NUEVOS Y USADOS Sublímite de $300.000.000 por vehículo y término de 90 días de aviso. | E27: Se califica el aumento adicional del monto del sublímite para este amparo. | F27: 2
B28: AMPARO AUTOMÁTICO DE EQUIPOS Y ACCESORIOS Hasta el 10% del valor asegurado, Monto de $10,000,000 por vehículo y término de 90 días de aviso. | E28: Se califica el aumento adicional del monto del sublímite para este amparo. | F28: 2
B29: COBERTURA DE PÉRDIDA DE LLAVES. Sublímite 3 SMLMV por evento. | E29: Se califica el aumento adicional del monto del sublímite para este amparo. | F29: 2
B30: AUXILIO FUNERARIO PARA LOS OCUPANTES DEL VECHIULO HASTA SU CAPACIDAD MAXIMA 2 SMMLV por persona ( Se excluyen motos y buses ) Siempre que esta ocurra dentro de los 180 días siguientes al accidente ocurrido durante la vigencia de la póliza. únicamente para el conductor del vehículo. | E30: Se califica el otorgamiento de este auxilio. | F30: 4
B31: GASTOS DE GRÚA PARA VEHÍCULOS DE TERCEROS, AFECTADOS EN ACCIDENTES EN LOS CUALES SEA EVIDENTE LA RESPONSABILIDAD DEL ASEGURADO. Se paga por rembolso el servicio prestado de grúa al tercero. | E31: Se califica el otorgamiento de este servicio. | F31: 2
B32: VEHÍCULO DE REEMPLAZO Acorde con las políticas de la aseguradora. | E32: Se califica el ofrecimiento de este servicio | F32: 2
B33: MÁXIMO CALIFICACIÓN | F33: =SUM(F17:F32) -> 30 | G33: CALIFICACIÓN DEL OFERENTE | H33: =SUM(H17:H32) -> 0
B34: By: Tiger | H34: =+'G1. COND ADIC. RCE'!H42 -> VERSIÓN: AGOSTO 2026

Sheet G1. COND ADIC. MANEJO GLOBAL
B3: MUNICIPIO DE CALDAS
B5: Formato No 3. Condiciones tecnicas adicionales
B6: GRUPO No. 1
B7: 2. PÓLIZA DE SEGURO GLOBAL DE MANEJO PARA ENTIDADES OFICIALES
B8: OBJETO DEL SEGURO
B9: Amparar los riesgos que impliquen menoscabo de los fondos y/o bienes de propiedad del MUNICIPIO DE CALDAS o que estén bajo su tenencia, control y/o responsabilidad causados por acciones u omisiones de sus servidores, que incurran en delitos contra la administración pública o fallos con responsabilidad fiscal, por incumplimiento de las disposiciones legales y reglamentarias, incluyendo el costo de la rendición de cuentas en caso de abandono del cargo o fallecimiento del empleado, en concordancia con la Resolución 014249 del 15 de mayo de 1992, aprobada por la Contraloría General de la República.
B10: INFORMACIÓN GENERAL:
B11: TOMADOR: | C11: =+B3 -> MUNICIPIO DE CALDAS | G11: NIT. | H11: 890.980.447-1
B12: ASEGURADO: | C12: =+C11 -> MUNICIPIO DE CALDAS | G12: NIT. | H12: =+H11 -> 890.980.447-1
B13: BENEFICIARIO: | C13: =+C11 -> MUNICIPIO DE CALDAS | G13: NIT. | H13: =+H11 -> 890.980.447-1
B14: NOTA: | C14: CADA SUBLÍMITE O GASTOS OFRECIDOS EN FORMA ADICIONAL QUEDA CONTEMPLADO DENTRO DEL LÍMITE ASEGURADO.
B15: CRITERIOS DE EVALUACIÓN:
B16: CONDICIÓN REQUERIDA PARA EVALUACIÓN | E16: CRITERIO DE EVALUACIÓN | F16: PUNTAJE ESTABLECIDO | G16: OFRECIMIENTO DEL OFERENTE | H16: PUNTAJE OBTENIDO POR EL OFERENTE
B17: INCREMENTO DEL LÍMITE BÁSICO PARA LA COBERTURA DE MANEJO GLOBAL. LÍMITE $600.000.000 Evento / agregado anual NOTA 1: Solo se acepta propuesta en los límites señados en los siguientes rangos. Ofrecimientos de otros valores diferentes serán evaluados con cero (0) puntos), excepto que sea superior al último rango. NOTA 2: Se otorga el máximo puntaje a la propuesta que dentro del rango se aproxime al máximo sublímite requerido y las demas ofertas se calificaran en forma proporcional a la propuesta calificada con el máximo puntaje. | D17: PUNTOS AL MAYOR VALOR DENTRO DEL RANGO | E17: Se califica el aumento adicional del límite asegurado. Hasta un monto total de $700.000.000 incluido el básico SIN COBRO DE PRIMA | F17: =+D21 -> 18
B18: Límite adicional al básico mayor a $20.000.000 y hasta $40.000.000 | D18: 4
B19: Límite adicional al básico mayor a $50.000.000 y hasta $60.000.000 | D19: 6
B20: Límite adicional al básico mayor a $70.000.000 y hasta $80.000.000 | D20: 12
B21: Límite adicional al básico mayor a $90.000.000 y hasta $100.000.00 | D21: 18
A22: 46235 | B22: GASTOS ADICIONALES: Sublímite 10% del límite asegurado. NOTA 1: Solo se acepta propuesta en los límites señados en los siguientes rangos. Ofrecimientos de otros valores diferentes serán evaluados con cero (0) puntos), excepto que sea superior al último rango. NOTA 2: Se otorga el máximo puntaje a la propuesta que dentro del rango se aproxime al máximo porcentaje requerido y las demas ofertas se calificaran en forma proporcional a la propuesta calificada con el máximo puntaje. | D22: PUNTOS AL MAYOR VALOR DENTRO DEL RANGO | E22: Se califica el aumento adicional del porcentaje ofrecido. Bajo la definición del texto de la condición obligatoria | F22: =D26 -> 3
B23: Límite adicional al básico mayor al 15% y hasta el 20%. | D23: 0.5
B24: Límite adicional al básico mayor al 30% y hasta el 50%. | D24: 1
B25: Límite adicional al básico mayor al 60% y hasta el 80%. | D25: 2
B26: Límite adicional al básico mayor al 90% y hasta el 100%. | D26: 3
B27: HONORARIOS PROFESIONALES DE ABOGADOS, CONSULTORES, AUDITORES, INTERVENTORES, ETC: Sublímite 10% del límite asegurado. NOTA 1: Solo se acepta propuesta en los límites señados en los siguientes rangos. Ofrecimientos de otros valores diferentes serán evaluados con cero (0) puntos), excepto que sea superior al último rango. NOTA 2: Se otorga el máximo puntaje a la propuesta que dentro del rango se aproxime al máximo porcentaje requerido y las demas ofertas se calificaran en forma proporcional a la propuesta calificada con el máximo puntaje. | D27: PUNTOS AL MAYOR VALOR DENTRO DEL RANGO | E27: Se califica el aumento adicional del porcentaje ofrecido. Bajo la definición del texto de la condición obligatoria | F27: =+D31 -> 3
B28: Límite adicional al básico mayor al 15% y hasta el 20%. | D28: 1.5
B29: Límite adicional al básico mayor al 30% y hasta el 50%. | D29: 2
B30: Límite adicional al básico mayor al 60% y hasta el 80%. | D30: 2.5
B31: Límite adicional al básico mayor al 90% y hasta el 100%. | D31: 3
B32: COSTAS EN JUICIO, HONORARIOS PROFESIONALES Y SELECCIÓN DE PROFESIONALES PARA LA DEFENSA: Sublímite del 50% del límite asegurado. NOTA 1: Solo se acepta propuesta en los límites señados en los siguientes rangos. Ofrecimientos de otros valores diferentes serán evaluados con cero (0) puntos), excepto que sea superior al último rango. NOTA 2: Se otorga el máximo puntaje a la propuesta que dentro del rango se aproxime al máximo porcentaje requerido y las demas ofertas se calificaran en forma proporcional a la propuesta calificada con el máximo puntaje. | D32: PUNTOS AL MAYOR VALOR DENTRO DEL RANGO | E32: Se califica el aumento adicional del porcentaje ofrecido. Bajo la definición del texto de la condición obligatoria | F32: =+D36 -> 3
B33: Límite adicional al básico mayor al 60% y hasta el 70%. | D33: 1.5
B34: Límite adicional al básico mayor al 70% y hasta el 80%. | D34: 2
B35: Límite adicional al básico mayor al 80% y hasta el 90%. | D35: 2.5
B36: Límite adicional al básico mayor al 90% y hasta el 100%. | D36: 3
B37: ANTICIPO DE INDEMNIZACIÓN DEL 50%. NOTA: Si el aumento adicional del porcentaje de anticipo es condicionado a la demostración de la ocurrencia y cuantía, se califica con cero (0) puntos este factor. | D37: PUNTOS AL MAYOR VALOR DENTRO DEL RANGO | E37: Se califica el aumento adicional del porcentaje ofrecido. Bajo la definición del texto de la condición obligatoria y sin estar condicionada a la demostración de ocurrencia y cuantía. | F37: 3
B38: MÁXIMO CALIFICACIÓN | F38: =SUM(F17:F37) -> 30 | G38: CALIFICACIÓN DEL OFERENTE | H38: =SUM(H17:H37) -> 0
B39: By: Tiger | H39: =+'METODOLOGÍA DE EVALUACIÓN'!G10 -> VERSIÓN: AGOSTO 2026

Sheet G1. COND ADIC. RCE
B3: MUNICIPIO DE CALDAS
B5: Formato No 3. Condiciones tecnicas adicionales
B6: GRUPO No. 1
B7: 3. PÓLIZA DE SEGURO DE RESPONSABILIDAD CIVIL EXTRACONTRACTUAL
B8: OBJETO DEL SEGURO
B9: Amparar los perjuicios patrimoniales y extrapatrimoniales que cause el MUNICIPIO DE CALDAS como consecuencia de la Responsabilidad Civil Extracontractual originada dentro o fuera de sus instalaciones, en el desarrollo de sus actividades o en lo relacionado con ella, lo mismo que los actos de sus empleados y funcionarios o el personal para el apoyo a la gestión administrativa dentro y fuera del territorio nacional o por bienes que se encuentren bajo tenencia, control y/o responsabilidad . Nota: Se entenderán como terceros todos los servidores públicos, empleados y funcionarios permanentes, o temporales, o estudiantes en práctica o pasantias, o contratistas, o subcontratistas, o de personas voluntarias que presten servicios al asegurado, incluyendo miembros de las Directivas y cada una de las personas que circulen, ingresen, accedan o se encuentren en los predios de asegurado o por los cuales es responsable en su aseguramiento, independientemente que el asegurado le esté prestando un servicio objeto de su razón social.
B10: INFORMACIÓN GENERAL:
B11: TOMADOR: | C11: =+B3 -> MUNICIPIO DE CALDAS | G11: NIT. | H11: 890.980.447-1
B12: ASEGURADO: | C12: =+C11 -> MUNICIPIO DE CALDAS | G12: NIT. | H12: =+H11 -> 890.980.447-1
B13: BENEFICIARIOS: | C13: TERCEROS AFECTADOS
B14: NOTA: | C14: CADA SUBLÍMITE O GASTOS OFRECIDOS EN FORMA ADICIONAL QUEDA CONTEMPLADO DENTRO DEL LÍMITE ASEGURADO.
B15: CRITERIOS DE EVALUACIÓN:
B16: CONDICIÓN REQUERIDA PARA EVALUACIÓN | E16: CRITERIO DE EVALUACIÓN | F16: PUNTAJE ESTABLECIDO | G16: OFRECIMIENTO DEL OFERENTE | H16: PUNTAJE OBTENIDO POR EL OFERENTE
B17: INCREMENTO DEL LÍMITE BÁSICO PARA LA COBERTURA DE RESPONSABILIDAD CIVIL EXTRACONTRACTUAL $11.000.000.000 Evento / agregado anual NOTA 1: Solo se acepta propuesta en los límites señados en los siguientes rangos. Ofrecimientos de otros valores diferentes serán evaluados con cero (0) puntos), excepto que sea superior al último rango. NOTA 2: Se otorga el máximo puntaje a la propuesta que dentro del rango se aproxime al máximo sublímite requerido y las demas ofertas se calificaran en forma proporcional a la propuesta calificada con el máximo puntaje. | E17: Se califica el aumento adicional del límite asegurado. SIN COBRO DE PRIMA | F17: 13
B18: Rangos para el aumento del límite | D18: PUNTOS AL MAYOR VALOR DENTRO DEL RANGO
B19: Límite adicional al básico mayor a $300.000.000 y hasta $500.000.000 | D19: 1
B20: Límite adicional al básico mayor a $600.000.000 y hasta $1.000.000.000 | D20: 7
B21: Límite adicional al básico mayor a $1.500.000.000 y hasta $2.000.000.000 | D21: 13
B22: GASTOS MÉDICOS (sin aplicación de deducibles). Sublímite $100.000.000 evento y $200.000.000 agregado anual NOTA 1: Solo se acepta propuesta en los límites señados en los siguientes rangos. Ofrecimientos de otros valores diferentes serán evaluados con cero (0) puntos), excepto que sea superior al último rango. NOTA 2: Se otorga el máximo puntaje a la propuesta que dentro del rango se aproxime al máximo sublímite requerido y las demas ofertas se calificaran en forma proporcional a la propuesta calificada con el máximo puntaje. | E22: Se califica el aumento adicional del límite asegurado. SIN COBRO DE PRIMA, así:
B23: Rangos para el sublímite por evento | D23: PUNTOS AL MAYOR VALOR DENTRO DEL RANGO | E23: Se califica el aumento adicional del sublímite evento. | F23: 4
B24: Límite adicional al básico mayor a $50.000.000 y hasta $100.000.000 | D24: 1
B25: Límite adicional al básico mayor a $120.000.000 y hasta $200.000.000 | D25: 3
B26: Límite adicional al básico mayor a $250.000.000 y hasta $350.000.000 | D26: 4
B27: Rangos para el sublímite agregado anual | D27: PUNTOS AL MAYOR VALOR DENTRO DEL RANGO | E27: Se califica el aumento adicional del sublímite agregado anual. | F27: 4
B28: Límite adicional al básico mayor a $50.000.000 y hasta $100.000.000 | D28: 1
B29: Límite adicional al básico mayor a $120.000.000 y hasta $200.000.000 | D29: 3
B30: Límite adicional al básico mayor a $250.000.000 y hasta $400.000.000 | D30: 4
B31: RESPONSABILIDAD CIVIL PATRONAL Sublímite de $2,500.000.000 por evento y / $5.000.000.000 por vigencia NOTA 1: Solo se acepta propuesta en los límites señados en los siguientes rangos. Ofrecimientos de otros valores diferentes serán evaluados con cero (0) puntos), excepto que sea superior al último rango. NOTA 2: Se otorga el máximo puntaje a la propuesta que dentro del rango se aproxime al máximo sublímite requerido y las demas ofertas se calificaran en forma proporcional a la propuesta calificada con el máximo puntaje. | E31: Se califica el aumento adicional del límite asegurado. SIN COBRO DE PRIMA, así:
B32: Rangos para el sublímite por evento | D32: PUNTOS AL MAYOR VALOR DENTRO DEL RANGO | E32: Se califica el aumento adicional del sublímite evento. | F32: =+D35 -> 3
B33: Límite adicional al básico mayor a $300.000.000 y hasta $400.000.000 | D33: 1.5
B34: Límite adicional al básico mayor a $500.000.000 y hasta $700.000.000 | D34: 2.4
B35: Límite adicional al básico mayor a $800.000.000 y hasta $1.000.000.000 | D35: 3
B36: Rangos para el sublímite por vigencia | D36: PUNTOS AL MAYOR VALOR DENTRO DEL RANGO | E36: Se califica el aumento adicional del sublímite vigencia. | F36: =+D39 -> 3
B37: Límite adicional al básico mayor a $300.000.000 y hasta $400.000.000 | D37: 1.5
B38: Límite adicional al básico mayor a $500.000.000 y hasta $700.000.000 | D38: 2.4
B39: Límite adicional al básico mayor a $800.000.000 y hasta $1.000.000.000 | D39: 3
B40: ANTICIPO DE INDEMNIZACIÓN DEL 50%. NOTA: Si el aumento adicional del porcentaje de anticipo es condicionado a la demostración de la ocurrencia y cuantía, se califica con cero (0) puntos este factor. | E40: Se califica el aumento adicional del porcentaje ofrecido. Bajo la definición del texto de la condición obligatoria y sin estar condicionada a la demostración de ocurrencia y cuantía. | F40: 3
B41: MÁXIMO CALIFICACIÓN | F41: =SUM(F17:F40) -> 30 | G41: CALIFICACIÓN DEL OFERENTE | H41: =SUM(H17:H40) -> 0
B42: By: Tiger | H42: =+'METODOLOGÍA DE EVALUACIÓN'!G10 -> VERSIÓN: AGOSTO 2026

Sheet G2 . COND ADIC. RCSP
B3: ='G1. COND ADIC. RCE'!B3 -> MUNICIPIO DE CALDAS
B5: Formato No 3. Condiciones tecnicas adicionales
B6: GRUPO No. 1
B7: 3. PÓLIZA DE RESPONSABILIDAD CIVIL SERVIDORES PÚBLICOS
B8: OBJETO DEL SEGURO
B9: Amparar los perjuicios patrimoniales causados a terceros y/o al MUNICIPIO DE CALDAS provenientes de la responsabilidad civil de los servidores públicos y/o funcionarios con regímenes de responsabilidad similares a los de los servidores públicos, en el desempeño de las funciones de los cargos asegurados, por toda acción u omisión, correcta o incorrecta, culposa, real o presunta, así como los perjuicios que les sean imputable y los ocasionados por juicios de responsabilidad fiscal. Amparar los gastos de defensa (tales como, pero sin limitarse a: honorarios profesionales de abogados defensores, gastos y costas procesales y cauciones judiciales) según los límites por etapas procesales establecidos en este documento, en todo tipo de procesos, incluidos, pero sin limitarse a: procesos fiscales, procesos disciplinarios, procesos penales siempre que se trate de delitos no dolosos, procesos civiles, procesos administrativos (incluidos los de reparación directa); indagaciones, investigaciones preliminares, procesos internos y cualquier otro en los que se discuta la responsabilidad correspondiente a los cargos asegurados y en general los incurridos para defenderse en cualquier tipo de investigación o proceso adelantados por organismos oficial de vigilancia y control o entes de investigación según los límites por: tipos de procesos y etapas procesales establecidos en este documento.
B10: INFORMACIÓN GENERAL:
B11: TOMADOR: | C11: =+B3 -> MUNICIPIO DE CALDAS | G11: NIT. | H11: =+'G1. COND ADIC. TRDMC'!H11 -> 890980447-1
B12: ASEGURADO: | C12: NOMBRE DE LA ENTIDAD Y/O CARGOS ASEGURADOS | G12: NIT. | H12: =+H11 -> 890980447-1
B13: BENEFICIARIO: | C13: NOMBRE DE LA ENTIDAD Y/O CARGOS ASEGURADOS Y/O TERCEROS AFECTADOS | G13: NIT. | H13: =+H11 -> 890980447-1
B14: NOTA: | C14: CADA SUBLÍMITE O GASTOS OFRECIDOS EN FORMA ADICIONAL QUEDA CONTEMPLADO DENTRO DEL LÍMITE ASEGURADO.
B15: CRITERIOS DE EVALUACIÓN:
B16: CONDICIÓN REQUERIDA PARA EVALUACIÓN | E16: CRITERIO DE EVALUACIÓN | F16: PUNTAJE ESTABLECIDO | G16: OFRECIMIENTO DEL OFERENTE | H16: PUNTAJE OBTENIDO POR EL OFERENTE
B17: INCREMENTO DEL LÍMITE BÁSICO PARA LA COBERTURA DE PERJUICIOS O DETRIMENTO PATRIMONIAL. | E17: Se califica el aumento adicional del límite asegurado, únicamente relacionados en la tabla de rangos en la condición requerida para la evaluación. SIN COBRO DE PRIMA | F17: 7
B18: Límite de $1.000.000.000 evento /agregado anual. Incluido los Gastos de Defensa. NOTA: Solo se acepta propuesta en los límites señados en los siguientes rangos. Ofrecimientos de otros valores diferentes serán evaluados con cero (0) puntos), excepto que sea superior al último rango. | D18: PUNTOS
B19: Ofrecimiento adicional superior a $400.000.000 y hasta $600.000.000 | D19: 1
B20: Ofrecimiento adicional superior a $700.000.000 y hasta $1.000.000.000 | D20: 2
B21: Ofrecimiento adicional superior a $1.5000.000.000 y hasta $2.000.000.000 | D21: 5
B22: Ofrecimiento adicional superior a $3.000.000.000 y hasta $5.000.000.000 | D22: 7
B23: INCREMENTO DEL LÍMITE BÁSICO PARA LA COBERTURA DE GASTOS DE DEFENSA. Incluidos en el límite de Perjuicios o Detrimento Patrimonial sin cobro de prima. NOTA: Solo se acepta propuesta en los límites señados en los siguientes rangos. Ofrecimientos de otros valores diferentes serán evaluados con cero (0) puntos), excepto que sea superior al último rango. | E23: Se califica el aumento adicional del límite asegurado, únicamente relacionados en la tabla de rangos en la condición requerida para la evaluación. SIN COBRO DE PRIMA | F23: 7
B24: Límite de $500.000.000 evento / agregado anual. Incluidos en el límite de Perjuicios o Detrimento Patrimonial sin cobro de prima. | D24: PUNTOS
B25: Ofrecimiento adicional de $100.000.000 al límite básico. | D25: 1
B26: Ofrecimiento adicional de $300.000.000 al límite básico. | D26: 2
B27: Ofrecimiento adicional de $500.000.000 al límite básico. | D27: 4
B28: Ofrecimiento adicional de $800.000.000 al límite básico. | D28: 6
B29: Ofrecimiento adicional de $1.000.000.000 al límite básico. | D29: 7
B30: INCREMENTO DEL SUBLÍMITE DE GASTOS DE DEFENSA EN LOS PROCESOS DE INDAGACIÓN O INVESTIGACIONES PRELIMINARES o INDAGACIONES PREVIAS Y EN LA VINCULACIÓN PROCESAL HASTA FALLO QUE HAGA TRANSITO A COSA JUZGADA Incluidos en el límite de Perjuicios o Detrimento Patrimonial sin cobro de prima. | E30: Se califica el aumento adicional del límite asegurado conforme los valores indicados en los rangos. Salvo que sea superior al último rango para lo cual se calificara con el mayor puntaje del rango y los demás por regla de tres SIN COBRO DE PRIMA | F30: 7
B31: SUBLÍMITE POR CARGO ASEGURADO
B32: El sublímite ofertado debe ser una cifra única aplicable para cada uno de los cargos asegurados | D32: PUNTOS
B33: Límite adicional al básico: $10.000.000 evento /vigencia | D33: 2
B34: Límite adicional al básico: $20.000.000 evento /vigencia | D34: 4
B35: Límite adicional al básico: $50.000.000 evento /vigencia | D35: 7
B36: ANTICIPO DE INDEMNIZACIÓN PARA EL PAGO DE HONORARIOS DEL 50%. NOTA: Si el aumento adicional del porcentaje de anticipo es condicionado a la demostración de la ocurrencia y cuantía, se califica con cero (0) puntos este factor. | E36: Se califica el aumento adicional del porcentaje ofrecido. Bajo la definición del texto de la condición obligatoria y sin estar condicionada a la demostración de ocurrencia y cuantía. | F36: 1
B37: NOTIFICACIÓN DE HECHOS O CIRCUNSTANCIAS. Si durante la vigencia de la póliza o del periodo extendido de reclamaciones, un asegurado o la entidad tomadora tuvieren conocimiento de cualquier hecho o circunstancia que razonablemente pudiera dar lugar en el futuro, a un siniestro o a generar una reclamación, los asegurados y/o la entidad tomadora, según fuere el caso, darán aviso a la compañía de seguros antes de la terminación de la vigencia de la póliza. En caso que con posterioridad a la terminación de la vigencia de la póliza efectivamente se formalice una reclamación derivada de los hechos o circunstancias que fueron notificados a la compañía de seguros en la forma establecida en esta cláusula, dicha reclamación se considerará presentada por primera vez en el mismo momento en que los hechos y circunstancias que la originaron fueron debidamente notificados o avisados a la aseguradora, razón por la cual la cobertura procederá bajo la póliza que se encontraba vigente en ese momento. | E37: Se califica el otorgamiento de esta condición | F37: 2
B38: EXTENSIÓN DE COBERTURA PARA PAGO DE MULTAS Y SANCIONES ADMINISTRATIVAS O TRIBUTARIAS (incluido en el límite de detrimento patrimonial) Se amparan los pagos de multas y sanciones de carácter administrativo o tributarias o indemnizaciones impuestas por cualquier organismo de control, siempre que la acción que da origen a la multa o sanción administrativa, tributaria o indemnización, que se derive de un acto incorrecto (error, omisión o negligencia) cometido sin dolo. Se extiende esta condición a los gastos en los que se discuta la imposición de multas y sanciones de carácter administrativo y tributario contra algún funcionario asegurado. | E38: Se califica el otorgamiento de esta condición | F38: 2
B39: Ofrecimiento de un sublímite de $50.000.000 evento /a gregado anual | D39: 0.5
B40: Ofrecimiento de un sublímite de $75.000.000 evento /a gregado anual | D40: 1
B41: Ofrecimiento de un sublímite de $100.000.000 evento /a gregado anual | D41: 1.5
B42: Ofrecimiento de un sublímite de $150.000.000 evento /a gregado anual | D42: 1.75
B43: Ofrecimiento de un sublímite de $200.000.000 evento /a gregado anual | D43: 2
...

Sheet G3. COND ADIC. IRF
B3: MUNICIPIO DE CALDAS
B5: Formato No 3. Condiciones tecnicas adicionales
B6: GRUPO No. 1
B7: 9. PÓLIZA DE INFIDELIDAD Y RIESGOS FINANCIEROS
B8: OBJETO DEL SEGURO
B9: Amparar al asegurado las pérdidas, gastos y daños como consecuencia de actos deshonestos o fraudulentos cometidos por empleados del asegurado, solos o en concurso con otros, o con terceros, con la intención manifiesta de hacer que el asegurado sufra dicha pérdida. Se extienen el objeto del seguro a amparar el patrimonio del asegurado por la pérdida o daños de bienes propios y no propios por los cuales el Asegurado sea responsable tales como dineros efectivo y dinero en todas sus formas y representaciones, títulos valores y cualquier
B10: INFORMACIÓN GENERAL:
B11: TOMADOR: | C11: =+B3 -> MUNICIPIO DE CALDAS | G11: NIT. | H11: 890980447-1
B12: ASEGURADO: | C12: =+C11 -> MUNICIPIO DE CALDAS | G12: NIT. | H12: =+H11 -> 890980447-1
B13: BENEFICIARIO: | C13: =+C11 -> MUNICIPIO DE CALDAS | G13: NIT. | H13: =+H11 -> 890980447-1
B14: NOTA: | C14: CADA SUBLÍMITE O GASTOS OFRECIDOS EN FORMA ADICIONAL QUEDA CONTEMPLADO DENTRO DEL LÍMITE ASEGURADO.
B15: CRITERIOS DE EVALUACIÓN:
B16: CONDICIÓN REQUERIDA PARA EVALUACIÓN | E16: CRITERIO DE EVALUACIÓN | F16: PUNTAJE ESTABLECIDO | G16: OFRECIMIENTO DEL OFERENTE | H16: PUNTAJE OBTENIDO POR EL OFERENTE
A17: 46235 | B17: INCREMENTO DEL LÍMITE ASEGURADO $1,500.000.000 EVENTO / AGREGADO ANUAL | E17: Se califica el aumento adicional del LÍMITE ASEGURADO SIN COBRO DE PRIMA ADICIONAL | F17: 15
B18: COBERTURA PARA COSTOS DE LIMPIEZA Sublímite de $350.000.000 Evento / Agregado Anual | E18: Se califica el aumento adicional del LÍMITE ASEGURADO SIN COBRO DE PRIMA ADICIONAL | F18: 5
B19: ANTICIPO DE INDEMNIZACIÓN DEL 50%. NOTA: Si el aumento adicional del porcentaje de anticipo es condicionado a la demostración de la ocurrencia y cuantía, se califica con cero (0) puntos este factor. | E19: Se califica el aumento adicional del porcentaje ofrecido. Bajo la definición del texto de la condición obligatoria y sin estar condicionada a la demostración de ocurrencia y cuantía. | F19: 5
B20: BONO POR NO RECLAMACIÓN DIEZ (10%) POR CIENTO Está entendido y acordado que se otorga un descuento 10% de bono por no reclamación, pagadero a la expiración como devolución de prima bruta. Queda expresamente convenido y aceptado que la aseguradora efectuará el pago de la devolución del monto a que tenga derecho la entidad asegurada, por concepto de la Cláusula de Bono por no Reclamación, sin sujetar el mismo a la renovación y/o prórroga de la póliza, con la misma aseguradora y/o reaseguradores siempre y cuando la vigencia sea mínimo de un año. De igual forma se acuerdo que la aseguradora presentará a la entidad asegurada la liquidación de la devolución correspondiente, dentro de los treinta (30) días siguientes a la fecha de vencimiento de cada período anual de la vigencia de la póliza previa certificación expedida por el asegurado a la expiración de la póliza de no conocimiento de hechos o circunstancias que puedan afectar la póliza. “Lo anterior sujeto a carta de liberación de responsabilidad por parte del asegurado”. | E20: Se califica el otorgamiento de Bono por No reclamación | F20: 3 | I20: SI ESTA EN BÁSICA SE ELIMINA Y SE REESTRUCTURA EL PUNTAJE
B21: OFRECIMIENTO DE ESTUDIO DE RIESGOS CON COSTO A CARGO DE LA ASEGURADORA (SURVEY) Las recomendaciones, sugerencias y/o demás aspectos que se deriven del resultado de este estudio, no generarán exigencia de implementación de medidas de prevención y/o control de riesgo, aplicación de garantías o cualquier tipo de compromiso para el asegurado, así como la modificación de las condiciones ofertadas. El estudio deberá realizarse dentro de la vigencia de la póliza, el cronograma en el que se indiquen las actividades que desarrollará para tal efecto y los funcionarios y/o firma externa que llevarán a cabo las mismas. | E21: Se califica el otorgamiento del Estudio de Riesgos | F21: 2 | I21: SI ESTA EN BÁSICA SE ELIMINA Y SE REESTRUCTURA EL PUNTAJE
B22: MÁXIMO CALIFICACIÓN | F22: =SUM(F17:F21) -> 30 | G22: CALIFICACIÓN DEL OFERENTE | H22: =SUM(H19:H21) -> 0 | I22: =+'G2 . COND ADIC. RCSP'!I50 -> 0
B23: By: Tiger | H23: =+'METODOLOGÍA DE EVALUACIÓN'!G10 -> VERSIÓN: AGOSTO 2026

Sheet VIDA CARGO FUNCIONARIOS
B3: MUNICIPIO DE CALDAS
B5: Formato No 3. Condiciones tecnicas adicionales
B6: GRUPO No. __2
B7: PÓLIZA DE SEGURO VIDA GRUPO ALCALDE; CONCEJALES Y PERSONERO
B8: OBJETO DEL SEGURO
B9: =+'[1]9. VIDA CARGO ELECCION POPULAR'!$B$11 -> Amparar al alcalde, concejales y Personero del municipio contra los riesgos de muerte por cualquier causa, incapacidad total y permanente, derivada de una enfermedad o accidente ocurrida a alguno de ellos, durante sus permanencia y funciones para lo cual fueron elegidos por la comunidad. El municipio debe adelantar la contratación de este seguro, según lo establecido por las leyes 617 de 2000 y 136 de 1994 y en consecuencia existe la obligación y necesidad de contratarlo en las mejores condiciones técnicas, económicas y jurídicas, lo cual justifica plenamente la contratación del seguro arriba indicado. No se deben aplicar preexistencias y no debe de existir límite de edad para el ingreso.
B10: INFORMACIÓN GENERAL:
B11: TOMADOR: | C11: =+B3 -> MUNICIPIO DE CALDAS | G11: NIT. | H11: 890.980.447-1
B12: ASEGURADO: | C12: =C11 -> MUNICIPIO DE CALDAS | G12: NIT. | H12: =+H11 -> 890.980.447-1
B13: BENEFICIARIOS: | C13: LOS DE LEY | G13: NIT. | H13: =+H11 -> 890.980.447-1
B14: NOTA: | C14: CADA SUBLÍMITE O GASTOS OFRECIDOS EN FORMA ADICIONAL QUEDA CONTEMPLADO DENTRO DEL LÍMITE ASEGURADO.
B15: CRITERIOS DE EVALUACIÓN:
B16: CONDICIÓN REQUERIDA PARA EVALUACIÓN | E16: CRITERIO DE EVALUACIÓN | F16: PUNTAJE ESTABLECIDO | G16: OFRECIMIENTO DEL PROPONENTE | H16: PUNTAJE OBTENIDO POR EL PROPONENTE
B17: RENTA DIARIA POR HOSPITALIZACIÓN POR ACCIDENTE Valor básico $150.000 por día | E17: Se califica el aumento adicional del sublímite Hasta un monto total de $400.000 incluido el básico | F17: 15
B18: AUXILIO FUNERARIO. LÍMITE $5.000.000 | E18: Se califica el aumento adicional del sublímite Hasta un monto total de $9.000.000 incluido el básico | F18: 15
B19: MÁXIMO CALIFICACIÓN | F19: =+F17+F18 -> 30 | G19: CALIFICACIÓN DEL PROPONENTE | H19: 0

Sheet VIDA TRABAJADOR OFICIAL
B3: MUNICIPIO DE CALDAS
B5: Formato No 3. Condiciones tecnicas adicionales
B6: GRUPO No. __2
B7: PÓLIZA DE SEGURO VIDA GRUPO TRABAJADORES OFICIALES
B8: OBJETO DEL SEGURO
B9: =+'[1]10. VG TRABAJADOR OFICIAL'!$B$11 -> Amparar los obreros del municipio contra los riesgos de muerte por cualquier causa, incapacidad total y permanente, derivada de una enfermedad o accidente ocurrida a alguno de ellos, durante sus permanencia y funciones. Se realiza la adquisición de esta póliza en cumplimiento de las obligaciones adquiridas por el municipio en la convención colectiva de trabajo del municipio de caldas y SINTRASEMA. El municipio debe adelantar la contratación de este seguro, según lo establecido por las leyes 617 de 2000 y 136 de 1994 y en consecuencia existe la obligación y necesidad de contratarlo en las mejores condiciones técnicas, económicas y jurídicas, lo cual justifica plenamente la contratación del seguro arriba indicado
B10: INFORMACIÓN GENERAL:
B11: TOMADOR: | C11: =+B3 -> MUNICIPIO DE CALDAS | F11: NIT. | G11: 890.980.447-1
B12: ASEGURADO: | C12: =+C11 -> MUNICIPIO DE CALDAS | F12: NIT. | G12: =+G11 -> 890.980.447-1
B13: BENEFICIARIOS: | C13: LOS DE LEY | F13: NIT. | G13: =+G11 -> 890.980.447-1
B14: NOTA: | C14: CADA SUBLÍMITE O GASTOS OFRECIDOS EN FORMA ADICIONAL QUEDA CONTEMPLADO DENTRO DEL LÍMITE ASEGURADO.
B15: CRITERIOS DE EVALUACIÓN:
B16: CONDICIÓN REQUERIDA PARA EVALUACIÓN | D16: CRITERIO DE EVALUACIÓN | E16: PUNTAJE ESTABLECIDO | F16: OFRECIMIENTO DEL PROPONENTE | G16: PUNTAJE OBTENIDO POR EL PROPONENTE
B17: RENTA DIARIA POR HOSPITALIZACIÓN POR ACCIDENTE Valor básico $100.000 por día | D17: Se califica el aumento adicional del sublímite Hasta un monto total de $400.000 incluido el básico | E17: 15
B18: AUXILIO FUNERARIO. LÍMITE $4.000.000 | D18: Se califica el aumento adicional del sublímite Hasta un monto total de $9.000.000 incluido el básico | E18: 15
B19: MÁXIMO CALIFICACIÓN | E19: =+E17+E18 -> 30 | F19: CALIFICACIÓN DEL PROPONENTE | G19: 0

Sheet ACCIDENTES PERSONALES
B3: MUNICIPIO DE CALDAS
B5: Formato No 3. Condiciones tecnicas adicionales
B6: GRUPO No. __2
B7: 8. PÓLIZA DE ACCIDENTES PERSONALES
B8: OBJETO DEL SEGURO
B9: Ampara los riesgos que se presenten durante el tiempo de cobertura que hayan tenido como causa real, necesaria, directa, y exclusiva, las heridas o lesiones corporales ocasionadas por la acción fortuita, repentina, violenta de una fuerza o agente externo ajeno a la voluntad o intención del grupo denominado patrulleritos del municipio de caldas, los cuales pueden ser designados de forma expresa o tácita de libre nombramiento. Estos patrulleros son colaboradores cívicos de la administración municipal, quienes no reciben remuneración alguna por su participación en el programa y quienes son elegidos y coordinados por la secretaría de movilidad del municipio de caldas. este programa se lleva a cabo con los niños, niñas y adolescentes del municipio, entre 8 y 16 años de edad y que se encuentren escolarizados.
B10: INFORMACIÓN GENERAL:
B11: TOMADOR: | C11: =+B3 -> MUNICIPIO DE CALDAS | F11: NIT. | G11: 890.980.447-1
B12: ASEGURADO: | C12: =+C11 -> MUNICIPIO DE CALDAS | F12: NIT. | G12: =+G11 -> 890.980.447-1
B13: BENEFICIARIOS: | C13: BENEFICIARIOS DE LA PÓLIZA
B14: CRITERIOS DE EVALUACIÓN:
B15: CONDICIÓN REQUERIDA PARA EVALUACIÓN | D15: CRITERIO DE EVALUACIÓN | E15: PUNTAJE ESTABLECIDO | F15: OFRECIMIENTO DEL PROPONENTE | G15: PUNTAJE OBTENIDO POR EL PROPONENTE
B16: COMPROMISO PARA EL PAGO DE LAS INDEMNIZACIONES Plazo de diez (10) días calendario | D16: Se califica en menor numero de dias | E16: 30
B17: MÁXIMO CALIFICACIÓN | E17: 30 | F17: CALIFICACIÓN DEL PROPONENTE | G17: 0
