Workbook
Name \0: #REF!
Name \0: #REF!
Name \00: #REF!
Name \a: #REF!
Name \a: #REF!
Name \AA: #REF!
Name \b: #REF!
Name \b: #REF!
Name \bb: #REF!
Name \c: #REF!
Name \d: #REF!
Name \e: #REF!
Name \EE: #REF!
Name \eliminar: #REF!
Name \eliminar1: #REF!
Name \g: #REF!
Name \g: #REF!
Name \i: #REF!
Name \k: #REF!
Name \L: #REF!
Name \m: #REF!
Name \m: #REF!
Name \n: #REF!
Name \n: #REF!
Name \ñ: #REF!
Name \p: #REF!
Name \PX: #REF!
Name \q: #REF!
Name \r: #REF!
Name \s: #REF!
Name \t: #REF!
Name \V: #REF!
Name \w: #REF!
Name \X: #N/A
Name \X: #N/A
Name \x: #REF!
Name \z: #REF!
Name _: #REF!
Name ___: #REF!
Name _________________________________________________AFC1: #REF!
Name _________________________________________________AFC3: #REF!
Name _________________________________________________AFC5: #REF!
Name _________________________________________________BGC1: #REF!
Name _________________________________________________BGC3: #REF!
Name _________________________________________________BGC5: #REF!
Name _________________________________________________CAC1: #REF!
Name _________________________________________________CAC3: #REF!
Name _________________________________________________CAC5: #REF!
Name _________________________________________________SBC1: #REF!
Name _________________________________________________SBC3: #REF!
Name _________________________________________________SBC5: #REF!
Name ________________________________________________AFC1: #REF!
Name ________________________________________________AFC3: #REF!
Name ________________________________________________AFC5: #REF!
Name ________________________________________________BGC1: #REF!
Name ________________________________________________BGC3: #REF!
Name ________________________________________________BGC5: #REF!
Name ________________________________________________CAC1: #REF!
Name ________________________________________________CAC3: #REF!
Name ________________________________________________CAC5: #REF!

Sheet F.M.
D2: DEAPRTAMENTO DEL HUILA MUNICIPIO DE OPORAPA
D4: =+INTERVENTORIA!D3 -> CONSTRUCCION, ADECUACION Y MEJORAMIENTO DEL POLIDEPORTIVO EN LA VEREDA EL CARMEN AREA RURAL DEL MUNICIPIO DE OPORAPA HUILA
B10: DESGLOSE FACTOR MULTIPLICADOR | F10: %
B12: A. | D12: VALOR BASE (Sueldo) | F12: 1
B13: A1. | D13: Subsidio de transporte | F13: 0.124
B14: B. | D14: PRESTACIONES SOCIALES | F14: =SUM(F15:F26) -> 0.72753333
C15: a. | D15: Cesantías | E15: (A/12) | F15: =1/12 -> 0.083333333
C16: b. | D16: Intereses sobre cesantía | E16: (A*12%) | F16: 0.01
C17: c. | D17: Prima anual | E17: (A/12) | F17: =F12/12 -> 0.083333333
C18: d. | D18: Caja de Compensación | E18: % A | F18: 0.04
C19: e. | D19: Subsidio de transporte | E19: % A | F19: 0.1246
C20: f. | D20: SENA | E20: % A | F20: 0.02
C21: g. | D21: ICBF | E21: % A | F21: 0.03
C22: h. | D22: Sistema de seguridad social : Salud | E22: % A | F22: 0.085
C23: i. | D23: Sistema de seguridad social : Pensión | E23: % A | F23: 0.12
C24: j. | D24: ARP personal | E24: % A | F24: 0.0696
C25: k. | D25: Vacaciones | E25: (15/360*100) | F25: =15/360 -> 0.041666667
C26: l. | D26: Dotación | E26: % A | F26: 0.02
B27: C. | D27: COSTOS INDIRECTOS | F27: =SUM(F28:F35) -> 0.1272
C28: a. | D28: Estampilla Pro-desarrollo | F28: 0.02
C29: b. | D29: Estampilla Pro-cultura | F29: 0.015
C30: c. | D30: Tasa Pro deporte y Recreación | F30: 0.015
C31: d. | D31: Estampilla Pro Desarrollo de la Universidad Surcolombiana | F31: 0.005
C32: e. | D32: Costos de Bienes y servicios | F32: 0.0007
C33: f. | D33: Reteica | F33: 0.004
C34: g. | D34: Reteiva | F34: 0.0285
C35: h. | D35: Publicación en gaceta | F35: 0.039
B37: D. | D37: GASTOS OFICINA DEL CONSULTOR | F37: =+SUM(F38:F41) -> 0.165
D38: Arriendo de oficina y servicios público | F38: 0.12
D39: Papelería y útiles de oficina | F39: 0.02
D40: Edición y elaboración de informes | F40: 0.015
D41: Fotocopias | F41: 0.01
B43: E. | D43: SUBTOTAL (A + A1 + B + C) | F43: =F27+F13+F14+F12+F37 -> 2.1437333
B44: F. | D44: HONORARIOS | E44: % A | F44: 0.1
D45: SUBTOTAL FM | F45: =ROUND(+F43+F44,2) -> 2.24
D46: FACTOR MULTIPLICADOR FINAL | F46: =+F45*100 -> 224
B51: Ing. JOSE DAVID VARGAS ARIAS | E51: VoBo. ALEJANDRO PARRA COLLAZOS
B52: INGENIERO CIVIL | E52: Secretario de Planeación

Sheet INTERVENTORIA
D1: REPUBLICA DE COLOMBIA DEPARTAMENTO DEL HUILA MUNICIPIO DE OPORAPA
D3: =+'Presupuesto INDERHUILA'!A7 -> CONSTRUCCION, ADECUACION Y MEJORAMIENTO DEL POLIDEPORTIVO EN LA VEREDA EL CARMEN AREA RURAL DEL MUNICIPIO DE OPORAPA HUILA
D6: PRESUPUESTO GENERAL DE INTERVENTORÍA
B9: CONCEPTO | D9: CANTIDAD | E9: SUELDO MES BASICO | F9: % DE DEDICACION | G9: FM % | H9: VALORES MES | I9: No MESES | J9: TOTAL PARCIAL
B10: PERSONAL PROFESIONAL
B11: DIRECTOR DE INTERVENTORÍA | D11: 1 | E11: 4000000 | F11: 0.3 | G11: 2.24 | H11: =ROUND(E11*F11*G11*D11,0) -> 2688000 | I11: 4 | J11: =ROUND(H11*I11,0) -> 10752000 | M11: =+G11/100 -> 0.0224
B12: RESIDENTE DE INTERVENTORÍA | D12: 1 | E12: 3000000 | F12: 1 | G12: =+G11 -> 2.24 | H12: =E12*F12*G12*D12 -> 6720000 | I12: 4 | J12: =ROUND(H12*I12,0) -> 26880000
B13: SUBTOTAL COSTO PERSONAL PROFESIONAL | J13: =SUM(J11:K12) -> 37632000
B14: PROFESIONAL TECNICO
B15: ESPECIALISTA EN ESTRUCTURAS | D15: 1 | E15: 4500000 | F15: 0.2 | G15: =+G12 -> 2.24 | H15: =E15*F15*G15*D15 -> 2016000 | I15: 4 | J15: =ROUND(H15*I15,0) -> 8064000
B16: SUBTOTAL COSTO PERSONAL TECNICO | J16: =SUM(J15:K15) -> 8064000
B17: OTROS COSTOS DIRECTOS
B18: CONCEPTO | F18: UNIDAD | G18: CANTIDAD | H18: VALOR UNITARIO | I18: VALOR TOTAL
B19: Ensayos de Resistencia concreto (Toma, Trasporte y Rotura) | F19: UNIDAD | G19: 20 | H19: 138571.85 | I19: =H19*G19 -> 2771437
B21: SUBTOTAL COSTO PERSONAL TECNICO | I21: =SUM(I19:K20) -> 2771437
B23: COSTO TOTAL | I23: =I21+J16+J13 -> 48467437
B24: IVA 19% | I24: =ROUND(I23*0.19,0) -> 9208813
B25: VALOR TOTAL DE LA INTERVENTORIA | I25: =I23+I24 -> 57676250
L27: =+'Presupuesto INDERHUILA'!G80 -> 57676250
L29: =+L27-I25 -> 0.025200002
C30: Ing. JOSE DAVID VARGAS ARIAS | F30: VoBo. ALEJANDRO PARRA COLLAZOS | L30: =+L29/1.19 -> 0.021176472
C31: INGENIERO CIVIL | F31: Secretario de Planeación | L31: =+L30/20 -> 0.0010588236

Sheet Presupuesto INDERHUILA
A1: DEPARTAMENTO DEL HUILA
A2: MUNICIPIO DE OPORAPA
A5: PRESUPUESTO GENERAL
A7: CONSTRUCCION, ADECUACION Y MEJORAMIENTO DEL POLIDEPORTIVO EN LA VEREDA EL CARMEN AREA RURAL DEL MUNICIPIO DE OPORAPA HUILA
C8: MUNICIPIO: | E8: OPORAPA
C9: LUGAR: | E9: VDA EL CARMEN
C10: FECHA: | E10: MAYO DE 2026
A12: ITEM | B12: DESCRIPCION | C12: UNIDAD | D12: CANTIDAD | E12: V/R. UNITARIO | F12: V/PARCIAL | G12: V/R. TOTAL | L12: PRESUPUESTO INDERHUILA | M12: PRESUPUESTO MUNICIPIO
A13: 1 | B13: PRELIMINARES | G13: =ROUND(SUM(F14:F20),0) -> 51343079 | H13: =ROUND(G13*0.3,0) -> 15402924 | I13: =ROUND(H13+G13,0) -> 66746003 | K13: =+I13-'[4]PRESUPUESTO OFICIAL (Entidad)'!$K$17 -> 692.32 | L13: =G13 -> 51343079
A14: 1.1 | B14: Localización y replanteo | C14: M2 | D14: 570.25 | E14: =+'APU1.1'!H29 -> 2721 | F14: =ROUND(D14*E14,0) -> 1551650 | H14: =ROUND(E14*0.3,0) -> 816 | I14: =+H14+E14 -> 3537 | J14: =ROUND(D14*I14,0) -> 2016974 | L14: =F14 -> 1551650
A15: 1.2 | B15: Excavación manual en material común con retiro de sobrantes. | C15: M3 | D15: 140.55 | E15: =+'APU1.2'!H29 -> 85310 | F15: =ROUND(D15*E15,0) -> 11990321 | H15: =ROUND(E15*0.3,0) -> 25593 | I15: =+H15+E15 -> 110903 | J15: =ROUND(D15*I15,0) -> 15587417 | L15: =F15 -> 11990321
A16: 1.3 | B16: Excavación mecanica para explanación a todo factor. Incluye Retiro | C16: M3 | D16: 102.52 | E16: =+'APU1.3'!H33 -> 70703 | F16: =ROUND(D16*E16,0) -> 7248472 | H16: =ROUND(E16*0.3,0) -> 21211 | I16: =+H16+E16 -> 91914 | J16: =ROUND(D16*I16,0) -> 9423023 | L16: =F16 -> 7248472
A17: 1.4 | B17: Relleno en recebo compactado PM 95% | C17: M3 | D17: 107.16 | E17: =+'APU1.4'!H30 -> 124149 | F17: =ROUND(D17*E17,0) -> 13303807 | H17: =ROUND(E17*0.3,0) -> 37245 | I17: =+H17+E17 -> 161394 | J17: =ROUND(D17*I17,0) -> 17294981 | L17: =F17 -> 13303807
A18: 1.5 | B18: Demolición de piso en concreto. Incluye Retiro | C18: M3 | D18: 402 | E18: =+'APU1.5'!G27 -> 32627 | F18: =ROUND(D18*E18,0) -> 13116054 | H18: =ROUND(E18*0.3,0) -> 9788 | I18: =+H18+E18 -> 42415 | J18: =ROUND(D18*I18,0) -> 17050830 | L18: =F18 -> 13116054
A19: 1.6 | B19: Desmonte de malla eslabonada | C19: M2 | D19: 60.79 | E19: =+'APU1.6'!F29 -> 27214 | F19: =ROUND(D19*E19,0) -> 1654339 | H19: =ROUND(E19*0.3,0) -> 8164 | I19: =+H19+E19 -> 35378 | J19: =ROUND(D19*I19,0) -> 2150629 | L19: =F19 -> 1654339
A20: 1.7 | B20: Retiro de postes existentes, incluye demolición y retiro de cimentación, acometida, lamparas, crucetas y demás elementos | C20: Und | D20: 2 | E20: =+'APU1.7'!F32 -> 1239218 | F20: =ROUND(D20*E20,0) -> 2478436 | H20: =ROUND(E20*0.3,0) -> 371765 | I20: =+H20+E20 -> 1610983 | J20: =ROUND(D20*I20,0) -> 3221966 | L20: =F20 -> 2478436
A21: 2 | B21: CONSTRUCCION DE ESTRUCTURA EN CONCRETO | G21: =ROUND(SUM(F22:F32),0) -> 231335130 | H21: =ROUND(G21*0.3,0) -> 69400539 | I21: =+H21+G21 -> 300735669 | J21: =ROUND(D21*I21,0) -> 0 | K21: =+I21-'[4]PRESUPUESTO OFICIAL (Entidad)'!$K$30 -> -483.25 | L21: =G21 -> 231335130
A22: 2.1 | B22: Viga de cimiento en concreto de 3000 PSI | C22: M3 | D22: 7.98 | E22: =+'APU2.1'!G27 -> 1107042 | F22: =ROUND(D22*E22,0) -> 8834195 | H22: =ROUND(E22*0.3,0) -> 332113 | I22: =+H22+E22 -> 1439155 | J22: =ROUND(D22*I22,0) -> 11484457 | L22: =F22 -> 8834195
A23: 2.2 | B23: Placa en concreto de 3000 PSI, e=0.10 mts incluye malla electrosoldada 6mm; Huecos 15x15 cm | C23: M2 | D23: 510.98 | E23: =+'APU2.2'!F29 -> 146942 | F23: =ROUND(D23*E23,0) -> 75084423 | H23: =ROUND(E23*0.3,0) -> 44083 | I23: =+H23+E23 -> 191025 | J23: =ROUND(D23*I23,0) -> 97609955 | L23: =F23 -> 75084423
A24: 2.3 | B24: Concreto Zapatas de 3000 PSI | C24: M3 | D24: 27.68 | E24: =+'APU2.3'!G27 -> 953042 | F24: =ROUND(D24*E24,0) -> 26380203 | H24: =ROUND(E24*0.3,0) -> 285913 | I24: =+H24+E24 -> 1238955 | J24: =ROUND(D24*I24,0) -> 34294274 | L24: =F24 -> 26380203
A25: 2.4 | B25: Columna en concreto de 3000 PSI | C25: M3 | D25: 8.06 | E25: =+'APU2.4'!G27 -> 1458168 | F25: =ROUND(D25*E25,0) -> 11752834 | H25: =ROUND(E25*0.3,0) -> 437450 | I25: =+H25+E25 -> 1895618 | J25: =ROUND(D25*I25,0) -> 15278681 | L25: =F25 -> 11752834
A26: 2.5 | B26: Viga aerea en concreto de 3000 PSI | C26: M3 | D26: 6.79 | E26: =+'APU2.5'!G27 -> 1516977 | F26: =ROUND(D26*E26,0) -> 10300274 | H26: =ROUND(E26*0.3,0) -> 455093 | I26: =+H26+E26 -> 1972070 | J26: =ROUND(D26*I26,0) -> 13390355 | L26: =F26 -> 10300274
A27: 2.6 | B27: Cuneta A. LL. en concreto de 3000 psi a= 0.50 mt. Incluye: tapa en madera plástica | C27: Ml | D27: 55.12 | E27: =+'APU2.6'!G26 -> 222737 | F27: =ROUND(D27*E27,0) -> 12277263 | H27: =ROUND(E27*0.3,0) -> 66821 | I27: =+H27+E27 -> 289558 | J27: =ROUND(D27*I27,0) -> 15960437 | L27: =F27 -> 12277263
A28: 2.7 | B28: Acero de refuerzo 60.000 PSI | C28: Kg. | D28: 7766.29 | E28: =+'APU2.7'!F28 -> 9493 | F28: =ROUND(D28*E28,0) -> 73725391 | H28: =ROUND(E28*0.3,0) -> 2848 | I28: =+H28+E28 -> 12341 | J28: =ROUND(D28*I28,0) -> 95843785 | L28: =F28 -> 73725391
A29: 2.8 | B29: Caja de inspección de 0,80*0,80 m en concreto de 3000 PSI para sistema de agua lluvias | C29: UND | D29: 2 | E29: =+'APU2.8'!F29 -> 443933 | F29: =ROUND(D29*E29,0) -> 887866 | H29: =ROUND(E29*0.3,0) -> 133180 | I29: =+H29+E29 -> 577113 | J29: =ROUND(D29*I29,0) -> 1154226 | L29: =F29 -> 887866 | N29: unitario | O29: total
A30: 2.9 | B30: Concreto pobre de 2000 PSI para limpieza | C30: M3 | D30: 7.42 | E30: =+'APU2.9'!F24 -> 792361 | F30: =ROUND(D30*E30,0) -> 5879319 | H30: =ROUND(E30*0.3,0) -> 237708 | I30: =+H30+E30 -> 1030069 | J30: =ROUND(D30*I30,0) -> 7643112 | L30: =F30 -> 5879319 | N30: 80671 | O30: 6387530
A31: 2.1 | B31: Concreto ciclópeo, 60% en concreto de 2500 PSI, y 40% en piedra, para cerramiento | C31: M3 | D31: 3.73 | E31: =+'APU2.10'!G31 -> 760678 | F31: =ROUND(D31*E31,0) -> 2837329 | H31: =ROUND(E31*0.3,0) -> 228203 | I31: =+H31+E31 -> 988881 | J31: =ROUND(D31*I31,0) -> 3688526 | L31: =F31 -> 2837329 | N31: 730
A32: 2.11 | B32: Suministro e instalación de tuberia PVC de 6" sanitaria incluye accesorios. | C32: ML | D32: 36.7 | E32: =+'APU2.11'!G27 -> 91990 | F32: =ROUND(D32*E32,0) -> 3376033 | H32: =ROUND(E32*0.3,0) -> 27597 | I32: =+H32+E32 -> 119587 | J32: =ROUND(D32*I32,0) -> 4388843 | L32: =F32 -> 3376033
A33: 3 | B33: CONSTRUCCION DE CUBIERTA | G33: =ROUND(SUM(F34:F38),0) -> 246370579 | H33: =ROUND(G33*0.3,0) -> 73911174 | I33: =+H33+G33 -> 320281753 | J33: =ROUND(D33*I33,0) -> 0 | K33: =+I33-'[4]PRESUPUESTO OFICIAL (Entidad)'!$K$37 -> -174.362 | L33: =G33 -> 246370579
A34: 3.1 | B34: Suministro, fabricación e instalación de cubierta auto portante elaborada en sitio, con lamina de acero, color blanco almendra, calibre 22 galvanizado, prepintado y en grado 40, flecha al 20% con respecto al ancho a cubrir, tipo membrana (Sistema modular con secciones únicas y sin traslapo a lo ancho, unidas entre sí por medio de grafado mecánico). para placa de polideportivo. | C34: M2 | D34: 562.04 | E34: =+'APU3.1'!F29 -> 299476 | F34: =ROUND(D34*E34,0) -> 168317491 | H34: =ROUND(E34*0.3,0) -> 89843 | I34: =+H34+E34 -> 389319 | J34: =ROUND(D34*I34,0) -> 218812851 | L34: =F34 -> 168317491 | N34: =15100*D34 -> 8486804
A35: 3.2 | B35: Suministro e instalación de anclajes de canalón, compuesto por platina metálica de 30x45 e-3/8 ángulo de fijación a canal de 4"x1/4" L=0,25 m, 4 pernos de anclaje de 01/2 long= 0,10m, según diseño. | C35: UND | D35: 26 | E35: =+'APU3.2'!F30 -> 137468 | F35: =ROUND(D35*E35,0) -> 3574168 | H35: =ROUND(E35*0.3,0) -> 41240 | I35: =+H35+E35 -> 178708 | J35: =ROUND(D35*I35,0) -> 4646408 | L35: =F35 -> 3574168
A36: 3.3 | B36: Suministro e Instalación de canalón metálico de acero estructural con 3/16" de espesor (según diseño), una mano de pintura 3 en 1. | C36: ML | D36: 56.8 | E36: =+'APU3.3'!F30 -> 635386 | F36: =ROUND(D36*E36,0) -> 36089925 | H36: =ROUND(E36*0.3,0) -> 190616 | I36: =+H36+E36 -> 826002 | J36: =ROUND(D36*I36,0) -> 46916914 | L36: =F36 -> 36089925
A37: 3.4 | B37: Bajante aguas lluvias en PVC 4" incluye: Accesorios | C37: ML | D37: 36 | E37: =+'APU3.4'!F28 -> 85832 | F37: =ROUND(D37*E37,0) -> 3089952 | H37: =ROUND(E37*0.3,0) -> 25750 | I37: =+H37+E37 -> 111582 | J37: =ROUND(D37*I37,0) -> 4016952 | L37: =F37 -> 3089952
A38: 3.5 | B38: Cerramiento en malla eslabonada Calibre 10 con rombos de 2" , ángulo de 3/16"X1/4" y tubo galvanizado de 2" h= 3.0m, antepecho en ladrillo a la vista de h=0.40m, pedestal en concreto de 3000 PSI de 0.20x0.20m, viga cinta de 0.10x0.12m y viga de cimiento de ,25x,25 incluye acero incluye acero 1/2 y estribos en 3/8" | C38: ML | D38: 41.41 | E38: =+'APU3.5'!F30 -> 852428 | F38: =ROUND(D38*E38,0) -> 35299043 | H38: =ROUND(E38*0.3,0) -> 255728 | I38: =+H38+E38 -> 1108156 | J38: =ROUND(D38*I38,0) -> 45888740 | L38: =F38 -> 35299043
A39: 4 | B39: CONSTRUCCIÓN DE ILUMINACIÓN POLIDEPORTIVO | G39: =ROUND(SUM(F41:F60),0) -> 43295023 | H39: =ROUND(G39*0.3,0) -> 12988507 | I39: =+H39+G39 -> 56283530 | J39: =ROUND(D39*I39,0) -> 0 | K39: =+I39-'[4]PRESUPUESTO OFICIAL (Entidad)'!$K$60 -> -36 | L39: =G39 -> 43295023
A40: 4.1 | B40: ACOMETIDAS Y ALIMENTADORES EN BAJA TENSION | H40: =ROUND(E40*0.3,0) -> 0 | I40: =+H40+E40 -> 0 | J40: =ROUND(D40*I40,0) -> 0
A41: 4,1,1 | B41: Suministro e instalación de circuito de iluminacion en 2#12+1#12T a instalar en tuberia EMT y/o PVC 3/4". Incluye tubería, accesorios y todo lo necesario para su correcto funcionamiento | C41: ML | D41: 200 | E41: =+'APU4.1.1'!F29 -> 38115 | F41: =ROUND(D41*E41,0) -> 7623000 | H41: =ROUND(E41*0.3,0) -> 11435 | I41: =+H41+E41 -> 49550 | J41: =ROUND(D41*I41,0) -> 9910000 | L41: =F41 -> 7623000
A42: 4,1,2 | B42: Suministro e instalación de salida para tomacorriente. Incluye tubería aparato y todo lo necesario para su cortecto funcionamiento. | C42: UND | D42: 16 | E42: =+'APU4.1.2'!F29 -> 291624 | F42: =ROUND(D42*E42,0) -> 4665984 | H42: =ROUND(E42*0.3,0) -> 87487 | I42: =+H42+E42 -> 379111 | J42: =ROUND(D42*I42,0) -> 6065776 | L42: =F42 -> 4665984
A43: 4,1,3 | B43: Suministro e instalación de camaras de inspeccion de 0,6x0,6 mts para sistema eléctrico en concreto de 2500 PSI | C43: UND | D43: 1 | E43: =+'APU4.1.3'!F28 -> 620067 | F43: =ROUND(D43*E43,0) -> 620067 | H43: =ROUND(E43*0.3,0) -> 186020 | I43: =+H43+E43 -> 806087 | J43: =ROUND(D43*I43,0) -> 806087 | L43: =F43 -> 620067
A44: 4,1,4 | B44: Suministro e instalación de camaras de inspeccion de 0,4x0,4 mts para sistema eléctrico en concreto de 2500 PSI | C44: UND | D44: 1 | E44: =+'APU4.1.4'!F28 -> 488609 | F44: =ROUND(D44*E44,0) -> 488609 | H44: =ROUND(E44*0.3,0) -> 146583 | I44: =+H44+E44 -> 635192 | J44: =ROUND(D44*I44,0) -> 635192 | L44: =F44 -> 488609
...

Sheet A.I.U.
A1: REPUBLICA DE COLOMBIA
A2: DEPARTAMENTO DEL HUILA MUNICIPIO DE OPORAPA
A3: =+INTERVENTORIA!D3 -> CONSTRUCCION, ADECUACION Y MEJORAMIENTO DEL POLIDEPORTIVO EN LA VEREDA EL CARMEN AREA RURAL DEL MUNICIPIO DE OPORAPA HUILA
A4: ANALISIS A.I.U
A5: PRESUPUESTO OFICIAL COSTO DIRECTO DE OBRA | F5: =+'Presupuesto INDERHUILA'!G79 -> 823946435
A6: ÍTEM | B6: DESCRIPCIÓN | C6: CANTIDAD | D6: DEDICACIÓN | E6: TIEMPO (meses) | F6: VR. UNIT. | G6: FACTOR PRESTACIONAL | H6: VR. PARCIAL
A7: A | B7: ADMINISTRACIÓN | I7: =ROUND(SUM(I9:I34),2) -> 0.24
B8: PERSONAL PROFESIONAL
B9: Director de Obra | C9: 1 | D9: 0.6 | E9: 4 | F9: 4500000 | G9: 1.6079 | H9: =+C9*F9*E9*D9*G9 -> 17365320 | I9: =+H9/F5 -> 0.021075788
B10: Ingeniero Residente de Obra | C10: 1 | D10: 1 | E10: 4 | F10: 3500000 | G10: 1.7527 | H10: =+C10*F10*E10*D10*G10 -> 24537800 | I10: =+H10/F5 -> 0.029780819
B11: Especialista en estructuras | C11: 1 | D11: 0.5 | E11: 4 | F11: 4500000 | G11: 1.6079 | H11: =+C11*F11*E11*D11*G11 -> 14471100 | I11: =+H11/F5 -> 0.017563156
B12: PERSONAL AUXILIAR
B13: Secretaria | C13: 1 | D13: 0.6 | E13: 4 | F13: 1750905 | G13: 1.8002 | H13: =+C13*F13*E13*D13*G13 -> 7564750 | I13: =+H13/F5 -> 0.0091811187
B14: Almacenista | C14: 1 | D14: 0.6 | E14: 4 | F14: 1750905 | G14: 1.8002 | H14: =+C14*F14*E14*D14*G14 -> 7564750 | I14: =+H14/F5 -> 0.0091811187
B15: Auxiliar contable | C15: 1 | D15: 0.6 | E15: 4 | F15: 1750905 | G15: 1.8002 | H15: =+C15*F15*E15*D15*G15 -> 7564750 | I15: =+H15/F5 -> 0.0091811187
B16: IMPUESTOS
B17: Estampilla Pro-desarrollo | H17: =$F$5*I17 -> 16478929 | I17: 0.02
B18: Estampilla Pro-cultura | H18: =$F$5*I18 -> 12359197 | I18: 0.015
B19: Tasa Pro Deporte y recreacion | H19: =$F$5*I19 -> 12359197 | I19: 0.015
B20: Estampilla Pro Desarrollo de la universidad Surcolombiana | H20: =$F$5*I20 -> 4119732.2 | I20: 0.005
B21: Contibución de Obra Pública | H21: =$F$5*I21 -> 41197322 | I21: 0.05
B22: Costos de bienes y servicios | H22: 5800 | I22: =+(H22/F5) -> 7.0392925e-06
B23: Publicación en gaceta | H23: 315000 | I23: =+(H23/F5) -> 0.00038230641
B24: reica | H24: =$F$5*I24 -> 3295785.7 | I24: 0.004 | J24: colocar gaceta y otros
B25: GASTOS DE LEGALIZACION
B26: Polizas | H26: =$F$5*I26 -> 4943678.6 | I26: 0.006
B27: ADMINISTRACIÓN CENTRAL
B28: Ensayos de laboratorios (Toma, Trasporte y Rotura) | C28: 20 | F28: 150000 | H28: =+C28*F28 -> 3000000 | I28: =+H28/F5 -> 0.0036410134 | J28: =470000/4 -> 117500
B29: Alquiler Oficina | C29: 1 | E29: 4 | F29: 600000 | H29: =+C29*E29*F29 -> 2400000 | I29: =+H29/F5 -> 0.0029128107
B30: Registro fotográfico - informes | C30: 1 | E30: 4 | F30: 400000 | H30: =+C30*E30*F30 -> 1600000 | I30: =+H30/F5 -> 0.0019418738
B31: Registro elaboración planos record | C31: 1 | E31: 1 | F31: 600000 | H31: =+C31*E31*F31 -> 600000 | I31: =+H31/F5 -> 0.00072820268
B32: Alquiler de vehículo (incluye Conductor y combustible) | D32: 0.4 | E32: 4 | F32: 6000000 | H32: =+D32*E32*F32 -> 9600000 | I32: =+H32/F5 -> 0.011651243
B33: Gastos de mobiliario, papeleria, fotocopias, comunicaciones etc | C33: 1 | E33: 1 | F33: 3000000 | H33: =+C33*E33*F33 -> 3000000 | I33: =+H33/F5 -> 0.0036410134
A35: B | B35: IMPREVISTOS | I35: 0.01
A37: C | B37: UTILIDAD | I37: 0.05
B39: A.I.U | I39: =ROUND(I7+I35+I37,2) -> 0.3
B44: Ing. JOSE DAVID VARGAS ARIAS | E44: VoBo. ALEJANDRO PARRA COLLAZOS
B45: INGENIERO CIVIL | E45: Secretario de Planeación

Sheet INSUMOS
B2: Código | C2: ACTIVIDADES | D2: Unidad | E2: Valor Unitario
B3: A01 | C3: Puntilla 2" | D3: Lb
B4: A02 | C4: Cerco madera ,05*,10“3,00 | D4: Und
B5: A03 | C5: Pintura esmalte | D5: Galón
B6: A04 | C6: Volqueta 6m3 distancia hasta 10km | D6: viaje
B7: A05 | C7: Retroexcavadora de llantas | D7: Hr
B8: A06 | C8: Vibrocompactador manual tipo canguro | D8: día
B9: A07 | C9: Recebo | D9: m3
B10: A08 | C10: Gompresor 80 hp con martillo | D10: día
B11: A09 | C11: Grua | D11: día
B12: A10 | C12: Vibrador de concreto | D12: día
B13: A11 | C13: Cemento gris | D13: bulto
B14: A12 | C14: Arena | D14: m3
... B100: A98 | C100: Brocha de 3 " | D100: Und

Sheet Presta
B2: FACTOR PRESTACIONAL PARA EL SECTOR DE LA CONSTRUCCIÓN AÑO 2026
B4: FACTOR PRESTACIONAL SALARIO MENOR A 2 SMMLV
C5: MENSUAL | D5: DIARIO
B6: VALOR SALARIO MÍNIMO 2025 | C6: 1750905 | D6: =ROUND(C6/30,0) -> 58364 | E6: =+D6*1.7 -> 99218.8
B7: VALOR AUX. TRANSPORTE | C7: 249095 | D7: =ROUND(C7/30,0) -> 8303
B9: PRESTACIONES | C9: VALOR | D9: PORCENTAJE
B10: Salud | D10: 0.085
B11: Pensión | D11: 0.124
B12: Riesgos Profesionales | D12: 0.0696
B13: Auxilio Transporte (<2smmlv) | C13: =+C7 -> 249095 | D13: =+C13/(C13+C6) -> 0.1245475
B14: Dotación (<2smmlv) y haber trabajado 3 meses de manera ininterrumpida | C14: 153500 | D14: =(C14/C6)/4 -> 0.021917237
B15: Prima Servicios (1 salario x año) | D15: 0.0833
B16: Cesantías | D16: 0.0833
B17: Intereses Cesantías (12% del valor cesantías mensual) | D17: 0.12
B18: Vacaciones (laborado >1 mes) | D18: 0.0417
B19: Caja de Compensación | D19: 0.04
B20: Sena | D20: 0.02
B21: Icbf | D21: 0.03
B22: TOTAL | D22: =ROUND(SUM(D10:D21),2)+1 -> 1.84
B24: FACTOR PRESTACIONAL SALARIO MAYOR A 2 SMMLV
C25: MENSUAL | D25: DIARIO
B26: VALOR SALARIO MÍNIMO 2025 | C26: =+C6 -> 1750905 | D26: =ROUND(C26/30,0) -> 58364
B27: VALOR AUX. TRANSPORTE | C27: =+C7 -> 249095 | D27: =ROUND(C27/30,0) -> 8303
B29: PRESTACIONES | C29: VALOR | D29: PORCENTAJE
B30: Salud | D30: 0.085
B31: Pensión | D31: 0.12
B32: Riesgos Profesionales | D32: 0.0696
B33: Prima Servicios (1 salario x año) | D33: 0.0833
B34: Cesantías | D34: 0.0833
B35: Intereses Cesantías (12% del valor cesantías mensual) | D35: 0.12
B36: Vacaciones (laborado >1 mes) | D36: 0.0417
B37: Caja de Compensación | D37: 0.04
B38: Sena | D38: 0.02
B39: Icbf | D39: 0.03
B40: Exámenes médicos | D40: 0.02
B41: TOTAL | D41: =ROUND(SUM(D30:D40),2)+1 -> 1.71
B46: =+'CANTIDADES OBRA'!B170 -> JOSÉ DAVID VARGAS ARIAS | C46: =+'CANTIDADES OBRA'!I170 -> Vo.Bo. ALEJANDRO PARRA COLLAZOS
B47: =+'CANTIDADES OBRA'!B171 -> INGENIERO CIVIL | C47: =+'CANTIDADES OBRA'!I171 -> SEC DE PLANEACION

Sheet PRESTACIONES
A2: COSTO DE PRESTACIONES SOCIALES Y APORTES OBREROS DE CONSTRUCCIÓN
A3: 1 S.M.M.L.V.
A5: Salario mínimo legal año 2026 | F5: 1750905
A6: Auxilio de transporte año 2026 | F6: 249095
A7: Salario Diario Ayudante | F7: =ROUND(F5/30,0) -> 58364
A9: CONCEPTO | B9: % TOTAL | C9: APORTE EMPLEADOR | D9: APORTE EMPLEADO | E9: V/UNITARIO DÍA | F9: V/PARCIAL
A10: AYUDANTE | E10: =+F7 -> 58364 | F10: =+E10 -> 58364
A12: PRESTACIONES SOCIALES:
A13: Subsidio de Transporte | B13: 0.1423 | C13: 0.1423 | E13: =+E10 -> 58364 | F13: =ROUND(E13*B13,0) -> 8305
A14: Cesantías | B14: 0.0833 | C14: 0.0833 | E14: =+E10 -> 58364 | F14: =ROUND(E14*B14,0) -> 4862
A15: Intereses Cesantías | B15: 0.01 | C15: 0.01 | E15: =+E10 -> 58364 | F15: =ROUND(E15*B15,0) -> 584
A16: Prima Legal | B16: 0.0833 | C16: 0.0833 | E16: =+E10 -> 58364 | F16: =ROUND(E16*B16,0) -> 4862
A17: Vacaciones | B17: 0.0417 | C17: 0.0417 | E17: =+E10 -> 58364 | F17: =ROUND(E17*B17,0) -> 2434
A18: Salud | B18: 0.125 | C18: 0.085 | D18: 0.04 | E18: =+E10 -> 58364 | F18: =ROUND(E18*C18,0) -> 4961
A19: Pensiones | B19: 0.16 | C19: 0.12 | D19: 0.04 | E19: =+E10 -> 58364 | F19: =ROUND(E19*C19,0) -> 7004
A20: Riesgo Profesionales R5 | B20: 0.0696 | C20: 0.0696 | E20: =+E10 -> 58364 | F20: =ROUND(E20*B20,0) -> 4062
A21: SUB TOTAL | B21: =+SUM(B13:B20) -> 0.7152 | C21: =+SUM(C13:C20) -> 0.6352 | D21: =+SUM(D13:D20) -> 0.08
A23: APORTES PARAFISCALES
A24: Cajas de compensación Familiar | B24: 0.04 | C24: 0.04 | E24: =+E10 -> 58364 | F24: =ROUND(E24*B24,0) -> 2335
A25: SENA | B25: 0.02 | C25: 0.02 | E25: =+E10 -> 58364 | F25: =ROUND(E25*B25,0) -> 1167
A26: ICBF | B26: 0.03 | C26: 0.03 | E26: =+E10 -> 58364 | F26: =ROUND(E26*B26,0) -> 1751
A27: FIC | B27: 0.025 | C27: 0.025 | E27: =+E10 -> 58364 | F27: =ROUND(E27*B27,0) -> 1459
A28: SUBTOTAL | B28: =+SUM(B24:B27) -> 0.115 | C28: =+SUM(C24:C27) -> 0.115 | D28: =+SUM(D24:D27) -> 0
A30: OTROS
A31: Vestido de labor C.S.T. Art.230 Mod. Ley 11/84 art.7 | B31: 0.05 | C31: 0.05 | E31: =+E10 -> 58364 | F31: =ROUND(E31*B31,0) -> 2918
A32: TOTAL | B32: =+B21+B28+B31 -> 0.8802 | C32: =C21+C28+C31 -> 0.8002 | D32: =+D21+D28 -> 0.08
A33: VALOR UNITARIO | E33: DIA | F33: =+SUM(F10:F31) -> 105068
A34: VALOR UNITARIO | E34: Hora/Hombre | F34: =ROUND(F33/8,0) -> 13134
A37: COSTO DE PRESTACIONES SOCIALES Y APORTES OBREROS DE CONSTRUCCIÓN
A38: > A 1 S.M.M.L.V. Y <= A 2 S.M.M.L.V.
A40: Salario mínimo legal año 2026 | F40: 1750905
A41: 1,5 Salario mínimo legal año 2026 | F41: =+F40*1.5 -> 2626357.5
A42: Auxilio de transporte año 2026 | F42: 249095
A44: CONCEPTO | B44: % TOTAL | C44: APORTE EMPLEADOR | D44: APORTE EMPLEADO | E44: V/UNITARIO DÍA | F44: V/PARCIAL
A45: TRABAJADOR > A 1 S.M.M.L.V. Y <= A 2 S.M.M.L.V. | E45: =+F41/30 -> 87545.25 | F45: =+E45 -> 87545.25
A47: PRESTACIONES SOCIALES:
A48: Subsidio de Transporte | B48: 0.0948 | C48: 0.0948 | E48: =+E45 -> 87545.25 | F48: =ROUND(E48*B48,0) -> 8299
A49: Cesantías | B49: 0.0833 | C49: 0.0833 | E49: =+E45 -> 87545.25 | F49: =ROUND(E49*B49,0) -> 7293
A50: Intereses Cesantías | B50: 0.01 | C50: 0.01 | E50: =+E45 -> 87545.25 | F50: =ROUND(E50*B50,0) -> 875
A51: Prima Legal | B51: 0.0833 | C51: 0.0833 | E51: =+E45 -> 87545.25 | F51: =ROUND(E51*B51,0) -> 7293
...

Sheet BASICOS
B1: MUNICIPIO DE OPORAPA | C1: DEPARTAMENTO DEL HUILA | F1: FORMULARIO UNICO
B2: PRESUPUESTO DE OBRA
B3: DEPENDENCIA: | C3: POLIDEPORTIVO VEREDA EL CARMEN
B4: FECHA: | C4: 46056
B5: PROPONENTE: | C5: ALCALDIA DE OPORAPA
B6: REPRESENTANTE LEGAL:
B7: PRESTACIONES: | C7: 185% - 171%
B10: =$C$1 -> DEPARTAMENTO DEL HUILA | D10: ANÁLISIS DE PRECIOS UNITARIOS - BASICOS
B11: =$C$3 -> POLIDEPORTIVO VEREDA EL CARMEN
B13: =$B$1 -> MUNICIPIO DE OPORAPA
B14: =$F$1 -> FORMULARIO UNICO
B16: PROPONENTE: | C16: =$C$5 -> ALCALDIA DE OPORAPA
B17: OBJETO: | E17: ITEM: | G17: UNIDAD: | H17: M3
B18: =+$B$2 -> PRESUPUESTO DE OBRA | E18: DESCRIPCION ITEM: | F18: CONCRETO 3000 PSI
B20: I. EQUIPO
B21: Descripción | C21: Especificacion | D21: Unidad de pago | E21: Tarifa/Hora | F21: Rendimiento | G21: Valor-Unit.
A22: 1006 | B22: MEZCLADORA 1 BULTO | D22: DIA | E22: =13102.8*8 -> 104822.4 | F22: 5 | G22: =ROUND(IF(F22>0,E22/F22,0),0) -> 20964
B23: 0 | D23: - | E23: 0 | G23: =IF(F23>0,E23/F23,0) -> 0
B24: 0 | D24: - | E24: 0 | G24: =IF(F24>0,E24/F24,0) -> 0
B25: 0 | D25: - | E25: 0 | G25: =IF(F25>0,E25/F25,0) -> 0
B26: 0 | D26: - | E26: 0 | G26: =IF(F26>0,E26/F26,0) -> 0
B27: 0 | D27: - | E27: 0 | G27: =IF(F27>0,E27/F27,0) -> 0
B28: 0 | D28: - | E28: 0 | G28: =IF(F28>0,E28/F28,0) -> 0
B29: HERRAMIENTA MENOR (% S./M.O.) | C29: 0.03 | D29: % | G29: =ROUND(C29*H61,0) -> 2812
G30: Sub-Total | H30: =SUM(G22:G29) -> 23776
B31: II. MATERIALES EN OBRA
B32: Descripción | C32: Detalle | D32: Unidad | E32: Precio-Unit. | F32: Cantidad | G32: Valor-Unit.
A33: 13 | B33: CEMENTO | D33: BULTO 50 KG | E33: =+'EST MERCADO'!H32 -> 36850 | F33: 7 | G33: =ROUND(F33*E33,0) -> 257950 | I33: 350
A34: 14 | B34: ARENA | D34: M3 | E34: =+'EST MERCADO'!O11 -> 77350 | F34: 0.56 | G34: =ROUND(F34*E34,0) -> 43316 | I34: 175000 | J34: 120000 | K34: 100000 | L34: =+K34/200 -> 500
A35: 15 | B35: TRITURADO | D35: M3 | E35: =+'EST MERCADO'!O14 -> 119000 | F35: 0.84 | G35: =ROUND(F35*E35,0) -> 99960 | I35: 190000 | J35: 150000 | K35: 100000
A36: 16 | B36: AGUA | D36: LT | E36: 90 | F36: 180 | G36: =ROUND(F36*E36,0) -> 16200
B37: 0 | D37: 0 | E37: 0 | G37: =F37*E37 -> 0
B38: 0 | D38: 0 | E38: 0 | G38: =F38*E38 -> 0
B39: 0 | D39: 0 | E39: 0 | G39: =F39*E39 -> 0
B40: 0 | D40: 0 | E40: 0 | G40: =F40*E40 -> 0 | J40: =1000/50 -> 20 | K40: 120000
B41: 0 | D41: 0 | E41: 0 | G41: =F41*E41 -> 0 | J41: 7 | K41: =+(J41*K40)/(J40) -> 42000
B42: 0 | D42: 0 | E42: 0 | G42: =F42*E42 -> 0
B43: 0 | D43: 0 | E43: 0 | G43: =F43*E43 -> 0
B44: 0 | D44: 0 | E44: 0 | G44: =F44*E44 -> 0
B45: 0 | D45: 0 | E45: 0 | G45: =F45*E45 -> 0
...

Sheet EST MERCADO
A2: =+INTERVENTORIA!D3 -> CONSTRUCCION, ADECUACION Y MEJORAMIENTO DEL POLIDEPORTIVO EN LA VEREDA EL CARMEN AREA RURAL DEL MUNICIPIO DE OPORAPA HUILA
A5: ESTUDIO DE MERCADO
A7: ÍTEMS | B7: DESCRIPCIÓN | C7: UNIDAD | D7: VALOR UNITARIO | E7: COTIZACIÓN 1 | F7: COTIZACIÓN 2 | G7: COTIZACIÓN 3 | H7: PROMEDIO
E8: Valor Unitario | F8: Valor Unitario | G8: Valor Unitario
A9: 1 | B9: ABRAZADERA METALICA 3/4’ DOBLE ALA + ANCLAJE | C9: UND | D9: 9470 | E9: =+ROUND(D9*1.2,0) -> 11364 | F9: =+ROUND(D9*1.17,0) -> 11080 | G9: =+ROUND(D9*0.93,0) -> 8807 | H9: =ROUND(AVERAGE(E9,F9,G9),0) -> 10417 | I9: =+IF(D9=H9,"SI","NO") -> NO | J9: =+D9*1.1 -> 10417
A10: 2 | B10: Acero de refuerzo PDR-60, Fy: 4200 kg/cm2 | C10: Kgr. | D10: 5900 | E10: =+ROUND(D10*1.2,0) -> 7080 | F10: =+ROUND(D10*1.17,0) -> 6903 | G10: =+ROUND(D10*0.93,0) -> 5487 | H10: =ROUND(AVERAGE(E10,F10,G10),0) -> 6490 | I10: =+IF(D10=H10,"SI","NO") -> NO | K10: MATERIAL | L10: UNIDAD | M10: VR UNITARIO | N10: IVA (19%) | O10: VR TOTAL
A11: 3 | B11: Acrílico de proteccion | C11: UND | D11: 20000 | E11: =+ROUND(D11*1.2,0) -> 24000 | F11: =+ROUND(D11*1.17,0) -> 23400 | G11: =+ROUND(D11*0.93,0) -> 18600 | H11: =ROUND(AVERAGE(E11,F11,G11),0) -> 22000 | I11: =+IF(D11=H11,"SI","NO") -> NO | K11: ARENA FINA | L11: M3 | M11: 65000 | N11: =+ROUND(M11*0.19,0) -> 12350 | O11: =+ROUND(M11+N11,0) -> 77350
A12: 4 | B12: Alambre negro No 18 | C12: Kgr. | D12: 9520 | E12: =+ROUND(D12*1.2,0) -> 11424 | F12: =+ROUND(D12*1.17,0) -> 11138 | G12: =+ROUND(D12*0.93,0) -> 8854 | H12: =ROUND(AVERAGE(E12,F12,G12),0) -> 10472 | I12: =+IF(D12=H12,"SI","NO") -> NO | K12: BASE GRANULAR | L12: M3 | M12: 125000 | N12: =+ROUND(M12*0.19,0) -> 23750 | O12: =+ROUND(M12+N12,0) -> 148750
A13: 5 | B13: ALAMBRON METALICO GALVANIZADO DE 8 MM | C13: ml | D13: 2900 | E13: =+ROUND(D13*1.2,0) -> 3480 | F13: =+ROUND(D13*1.17,0) -> 3393 | G13: =+ROUND(D13*0.93,0) -> 2697 | H13: =ROUND(AVERAGE(E13,F13,G13),0) -> 3190 | I13: =+IF(D13=H13,"SI","NO") -> NO | K13: SUBBASE GRANULAR | L13: M3 | M13: 90000 | N13: =+ROUND(M13*0.19,0) -> 17100 | O13: =+ROUND(M13+N13,0) -> 107100
A14: 6 | B14: ANCLAJES PARA FIJACION DE PUNTA FRANKLIN | C14: Und | D14: 48500 | E14: =+ROUND(D14*1.2,0) -> 58200 | F14: =+ROUND(D14*1.17,0) -> 56745 | G14: =+ROUND(D14*0.93,0) -> 45105 | H14: =ROUND(AVERAGE(E14,F14,G14),0) -> 53350 | I14: =+IF(D14=H14,"SI","NO") -> NO | K14: GRAVILLA 3/4 | L14: M3 | M14: 100000 | N14: =+ROUND(M14*0.19,0) -> 19000 | O14: =+ROUND(M14+N14,0) -> 119000
A15: 7 | B15: ANGULO DE 1/8" X 1" | C15: ML | D15: 8338 | E15: =+ROUND(D15*1.2,0) -> 10006 | F15: =+ROUND(D15*1.17,0) -> 9755 | G15: =+ROUND(D15*0.93,0) -> 7754 | H15: =ROUND(AVERAGE(E15,F15,G15),0) -> 9172 | I15: =+IF(D15=H15,"SI","NO") -> NO | K15: RECEBO | L15: M3 | M15: 48000 | N15: =+ROUND(M15*0.19,0) -> 9120 | O15: =+ROUND(M15+N15,0) -> 57120
A16: 8 | B16: angulo de Fijación a canal 4' x1/4'' L=0,25 m | C16: Und | D16: 12000 | E16: =+ROUND(D16*1.2,0) -> 14400 | F16: =+ROUND(D16*1.17,0) -> 14040 | G16: =+ROUND(D16*0.93,0) -> 11160 | H16: =ROUND(AVERAGE(E16,F16,G16),0) -> 13200 | I16: =+IF(D16=H16,"SI","NO") -> NO | K16: PIEDRA | L16: M3 | M16: 130000 | N16: =+ROUND(M16*0.19,0) -> 24700 | O16: =+ROUND(M16+N16,0) -> 154700
A17: 9 | B17: ANTICORROSIVO | C17: GAL | D17: 61136 | E17: =+ROUND(D17*1.2,0) -> 73363 | F17: =+ROUND(D17*1.17,0) -> 71529 | G17: =+ROUND(D17*0.93,0) -> 56856 | H17: =ROUND(AVERAGE(E17,F17,G17),0) -> 67249 | I17: =+IF(D17=H17,"SI","NO") -> NO
A18: 10 | B18: ARENA | C18: M3 | D18: 120000 | E18: =+ROUND(D18*1.2,0) -> 144000 | F18: =+ROUND(D18*1.17,0) -> 140400 | G18: =+ROUND(D18*0.93,0) -> 111600 | H18: =ROUND(AVERAGE(E18,F18,G18),0) -> 132000 | I18: =+IF(D18=H18,"SI","NO") -> NO
A19: 11 | B19: Barraje de cobre | C19: UND | D19: 19000 | E19: =+ROUND(D19*1.2,0) -> 22800 | F19: =+ROUND(D19*1.17,0) -> 22230 | G19: =+ROUND(D19*0.93,0) -> 17670 | H19: =ROUND(AVERAGE(E19,F19,G19),0) -> 20900 | I19: =+IF(D19=H19,"SI","NO") -> NO
A20: 12 | B20: borneras para tierra | C20: UND | D20: 8600 | E20: =+ROUND(D20*1.2,0) -> 10320 | F20: =+ROUND(D20*1.17,0) -> 10062 | G20: =+ROUND(D20*0.93,0) -> 7998 | H20: =ROUND(AVERAGE(E20,F20,G20),0) -> 9460 | I20: =+IF(D20=H20,"SI","NO") -> NO
A21: 13 | B21: Brocha de 3 " | C21: Und | D21: 5941 | E21: =+ROUND(D21*1.2,0) -> 7129 | F21: =+ROUND(D21*1.17,0) -> 6951 | G21: =+ROUND(D21*0.93,0) -> 5525 | H21: =ROUND(AVERAGE(E21,F21,G21),0) -> 6535 | I21: =+IF(D21=H21,"SI","NO") -> NO
A22: 14 | B22: CABLE ANTIFRAUDE 2#6+1#6 AWG | C22: ML | D22: 55600 | E22: =+ROUND(D22*1.2,0) -> 66720 | F22: =+ROUND(D22*1.17,0) -> 65052 | G22: =+ROUND(D22*0.93,0) -> 51708 | H22: =ROUND(AVERAGE(E22,F22,G22),0) -> 61160 | I22: =+IF(D22=H22,"SI","NO") -> NO
A23: 15 | B23: CABLE DE COBRE AISLADO No 12 AWG -HF/FR/LS/CT | C23: ML | D23: 3950 | E23: =+ROUND(D23*1.2,0) -> 4740 | F23: =+ROUND(D23*1.17,0) -> 4622 | G23: =+ROUND(D23*0.93,0) -> 3674 | H23: =ROUND(AVERAGE(E23,F23,G23),0) -> 4345 | I23: =+IF(D23=H23,"SI","NO") -> NO
A24: 16 | B24: CABLE DE COBRE AISLADO No 14 AWG -HF/FR/LS/CT | C24: ML | D24: 2800 | E24: =+ROUND(D24*1.2,0) -> 3360 | F24: =+ROUND(D24*1.17,0) -> 3276 | G24: =+ROUND(D24*0.93,0) -> 2604 | H24: =ROUND(AVERAGE(E24,F24,G24),0) -> 3080 | I24: =+IF(D24=H24,"SI","NO") -> NO
A25: 17 | B25: CABLE DE COBRE DESNUDO 2/0 AWG | C25: ml | D25: 51950 | E25: =+ROUND(D25*1.2,0) -> 62340 | F25: =+ROUND(D25*1.17,0) -> 60782 | G25: =+ROUND(D25*0.93,0) -> 48314 | H25: =ROUND(AVERAGE(E25,F25,G25),0) -> 57145 | I25: =+IF(D25=H25,"SI","NO") -> NO
A26: 18 | B26: Cable No.8 Verde | C26: m | D26: 4275 | E26: =+ROUND(D26*1.2,0) -> 5130 | F26: =+ROUND(D26*1.17,0) -> 5002 | G26: =+ROUND(D26*0.93,0) -> 3976 | H26: =ROUND(AVERAGE(E26,F26,G26),0) -> 4703 | I26: =+IF(D26=H26,"SI","NO") -> NO
A27: 19 | B27: CABLEANTIFRAUDE 2#6+1#6 | C27: ML | D27: 45500 | E27: =+ROUND(D27*1.2,0) -> 54600 | F27: =+ROUND(D27*1.17,0) -> 53235 | G27: =+ROUND(D27*0.93,0) -> 42315 | H27: =ROUND(AVERAGE(E27,F27,G27),0) -> 50050 | I27: =+IF(D27=H27,"SI","NO") -> NO
A28: 20 | B28: Caja metalica para medidor | C28: UND | D28: 153000 | E28: =+ROUND(D28*1.2,0) -> 183600 | F28: =+ROUND(D28*1.17,0) -> 179010 | G28: =+ROUND(D28*0.93,0) -> 142290 | H28: =ROUND(AVERAGE(E28,F28,G28),0) -> 168300 | I28: =+IF(D28=H28,"SI","NO") -> NO
... A50: 42 | B50: Espátula | C50: Und | D50: 10200 | E50: =+ROUND(D50*1.2,0) -> 12240 | F50: =+ROUND(D50*1.17,0) -> 11934 | G50: =+ROUND(D50*0.93,0) -> 9486 | H50: =ROUND(AVERAGE(E50,F50,G50),0) -> 11220 | I50: =+IF(D50=H50,"SI","NO") -> NO
A51: 43 | B51: Frenos | C51: UND | D51: 2000 | E51: =+ROUND(D51*1.2,0) -> 2400 | F51: =+ROUND(D51*1.17,0) -> 2340 | G51: =+ROUND(D51*0.93,0) -> 1860 | H51: =ROUND(AVERAGE(E51,F51,G51),0) -> 2200 | I51: =+IF(D51=H51,"SI","NO") -> NO | J51: homecenter
A52: 44 | B52: Graniplast | C52: Kg | D52: 4500 | E52: =+ROUND(D52*1.2,0) -> 5400 | F52: =+ROUND(D52*1.17,0) -> 5265 | G52: =+ROUND(D52*0.93,0) -> 4185 | H52: =ROUND(AVERAGE(E52,F52,G52),0) -> 4950 | I52: =+IF(D52=H52,"SI","NO") -> NO | J52: 5463
A53: 45 | B53: HEBILLA BANDIT DE ACERO NOXIDABLE DE 5/8" | C53: UND | D53: 920 | E53: =+ROUND(D53*1.2,0) -> 1104 | F53: =+ROUND(D53*1.17,0) -> 1076 | G53: =+ROUND(D53*0.93,0) -> 856 | H53: =ROUND(AVERAGE(E53,F53,G53),0) -> 1012 | I53: =+IF(D53=H53,"SI","NO") -> NO
A54: 46 | B54: Lamina prepintada Calibre 22 | C54: Kg | D54: 10200 | E54: =+ROUND(D54*1.2,0) -> 12240 | F54: =+ROUND(D54*1.17,0) -> 11934 | G54: =+ROUND(D54*0.93,0) -> 9486 | H54: =ROUND(AVERAGE(E54,F54,G54),0) -> 11220 | I54: =+IF(D54=H54,"SI","NO") -> NO
A55: 47 | B55: Limpiador/soldadura PVC | C55: 1/4GI | D55: 75000 | E55: =+ROUND(D55*1.2,0) -> 90000 | F55: =+ROUND(D55*1.17,0) -> 87750 | G55: =+ROUND(D55*0.93,0) -> 69750 | H55: =ROUND(AVERAGE(E55,F55,G55),0) -> 82500 | I55: =+IF(D55=H55,"SI","NO") -> NO
A56: 48 | B56: Malla electrosoldada 6mm | C56: M2 | D56: 20567 | E56: =+ROUND(D56*1.2,0) -> 24680 | F56: =+ROUND(D56*1.17,0) -> 24063 | G56: =+ROUND(D56*0.93,0) -> 19127 | H56: =ROUND(AVERAGE(E56,F56,G56),0) -> 22623 | I56: =+IF(D56=H56,"SI","NO") -> NO
A57: 49 | B57: MALLA ESLABONADA GALV. CAL. 10 | C57: M2 | D57: 25000 | E57: =+ROUND(D57*1.2,0) -> 30000 | F57: =+ROUND(D57*1.17,0) -> 29250 | G57: =+ROUND(D57*0.93,0) -> 23250 | H57: =ROUND(AVERAGE(E57,F57,G57),0) -> 27500 | I57: =+IF(D57=H57,"SI","NO") -> NO
A58: 50 | B58: Minibreaker 1x16A | C58: UND | D58: 43235 | E58: =+ROUND(D58*1.2,0) -> 51882 | F58: =+ROUND(D58*1.17,0) -> 50585 | G58: =+ROUND(D58*0.93,0) -> 40209 | H58: =ROUND(AVERAGE(E58,F58,G58),0) -> 47559 | I58: =+IF(D58=H58,"SI","NO") -> NO
A59: 51 | B59: Minibreaker 2x16A | C59: UND | D59: 108000 | E59: =+ROUND(D59*1.2,0) -> 129600 | F59: =+ROUND(D59*1.17,0) -> 126360 | G59: =+ROUND(D59*0.93,0) -> 100440 | H59: =ROUND(AVERAGE(E59,F59,G59),0) -> 118800 | I59: =+IF(D59=H59,"SI","NO") -> NO
A60: 52 | B60: Pernos anclaje de 1/2" | C60: Und | D60: 10000 | E60: =+ROUND(D60*1.2,0) -> 12000 | F60: =+ROUND(D60*1.17,0) -> 11700 | G60: =+ROUND(D60*0.93,0) -> 9300 | H60: =ROUND(AVERAGE(E60,F60,G60),0) -> 11000 | I60: =+IF(D60=H60,"SI","NO") -> NO
A61: 53 | B61: piedra media zonga | C61: M3 | D61: 170000 | E61: =+ROUND(D61*1.2,0) -> 204000 | F61: =+ROUND(D61*1.17,0) -> 198900 | G61: =+ROUND(D61*0.93,0) -> 158100 | H61: =ROUND(AVERAGE(E61,F61,G61),0) -> 187000 | I61: =+IF(D61=H61,"SI","NO") -> NO
A62: 54 | B62: Pintura en esmalte | C62: Gal | D62: 56582 | E62: =+ROUND(D62*1.2,0) -> 67898 | F62: =+ROUND(D62*1.17,0) -> 66201 | G62: =+ROUND(D62*0.93,0) -> 52621 | H62: =ROUND(AVERAGE(E62,F62,G62),0) -> 62240 | I62: =+IF(D62=H62,"SI","NO") -> NO
A63: 55 | B63: PINTURA PARA CANCHAS ANTIDESLIZANTE | C63: Galón | D63: 168500 | E63: =+ROUND(D63*1.2,0) -> 202200 | F63: =+ROUND(D63*1.17,0) -> 197145 | G63: =+ROUND(D63*0.93,0) -> 156705 | H63: =ROUND(AVERAGE(E63,F63,G63),0) -> 185350 | I63: =+IF(D63=H63,"SI","NO") -> NO
A64: 56 | B64: Placa EH | C64: UND | D64: 50000 | E64: =+ROUND(D64*1.2,0) -> 60000 | F64: =+ROUND(D64*1.17,0) -> 58500 | G64: =+ROUND(D64*0.93,0) -> 46500 | H64: =ROUND(AVERAGE(E64,F64,G64),0) -> 55000 | I64: =+IF(D64=H64,"SI","NO") -> NO
... A108: 100 | B108: Lija para Hierro | C108: Und | D108: 3637 | E108: =+ROUND(D108*1.2,0) -> 4364 | F108: =+ROUND(D108*1.17,0) -> 4255 | G108: =+ROUND(D108*0.93,0) -> 3382 | H108: =ROUND(AVERAGE(E108,F108,G108),0) -> 4000 | I108: =+IF(D108=H108,"SI","NO") -> NO
...

Sheet Mano de obra - Cargos
C4: ANÁLISIS DE MANO DE OBRA
C8: BASE SALARIAL ANN 2025 | H8: Horas Calendario - Año | J8: =365*8 -> 2920 | K8: 365 días * 8 horas
H9: Hora Laboral - Año | J9: =52*48+8 -> 2504 | K9: (52 semanas x 48 horas)+8 horas
C10: Salario Mínimo Mes | F10: 1750905 | H10: Horas Hábiles - Año | J10: =+J8-(52+17+3)*8 -> 2344 | K10: (horas calendario-((52 domingos+17 festivos+3 permisos)x 8 horas)
H11: Vr Hora Calendario | J11: Salario Año con prestaciones / Hora Calendario
C12: Subsidio Trasporte Mes | F12: 249095 | H12: Vr Hora Laboral | J12: Salario Año con prestaciones / Hora Laborales Anuales
H13: Vr Hora Efectiva | J13: Salario Año con prestaciones / Horas Hábiles - Año
C15: Nota: Subsidio de trasporte se paga hasta sueldos de dos(2) salarios mínimos mensuales. | H15: Días calendario | I15: 365
H16: Días Laborales | I16: 360 | K16: F-Prestacional | L16: 1.85 | M16: Hasta 2 SMLV
H17: Días Hábiles | I17: 333 | L17: 1.71 | M17: Mayores de 2 SMLV
C19: CALCULO DE SUELDOS Y JORNALES
C20: ID | D20: SALARIOS MÍNIMOS | E20: CARGO | H20: SALARIO BASE | I20: FACTOR SALARIAL | J20: SALARIO TOTAL | K20: JORNAL SIN PRESTACIONES | L20: PRESTACIONES DÍA | M20: JORNAL TOTAL
H22: MES | J22: MES
C23: NIVELES SALARIALES PERSONAL DE OBRA
C24: 1.1.1 | D24: 1.8 | E24: MAESTRO DE OBRA | H24: =+$F$10*D24 -> 3151629 | I24: 1.7527 | J24: =ROUND(H24*I24,0) -> 5523860 | K24: =(J24/30)/I24 -> 105054.3 | L24: =+K24*(I24-1) -> 79074.369 | M24: =+K24+L24 -> 184128.67
C25: 1.1.2 | D25: 1.5 | E25: OFICIAL DE OBRA | H25: =+$F$10*D25 -> 2626357.5 | I25: 1.7527 | J25: =ROUND(H25*I25,0) -> 4603217 | K25: =(J25/30)/I25 -> 87545.254 | L25: =+K25*(I25-1) -> 65895.313 | M25: =+K25+L25 -> 153440.57
C26: 1.1.3 | D26: 1 | E26: AYUDANTE DE OBRA | H26: =+$F$10*D26 -> 1750905 | I26: 1.8002 | J26: =ROUND(H26*I26,0) -> 3151979 | K26: =(J26/30)/I26 -> 58363.497 | L26: =+K26*(I26-1) -> 46702.47 | M26: =+K26+L26 -> 105065.97
C27: 1.1.4 | D27: 1 | E27: OBRERO OFICIOS VARIOS | H27: =+$F$10*D27 -> 1750905 | I27: 1.8002 | J27: =ROUND(H27*I27,0) -> 3151979 | K27: =(J27/30)/I27 -> 58363.497 | L27: =+K27*(I27-1) -> 46702.47 | M27: =+K27+L27 -> 105065.97
C28: 1.1.5 | D28: 1 | E28: PALETERO | H28: =+$F$10*D28 -> 1750905 | I28: 1.8002 | J28: =ROUND(H28*I28,0) -> 3151979 | K28: =(J28/30)/I28 -> 58363.497 | L28: =+K28*(I28-1) -> 46702.47 | M28: =+K28+L28 -> 105065.97
C29: 1.1.6 | D29: 2 | E29: TOPÓGRAFO | H29: =+$F$10*D29 -> 3501810 | I29: 1.7527 | J29: =ROUND(H29*I29,0) -> 6137622 | K29: =(J29/30)/I29 -> 116726.99 | L29: =+K29*(I29-1) -> 87860.407 | M29: =+K29+L29 -> 204587.4
C30: 1.1.7 | D30: 1.2 | E30: CADENERO | H30: =+$F$10*D30 -> 2101086 | I30: 1.7527 | J30: =ROUND(H30*I30,0) -> 3682573 | K30: =(J30/30)/I30 -> 70036.192 | L30: =+K30*(I30-1) -> 52716.242 | M30: =+K30+L30 -> 122752.43
C31: 1.1.8 | D31: 2 | E31: SOLDADOR 1A | H31: =+$F$10*D31 -> 3501810 | I31: 1.71 | J31: =ROUND(H31*I31,0) -> 5988095 | K31: =(J31/30)/I31 -> 116727 | L31: =+K31*(I31-1) -> 82876.169 | M31: =+K31+L31 -> 199603.17
C32: 1.1.9 | D32: 2 | E32: SOLDADOR | H32: =+$F$10*D32 -> 3501810 | I32: 1.7527 | J32: =ROUND(H32*I32,0) -> 6137622 | K32: =(J32/30)/I32 -> 116726.99 | L32: =+K32*(I32-1) -> 87860.407 | M32: =+K32+L32 -> 204587.4
C33: 1.1.10 | D33: 2 | E33: CORTADOR | H33: =+$F$10*D33 -> 3501810 | I33: 1.7527 | J33: =ROUND(H33*I33,0) -> 6137622 | K33: =(J33/30)/I33 -> 116726.99 | L33: =+K33*(I33-1) -> 87860.407 | M33: =+K33+L33 -> 204587.4
C34: 1.1.11 | D34: 1.5 | E34: INSPECTOR | H34: =+$F$10*D34 -> 2626357.5 | I34: 1.7527 | J34: =ROUND(H34*I34,0) -> 4603217 | K34: =(J34/30)/I34 -> 87545.254 | L34: =+K34*(I34-1) -> 65895.313 | M34: =+K34+L34 -> 153440.57
C35: 1.1.12 | D35: 1 | E35: SECRETARIA | H35: =+$F$10*D35 -> 1750905 | I35: 1.8002 | J35: =ROUND(H35*I35,0) -> 3151979 | K35: =(J35/30)/I35 -> 58363.497 | L35: =+K35*(I35-1) -> 46702.47 | M35: =+K35+L35 -> 105065.97
... C38: 1.1.15 | D38: 1 | E38: ALMACENISTA | H38: =+$F$10*D38 -> 1750905 | I38: 1.8002 | J38: =ROUND(H38*I38,0) -> 3151979 | K38: =(J38/30)/I38 -> 58363.497 | L38: =+K38*(I38-1) -> 46702.47 | M38: =+K38+L38 -> 105065.97
C40: 1 - Porcentaje de Horas Extras
C42: Total de Horas trabajadas al Mes | G42: 240
C43: Máximo de Horas Extras permitidas al mes | G43: 20
C44: Total Horas Máximas Trabajadas Mes | G44: =SUM(G42:G43) -> 260
C46: Distribución de horas Extras en el mes
C48: Descripción | E48: Unidad | F48: Horas Extras Máximas Mes | G48: Factor Multiplicador Hora Extra | H48: Hora Extra Equivalente | I48: % de Total Horas Máximas Mes
C51: H-EXTRA DIURNA | E51: HORA | F51: 8 | G51: 1.25 | H51: =+F51*G51 -> 10 | I51: =+H51/240 -> 0.041666667
C52: H-EXTRA NOCTURNA | E52: HORA | F52: 4 | G52: 1.75 | H52: =+F52*G52 -> 7 | I52: =+H52/240 -> 0.029166667
C53: H-EXTRA FESTIVA DIURNA | E53: HORA | F53: 8 | G53: 1.75 | H53: =+F53*G53 -> 14 | I53: =+H53/240 -> 0.058333333
C54: Porcentaje Máximo de Horas Extras asignadas al Mes | I54: =SUM(I51:I53) -> 0.12916667
C56: 2 – El cálculo del Factor Prestacional no considera Elementos de Protección Personal ni Exámenes Médicos Ocupacionales.
C61: ANÁLISIS DE CUADRILLAS
C65: CUADRILLA TIPO 0 - (2 Ay) | I65: Vr Unitario | J65: =+J72 -> 210131.93 | K65: =+F72/2 -> 58363.497
...

Sheet Presupuesto
A1: DEPARTAMENTO DEL HUILA
A2: MUNICIPIO DE OPORAPA
A5: PRESUPUESTO GENERAL
A7: CONSTRUCCION DE CUBIERTA EN EL POLIDEPORTIVO DE LA VEREDA EL CARMEN AREA RURAL DEL MUNICIPIO DE OPORAPA HUILA
C8: MUNICIPIO: | E8: OPORAPA
C9: LUGAR: | E9: VDA EL CARMEN
C10: FECHA: | E10: JUNIO DE 2025
A12: ITEM | B12: DESCRIPCION | C12: UNIDAD | D12: CANTIDAD | E12: V/R. UNITARIO | F12: V/PARCIAL | G12: V/R. TOTAL
A13: 1 | B13: PRELIMINARES | G13: =ROUND(SUM(F14:F21),0) -> #REF!
A14: 1.1 | B14: Localización y replanteo | C14: M2 | D14: =+#REF! -> #REF! | E14: =+'APU1.1'!H29 -> 2721 | F14: =ROUND(D14*E14,0) -> #REF!
A15: 1.2 | B15: Cerramiento provisional en lona verde | C15: Ml | D15: =+#REF! -> #REF! | E15: =+#REF! -> #REF! | F15: =ROUND(D15*E15,0) -> #REF!
A16: 1.3 | B16: Excavación en material común con retiro de sobrantes | C16: M3 | D16: =+#REF! -> #REF! | E16: =+'APU1.2'!H29 -> 85310 | F16: =ROUND(D16*E16,0) -> #REF!
A17: 1.4 | B17: Excavación mecanica para explanación a todo factor | C17: M3 | D17: =+#REF! -> #REF! | E17: =+'APU1.3'!H33 -> 70703 | F17: =ROUND(D17*E17,0) -> #REF!
A18: 1.5 | B18: Relleno en recebo compactado | C18: M3 | D18: =+#REF! -> #REF! | E18: =+'APU1.4'!H30 -> 124149 | F18: =ROUND(D18*E18,0) -> #REF!
A19: 1.6 | B19: Demolición de piso en concreto. Incluye: Retiro | C19: M3 | D19: =+#REF! -> #REF! | E19: =+'APU1.5'!G27 -> 32627 | F19: =ROUND(D19*E19,0) -> #REF!
A20: 1.7 | B20: Desmonte de malla eslabonada | C20: M2 | D20: =+#REF! -> #REF! | E20: =+'APU1.6'!F29 -> 27214 | F20: =ROUND(D20*E20,0) -> #REF!
A21: 1.8 | B21: Retiro de postes existentes, incluye demolición y retiro de cimentación, acometida, lamparas, crucetas y demás elementos | C21: Und | D21: =+#REF! -> #REF! | E21: =+'APU1.7'!F32 -> 1239218 | F21: =ROUND(D21*E21,0) -> #REF!
A22: 2 | B22: CONSTRUCCION DE ESTRUCTURA EN CONCRETO | G22: =ROUND(SUM(F23:F33),0) -> #REF!
A23: 2.1 | B23: Viga de cimiento de 0.30*0.35 cms, en concreto de 3000 PSI | C23: M3 | D23: =+#REF! -> #REF! | E23: =+'APU2.1'!G27 -> 1107042 | F23: =ROUND(D23*E23,0) -> #REF!
A24: 2.2 | B24: Piso en concreto de 3000 PSI, e=0.10 mts incluye malla electrosoldada | C24: M2 | D24: =+#REF! -> #REF! | E24: =+'APU2.2'!F29 -> 146942 | F24: =ROUND(D24*E24,0) -> #REF!
A25: 2.3 | B25: Concreto Zapatas de 3000 PSI | C25: M3 | D25: =+#REF! -> #REF! | E25: =+'APU2.3'!G27 -> 953042 | F25: =ROUND(D25*E25,0) -> #REF!
A26: 2.4 | B26: Columna de 0.30*,45 cms, en concreto de 3000 PSI | C26: M3 | D26: =+#REF! -> #REF! | E26: =+'APU2.4'!G27 -> 1458168 | F26: =ROUND(D26*E26,0) -> #REF!
A27: 2.5 | B27: Viga de amarre Intermedia de 0.35*0.40 cms, en concreto de 3000 PSI | C27: M3 | D27: =+#REF! -> #REF! | E27: =+'APU2.5'!G27 -> 1516977 | F27: =ROUND(D27*E27,0) -> #REF!
A28: 2.6 | B28: Cuneta A LL. en concreto de 3000 psi a=0.50 y e=0,10 | C28: Ml | D28: =+#REF! -> #REF! | E28: =+'APU2.6'!G26 -> 222737 | F28: =ROUND(D28*E28,0) -> #REF!
A29: 2.7 | B29: Acero de refuerzo 60.000 y 37.000 PSI | C29: Kg. | D29: =+#REF! -> #REF! | E29: =+'APU2.7'!F28 -> 9493 | F29: =ROUND(D29*E29,0) -> #REF!
A30: 2.8 | B30: Caja de inspección de 60*,60 m en concreto para sistema de agua lluvias en concreto de 3000 PSI | C30: UND | D30: =+#REF! -> #REF! | E30: =+'APU2.8'!F29 -> 443933 | F30: =ROUND(D30*E30,0) -> #REF!
A31: 2.9 | B31: Concreto pobre de 2000 PSI para limpieza e=0.05 mts. | C31: M2 | D31: =+#REF! -> #REF! | E31: =+'APU2.9'!F24 -> 792361 | F31: =ROUND(D31*E31,0) -> #REF!
A32: 2.1 | B32: Concreto ciclópeo, 60% en concreto de 2500 PSI, y 40% en piedra. | C32: M3 | D32: =+#REF! -> #REF! | E32: =+'APU2.10'!G31 -> 760678 | F32: =ROUND(D32*E32,0) -> #REF!
A33: 2.11 | B33: Suministro e instalación de tuberia de 6" sanitaria incluye accesorios. | C33: ML | D33: =+#REF! -> #REF! | E33: =+'APU2.11'!G27 -> 91990 | F33: =ROUND(D33*E33,0) -> #REF!
A34: 3 | B34: CONSTRUCCION DE CUBIERTA | G34: =ROUND(SUM(F35:F39),0) -> #REF!
A35: 3.1 | B35: Suministro, fabricación e instalación de cubierta auto portante elaborada en sitio, con lamina de acero, color blanco almendra, calibre 22 galvanizado, prepintado y en grado 40, flecha al 20% con respecto al ancho a cubrir, tipo membrana (Sistema modular con secciones únicas y sin traslapo a lo ancho, unidas entre sí por medio de grafado mecánico). para placa de polideportivo. | C35: M2 | D35: =+#REF! -> #REF! | E35: =+'APU3.1'!F29 -> 299476 | F35: =ROUND(D35*E35,0) -> #REF!
A36: 3.2 | B36: instalación de anclajes de canalón, compuesto por platina metálica de 30x45 e-3/8 ángulo de fijación a canal de 4"x1/4" L=0,25 m, 4 pernos de anclaje de 01/2 long= 0,50m, según diseño. | C36: UND | D36: =+#REF! -> #REF! | E36: =+'APU3.2'!F30 -> 137468 | F36: =ROUND(D36*E36,0) -> #REF!
A37: 3.3 | B37: Suministro e Instalación de canalón metálico de acero estructural con 3/16" de espesor (según diseño), una mano de pintura 3 en 1 de Pintuco. | C37: ML | D37: =+#REF! -> #REF! | E37: =+'APU3.3'!F30 -> 635386 | F37: =ROUND(D37*E37,0) -> #REF!
A38: 3.4 | B38: Bajante aguas lluvias en PVC 4" incluye: Accesorios | C38: ML | D38: =+#REF! -> #REF! | E38: =+'APU3.4'!F28 -> 85832 | F38: =ROUND(D38*E38,0) -> #REF!
A39: 3.5 | B39: Cerramiento en malla eslabonada y tubo h= 3.0m, antepecho en ladrillo a la vista de h=0.40m, pedestal en concreto de 0.15x0.20m, viga cinta de 0.10x0.15m y viga de cimiento de ,20x,20 incluye acero incluye acero 1/2 y estribos en 3/8" | C39: ML | D39: =+#REF! -> #REF! | E39: =+'APU3.5'!F30 -> 852428 | F39: =ROUND(D39*E39,0) -> #REF!
A40: 4 | B40: CONSTRUCCIÓN DE ILUMINACIÓN POLIDEPORTIVO | G40: =ROUND(SUM(F42:F61),0) -> 39483523
A41: 4.1 | B41: ACOMETIDAS Y ALIMENTADORES EN BAJA TENSION
A42: 4,1,1 | B42: Suministro e instalación de circuito de iluminacion en 2#12+1#12T a instalar en tuberia EMT y/o PVC 3/4". Incluye tubería, accesorios y todo lo necesario para su correcto funcionamiento | C42: ML | D42: 100 | E42: =+'APU4.1.1'!F29 -> 38115 | F42: =ROUND(D42*E42,0) -> 3811500
A43: 4,1,2 | B43: Suministro e instalación de salida para tomacorriente. Incluye tubería aparato y todo lo necesario para su cortecto funcionamiento. | C43: UND | D43: 16 | E43: =+'APU4.1.2'!F29 -> 291624 | F43: =ROUND(D43*E43,0) -> 4665984
A44: 4,1,3 | B44: Suministro e instalación de camaras de inspeccion de 0,6x0,6 mts para sistema eléctrico en concreto de 2500 PSI | C44: UND | D44: 1 | E44: =+'APU4.1.3'!F28 -> 620067 | F44: =ROUND(D44*E44,0) -> 620067
...

Sheet CANTIDADES OBRA
A2: MEMORIA DE CANTIDADES DE OBRA
A4: OBJETO | C4: =+'Presupuesto INDERHUILA'!A7 -> CONSTRUCCION, ADECUACION Y MEJORAMIENTO DEL POLIDEPORTIVO EN LA VEREDA EL CARMEN AREA RURAL DEL MUNICIPIO DE OPORAPA HUILA | P4: =5.2*6 -> 31.2 | Q4: =+P4+P5 -> 32.7
A5: MUNICIPIO | B5: OPORAPA | C5: DEPARTAMENTO | F5: HUILA | P5: 1.5
P6: =+P5+P4 -> 32.7
A7: MEMORIAS DE CANTIDADES DE OBRA GENERAL | P7: =2*2 -> 4 | R7: =2.75*12 -> 33
P8: 17.15
B9: ACTIVIDAD | D9: DIMENSIONES | H9: BARRA Nº | I9: PESO/ml - m2 | J9: CANTIDAD | K9: PESO | R9: =2.45*7 -> 17.15 | S9: =+R9+R7 -> 50.15
A10: ÍTEM | B10: DESCRIPCIÓN | C10: UNIDAD | D10: L | E10: A | F10: H | G10: CANT | P10: =+P8+P7 -> 21.15
D11: mts. | E11: mts. | F11: mts. | G11: und | I11: Kg./ml - m2 | K11: Kg.
M13: =19.33*1.2 -> 23.196
A14: 1. PRELIMINARES
A15: 1 | B15: Localizacion y replanteo | J15: =+J16 -> 544.05
A16: 1.1 | B16: Localizacion y Replanteo | C16: m2 | D16: 27 | E16: 20.15 | J16: =+E16*D16 -> 544.05 | L16: =19*1.2 -> 22.8 | N16: =3.6*12 -> 43.2
A17: 1.2 | B17: Excavación manual en material común con retiro de sobrantes | J17: =SUM(J18:J25) -> 134.011 | O17: 18.26 | R17: =3.8*14 -> 53.2
A18: 1.2.1 | B18: Excavacion zapatas | C18: m3 | D18: 2.5 | E18: 2.5 | F18: 1.4 | G18: 4 | J18: =+G18*F18*E18*D18 -> 35
A19: 1.2.2 | B19: Excavacion zapatas | C19: m3 | D19: 2.4 | E19: 2.4 | F19: 1.4 | G19: 4 | J19: =+G19*F19*E19*D19 -> 32.256
A20: 1.2.3 | B20: Excavacion zapatas | C20: m3 | D20: 2.3 | E20: 2.3 | F20: 1.4 | G20: 4 | J20: =+G20*F20*E20*D20 -> 29.624
A21: 1.2.4 | B21: Excavacion viga para estructura | C21: m3 | D21: =+M27 -> 38.4 | E21: 0.5 | F21: 0.5 | J21: =+F21*E21*D21 -> 9.6 | M21: 4.9 | O21: =+#REF!+O17 -> #REF! | P21: =+O21*#REF! -> #REF! | Q21: =1.5*5 -> 7.5 | R21: =0.75*2 -> 1.5
A22: 1.2.5 | B22: Excavacion cunetas | C22: =+C18 -> m3 | D22: 54.1 | E22: 0.5 | F22: 0.5 | J22: =+D22*E22*F22 -> 13.525 | O22: =2.3*21 -> 48.3 | P22: =+#REF!-O22 -> #REF! | Q22: descuento graderia
A23: 1.2.6 | B23: Excavación Cajas de inspección | C23: m3 | D23: 1 | E23: 1 | F23: 0.7 | G23: 2 | J23: =+D23*E23*F23*G23 -> 1.4
A24: 1.2.7 | B24: Excavación Para tubería aguas lluvias | C24: m3 | D24: =16.7+20 -> 36.7 | E24: 0.4 | F24: 0.6 | J24: =+D24*E24*F24 -> 8.808
A25: 1.2.8 | B25: excavacion cerramiento | C25: =+C24 -> m3 | D25: 42.2 | E25: 0.3 | F25: 0.3 | J25: =+D25*E25*F25 -> 3.798 | M25: =3.8*8 -> 30.4
A26: 1.3 | B26: Excavación mecanica para explanación a todo factor | J26: =SUM(J27) -> 5 | M26: =4*2 -> 8
A27: 1.3.1 | B27: =+B26 -> Excavación mecanica para explanación a todo factor | C27: m3 | D27: 5 | E27: 0.2 | F27: 5 | J27: =+F27*E27*D27 -> 5 | M27: =+M26+M25+M24 -> 38.4 | N27: =+M27*2 -> 76.8
A28: 1.4 | B28: Relleno con recebo compactado | J28: =SUM(J29:J39) -> 107.15595 | P28: =36.2-5 -> 31.2 | Q28: =1.2*14 -> 16.8
A29: 1.3.2 | J29: =+F29*E29*D29 -> 0
A30: 1.4.1 | B30: Relleno zapatas | C30: m3 | D30: 2.5 | E30: 2.5 | F30: 0.65 | G30: =+G18 -> 4 | J30: =+F30*E30*D30*G30 -> 16.25
A31: 1.4.2 | B31: Relleno zapatas | C31: m3 | D31: 2.4 | E31: 2.4 | F31: 0.65 | G31: 4 | J31: =+F31*E31*D31*G31 -> 14.976
A32: 1.4.3 | B32: Relleno zapatas | C32: m3 | D32: 2.3 | E32: 2.3 | F32: 0.65 | G32: 4 | J32: =+F32*E32*D32*G32 -> 13.754
A33: 1.4.4 | B33: Relleno Viga para estructura | C33: =+C30 -> m3 | D33: =+D21 -> 38.4 | E33: 0.05 | F33: 0.05 | J33: =+F33*E33*D33 -> 0.096
A34: 1.4.5 | B34: relleno cunetas | C34: m3 | D34: 54.1 | E34: 0.5 | F34: 0.1 | J34: =+D34*E34*F34 -> 2.705 | Q34: =0.0256*6 -> 0.1536
A35: 1.4.6 | B35: Relleno cajas de inspección | C35: m3 | D35: 1 | E35: 1 | F35: 0.2 | G35: 2 | J35: =+D35*E35*F35*G35 -> 0.4
A36: 1.4.7 | B36: Relleno Para tubería aguas lluvias | C36: m3 | D36: =+D24 -> 36.7 | E36: 0.4 | F36: 0.44 | J36: =+D36*E36*F36 -> 6.4592
A37: 1.4.8 | B37: relleno andenes perimetrales | C37: =+C36 -> m3 | D37: =27*2 -> 54 | E37: 1 | F37: 0.1 | J37: =+D37*E37*F37 -> 5.4
A38: 1.4.9 | B38: relleno cerramiento | C38: =+C37 -> m3 | D38: 42.2 | E38: =+E25 -> 0.3 | F38: 0.1 | J38: =+D38*E38*F38 -> 1.266
A39: 1.4.10 | B39: relleno plca poli | C39: =+C38 -> m3 | D39: 27.05 | E39: 16.95 | F39: 0.1 | J39: =+D39*E39*F39 -> 45.84975
A40: 1.5 | B40: Demolición de piso en concreto. Incluye: Retiro | J40: =SUM(J41:J41) -> 402.0016
A41: 1.5.2 | B41: Demolición placa de juegos existente cimentacion | C41: m2 | D41: 27.61 | E41: 14.56 | J41: =+D41*E41 -> 402.0016
A42: 1.6 | B42: Desmonte de malla eslabonada | J42: =SUM(J43:J44) -> 60.786
A43: 1.6.1 | B43: =+B42 -> Desmonte de malla eslabonada | C43: m2 | D43: 27.63 | E43: 2.2 | J43: =+D43*E43 -> 60.786
...

Sheet CRONOGRAMA DE FLUJO
A2: MUNICIPIO DE OPORAPA
A3: CONSTRUCCION, ADECUACION Y MEJORAMIENTO DEL POLIDEPORTIVO EN LA VEREDA EL CARMEN AREA RURAL DEL MUNICIPIO DE OPORAPA HUILA
D5: MUNICIPIO : | N5: OPORAPA
D6: LUGAR : | N6: EL CARMEN
D7: FECHA : | N7: FEBRERO DE 2026
A8: ÍTEM | B8: DESCRIPCIÓN | C8: V/PARCIAL | D8: PARTICIPACION | E8: DURACION | F8: ETAPA PRECONTRACTUAL | N8: SEMANAS (MILES DE PESOS) | AD8: ETAPA DE LIQUIDACIÓN
E9: semanas | F9: 1 | G9: 2 | H9: 3 | I9: 4 | J9: 5 | K9: 6 | L9: 7 | M9: 8 | N9: 9 | O9: 10 | P9: 11 | Q9: 12 | R9: 13 | S9: 14 | T9: 15 | U9: 16 | V9: 17 | W9: 18 | X9: 19 | Y9: 20 | Z9: 21 | AA9: 22 | AB9: 23 | AC9: 24 | AD9: 26 | AE9: 27 | AF9: 28 | AG9: 29
A10: A | B10: ETAPA PRECONTRACTUAL | E10: 8
E11: FLUJO
A12: 1 | B12: PRELIMINARES | C12: =+C14+C16+C18+C20+C22+C24+C26 -> 51343079 | D12: =+C12/$C$119 -> 0.085625706 | E12: 3
E13: FLUJO | N13: =+N15+N17+N21+N23 -> 27408.645 | O13: =+O19+O17+O23+O25 -> 21455.999 | P13: =+P27 -> 2478.436
A14: 1.1 | B14: =+'Presupuesto INDERHUILA'!B14 -> Localización y replanteo | C14: =+'Presupuesto INDERHUILA'!F14 -> 1551650 | D14: =+C14/$C$119 -> 0.0025877125 | E14: 1
E15: FLUJO | N15: =+$C14/($E14*1000) -> 1551.65
A16: 1.2 | B16: =+'Presupuesto INDERHUILA'!B15 -> Excavación manual en material común con retiro de sobrantes. | C16: =+'Presupuesto INDERHUILA'!F15 -> 11990321 | D16: =+C16/$C$119 -> 0.019996458 | E16: 2
E17: FLUJO | N17: =+$C16/($E16*1000) -> 5995.1605 | O17: =+$C16/($E16*1000) -> 5995.1605
A18: 1.3 | B18: =+'Presupuesto INDERHUILA'!B16 -> Excavación mecanica para explanación a todo factor. Incluye Retiro | C18: =+'Presupuesto INDERHUILA'!F16 -> 7248472 | D18: =+C18/$C$119 -> 0.012088397 | E18: 1
E19: FLUJO | O19: =+$C18/($E18*1000) -> 7248.472
A20: 1.4 | B20: =+'Presupuesto INDERHUILA'!B17 -> Relleno en recebo compactado PM 95% | C20: =+'Presupuesto INDERHUILA'!F17 -> 13303807 | D20: =+C20/$C$119 -> 0.02218698 | E20: 1
E21: FLUJO | N21: =+$C20/($E20*1000) -> 13303.807
A22: 1.5 | B22: =+'Presupuesto INDERHUILA'!B18 -> Demolición de piso en concreto. Incluye Retiro | C22: =+'Presupuesto INDERHUILA'!F18 -> 13116054 | D22: =+C22/$C$119 -> 0.021873861 | E22: 2
E23: FLUJO | N23: =+$C22/($E22*1000) -> 6558.027 | O23: =+$C22/($E22*1000) -> 6558.027
A24: 1.6 | B24: =+'Presupuesto INDERHUILA'!B19 -> Desmonte de malla eslabonada | C24: =+'Presupuesto INDERHUILA'!F19 -> 1654339 | D24: =+C24/$C$119 -> 0.0027589686 | E24: 1
E25: FLUJO | O25: =+$C24/($E24*1000) -> 1654.339
A26: 1.7 | B26: =+'Presupuesto INDERHUILA'!B20 -> Retiro de postes existentes, incluye demolición y retiro de cimentación, acometida, lamparas, crucetas y demás elementos | C26: =+'Presupuesto INDERHUILA'!F20 -> 2478436 | D26: =+C26/$C$119 -> 0.0041333289 | E26: 1
E27: FLUJO | P27: =+$C26/($E26*1000) -> 2478.436
A28: 2 | B28: CONSTRUCCIÓN DE ESTRUCTURA EN CONCRETO | C28: =+C30+C32+C34+C36+C38+C40+C42+C44+C46+C48+C50 -> 231335130 | D28: =+C28/$C$119 -> 0.38580144 | E28: 8
E29: FLUJO | P29: =+SUM(P30:P51) -> 26820.337 | Q29: =+SUM(Q30:Q51) -> 30737.948 | R29: =+SUM(R30:R51) -> 45682.669 | S29: =+SUM(S30:S51) -> 51380.556 | T29: =+SUM(T30:T51) -> 42886.434 | U29: =+SUM(U30:U51) -> 11275.729 | V29: =+SUM(V30:V51) -> 11275.729 | W29: =+SUM(W30:W51) -> 11275.729
A30: 2.1 | B30: =+'Presupuesto INDERHUILA'!B22 -> Viga de cimiento en concreto de 3000 PSI | C30: =+'Presupuesto INDERHUILA'!F22 -> 8834195 | D30: =+C30/$C$119 -> 0.014732934 | E30: 3
E31: FLUJO | P31: =+$C30/($E30*1000) -> 2944.7317 | Q31: =+$C30/($E30*1000) -> 2944.7317 | R31: =+$C30/($E30*1000) -> 2944.7317
A32: 2.2 | B32: =+'Presupuesto INDERHUILA'!B23 -> Placa en concreto de 3000 PSI, e=0.10 mts incluye malla electrosoldada 6mm; Huecos 15x15 cm | C32: =+'Presupuesto INDERHUILA'!F23 -> 75084423 | D32: =+C32/$C$119 -> 0.12521954 | E32: 3
E33: FLUJO | R33: =+$C32/($E32*1000) -> 25028.141 | S33: =+$C32/($E32*1000) -> 25028.141 | T33: =+$C32/($E32*1000) -> 25028.141
A34: 2.3 | B34: =+'Presupuesto INDERHUILA'!B24 -> Concreto Zapatas de 3000 PSI | C34: =+'Presupuesto INDERHUILA'!F24 -> 26380203 | D34: =+C34/$C$119 -> 0.043994703 | E34: 2
E35: FLUJO | P35: =+$C34/($E34*1000) -> 13190.102 | Q35: =+$C34/($E34*1000) -> 13190.102
A36: 2.4 | B36: =+'Presupuesto INDERHUILA'!B25 -> Columna en concreto de 3000 PSI | C36: =+'Presupuesto INDERHUILA'!F25 -> 11752834 | D36: =+C36/$C$119 -> 0.019600397 | E36: 3
E37: FLUJO | Q37: =+$C36/($E36*1000) -> 3917.6113 | R37: =+$C36/($E36*1000) -> 3917.6113 | S37: =+$C36/($E36*1000) -> 3917.6113
A38: 2.5 | B38: =+'Presupuesto INDERHUILA'!B26 -> Viga aerea en concreto de 3000 PSI | C38: =+'Presupuesto INDERHUILA'!F26 -> 10300274 | D38: =+C38/$C$119 -> 0.017177938 | E38: 5
