Workbook

Sheet HISTORICOS
A1: Item | B1: DESCRIPCIÓN DEL BIEN | C1: 2022 | E1: Item | F1: Descripción del Bien o servicio | G1: 2023 | J1: Item | K1: Descripción del Bien o servicio | L1: 2024 | O1: Item | P1: Descripción del Bien o servicio | Q1: 2025
C2: UNIDAD DE MEDIDA | D2: PRECIOS UNITARIOS OFERTADOS CON IVA | G2: Unidad de Medida | H2: PRECIOS UNITARIOS OFERTADOS CON IVA | L2: Unidad de Medida | M2: Precio Unitario Incluido IVA | Q2: Unidad de Medida | R2: Precio Unitario Incluido IVA
A3: 1 | B3: Agendas hojas interiores de papel bond de 70 grs. Tamaño: 17 cm x 24.5 cm. Mínimo 200 hojas. Tapa dura | C3: Unidad | D3: 36212 | E3: 1 | F3: Agendas hojas interiores de papel bond de 70 grs. Tamaño: 17 cm x 24.5 cm. Mínimo 200 hojas. Tapa dura | G3: Unidad | H3: 28917 | J3: 1 | K3: Agendas hojas interiores de papel bond de 70 grs. Tamaño: 17 cm x 24.5 cm. Mínim o 200 hojas. Tapa dura | L3: Unidad | M3: 29750 | O3: 1 | P3: Agendas hojas interiores de papel bond de 70 grs. Tamaño: 17 cm x 24.5 cm. Mínim o 200 hojas. Tapa dura | Q3: Unidad | R3: 29750
A4: 2 | B4: Almohadilla Dactilar Recargable para sellos, Cascara en poliestireno de alto impacto/ caja plástica rígida, Ancho 90 a 110 mm; largo/longitud 125 a 135 mm | C4: Unidad | D4: 5379 | E4: 2 | F4: Almohadilla Dactilar - Huellero | G4: Unidad | H4: 2490.075 | J4: 2 | K4: Almohadilla Dactilar - Huellero | L4: Unidad | M4: 4105.5 | O4: 2 | P4: Almohadilla Dactilar - Huellero | Q4: Unidad | R4: 4105.5
A5: 3 | B5: Bandas Elásticas Ref. 22 X 25G, en caucho | C5: Caja | D5: 805 | E5: 3 | F5: Almohadilla Recargable para sellos | G5: Unidad | H5: 7357.77 | J5: 3 | K5: Almohadilla Recargable para sellos | L5: Unidad | M5: 3558.1 | O5: 3 | P5: Almohadilla Recargable para sellos | Q5: Unidad | R5: 3558.1
A6: 4 | B6: Banderitas-Mini-Banderitas- Señales Autoadhesivas de media pulgada por 5 colores, plasticas, Con adhesivo en la punta y en una cara de la banderita | C6: Paquete x 100 | D6: 3277 | E6: 4 | F6: Bandas Elásticas Ref. 22 X 25G, en caucho | G6: Caja x 25gr | H6: 963.9 | J6: 4 | K6: Bandas Elásticas Ref. 22 X 25G, en caucho | L6: Caja x 25gr | M6: 1309 | O6: 4 | P6: Bandas Elásticas Ref. 22 X 25G, en caucho | Q6: Caja x 25gr | R6: 1309
A7: 5 | B7: Bisturí 18 cm Plástico con bloqueo de la cuchilla y con corta cuchilla. | C7: Unidad | D7: 1143 | E7: 5 | F7: Banderitas-Mini: Señales Autoadhesivas de media pulgada por 5 colores, plásticas, con adhesivo en la punta y en una cara de la banderita | G7: Paquete x 125 | H7: 4605.3 | J7: 5 | K7: Banderitas-Mini: Señales Autoadhesivas de media pulgada por 5 colores, plásticas, con adhesivo en la punta y en una cara de la banderita | L7: Paquete x 125 | M7: 3570 | O7: 5 | P7: Banderitas-Mini: Señales Autoadhesivas de media pulgada por 5 colores, plásticas, con adhesivo en la punta y en una cara de la banderita | Q7: Paquete x 125 | R7: 3570
A8: 6 | B8: Bolígrafo de mina negra retráctil, escritura suave e intensa | C8: Unidad | D8: 1235 | E8: 6 | F8: Bisturí 18 cm plástico con bloqueo de la cuchilla y con corta cuchilla | G8: Unidad | H8: 4158.336 | J8: 6 | K8: Bisturí 18 cm plástico con bloqueo de la cuchilla y con corta cuchilla | L8: Unidad | M8: 2378.81 | O8: 6 | P8: Bisturí 18 cm plástico con bloqueo de la cuchilla y con corta cuchilla | Q8: Unidad | R8: 2378.81
A9: 7 | B9: Bolígrafo de mina roja retráctil, escritura suave e intensa | C9: Unidad | D9: 1235 | E9: 7 | F9: Block Amarillo Cuadriculado Carta X 50 Hojas | G9: Unidad | H9: 6211.8 | J9: 7 | K9: Block Amarillo Cuadriculado Carta X 50 Hojas | L9: Unidad | M9: 4641 | O9: 7 | P9: Block Amarillo Cuadriculado Carta X 50 Hojas | Q9: Unidad | R9: 4641
A10: 8 | B10: Borrador de nata No toxico - Producción nacional | C10: Unidad | D10: 478 | E10: 8 | F10: Bolígrafo de mina negra retráctil, escritura suave e intensa | G10: Unidad | H10: 963.9 | J10: 8 | K10: Block Blanco Cuadriculado Carta X 50 Hojas | L10: Unidad | M10: 4522 | O10: 8 | P10: Block Blanco Cuadriculado Carta X 50 Hojas | Q10: Unidad | R10: 4522
A11: 9 | B11: Borrador para Tablero acrílico, Elaborado con felpa sintética, fieltro o paño chalet. La base debe ser en madera o plástico | C11: Unidad | D11: 1876 | E11: 9 | F11: Bolígrafo de mina roja retráctil, escritura suave e intensa | G11: Unidad | H11: 963.9 | J11: 9 | K11: Bolígrafo de mina negra retráctil, semi gel, punta 0.7 mm | L11: Unidad | M11: 1029.35 | O11: 9 | P11: Bolígrafo de mina negra retráctil, semi gel, punta 0.7 mm | Q11: Unidad | R11: 1029.35
A12: 10 | B12: CAJA DE CHINCHES TRITON X 50 UNIDADES | C12: Unidad | D12: 1788 | E12: 10 | F12: Borrador de nata No toxico - Producción nacional | G12: Caja x 24 | H12: 426.496 | J12: 10 | K12: Bolígrafo de mina colores surtidos retráctil, semi gel, punta 0.7 mm | L12: Unidad | M12: 1124.55 | O12: 10 | P12: Bolígrafo de mina colores surtidos retráctil, semi gel, punta 0.7 mm | Q12: Unidad | R12: 1124.55
A13: 11 | B13: CAJA DE CORRECTORES LIQUIDO X 12 UND, presentación en lápiz, con punta metálica | C13: Unidad | D13: 24500 | E13: 11 | F13: Borrador para tablero acrílico, elaborado con felpa sintética, fieltro o paño chalet. La base debe ser en madera o plástico | G13: Unidad | H13: 1904 | J13: 11 | K13: Borrador de nata No toxico - Producción nacional | L13: Caja x 24 | M13: 9996 | O13: 11 | P13: Borrador de nata No toxico - Producción nacional | Q13: Caja x 24 | R13: 9996
A14: 12 | B14: Cajas X-200 para archivo (cantidad minima a solicitar: 1.000 unds) especificaciones completas en anexo tecnico) | C14: Unidad | D14: 4279 | E14: 12 | F14: Caja De Chinches | G14: Caja x 50 | H14: 1370.88 | J14: 12 | K14: Borrador para tablero acrílico, elaborado con felpa sintética, fieltro o paño chalet. La base debe ser en madera o plástico | L14: Unidad | M14: 2142 | O14: 12 | P14: Borrador para tablero acrílico, elaborado con felpa sintética, fieltro o paño chalet. La base debe ser en madera o plástico | Q14: Unidad | R14: 2142
... A111: 110 | B111: Vinipel industrial de 50 cms ancho x 700 mts largo calibre 8 | C111: Rollo | D111: 72346 | E111: 109 | F111: Tijera De Acero Inoxidable con agarraderas recubiertas en plástico o caucho | G111: Unidad | H111: 4645.76 | J111: 109 | K111: TINTA PARA PLOTTER HP 727 YELLOW 300 ML - ORIGINAL | L111: Unidad | M111: 372470 | O111: 109 | P111: Tinta para plotter HP 727 YELLOW 300ml - ORIGINAL | Q111: Unidad | R111: 372470
B112: VALOR TOTAL SUMATORIA ITEMS UNITARIOS PRECIOS TECHOS IVA INCLUIDO | E112: 110 | F112: Tijeras Punta Roma con agarraderas recubiertas en plástico o caucho | G112: Unidad | H112: 1523.2 | J112: 110 | K112: TINTA PARA PLOTTER HP 727 CYAN 300 ML - ORIGINAL | L112: Unidad | M112: 372470 | O112: 110 | P112: Tinta para plotter HP 727 CYAN 300ml - ORIGINAL | Q112: Unidad | R112: 372470
B113: VALOR TOTAL SUMATORIA ITEMS UNITARIOS PRECIOS PROPUESTA IVA INCLUIDO | D113: =SUM(D3:D111) -> 3143111 | E113: 111 | F113: Tinta para plotter HP 727 PK PHOTO BLACK 300ml - ORIGINAL | G113: Unidad | H113: 440300 | J113: 111 | K113: TINTA PARA PLOTTER HP 727 GRIS 300 ML - ORIGINAL | L113: Unidad | M113: 372470 | O113: 111 | P113: Tinta para plotter HP 727 GRIS 300ml - ORIGINAL | Q113: Unidad | R113: 372470
E114: 112 | F114: Tinta para plotter HP 727 MK NEGRO 300ml - ORIGINAL | G114: Unidad | H114: 352240 | J114: 112 | K114: TINTA PARA PLOTTER HP 727 MAGENTA 300 ML - ORIGINAL | L114: Unidad | M114: 372470 | O114: 112 | P114: Tinta para plotter HP 727 MAGENTA 300ml - ORIGINAL | Q114: Unidad | R114: 372470
E115: 113 | F115: Tinta para plotter HP 727 YELLOW 300ml - ORIGINAL | G115: Unidad | H115: 352240 | J115: 113 | K115: Tinta para sello - NEGRO | L115: Unidad | M115: 3034.5 | O115: 113 | P115: Tinta para sello - NEGRO | Q115: Unidad | R115: 3034.5
E116: 114 | F116: Tinta para plotter HP 727 CYAN 300ml - ORIGINAL | G116: Unidad | H116: 352240 | J116: 114 | K116: Tinta para sello - ROJO | L116: Unidad | M116: 3034.5 | O116: 114 | P116: Tinta para sello - ROJO | Q116: Unidad | R116: 3034.5
E117: 115 | F117: Tinta para plotter HP 727 GRIS 300ml - ORIGINAL | G117: Unidad | H117: 352240 | J117: 115 | K117: Vinipel industrial de 50 cms ancho x 700 mts largo calibre 8 | L117: Unidad - Rollo | M117: 34800.36 | O117: 115 | P117: Vinipel industrial de 50 cms ancho x 700 mts largo calibre 8 | Q117: Unidad - Rollo | R117: 34800.36
B118: MARGARITA ANGIE MARIA VELASQUEZ CHAVES | E118: 116 | F118: Tinta para plotter HP 727 MAGENTA 300ml - ORIGINAL | G118: Unidad | H118: 352240 | J118: VALOR TOTAL SUMATORIA ITEMS UNITARIOS PRECIOS TECHOS IVA INCLUIDO | O118: VALOR TOTAL SUMATORIA ITEMS UNITARIOS PRECIOS TECHOS IVA INCLUIDO
B119: REPRESENTANTE LEGAL | E119: 117 | F119: Tinta para plotter HP 727 PK PHOTO BLACK 130ml - ORIGINAL | G119: Unidad | H119: 352240 | J119: VALOR TOTAL SUMATORIA ITEMS UNITARIOS PRECIOS PROPUESTA IVA INCLUIDO | M119: 6999000.5 | O119: VALOR TOTAL SUMATORIA ITEMS UNITARIOS PRECIOS PROPUESTA IVA INCLUIDO | R119: 6999000.5
B120: C.C. 63.542.265 | E120: 118 | F120: Tinta para plotter HP 727 MK NEGRO 130ml - ORIGINAL | G120: Unidad | H120: 352240
B121: TAFINCO SAS | E121: 119 | F121: Tinta para plotter HP 727 YELLOW 130ml - ORIGINAL | G121: Unidad | H121: 352240 | J121: Observaciones: LOS TONER SON ORIGINALES DE LA MARCA DE LA MAQUINA HECTOR CORREA GIRALDO REPRESENTANTE LEGAL / GRUPO LOS LAGOS SAS | O121: Observaciones: LOS TONER SON ORIGINALES DE LA MARCA DE LA MAQUINA HECTOR CORREA GIRALDO REPRESENTANTE LEGAL / GRUPO LOS LAGOS SAS
B122: NIT 901.251.520-3 | E122: 120 | F122: Tinta para plotter HP 727 CYAN 130ml - ORIGINAL | G122: Unidad | H122: 352240
B123: DIRECCION CARRERA 119 80 22 | E123: 121 | F123: Tinta para plotter HP 727 GRIS 130ml - ORIGINAL | G123: Unidad | H123: 352240
B124: TEL 7504952 | E124: 122 | F124: Tinta para plotter HP 727 MAGENTA 130ml - ORIGINAL | G124: Unidad | H124: 352240
B125: Email: tafincosas@gmail.com | E125: 123 | F125: Tinta para sello - NEGRO | G125: Unidad | H125: 2208.64
E126: 124 | F126: Tinta para sello - ROJO | G126: Unidad | H126: 2208.64
E127: 125 | F127: Vinipel industrial de 50 cms ancho x 700 mts largo calibre 8 | G127: Unidad - Rollo | H127: 57881.6
E128: VALOR TOTAL | H128: =SUM(H3:H127) -> 7746166.6
C133: CONSUMOS MENSUALES | S133: Contrato 2024-2025 FORMARCHIVOS
A136: Item | B136: Descripción del Bien o servicio | C136: Unidad de Medida | D136: ENERO | E136: FEBERO | F136: MARZO ABR MAY | G136: JUN | H136: JUL | I136: AGOS | J136: SEP OCT NOV DIC | K136: Promedio
A137: 1 | B137: Agendas hojas interiores de papel bond de 70 grs. Tamaño: 17 cm x 24.5 cm. Mínim o 2 00 hojas. Tapa dura | C137: Unidad | L137: ='PRECIOS UNITARIOS TECHO'!N11 -> 30340 | M137: =K137*L137 -> 0
A138: 2 | B138: Almohadilla Dactilar - Huellero | C138: Unidad | D138: 10 | E138: 10 | F138: 10 | G138: 10 | H138: 10 | K138: =AVERAGE(D138:J138) -> 10
A139: 3 | B139: Almohadilla Recargable para sellos | C139: Unidad | F139: 20 | G139: 15 | H139: 15 | K139: =AVERAGE(D139:J139) -> 16.666667 | S139: 3213
A140: 4 | B140: Bandas Elásticas Ref. 22 X 25G, en caucho | C140: Caja x 25gr | D140: 50 | E140: 50 | F140: 50 | J140: 151 | K140: =AVERAGE(D140:J140) -> 75.25 | S140: 1903
A141: 5 | B141: Banderitas-Mini: Señales Autoadhesivas de media pulgada por 5 colores, plás ticas, con adhesivo en la punta y en una cara de la banderita | C141: Paquete x 125 | D141: 15 | K141: =AVERAGE(D141:J141) -> 15 | S141: 1547
A142: 6 | B142: Bisturí 18 cm plástico con bloqueo de la cuchilla y con corta cuchilla | C142: Unidad | D142: 5 | E142: 10 | F142: 20 | G142: 20 | H142: 20 | J142: 25 | K142: =AVERAGE(D142:J142) -> 16.666667
...

Sheet PRESUPUESTO
A1: Tiempo estimado de ejecución | C1: 6 | D1: Meses
A2: No. | B2: No. Item Tarifario | C2: Descripción del Bien o servicio | D2: Unidad de Medida | E2: Promedio consumo mensual 2025 | F2: ='PRECIOS UNITARIOS TECHO'!R9 -> PRECIOS TECHO FINAL | G2: PRESUPUESTO ESTIMADO | H2: Valor cinsumo promedio mensual
A3: 1 | B3: 2 | C3: Almohadilla Dactilar - Huellero | D3: Unidad | E3: =HISTORICOS!K138 -> 10 | F3: =_xlfn.XLOOKUP(B3,'PRECIOS UNITARIOS TECHO'!A:A,'PRECIOS UNITARIOS TECHO'!R:R,0) -> 4430 | G3: =E3*F3*$C$1 -> 265800 | H3: =F3*E3 -> 44300
A4: 2 | B4: 3 | C4: Almohadilla Recargable para sellos | D4: Unidad | E4: =HISTORICOS!K139 -> 16.666667 | F4: =_xlfn.XLOOKUP(B4,'PRECIOS UNITARIOS TECHO'!A:A,'PRECIOS UNITARIOS TECHO'!R:R,0) -> 4761 | G4: =E4*F4*$C$1 -> 476100 | H4: =F4*E4 -> 79350
A5: 3 | B5: 4 | C5: Bandas Elásticas Ref. 22 X 25G, en caucho | D5: Caja x 25gr | E5: =HISTORICOS!K140 -> 75.25 | F5: =_xlfn.XLOOKUP(B5,'PRECIOS UNITARIOS TECHO'!A:A,'PRECIOS UNITARIOS TECHO'!R:R,0) -> 1251 | G5: =E5*F5*$C$1 -> 564826.5 | H5: =F5*E5 -> 94137.75
A6: 4 | B6: 5 | C6: Banderitas-Mini: Señales Autoadhesivas de media pulgada por 5 colores, plás ticas, con adhesivo en la punta y en una cara de la banderita | D6: Paquete x 125 | E6: =HISTORICOS!K141 -> 15 | F6: =_xlfn.XLOOKUP(B6,'PRECIOS UNITARIOS TECHO'!A:A,'PRECIOS UNITARIOS TECHO'!R:R,0) -> 3831 | G6: =E6*F6*$C$1 -> 344790 | H6: =F6*E6 -> 57465
A7: 5 | B7: 6 | C7: Bisturí 18 cm plástico con bloqueo de la cuchilla y con corta cuchilla | D7: Unidad | E7: =HISTORICOS!K142 -> 16.666667 | F7: =_xlfn.XLOOKUP(B7,'PRECIOS UNITARIOS TECHO'!A:A,'PRECIOS UNITARIOS TECHO'!R:R,0) -> 2687 | G7: =E7*F7*$C$1 -> 268700 | H7: =F7*E7 -> 44783.333
A8: 6 | B8: 7 | C8: Block Amarillo Cuadriculado Carta X 50 Hojas | D8: Unidad | E8: =HISTORICOS!K143 -> 20 | F8: =_xlfn.XLOOKUP(B8,'PRECIOS UNITARIOS TECHO'!A:A,'PRECIOS UNITARIOS TECHO'!R:R,0) -> 5333 | G8: =E8*F8*$C$1 -> 639960 | H8: =F8*E8 -> 106660
A9: 7 | B9: 9 | C9: Bolígrafo de mina negra retráctil, semi gel, punta 0.7 mm | D9: Unidad | E9: =HISTORICOS!K145 -> 200 | F9: =_xlfn.XLOOKUP(B9,'PRECIOS UNITARIOS TECHO'!A:A,'PRECIOS UNITARIOS TECHO'!R:R,0) -> 1190 | G9: =E9*F9*$C$1 -> 1428000 | H9: =F9*E9 -> 238000
A10: 8 | B10: 10 | C10: Bolígrafo de mina colores surtidos retráctil, semi gel, punta 0.7 mm | D10: Unidad | E10: =HISTORICOS!K146 -> 70 | F10: =_xlfn.XLOOKUP(B10,'PRECIOS UNITARIOS TECHO'!A:A,'PRECIOS UNITARIOS TECHO'!R:R,0) -> 1279.25 | G10: =E10*F10*$C$1 -> 537285 | H10: =F10*E10 -> 89547.5
A11: 9 | B11: 11 | C11: Borrador de nata No toxico - Producción nacional | D11: Caja x 24 | E11: =HISTORICOS!K147 -> 8 | F11: =_xlfn.XLOOKUP(B11,'PRECIOS UNITARIOS TECHO'!A:A,'PRECIOS UNITARIOS TECHO'!R:R,0) -> 10538 | G11: =E11*F11*$C$1 -> 505824 | H11: =F11*E11 -> 84304
A12: 10 | B12: 12 | C12: Borrador para tablero acrílico, elaborado con felpa sintética, fieltro o paño chalet. La base debe ser en madera o plástico | D12: Unidad | E12: =HISTORICOS!K148 -> 10 | F12: =_xlfn.XLOOKUP(B12,'PRECIOS UNITARIOS TECHO'!A:A,'PRECIOS UNITARIOS TECHO'!R:R,0) -> 2731.05 | G12: =E12*F12*$C$1 -> 163863 | H12: =F12*E12 -> 27310.5
A13: 11 | B13: 13 | C13: Caja de Chinches | D13: Caja x 50 | E13: =HISTORICOS!K149 -> 8 | F13: =_xlfn.XLOOKUP(B13,'PRECIOS UNITARIOS TECHO'!A:A,'PRECIOS UNITARIOS TECHO'!R:R,0) -> 1865 | G13: =E13*F13*$C$1 -> 89520 | H13: =F13*E13 -> 14920
A14: 12 | B14: 14 | C14: Cargador Pilas AA Para 4 pilas | D14: Unidad | E14: =HISTORICOS!K150 -> 1 | F14: =_xlfn.XLOOKUP(B14,'PRECIOS UNITARIOS TECHO'!A:A,'PRECIOS UNITARIOS TECHO'!R:R,0) -> 49955.55 | G14: =E14*F14*$C$1 -> 299733.3 | H14: =F14*E14 -> 49955.55
A15: 13 | B15: 15 | C15: Cargador Pilas AAA Para 4 pilas | D15: Unidad | E15: =HISTORICOS!K151 -> 2 | F15: =_xlfn.XLOOKUP(B15,'PRECIOS UNITARIOS TECHO'!A:A,'PRECIOS UNITARIOS TECHO'!R:R,0) -> 49955.55 | G15: =E15*F15*$C$1 -> 599466.6 | H15: =F15*E15 -> 99911.1
A16: 14 | B16: 22 | C16: Cartulina Blanca - Octavo | D16: Paquete X 100 | E16: =HISTORICOS!K158 -> 1 | F16: =_xlfn.XLOOKUP(B16,'PRECIOS UNITARIOS TECHO'!A:A,'PRECIOS UNITARIOS TECHO'!R:R,0) -> 15717 | G16: =E16*F16*$C$1 -> 94302 | H16: =F16*E16 -> 15717
A17: 15 | B17: 23 | C17: Cartulina Colores Surtidos - Octavo | D17: Paquete X 100 | E17: =HISTORICOS!K159 -> 1 | F17: =_xlfn.XLOOKUP(B17,'PRECIOS UNITARIOS TECHO'!A:A,'PRECIOS UNITARIOS TECHO'!R:R,0) -> 18926 | G17: =E17*F17*$C$1 -> 113556 | H17: =F17*E17 -> 18926
A18: 16 | B18: 24 | C18: CARTUCHO DE CINTA - EPSON LX-350/LX-300+II/LX-300+ (ORIGINAL) | D18: Unidad | E18: =HISTORICOS!K160 -> 2.4 | F18: =_xlfn.XLOOKUP(B18,'PRECIOS UNITARIOS TECHO'!A:A,'PRECIOS UNITARIOS TECHO'!R:R,0) -> 67235 | G18: =E18*F18*$C$1 -> 968184 | H18: =F18*E18 -> 161364
A19: 17 | B19: 25 | C19: Cd-R x 100, 700mb/80min, mínimo de velocidad de grabado 4x | D19: Paquete x 100 | E19: =HISTORICOS!K161 -> 2 | F19: =_xlfn.XLOOKUP(B19,'PRECIOS UNITARIOS TECHO'!A:A,'PRECIOS UNITARIOS TECHO'!R:R,0) -> 145180 | G19: =E19*F19*$C$1 -> 1742160 | H19: =F19*E19 -> 290360
A20: 18 | B20: 26 | C20: Cd-Rw x 25, 700mb/80min, mínimo de velocidad de grabado4x | D20: Paquete x 25 | E20: =HISTORICOS!K162 -> 2 | F20: =_xlfn.XLOOKUP(B20,'PRECIOS UNITARIOS TECHO'!A:A,'PRECIOS UNITARIOS TECHO'!R:R,0) -> 95140.5 | G20: =E20*F20*$C$1 -> 1141686 | H20: =F20*E20 -> 190281
A21: 19 | B21: 27 | C21: Cera para contar - Cera dactilar cuenta fácil de 14 grs a 20 grs., pasta incolora a b ase de glicerina, envase de polipropileno de fácil sellado con tapa. | D21: Unidad | E21: =HISTORICOS!K163 -> 10 | F21: =_xlfn.XLOOKUP(B21,'PRECIOS UNITARIOS TECHO'!A:A,'PRECIOS UNITARIOS TECHO'!R:R,0) -> 3451 | G21: =E21*F21*$C$1 -> 207060 | H21: =F21*E21 -> 34510
A22: 20 | B22: 29 | C22: Cinta Adhesiva de Empaque de polipropileno de 48mm*50 mts | D22: Unidad - Rollo | E22: =HISTORICOS!K165 -> 36.666667 | F22: =_xlfn.XLOOKUP(B22,'PRECIOS UNITARIOS TECHO'!A:A,'PRECIOS UNITARIOS TECHO'!R:R,0) -> 3895 | G22: =E22*F22*$C$1 -> 856900 | H22: =F22*E22 -> 142816.67
A23: 21 | B23: 30 | C23: Cinta Adhesiva para Enmascarar 12 mm, x 40 mts | D23: Unidad - Rollo | E23: =HISTORICOS!K166 -> 15 | F23: =_xlfn.XLOOKUP(B23,'PRECIOS UNITARIOS TECHO'!A:A,'PRECIOS UNITARIOS TECHO'!R:R,0) -> 4694.55 | G23: =E23*F23*$C$1 -> 422509.5 | H23: =F23*E23 -> 70418.25
A24: 22 | B24: 31 | C24: Cinta Adhesiva para Enmascarar 48 mm, x 40 mts | D24: Unidad - Rollo | E24: =HISTORICOS!K167 -> 22.5 | F24: =_xlfn.XLOOKUP(B24,'PRECIOS UNITARIOS TECHO'!A:A,'PRECIOS UNITARIOS TECHO'!R:R,0) -> 9456 | G24: =E24*F24*$C$1 -> 1276560 | H24: =F24*E24 -> 212760
A25: 23 | B25: 32 | C25: Cinta Adhesiva transparente de polipropileno de 12mm*40 mts | D25: Unidad - Rollo | E25: =HISTORICOS!K168 -> 15 | F25: =_xlfn.XLOOKUP(B25,'PRECIOS UNITARIOS TECHO'!A:A,'PRECIOS UNITARIOS TECHO'!R:R,0) -> 2201.5 | G25: =E25*F25*$C$1 -> 198135 | H25: =F25*E25 -> 33022.5
A26: 24 | B26: 33 | C26: Cinta Doble Faz Interiores 18mm x 5mt | D26: Unidad - Rollo | E26: =HISTORICOS!K169 -> 4.6666667 | F26: =_xlfn.XLOOKUP(B26,'PRECIOS UNITARIOS TECHO'!A:A,'PRECIOS UNITARIOS TECHO'!R:R,0) -> 14451 | G26: =E26*F26*$C$1 -> 404628 | H26: =F26*E26 -> 67438
A27: 25 | B27: 35 | C27: Clip Estándar Pequeño X 100, Alambre metálico galvanizado | D27: Caja x 100 | E27: =HISTORICOS!K171 -> 70 | F27: =_xlfn.XLOOKUP(B27,'PRECIOS UNITARIOS TECHO'!A:A,'PRECIOS UNITARIOS TECHO'!R:R,0) -> 2618 | G27: =E27*F27*$C$1 -> 1099560 | H27: =F27*E27 -> 183260
A28: 26 | B28: 36 | C28: Clip Mariposa Gigante X 12, Alambre metálico galvanizado | D28: Caja x 12 | E28: =HISTORICOS!K172 -> 16 | F28: =_xlfn.XLOOKUP(B28,'PRECIOS UNITARIOS TECHO'!A:A,'PRECIOS UNITARIOS TECHO'!R:R,0) -> 5230.05 | G28: =E28*F28*$C$1 -> 502084.8 | H28: =F28*E28 -> 83680.8
A29: 27 | B29: 37 | C29: Clip Mariposa x 50, Alambre metálico galvanizado | D29: Caja x 50 | E29: =HISTORICOS!K173 -> 5 | F29: =_xlfn.XLOOKUP(B29,'PRECIOS UNITARIOS TECHO'!A:A,'PRECIOS UNITARIOS TECHO'!R:R,0) -> 5027.75 | G29: =E29*F29*$C$1 -> 150832.5 | H29: =F29*E29 -> 25138.75
A30: 28 | B30: 38 | C30: Colbón 125g | D30: Unidad | E30: =HISTORICOS!K174 -> 5 | F30: =_xlfn.XLOOKUP(B30,'PRECIOS UNITARIOS TECHO'!A:A,'PRECIOS UNITARIOS TECHO'!R:R,0) -> 4462.5 | G30: =E30*F30*$C$1 -> 133875 | H30: =F30*E30 -> 22312.5
A31: 29 | B31: 39 | C31: Corrector Líquido, presentación en lápiz con punta metálica. | D31: Caja x 12 | E31: =HISTORICOS!K175 -> 5 | F31: =_xlfn.XLOOKUP(B31,'PRECIOS UNITARIOS TECHO'!A:A,'PRECIOS UNITARIOS TECHO'!R:R,0) -> 13826 | G31: =E31*F31*$C$1 -> 414780 | H31: =F31*E31 -> 69130
A32: 30 | B32: 40 | C32: Cosedora de oficina mínimo 30 Hojas, resistente y fuerte, liviana, Medidas aproximadas d e 186 mm largo x 64 mm alto x 44 mm ancho | D32: Unidad | E32: =HISTORICOS!K176 -> 10 | F32: =_xlfn.XLOOKUP(B32,'PRECIOS UNITARIOS TECHO'!A:A,'PRECIOS UNITARIOS TECHO'!R:R,0) -> 19599 | G32: =E32*F32*$C$1 -> 1175940 | H32: =F32*E32 -> 195990
A33: 31 | B33: 44 | C33: DVD-R Paquete X 50, Mayor o igual a 4,7 GB mínimo de velocidad de grabado 4x o más | D33: Paquete X 50 | E33: =HISTORICOS!K180 -> 1 | F33: =_xlfn.XLOOKUP(B33,'PRECIOS UNITARIOS TECHO'!A:A,'PRECIOS UNITARIOS TECHO'!R:R,0) -> 83300 | G33: =E33*F33*$C$1 -> 499800 | H33: =F33*E33 -> 83300
A34: 32 | B34: 46 | C34: Fundas Polipropileno para CD o DVD | D34: Paquete x 100 | E34: =HISTORICOS!K182 -> 3.5 | F34: =_xlfn.XLOOKUP(B34,'PRECIOS UNITARIOS TECHO'!A:A,'PRECIOS UNITARIOS TECHO'!R:R,0) -> 12999 | G34: =E34*F34*$C$1 -> 272979 | H34: =F34*E34 -> 45496.5
A35: 33 | B35: 47 | C35: Funda transparente multitaladro tamaño carta | D35: Paquete X 100 | E35: =HISTORICOS!K183 -> 3 | F35: =_xlfn.XLOOKUP(B35,'PRECIOS UNITARIOS TECHO'!A:A,'PRECIOS UNITARIOS TECHO'!R:R,0) -> 16195 | G35: =E35*F35*$C$1 -> 291510 | H35: =F35*E35 -> 48585
A36: 34 | B36: 48 | C36: Funda transparente multitaladro tamaño oficio | D36: Paquete X 100 | E36: =HISTORICOS!K184 -> 3 | F36: =_xlfn.XLOOKUP(B36,'PRECIOS UNITARIOS TECHO'!A:A,'PRECIOS UNITARIOS TECHO'!R:R,0) -> 20706 | G36: =E36*F36*$C$1 -> 372708 | H36: =F36*E36 -> 62118
A37: 35 | B37: 50 | C37: Grapa estándar galvanizada para cosedora | D37: Caja x 5000 | E37: =HISTORICOS!K185 -> 20 | F37: =_xlfn.XLOOKUP(B37,'PRECIOS UNITARIOS TECHO'!A:A,'PRECIOS UNITARIOS TECHO'!R:R,0) -> 5483 | G37: =E37*F37*$C$1 -> 657960 | H37: =F37*E37 -> 109660
A38: 36 | B38: 53 | C38: Guillotina manual 30*30, corte de mínimo 10 hojas | D38: Unidad | E38: =HISTORICOS!K187 -> 1.3333333 | F38: =_xlfn.XLOOKUP(B38,'PRECIOS UNITARIOS TECHO'!A:A,'PRECIOS UNITARIOS TECHO'!R:R,0) -> 94010 | G38: =E38*F38*$C$1 -> 752080 | H38: =F38*E38 -> 125346.67
A39: 37 | B39: 54 | C39: Lápiz de escritura madera forma hexagonal de mina negra de grafito HB #2, con b orrado r asegurado en casquillo de metal sin bordes afilados ni cortantes con borrador que no manche ni rompe el papel, banda roja de calidad controlada. De producción nacional preferiblemente | D39: Caja x 12 | E39: =HISTORICOS!K188 -> 20 | F39: =_xlfn.XLOOKUP(B39,'PRECIOS UNITARIOS TECHO'!A:A,'PRECIOS UNITARIOS TECHO'!R:R,0) -> 6730 | G39: =E39*F39*$C$1 -> 807600 | H39: =F39*E39 -> 134600
A40: 38 | B40: 56 | C40: Marcador borrable negro | D40: Caja x 10 | E40: =HISTORICOS!K190 -> 3.3333333 | F40: =_xlfn.XLOOKUP(B40,'PRECIOS UNITARIOS TECHO'!A:A,'PRECIOS UNITARIOS TECHO'!R:R,0) -> 19423 | G40: =E40*F40*$C$1 -> 388460 | H40: =F40*E40 -> 64743.333
...

Sheet ANÁLISIS CONSOLIDADO
A1: SECRETARÍA DISTRITAL DEL HÁBITAT | Q1: Colombia, Indice de Precios al Consumidor (IPC)
A2: DIRECCIÓN ADMINISTRATIVA | Q2: Variaciones porcentuales 2020 - 2026
Q3: 2023 | R3: 2024 | S3: 2025 | T3: 2026
A4: SOLICITUD DE INFORMACIÓN DE PRECIOS | D4: Objeto del Proceso: SUMINISTRAR ELEMENTOS DE PAPELERIA UTILES DE OFICINA CAJAS Y CARPETAS PARA EL FUNCIONAMIENTO DE LA SECRETARIA DISTRITAL DEL HABITAT. | Q4: 0.0928 | R4: 0.052 | S4: 0.051 | T4: 0.0624
W6: ,
A7: Plazo de Ejecución Estimado | D7: 6 meses
H8: ANÁLISIS COTIZACIONES RECIBIDAS | P8: ANÁLISIS HISTÓRICOS
A9: Item | B9: Descripción del Bien o servicio | G9: Unidad de Medida | H9: BELPAPEL S.A.S | I9: GRUPO LOS LAGOS SAS | J9: SUMICORP LTDA | K9: TELEAMARKETER BPO & LOGISTICS SAS | L9: CV | M9: NIVEL DE DISPERSIÓN | N9: MEDIANA | P9: Precios unitarios IVA 2022 | Q9: Precios unitarios IVA 2023 | R9: Precios unitarios IVA 2024 | S9: Precios unitarios IVA 2025 | T9: Precios 2022 a valores monetarios 2026 | U9: Precios 2023 a valores monetarios 2026 | V9: Precios 2024 a valores monetarios 2026 | W9: Precios 2025 a valores monetarios 2026 | X9: CV Coefic. de variación | Y9: Nivel de Dispersión | Z9: MEDIANA | AA9: MEDIA GEOMÉTRICA
H10: Precio Unitario Incluido IVA | I10: Precio Unitario Incluido IVA | J10: Precio Unitario Incluido IVA | K10: Precio Unitario Incluido IVA
A11: 1 | B11: Agendas hojas interiores de papel bond de 70 grs. Tamaño: 17 cm x 24.5 cm. Mínim o 2 00 hojas. Tapa dura | G11: Unidad | H11: ='BELPAPEL (2a COTIZACION) '!J15 -> 22866 | I11: ='GRUPO LOS LAGOS SAS'!J15 -> 23800 | J11: ='SUMICORP LTDA'!J15 -> 65450 | K11: ='TELEAMARKETER (2a COTIZACION)'!J15 -> 6545 | L11: =_xlfn.STDEV.S(H11:K11)/AVERAGE(H11:K11) -> 0.84738165 | M11: =IF(L11<=15%,"Bajo",IF(L11<=20%,"Moderado",IF(L11<=25%,"Alto","Muy alto"))) -> Muy alto | N11: =MEDIAN(H11:K11) -> 23333 | P11: =HISTORICOS!D3 -> 36212 | Q11: =HISTORICOS!H3 -> 28917 | R11: =HISTORICOS!M3 -> 29750 | S11: =HISTORICOS!R3 -> 29750 | T11: =P11*(1+$Q$4)*(1+$R$4)*(1+$S$4)*1+($T$4) -> 43753.447 | U11: =Q11*(1+$R$4)*(1+$S$4)*1+($T$4) -> 31972.201 | V11: =R11*(1+$S$4)*1+($T$4) -> 31267.312 | W11: =S11*(1+($T$4)) -> 31606.4 | X11: =_xlfn.STDEV.S(T11:W11)/AVERAGE(T11:W11) -> 0.17535126 | Y11: =IF(X11<=15%,"Bajo",IF(X11<=20%,"Moderado",IF(X11<=25%,"Alto","Muy alto"))) -> Moderado | Z11: =MEDIAN(T11:W11) -> 31789.301 | AA11: =GEOMEAN(T11:W11) -> 34289.614
A12: 2 | B12: Almohadilla Dactilar - Huellero | G12: Unidad | H12: ='BELPAPEL (2a COTIZACION) '!J16 -> 1874 | I12: ='GRUPO LOS LAGOS SAS'!J16 -> 4224.5 | J12: ='SUMICORP LTDA'!J16 -> 4998 | K12: ='TELEAMARKETER (2a COTIZACION)'!J16 -> 10591 | L12: =_xlfn.STDEV.S(H12:K12)/AVERAGE(H12:K12) -> 0.68117879 | M12: =IF(L12<=15%,"Bajo",IF(L12<=20%,"Moderado",IF(L12<=25%,"Alto","Muy alto"))) -> Muy alto | N12: =MEDIAN(H12:K12) -> 4611.25 | P12: =HISTORICOS!D4 -> 5379 | Q12: =HISTORICOS!H4 -> 2490.075 | R12: =HISTORICOS!M4 -> 4105.5 | S12: =HISTORICOS!R4 -> 4105.5 | T12: =P12*(1+$Q$4)*(1+$R$4)*(1+$S$4)*1+($T$4) -> 6499.2741 | U12: =Q12*(1+$R$4)*(1+$S$4)*1+($T$4) -> 2753.2188 | V12: =R12*(1+$S$4)*1+($T$4) -> 4314.9429 | W12: =S12*(1+($T$4)) -> 4361.6832 | X12: =_xlfn.STDEV.S(T12:W12)/AVERAGE(T12:W12) -> 0.34322883 | Y12: =IF(X12<=15%,"Bajo",IF(X12<=20%,"Moderado",IF(X12<=25%,"Alto","Muy alto"))) -> Muy alto | Z12: =MEDIAN(T12:W12) -> 4338.313 | AA12: =GEOMEAN(T12:W12) -> 4283.8444
A13: 3 | B13: Almohadilla Recargable para sellos | G13: Unidad | H13: ='BELPAPEL (2a COTIZACION) '!J17 -> 3049 | I13: ='GRUPO LOS LAGOS SAS'!J17 -> 3986.5 | J13: ='SUMICORP LTDA'!J17 -> 7973 | K13: ='TELEAMARKETER (2a COTIZACION)'!J17 -> 11876.2 | L13: =_xlfn.STDEV.S(H13:K13)/AVERAGE(H13:K13) -> 0.60194325 | M13: =IF(L13<=15%,"Bajo",IF(L13<=20%,"Moderado",IF(L13<=25%,"Alto","Muy alto"))) -> Muy alto | N13: =MEDIAN(H13:K13) -> 5979.75 | P13: No comparable | Q13: =HISTORICOS!H5 -> 7357.77 | R13: =HISTORICOS!M5 -> 3558.1 | S13: =HISTORICOS!R5 -> 3558.1 | T13: No comparable | U13: =Q13*(1+$R$4)*(1+$S$4)*1+($T$4) -> 8135.1955 | V13: =R13*(1+$S$4)*1+($T$4) -> 3739.6255 | W13: =S13*(1+($T$4)) -> 3780.1254 | X13: =_xlfn.STDEV.S(T13:W13)/AVERAGE(T13:W13) -> 0.48409748 | Y13: =IF(X13<=15%,"Bajo",IF(X13<=20%,"Moderado",IF(X13<=25%,"Alto","Muy alto"))) -> Muy alto | Z13: =MEDIAN(T13:W13) -> 3780.1254 | AA13: =GEOMEAN(T13:W13) -> 4862.9608
A14: 4 | B14: Bandas Elásticas Ref. 22 X 25G, en caucho | G14: Caja x 25gr | H14: ='BELPAPEL (2a COTIZACION) '!J18 -> 837 | I14: ='GRUPO LOS LAGOS SAS'!J18 -> 1190 | J14: ='SUMICORP LTDA'!J18 -> 1666 | K14: ='TELEAMARKETER (2a COTIZACION)'!J18 -> 6902 | L14: =_xlfn.STDEV.S(H14:K14)/AVERAGE(H14:K14) -> 1.0781589 | M14: =IF(L14<=15%,"Bajo",IF(L14<=20%,"Moderado",IF(L14<=25%,"Alto","Muy alto"))) -> Muy alto | N14: =MEDIAN(H14:K14) -> 1428 | P14: =HISTORICOS!D5 -> 805 | Q14: =HISTORICOS!H6 -> 963.9 | R14: =HISTORICOS!M6 -> 1309 | S14: =HISTORICOS!R6 -> 1309 | T14: =P14*(1+$Q$4)*(1+$R$4)*(1+$S$4)*1+($T$4) -> 972.70889 | U14: =Q14*(1+$R$4)*(1+$S$4)*1+($T$4) -> 1065.8004 | V14: =R14*(1+$S$4)*1+($T$4) -> 1375.8214 | W14: =S14*(1+($T$4)) -> 1390.6816 | X14: =_xlfn.STDEV.S(T14:W14)/AVERAGE(T14:W14) -> 0.17785477 | Y14: =IF(X14<=15%,"Bajo",IF(X14<=20%,"Moderado",IF(X14<=25%,"Alto","Muy alto"))) -> Moderado | Z14: =MEDIAN(T14:W14) -> 1220.8109 | AA14: =GEOMEAN(T14:W14) -> 1186.7579
A15: 5 | B15: Banderitas-Mini: Señales Autoadhesivas de media pulgada por 5 colores, plás ticas, con adhesivo en la punta y en una cara de la banderita | G15: Paquete x 125 | H15: ='BELPAPEL (2a COTIZACION) '!J19 -> 1781 | I15: ='GRUPO LOS LAGOS SAS'!J19 -> 3570 | J15: ='SUMICORP LTDA'!J19 -> 4522 | K15: ='TELEAMARKETER (2a COTIZACION)'!J19 -> 17255 | L15: =_xlfn.STDEV.S(H15:K15)/AVERAGE(H15:K15) -> 1.0430338 | M15: =IF(L15<=15%,"Bajo",IF(L15<=20%,"Moderado",IF(L15<=25%,"Alto","Muy alto"))) -> Muy alto | N15: =MEDIAN(H15:K15) -> 4046 | P15: No comparable | Q15: =HISTORICOS!H7 -> 4605.3 | R15: =HISTORICOS!M7 -> 3570 | S15: =HISTORICOS!R7 -> 3570 | T15: No comparable | U15: =Q15*(1+$R$4)*(1+$S$4)*1+($T$4) -> 5091.9216 | V15: =R15*(1+$S$4)*1+($T$4) -> 3752.1324 | W15: =S15*(1+($T$4)) -> 3792.768 | X15: =_xlfn.STDEV.S(T15:W15)/AVERAGE(T15:W15) -> 0.18091607 | Y15: =IF(X15<=15%,"Bajo",IF(X15<=20%,"Moderado",IF(X15<=25%,"Alto","Muy alto"))) -> Moderado | Z15: =MEDIAN(T15:W15) -> 3792.768 | AA15: =GEOMEAN(T15:W15) -> 4169.0654
A16: 6 | B16: Bisturí 18 cm plástico con bloqueo de la cuchilla y con corta cuchilla | G16: Unidad | H16: ='BELPAPEL (2a COTIZACION) '!J20 -> 625 | I16: ='GRUPO LOS LAGOS SAS'!J20 -> 1844.5 | J16: ='SUMICORP LTDA'!J20 -> 4165 | K16: ='TELEAMARKETER (2a COTIZACION)'!J20 -> 8211 | L16: =_xlfn.STDEV.S(H16:K16)/AVERAGE(H16:K16) -> 0.8998894 | M16: =IF(L16<=15%,"Bajo",IF(L16<=20%,"Moderado",IF(L16<=25%,"Alto","Muy alto"))) -> Muy alto | N16: =MEDIAN(H16:K16) -> 3004.75 | P16: =HISTORICOS!D7 -> 1143 | Q16: =HISTORICOS!H8 -> 4158.336 | R16: =HISTORICOS!M8 -> 2378.81 | S16: =HISTORICOS!R8 -> 2378.81 | T16: =P16*(1+$Q$4)*(1+$R$4)*(1+$S$4)*1+($T$4) -> 1381.0996 | U16: =Q16*(1+$R$4)*(1+$S$4)*1+($T$4) -> 4597.7349 | V16: =R16*(1+$S$4)*1+($T$4) -> 2500.1917 | W16: =S16*(1+($T$4)) -> 2527.2477 | X16: =_xlfn.STDEV.S(T16:W16)/AVERAGE(T16:W16) -> 0.48759243 | Y16: =IF(X16<=15%,"Bajo",IF(X16<=20%,"Moderado",IF(X16<=25%,"Alto","Muy alto"))) -> Muy alto | Z16: =MEDIAN(T16:W16) -> 2513.7197 | AA16: =GEOMEAN(T16:W16) -> 2516.7931
A17: 7 | B17: Block Amarillo Cuadriculado Carta X 50 Hojas | G17: Unidad | H17: ='BELPAPEL (2a COTIZACION) '!J21 -> 4061 | I17: ='GRUPO LOS LAGOS SAS'!J21 -> 4879 | J17: ='SUMICORP LTDA'!J21 -> 7021 | K17: ='TELEAMARKETER (2a COTIZACION)'!J21 -> 8151.5 | L17: =_xlfn.STDEV.S(H17:K17)/AVERAGE(H17:K17) -> 0.31306613 | M17: =IF(L17<=15%,"Bajo",IF(L17<=20%,"Moderado",IF(L17<=25%,"Alto","Muy alto"))) -> Muy alto | N17: =MEDIAN(H17:K17) -> 5950 | P17: No comparable | Q17: =HISTORICOS!H9 -> 6211.8 | R17: =HISTORICOS!M9 -> 4641 | S17: =HISTORICOS!R9 -> 4641 | T17: No comparable | U17: =Q17*(1+$R$4)*(1+$S$4)*1+($T$4) -> 6868.1515 | V17: =R17*(1+$S$4)*1+($T$4) -> 4877.7534 | W17: =S17*(1+($T$4)) -> 4930.5984 | X17: =_xlfn.STDEV.S(T17:W17)/AVERAGE(T17:W17) -> 0.20403731 | Y17: =IF(X17<=15%,"Bajo",IF(X17<=20%,"Moderado",IF(X17<=25%,"Alto","Muy alto"))) -> Alto | Z17: =MEDIAN(T17:W17) -> 4930.5984 | AA17: =GEOMEAN(T17:W17) -> 5486.8082
A18: 8 | B18: Block Blanco Cuadriculado Carta X 50 Hojas | G18: Unidad | H18: ='BELPAPEL (2a COTIZACION) '!J22 -> 2499 | I18: ='GRUPO LOS LAGOS SAS'!J22 -> 4760 | J18: ='SUMICORP LTDA'!J22 -> 6902 | K18: ='TELEAMARKETER (2a COTIZACION)'!J22 -> 8270.5 | L18: =_xlfn.STDEV.S(H18:K18)/AVERAGE(H18:K18) -> 0.45051211 | M18: =IF(L18<=15%,"Bajo",IF(L18<=20%,"Moderado",IF(L18<=25%,"Alto","Muy alto"))) -> Muy alto | N18: =MEDIAN(H18:K18) -> 5831 | P18: No comparable | Q18: No comparable | R18: =HISTORICOS!M10 -> 4522 | S18: =HISTORICOS!R10 -> 4522 | T18: No comparable | U18: No comparable | V18: =R18*(1+$S$4)*1+($T$4) -> 4752.6844 | W18: =S18*(1+($T$4)) -> 4804.1728 | X18: =_xlfn.STDEV.S(T18:W18)/AVERAGE(T18:W18) -> 0.0076191987 | Y18: =IF(X18<=15%,"Bajo",IF(X18<=20%,"Moderado",IF(X18<=25%,"Alto","Muy alto"))) -> Bajo | Z18: =MEDIAN(T18:W18) -> 4778.4286 | AA18: =GEOMEAN(T18:W18) -> 4778.3592
A19: 9 | B19: Bolígrafo de mina negra retráctil, semi gel, punta 0.7 mm | G19: Unidad | H19: ='BELPAPEL (2a COTIZACION) '!J23 -> 619 | I19: ='GRUPO LOS LAGOS SAS'!J23 -> 1190 | J19: ='SUMICORP LTDA'!J23 -> 1190 | K19: ='TELEAMARKETER (2a COTIZACION)'!J23 -> 7104.3 | L19: =_xlfn.STDEV.S(H19:K19)/AVERAGE(H19:K19) -> 1.2131333 | M19: =IF(L19<=15%,"Bajo",IF(L19<=20%,"Moderado",IF(L19<=25%,"Alto","Muy alto"))) -> Muy alto | N19: =MEDIAN(H19:K19) -> 1190 | P19: No comparable | Q19: No comparable | R19: =HISTORICOS!M11 -> 1029.35 | S19: =HISTORICOS!R11 -> 1029.35 | T19: No comparable | U19: No comparable | V19: =R19*(1+$S$4)*1+($T$4) -> 1081.9092 | W19: =S19*(1+($T$4)) -> 1093.5814 | X19: =_xlfn.STDEV.S(T19:W19)/AVERAGE(T19:W19) -> 0.0075876994 | Y19: =IF(X19<=15%,"Bajo",IF(X19<=20%,"Moderado",IF(X19<=25%,"Alto","Muy alto"))) -> Bajo | Z19: =MEDIAN(T19:W19) -> 1087.7453 | AA19: =GEOMEAN(T19:W19) -> 1087.7297
A20: 10 | B20: Bolígrafo de mina colores surtidos retráctil, semi gel, punta 0.7 mm | G20: Unidad | H20: ='BELPAPEL (2a COTIZACION) '!J24 -> 619 | I20: ='GRUPO LOS LAGOS SAS'!J24 -> 1249.5 | J20: ='SUMICORP LTDA'!J24 -> 1309 | K20: ='TELEAMARKETER (2a COTIZACION)'!J24 -> 9341.5 | L20: =_xlfn.STDEV.S(H20:K20)/AVERAGE(H20:K20) -> 1.3269167 | M20: =IF(L20<=15%,"Bajo",IF(L20<=20%,"Moderado",IF(L20<=25%,"Alto","Muy alto"))) -> Muy alto | N20: =MEDIAN(H20:K20) -> 1279.25 | P20: No comparable | Q20: No comparable | R20: =HISTORICOS!M12 -> 1124.55 | S20: =HISTORICOS!R12 -> 1124.55 | T20: No comparable | U20: No comparable | V20: =R20*(1+$S$4)*1+($T$4) -> 1181.9644 | W20: =S20*(1+($T$4)) -> 1194.7219 | X20: =_xlfn.STDEV.S(T20:W20)/AVERAGE(T20:W20) -> 0.0075911518 | Y20: =IF(X20<=15%,"Bajo",IF(X20<=20%,"Moderado",IF(X20<=25%,"Alto","Muy alto"))) -> Bajo | Z20: =MEDIAN(T20:W20) -> 1188.3432 | AA20: =GEOMEAN(T20:W20) -> 1188.3261
A21: 11 | B21: Borrador de nata No toxico - Producción nacional | G21: Caja x 24 | H21: ='BELPAPEL (2a COTIZACION) '!J25 -> 3449 | I21: ='GRUPO LOS LAGOS SAS'!J25 -> 11900 | J21: ='SUMICORP LTDA'!J25 -> 17255 | K21: ='TELEAMARKETER (2a COTIZACION)'!J25 -> 1487.5 | L21: =_xlfn.STDEV.S(H21:K21)/AVERAGE(H21:K21) -> 0.8645857 | M21: =IF(L21<=15%,"Bajo",IF(L21<=20%,"Moderado",IF(L21<=25%,"Alto","Muy alto"))) -> Muy alto | N21: =MEDIAN(H21:K21) -> 7674.5 | P21: No comparable | Q21: No comparable | R21: =HISTORICOS!M13 -> 9996 | S21: =HISTORICOS!R13 -> 9996 | T21: No comparable | U21: No comparable | V21: =R21*(1+$S$4)*1+($T$4) -> 10505.858 | W21: =S21*(1+($T$4)) -> 10619.75 | X21: =_xlfn.STDEV.S(T21:W21)/AVERAGE(T21:W21) -> 0.0076242826 | Y21: =IF(X21<=15%,"Bajo",IF(X21<=20%,"Moderado",IF(X21<=25%,"Alto","Muy alto"))) -> Bajo | Z21: =MEDIAN(T21:W21) -> 10562.804 | AA21: =GEOMEAN(T21:W21) -> 10562.651
A22: 12 | B22: Borrador para tablero acrílico, elaborado con felpa sintética, fieltro o paño chalet. La base debe ser en madera o plástico | G22: Unidad | H22: ='BELPAPEL (2a COTIZACION) '!J26 -> 1406 | I22: ='GRUPO LOS LAGOS SAS'!J26 -> 2368.1 | J22: ='SUMICORP LTDA'!J26 -> 3094 | K22: ='TELEAMARKETER (2a COTIZACION)'!J26 -> 8151.5 | L22: =_xlfn.STDEV.S(H22:K22)/AVERAGE(H22:K22) -> 0.80201912 | M22: =IF(L22<=15%,"Bajo",IF(L22<=20%,"Moderado",IF(L22<=25%,"Alto","Muy alto"))) -> Muy alto | N22: =MEDIAN(H22:K22) -> 2731.05 | P22: =HISTORICOS!D11 -> 1876 | Q22: =HISTORICOS!H13 -> 1904 | R22: =HISTORICOS!M14 -> 2142 | S22: =HISTORICOS!R14 -> 2142 | T22: =P22*(1+$Q$4)*(1+$R$4)*(1+$S$4)*1+($T$4) -> 2266.7516 | U22: =Q22*(1+$R$4)*(1+$S$4)*1+($T$4) -> 2105.2238 | V22: =R22*(1+$S$4)*1+($T$4) -> 2251.3044 | W22: =S22*(1+($T$4)) -> 2275.6608 | X22: =_xlfn.STDEV.S(T22:W22)/AVERAGE(T22:W22) -> 0.036097375 | Y22: =IF(X22<=15%,"Bajo",IF(X22<=20%,"Moderado",IF(X22<=25%,"Alto","Muy alto"))) -> Bajo | Z22: =MEDIAN(T22:W22) -> 2259.028 | AA22: =GEOMEAN(T22:W22) -> 2223.6221
A23: 13 | B23: Caja de Chinches | G23: Caja x 50 | H23: ='BELPAPEL (2a COTIZACION) '!J27 -> 1093 | I23: ='GRUPO LOS LAGOS SAS'!J27 -> 1785 | J23: ='SUMICORP LTDA'!J27 -> 3808 | K23: ='TELEAMARKETER (2a COTIZACION)'!J27 -> 5712 | L23: =_xlfn.STDEV.S(H23:K23)/AVERAGE(H23:K23) -> 0.67370466 | M23: =IF(L23<=15%,"Bajo",IF(L23<=20%,"Moderado",IF(L23<=25%,"Alto","Muy alto"))) -> Muy alto | N23: =MEDIAN(H23:K23) -> 2796.5 | P23: =HISTORICOS!D12 -> 1788 | Q23: =HISTORICOS!H14 -> 1370.88 | R23: =HISTORICOS!M15 -> 1547 | S23: =HISTORICOS!R15 -> 1547 | T23: =P23*(1+$Q$4)*(1+$R$4)*(1+$S$4)*1+($T$4) -> 2160.425 | U23: =Q23*(1+$R$4)*(1+$S$4)*1+($T$4) -> 1515.7786 | V23: =R23*(1+$S$4)*1+($T$4) -> 1625.9594 | W23: =S23*(1+($T$4)) -> 1643.5328 | X23: =_xlfn.STDEV.S(T23:W23)/AVERAGE(T23:W23) -> 0.1660115 | Y23: =IF(X23<=15%,"Bajo",IF(X23<=20%,"Moderado",IF(X23<=25%,"Alto","Muy alto"))) -> Moderado | Z23: =MEDIAN(T23:W23) -> 1634.7461 | AA23: =GEOMEAN(T23:W23) -> 1719.9498
A24: 14 | B24: Cargador Pilas AA Para 4 pilas | G24: Unidad | H24: ='BELPAPEL (2a COTIZACION) '!J28 -> 52323 | I24: ='GRUPO LOS LAGOS SAS'!J28 -> 47588.1 | J24: ='SUMICORP LTDA'!J28 -> 71162 | K24: ='TELEAMARKETER (2a COTIZACION)'!J28 -> 19992 | L24: =_xlfn.STDEV.S(H24:K24)/AVERAGE(H24:K24) -> 0.44238462 | M24: =IF(L24<=15%,"Bajo",IF(L24<=20%,"Moderado",IF(L24<=25%,"Alto","Muy alto"))) -> Muy alto | N24: =MEDIAN(H24:K24) -> 49955.55 | P24: =HISTORICOS!D15 -> 41770 | Q24: =HISTORICOS!H16 -> 17136 | R24: =HISTORICOS!M16 -> 30940 | S24: =HISTORICOS!R16 -> 30940 | T24: =P24*(1+$Q$4)*(1+$R$4)*(1+$S$4)*1+($T$4) -> 50468.937 | U24: =Q24*(1+$R$4)*(1+$S$4)*1+($T$4) -> 18946.515 | V24: =R24*(1+$S$4)*1+($T$4) -> 32518.002 | W24: =S24*(1+($T$4)) -> 32870.656 | X24: =_xlfn.STDEV.S(T24:W24)/AVERAGE(T24:W24) -> 0.38343551 | Y24: =IF(X24<=15%,"Bajo",IF(X24<=20%,"Moderado",IF(X24<=25%,"Alto","Muy alto"))) -> Muy alto | Z24: =MEDIAN(T24:W24) -> 32694.329 | AA24: =GEOMEAN(T24:W24) -> 31795.923
A25: 15 | B25: Cargador Pilas AAA Para 4 pilas | G25: Unidad | H25: ='BELPAPEL (2a COTIZACION) '!J29 -> 52323 | I25: ='GRUPO LOS LAGOS SAS'!J29 -> 47588.1 | J25: ='SUMICORP LTDA'!J29 -> 71162 | K25: ='TELEAMARKETER (2a COTIZACION)'!J29 -> 23621.5 | L25: =_xlfn.STDEV.S(H25:K25)/AVERAGE(H25:K25) -> 0.40186916 | M25: =IF(L25<=15%,"Bajo",IF(L25<=20%,"Moderado",IF(L25<=25%,"Alto","Muy alto"))) -> Muy alto | N25: =MEDIAN(H25:K25) -> 49955.55 | P25: =HISTORICOS!D16 -> 41770 | Q25: =HISTORICOS!H17 -> 16065 | R25: =HISTORICOS!M17 -> 30940 | S25: =HISTORICOS!R17 -> 30940 | T25: =P25*(1+$Q$4)*(1+$R$4)*(1+$S$4)*1+($T$4) -> 50468.937 | U25: =Q25*(1+$R$4)*(1+$S$4)*1+($T$4) -> 17762.362 | V25: =R25*(1+$S$4)*1+($T$4) -> 32518.002 | W25: =S25*(1+($T$4)) -> 32870.656 | X25: =_xlfn.STDEV.S(T25:W25)/AVERAGE(T25:W25) -> 0.40049018 | Y25: =IF(X25<=15%,"Bajo",IF(X25<=20%,"Moderado",IF(X25<=25%,"Alto","Muy alto"))) -> Muy alto | Z25: =MEDIAN(T25:W25) -> 32694.329 | AA25: =GEOMEAN(T25:W25) -> 31287.025
A26: 16 | B26: Carpetas tres argollas blancas de 1", en cartón microcorrugado y vinilo de alta calidad. | G26: Unidad | H26: ='BELPAPEL (2a COTIZACION) '!J30 -> 6972 | I26: ='GRUPO LOS LAGOS SAS'!J30 -> 8330 | J26: ='SUMICORP LTDA'!J30 -> 13566 | K26: ='TELEAMARKETER (2a COTIZACION)'!J30 -> 15351 | L26: =_xlfn.STDEV.S(H26:K26)/AVERAGE(H26:K26) -> 0.36505219 | M26: =IF(L26<=15%,"Bajo",IF(L26<=20%,"Moderado",IF(L26<=25%,"Alto","Muy alto"))) -> Muy alto | N26: =MEDIAN(H26:K26) -> 10948 | P26: =HISTORICOS!D18 -> 8413 | Q26: =HISTORICOS!H19 -> 7463.68 | R26: =HISTORICOS!M18 -> 7140 | S26: =HISTORICOS!R18 -> 7140 | T26: =P26*(1+$Q$4)*(1+$R$4)*(1+$S$4)*1+($T$4) -> 10165.124 | U26: =Q26*(1+$R$4)*(1+$S$4)*1+($T$4) -> 8252.2951 | V26: =R26*(1+$S$4)*1+($T$4) -> 7504.2024 | W26: =S26*(1+($T$4)) -> 7585.536 | X26: =_xlfn.STDEV.S(T26:W26)/AVERAGE(T26:W26) -> 0.14784072 | Y26: =IF(X26<=15%,"Bajo",IF(X26<=20%,"Moderado",IF(X26<=25%,"Alto","Muy alto"))) -> Bajo | Z26: =MEDIAN(T26:W26) -> 7918.9156 | AA26: =GEOMEAN(T26:W26) -> 8312.747
A27: 17 | B27: Carpetas tres argollas blancas de 1/2", en cartón microcorrugado y vinilo de alta calidad. | G27: Unidad | H27: ='BELPAPEL (2a COTIZACION) '!J31 -> 8459 | I27: ='GRUPO LOS LAGOS SAS'!J31 -> 8211 | J27: ='SUMICORP LTDA'!J31 -> 12495 | K27: ='TELEAMARKETER (2a COTIZACION)'!J31 -> 19040 | L27: =_xlfn.STDEV.S(H27:K27)/AVERAGE(H27:K27) -> 0.41954677 | M27: =IF(L27<=15%,"Bajo",IF(L27<=20%,"Moderado",IF(L27<=25%,"Alto","Muy alto"))) -> Muy alto | N27: =MEDIAN(H27:K27) -> 10477 | P27: =HISTORICOS!D19 -> 6967 | Q27: =HISTORICOS!H20 -> 7311.36 | R27: =HISTORICOS!M19 -> 6545 | S27: =HISTORICOS!R19 -> 6545 | T27: =P27*(1+$Q$4)*(1+$R$4)*(1+$S$4)*1+($T$4) -> 8417.9855 | U27: =Q27*(1+$R$4)*(1+$S$4)*1+($T$4) -> 8083.8822 | V27: =R27*(1+$S$4)*1+($T$4) -> 6878.8574 | W27: =S27*(1+($T$4)) -> 6953.408 | X27: =_xlfn.STDEV.S(T27:W27)/AVERAGE(T27:W27) -> 0.10327861 | Y27: =IF(X27<=15%,"Bajo",IF(X27<=20%,"Moderado",IF(X27<=25%,"Alto","Muy alto"))) -> Bajo | Z27: =MEDIAN(T27:W27) -> 7518.6451 | AA27: =GEOMEAN(T27:W27) -> 7553.2793
A28: 18 | B28: Carpetas tres argollas blancas de 2", en cartón microcorrugado y vinilo de alta calidad. | G28: Unidad | H28: ='BELPAPEL (2a COTIZACION) '!J32 -> 9221 | I28: ='GRUPO LOS LAGOS SAS'!J32 -> 10710 | J28: ='SUMICORP LTDA'!J32 -> 17731 | K28: ='TELEAMARKETER (2a COTIZACION)'!J32 -> 23205 | L28: =_xlfn.STDEV.S(H28:K28)/AVERAGE(H28:K28) -> 0.42655955 | M28: =IF(L28<=15%,"Bajo",IF(L28<=20%,"Moderado",IF(L28<=25%,"Alto","Muy alto"))) -> Muy alto | N28: =MEDIAN(H28:K28) -> 14220.5 | P28: =HISTORICOS!D20 -> 10836 | Q28: =HISTORICOS!H21 -> 8846.46 | R28: =HISTORICOS!M20 -> 8330 | S28: =HISTORICOS!R20 -> 8330 | T28: =P28*(1+$Q$4)*(1+$R$4)*(1+$S$4)*1+($T$4) -> 13092.73 | U28: =Q28*(1+$R$4)*(1+$S$4)*1+($T$4) -> 9781.1686 | V28: =R28*(1+$S$4)*1+($T$4) -> 8754.8924 | W28: =S28*(1+($T$4)) -> 8849.792 | X28: =_xlfn.STDEV.S(T28:W28)/AVERAGE(T28:W28) -> 0.20113609 | Y28: =IF(X28<=15%,"Bajo",IF(X28<=20%,"Moderado",IF(X28<=25%,"Alto","Muy alto"))) -> Alto | Z28: =MEDIAN(T28:W28) -> 9315.4803 | AA28: =GEOMEAN(T28:W28) -> 9980.4749
A29: 19 | B29: Carpetas tres argollas blancas de 3", en cartón microcorrugado y vinilo de alta calidad. | G29: Unidad | H29: ='BELPAPEL (2a COTIZACION) '!J33 -> 13432 | I29: ='GRUPO LOS LAGOS SAS'!J33 -> 14280 | J29: ='SUMICORP LTDA'!J33 -> 18326 | K29: ='TELEAMARKETER (2a COTIZACION)'!J33 -> 26775 | L29: =_xlfn.STDEV.S(H29:K29)/AVERAGE(H29:K29) -> 0.33513003 | M29: =IF(L29<=15%,"Bajo",IF(L29<=20%,"Moderado",IF(L29<=25%,"Alto","Muy alto"))) -> Muy alto | N29: =MEDIAN(H29:K29) -> 16303 | P29: =HISTORICOS!D21 -> 13068 | Q29: =HISTORICOS!H22 -> 7411.32 | R29: =HISTORICOS!M21 -> 13090 | S29: =HISTORICOS!R21 -> 13090 | T29: =P29*(1+$Q$4)*(1+$R$4)*(1+$S$4)*1+($T$4) -> 15789.558 | U29: =Q29*(1+$R$4)*(1+$S$4)*1+($T$4) -> 8194.4032 | V29: =R29*(1+$S$4)*1+($T$4) -> 13757.652 | W29: =S29*(1+($T$4)) -> 13906.816 | X29: =_xlfn.STDEV.S(T29:W29)/AVERAGE(T29:W29) -> 0.25388993 | Y29: =IF(X29<=15%,"Bajo",IF(X29<=20%,"Moderado",IF(X29<=25%,"Alto","Muy alto"))) -> Muy alto | Z29: =MEDIAN(T29:W29) -> 13832.234 | AA29: =GEOMEAN(T29:W29) -> 12543.387
A30: 20 | B30: CARTUCHO DE TÓNER HP 81A NEGRO LASERJER - ORIGINAL | G30: Unidad | H30: ='BELPAPEL (2a COTIZACION) '!J34 -> 1445453 | I30: ='GRUPO LOS LAGOS SAS'!J34 -> 858581.43 | J30: ='SUMICORP LTDA'!J34 -> 1606500 | K30: ='TELEAMARKETER (2a COTIZACION)'!J34 -> 1303050 | L30: =_xlfn.STDEV.S(H30:K30)/AVERAGE(H30:K30) -> 0.24659394 | M30: =IF(L30<=15%,"Bajo",IF(L30<=20%,"Moderado",IF(L30<=25%,"Alto","Muy alto"))) -> Alto | N30: =MEDIAN(H30:K30) -> 1374251.5 | P30: =HISTORICOS!D22 -> 148812 | Q30: =HISTORICOS!H23 -> 497420 | R30: =HISTORICOS!M22 -> 737681 | S30: =HISTORICOS!R22 -> 737681 | T30: =P30*(1+$Q$4)*(1+$R$4)*(1+$S$4)*1+($T$4) -> 179803.13 | U30: =Q30*(1+$R$4)*(1+$S$4)*1+($T$4) -> 549973.48 | V30: =R30*(1+$S$4)*1+($T$4) -> 775302.79 | W30: =S30*(1+($T$4)) -> 783712.29 | X30: =_xlfn.STDEV.S(T30:W30)/AVERAGE(T30:W30) -> 0.49478016 | Y30: =IF(X30<=15%,"Bajo",IF(X30<=20%,"Moderado",IF(X30<=25%,"Alto","Muy alto"))) -> Muy alto | Z30: =MEDIAN(T30:W30) -> 662638.14 | AA30: =GEOMEAN(T30:W30) -> 495098.66
A31: 21 | B31: Cartulina Opalina Tamaño Carta 180 g x 50 | G31: Unidad | H31: ='BELPAPEL (2a COTIZACION) '!J35 -> 11246 | I31: ='GRUPO LOS LAGOS SAS'!J35 -> 30345 | J31: ='SUMICORP LTDA'!J35 -> 34510 | K31: ='TELEAMARKETER (2a COTIZACION)'!J35 -> 25585 | L31: =_xlfn.STDEV.S(H31:K31)/AVERAGE(H31:K31) -> 0.39845734 | M31: =IF(L31<=15%,"Bajo",IF(L31<=20%,"Moderado",IF(L31<=25%,"Alto","Muy alto"))) -> Muy alto | N31: =MEDIAN(H31:K31) -> 27965 | P31: No comparable | Q31: No comparable | R31: No comparable | S31: No comparable | T31: No comparable | U31: No comparable | V31: No comparable | W31: No comparable | X31: No comparable | Y31: No comparable | Z31: No comparable | AA31: No comparable
A32: 22 | B32: Cartulina Blanca - Octavo | G32: Paquete X 100 | H32: ='BELPAPEL (2a COTIZACION) '!J36 -> 12089 | I32: ='GRUPO LOS LAGOS SAS'!J36 -> 21420 | J32: ='SUMICORP LTDA'!J36 -> 26180 | K32: ='TELEAMARKETER (2a COTIZACION)'!J36 -> 2975 | L32: =_xlfn.STDEV.S(H32:K32)/AVERAGE(H32:K32) -> 0.65668841 | M32: =IF(L32<=15%,"Bajo",IF(L32<=20%,"Moderado",IF(L32<=25%,"Alto","Muy alto"))) -> Muy alto | N32: =MEDIAN(H32:K32) -> 16754.5 | P32: =HISTORICOS!D23 -> 12606 | Q32: =HISTORICOS!H24 -> 24371.2 | R32: =HISTORICOS!M23 -> 14280 | S32: =HISTORICOS!R23 -> 14280 | T32: =P32*(1+$Q$4)*(1+$R$4)*(1+$S$4)*1+($T$4) -> 15231.344 | U32: =Q32*(1+$R$4)*(1+$S$4)*1+($T$4) -> 26946.128 | V32: =R32*(1+$S$4)*1+($T$4) -> 15008.342 | W32: =S32*(1+($T$4)) -> 15171.072 | X32: =_xlfn.STDEV.S(T32:W32)/AVERAGE(T32:W32) -> 0.32645715 | Y32: =IF(X32<=15%,"Bajo",IF(X32<=20%,"Moderado",IF(X32<=25%,"Alto","Muy alto"))) -> Muy alto | Z32: =MEDIAN(T32:W32) -> 15201.208 | AA32: =GEOMEAN(T32:W32) -> 17484.205
A33: 23 | B33: Cartulina Colores Surtidos - Octavo | G33: Paquete X 100 | H33: ='BELPAPEL (2a COTIZACION) '!J37 -> 12089 | I33: ='GRUPO LOS LAGOS SAS'!J37 -> 21420 | J33: ='SUMICORP LTDA'!J37 -> 26180 | K33: ='TELEAMARKETER (2a COTIZACION)'!J37 -> 5355 | L33: =_xlfn.STDEV.S(H33:K33)/AVERAGE(H33:K33) -> 0.57398683 | M33: =IF(L33<=15%,"Bajo",IF(L33<=20%,"Moderado",IF(L33<=25%,"Alto","Muy alto"))) -> Muy alto | N33: =MEDIAN(H33:K33) -> 16754.5 | P33: No comparable | Q33: =HISTORICOS!H25 -> 24371.2 | R33: =HISTORICOS!M24 -> 18504.5 | S33: =HISTORICOS!R24 -> 18504.5 | T33: No comparable | U33: =Q33*(1+$R$4)*(1+$S$4)*1+($T$4) -> 26946.128 | V33: =R33*(1+$S$4)*1+($T$4) -> 19448.292 | W33: =S33*(1+($T$4)) -> 19659.181 | X33: =_xlfn.STDEV.S(T33:W33)/AVERAGE(T33:W33) -> 0.1939017 | Y33: =IF(X33<=15%,"Bajo",IF(X33<=20%,"Moderado",IF(X33<=25%,"Alto","Muy alto"))) -> Moderado | Z33: =MEDIAN(T33:W33) -> 19659.181 | AA33: =GEOMEAN(T33:W33) -> 21759.442
A34: 24 | B34: CARTUCHO DE CINTA - EPSON LX-350/LX-300+II/LX-300+ (ORIGINAL) | G34: Unidad | H34: ='BELPAPEL (2a COTIZACION) '!J38 -> 97461 | I34: ='GRUPO LOS LAGOS SAS'!J38 -> 47588.1 | J34: ='SUMICORP LTDA'!J38 -> 80920 | K34: ='TELEAMARKETER (2a COTIZACION)'!J38 -> 53550 | L34: =_xlfn.STDEV.S(H34:K34)/AVERAGE(H34:K34) -> 0.33521849 | M34: =IF(L34<=15%,"Bajo",IF(L34<=20%,"Moderado",IF(L34<=25%,"Alto","Muy alto"))) -> Muy alto | N34: =MEDIAN(H34:K34) -> 67235 | P34: No comparable | Q34: =HISTORICOS!H26 -> 37318.4 | R34: =HISTORICOS!M25 -> 11888.1 | S34: =HISTORICOS!R25 -> 11888.1 | T34: No comparable | U34: =Q34*(1+$R$4)*(1+$S$4)*1+($T$4) -> 41261.226 | V34: =R34*(1+$S$4)*1+($T$4) -> 12494.456 | W34: =S34*(1+($T$4)) -> 12629.917 | X34: =_xlfn.STDEV.S(T34:W34)/AVERAGE(T34:W34) -> 0.74878604 | Y34: =IF(X34<=15%,"Bajo",IF(X34<=20%,"Moderado",IF(X34<=25%,"Alto","Muy alto"))) -> Muy alto | Z34: =MEDIAN(T34:W34) -> 12629.917 | AA34: =GEOMEAN(T34:W34) -> 18673.253
A35: 25 | B35: Cd-R x 100, 700mb/80min, mínimo de velocidad de grabado 4x | G35: Paquete x 100 | H35: ='BELPAPEL (2a COTIZACION) '!J39 -> 93713 | I35: ='GRUPO LOS LAGOS SAS'!J39 -> 117810 | J35: ='SUMICORP LTDA'!J39 -> 172550 | K35: ='TELEAMARKETER (2a COTIZACION)'!J39 -> 184450 | L35: =_xlfn.STDEV.S(H35:K35)/AVERAGE(H35:K35) -> 0.30538904 | M35: =IF(L35<=15%,"Bajo",IF(L35<=20%,"Moderado",IF(L35<=25%,"Alto","Muy alto"))) -> Muy alto | N35: =MEDIAN(H35:K35) -> 145180 | P35: =HISTORICOS!D24 -> 86274 | Q35: =HISTORICOS!H27 -> 60928 | R35: =HISTORICOS!M26 -> 82110 | S35: =HISTORICOS!R26 -> 82110 | T35: =P35*(1+$Q$4)*(1+$R$4)*(1+$S$4)*1+($T$4) -> 104241.18 | U35: =Q35*(1+$R$4)*(1+$S$4)*1+($T$4) -> 67365.227 | V35: =R35*(1+$S$4)*1+($T$4) -> 86297.672 | W35: =S35*(1+($T$4)) -> 87233.664 | X35: =_xlfn.STDEV.S(T35:W35)/AVERAGE(T35:W35) -> 0.17465077 | Y35: =IF(X35<=15%,"Bajo",IF(X35<=20%,"Moderado",IF(X35<=25%,"Alto","Muy alto"))) -> Moderado | Z35: =MEDIAN(T35:W35) -> 86765.668 | AA35: =GEOMEAN(T35:W35) -> 85268.688
A36: 26 | B36: Cd-Rw x 25, 700mb/80min, mínimo de velocidad de grabado4x | G36: Paquete x 25 | H36: ='BELPAPEL (2a COTIZACION) '!J40 -> 57477 | I36: ='GRUPO LOS LAGOS SAS'!J40 -> 83181 | J36: ='SUMICORP LTDA'!J40 -> 117810 | K36: ='TELEAMARKETER (2a COTIZACION)'!J40 -> 107100 | L36: =_xlfn.STDEV.S(H36:K36)/AVERAGE(H36:K36) -> 0.29375762 | M36: =IF(L36<=15%,"Bajo",IF(L36<=20%,"Moderado",IF(L36<=25%,"Alto","Muy alto"))) -> Muy alto | N36: =MEDIAN(H36:K36) -> 95140.5 | P36: =HISTORICOS!D25 -> 51402 | Q36: =HISTORICOS!H28 -> 47600 | R36: =HISTORICOS!M27 -> 49980 | S36: =HISTORICOS!R27 -> 49980 | T36: =P36*(1+$Q$4)*(1+$R$4)*(1+$S$4)*1+($T$4) -> 62106.863 | U36: =Q36*(1+$R$4)*(1+$S$4)*1+($T$4) -> 52629.098 | V36: =R36*(1+$S$4)*1+($T$4) -> 52529.042 | W36: =S36*(1+($T$4)) -> 53098.752 | X36: =_xlfn.STDEV.S(T36:W36)/AVERAGE(T36:W36) -> 0.085020739 | Y36: =IF(X36<=15%,"Bajo",IF(X36<=20%,"Moderado",IF(X36<=25%,"Alto","Muy alto"))) -> Bajo | Z36: =MEDIAN(T36:W36) -> 52863.925 | AA36: =GEOMEAN(T36:W36) -> 54949.321
A37: 27 | B37: Cera para contar - Cera dactilar cuenta fácil de 14 grs a 20 grs., pasta incolora a b ase de glicerina, envase de polipropileno de fácil sellado con tapa. | G37: Unidad | H37: ='BELPAPEL (2a COTIZACION) '!J41 -> 1643 | I37: ='GRUPO LOS LAGOS SAS'!J41 -> 3451 | J37: ='SUMICORP LTDA'!J41 -> 3451 | K37: ='TELEAMARKETER (2a COTIZACION)'!J41 -> 12268.9 | L37: =_xlfn.STDEV.S(H37:K37)/AVERAGE(H37:K37) -> 0.91991827 | M37: =IF(L37<=15%,"Bajo",IF(L37<=20%,"Moderado",IF(L37<=25%,"Alto","Muy alto"))) -> Muy alto | N37: =MEDIAN(H37:K37) -> 3451 | P37: =HISTORICOS!D26 -> 2976 | Q37: =HISTORICOS!H29 -> 2741.76 | R37: =HISTORICOS!M28 -> 2380 | S37: =HISTORICOS!R28 -> 2380 | T37: =P37*(1+$Q$4)*(1+$R$4)*(1+$S$4)*1+($T$4) -> 3595.8338 | U37: =Q37*(1+$R$4)*(1+$S$4)*1+($T$4) -> 3031.4948 | V37: =R37*(1+$S$4)*1+($T$4) -> 2501.4424 | W37: =S37*(1+($T$4)) -> 2528.512 | X37: =_xlfn.STDEV.S(T37:W37)/AVERAGE(T37:W37) -> 0.17691685 | Y37: =IF(X37<=15%,"Bajo",IF(X37<=20%,"Moderado",IF(X37<=25%,"Alto","Muy alto"))) -> Moderado | Z37: =MEDIAN(T37:W37) -> 2780.0034 | AA37: =GEOMEAN(T37:W37) -> 2881.5621
A38: 28 | B38: Cinta Invisible Mágica 19 mm x 33 m | G38: Unidad | H38: ='BELPAPEL (2a COTIZACION) '!J42 -> 10671 | I38: ='GRUPO LOS LAGOS SAS'!J42 -> 4284 | J38: ='SUMICORP LTDA'!J42 -> 14875 | K38: ='TELEAMARKETER (2a COTIZACION)'!J42 -> 15470 | L38: =_xlfn.STDEV.S(H38:K38)/AVERAGE(H38:K38) -> 0.45537273 | M38: =IF(L38<=15%,"Bajo",IF(L38<=20%,"Moderado",IF(L38<=25%,"Alto","Muy alto"))) -> Muy alto | N38: =MEDIAN(H38:K38) -> 12773 | P38: No comparable | Q38: No comparable | R38: No comparable | S38: No comparable | T38: No comparable | U38: No comparable | V38: No comparable | W38: No comparable | X38: No comparable | Y38: No comparable | Z38: No comparable | AA38: No comparable
A39: 29 | B39: Cinta Adhesiva de Empaque de polipropileno de 48mm*50 mts | G39: Unidad - Rollo | H39: ='BELPAPEL (2a COTIZACION) '!J43 -> 2287 | I39: ='GRUPO LOS LAGOS SAS'!J43 -> 2499 | J39: ='SUMICORP LTDA'!J43 -> 6545 | K39: ='TELEAMARKETER (2a COTIZACION)'!J43 -> 6545 | L39: =_xlfn.STDEV.S(H39:K39)/AVERAGE(H39:K39) -> 0.53674652 | M39: =IF(L39<=15%,"Bajo",IF(L39<=20%,"Moderado",IF(L39<=25%,"Alto","Muy alto"))) -> Muy alto | N39: =MEDIAN(H39:K39) -> 4522 | P39: =HISTORICOS!D27 -> 3129 | Q39: =HISTORICOS!H30 -> 2665.6 | R39: =HISTORICOS!M29 -> 3558.1 | S39: =HISTORICOS!R29 -> 3558.1 | T39: =P39*(1+$Q$4)*(1+$R$4)*(1+$S$4)*1+($T$4) -> 3780.697 | U39: =Q39*(1+$R$4)*(1+$S$4)*1+($T$4) -> 2947.2884 | V39: =R39*(1+$S$4)*1+($T$4) -> 3739.6255 | W39: =S39*(1+($T$4)) -> 3780.1254 | X39: =_xlfn.STDEV.S(T39:W39)/AVERAGE(T39:W39) -> 0.11516628 | Y39: =IF(X39<=15%,"Bajo",IF(X39<=20%,"Moderado",IF(X39<=25%,"Alto","Muy alto"))) -> Bajo | Z39: =MEDIAN(T39:W39) -> 3759.8755 | AA39: =GEOMEAN(T39:W39) -> 3542.6823
A40: 30 | B40: Cinta Adhesiva para Enmascarar 12 mm, x 40 mts | G40: Unidad - Rollo | H40: ='BELPAPEL (2a COTIZACION) '!J44 -> 1562 | I40: ='GRUPO LOS LAGOS SAS'!J44 -> 3558.1 | J40: ='SUMICORP LTDA'!J44 -> 5831 | K40: ='TELEAMARKETER (2a COTIZACION)'!J44 -> 9282 | L40: =_xlfn.STDEV.S(H40:K40)/AVERAGE(H40:K40) -> 0.65480238 | M40: =IF(L40<=15%,"Bajo",IF(L40<=20%,"Moderado",IF(L40<=25%,"Alto","Muy alto"))) -> Muy alto | N40: =MEDIAN(H40:K40) -> 4694.55 | P40: =HISTORICOS!D28 -> 2695 | Q40: =HISTORICOS!H31 -> 3105.9 | R40: =HISTORICOS!M30 -> 2975 | S40: =HISTORICOS!R30 -> 2975 | T40: =P40*(1+$Q$4)*(1+$R$4)*(1+$S$4)*1+($T$4) -> 3256.3137 | U40: =Q40*(1+$R$4)*(1+$S$4)*1+($T$4) -> 3434.1069 | V40: =R40*(1+$S$4)*1+($T$4) -> 3126.7874 | W40: =S40*(1+($T$4)) -> 3160.64 | X40: =_xlfn.STDEV.S(T40:W40)/AVERAGE(T40:W40) -> 0.042477065 | Y40: =IF(X40<=15%,"Bajo",IF(X40<=20%,"Moderado",IF(X40<=25%,"Alto","Muy alto"))) -> Bajo | Z40: =MEDIAN(T40:W40) -> 3208.4768 | AA40: =GEOMEAN(T40:W40) -> 3242.3012
A41: 31 | B41: Cinta Adhesiva para Enmascarar 48 mm, x 40 mts | G41: Unidad - Rollo | H41: ='BELPAPEL (2a COTIZACION) '!J45 -> 7297 | I41: ='GRUPO LOS LAGOS SAS'!J45 -> 8449 | J41: ='SUMICORP LTDA'!J45 -> 11424 | K41: ='TELEAMARKETER (2a COTIZACION)'!J45 -> 11662 | L41: =_xlfn.STDEV.S(H41:K41)/AVERAGE(H41:K41) -> 0.2237964 | M41: =IF(L41<=15%,"Bajo",IF(L41<=20%,"Moderado",IF(L41<=25%,"Alto","Muy alto"))) -> Alto | N41: =MEDIAN(H41:K41) -> 9936.5 | P41: =HISTORICOS!D29 -> 7788 | Q41: =HISTORICOS!H32 -> 6361.74 | R41: =HISTORICOS!M31 -> 8687 | S41: =HISTORICOS!R31 -> 8687 | T41: =P41*(1+$Q$4)*(1+$R$4)*(1+$S$4)*1+($T$4) -> 9409.9641 | U41: =Q41*(1+$R$4)*(1+$S$4)*1+($T$4) -> 7033.933 | V41: =R41*(1+$S$4)*1+($T$4) -> 9130.0994 | W41: =S41*(1+($T$4)) -> 9229.0688 | X41: =_xlfn.STDEV.S(T41:W41)/AVERAGE(T41:W41) -> 0.12840793 | Y41: =IF(X41<=15%,"Bajo",IF(X41<=20%,"Moderado",IF(X41<=25%,"Alto","Muy alto"))) -> Bajo | Z41: =MEDIAN(T41:W41) -> 9179.5841 | AA41: =GEOMEAN(T41:W41) -> 8641.8136
...

Sheet PRECIOS UNITARIOS TECHO
A1: SECRETARÍA DISTRITAL DEL HÁBITAT
A2: DIRECCIÓN ADMINISTRATIVA
A4: SOLICITUD DE INFORMACIÓN DE PRECIOS | D4: Objeto del Proceso: SUMINISTRAR ELEMENTOS DE PAPELERIA UTILES DE OFICINA CAJAS Y CARPETAS PARA EL FUNCIONAMIENTO DE LA SECRETARIA DISTRITAL DEL HABITAT. | R4: NIVEL RIESGO | S4: 0 a 1 MAYOR RIESGO
S5: 2 y 3 MENOR RIESGO
A7: Plazo de Ejecución Estimado | D7: 6 meses
A9: Item | B9: Descripción del Bien o servicio | G9: Unidad de Medida | H9: CV COTIZACIONES | I9: MEDIANA COTIZACIONES | J9: CV HISTÓRICOS | K9: MEDIANA HISTÓRICOS | L9: Peso porcentual Cotizaciones | M9: Peso porcentual Históricos | N9: PRECIO UNITARIO PONDERADO | O9: PRECIO UNITARIO MINIMO COTIZACIONES | P9: COTIZANTES DENTRO DEL PRECIO PONDERADO | Q9: NIVEL RIESGO | R9: PRECIOS TECHO FINAL | S9: RESULTADO DE DONDE SE ESTABLECE PRECIO TECHO
A11: 1 | B11: Agendas hojas interiores de papel bond de 70 grs. Tamaño: 17 cm x 24.5 cm. Mínim o 2 00 hojas. Tapa dura | G11: Unidad | H11: ='ANÁLISIS CONSOLIDADO'!L11 -> 0.84738165 | I11: ='ANÁLISIS CONSOLIDADO'!N11 -> 23333 | J11: ='ANÁLISIS CONSOLIDADO'!X11 -> 0.17535126 | K11: ='ANÁLISIS CONSOLIDADO'!Z11 -> 31789.301 | L11: =IFERROR(J11/(H11+J11),0) -> 0.17145362 | M11: =IFERROR(H11/(H11+J11),0) -> 0.82854638 | N11: =ROUNDUP((I11*L11)+(K11*M11),0) -> 30340 | O11: =MIN('ANÁLISIS CONSOLIDADO'!H11:K11) -> 6545 | P11: =COUNTIFS('ANÁLISIS CONSOLIDADO'!H11:K11,">0",'ANÁLISIS CONSOLIDADO'!H11:K11,"<="&'PRECIOS UNITARIOS TECHO'!N11) -> 3 | Q11: =IF(AND(P11>=0,P11<=2),"MAYOR RIESGO",IF(AND(P11>=3,P11<=4),"MENOR RIESGO","REVISAR")) -> MENOR RIESGO | R11: =N11 -> 30340 | S11: PRECIO UNITARIO PONDEARADO COTIZACIONES - HISTORICOS
A12: 2 | B12: Almohadilla Dactilar - Huellero | G12: Unidad | H12: ='ANÁLISIS CONSOLIDADO'!L12 -> 0.68117879 | I12: ='ANÁLISIS CONSOLIDADO'!N12 -> 4611.25 | J12: ='ANÁLISIS CONSOLIDADO'!X12 -> 0.34322883 | K12: ='ANÁLISIS CONSOLIDADO'!Z12 -> 4338.313 | L12: =IFERROR(J12/(H12+J12),0) -> 0.33505103 | M12: =IFERROR(H12/(H12+J12),0) -> 0.66494897 | N12: =ROUNDUP((I12*L12)+(K12*M12),0) -> 4430 | O12: =MIN('ANÁLISIS CONSOLIDADO'!H12:K12) -> 1874 | P12: =COUNTIFS('ANÁLISIS CONSOLIDADO'!H12:K12,">0",'ANÁLISIS CONSOLIDADO'!H12:K12,"<="&'PRECIOS UNITARIOS TECHO'!N12) -> 2 | Q12: =IF(AND(P12>=0,P12<=2),"MAYOR RIESGO",IF(AND(P12>=3,P12<=4),"MENOR RIESGO","REVISAR")) -> MAYOR RIESGO | R12: =N12 -> 4430 | S12: PRECIO UNITARIO PONDEARADO COTIZACIONES - HISTORICOS
A13: 3 | B13: Almohadilla Recargable para sellos | G13: Unidad | H13: ='ANÁLISIS CONSOLIDADO'!L13 -> 0.60194325 | I13: ='ANÁLISIS CONSOLIDADO'!N13 -> 5979.75 | J13: ='ANÁLISIS CONSOLIDADO'!X13 -> 0.48409748 | K13: ='ANÁLISIS CONSOLIDADO'!Z13 -> 3780.1254 | L13: =IFERROR(J13/(H13+J13),0) -> 0.44574524 | M13: =IFERROR(H13/(H13+J13),0) -> 0.55425476 | N13: =ROUNDUP((I13*L13)+(K13*M13),0) -> 4761 | O13: =MIN('ANÁLISIS CONSOLIDADO'!H13:K13) -> 3049 | P13: =COUNTIFS('ANÁLISIS CONSOLIDADO'!H13:K13,">0",'ANÁLISIS CONSOLIDADO'!H13:K13,"<="&'PRECIOS UNITARIOS TECHO'!N13) -> 2 | Q13: =IF(AND(P13>=0,P13<=2),"MAYOR RIESGO",IF(AND(P13>=3,P13<=4),"MENOR RIESGO","REVISAR")) -> MAYOR RIESGO | R13: =N13 -> 4761 | S13: PRECIO UNITARIO PONDEARADO COTIZACIONES - HISTORICOS
A14: 4 | B14: Bandas Elásticas Ref. 22 X 25G, en caucho | G14: Caja x 25gr | H14: ='ANÁLISIS CONSOLIDADO'!L14 -> 1.0781589 | I14: ='ANÁLISIS CONSOLIDADO'!N14 -> 1428 | J14: ='ANÁLISIS CONSOLIDADO'!X14 -> 0.17785477 | K14: ='ANÁLISIS CONSOLIDADO'!Z14 -> 1220.8109 | L14: =IFERROR(J14/(H14+J14),0) -> 0.14160258 | M14: =IFERROR(H14/(H14+J14),0) -> 0.85839742 | N14: =ROUNDUP((I14*L14)+(K14*M14),0) -> 1251 | O14: =MIN('ANÁLISIS CONSOLIDADO'!H14:K14) -> 837 | P14: =COUNTIFS('ANÁLISIS CONSOLIDADO'!H14:K14,">0",'ANÁLISIS CONSOLIDADO'!H14:K14,"<="&'PRECIOS UNITARIOS TECHO'!N14) -> 2 | Q14: =IF(AND(P14>=0,P14<=2),"MAYOR RIESGO",IF(AND(P14>=3,P14<=4),"MENOR RIESGO","REVISAR")) -> MAYOR RIESGO | R14: =N14 -> 1251 | S14: PRECIO UNITARIO PONDEARADO COTIZACIONES - HISTORICOS
A15: 5 | B15: Banderitas-Mini: Señales Autoadhesivas de media pulgada por 5 colores, plás ticas, con adhesivo en la punta y en una cara de la banderita | G15: Paquete x 125 | H15: ='ANÁLISIS CONSOLIDADO'!L15 -> 1.0430338 | I15: ='ANÁLISIS CONSOLIDADO'!N15 -> 4046 | J15: ='ANÁLISIS CONSOLIDADO'!X15 -> 0.18091607 | K15: ='ANÁLISIS CONSOLIDADO'!Z15 -> 3792.768 | L15: =IFERROR(J15/(H15+J15),0) -> 0.1478133 | M15: =IFERROR(H15/(H15+J15),0) -> 0.8521867 | N15: =ROUNDUP((I15*L15)+(K15*M15),0) -> 3831 | O15: =MIN('ANÁLISIS CONSOLIDADO'!H15:K15) -> 1781 | P15: =COUNTIFS('ANÁLISIS CONSOLIDADO'!H15:K15,">0",'ANÁLISIS CONSOLIDADO'!H15:K15,"<="&'PRECIOS UNITARIOS TECHO'!N15) -> 2 | Q15: =IF(AND(P15>=0,P15<=2),"MAYOR RIESGO",IF(AND(P15>=3,P15<=4),"MENOR RIESGO","REVISAR")) -> MAYOR RIESGO | R15: =N15 -> 3831 | S15: PRECIO UNITARIO PONDEARADO COTIZACIONES - HISTORICOS
