Workbook
Name contratación: 'IDENTIFICACION Y ANALISIS'!$B$41:$B$46
Name ejecución: 'IDENTIFICACION Y ANALISIS'!$B$48:$B$87
Name OPCIONES: 'MATRIZ DILIGENCIADA'!$B$63:$B$65
Name planeación: 'IDENTIFICACION Y ANALISIS'!$B$19:$B$29
Name selección: 'IDENTIFICACION Y ANALISIS'!$B$31:$B$39

Sheet IDENTIFICACION Y ANALISIS
C2: PROCESO GESTIÓN CONTRACTUAL | F2: FECHA 16/07/2026
C3: Matriz de Riesgos Identificación, evaluación y tratamiento de riesgos para procesos de contratación | F3: CÓDIGO: PS07-FO580
F4: VERSIÓN 3
B6: DEFINICIONES
B7: RIESGO: Evento que puede generar efectos adversos y de distinta magnitud en el logro de los objetivos del Proceso de Contratación o en la ejecución de un contrato RIESGOS PREVISIBLES: Son los posibles hechos o circunstancias que por la naturaleza del contrato y de la actividad a ejecutar es factible su ocurrencia. ETAPA DE PLANEACIÓN: Está comprendida desde el momento en que se identifican las necesidades que debe satisfacer la Secretaría Distrital del Hábitat, a través del abastecimiento de bienes, obras o servicios, la elaboración del Plan Anual de Adquisiciones y la estructuración de los documentos y estudios previos. ETAPA DE SELECCIÓN: Está comprendida entre el acto de Apertura del Proceso de Contratación y la Adjudicación o la declaración de desierto del Proceso de Contratación ETAPA DE CONTRATACIÓN: Una vez adjudicado el contrato objeto del Proceso de Contratación, inicia la etapa para la celebración del contrato y el cumplimiento de los requisitos para de perfeccionamiento y ejecución. ETAPA DE EJECUCIÓN: Inicia una vez cumplidos los requisitos previstos para iniciar la ejecución del contrato respectivo y termina con el vencimiento del plazo del contrato o la fecha de liquidación si hay lugar a ella. RIESGO GENERAL: Es un riesgo de todos los procesos de contratación adelantados por la Entidad Estatal, por lo cual está presente en toda su actividad contractual. RIEGO ESPECIFICO: Es un riesgo propio del proceso de contratación objeto de análisis. RIESGOS ECONÓMICOS: Son los derivados del comportamiento del mercado, tales como la fluctuación de los precios de los insumos, desabastecimiento y especulación de los mismos, entre otros. RIESGOS SOCIALES O POLÍTICOS: Son los derivados de los cambios de las políticas gubernamentales y de cambios en las condiciones sociales que tengan impacto en la ejecución del contrato. RIESGOS OPERACIONALES: Son los asociados a la operatividad del contrato, tales como la suficiencia del presupuesto oficial, del plazo o los derivados de procesos, procedimientos, parámetros, sistemas de información y tecnológicos, equipos humanos o técnicos inadecuados o insuficientes. RIESGOS FINANCIEROS: Son (i) el riesgo de consecución de financiación o riesgo de liquidez para obtener recursos para cumplir con el objeto del contrato, y (ii) el riesgo de las condiciones financieras establecidas para la obtención de los recursos, tales como plazos, tasas, garantías, contragarantías, y refinanciaciones, entre otros. RIESGOS REGULATORIOS: Derivados de cambios regulatorios o reglamentarios que afecten la ecuación económica del contrato. RIESGOS DE LA NATURALEZA: Son los eventos naturales previsibles en los cuales no hay intervención humana que puedan tener impacto en la ejecución del contrato, por ejemplo los temblores, inundaciones, lluvias, sequías, entre otros. RIESGOS AMBIENTALES: Son los derivados de las obligaciones legales o reglamentarias de carácter ambiental, así como de las licencias, planes de manejo o de permisos y autorizaciones ambientales, incluyendo tasas retributivas y compensatorias, obligaciones de mitigación, tareas de monitoreo y control, entre otras. RIESGOS TECNOLÓGICOS: Son los derivados de fallas en los sistemas de comunicación de voz y de datos, suspensión de servicios públicos, nuevos desarrollos tecnológicos o estándares que deben ser tenidos en cuenta para la ejecución del contrato, obsolescencia tecnológica.
B15: INSTRUCCIONES PARA LA IDENTIFICACIÓN, ANALISIS, EVALUACIÓN , ASIGNACIÓN Y TRATAMIENTO DE RIESGOS EN LA CONTRATACIÓN
B16: 1) Identifique los riesgos previsibles que le apliquen al objeto contractual que se adelante. Los relacionados a continuación se establecen de manera general y como proforma. No obstante, si del objeto contractual se identifican otros riesgos diferentes a los aquí determinados, por favor reemplace el texto de la casilla teniendo en cuenta la etapa del proceso. Así mismo, seleccione la clase, fuente y el tipo (Operacional, Económico, Sociales o Políticos, Regulatorios, Financieros, Tecnológicos, De la naturaleza, Ambientales) 2) Continúe en la hoja de "EVALUACIÓN" (SI EXISTEN DUDAS CONCEPTUALES PARA LA ELABORACIÓN DE LA MATRIZ DE RIESGO CONSULTE EL MANUAL PARA LA IDENTIFICACIÓN Y COBERTURA DEL RIESGO EN LOS PROCESOS DE CONTRATACIÓN EXPEDIDO POR COLOMBIA COMPRA EFICIENTE Y LA GUÍA DE RIESGOS PREVISIBLES CONTRACTUALES, EXPEDIDA POR LA VEEDURÍA DISTRITAL)
C17: ETAPAS | D17: CLASE | E17: FUENTE | F17: TIPO
C18: PLANEACIÓN
B19: Inadecuada escogencia de la modalidad de contratación | F19: Operacionales
B20: Requisitos habilitantes inapropiados para el proceso de selección | F20: Operacionales
B21: Inadecuado análisis económico estimativo del valor del contrato | F21: Economicos
B22: Inadecuada descripción del bien o servicio requerido | F22: Operacionales
B23: Inadecuada elaboración de estudios y diseños | F23: Operacionales
B24: Requisitos habilitantes que impidan la selección objetiva | F24: Operacionales
B25: Falta de profundidad en el estudio de sector no identificandose claramente aspectos de oferta y demanda | F25: Economicos
B26: Ausencia de fundamentación de la justificación y conveniencia de la contratación | F26: Operacionales
B27: Inadecuada identificación de las condiciones contractuales | F27: Operacionales
B28: No aprobación o demoras en la expedición vigencias futuras | F28: Operacionales
B29: Apertura de procesos sin disponibilidad presupuestal | F29: Operacionales
C30: SELECCIÓN
B31: Inadecuada evaluación de las ofertas y/o verificación de requisitos habilitantes | F31: Operacionales
B32: Inadecuado manejo administrativo del proceso contractual | F32: Operacionales
B33: Falta de claridad en la elaboración de los actos administrativos | F33: Operacionales
B34: Contestación inoportuna a todas las observaciones formuladas a los documentos de la contratación | F34: Operacionales
B35: No publicación de la documentación del proceso de selección en el SECOP | F35: Operacionales
B36: Confabulacion de los proponentes (Colusión) | F36: Operacionales
B37: Variaciones el en Análisis de Precios, especificaciones y características técnicas, para la prestación del servicio. | F37: Precontractual
B38: Cuando se presente alguna inconsistencia o inexactitud en la información de la propuesta, sobre los documentos con los cuales se acrediten factores habilitantes o de ponderación, que impida la selección objetiva, sin que medie justificación razonablemente aceptable. | F38: Precontractual
B39: Selección de ofertas con precios artificialmente bajos. | F39: Operacionales
C40: CONTRATACIÓN
B41: Riesgo de que no se firme el contrato. | F41: Operacionales
B42: Falta de constitución o constitución tardía de la garantía única. Aceptación de garantías que no se ajustan a lo contemplado en el contrato | F42: Operacionales
B43: Falta de solicitud o solicitud tardía del registro presupuestal | F43: Operacionales
B44: No publicación de la documentación del proceso de selección en el SECOP | F44: Operacionales
B45: Expedición de normas de carácter Distrital o Nacional que afecten el desarrollo del contrato. | F45: Regulatorio
B46: Presentación de reclamos de terceros sobre la selección del oferente que retrasen el perfeccionamiento del contrato. | F46: Operacionales
C47: EJECUCIÓN
B48: Fluctuaciones del valor de la moneda | F48: Economicos
B49: Cambio de precios en factores de producción. | F49: Economicos
...

Sheet TABLA DE VALORACIÓN DE RIESGOS
C1: PROCESO GESTIÓN CONTRACTUAL | I1: FECHA 16/07/2026
C2: Matriz de Riesgos Identificación, evaluación y tratamiento de riesgos para procesos de contratación | I2: CÓDIGO: PS07-FO580
I3: VERSIÓN 3
A5: TABLA DE VALORACIÓN DEL RIESGO
A8: Probabilidad | B8: Catagoria | D8: Valoración | F8: Impacto | G8: Categoria | H8: Valoración
B9: Raro (puede ocurrir excepcionalmente) | D9: 1 | G9: Insignificante | H9: 1
B10: Improbable (puede ocurrir ocasionalmente) | D10: 2 | G10: Menor | H10: 2
B11: Posible (puede ocurrir en cualquier momento futuro) | D11: 3 | G11: Moderado | H11: 3
B12: Probable (probablemente va a ocurrir) | D12: 4 | G12: Mayor | H12: 4
B13: Casi cierto (ocurre en la mayoria de circunstancias) | D13: 5 | G13: Catastrófico | H13: 5
B15: Valoración del Riesgo
B16: Calificación Cualitativa | E16: Obstruye la ejecución del contrato de manera intrascendente. | F16: Dificulta la ejecución del contrato de manera baja, aplicando medidas mínimas se pueden lograr el objeto contractual | G16: Afecta la ejecución del contrato sin alterar el beneficio para las partes | H16: Obstruye la ejecución del contrato sustancialmente pero aun así permite la consecución del objeto contractual | J16: Perturba la ejecución del contrato de manera grave imposibilitando la consecución del objeto contractual.
B17: Calificación Monetaria | E17: Los sobrecostos no representan más del uno por ciento (1%) del valor del contrato. | F17: Los sobrecostos no representan más del cinco por ciento (5%) del valor del contrato. | G17: Genera un impacto sobre el valor del contrato entre el cinco (5%) y el quince por ciento (15%). | H17: Incrementa el valor del contrato entre el quince (15%) y el treinta por ciento (30%). | J17: Impacto sobre el valor del contrato en más del treinta por ciento (30%).
B18: Categoría | D18: Valoración | E18: Insignificante | F18: Menor | G18: Moderado | H18: Mayor | J18: Catastrófico
E19: 1 | F19: 2 | G19: 3 | H19: 4 | J19: 5
B20: Raro (puede ocurrir excepcionalmente) | D20: 1 | E20: 2 | F20: 3 | G20: 4 | H20: 5 | J20: 6
B21: Improbable (puede ocurrir ocasionalmente) | D21: 2 | E21: 3 | F21: 4 | G21: 5 | H21: 6 | J21: 7
B22: Posible (puede ocurrir en cualquier momento futuro) | D22: 3 | E22: 4 | F22: 5 | G22: 6 | H22: 7 | J22: 8
B23: Probable (probablemente va a ocurrir) | D23: 4 | E23: 5 | F23: 6 | G23: 7 | H23: 8 | J23: 9
B24: Casi cierto (ocurre en la mayoria de circunstancias) | D24: 5 | E24: 6 | F24: 7 | G24: 8 | H24: 9 | J24: 10
F26: Categoria del Riesgo
F27: Valoración del Riesgo | G27: Categoría
F28: 8, 9 y 10 | G28: Riesgo extremo
F29: 6 y 7 | G29: Riesgo alto
F30: 5 | G30: Riesgo medio
F31: 2, 3 y 4 | G31: Riesgo bajo

Sheet EVALUACION DE RIESGOS
C2: PROCESO GESTIÓN CONTRACTUAL | K2: FECHA 16/07/2026
C3: Matriz de Riesgos Identificación, evaluación y tratamiento de riesgos para procesos de contratación | K3: CÓDIGO: PS07-FO580
K4: VERSIÓN 3
B6: Objeto Contractual: Suministro de elementos de papelería, cajas, carpetas y unidades de conservación archivística para la Secretaría Distrital del Hábitat, de conformidad con las especificaciones técnicas, condiciones de entrega, criterios de calidad y demás requerimientos establecidos.
B8: CALIFICACIÓN | H8: Cualitativa
B9: ETAPA | C9: Descripción (Que puede pasar y, cómo puede ocurrir) | H9: Consecuencias de la ocurrencia del evento | I9: Probabilidad de Ocurrencia | J9: Impacto | K9: Calificación Total | L9: Prioridad
B10: EJECUCIÓN | C10: Retraso o entrega incompleta de un pedido. | H10: Afectación de la disponibilidad de los insumos requeridos por la Entidad. | I10: 3 | J10: 2 | K10: =I10+J10 -> 5 | L10: =IF(K10<=4,"BAJO",IF(K10=5,"MEDIO",IF(K10<=7,"ALTO","EXTREMO"))) -> MEDIO
B11: EJECUCIÓN | C11: Entrega de bienes que no cumplen las especificaciones, referencias, materiales, medidas, fecha de vencimiento o condiciones de calidad exigidas. | H11: Rechazo de bienes, reposición y afectación de la disponibilidad de los elementos requeridos. | I11: 3 | J11: 3 | K11: =I11+J11 -> 6 | L11: =IF(K11<=4,"BAJO",IF(K11=5,"MEDIO",IF(K11<=7,"ALTO","EXTREMO"))) -> ALTO
B12: EJECUCIÓN | C12: Pérdida, deterioro o daño de los bienes durante el empaque, transporte, cargue, descargue o ingreso a la Entidad. | H12: Pérdida o deterioro de bienes antes del recibo y necesidad de reposición. | I12: 3 | J12: 2 | K12: =I12+J12 -> 5 | L12: =IF(K12<=4,"BAJO",IF(K12=5,"MEDIO",IF(K12<=7,"ALTO","EXTREMO"))) -> MEDIO
B13: EJECUCIÓN | C13: Manejo inadecuado de residuos o materiales de empaque cuando resulte aplicable. | H13: Incumplimiento de las obligaciones ambientales aplicables y necesidad de adoptar medidas de corrección. | I13: 2 | J13: 2 | K13: =I13+J13 -> 4 | L13: =IF(K13<=4,"BAJO",IF(K13=5,"MEDIO",IF(K13<=7,"ALTO","EXTREMO"))) -> BAJO
B14: EJECUCIÓN | C14: Pedido incompleto o tardío por falta de coordinación de la Entidad. | H14: Afectación de la oportunidad en la entrega del pedido. | I14: 3 | J14: 2 | K14: =I14+J14 -> 5 | L14: =IF(K14<=4,"BAJO",IF(K14=5,"MEDIO",IF(K14<=7,"ALTO","EXTREMO"))) -> MEDIO
K15: =I15+J15 -> 0 | L15: =IF(K15<=4,"BAJO",IF(K15=5,"MEDIO",IF(K15<=7,"ALTO","EXTREMO"))) -> BAJO
K16: =I16+J16 -> 0 | L16: =IF(K16<=4,"BAJO",IF(K16=5,"MEDIO",IF(K16<=7,"ALTO","EXTREMO"))) -> BAJO
K17: =I17+J17 -> 0 | L17: =IF(K17<=4,"BAJO",IF(K17=5,"MEDIO",IF(K17<=7,"ALTO","EXTREMO"))) -> BAJO
K18: =I18+J18 -> 0 | L18: =IF(K18<=4,"BAJO",IF(K18=5,"MEDIO",IF(K18<=7,"ALTO","EXTREMO"))) -> BAJO
K19: =I19+J19 -> 0 | L19: =IF(K19<=4,"BAJO",IF(K19=5,"MEDIO",IF(K19<=7,"ALTO","EXTREMO"))) -> BAJO
K20: =I20+J20 -> 0 | L20: =IF(K20<=4,"BAJO",IF(K20=5,"MEDIO",IF(K20<=7,"ALTO","EXTREMO"))) -> BAJO
K21: =I21+J21 -> 0 | L21: =IF(K21<=4,"BAJO",IF(K21=5,"MEDIO",IF(K21<=7,"ALTO","EXTREMO"))) -> BAJO
K22: =I22+J22 -> 0 | L22: =IF(K22<=4,"BAJO",IF(K22=5,"MEDIO",IF(K22<=7,"ALTO","EXTREMO"))) -> BAJO
K23: =I23+J23 -> 0 | L23: =IF(K23<=4,"BAJO",IF(K23=5,"MEDIO",IF(K23<=7,"ALTO","EXTREMO"))) -> BAJO
K24: =I24+J24 -> 0 | L24: =IF(K24<=4,"BAJO",IF(K24=5,"MEDIO",IF(K24<=7,"ALTO","EXTREMO"))) -> BAJO
K25: =I25+J25 -> 0 | L25: =IF(K25<=4,"BAJO",IF(K25=5,"MEDIO",IF(K25<=7,"ALTO","EXTREMO"))) -> BAJO
K26: =I26+J26 -> 0 | L26: =IF(K26<=4,"BAJO",IF(K26=5,"MEDIO",IF(K26<=7,"ALTO","EXTREMO"))) -> BAJO
... K29: =I29+J29 -> 0 | L29: =IF(K29<=4,"BAJO",IF(K29=5,"MEDIO",IF(K29<=7,"ALTO","EXTREMO"))) -> BAJO
B32: Cualitativa
B33: Monetaria
B36: INSTRUCCIONES PARA LA IDENTIFICACIÓN, ANALISIS, EVALUACIÓN , ASIGNACIÓN Y TRATAMIENTO DE RIESGOS EN LA CONTRATACIÓN
B37: 1) Diligencie el objeto contractual y seleccione la(s) etapas y los riesgos que aplican al objeto contractual, de acuerdo a lo definido en la hoja de "IDENTIFICACIÓN Y ANÁLISIS"
B38: 2) Describa las consecuencias de la ocurrencia del Riesgo/evento.
B39: 3) Asigne la probabilidad de ocurrencia del riesgo, de conformidad con la tabla de probabilidad y la valoración del riesgo (Cualitativa o Monetaria)
B40: 4) Asigne el impacto que generaría la materialización del riesgo, de conformidad con la tabla de impacto y la valoración del riesgo (Cualitativa o Monetaria)
B41: 5) Al realizar las anteriores actividades se obtendrá la calificación total y la valoración del riesgo (prioridad).
B42: 6) Continúe en la hoja de "EVALUACIÓN DE CONTROLES"

Sheet EVALUACION CON CONTROLES
E2: PROCESO GESTIÓN CONTRACTUAL | P2: FECHA 16/07/2026
E3: Matriz de Riesgos Identificación, evaluación y tratamiento de riesgos para procesos de contratación | P3: CÓDIGO: PS07-FO580
P4: VERSIÓN 3
B6: =+'EVALUACION DE RIESGOS'!B6 -> Objeto Contractual: Suministro de elementos de papelería, cajas, carpetas y unidades de conservación archivística para la Secretaría Distrital del Hábitat, de conformidad con las especificaciones técnicas, condiciones de entrega, criterios de calidad y demás requerimientos establecidos.
B10: ETAPA | C10: Descripción (Que puede pasar y, cómo puede ocurrir) | G10: Tratamiento/Controles a ser implementados | I10: Probabilidad de Ocurrencia | J10: Impacto | K10: Calificación Total | L10: Prioridad | M10: ¿Afecta el equilibrio económico del contrato? | N10: Persona responsable por implementar el tratamiento | O10: Fecha estimada en que se inicia el tratamiento | P10: Fecha estimada en que se completa el tratamiento | Q10: ¿Cómo se realiza el monitoreo? | R10: Periodicidad ¿Cuándo?
B11: =+'EVALUACION DE RIESGOS'!B10 -> EJECUCIÓN | C11: =+'EVALUACION DE RIESGOS'!C10 -> Retraso o entrega incompleta de un pedido. | G11: Pedidos escritos con plazo definido; obligación de mantener disponibilidad; seguimiento de pendientes; requerimiento y medidas contractuales cuando corresponda. | I11: 2 | J11: 2 | K11: =I11+J11 -> 4 | L11: =IF(K11<=4,"BAJO",IF(K11=5,"MEDIO",IF(K11<=7,"ALTO","EXTREMO"))) -> BAJO | M11: NO | N11: Contratista | O11: Desde el primer pedido | P11: Durante toda la ejecución | Q11: Comparar la fecha y el contenido de cada solicitud con la entrega efectuada y verificar los pendientes. | R11: En cada pedido
B12: =+'EVALUACION DE RIESGOS'!B11 -> EJECUCIÓN | C12: =+'EVALUACION DE RIESGOS'!C11 -> Entrega de bienes que no cumplen las especificaciones, referencias, materiales, medidas, fecha de vencimiento o condiciones de calidad exigidas. | G12: Verificación física y documental al recibo; rechazo de bienes no conformes y reposición sin costo dentro del plazo previsto. | I12: 2 | J12: 2 | K12: =I12+J12 -> 4 | L12: =IF(K12<=4,"BAJO",IF(K12=5,"MEDIO",IF(K12<=7,"ALTO","EXTREMO"))) -> BAJO | M12: NO | N12: Contratista | O12: Desde la primera entrega | P12: Durante toda la ejecución | Q12: Verificación de cada entrega mediante remisión, revisión de especificaciones y constancia de recibo. | R12: En cada entrega
B13: =+'EVALUACION DE RIESGOS'!B12 -> EJECUCIÓN | C13: =+'EVALUACION DE RIESGOS'!C12 -> Pérdida, deterioro o daño de los bienes durante el empaque, transporte, cargue, descargue o ingreso a la Entidad. | G13: Empaque y transporte adecuados; responsabilidad del contratista hasta el recibo; reposición de los bienes afectados sin costo para la SDHT. | I13: 2 | J13: 2 | K13: =I13+J13 -> 4 | L13: =IF(K13<=4,"BAJO",IF(K13=5,"MEDIO",IF(K13<=7,"ALTO","EXTREMO"))) -> BAJO | M13: NO | N13: Contratista | O13: Desde la primera entrega | P13: Durante toda la ejecución | Q13: Inspección visual de los bienes al momento de la recepción y registro de las novedades que se presenten. | R13: En cada entrega
B14: =+'EVALUACION DE RIESGOS'!B13 -> EJECUCIÓN | C14: =+'EVALUACION DE RIESGOS'!C13 -> Manejo inadecuado de residuos o materiales de empaque cuando resulte aplicable. | G14: Cumplimiento de las obligaciones ambientales del Anexo Técnico; recolección de materiales y certificados de gestión o disposición final cuando correspondan. | I14: 1 | J14: 2 | K14: =I14+J14 -> 3 | L14: =IF(K14<=4,"BAJO",IF(K14=5,"MEDIO",IF(K14<=7,"ALTO","EXTREMO"))) -> BAJO | M14: NO | N14: Contratista | O14: Cuando resulte aplicable | P14: Durante toda la ejecución | Q14: Verificación de los soportes ambientales exigibles y del cumplimiento de las obligaciones previstas en el Anexo Técnico. | R14: Cuando aplique
B15: =+'EVALUACION DE RIESGOS'!B14 -> EJECUCIÓN | C15: =+'EVALUACION DE RIESGOS'!C14 -> Pedido incompleto o tardío por falta de coordinación de la Entidad. | G15: Solicitudes completas, verificación presupuestal y coordinación previa con el almacén. | I15: 2 | J15: 2 | K15: =I15+J15 -> 4 | L15: =IF(K15<=4,"BAJO",IF(K15=5,"MEDIO",IF(K15<=7,"ALTO","EXTREMO"))) -> BAJO | M15: NO | N15: SDHT / Supervisión | O15: Desde el primer pedido | P15: Durante toda la ejecución | Q15: Control de la solicitud, disponibilidad presupuestal y programación de ingreso al almacén. | R15: En cada pedido
B16: =+'EVALUACION DE RIESGOS'!B15 -> 0 | C16: =+'EVALUACION DE RIESGOS'!C15 -> 0 | I16: =+'EVALUACION DE RIESGOS'!I15 -> 0 | J16: =+'EVALUACION DE RIESGOS'!J15 -> 0 | K16: =I16+J16 -> 0 | L16: =IF(K16<=4,"BAJO",IF(K16=5,"MEDIO",IF(K16<=7,"ALTO","EXTREMO"))) -> BAJO
B17: =+'EVALUACION DE RIESGOS'!B16 -> 0 | C17: =+'EVALUACION DE RIESGOS'!C16 -> 0 | I17: =+'EVALUACION DE RIESGOS'!I16 -> 0 | J17: =+'EVALUACION DE RIESGOS'!J16 -> 0 | K17: =I17+J17 -> 0 | L17: =IF(K17<=4,"BAJO",IF(K17=5,"MEDIO",IF(K17<=7,"ALTO","EXTREMO"))) -> BAJO
B18: =+'EVALUACION DE RIESGOS'!B17 -> 0 | C18: =+'EVALUACION DE RIESGOS'!C17 -> 0 | I18: =+'EVALUACION DE RIESGOS'!I17 -> 0 | J18: =+'EVALUACION DE RIESGOS'!J17 -> 0 | K18: =I18+J18 -> 0 | L18: =IF(K18<=4,"BAJO",IF(K18=5,"MEDIO",IF(K18<=7,"ALTO","EXTREMO"))) -> BAJO
B19: =+'EVALUACION DE RIESGOS'!B18 -> 0 | C19: =+'EVALUACION DE RIESGOS'!C18 -> 0 | I19: =+'EVALUACION DE RIESGOS'!I18 -> 0 | J19: =+'EVALUACION DE RIESGOS'!J18 -> 0 | K19: =I19+J19 -> 0 | L19: =IF(K19<=4,"BAJO",IF(K19=5,"MEDIO",IF(K19<=7,"ALTO","EXTREMO"))) -> BAJO
B20: =+'EVALUACION DE RIESGOS'!B19 -> 0 | C20: =+'EVALUACION DE RIESGOS'!C19 -> 0 | I20: =+'EVALUACION DE RIESGOS'!I19 -> 0 | J20: =+'EVALUACION DE RIESGOS'!J19 -> 0 | K20: =I20+J20 -> 0 | L20: =IF(K20<=4,"BAJO",IF(K20=5,"MEDIO",IF(K20<=7,"ALTO","EXTREMO"))) -> BAJO
B21: =+'EVALUACION DE RIESGOS'!B20 -> 0 | C21: =+'EVALUACION DE RIESGOS'!C20 -> 0 | I21: =+'EVALUACION DE RIESGOS'!I20 -> 0 | J21: =+'EVALUACION DE RIESGOS'!J20 -> 0 | K21: =I21+J21 -> 0 | L21: =IF(K21<=4,"BAJO",IF(K21=5,"MEDIO",IF(K21<=7,"ALTO","EXTREMO"))) -> BAJO
B22: =+'EVALUACION DE RIESGOS'!B21 -> 0 | C22: =+'EVALUACION DE RIESGOS'!C21 -> 0 | I22: =+'EVALUACION DE RIESGOS'!I21 -> 0 | J22: =+'EVALUACION DE RIESGOS'!J21 -> 0 | K22: =I22+J22 -> 0 | L22: =IF(K22<=4,"BAJO",IF(K22=5,"MEDIO",IF(K22<=7,"ALTO","EXTREMO"))) -> BAJO
B23: =+'EVALUACION DE RIESGOS'!B22 -> 0 | C23: =+'EVALUACION DE RIESGOS'!C22 -> 0 | I23: =+'EVALUACION DE RIESGOS'!I22 -> 0 | J23: =+'EVALUACION DE RIESGOS'!J22 -> 0 | K23: =I23+J23 -> 0 | L23: =IF(K23<=4,"BAJO",IF(K23=5,"MEDIO",IF(K23<=7,"ALTO","EXTREMO"))) -> BAJO
B24: =+'EVALUACION DE RIESGOS'!B23 -> 0 | C24: =+'EVALUACION DE RIESGOS'!C23 -> 0 | I24: =+'EVALUACION DE RIESGOS'!I23 -> 0 | J24: =+'EVALUACION DE RIESGOS'!J23 -> 0 | K24: =I24+J24 -> 0 | L24: =IF(K24<=4,"BAJO",IF(K24=5,"MEDIO",IF(K24<=7,"ALTO","EXTREMO"))) -> BAJO
B25: =+'EVALUACION DE RIESGOS'!B24 -> 0 | C25: =+'EVALUACION DE RIESGOS'!C24 -> 0 | I25: =+'EVALUACION DE RIESGOS'!I24 -> 0 | J25: =+'EVALUACION DE RIESGOS'!J24 -> 0 | K25: =+I25+J25 -> 0 | L25: =IF(K25<=4,"BAJO",IF(K25=5,"MEDIO",IF(K25<=7,"ALTO","EXTREMO"))) -> BAJO
B26: =+'EVALUACION DE RIESGOS'!B25 -> 0 | C26: =+'EVALUACION DE RIESGOS'!C25 -> 0 | I26: =+'EVALUACION DE RIESGOS'!I25 -> 0 | J26: =+'EVALUACION DE RIESGOS'!J25 -> 0 | K26: =+I26+J26 -> 0 | L26: =IF(K26<=4,"BAJO",IF(K26=5,"MEDIO",IF(K26<=7,"ALTO","EXTREMO"))) -> BAJO
B27: =+'EVALUACION DE RIESGOS'!B26 -> 0 | C27: =+'EVALUACION DE RIESGOS'!C26 -> 0 | I27: =+'EVALUACION DE RIESGOS'!I26 -> 0 | J27: =+'EVALUACION DE RIESGOS'!J26 -> 0 | K27: =+I27+J27 -> 0 | L27: =IF(K27<=4,"BAJO",IF(K27=5,"MEDIO",IF(K27<=7,"ALTO","EXTREMO"))) -> BAJO
B28: =+'EVALUACION DE RIESGOS'!B27 -> 0 | C28: =+'EVALUACION DE RIESGOS'!C27 -> 0 | I28: =+'EVALUACION DE RIESGOS'!I27 -> 0 | J28: =+'EVALUACION DE RIESGOS'!J27 -> 0 | K28: =+I28+J28 -> 0 | L28: =IF(K28<=4,"BAJO",IF(K28=5,"MEDIO",IF(K28<=7,"ALTO","EXTREMO"))) -> BAJO
B29: =+'EVALUACION DE RIESGOS'!B28 -> 0 | C29: =+'EVALUACION DE RIESGOS'!C28 -> 0 | I29: =+'EVALUACION DE RIESGOS'!I28 -> 0 | J29: =+'EVALUACION DE RIESGOS'!J28 -> 0 | K29: =+I29+J29 -> 0 | L29: =IF(K29<=4,"BAJO",IF(K29=5,"MEDIO",IF(K29<=7,"ALTO","EXTREMO"))) -> BAJO
B30: =+'EVALUACION DE RIESGOS'!B29 -> 0 | C30: =+'EVALUACION DE RIESGOS'!C29 -> 0 | I30: =+'EVALUACION DE RIESGOS'!I29 -> 0 | J30: =+'EVALUACION DE RIESGOS'!J29 -> 0 | K30: =+I30+J30 -> 0 | L30: =IF(K30<=4,"BAJO",IF(K30=5,"MEDIO",IF(K30<=7,"ALTO","EXTREMO"))) -> BAJO
C32: Categoria del Riesgo | H32: Impacto del Riesgo
B33: Probabilidad | C33: Catagoria | F33: Valoración | H33: Categoria | J33: Valoración | N33: Categoria del Riesgo
C34: Raro (puede ocurrir excepcionalmente) | F34: 1 | H34: Insignificante | J34: 1 | N34: Valoración del Riesgo | P34: Categoría
C35: Improbable (puede ocurrir ocasionalmente) | F35: 2 | H35: Menor | J35: 2 | N35: 8, 9 y 10 | P35: Riesgo extremo
C36: Posible (puede ocurrir en cualquier momento futuro) | F36: 3 | H36: Moderado | J36: 3 | N36: 6 y 7 | P36: Riesgo alto
C37: Probable (probablemente va a ocurrir) | F37: 4 | H37: Mayor | J37: 4 | N37: 5 | P37: Riesgo medio
C38: Casi cierto (ocurre en la mayoria de circunstancias) | F38: 5 | H38: Catastrófico | J38: 5 | N38: 2, 3 y 4 | P38: Riesgo bajo
C40: Valoración del Riesgo
C41: Calificación Cualitativa | G41: Obstruye la ejecución del contrato de manera intrascendente. | I41: Dificulta la ejecución del contrato de manera baja, aplicando medidas mínimas se pueden lograr el objeto contractual | L41: Afecta la ejecución del contrato sin alterar el beneficio para las partes | N41: Obstruye la ejecución del contrato sustancialmente pero aun así permite la consecución del objeto contractual | P41: Perturba la ejecución del contrato de manera grave imposibilitando la consecución del objeto contractual.
C42: Calificación Monetaria | G42: Los sobrecostos no representan más del uno por ciento (1%) del valor del contrato. | I42: Los sobrecostos no representan más del cinco por ciento (5%) del valor del contrato. | L42: Genera un impacto sobre el valor del contrato entre el cinco (5%) y el quince por ciento (15%). | N42: Incrementa el valor del contrato entre el quince (15%) y el treinta por ciento (30%). | P42: Impacto sobre el valor del contrato en más del treinta por ciento (30%).
C43: Catagoria | F43: Valoración | G43: Insignificante | I43: Menor | L43: Moderado | N43: Mayor | P43: Catastrófico
G44: 1 | I44: 2 | L44: 3 | N44: 4 | P44: 5
C45: Raro (puede ocurrir excepcionalmente) | F45: 1 | G45: 2 | I45: 3 | L45: 4 | N45: 5 | P45: 6
C46: Improbable (puede ocurrir ocasionalmente) | F46: 2 | G46: 3 | I46: 4 | L46: 5 | N46: 6 | P46: 7
C47: Posible (puede ocurrir en cualquier momento futuro) | F47: 3 | G47: 4 | I47: 5 | L47: 6 | N47: 7 | P47: 8
...

Sheet MATRIZ DILIGENCIADA
D2: PROCESO GESTIÓN CONTRACTUAL | V2: FECHA 16/07/2026
D3: Matriz de Riesgos Identificación, evaluación y tratamiento de riesgos para procesos de contratación | V3: CÓDIGO: PS07-FO580
V4: VERSIÓN 3
B6: Fecha de Diligenciamiento: 15/09/2026 | G6: Área Responsable del Diligenciamiento: DIRECCIÓN ADMINISTRATIVA
D8: (Marque con una "X")
B9: MODALIDAD
D10: LICITACIÓN | F10: SELECCIÓN ABREVIADA | N10: CONCURSO DE MÉRITOS | T10: CONTRATACIÓN DIRECTA
F11: MENOR CUANTÍA | G11: SUBASTA INVERSA | H11: ACUERDO MARCO | N11: ABIERTO | O11: LISTA | T11: CONTRATO INTERADMINISTRATIVO | U11: PRESTACIÓN DE SERVICIOS PROFESIONALES Y DE APOYO A LA GESTIÓN | V11: CONVENIO INTERADMINISTRATIVO | W11: PROVEEDOR EXCLUSIVO | X11: OTRO
X12: X
T15: ¿Cuál?: MÍNIMA CUANTÍA
B17: Objeto Contractual: SUMINISTRO DE ELEMENTOS DE PAPELERIA CAJAS CARPETAS Y UNIDADES DE CONSERVACION ARCHIVISTICAS PARA LA SECRETARIA DISTRITAL DEL HABITAT DE CONFORMIDAD CON LAS ESPECIFICACIONES TECNICAS CONDICIONES DE ENTREGA CRITERIOS DE CALIDAD Y DEMAS REQUERIMIENTOS ESTABLECIDOS.
B18: Esta matriz es un documento anexo del Estudio Previo
B21: No | C21: Descripción (Que puede pasar y, cómo puede ocurrir) | D21: Etapa | E21: Clase | F21: Fuente | G21: Consecuencias de la ocurrencia del evento | H21: Probabilidad | I21: Impacto | J21: Calificación total | K21: Prioridad | L21: ¿A quien se le asigna? | M21: % | N21: Tratamiento/Controles a ser implementados | O21: Probabilidad | P21: Impacto | Q21: Calificación total | R21: Prioridad | S21: ¿Afecta el equilibrio económico del contrato? | T21: Persona responsable por implementar el tratamiento | U21: Fecha estimada en que se inicia el tratamiento | V21: Fecha estimada en que se completa el tratamiento | W21: ¿Cómo se realiza el monitoreo | X21: Periodicidad ¿Cuándo?
B22: 1 | C22: Inconsistencias, omisiones o falta de armonización entre el Anexo Técnico, el Estudio del Sector, el Estudio Previo, el Formato de Oferta Económica y los demás documentos del proceso respecto del objeto, alcance, precios unitarios techo, modalidad de ejecución, experiencia o garantías. | D22: PLANEACIÓN | E22: Específico | F22: Interno | G22: Observaciones, reprocesos, retraso en la publicación o modificación de documentos y afectación del principio de planeación. | H22: 2 | I22: 3 | J22: =H22+I22 -> 5 | K22: =IF(J22>=8,"EXTREMO",IF(J22>=6,"ALTO",IF(J22=5,"MEDIO","BAJO"))) -> MEDIO | L22: SDHT | M22: 100 | N22: Revisión cruzada de todos los documentos antes de publicación; lista de chequeo de coherencia; validación jurídica, técnica y económica de objeto, presupuesto, plazo, experiencia, garantías y esquema de monto agotable. | O22: 1 | P22: 2 | Q22: =O22+P22 -> 3 | R22: =IF(Q22>=8,"EXTREMO",IF(Q22>=6,"ALTO",IF(Q22=5,"MEDIO","BAJO"))) -> BAJO | S22: NO | T22: Dirección Administrativa / Equipo estructurador | U22: Desde la estructuración | V22: Hasta la publicación definitiva | W22: Revisión comparativa de los documentos y control de versiones antes de cada publicación. | X22: En cada ajuste y antes de publicar
B23: 2 | C23: Determinación inadecuada de los precios unitarios techo o del presupuesto oficial por errores de consolidación, uso de información desactualizada o aplicación incorrecta de la metodología del estudio de mercado. | D23: PLANEACIÓN | E23: Específico | F23: Interno | G23: Presupuesto insuficiente o sobredimensionado, distorsión de la evaluación económica, observaciones al proceso o imposibilidad de atender adecuadamente la necesidad. | H23: 2 | I23: 4 | J23: =H23+I23 -> 6 | K23: =IF(J23>=8,"EXTREMO",IF(J23>=6,"ALTO",IF(J23=5,"MEDIO","BAJO"))) -> ALTO | L23: SDHT | M23: 100 | N23: Aplicar la metodología definida en el Estudio del Sector; utilizar cotizaciones vigentes y precios históricos comparables; verificar cálculos, medianas, ponderaciones, precios techo y presupuesto oficial antes de la publicación. | O23: 1 | P23: 3 | Q23: =O23+P23 -> 4 | R23: =IF(Q23>=8,"EXTREMO",IF(Q23>=6,"ALTO",IF(Q23=5,"MEDIO","BAJO"))) -> BAJO | S23: NO | T23: Dirección Administrativa / Componente económico | U23: Desde el análisis de mercado | V23: Hasta la publicación definitiva | W23: Revisión aritmética y documental de las fuentes, precios techo y presupuesto oficial. | X23: Antes de publicar y cuando se actualicen precios
B24: 3 | C24: Definición de requisitos habilitantes o de experiencia que no correspondan a las conclusiones del Estudio del Sector o que resulten desproporcionados, incluyendo la aplicación incorrecta del criterio diferencial para MiPymes. | D24: PLANEACIÓN | E24: Específico | F24: Interno | G24: Restricción injustificada de la pluralidad de oferentes, observaciones al proceso, necesidad de modificar documentos o afectación de la selección objetiva. | H24: 2 | I24: 3 | J24: =H24+I24 -> 5 | K24: =IF(J24>=8,"EXTREMO",IF(J24>=6,"ALTO",IF(J24=5,"MEDIO","BAJO"))) -> MEDIO | L24: SDHT | M24: 100 | N24: Verificar que la experiencia general se mantenga en máximo dos (2) contratos por el 100 % del presupuesto oficial y que el diferencial MiPyme, cuando proceda, permita máximo tres (3) contratos manteniendo el mismo porcentaje; revisión jurídica previa. | O24: 1 | P24: 2 | Q24: =O24+P24 -> 3 | R24: =IF(Q24>=8,"EXTREMO",IF(Q24>=6,"ALTO",IF(Q24=5,"MEDIO","BAJO"))) -> BAJO | S24: NO | T24: Dirección Administrativa / Dirección de Contratación | U24: Desde la definición de habilitantes | V24: Hasta la publicación definitiva | W24: Contrastar los requisitos del Estudio Previo e Invitación con las conclusiones del Estudio del Sector. | X24: Antes de publicar y en cada modificación
B25: 4 | C25: Que el consumo real de papelería, cajas, carpetas y demás elementos resulte superior al proyectado y se agote el monto disponible antes del plazo estimado de seis (6) meses. | D25: PLANEACIÓN | E25: Específico | F25: Interno | G25: Terminación anticipada por agotamiento de recursos y riesgo de desabastecimiento antes de finalizar el horizonte inicialmente previsto. | H25: 3 | I25: 3 | J25: =H25+I25 -> 6 | K25: =IF(J25>=8,"EXTREMO",IF(J25>=6,"ALTO",IF(J25=5,"MEDIO","BAJO"))) -> ALTO | L25: SDHT | M25: 100 | N25: Seguimiento periódico al consumo y al saldo del contrato; priorización de requerimientos; control de inventarios y programación de pedidos conforme a necesidades efectivas y disponibilidad presupuestal. | O25: 2 | P25: 2 | Q25: =O25+P25 -> 4 | R25: =IF(Q25>=8,"EXTREMO",IF(Q25>=6,"ALTO",IF(Q25=5,"MEDIO","BAJO"))) -> BAJO | S25: NO | T25: Supervisión / Almacén / Dirección Administrativa | U25: Desde el inicio de la ejecución | V25: Durante toda la ejecución | W25: Comparar consumo acumulado, saldo disponible y proyección de necesidades por período. | X25: Mensual y antes de cada pedido
B26: 5 | C26: Evaluación económica incorrecta de las ofertas por errores aritméticos, omisión de la comparación con los precios unitarios techo o manejo inadecuado de precios artificialmente bajos o inconsistentes. | D26: SELECCIÓN | E26: Específico | F26: Interno | G26: Selección de una oferta que no cumpla las condiciones económicas, rechazo incorrecto de propuestas, reclamaciones o necesidad de rehacer la evaluación. | H26: 2 | I26: 4 | J26: =H26+I26 -> 6 | K26: =IF(J26>=8,"EXTREMO",IF(J26>=6,"ALTO",IF(J26=5,"MEDIO","BAJO"))) -> ALTO | L26: SDHT | M26: 100 | N26: Aplicar estrictamente las reglas de la Invitación y del Estudio del Sector; verificar cada precio unitario frente a su techo, realizar control aritmético y aplicar el procedimiento correspondiente cuando se identifiquen precios artificialmente bajos. | O26: 1 | P26: 2 | Q26: =O26+P26 -> 3 | R26: =IF(Q26>=8,"EXTREMO",IF(Q26>=6,"ALTO",IF(Q26=5,"MEDIO","BAJO"))) -> BAJO | S26: NO | T26: Comité evaluador / Dirección de Contratación | U26: Desde el cierre del proceso | V26: Hasta la aceptación de la oferta | W26: Doble verificación de la evaluación económica y trazabilidad de los cálculos. | X26: Durante la evaluación y antes de publicar el informe
B27: 6 | C27: Verificación inadecuada de los requisitos jurídicos, técnicos o de experiencia de los proponentes, incluida la acreditación de contratos y la condición diferencial de MiPyme cuando corresponda. | D27: SELECCIÓN | E27: Específico | F27: Interno | G27: Habilitación o rechazo improcedente de oferentes, observaciones, reclamaciones y afectación de la selección objetiva. | H27: 2 | I27: 4 | J27: =H27+I27 -> 6 | K27: =IF(J27>=8,"EXTREMO",IF(J27>=6,"ALTO",IF(J27=5,"MEDIO","BAJO"))) -> ALTO | L27: SDHT | M27: 100 | N27: Uso de listas de chequeo; revisión de certificaciones y soportes contractuales; validación de la sumatoria de experiencia y de las reglas generales y diferenciales previstas en los documentos del proceso. | O27: 1 | P27: 2 | Q27: =O27+P27 -> 3 | R27: =IF(Q27>=8,"EXTREMO",IF(Q27>=6,"ALTO",IF(Q27=5,"MEDIO","BAJO"))) -> BAJO | S27: NO | T27: Comité evaluador / Dirección de Contratación | U27: Desde la apertura de ofertas | V27: Hasta la aceptación de la oferta | W27: Revisión documentada de cada requisito y respuesta a las observaciones formuladas al informe de evaluación. | X27: Durante la evaluación
B28: 7 | C28: Respuesta incompleta o inoportuna a observaciones, o publicación tardía/incompleta en SECOP II de documentos, respuestas, informes o modificaciones del proceso. | D28: SELECCIÓN | E28: Específico | F28: Interno | G28: Retrasos del cronograma, afectación de la transparencia y publicidad, reprocesos o cuestionamientos al proceso de selección. | H28: 2 | I28: 3 | J28: =H28+I28 -> 5 | K28: =IF(J28>=8,"EXTREMO",IF(J28>=6,"ALTO",IF(J28=5,"MEDIO","BAJO"))) -> MEDIO | L28: SDHT | M28: 100 | N28: Control del cronograma; matriz de observaciones y responsables; revisión previa de integridad documental y verificación de publicación en SECOP II. | O28: 1 | P28: 2 | Q28: =O28+P28 -> 3 | R28: =IF(Q28>=8,"EXTREMO",IF(Q28>=6,"ALTO",IF(Q28=5,"MEDIO","BAJO"))) -> BAJO | S28: NO | T28: Dirección de Contratación / Dirección Administrativa | U28: Desde la publicación de la invitación | V28: Hasta la aceptación de la oferta | W28: Seguimiento al cronograma y validación en SECOP II de cada documento publicado. | X28: En cada hito del proceso
B29: 8 | C29: Que el adjudicatario no constituya, presente o ajuste oportunamente las garantías exigidas o no cumpla los demás requisitos necesarios para iniciar la ejecución. | D29: CONTRATACIÓN | E29: Específico | F29: Externo | G29: Retraso en la suscripción del acta de inicio y prolongación del período sin suministro contractual. | H29: 2 | I29: 3 | J29: =H29+I29 -> 5 | K29: =IF(J29>=8,"EXTREMO",IF(J29>=6,"ALTO",IF(J29=5,"MEDIO","BAJO"))) -> MEDIO | L29: CONTRATISTA | M29: 100 | N29: Definir claramente las garantías y requisitos de ejecución; requerir su presentación inmediata; revisar vigencias, porcentajes y suficiencia; efectuar los ajustes que resulten necesarios antes del inicio. | O29: 1 | P29: 2 | Q29: =O29+P29 -> 3 | R29: =IF(Q29>=8,"EXTREMO",IF(Q29>=6,"ALTO",IF(Q29=5,"MEDIO","BAJO"))) -> BAJO | S29: NO | T29: Contratista / Dirección de Contratación | U29: Desde la aceptación de la oferta | V29: Antes del acta de inicio | W29: Control de radicación, aprobación y vigencia de las garantías y demás requisitos de ejecución. | X29: Una vez adjudicado y antes del inicio
B30: 9 | C30: Demora en la expedición del registro presupuestal o en los trámites internos necesarios para formalizar el inicio del contrato. | D30: CONTRATACIÓN | E30: Específico | F30: Interno | G30: Retraso en el inicio de la ejecución y continuidad del desabastecimiento de elementos requeridos por la Entidad. | H30: 2 | I30: 3 | J30: =H30+I30 -> 5 | K30: =IF(J30>=8,"EXTREMO",IF(J30>=6,"ALTO",IF(J30=5,"MEDIO","BAJO"))) -> MEDIO | L30: SDHT | M30: 100 | N30: Tramitar oportunamente el registro presupuestal y demás requisitos internos; seguimiento coordinado entre Dirección Administrativa, Contratación y Presupuesto hasta la habilitación del inicio. | O30: 1 | P30: 2 | Q30: =O30+P30 -> 3 | R30: =IF(Q30>=8,"EXTREMO",IF(Q30>=6,"ALTO",IF(Q30=5,"MEDIO","BAJO"))) -> BAJO | S30: NO | T30: SDHT / Dirección Administrativa | U30: Desde la aceptación de la oferta | V30: Antes del acta de inicio | W30: Seguimiento al estado de los trámites presupuestales y contractuales requeridos para iniciar. | X30: Hasta completar requisitos de ejecución
B31: 10 | C31: Retraso o entrega incompleta de los bienes solicitados dentro del plazo establecido para cada pedido. | D31: EJECUCIÓN | E31: Específico | F31: Externo | G31: Desabastecimiento o indisponibilidad de insumos y afectación de las actividades administrativas, técnicas y documentales de la Entidad. | H31: 3 | I31: 3 | J31: =H31+I31 -> 6 | K31: =IF(J31>=8,"EXTREMO",IF(J31>=6,"ALTO",IF(J31=5,"MEDIO","BAJO"))) -> ALTO | L31: CONTRATISTA | M31: 100 | N31: Solicitudes escritas con fecha y contenido definido; obligación de entrega dentro de ocho (8) días calendario, salvo excepción justificada; seguimiento de pendientes y aplicación de medidas contractuales cuando corresponda. | O31: 2 | P31: 2 | Q31: =O31+P31 -> 4 | R31: =IF(Q31>=8,"EXTREMO",IF(Q31>=6,"ALTO",IF(Q31=5,"MEDIO","BAJO"))) -> BAJO | S31: NO | T31: Contratista / Supervisión | U31: Desde el primer pedido | V31: Durante toda la ejecución | W31: Comparar fecha, ítems y cantidades de cada solicitud con la entrega efectivamente realizada y registrar pendientes. | X31: En cada pedido
B32: 11 | C32: Entrega de bienes que no cumplan las especificaciones, referencias, materiales, dimensiones, condiciones de calidad, vida útil o exigencias de originalidad previstas en el Anexo Técnico. | D32: EJECUCIÓN | E32: Específico | F32: Externo | G32: Rechazo de bienes, reposiciones, retrasos en la disponibilidad de elementos y eventual aplicación de garantías o medidas contractuales. | H32: 3 | I32: 3 | J32: =H32+I32 -> 6 | K32: =IF(J32>=8,"EXTREMO",IF(J32>=6,"ALTO",IF(J32=5,"MEDIO","BAJO"))) -> ALTO | L32: CONTRATISTA | M32: 100 | N32: Verificación física y documental en la recepción; rechazo de bienes no conformes; reposición sin costo dentro de cinco (5) días hábiles; control especial de tintas y tóner originales y de las condiciones técnicas de cajas y carpetas. | O32: 2 | P32: 2 | Q32: =O32+P32 -> 4 | R32: =IF(Q32>=8,"EXTREMO",IF(Q32>=6,"ALTO",IF(Q32=5,"MEDIO","BAJO"))) -> BAJO | S32: NO | T32: Contratista / Supervisión / Almacén | U32: Desde la primera entrega | V32: Durante toda la ejecución | W32: Revisión de remisiones, especificaciones, referencias, calidad y estado de los bienes antes del recibo a satisfacción. | X32: En cada entrega
B33: 12 | C33: Pérdida, deterioro o daño de los bienes durante el empaque, transporte, cargue, descargue o ingreso a las instalaciones de la Entidad. | D33: EJECUCIÓN | E33: Específico | F33: Externo | G33: Pérdida o deterioro de bienes antes del recibo, necesidad de reposición y retraso en la atención de la necesidad. | H33: 3 | I33: 2 | J33: =H33+I33 -> 5 | K33: =IF(J33>=8,"EXTREMO",IF(J33>=6,"ALTO",IF(J33=5,"MEDIO","BAJO"))) -> MEDIO | L33: CONTRATISTA | M33: 100 | N33: Empaque, transporte y manipulación adecuados; responsabilidad del contratista hasta el recibo; inspección al ingreso y reposición de los bienes afectados sin costo para la SDHT. | O33: 2 | P33: 1 | Q33: =O33+P33 -> 3 | R33: =IF(Q33>=8,"EXTREMO",IF(Q33>=6,"ALTO",IF(Q33=5,"MEDIO","BAJO"))) -> BAJO | S33: NO | T33: Contratista | U33: Desde la primera entrega | V33: Durante toda la ejecución | W33: Inspección visual y registro de novedades al momento de cada recepción. | X33: En cada entrega
... B41: 20 | C41: Demora atribuible a la Entidad en el trámite del pago una vez radicada completa y correctamente la cuenta, aprobada por la supervisión y cumplidos los requisitos correspondientes. | D41: EJECUCIÓN | E41: Específico | F41: Interno | G41: Retraso en el flujo de pago al contratista, reclamaciones y afectación de la relación contractual. | H41: 2 | I41: 3 | J41: =H41+I41 -> 5 | K41: =IF(J41>=8,"EXTREMO",IF(J41>=6,"ALTO",IF(J41=5,"MEDIO","BAJO"))) -> MEDIO | L41: SDHT | M41: 100 | N41: Seguimiento al trámite interno de la cuenta, disponibilidad del PAC y tiempos de aprobación; gestión oportuna de novedades y comunicación al contratista cuando se requieran aclaraciones. | O41: 1 | P41: 2 | Q41: =O41+P41 -> 3 | R41: =IF(Q41>=8,"EXTREMO",IF(Q41>=6,"ALTO",IF(Q41=5,"MEDIO","BAJO"))) -> BAJO | S41: NO | T41: SDHT / Supervisión / Área financiera | U41: Desde la primera cuenta aprobada | V41: Durante toda la ejecución | W41: Seguimiento al estado de cada cuenta desde aprobación hasta pago. | X41: Con cada pago
F43: Categoria | J43: Impacto del Riesgo
D44: Probabilidad | E44: Catagoria | G44: Valoración | I44: Categoria | L44: Valoración
E45: Raro (puede ocurrir excepcionalmente) | G45: 1 | I45: Insignificante | L45: 1
E46: Improbable (puede ocurrir ocasionalmente) | G46: 2 | I46: Menor | L46: 2
E47: Posible (puede ocurrir en cualquier momento futuro) | G47: 3 | I47: Moderado | L47: 3
E48: Probable (probablemente va a ocurrir) | G48: 4 | I48: Mayor | L48: 4
E49: Casi cierto (ocurre en la mayoria de circunstancias) | G49: 5 | I49: Catastrófico | L49: 5
D51: Valoración del Riesgo
C52: Catagoria | E52: Valoración | F52: Insignificante | H52: Menor | J52: Moderado | K52: Mayor | L52: Catastrófico | P52: Categoria del Riesgo
F53: 1 | H53: 2 | J53: 3 | K53: 4 | L53: 5 | P53: Valoración del Riesgo | S53: Categoría
C54: Raro (puede ocurrir excepcionalmente) | E54: 1 | F54: 2 | H54: 3 | J54: 4 | K54: 5 | L54: 6 | P54: 8, 9 y 10 | S54: Riesgo extremo
C55: Improbable (puede ocurrir ocasionalmente) | E55: 2 | F55: 3 | H55: 4 | J55: 5 | K55: 6 | L55: 7 | P55: 6 y 7 | S55: Riesgo alto
C56: Posible (puede ocurrir en cualquier momento futuro) | E56: 3 | F56: 4 | H56: 5 | J56: 6 | K56: 7 | L56: 8 | P56: 5 | S56: Riesgo medio
C57: Probable (probablemente va a ocurrir) | E57: 4 | F57: 5 | H57: 6 | J57: 7 | K57: 8 | L57: 9 | P57: 2, 3 y 4 | S57: Riesgo bajo
...
