Workbook

Sheet Portada
B2: DETERMINACIÓN DEL PRESUPUESTO — ESTUDIOS Y DISEÑOS UNIDAD BÁSICA CHIQUINQUIRÁ
B4: En el siguiente documento se presentarán la metodología y los calculos para la estimación del presupuesto del proceso "ESTUDIOS Y DISEÑOS TÉCNICOS COMPLEMENTARIOS, TRÁMITE DE LICENCIA DE CONSTRUCCIÓN, PRESUPUESTO Y PROGRAMACIÓN PARA LA CONSTRUCCIÓN DE LA UNIDAD BÁSICA DE CHIQUINQUIRÁ DE LA SECCIONAL BOYACÁ – DIRECCIÓN REGIONAL ORIENTE DEL INSTITUTO NACIONAL DE MEDICINA LEGAL Y CIENCIAS FORENSES"
B6: 1. Objeto y alcance
B7: Establecer el valor del proceso de estudios y diseños para la unidad basica de Chiquinquira (Boyacá) teniendo en cuenta las variables propios del mismo. Explicar la metodologia usada para la estimación de precios desde la escogencia de los procesos de referencia hasta los calculos de indexación, escalamiento y escogencia de cada itém.
B9: 2. Procesos escogidos
B10: Para la estimación del costo final del proceso se usó 6 procesos de referencia que tienen caracteristicas iguales en cuanto a alcance, objetivos y necesidades a satisfacer, los procesos con sus respectivas fuentes se pueden consultar en el "Analisis de Mercado" que documenta todo el proceso de selección y justificación. Es pertinente aclarar que que hay procesos adicionales que sirvieron de referencia para un item especifico (Galapa - Atlantico), esta referencia es adicional a las 6 mencionadas anteriormente y tambien esta ducomentada en el "Analisis de Mercado". En la metodologia usada se escogieron procesos que tuvieran un sistema similar de costeo por items, y que en su alcance de entregables tuviera requisitos equivalentes al proceso que estamos costeando.
B12: 3. Método de escalado por magnitud (costo-capacidad)
B13: El primer obstaculo encontrado en la busqueda de referencias fue la magnitud de los proyectos similares que se encuentran en la plataforma SECOP II superan muchas veces con creces el area construida de lo que se pretende estudiar y diseñar para este proyecto, es por esto que, se decidió realizar un escalado por magnitud (costo-capacidad) donde el costo del proyecto depende del área construida con un factor exponencial "n": Valor escalado = Valor proceso indexado 2026 × (Área Chiquinquirá / Área proceso) ⁿ. En la Hoja 5 se muestra mas de cerca este calculo por cada uno de los procesos de referencia.
B15: 4. Indexación temporal
B16: Para los procesos con valores de vigencias distintas a 2026, se usará el metodo de indexación mediante el incremento del SMMLV con la siguiente formula: Multiplicador (año→2026) = SMMLV(2026) / SMMLV(año) proceso que se detalla en la Hoja 2.
B18: 5. Criterio de agrupación estadística
B19: Luego de tener los valores escalados por magnitud e indexados a 2026, la agrupación estadistica se estableció en primera medida se determina individualmente (por itém) el valor de la media geométrica, media aritmética y media armónica calculando finalmente el Coeficiente de Variación, según el valor arrojado del Coeficiente de Variación que nos dirá el nivel de dispersión de las medidas estadísticas vamos a adota criterios de aceptación asi: - CV < 25% → Se optará por escoger la media aritmética para el calculo del costo final. - 25% ≤ CV < 50% → Se optará por escoger la media aritmética media geométrica para el calculo del costo final. - CV ≥ 50% → Se optará por escoger la media armónica para el calculo del costo final. Para los tres componentes con solo antecedentes propios del INMLYCF (bioclimático, accesibilidad, BIM), se aplica media geométrica de forma congruente con este criterio basados en la alta equivalencia que se evidencia en alcance, items y demás aspectos propios de este proceso.
... B29: 8. NOTAS Y FUENTES DOCUMENTALES

Sheet 1. Datos fuente
A1: 1. DATOS FUENTE — LAS 6 FUENTES EVALUADAS CON INDEXACIÓN AL 2026
A2: Primer cuadro (valores en azul) correspondiente a los valores de los procesos reales discriminados por items como los reporta cada fuente. Cuadro inferior corresponde a los mismos valores indexados a 2026 (fórmula).
A4: Ítem | B4: Cundinamarca 2020 | C4: Cúcuta 2022 | D4: Quibdó 2025 | E4: Acacías 2025 | F4: Sora 2024 | G4: Pitalito 2022 | H4: Villavicencio 2025 | I4: Puerto Asís 2026 | J4: La Paz 2025
A5: Área construida (m²) | B5: 3700 | C5: 922 | D5: 500 | E5: 4779.58 | F5: 532.85 | G5: 8290.13 | H5: ='4. Area implicita'!C22 -> 809.36108 | I5: ='4. Area implicita'!C23 -> 1204.9241 | J5: ='4. Area implicita'!C24 -> 488.28911
A6: Convención de impuestos de la fuente | B6: Los valores incluyen el IVA. | C6: Los valores incluyen el IVA. | D6: Valores sin IVA incluido. | E6: Los valores incluyen el IVA | F6: Los valores incluyen el IVA | G6: Valores base SIN valor de impuestos y estampillas; se aplican 39% (impuestos y estampillas) en la indexación. | H6: Valor total, IVA incluido. | I6: Valores SIN IVA discriminado (fuente no lo separa). | J6: Valores base SIN administración ni IVA; se aplican 37% (admin.) y 19% (IVA) en la indexación.
A7: VALORES REALES (según la fuente, sin indexar)
A8: Levantamiento topográfico | B8: 14131900 | C8: 7480391 | D8: 10877698 | E8: 39108800 | H8: 17189000 | I8: 11608082 | J8: 30539711
A9: Estudio de suelos y diseño de pavimentos | B9: 51493200 | C9: 17772622 | D9: 26703619 | E9: 50060000 | H9: 19357000 | I9: 53216274 | J9: 26200092
A10: Diseño estructural | B10: 62854200 | C10: 25357607 | D10: 33478261 | E10: 148852000 | F10: 16500000 | G10: 78960000 | H10: 44878000 | I10: 105528022 | J10: 18154036
A11: Diseño hidráulico, sanitario y RCI (bruto, sin depurar) | B11: 43508100 | C11: 17164554 | D11: 22085849 | E11: 82510000 | F11: 33000000 | G11: 135360000 | H11: 28595000 | I11: 80127820 | J11: 11989080
A12: Diseño eléctrico y de telecomunicaciones | B12: 71140600 | C12: 39183457 | D12: 24382812 | E12: 117282000 | F12: 23000000 | G12: 63920000 | H12: 23793000 | I12: 72391926 | J12: 25986503
A13: Diseño de ventilación mecánica | B13: 33617700 | C13: 16068245 | D13: 21596639 | E13: No incluido en el alcance | F13: No incluido en el alcance | G13: 60160000 | H13: No incluido en el alcance | I13: No incluido en el alcance | J13: No incluido en el alcance
A14: Diseño de accesibilidad | B14: 33241300 | C14: 13363519 | D14: 11705286 | E14: No incluido en el alcance | F14: No incluido en el alcance | G14: No incluido en el alcance | H14: No incluido en el alcance | I14: No incluido en el alcance | J14: No incluido en el alcance
A15: Integración de estudios y modelación BIM | B15: 43328000 | C15: 13743052 | D15: 20713282 | E15: No incluido en el alcance | F15: No incluido en el alcance | G15: No incluido en el alcance | H15: No incluido en el alcance | I15: No incluido en el alcance | J15: No incluido en el alcance
A16: Presupuesto, especificaciones técnicas y programación de obra | B16: 46361600 | C16: 11125682 | D16: 13287871 | E16: 68806000 | F16: 8490000 | G16: =15120000 -> 15120000 | H16: 18091000 | I16: 33165949 | J16: 7482262
A17: Trámite y expedición de licencia de construcción (Costo parcialmente reembolsable) | B17: 70316500 | C17: 27405952 | D17: 12010399 | E17: No especifica valor discriminado | F17: No especifica valor discriminado | G17: =26880000+27600000 -> 54480000 | H17: 53655000 | I17: 'Permisos y/o licencias' solo como documento anexo, sin valor discriminado | J17: Agrupado con PMA, arqueología y otros trámites (Producto 3), sin discriminación posible
A19: ÍTEMS ADICIONALES — no se tuvieron en cuenta para el calculo de áreas
A20: Diseño arquitectónico (EXCLUIDO de todas las fuentes) | B20: 161298400 | C20: 47245068 | D20: 65343915 | E20: 50426000 | F20: 107468424 | G20: 22698065 | H20: 50426000 | I20: 107468424 | J20: 22698065
A21: Diseño bioclimático (EXCLUIDO de todas las fuentes) | B21: 37674100 | C21: 12395135 | D21: 11035497 | E21: No incluido en el alcance | F21: No incluido en el alcance | G21: No incluido en el alcance | H21: No incluido en el alcance | I21: No incluido en el alcance | J21: No incluido en el alcance
A22: Coordinación de estudios y gestión técnica — Quibdó (ítem propio, aparte de la licencia) | B22: Valor incluido en tramites y licencia | C22: Valor incluido en tramites y licencia | D22: 24680412 | E22: No existe ítem de coordinación en esta fuente | F22: No existe ítem de coordinación en esta fuente | G22: No existe ítem de coordinación en esta fuente | H22: No existe ítem de coordinación en esta fuente | I22: No existe ítem de coordinación en esta fuente | J22: No existe ítem de coordinación en esta fuente
A23: Levantamiento topografico y estudios de suelos (ítem aparte; solo se usa para depuración) | F23: 12000000 | G23: 29900000
A24: Red de gas domiciliario — Villavicencio (ítem aparte; solo se usa para depuración) | H24: 9524000
A25: Red contraincendios y seguridad — Villavicencio (ítem aparte; solo se usa para depuración) | H25: 21788000
A26: Otros ítems excluidos por completo (sin analogía; solo citados para trazabilidad, no entran en ningún cálculo)
A27: Revisor independiente de diseños estructurales | B27: 19803700 | C27: No aplica | D27: No aplica | E27: No aplica | F27: No aplica | G27: No aplica | H27: 6352000 | I27: — | J27: —
A28: Plan de manejo ambiental (PMA) | B28: No aplica | C28: No aplica | D28: No aplica | E28: No aplica | F28: No aplica | G28: No aplica | H28: 6352000 | I28: — | J28: —
A29: Plan de manejo de tránsito (PMT) | B29: No aplica | C29: No aplica | D29: No aplica | E29: No aplica | F29: No aplica | G29: No aplica | H29: — | I29: 12060345 | J29: 5050856
A30: Diagnóstico / formulación del proyecto (soporte MGA) | B30: No aplica | C30: No aplica | D30: No aplica | E30: No aplica | F30: No aplica | G30: No aplica | H30: — | I30: 10448319 | J30: —
A31: Estudio geoeléctrico | B31: No aplica | C31: No aplica | D31: No aplica | E31: No aplica | F31: No aplica | G31: No aplica | H31: — | I31: 7236207 | J31: —
A32: Protocolo de bioseguridad | B32: No aplica | C32: No aplica | D32: No aplica | E32: No aplica | F32: No aplica | G32: No aplica | H32: — | I32: — | J32: 22000000
A33: Personal — Director General de Consultoría (La Paz) | B33: No aplica | C33: No aplica | D33: No aplica | E33: No aplica | F33: No aplica | G33: No aplica | H33: — | I33: — | J33: 1782889
A34: Análisis de precios de mercado (La Paz) | B34: No aplica | C34: No aplica | D34: No aplica | E34: No aplica | F34: No aplica | G34: No aplica | H34: — | I34: — | J34: 2039639
A35: Análisis de riesgos e imprevistos (La Paz) | B35: No aplica | C35: No aplica | D35: No aplica | E35: No aplica | F35: No aplica | G35: No aplica | H35: — | I35: — | J35: 2039639
A36: Estudio y gestión de licencias, PMA y arqueología (La Paz, Producto 3) | B36: — | C36: — | D36: — | E36: No aplica | F36: No aplica | G36: No aplica | J36: 2039639
A37: Visitas técnicas de campo, diagnostico normativo, programa medico arquitectonico, mesas tecnicas de concertacion | G37: =18400000+27600000 -> 46000000
A39: VALORES INDEXADOS A 2026 (fórmula = valor real × factor SMMLV × IVA(según inclusión de cada fuente)
A40: Levantamiento topográfico — indexado 2026 (discriminado para Sora y Pitalito) | B40: =B8*'2. SMMLV'!$D$7 -> 28188118 | C40: =C8*'2. SMMLV'!$D$9 -> 13097454 | D40: =D8*1.19*'2. SMMLV'!$D$12 -> 15921687 | E40: =IF(ISNUMBER(E8),E8*'2. SMMLV'!$D$12,E8) -> 48103824 | F40: =IF(ISNUMBER(F23),F23*'3. Depuracion datos'!D12*'2. SMMLV'!$D$11,F23) -> 5604237.7 | G40: =IF(ISNUMBER(G23),G23*1.39*'3. Depuracion datos'!D12*'2. SMMLV'!$D$11,G23) -> 19409810 | H40: =IF(ISNUMBER(H8),H8*'2. SMMLV'!$D$12,H8) -> 21142470 | I40: =IF(ISNUMBER(I8),I8*1,I8) -> 11608082 | J40: =IF(ISNUMBER(J8),J8*1.39*'2. SMMLV'!$D$12,J8) -> 52213744
A41: Estudio de suelos y diseño de pavimentos — indexado 2026 (discriminado para Sora y Pitalito) | B41: =B9*'2. SMMLV'!$D$7 -> 1.0271063e+08 | C41: =C9*'2. SMMLV'!$D$9 -> 31118173 | D41: =D9*1.19*'2. SMMLV'!$D$12 -> 39086087 | E41: =IF(ISNUMBER(E9),E9*'2. SMMLV'!$D$12,E9) -> 61573800 | F41: =IF(ISNUMBER(F23),F23*'3. Depuracion datos'!E12*'2. SMMLV'!$D$11,F23) -> 10557962 | G41: =IF(ISNUMBER(G23),G23*1.39*'3. Depuracion datos'!E12*'2. SMMLV'!$D$11,G23) -> 36566623 | H41: =IF(ISNUMBER(H9),H9*'2. SMMLV'!$D$12,H9) -> 23809110 | I41: =IF(ISNUMBER(I9),I9*1,I9) -> 53216274 | J41: =IF(ISNUMBER(J9),J9*1.39*'2. SMMLV'!$D$12,J9) -> 44794297
A42: Diseño estructural — indexado 2026 | B42: =B10*'2. SMMLV'!$D$7 -> 1.2537179e+08 | C42: =C10*'2. SMMLV'!$D$9 -> 44398761 | D42: =D10*1.19*'2. SMMLV'!$D$12 -> 49002131 | E42: =IF(ISNUMBER(E10),E10*'2. SMMLV'!$D$12,E10) -> 183087960 | F42: =IF(ISNUMBER(F10),F10*'2. SMMLV'!$D$11,F10) -> 22223025 | G42: =IF(ISNUMBER(G10),G10*1.39*'2. SMMLV'!$D$9,G10) -> 1.9216953e+08 | H42: =IF(ISNUMBER(H10),H10*'2. SMMLV'!$D$12,H10) -> 55199940 | I42: =IF(ISNUMBER(I10),I10*1,I10) -> 105528022 | J42: =IF(ISNUMBER(J10),J10*1.39*'2. SMMLV'!$D$12,J10) -> 31037955
A43: Diseño hidráulico, sanitario y RCI (bruto, sin depurar) — indexado 2026 | B43: =B11*'2. SMMLV'!$D$7 -> 86783196 | C43: =C11*'2. SMMLV'!$D$9 -> 30053503 | D43: =D11*1.19*'2. SMMLV'!$D$12 -> 32327057 | E43: =IF(ISNUMBER(E11),E11*'2. SMMLV'!$D$12,E11) -> 101487300 | F43: =IF(ISNUMBER(F11),F11*'2. SMMLV'!$D$11,F11) -> 44446050 | G43: =IF(ISNUMBER(G11),G11*1.39*'2. SMMLV'!$D$9,G11) -> 3.2943348e+08 | H43: =IF(ISNUMBER(H11),H11*'2. SMMLV'!$D$12,H11) -> 35171850 | I43: =IF(ISNUMBER(I11),I11*1,I11) -> 80127820 | J43: =IF(ISNUMBER(J11),J11*1.39*'2. SMMLV'!$D$12,J11) -> 20497730
...

Sheet 2. SMMLV
A1: 2. SMMLV Y FORMULA DE INDEXACIÓN A 2026
A3: FÓRMULA: Multiplicador(año X → 2026) = SMMLV(2026) / SMMLV(año X)
A5: Año | B5: SMMLV mensual (COP) | C5: Incremento % vs. año anterior | D5: Multiplicador a 2026 | E5: Fuente
A6: 2019 | B6: 828116 | C6: — | D6: =$B$13/B6 -> 2.1143234 | E6: Ministerio del Trabajo — decreto anual de fijación del SMMLV (valor base tomado del Estudio de Mercado v2)
A7: 2020 | B7: 877803 | C7: =B7/B6-1 -> 0.060000048 | D7: =$B$13/B7 -> 1.9946446 | E7: Ministerio del Trabajo — decreto anual de fijación del SMMLV para 2020
A8: 2021 | B8: 908526 | C8: =B8/B7-1 -> 0.03499988 | D8: =$B$13/B8 -> 1.9271931 | E8: Ministerio del Trabajo — decreto anual de fijación del SMMLV para 2021 (usado para el valor especial de BIM de Cúcuta — ver Hoja 8, num. 8.3)
A9: 2022 | B9: 1000000 | C9: =B9/B8-1 -> 0.10068397 | D9: =$B$13/B9 -> 1.750905 | E9: Ministerio del Trabajo — decreto anual de fijación del SMMLV para 2022
A10: 2023 | B10: 1160000 | C10: =B10/B9-1 -> 0.16 | D10: =$B$13/B10 -> 1.5094009 | E10: Ministerio del Trabajo — decreto anual de fijación del SMMLV para 2023
A11: 2024 | B11: 1300000 | C11: =B11/B10-1 -> 0.12068966 | D11: =$B$13/B11 -> 1.34685 | E11: Ministerio del Trabajo — decreto anual de fijación del SMMLV para 2024
A12: 2025 | B12: 1423500 | C12: =B12/B11-1 -> 0.095 | D12: =$B$13/B12 -> 1.23 | E12: Ministerio del Trabajo — decreto anual de fijación del SMMLV para 2025
A13: 2026 | B13: 1750905 | C13: =B13/B12-1 -> 0.23 | D13: =$B$13/B13 -> 1 | E13: Decreto 1469 del 29 de diciembre de 2025, ratificado transitoriamente por el Decreto 0159 del 19 de febrero de 2026 (Ministerio del Trabajo).

Sheet 3. Depuracion datos
A1: 3.1 DEPURACIÓN DE LEVANTAMIENTO TOPOGRAFICO Y ESTUDIO DE SUELOS
A2: Se evidencia que en los procesos de referencia de Sora 2024 y Pitalito 2022 se presupuesta un global de "Levantamiento topografico y Estudios de suelos" de manera conjunta, llamado "Estudios basicos para predimensionamiento arquitectonico y estrcutural", para tener valores reales de estos presupuestos y realizar el escalamiento por magnitud debemos realizar la depuración del porcentaje que corresponde a Levantamiento topografico y estudios de suelos discriminados de manera relativa. Usando los otros siete procesos en los que tenemos valores reales de estos dos valores independientes.
A4: Proceso contractual | B4: Levantamieto topográfico | C4: Estudio de suelos | D4: Valor % Topografia | E4: Valor % Estudio de suelos | F4: Fuente
A5: Cundinamarca 2020 — Presupuesto de los dos ítems discriminados | B5: =+'1. Datos fuente'!B8 -> 14131900 | C5: =+'1. Datos fuente'!B9 -> 51493200 | D5: =+B5/(B5+C5) -> 0.21534291 | E5: =1-D5 -> 0.78465709 | F5: Estudios previos presupuesto oficial
A6: Cúcuta 2022 — Presupuesto de los dos ítems discriminados | B6: =+'1. Datos fuente'!C8 -> 7480391 | C6: =+'1. Datos fuente'!C9 -> 17772622 | D6: =+B6/(B6+C6) -> 0.29621776 | E6: =1-D6 -> 0.70378224 | F6: Estudios previos presupuesto oficial
A7: Quibdó 2025 — Presupuesto de los dos ítems discriminados | B7: =+'1. Datos fuente'!D8 -> 10877698 | C7: =+'1. Datos fuente'!D9 -> 26703619 | D7: =+B7/(B7+C7) -> 0.2894443 | E7: =1-D7 -> 0.7105557 | F7: Estudios previos presupuesto oficial
A8: Acacías 2025 — Presupuesto de los dos ítems discriminados | B8: =+'1. Datos fuente'!E8 -> 39108800 | C8: =+'1. Datos fuente'!E9 -> 50060000 | D8: =+B8/(B8+C8) -> 0.43859287 | E8: =1-D8 -> 0.56140713 | F8: Estudios previos presupuesto oficial
A9: Villavicencio 2025 — Presupuesto de los dos ítems discriminados | B9: =+'1. Datos fuente'!H8 -> 17189000 | C9: =+'1. Datos fuente'!H9 -> 19357000 | D9: =+B9/(B9+C9) -> 0.47033875 | E9: =1-D9 -> 0.52966125 | F9: Estudios previos presupuesto oficial
A10: Perto Asís 2026 — Presupuesto de los dos ítems discriminados | B10: =+'1. Datos fuente'!I8 -> 11608082 | C10: =+'1. Datos fuente'!I9 -> 53216274 | D10: =+B10/(B10+C10) -> 0.17906976 | E10: =1-D10 -> 0.82093024 | F10: Estudios previos presupuesto oficial
A11: La Paz 2025 — Presupuesto de los dos ítems discriminados | B11: =+'1. Datos fuente'!J8 -> 30539711 | C11: =+'1. Datos fuente'!J9 -> 26200092 | D11: =+B11/(B11+C11) -> 0.5382414 | E11: =1-D11 -> 0.4617586 | F11: Estudios previos presupuesto oficial
A12: Promedio adoptado — % de depuración | C12: =IF(E14<0.25,"aritmética",IF(E14<0.5,"geométrica","armónica")) -> aritmética | D12: =IF(E14<0.25,AVERAGE(D5:D11),IF(E14<0.5,GEOMEAN(D5:D11),HARMEAN(D5:D11))) -> 0.34674968 | E12: =1-D12 -> 0.65325032 | F12: Promedio de los datos obtenidos. El porcentaje corresponiente a diseños hidrosanitarios y RCI corresponde a 76.7% del valor de los presupuestos correspondientes
B14: Desviación Estándar | C14: =+STDEV(E5:E11) -> 0.13638193 | D14: Coeficiente de variación | E14: =+STDEV(E5:E11)/AVERAGE(E5:E11) -> 0.20877438
A15: NOTA:
A16: El documento de Estudio de Mercado (numeral 3.1) describe estos porcentajes (34,7% para topografía y 65,3 para estudio de suelos) que se aplican a AMBOS procesos (Sora 2024 y Pitalito 2022).
A19: 3.2 DEPURACIÓN DE GASES ESPECIALES DEL COMPONENTE HIDROSANITARIO
A20: Para mejorar la efectividad de la metodología vamos a establecer un valor para el componente hidrosanitario de dos de los procesos evaluados (Cúcuta 2022 y Quibdó 2025), en los cuales, se encuentran discriminados los valores especificos de diseño de gases especiales dentro del valor de diseños hidrosanitarios, (redes de gases especiales de uso forense/medicinal ajenas al alcance de Chiquinquirá). Se depura ese componente con el promedio de tres fuentes reales independientes: los procesos de Cúcuta 2022, Galapa 2024 y Pitalito 2022.
A22: Proceso contractual | B22: Componente hidráulico/sanitario | C22: RCI | D22: Gases especiales/medicinales | E22: Valor % Gases especiales | F22: Fuente
A23: Cúcuta 2022 — cotización discriminada de gases especiales forenses (%) | B23: 14635149 | C23: 11382894 | D23: 6504510.7 | E23: =+D23/(B23+C23+D23) -> 0.2 | F23: Estudio Económico del Sector Cúcuta (2022) — cotización discriminada de gases especiales sobre el ítem hidrosanitario (Red de gases por valor $6.504.510,74 del correspondiente total de redes por $32.522.553)
A24: Galapa, Atlántico — % de gases medicinales sobre (hidrosanitario+RCI + gases medicinales) | B24: 15400000 | C24: 0 | D24: 6040000 | E24: =+D24/(B24+C24+D24) -> 0.28171642 | F24: Presupuesto Oficial Consultoría Galapa(2026): ítem 7 'Diseño hidrosanitario y RCI' $15.400.000 + ítem 8 'Diseño de suministro de gases medicinales' $6.040.000
A25: Pitalito — presupuesto discriminado de diseño de gases especiales | B25: 67680000 | C25: 67680000 | D25: 37600000 | E25: =+D25/(B25+C25+D25) -> 0.2173913 | F25: Presupuesto oficial proceso proyecto hospitalario (2022): ítem 3 'Diseños de ingeniería' Diseños hidro-sanitarios $67.680.000 - Diseños Red Contra Incendios $67.680.000 - Diseños Redes Especiales (Gases Medicinales) $37.600.000
A26: Promedio adoptado — % de depuración de gases especiales | E26: =+AVERAGE(E23:E25) -> 0.23303591 | F26: Promedio de los datos obtenidos. El porcentaje corresponiente a diseños hidrosanitarios y RCI corresponde a 76.7% del valor de los presupuestos correspondientes
A28: NOTA:
A29: El documento de Estudio de Mercado (numeral 3.1) describe este 23,3% como aplicado a AMBOS antecedentes (Cúcuta 2022 y Quibdó 2025). En el calculo final se toma el 76,7% para los dos, equivalente a el valor de diseños hidrosanitarios y RCI solamente).

Sheet 4. Area implicita
A1: 4. ÁREA IMPLÍCITA — REGRESIÓN CALCULADA CON DATOS REALES
A2: Para los casos de Villavicencio (2025), Puerto Asís (2026) y La Paz (2025) no se declara área construida proyectada (la arquitectura es un producto a desarrollar en el contrato). Se estima su área implícita ajustando, por mínimos cuadrados sobre los 6 comparadores de área real, la relación ln(Valor total comparable) = b + a·ln(Área), y luego despejando el área para el valor total de cada uno de los tres: Área = EXP( (ln(Valor) − b) / a ). El valor de "n" según la metodologia indica la manera como se relaciona el valor con el área, si n<1 se confirma que el ítem se puede maneja con economia de escala, a mayor area proyectada el costo de metro cuadrado de diseño es menor. En el mejor de los casos el n se debe encontrar entre 0,5 y 0,85 para determinar un rango razonable. Asimismo, se realiza el cálculo de índice de confiabilidad que con el fin de evaluar los datos que estamos comparando y confirmando asi una correlación para la determinación de los valores sobre el area conocida de Chiquinquirá.
A4: 4.1 Valor total comparable de los 3 antecedentes de área real (excluyendo arquitectura)
A5: Comparador | B5: Área (m²) | C5: Valor total comparable 2026 | D5: ln(Área) | E5: ln(Valor)
A6: Cundinamarca 2020 | B6: ='1. Datos fuente'!B$5 -> 3700 | C6: =SUM('1. Datos fuente'!B$40:B$49) -> 9.3746919e+08 | D6: =LN(B6) -> 8.2160881 | E6: =LN(C6) -> 20.658694
A7: Cúcuta 2022 | B7: ='1. Datos fuente'!C$5 -> 922 | C7: =SUM('1. Datos fuente'!C$40:C$49) -> 3.3033463e+08 | D7: =LN(B7) -> 6.8265452 | E7: =LN(C7) -> 19.615617
A8: Quibdó 2025 | B8: ='1. Datos fuente'!D$5 -> 500 | C8: =SUM('1. Datos fuente'!D$40:D$49)+'1. Datos fuente'!D$51 -> 3.2424194e+08 | D8: =LN(B8) -> 6.2146081 | E8: =LN(C8) -> 19.597001
A9: Acacias 2025 | B9: =+'1. Datos fuente'!E5 -> 4779.58 | C9: =SUM('1. Datos fuente'!E$40:E$49) -> 623141124 | D9: =LN(B9) -> 8.472108 | E9: =LN(C9) -> 20.250284
A10: Sora 2024 | B10: =+'1. Datos fuente'!F5 -> 532.85 | C10: =SUM('1. Datos fuente'!F$40:F$49) -> 1.2524358e+08 | D10: =LN(B10) -> 6.27824 | E10: =LN(C10) -> 18.645771
A11: Pitalito 2022 | B11: =+'1. Datos fuente'!G5 -> 8290.13 | C11: =SUM('1. Datos fuente'!G$40:G$49)+'1. Datos fuente'!G51 -> 1.1609025e+09 | D11: =LN(B11) -> 9.0228209 | E11: =LN(C11) -> 20.872464
A14: 4.2 Regresión Logarítmica
A15: Pendiente a = PENDIENTE(ln Valor, ln Área) | B15: =SLOPE(E6:E11,D6:D11) -> 0.60702243 | C15: Calculo del valor "n", se encuentra entre 0,6 y 0,85 los procesos definitivamente son escalables según esta metodología.
A16: Intersección con x; b = INTERSECCON.EJE(ln Valor, ln Área) | B16: =INTERCEPT(E6:E11,D6:D11) -> 15.384227 | C16: Cálculo de la interceccion de la recta de la regresión.
A17: R² = COEFICIENTE.R2(ln Valor, ln Área) | B17: =RSQ(E6:E11,D6:D11) -> 0.80396143 | C17: Valor alto de confiabilidad de correlación entre los datos, la metodología puede ser usada para determinar los costos de diseños según el área de chiquinquirá.
A18: Ecuación resultante | B18: ="ln(V) = "&TEXT($B$16,"0.00000")&" + "&TEXT($B$15,"0.00000")&" × ln(A)" -> ln(V) = 15.38423 + 0.60702 × ln(A)
A20: 4.3 Áreas implícitas estimadas (Área = EXP((ln(Valor) − b) / a))
A21: Comparador | B21: Valor total comparable 2026 | C21: Área implícita (m²) | D21: Observaciones
A22: Villavicencio 2025 | B22: =SUM('1. Datos fuente'!H40:H49)+'1. Datos fuente'!H53 -> 279635580 | C22: =EXP((LN(B22)-$B$16)/$B$15) -> 809.36108
A23: Puerto Asís 2026 | B23: =SUM('1. Datos fuente'!I$40:I$49) -> 356038073 | C23: =EXP((LN(B23)-$B$16)/$B$15) -> 1204.9241
A24: La Paz 2025 | B24: =SUM('1. Datos fuente'!J$40:J$49) -> 2.0576527e+08 | C24: =EXP((LN(B24)-$B$16)/$B$15) -> 488.28911

Sheet 5. Exponentes escala
A1: 5. EXPONENTES DE ESCALA POR COMPONENTE — REGRESIÓN LOGARÍTMICA
A2: Para los valores que se determinaron como "escalables" se realiza el calculo del valor de cada exponente "n" según su área y discriminado por item, debemos usar la formula explicada en "Analisis de mercado" en este caso se usará de la siguiente manera: Despejando la variable "n" de la formula original de costo capacidad obtenemos ln(Valor del componente) = ln(k) + n × ln(Área) para determinar "n" El exponente "n" de cada componente se obtiene calculando la pendiente de la recta (ln valor, ln área) sobre los 6 procesos contractuales que reportan área real, usando el valor depurado de levantamiento topografico, estudio de suelos y gases especiales en los casos que fueron explicados en la hoja numero 3.
A4: Componente | B4: Cundinamarca 2020 (3.700 m²) | C4: Cúcuta 2022 (922 m²) | D4: Quibdó 2025 (500 m²) | E4: Acacias 2025 (4779.6 m²) | H4: Exponente n (Pendiente) | I4: Intercepto (Intersección) | J4: R² (Confiabilidad) | K4: Observaciones
B5: =+'1. Datos fuente'!B$5 -> 3700 | C5: =+'1. Datos fuente'!C$5 -> 922 | D5: =+'1. Datos fuente'!D$5 -> 500 | E5: =+'1. Datos fuente'!E$5 -> 4779.58
A6: =+'1. Datos fuente'!A8 -> Levantamiento topográfico | B6: =+'1. Datos fuente'!B40 -> 28188118 | C6: =+'1. Datos fuente'!C40 -> 13097454 | D6: =+'1. Datos fuente'!D40 -> 15921687 | E6: =+'1. Datos fuente'!E40 -> 48103824 | H6: {=SLOPE(LN(B6:E6),LN(B5:E5))} -> 0.48392692 | I6: {=INTERCEPT(LN(B6:D6),LN($B$9:$D$9))} -> 14.363308 | J6: {=RSQ(LN(B6:E6),LN($B$9:$E$9))} -> 0.88077281 | K6: Valores de depurados de levantamiento topograficos no se ajustan a la metodología, (n=0,43 y R2=52%) se van a tener en cuenta solo los procesos que tengan discriminado el dato desde la fuente.
A7: Estudio de suelos y diseño de pavimentos | B7: ='1. Datos fuente'!B41 -> 1.0271063e+08 | C7: ='1. Datos fuente'!C41 -> 31118173 | D7: ='1. Datos fuente'!D41 -> 39086087 | E7: =+'1. Datos fuente'!E41 -> 61573800 | H7: {=SLOPE(LN(B7:E7),LN(B5:E5))} -> 0.3858331 | I7: {=INTERCEPT(LN(B7:D7),LN($B$9:$D$9))} -> 13.850004 | J7: {=RSQ(LN(B7:E7),LN($B$9:$E$9))} -> 0.51395406 | K7: Valores de depurados de levantamiento topograficos no se ajustan a la metodología, (n=0,37 y R2=36%) se van a tener en cuenta solo los procesos que tengan discriminado el dato desde la fuente.
A8: Componente | B8: Cundinamarca 2020 (3.700 m²) | C8: Cúcuta 2022 (922 m²) | D8: Quibdó 2025 (500 m²) | E8: Pitalito 2022 (8290.1 m²) | F8: Acacias 2025 (4779.6 m²) | G8: Sora 2024 (532.9 m²) | H8: Exponente n (Pendiente) | I8: Intercepto (Intersección) | J8: R² (Confiabilidad) | K8: Observaciones
B9: =+'1. Datos fuente'!B5 -> 3700 | C9: =+'1. Datos fuente'!C5 -> 922 | D9: =+'1. Datos fuente'!D5 -> 500 | E9: =+'1. Datos fuente'!G5 -> 8290.13 | F9: =+'1. Datos fuente'!E5 -> 4779.58 | G9: =+'1. Datos fuente'!F5 -> 532.85
A10: Diseño estructural | B10: ='1. Datos fuente'!B42 -> 1.2537179e+08 | C10: ='1. Datos fuente'!C42 -> 44398761 | D10: ='1. Datos fuente'!D42 -> 49002131 | E10: ='1. Datos fuente'!G42 -> 1.9216953e+08 | F10: ='1. Datos fuente'!E42 -> 183087960 | G10: ='1. Datos fuente'!F42 -> 22223025 | H10: {=SLOPE(LN(B10:G10),LN($B$9:$G$9))} -> 0.68523597 | I10: {=INTERCEPT(LN(B10:G10),LN($B$9:$G$9))} -> 13.020406 | J10: {=RSQ(LN(B10:G10),LN($B$9:$G$9))} -> 0.89346411 | K10: Valores de "n" y de "R²" dentro de los rangos aceptables de confiabilidad para aplicar la metodología de escalamiento por magnitud .
A11: Diseño hidráulico, sanitario y RCI (depurado de gases especiales) | B11: =+'1. Datos fuente'!B43 -> 86783196 | C11: ='1. Datos fuente'!C50 -> 30053503 | D11: ='1. Datos fuente'!D50 -> 32327057 | E11: =+'1. Datos fuente'!G43 -> 3.2943348e+08 | F11: =+'1. Datos fuente'!E43 -> 101487300 | G11: =+'1. Datos fuente'!F43 -> 44446050 | H11: {=SLOPE(LN(B11:G11),LN($B$9:$G$9))} -> 0.6767076 | I11: {=INTERCEPT(LN(B11:G11),LN($B$9:$G$9))} -> 12.995754 | J11: {=RSQ(LN(B11:G11),LN($B$9:$G$9))} -> 0.82360288 | K11: Valores de "n" y de "R²" dentro de los rangos aceptables de confiabilidad para aplicar la metodología de escalamiento por magnitud .
A12: Diseño eléctrico y de telecomunicaciones | B12: ='1. Datos fuente'!B44 -> 1.4190021e+08 | C12: ='1. Datos fuente'!C44 -> 68606511 | D12: ='1. Datos fuente'!D44 -> 35689122 | E12: ='1. Datos fuente'!G44 -> 1.5556581e+08 | F12: ='1. Datos fuente'!E44 -> 144256860 | G12: ='1. Datos fuente'!F44 -> 30977550 | H12: {=SLOPE(LN(B12:G12),LN($B$9:$G$9))} -> 0.58261663 | I12: {=INTERCEPT(LN(B12:G12),LN($B$9:$G$9))} -> 13.811314 | J12: {=RSQ(LN(B12:G12),LN($B$9:$G$9))} -> 0.92977414 | K12: Valores de "n" y de "R²" dentro de los rangos aceptables de confiabilidad para aplicar la metodología de escalamiento por magnitud .
A13: Diseño de ventilación mecánica | B13: ='1. Datos fuente'!B45 -> 67055363 | C13: ='1. Datos fuente'!C45 -> 28133971 | D13: ='1. Datos fuente'!D45 -> 31611001 | E13: ='1. Datos fuente'!G45 -> 1.4641488e+08 | H13: {=SLOPE(LN(B13:E13),LN(B9:E9))} -> 0.56925404 | I13: {=INTERCEPT(LN(B13:E13),LN(B9:E9))} -> 13.50186 | J13: {=RSQ(LN(B13:E13),LN($B$9:$E$9))} -> 0.90884917 | K13: Valores de "n" y de "R²" dentro de los rangos aceptables de confiabilidad para aplicar la metodología de escalamiento por magnitud .
A14: Diseño de accesibilidad | B14: ='1. Datos fuente'!B46 -> 66304579 | C14: ='1. Datos fuente'!C46 -> 23398252 | D14: ='1. Datos fuente'!D46 -> 17133027 | H14: {=SLOPE(LN(B14:D14),LN($B$9:$D$9))} -> 0.688704 | I14: {=INTERCEPT(LN(B14:D14),LN({3700,922,500}))} -> 12.331504 | J14: {=RSQ(LN(B14:D14),LN($B$9:$D$9))} -> 0.99341354 | K14: Valores de "n" y de "R²" dentro de los rangos aceptables de confiabilidad para aplicar la metodología de escalamiento por magnitud .
A15: Integración de estudios y modelación BIM | B15: ='1. Datos fuente'!B47 -> 86423961 | C15: =+'1. Datos fuente'!C47 -> 24062778 | D15: ='1. Datos fuente'!D47 -> 30318031 | H15: {=SLOPE(LN(B15:D15),LN($B$9:$D$9))} -> 0.59130555 | I15: {=INTERCEPT(LN(B15:D15),LN({3700,922,500}))} -> 13.30956 | J15: {=RSQ(LN(B15:D15),LN($B$9:$D$9))} -> 0.79219438 | K15: Valores de "n" y de "R²" dentro de los rangos aceptables de confiabilidad para aplicar la metodología de escalamiento por magnitud .
A16: Presupuesto, especificaciones técnicas y programación de obra | B16: =+'1. Datos fuente'!B48 -> 92474914 | C16: =+'1. Datos fuente'!C48 -> 19480012 | D16: =+'1. Datos fuente'!D48 -> 19449457 | E16: =+'1. Datos fuente'!G48 -> 36798420 | F16: =+'1. Datos fuente'!E48 -> 84631380 | G16: =+'1. Datos fuente'!F48 -> 11434756 | H16: {=SLOPE(LN(B16:G16),LN($B$9:$G$9))} -> 0.56256151 | I16: {=INTERCEPT(LN(B16:G16),LN(B9:G9))} -> 13.084208 | J16: {=RSQ(LN(B16:G16),LN($B$9:$G$9))} -> 0.64102577 | K16: Valores de "n" y de "R²" dentro de los rangos aceptables de confiabilidad para aplicar la metodología de escalamiento por magnitud .
A17: Trámite y expedición de licencia de construcción | B17: =+'1. Datos fuente'!B49 -> 1.4025643e+08 | C17: =+'1. Datos fuente'!C49 -> 47985218 | D17: =+'1. Datos fuente'!D49 -> 17579621 | E17: =+'1. Datos fuente'!G49 -> 1.3259113e+08 | H17: {=SLOPE(LN(B17:E17),LN($B$9:$E$9))} -> 0.71790323 | I17: =INTERCEPT(LN(B17:D17),LN({3700,922,500})) -> 10.679386 | J17: {=RSQ(LN(B17:E17),LN($B$9:$E$9))} -> 0.87474206 | K17: Valores de "n" y de "R²" dentro de los rangos aceptables de confiabilidad para aplicar la metodología de escalamiento por magnitud .

Sheet 6. Calculo componentes
A1: 6. CÁLCULO DEL VALOR DE REFERENCIA POR COMPONENTE (1 A 11)
A2: Por cada componente: área y valor indexado 2026 de cada comparador aplicable (enlazados a la Hoja 1), valor escalado a 112,5 m² (unidad basica chiquinquirá) cuando corresponde (Hoja 5), y el estadístico adoptado según el CV (< 25% aritmética · 25-50% geométrica · ≥ 50% armónica).
A4: 1. Levantamiento topográfico
B5: Cundinamarca 2020 | C5: Cúcuta 2022 | D5: Quibdó 2025 | H5: Valor de referencia | I5: Estadístico aplicado | J5: CV
A6: Área (m²) | B6: ='1. Datos fuente'!B$5 -> 3700 | C6: ='1. Datos fuente'!C$5 -> 922 | D6: ='1. Datos fuente'!D$5 -> 500
A7: Valor indexado 2026 | B7: ='1. Datos fuente'!B$40 -> 28188118 | C7: ='1. Datos fuente'!C$40 -> 13097454 | D7: ='1. Datos fuente'!D$40 -> 15921687
A8: Valor escalado a 112,5 m² | B8: =B7*(112.5/B6)^'5. Exponentes escala'!$H$6 -> 5199063.5 | C8: =C7*(112.5/C6)^'5. Exponentes escala'!$H$6 -> 4732402.8 | D8: =D7*(112.5/D6)^'5. Exponentes escala'!$H$6 -> 7735577.6 | H8: =IF(J8<0.25,AVERAGE(B8:D8),IF(J8<0.5,GEOMEAN(B8:D8),HARMEAN(B8:D8))) -> 5752189.6 | I8: =IF(J8<0.25,"aritmética",IF(J8<0.5,"geométrica","armónica")) -> geométrica | J8: =STDEV(B8:D8)/AVERAGE(B8:G8) -> 0.27442674
A11: 2. Estudio de suelos y diseño de pavimentos
B12: Cundinamarca 2020 | C12: Cúcuta 2022 | D12: Quibdó 2025 | H12: Valor de referencia | I12: Estadístico aplicado | J12: CV
A13: Área (m²) | B13: ='1. Datos fuente'!B$5 -> 3700 | C13: ='1. Datos fuente'!C$5 -> 922 | D13: ='1. Datos fuente'!D$5 -> 500
A14: Valor indexado 2026 | B14: ='1. Datos fuente'!B$41 -> 1.0271063e+08 | C14: ='1. Datos fuente'!C$41 -> 31118173 | D14: ='1. Datos fuente'!D$41 -> 39086087
A15: Valor escalado a 112,5 m² | B15: =B14*(112.5/B13)^'5. Exponentes escala'!$H$7 -> 26686253 | C15: =C14*(112.5/C13)^'5. Exponentes escala'!$H$7 -> 13820549 | D15: =D14*(112.5/D13)^'5. Exponentes escala'!$H$7 -> 21982282 | H15: =IF(J15<0.25,AVERAGE(B15:D15),IF(J15<0.5,GEOMEAN(B15:D15),HARMEAN(B15:D15))) -> 20089165 | I15: =IF(J15<0.25,"aritmética",IF(J15<0.5,"geométrica","armónica")) -> geométrica | J15: =STDEV(B15:G15)/AVERAGE(B15:G15) -> 0.31252658
A18: 3. Diseño estructural
B19: Cundinamarca 2020 | C19: Cúcuta 2022 | D19: Quibdó 2025 | E19: Acacias 2025 | F19: Sora 2024 | G19: Pitalito 2022 | H19: Valor de referencia | I19: Estadístico aplicado | J19: CV
A20: Área (m²) | B20: =+'1. Datos fuente'!B$5 -> 3700 | C20: =+'1. Datos fuente'!C$5 -> 922 | D20: =+'1. Datos fuente'!D$5 -> 500 | E20: =+'1. Datos fuente'!E$5 -> 4779.58 | F20: =+'1. Datos fuente'!F$5 -> 532.85 | G20: =+'1. Datos fuente'!G$5 -> 8290.13
A21: Valor indexado 2026 | B21: ='1. Datos fuente'!B$42 -> 1.2537179e+08 | C21: ='1. Datos fuente'!C$42 -> 44398761 | D21: ='1. Datos fuente'!D$42 -> 49002131 | E21: ='1. Datos fuente'!E$42 -> 183087960 | F21: ='1. Datos fuente'!F$42 -> 22223025 | G21: ='1. Datos fuente'!G$42 -> 1.9216953e+08
A22: Valor escalado a 112,5 m² | B22: =B21*(112.5/B20)^'5. Exponentes escala'!$H$10 -> 11446248 | C22: =C21*(112.5/C20)^'5. Exponentes escala'!$H$10 -> 10503984 | D22: =D21*(112.5/D20)^'5. Exponentes escala'!$H$10 -> 17632225 | E22: =E21*(112.5/E20)^'5. Exponentes escala'!$H$10 -> 14025975 | F22: =F21*(112.5/F20)^'5. Exponentes escala'!$H$10 -> 7655240.9 | G22: =G21*(112.5/G20)^'5. Exponentes escala'!$H$10 -> 10094128 | H22: =IF(J22<0.25,AVERAGE(B22:G22),IF(J22<0.5,GEOMEAN(B22:G22),HARMEAN(B22:G22))) -> 11487200 | I22: =IF(J22<0.25,"aritmética",IF(J22<0.5,"geométrica","armónica")) -> geométrica | J22: =STDEV(B22:G22)/AVERAGE(B22:G22) -> 0.29323692
A25: 4. Diseño hidráulico, sanitario y RCI
B26: Cundinamarca 2020 | C26: Cúcuta 2022 | D26: Quibdó 2025 | E26: Acacias 2025 | F26: Sora 2024 | G26: Pitalito 2022 | H26: Valor de referencia | I26: Estadístico aplicado | J26: CV
A27: Área (m²) | B27: =+'1. Datos fuente'!B$5 -> 3700 | C27: =+'1. Datos fuente'!C$5 -> 922 | D27: =+'1. Datos fuente'!D$5 -> 500 | E27: =+'1. Datos fuente'!E$5 -> 4779.58 | F27: =+'1. Datos fuente'!F$5 -> 532.85 | G27: =+'1. Datos fuente'!G$5 -> 8290.13
A28: Valor indexado 2026 | B28: =+'1. Datos fuente'!B43 -> 86783196 | C28: ='1. Datos fuente'!C$50 -> 30053503 | D28: ='1. Datos fuente'!D$50 -> 32327057 | E28: ='1. Datos fuente'!E$43 -> 101487300 | F28: ='1. Datos fuente'!F$43 -> 44446050 | G28: ='1. Datos fuente'!G$43 -> 3.2943348e+08
A29: Valor escalado a 112,5 m² | B29: =B28*(112.5/B27)^'5. Exponentes escala'!$H$11 -> 8162757.9 | C29: =C28*(112.5/C27)^'5. Exponentes escala'!$H$11 -> 7238851.4 | D29: =D28*(112.5/D27)^'5. Exponentes escala'!$H$11 -> 11781027 | E29: =E28*(112.5/E27)^'5. Exponentes escala'!$H$11 -> 8027331.5 | F29: =F28*(112.5/F27)^'5. Exponentes escala'!$H$11 -> 15514914 | G29: =G28*(112.5/G27)^'5. Exponentes escala'!$H$11 -> 17950559 | H29: =IF(J29<0.25,AVERAGE(B29:G29),IF(J29<0.5,GEOMEAN(B29:G29),HARMEAN(B29:G29))) -> 10765017 | I29: =IF(J29<0.25,"aritmética",IF(J29<0.5,"geométrica","armónica")) -> geométrica | J29: =STDEV(B29:G29)/AVERAGE(B29:G29) -> 0.38904467
A32: 5. Diseño eléctrico y de telecomunicaciones
B33: Cundinamarca 2020 | C33: Cúcuta 2022 | D33: Quibdó 2025 | E33: Acacias 2025 | F33: Sora 2024 | G33: Pitalito 2022 | H33: Valor de referencia | I33: Estadístico aplicado | J33: CV
A34: Área (m²) | B34: =+'1. Datos fuente'!B$5 -> 3700 | C34: =+'1. Datos fuente'!C$5 -> 922 | D34: =+'1. Datos fuente'!D$5 -> 500 | E34: =+'1. Datos fuente'!E$5 -> 4779.58 | F34: =+'1. Datos fuente'!F$5 -> 532.85 | G34: =+'1. Datos fuente'!G$5 -> 8290.13
A35: Valor indexado 2026 | B35: ='1. Datos fuente'!B$44 -> 1.4190021e+08 | C35: ='1. Datos fuente'!C$44 -> 68606511 | D35: ='1. Datos fuente'!D$44 -> 35689122 | E35: ='1. Datos fuente'!E$44 -> 144256860 | F35: ='1. Datos fuente'!F$44 -> 30977550 | G35: ='1. Datos fuente'!G$44 -> 1.5556581e+08
A36: Valor escalado a 112,5 m² | B36: =B35*(112.5/B34)^'5. Exponentes escala'!$H$12 -> 18540650 | C36: =C35*(112.5/C34)^'5. Exponentes escala'!$H$12 -> 20141850 | D36: =D35*(112.5/D34)^'5. Exponentes escala'!$H$12 -> 14966030 | E36: =E35*(112.5/E34)^'5. Exponentes escala'!$H$12 -> 16236724 | F36: =F35*(112.5/F34)^'5. Exponentes escala'!$H$12 -> 12517490 | G36: =G35*(112.5/G34)^'5. Exponentes escala'!$H$12 -> 12703714 | H36: =IF(J36<0.25,AVERAGE(B36:G36),IF(J36<0.5,GEOMEAN(B36:G36),HARMEAN(B36:G36))) -> 15851076 | I36: =IF(J36<0.25,"aritmética",IF(J36<0.5,"geométrica","armónica")) -> aritmética | J36: =STDEV(B36:G36)/AVERAGE(B36:G36) -> 0.1946427
A39: 6. Diseño de ventilación mecánica
B40: Cundinamarca 2020 | C40: Cúcuta 2022 | D40: Quibdó 2025 | E40: Acacias 2025 | F40: Sora 2024 | G40: Pitalito 2022 | H40: Valor de referencia | I40: Estadístico aplicado | J40: CV
A41: Área (m²) | B41: =+'1. Datos fuente'!B$5 -> 3700 | C41: =+'1. Datos fuente'!C$5 -> 922 | D41: =+'1. Datos fuente'!D$5 -> 500 | E41: =+'1. Datos fuente'!E$5 -> 4779.58 | F41: =+'1. Datos fuente'!F$5 -> 532.85 | G41: =+'1. Datos fuente'!G$5 -> 8290.13
A42: Valor indexado 2026 | B42: ='1. Datos fuente'!B$45 -> 67055363 | C42: ='1. Datos fuente'!C$45 -> 28133971 | D42: ='1. Datos fuente'!D$45 -> 31611001 | E42: — | F42: — | G42: =+'1. Datos fuente'!G45 -> 1.4641488e+08
A43: Valor escalado a 112,5 m² | B43: =B42*(112.5/B41)^'5. Exponentes escala'!$H$13 -> 9180094.1 | C43: =C42*(112.5/C41)^'5. Exponentes escala'!$H$13 -> 8495184.9 | D43: =D42*(112.5/D41)^'5. Exponentes escala'!$H$13 -> 13522766 | E43: — | F43: — | G43: =G42*(112.5/G41)^'5. Exponentes escala'!$H$12 -> 11956437 | H43: =IF(J43<0.25,AVERAGE(B43:G43),IF(J43<0.5,GEOMEAN(B43:G43),HARMEAN(B43:G43))) -> 10788620 | I43: =IF(J43<0.25,"aritmética",IF(J43<0.5,"geométrica","armónica")) -> aritmética | J43: =STDEV(B43:G43)/AVERAGE(B43:G43) -> 0.21860331
A46: 8. Diseño de accesibilidad
B47: Cundinamarca 2020 | C47: Cúcuta 2022 | D47: Quibdó 2025 | E47: Acacias 2025 | F47: Sora 2024 | G47: Pitalito 2022 | H47: Valor de referencia | I47: Estadístico aplicado | J47: CV
A48: Área (m²) | B48: =+'1. Datos fuente'!B$5 -> 3700 | C48: =+'1. Datos fuente'!C$5 -> 922 | D48: =+'1. Datos fuente'!D$5 -> 500 | E48: =+'1. Datos fuente'!E$5 -> 4779.58 | F48: =+'1. Datos fuente'!F$5 -> 532.85 | G48: =+'1. Datos fuente'!G$5 -> 8290.13
A49: Valor indexado 2026 | B49: ='1. Datos fuente'!B$46 -> 66304579 | C49: ='1. Datos fuente'!C$46 -> 23398252 | D49: ='1. Datos fuente'!D$46 -> 17133027 | E49: — | F49: — | G49: —
A50: Valor escalado a 112,5 m² | B50: =B49*(112.5/B48)^'5. Exponentes escala'!$H$14 -> 5980612.6 | C50: =C49*(112.5/C48)^'5. Exponentes escala'!$H$14 -> 5495387.5 | D50: =D49*(112.5/D48)^'5. Exponentes escala'!$H$14 -> 6133093.9 | E50: — | F50: — | G50: — | H50: =IF(J50<0.25,AVERAGE(B50:G50),IF(J50<0.5,GEOMEAN(B50:G50),HARMEAN(B50:G50))) -> 5869698 | I50: =IF(J50<0.25,"aritmética",IF(J50<0.5,"geométrica","armónica")) -> aritmética | J50: =STDEV(B50:G50)/AVERAGE(B50:G50) -> 0.0567333
A53: 9. Integración de estudios y modelación BIM
B54: Cundinamarca 2020 | C54: Cúcuta 2022 | D54: Quibdó 2025 | E54: Acacias 2025 | F54: Sora 2024 | G54: Pitalito 2022 | H54: Valor de referencia | I54: Estadístico aplicado | J54: CV
A55: Área (m²) | B55: =+'1. Datos fuente'!B$5 -> 3700 | C55: =+'1. Datos fuente'!C$5 -> 922 | D55: =+'1. Datos fuente'!D$5 -> 500 | E55: =+'1. Datos fuente'!E$5 -> 4779.58 | F55: =+'1. Datos fuente'!F$5 -> 532.85 | G55: =+'1. Datos fuente'!G$5 -> 8290.13
...

Sheet 7. Valor total
A1: 7. VALOR TOTAL DE REFERENCIA — ESTUDIOS Y DISEÑOS UNIDAD BÁSICA CHIQUINQUIRÁ
A2: Suma de los diez (10) valores de referencia calculados en la Hoja 6.
A4: Componente | B4: Valor de referencia (incl. IVA)
A5: 1. Levantamiento topográfico | B5: ='6. Calculo componentes'!H8 -> 5752189.6
A6: 2. Estudio de suelos y diseño de pavimentos | B6: ='6. Calculo componentes'!H15 -> 20089165
A7: 3. Diseño estructural | B7: ='6. Calculo componentes'!H22 -> 11487200
A8: 4. Diseño hidráulico, sanitario y RCI | B8: ='6. Calculo componentes'!H29 -> 10765017
A9: 5. Diseño eléctrico y de telecomunicaciones | B9: ='6. Calculo componentes'!H36 -> 15851076
A10: 6. Diseño de ventilación mecánica | B10: ='6. Calculo componentes'!H43 -> 10788620
A11: 7. Diseño de accesibilidad | B11: ='6. Calculo componentes'!H50 -> 5869698
A12: 8. Integración de estudios y modelación BIM | B12: ='6. Calculo componentes'!H57 -> 9842976
A13: 9. Presupuesto, especificaciones técnicas y programación de obra | B13: ='6. Calculo componentes'!H64 -> 6859603.3
A14: 10. Trámite y expedición de licencia de construcción | B14: ='6. Calculo componentes'!H71 -> 8151310.6
A15: VALOR TOTAL DE REFERENCIA | B15: =SUM(B5:B14) -> 1.0545686e+08
A17: Equivalente en SMMLV 2026 | B17: =B15/'2. SMMLV'!$B$13 -> 60.229913

Sheet 8. Notas y fuentes
B1: 8. NOTAS Y FUENTES DOCUMENTALES
B3: 8.1 Galapa Atlántico — se excluyen del cálculo final
B4: Galapa (Atlántico, centro de salud): sus valores totales se incluyeron en la regresión de escalado, pero el resultado del ajuste estadístico bajaba significativamente, razón por la cual no se tuvo en cuenta en el calculo final. De Galapa se conserva únicamente el porcentaje real de su ítem de gases medicinales (Hoja 3), tomado directamente de su Formulario 1 de propuesta económica — un dato puntual y verificable, independiente del problema de validación competitiva del valor total de ese proceso.
B6: 8.2 Fuentes documentales por proceso
B7: • Cundinamarca (Soacha) 2020: ANEXO 1 - Análisis del Sector Cundinamarca.pdf; Documento Complementario CM-0001-SG-2020.pdf.
B8: • Cúcuta 2022: 2. Estudio Económico del Sector Cúcuta.pdf; Anexo 13 - Descripción Técnica Detallada.pdf.
B9: • Quibdó (Chocó) 2025: 031-Anexo Estudio de Mercado Seccional Chocó -AJUSTADOS.xlsx, hoja 'Hoja1'.
B10: • Acacías 2025: 8. ESTUDIOS PREVIOS ACACIAS.pdf; LEGAJO N° 2 - CONTRATO DE CONSULTORÍA N° 304-2025 - PARCIAL N° 3.pdf.
B11: • Sora 2024:2. ESTUDIOS PREVIOS SORA.pdf; CPS 307 de 2025; PAGO FINAL CONSULTORÍA SORA.pdf.
B12: • Pitalito 2022: PROPUESTA ECONOMICA FIRMADA.pdf; MEMORIA ARQUITECTONICA PITALITO 20230221.pdf.
B13: • Villavicencio 2025: 1. Estudio de Mercado Villavicencio.pdf.
B14: • Puerto Asís 2026: Estudios y Diseños Ciudad de Asís.pdf.
... B17: • SMMLV: Ministerio del Trabajo — decretos anuales de fijación del SMMLV 2019-2025; Decreto 1469 del 29 de diciembre de 2025 y Decreto 0159 del 19 de febrero de 2026 (SMMLV 2026).
