Workbook

Sheet METODOLOGÍA DE EVALUACIÓN
B2: REGISTRADURÍA NACIONAL DEL ESTADO CIVIL Y SU FONDO ROTATORIO
B4: Formato No 10. CONDICIONES TÉCNICAS ADICIONALES
B5: METODOLOGÍA DE EVALUACIÓN - APLICABLE A TODAS LAS PÓLIZAS
B6: El Asegurado precisa que las condiciones, coberturas, cláusulas, límites y/o plazo indicados a continuación no son de obligatorio ofrecimiento y las aseguradoras participantes tienen la postedad de decidir su ofrecimiento. Para su evaluación se considerarán los siguientes criterios que corresponden a los generales aplicables, por lo tanto en el caso que se estipulen criterios particulares dentro del contenido de las condiciones, estos primarán sobre los generales: Las aseguradoras deben tener en cuenta que el ofrecimiento de condiciones que presten beneficio a la Entidad adicionales a las relacionadas en cada póliza pero que son en exceso a las mismas; no serán objeto de asignación de puntaje adicional a esos exceso y solo evaluables con base en los criterios que esten definidos en cada condición, no obstante la presentación de éstas obliga a la Aseguradora a su otorgamiento en caso de que el contrato le sea adjudicado y el oferente con la firma de la propuesta acepta esta condición.
B7: CONDICIONES ADICIONALES QUE CONTIENEN SOLO TEXTO: | D7: Se otorgará el máximo puntaje asignado a las propuestas que las ofrezcan con el mismo texto y bajo las mismas condiciones o en condiciones superiores en beneficio de la Entidad. Las propuestas que modifiquen el texto, sin que ello conlleve a la pérdida de la aplicabilidad y/u operatividad de la condición, se le asignará el 50% del puntaje y las propuestas que no las ofrezcan se calificarán con cero (0) puntos.
B8: CONDICIONES ADICIONALES QUE APLIQUEN PARA OFERTAS DE LÍMITES Y/O VALORES FIJOS QUE SE REGISTREN EN TABLAS Y/O CONTENGAN RANGOS Y/O VALORES CON BASE EN LOS CUALES SE DEBE EFECTUAR EL OFRECIMIENTO. | D8: Las aseguradoras deben tener en cuenta: 1. Para acceder a calificación, el oferente deberá registrar en forma expresa y de manera clara, el valor y/o límite que ofrece. En aquellos casos que se exprese valores en COL$ o en SMMLV para realizar una evaluación equitativa, se podrá homologar el ofrecimiento a alguna de las dos constantes COL$ o SMMLV. 2. Se otorga el máximo puntaje a la propuesta que dentro del rango o tabla se aproxime al máximo sublímite o plazo requerido y las demas ofertas se calificaran en forma proporcional a la propuesta calificada con el máximo puntaje. 3. En el caso de presentar propuesta por un valor y/o límite diferente al establecido en los rangos de la tabla, se tomará para la asignación de puntaje, el monto y/o límite del rango inmediatamente anterior al del valor ofrecido y el oferente acepta esta condición con la firma de la oferta y, de ser adjudicada la propuesta, expedirá la póliza con el valor indicado en la propuesta.
A9: 45444 | B9: CONDICIONES ADICIONALES | D9: NOTA: Las aseguradoras deben señalar expresamente en su propuesta las Condiciones Adicionales que ofrece especificando los límites, periodos y demás información necesaria para su evaluación de acuerdo con las condiciones de cada una de ellas, en caso que manifieste "SE OTORGA" ó "SI" u otra expresión que implica que si esta otorgando la condición, pero no está especificado, se entenderá que las mismas fueron ofrecidas al máximo límite, sublímite o periodos o plazos y por lo tanto se asignará el mayor puntaje de esta condición, al límite, sublímite o períodos o plazos requerido y de ser adjudicada la propuesta, la aseguradora expedirá la póliza con las condiciones máximas exigidas de ese criterio en particular.
B10: By: Tiger | G10: VERSIÓN: SEP 2026

Sheet G1. COND ADIC. TRDMC
B3: =+'METODOLOGÍA DE EVALUACIÓN'!B2:G2 -> REGISTRADURÍA NACIONAL DEL ESTADO CIVIL Y SU FONDO ROTATORIO
B5: Formato No 10. CONDICIONES TÉCNICAS ADICIONALES
B6: GRUPO No. 1
B7: 1. PÓLIZA DE SEGURO DE TODO RIESGO DAÑOS MATERIALES COMBINADOS
B8: OBJETO DEL SEGURO
B9: Amparar, bajo la modalidad de Todo Riesgo Daños Materiales, las pérdidas, daños materiales o desaparición que sufran los bienes e intereses de propiedad de REGISTRADURIA NACIONAL DEL ESTADO CIVIL y su FONDO ROTATORIO, así como aquellos por los cuales sean o lleguen a ser legalmente responsables, ubicados en cualquier parte de territorio nacional o internacional, por cualquier causa no expresamente excluida en este Anexo Técnico. Las exclusiones serán taxativas y de interpretación restrictiva.
B10: INFORMACIÓN GENERAL:
B11: TOMADOR: | C11: FONDO ROTATORIO DE LA REGISTRADURIA NACIONAL DEL ESTADO CIVIL | G11: NIT | H11: 899.999.737-9
B12: ASEGURADO: | C12: FONDO ROTATORIO DE LA REGISTRADURIA NACIONAL DEL ESTADO CIVIL | G12: =+G11 -> NIT | H12: 899.999.737-9
C13: REGISTRADURIA NACIONAL DEL ESTADO CIVIL | G13: NIT | H13: 899.999.040-4
B14: BENEFICIARIO: | C14: FONDO ROTATORIO DE LA REGISTRADURIA NACIONAL DEL ESTADO CIVIL | G14: NIT | H14: 899.999.737-9
C15: REGISTRADURIA NACIONAL DEL ESTADO CIVIL | G15: NIT | H15: 899.999.040-4
B16: NOTA: | C16: CADA SUBLÍMITE O GASTOS OFRECIDOS EN FORMA ADICIONAL QUEDA CONTEMPLADO DENTRO DEL LÍMITE ASEGURADO.
B17: CRITERIOS DE EVALUACIÓN:
B18: CONDICIÓN REQUERIDA PARA EVALUACIÓN | E18: CRITERIO DE EVALUACIÓN | F18: PUNTAJE ESTABLECIDO | G18: OFRECIMIENTO DEL PROPONENTE | H18: PUNTAJE OBTENIDO POR EL PROPONENTE
B19: ACTOS MAL INTENCIONADOS DE TERCEROS ASONADA, MOTÍN, CONMOCIÓN CIVIL O POPULAR Y HUELGA (INCLUIDO TERRORISMO Y SABOTAJE). Sublímite de $60.000.000.000 (vigencia 1.4.2. Anexo No. 1) NOTA 1: Solo se acepta propuesta en los límites señados en los siguientes rangos. Ofrecimientos de otros valores diferentes serán evaluados con cero (0) puntos), excepto que sea superior al último rango. NOTA 2: Se otorga el máximo puntaje a la propuesta que dentro del rango se aproxime al máximo sublímite requerido y las demas ofertas se calificaran en forma proporcional a la propuesta calificada con el máximo puntaje. | D19: PUNTOS AL MAYOR VALOR DENTRO DEL RANGO | E19: Se califica el aumento adicional del sublímite Hasta un monto total de $100.000.000.000 incluido el básico y sin cobro de prima adicional. | F19: 5
B20: Límite adicional al básico mayor a $10.000.000.000 y hasta $20.000.000.000: | D20: 1
B21: Límite adicional al básico mayor a $25.000.000.000 y hasta $30.000.000.000: | D21: 3
B22: Límite adicional al básico mayor a $35.000.000.000 y hasta $40.000.000.000: | D22: 6
B23: HURTO Y HURTO CALIFICADO Sublímite de $6.000.000.000 (vigencia 1.4.2. Anexo No. 1) combinado para todos los bienes.. | E23: Se califica el aumento adicional del sublímite Hasta un monto total de $10.000.000.000 y sin cobro de prima adicional. | F23: 3
B24: GASTOS ADICIONALES. Sublímite por la suma de $10.000.000.000, en exceso del valor asegurado,sin aplicación de deducible y combinado para los gastos relacionados en en Anexo No. 1. NOTA 1: Solo se acepta propuesta en los límites señados en los siguientes rangos. Ofrecimientos de otros valores diferentes serán evaluados con cero (0) puntos), excepto que sea superior al último rango. NOTA 2: Se otorga el máximo puntaje a la propuesta que dentro del rango se aproxime al máximo sublímite requerido y las demas ofertas se calificaran en forma proporcional a la propuesta calificada con el máximo puntaje. | D24: PUNTOS AL MAYOR VALOR DENTRO DEL RANGO | E24: Se califica el aumento adicional del sublímite Hasta un monto total de $15.000.000.000 incluido el básico y sin cobro de prima adicional. | F24: 5
B25: Límite adicional al básico mayor a $250.000.000 y hasta $500.000.000: | D25: 1
B26: Límite adicional al básico mayor a $550.000.000 y hasta $1.000.000.000: | D26: 3
B27: Límite adicional al básico mayor a $1.000.000.000 y hasta $5.000.000.000: | D27: 6
B28: GASTOS EXTRAORDINARIOS. Sublímite por la suma de $3.000.000.000, incluido en el valor asegurado,sin aplicación de deducible y combinado para los gastos relacionados en en Anexo No. 1. NOTA 1: Solo se acepta propuesta en los límites señados en los siguientes rangos. Ofrecimientos de otros valores diferentes serán evaluados con cero (0) puntos), excepto que sea superior al último rango. NOTA 2: Se otorga el máximo puntaje a la propuesta que dentro del rango se aproxime al máximo sublímite requerido y las demas ofertas se calificaran en forma proporcional a la propuesta calificada con el máximo puntaje. | D28: PUNTOS AL MAYOR VALOR DENTRO DEL RANGO | E28: Se califica el aumento adicional del sublímite Hasta un monto total de $8.000.000.000 incluido el básico y sin cobro de prima adicional. | F28: 5
B29: Límite adicional al básico mayor a $500.000.000 y hasta $1.000.000.000: | D29: 2
B30: Límite adicional al básico mayor a $1.200.000.000 y hasta $1.500.000.000: | D30: 4
B31: Límite adicional al básico mayor a $1.600.000.000 y hasta $5.000.000.000: | D31: 6
B32: ANTICIPO DE INDEMNIZACIÓN DEL 50%. NOTA: Si el aumento adicional del porcentaje de anticipo es condicionado a la demostración de la ocurrencia y cuantía, se califica con cero (0) puntos este factor. | E32: Se califica el aumento adicional del porcentaje ofrecido. Bajo la definición del texto de la condición obligatoria y sin estar condicionada a la demostración de ocurrencia y cuantía. | F32: 3
B33: RENUNCIA A LA APLICACIÓN DE SEGURO INSUFICIENTE Y/O INFRASEGURO | E33: Se califica en Condiciones Adicionales el aumento adicional del porcentaje ofrecido. Hasta un máximo del 10% incluido el básico | F33: 3
B34: CLÁUSULA DE NO TASACIÓN EN CASO DE SINIESTRO Sublímite de hasta $200.000.000, por siniestro. NOTA 1: Solo se acepta propuesta en los límites señados en los siguientes rangos. Ofrecimientos de otros valores diferentes serán evaluados con cero (0) puntos), excepto que sea superior al último rango. NOTA 2: Se otorga el máximo puntaje a la propuesta que dentro del rango se aproxime al máximo sublímite requerido y las demas ofertas se calificaran en forma proporcional a la propuesta calificada con el máximo puntaje. | D34: PUNTOS AL MAYOR VALOR DENTRO DEL RANGO | E34: Se califica el aumento adicional del sublímite Hasta un monto total de $400.000.000 incluido el básico | F34: =+D37 -> 3
B35: Límite adicional al básico mayor a $25.000.000 y hasta $50.000.000: | D35: 1
B36: Límite adicional al básico mayor a $55.000.000 y hasta $100.000.000: | D36: 2
B37: Límite adicional al básico mayor a $120.000.000 y hasta $200.000.000: | D37: 3
B38: AUTORIZACIÓN EXPRESA AL ASEGURADO PARA ATENCIÓN DE DAÑOS POR SINIESTROS CUYO VALOR NO EXCEDA $150.000.000. NOTA 1: Solo se acepta propuesta en los límites señados en los siguientes rangos. Ofrecimientos de otros valores diferentes serán evaluados con cero (0) puntos), excepto que sea superior al último rango. NOTA 2: Se otorga el máximo puntaje a la propuesta que dentro del rango se aproxime al máximo sublímite requerido y las demas ofertas se calificaran en forma proporcional a la propuesta calificada con el máximo puntaje. | D38: PUNTOS AL MAYOR VALOR DENTRO DEL RANGO | E38: Se califica el aumento adicional del sublímite para la autorización expresa para la atención de siniestros. Hasta un monto total de $250.000.000 incluido el básico | F38: =+D41 -> 3
B39: Límite adicional al básico mayor a $25.000.000 y hasta $50.000.000: | D39: 1.5
B40: Límite adicional al básico mayor a $55.000.000 y hasta $75.000.000: | D40: 2.25
B41: Límite adicional al básico mayor a $80.000.000 y hasta $100.000.000: | D41: 3
B42: MÁXIMO CALIFICACIÓN | F42: =SUM(F19:F38) -> 30 | G42: CALIFICACIÓN DEL PROPONENTE | H42: =SUM(H19:H38) -> 0
B43: By: Tiger | H43: =+'METODOLOGÍA DE EVALUACIÓN'!G10 -> VERSIÓN: SEP 2026

Sheet G1. COND ADIC. MANEJO GLOBAL
B3: =+'G1. COND ADIC. TRDMC'!B3:H3 -> REGISTRADURÍA NACIONAL DEL ESTADO CIVIL Y SU FONDO ROTATORIO
B5: Formato No 10. CONDICIONES TÉCNICAS ADICIONALES
B6: GRUPO No. 1
B7: 2. PÓLIZA DE SEGURO GLOBAL DE MANEJO PARA ENTIDADES OFICIALES
B8: OBJETO DEL SEGURO
B9: Amparar el menoscabo que sufran los fondos, valores y bienes de propiedad, bajo tenencia, control y/o responsabilidad de la REGISTRADURIA NACIONAL DEL ESTADO CIVIL y su FONDO ROTATORIO, ocasionado por empleados, funcionarios, servidores, sus reemplazos y demás personas comprendidas en la definición de trabajador o empleado de esta póliza, por actos que se tipifiquen como delitos contra la administración pública o fallos con responsabilidad fiscal, de conformidad con las coberturas y condiciones del presente anexo. La cobertura no estará condicionada a la existencia de sentencia penal o fallo fiscal cuando la ocurrencia y cuantía de la pérdida se encuentren acreditadas conforme al contrato y a la ley.
B10: INFORMACIÓN GENERAL:
B11: TOMADOR: | C11: FONDO ROTATORIO DE LA REGISTRADURIA NACIONAL DEL ESTADO CIVIL | G11: NIT. | H11: =+'G1. COND ADIC. TRDMC'!H11 -> 899.999.737-9
B12: ASEGURADO: | C12: FONDO ROTATORIO DE LA REGISTRADURIA NACIONAL DEL ESTADO CIVIL | G12: NIT. | H12: 899.999.737-9
C13: REGISTRADURIA NACIONAL DEL ESTADO CIVIL | G13: NIT. | H13: 899.999.040-4
B14: BENEFICIARIO: | C14: FONDO ROTATORIO DE LA REGISTRADURIA NACIONAL DEL ESTADO CIVIL | G14: NIT. | H14: =+'G1. COND ADIC. TRDMC'!H14 -> 899.999.737-9
C15: REGISTRADURIA NACIONAL DEL ESTADO CIVIL | G15: NIT. | H15: 899.999.040-4
B16: NOTA: | C16: CADA SUBLÍMITE O GASTOS OFRECIDOS EN FORMA ADICIONAL QUEDA CONTEMPLADO DENTRO DEL LÍMITE ASEGURADO.
B17: CRITERIOS DE EVALUACIÓN:
B18: CONDICIÓN REQUERIDA PARA EVALUACIÓN | E18: CRITERIO DE EVALUACIÓN | F18: PUNTAJE ESTABLECIDO | G18: OFRECIMIENTO DEL OFERENTE | H18: PUNTAJE OBTENIDO POR EL OFERENTE
B19: INCREMENTO DEL LÍMITE BÁSICO PARA LA COBERTURA DE MANEJO GLOBAL. LÍMITE $1.200.000.000 (vigencia 2.3.2.) NOTA 1: Solo se acepta propuesta en los límites señados en los siguientes rangos. Ofrecimientos de otros valores diferentes serán evaluados con cero (0) puntos), excepto que sea superior al último rango. NOTA 2: Se otorga el máximo puntaje a la propuesta que dentro del rango se aproxime al máximo sublímite requerido y las demas ofertas se calificaran en forma proporcional a la propuesta calificada con el máximo puntaje. | D19: PUNTOS AL MAYOR VALOR DENTRO DEL RANGO | E19: Se califica el aumento adicional del límite asegurado. Hasta un monto total de $1.600.000.000 incluido el básico SIN COBRO DE PRIMA | F19: =+D23 -> 18
B20: Límite adicional al básico mayor a $50.000.000 y hasta $100.000.000 | D20: 4
B21: Límite adicional al básico mayor a $100.000.000 y hasta $200.000.000 | D21: 6
B22: Límite adicional al básico mayor a $200.000.000 y hasta $300.000.000 | D22: 12
B23: Límite adicional al básico mayor a $300.000.000 y hasta $400.000.000 | D23: 18
B24: GASTOS ADICIONALES: 10%. NOTA 1: Solo se acepta propuesta en los límites señados en los siguientes rangos. Ofrecimientos de otros valores diferentes serán evaluados con cero (0) puntos), excepto que sea superior al último rango. NOTA 2: Se otorga el máximo puntaje a la propuesta que dentro del rango se aproxime al máximo porcentaje requerido y las demas ofertas se calificaran en forma proporcional a la propuesta calificada con el máximo puntaje. | D24: PUNTOS AL MAYOR VALOR DENTRO DEL RANGO | E24: Se califica el aumento adicional del porcentaje ofrecido. Bajo la definición del texto de la condición obligatoria | F24: =+D28 -> 3
B25: Límite adicional al básico mayor al 15% y hasta el 20%. | D25: 1.5
B26: Límite adicional al básico mayor al 30% y hasta el 50%. | D26: 2
B27: Límite adicional al básico mayor al 60% y hasta el 80%. | D27: 2.5
B28: Límite adicional al básico mayor al 90% y hasta el 100%. | D28: 3
B29: HONORARIOS PROFESIONALES DE ABOGADOS, CONSULTORES, AUDITORES, INTERVENTORES, ETC: 10%. NOTA 1: Solo se acepta propuesta en los límites señados en los siguientes rangos. Ofrecimientos de otros valores diferentes serán evaluados con cero (0) puntos), excepto que sea superior al último rango. NOTA 2: Se otorga el máximo puntaje a la propuesta que dentro del rango se aproxime al máximo porcentaje requerido y las demas ofertas se calificaran en forma proporcional a la propuesta calificada con el máximo puntaje. | D29: PUNTOS AL MAYOR VALOR DENTRO DEL RANGO | E29: Se califica el aumento adicional del porcentaje ofrecido. Bajo la definición del texto de la condición obligatoria | F29: =+D33 -> 3
B30: Límite adicional al básico mayor al 15% y hasta el 20%. | D30: 1.5
B31: Límite adicional al básico mayor al 30% y hasta el 50%. | D31: 2
B32: Límite adicional al básico mayor al 60% y hasta el 80%. | D32: 2.5
B33: Límite adicional al básico mayor al 90% y hasta el 100%. | D33: 3
B34: COSTAS EN JUICIO, HONORARIOS PROFESIONALES Y SELECCIÓN DE PROFESIONALES PARA LA DEFENSA.: 10%. NOTA 1: Solo se acepta propuesta en los límites señados en los siguientes rangos. Ofrecimientos de otros valores diferentes serán evaluados con cero (0) puntos), excepto que sea superior al último rango. NOTA 2: Se otorga el máximo puntaje a la propuesta que dentro del rango se aproxime al máximo porcentaje requerido y las demas ofertas se calificaran en forma proporcional a la propuesta calificada con el máximo puntaje. | D34: PUNTOS AL MAYOR VALOR DENTRO DEL RANGO | E34: Se califica el aumento adicional del porcentaje ofrecido. Bajo la definición del texto de la condición obligatoria | F34: =+D38 -> 3
B35: Límite adicional al básico mayor al 15% y hasta el 20%. | D35: 1.5
B36: Límite adicional al básico mayor al 30% y hasta el 50%. | D36: 2
B37: Límite adicional al básico mayor al 60% y hasta el 80%. | D37: 2.5
B38: Límite adicional al básico mayor al 90% y hasta el 100%. | D38: 3
B39: ANTICIPO DE INDEMNIZACIÓN DEL 50%. NOTA: Si el aumento adicional del porcentaje de anticipo es condicionado a la demostración de la ocurrencia y cuantía, se califica con cero (0) puntos este factor. | D39: PUNTOS AL MAYOR VALOR DENTRO DEL RANGO | E39: Se califica el aumento adicional del porcentaje ofrecido. Bajo la definición del texto de la condición obligatoria y sin estar condicionada a la demostración de ocurrencia y cuantía. | F39: 3
B40: MÁXIMO CALIFICACIÓN | F40: =SUM(F19:F39) -> 30 | G40: CALIFICACIÓN DEL OFERENTE | H40: =SUM(H19:H39) -> 0
B41: By: Tiger | H41: =+'METODOLOGÍA DE EVALUACIÓN'!G10 -> VERSIÓN: SEP 2026

Sheet G1. COND ADIC. RCE
B4: =+'METODOLOGÍA DE EVALUACIÓN'!B2:G2 -> REGISTRADURÍA NACIONAL DEL ESTADO CIVIL Y SU FONDO ROTATORIO
B6: Formato No 10. CONDICIONES TÉCNICAS ADICIONALES
B7: GRUPO No. 1
B8: 3. PÓLIZA DE SEGURO DE RESPONSABILIDAD CIVIL EXTRACONTRACTUAL
B9: OBJETO DEL SEGURO
B10: Amparar los perjuicios patrimoniales y extrapatrimoniales que cause la REGISTRADURIA NACIONAL DEL ESTADO CIVIL y su FONDO ROTATORIO, como consecuencia de la Responsabilidad Civil Extracontractual originada dentro o fuera de sus instalaciones, en el desarrollo de sus actividades o en lo relacionado con ella, lo mismo que los actos de sus empleados y funcionarios o el personal para el apoyo a la gestión administrativa dentro y fuera del territorio nacional o por bienes que se encuentren bajo tenencia, control y/o responsabilidad . Nota: Se entenderán como terceros todos los servidores públicos, empleados y funcionarios permanentes, o temporales, o estudiantes en práctica o pasantias, o contratistas, o subcontratistas, o de personas voluntarias que presten servicios al asegurado, incluyendo miembros de las Directivas y cada una de las personas que circulen, ingresen, accedan o se encuentren en los predios de asegurado o por los cuales es responsable en su aseguramiento, independientemente que el asegurado le esté prestando un servicio objeto de su razón social.
B11: INFORMACIÓN GENERAL:
B12: TOMADOR: | C12: FONDO ROTATORIO DE LA REGISTRADURIA NACIONAL DEL ESTADO CIVIL | G12: NIT. | H12: =+'G1. COND ADIC. TRDMC'!H11 -> 899.999.737-9
B13: ASEGURADO: | C13: =+C12 -> FONDO ROTATORIO DE LA REGISTRADURIA NACIONAL DEL ESTADO CIVIL | G13: NIT. | H13: =+H12 -> 899.999.737-9
C14: REGISTRADURIA NACIONAL DEL ESTADO CIVIL | G14: NIT. | H14: 899.999.040-4
B15: BENEFICIARIOS: | C15: TERCEROS AFECTADOS
B16: NOTA: | C16: CADA SUBLÍMITE O GASTOS OFRECIDOS EN FORMA ADICIONAL QUEDA CONTEMPLADO DENTRO DEL LÍMITE ASEGURADO.
B17: CRITERIOS DE EVALUACIÓN:
B18: CONDICIÓN REQUERIDA PARA EVALUACIÓN | E18: CRITERIO DE EVALUACIÓN | F18: PUNTAJE ESTABLECIDO | G18: OFRECIMIENTO DEL OFERENTE | H18: PUNTAJE OBTENIDO POR EL OFERENTE
B19: INCREMENTO DEL LÍMITE BÁSICO PARA LA COBERTURA DE RESPONSABILIDAD CIVIL EXTRACONTRACTUAL $6.6000.000.000 (vigencia 3.4.1 Anexo No. 1) NOTA 1: Solo se acepta propuesta en los límites señados en los siguientes rangos. Ofrecimientos de otros valores diferentes serán evaluados con cero (0) puntos), excepto que sea superior al último rango. NOTA 2: Se otorga el máximo puntaje a la propuesta que dentro del rango se aproxime al máximo sublímite requerido y las demas ofertas se calificaran en forma proporcional a la propuesta calificada con el máximo puntaje. | E19: Se califica el aumento adicional del límite asegurado. SIN COBRO DE PRIMA | F19: =+D23 -> 15
B20: Rangos para el aumento del límite | D20: PUNTOS AL MAYOR VALOR DENTRO DEL RANGO
B21: Límite adicional al básico mayor a $300.000.000 y hasta $500.000.000 | D21: 5
B22: Límite adicional al básico mayor a $600.000.000 y hasta $1.000.000.000 | D22: 10
B23: Límite adicional al básico mayor a $2.000.000.000 y hasta $4.000.000.000 | D23: 15
B24: GASTOS MÉDICOS (sin aplicación de deducibles). Sublímite $150.000.000 persona / $800.000.000 (vigencia 3.4.1 Anexo No. 1) NOTA 1: Solo se acepta propuesta en los límites señados en los siguientes rangos. Ofrecimientos de otros valores diferentes serán evaluados con cero (0) puntos), excepto que sea superior al último rango. NOTA 2: Se otorga el máximo puntaje a la propuesta que dentro del rango se aproxime al máximo sublímite requerido y las demas ofertas se calificaran en forma proporcional a la propuesta calificada con el máximo puntaje. | E24: Se califica el aumento adicional del límite asegurado. SIN COBRO DE PRIMA, así:
B25: Rangos para el sublímite por evento | D25: PUNTOS AL MAYOR VALOR DENTRO DEL RANGO | E25: Se califica el aumento adicional del sublímite evento. | F25: =+D28 -> 4
B26: Límite adicional al básico mayor a $30.000.000 y hasta $50.000.000 | D26: 1
B27: Límite adicional al básico mayor a $55.000.000 y hasta $100.000.000 | D27: 2
B28: Límite adicional al básico mayor a $110.000.000 y hasta $150.000.000 | D28: 4
B29: Rangos para el sublímite (vigencia 3.4.1 Anexo No. 1) | D29: PUNTOS AL MAYOR VALOR DENTRO DEL RANGO | E29: Se califica el aumento adicional del sublímite agregado anual | F29: =+D32 -> 4
B30: Límite adicional al básico mayor a $200.000.000 y hasta $400.000.000 | D30: 1
B31: Límite adicional al básico mayor a $450.000.000 y hasta $600.000.000 | D31: 2
B32: Límite adicional al básico mayor a $650.000.000 y hasta $1.000.000.000 | D32: 4
B33: RESPONSABILIDAD CIVIL PATRONAL Sublímite de $800.000.000.000 persona / $2.100.000.000 (vigencia 3.4.1 Anexo No. 1) NOTA 1: Solo se acepta propuesta en los límites señados en los siguientes rangos. Ofrecimientos de otros valores diferentes serán evaluados con cero (0) puntos), excepto que sea superior al último rango. NOTA 2: Se otorga el máximo puntaje a la propuesta que dentro del rango se aproxime al máximo sublímite requerido y las demas ofertas se calificaran en forma proporcional a la propuesta calificada con el máximo puntaje. | D33: PUNTOS AL MAYOR VALOR DENTRO DEL RANGO | E33: Se califica el aumento adicional del porcentaje del sublímite | F33: =+D36 -> 4
B34: Límite mayor al 15% y hasta el 30%: | D34: 1
B35: Límite mayor al 30% y hasta el 60%: | D35: 2
B36: Límite mayor al 70% y hasta el 90%: | D36: 4
B37: ANTICIPO DE INDEMNIZACIÓN DEL 50%. NOTA: Si el aumento adicional del porcentaje de anticipo es condicionado a la demostración de la ocurrencia y cuantía, se califica con cero (0) puntos este factor. | E37: Se califica el aumento adicional del porcentaje ofrecido. Bajo la definición del texto de la condición obligatoria y sin estar condicionada a la demostración de ocurrencia y cuantía. | F37: 3
B38: MÁXIMO CALIFICACIÓN | F38: =SUM(F19:F37) -> 30 | G38: CALIFICACIÓN DEL OFERENTE | H38: =SUM(H19:H37) -> 0 | I38: VERIFICAR QUE LA SUMATORIA COMPRENDE TODO EL RANGO DE CELDAS
B39: By: Tiger | H39: =+'METODOLOGÍA DE EVALUACIÓN'!G10 -> VERSIÓN: SEP 2026

Sheet G1. COND ADIC. TRANSP VALORES
B3: =+'METODOLOGÍA DE EVALUACIÓN'!B2:G2 -> REGISTRADURÍA NACIONAL DEL ESTADO CIVIL Y SU FONDO ROTATORIO
B5: Formato No 10. CONDICIONES TÉCNICAS ADICIONALES
B6: GRUPO No. 1
B7: 4. PÓLIZA DE TRANSPORTE DE VALORES
B8: OBJETO DEL SEGURO
B9: Amparar las pérdidas y los daños materiales causados como consecuencia de los eventos que constituyen los amparos mencionados, por el transporte de dineros en efectivo, títulos valores, cheques, y cualquier otro documento de propiedad del asegurado que pueda ser convertido fácilmente en dinero en efectivo, incluyendo las movilizaciones de dinero en efectivo realizadas por los funcionarios en comisión y delegados del manejo de las cajas menores y demás títulos valores, por los cuales la REGISTRADURIA NACIONAL DEL ESTADO CIVIL Y SU FONDO ROTATORIO sea o deba ser legalmente responsable.
B10: INFORMACIÓN GENERAL:
B11: TOMADOR: | C11: FONDO ROTATORIO DE LA REGISTRADURIA NACIONAL DEL ESTADO CIVIL | G11: NIT. | H11: =+'G1. COND ADIC. TRDMC'!H11 -> 899.999.737-9
B12: ASEGURADO: | C12: =+C11 -> FONDO ROTATORIO DE LA REGISTRADURIA NACIONAL DEL ESTADO CIVIL | G12: NIT. | H12: =+H11 -> 899.999.737-9
C13: REGISTRADURIA NACIONAL DEL ESTADO CIVIL | G13: NIT. | H13: 899.999.040-4
B14: BENEFICIARIO: | C14: =+C11 -> FONDO ROTATORIO DE LA REGISTRADURIA NACIONAL DEL ESTADO CIVIL | G14: NIT. | H14: =+H12 -> 899.999.737-9
C15: REGISTRADURIA NACIONAL DEL ESTADO CIVIL | G15: NIT. | H15: =+H13 -> 899.999.040-4
B16: NOTA: | C16: CADA SUBLÍMITE O GASTOS OFRECIDOS EN FORMA ADICIONAL QUEDA CONTEMPLADO DENTRO DEL LÍMITE ASEGURADO.
B17: CRITERIOS DE EVALUACIÓN:
B18: CONDICIÓN REQUERIDA PARA EVALUACIÓN | D18: PUNTOS | E18: CRITERIO DE EVALUACIÓN | F18: PUNTAJE ESTABLECIDO | G18: OFRECIMIENTO DEL OFERENTE | H18: PUNTAJE OBTENIDO POR EL OFERENTE
B19: ANTICIPO DE INDEMNIZACIÓN DEL 50%. NOTA: Si el aumento adicional del porcentaje de anticipo es condicionado a la demostración de la ocurrencia y cuantía, se califica con cero (0) puntos este factor. | E19: Se califica el aumento adicional del porcentaje ofrecido. Bajo la definición del texto de la condición obligatoria y sin estar condicionada a la demostración de ocurrencia y cuantía. | F19: 15 | H19: 15
B20: COMPROMISO PARA EL PAGO DE LAS INDEMNIZACIONES Plazo de diez (10) días hábiles. | E20: Se califica el menor número de días hábiles una vez demostrada ocurrencia y cuantía. | F20: 15 | H20: 15
B21: MÁXIMO CALIFICACIÓN | F21: =SUM(F19:F20) -> 30 | G21: CALIFICACIÓN DEL OFERENTE | H21: =SUM(H19:H20) -> 30
B22: By: Tiger | H22: =+'METODOLOGÍA DE EVALUACIÓN'!G10 -> VERSIÓN: SEP 2026

Sheet G1. COND ADIC. TRANSP MCÍAS
B3: =+'METODOLOGÍA DE EVALUACIÓN'!B2:G2 -> REGISTRADURÍA NACIONAL DEL ESTADO CIVIL Y SU FONDO ROTATORIO
B5: Formato No 10. CONDICIONES TÉCNICAS ADICIONALES
B6: GRUPO No. 1
B7: 5. PÓLIZA DE TRANSPORTE DE MERCANCÍAS
B8: OBJETO DEL SEGURO
B9: Amparar las pérdidas y los daños materiales causados como consecuencia de los eventos que constituyen los amparos mencionados, en el transporte de cualquier tipo de mercancías nuevas y usadas incluida maquinaría, por cualquier medio de transporte, de los bienes de su propiedad, bajo tenencia, responsabilidad y/o control; propios del giro normal de las actividades de la REGISTRADURIA NACIONAL DEL ESTADO CIVIL Y SU FONDO ROTATORIO.
B10: INFORMACIÓN GENERAL:
B11: TOMADOR: | C11: FONDO ROTATORIO DE LA REGISTRADURIA NACIONAL DEL ESTADO CIVIL | G11: NIT. | H11: =+'G1. COND ADIC. TRDMC'!H11 -> 899.999.737-9
B12: ASEGURADO: | C12: =+C11 -> FONDO ROTATORIO DE LA REGISTRADURIA NACIONAL DEL ESTADO CIVIL | G12: NIT. | H12: =+H11 -> 899.999.737-9
C13: REGISTRADURIA NACIONAL DEL ESTADO CIVIL | G13: NIT. | H13: 899.999.040-4
B14: BENEFICIARIO: | C14: =+C11 -> FONDO ROTATORIO DE LA REGISTRADURIA NACIONAL DEL ESTADO CIVIL | G14: NIT. | H14: =+H12 -> 899.999.737-9
C15: REGISTRADURIA NACIONAL DEL ESTADO CIVIL | G15: NIT. | H15: =+H13 -> 899.999.040-4
B16: NOTA: | C16: CADA SUBLÍMITE O GASTOS OFRECIDOS EN FORMA ADICIONAL QUEDA CONTEMPLADO DENTRO DEL LÍMITE ASEGURADO.
B17: CRITERIOS DE EVALUACIÓN:
B18: CONDICIÓN REQUERIDA PARA EVALUACIÓN | D18: PUNTOS | E18: CRITERIO DE EVALUACIÓN | F18: PUNTAJE ESTABLECIDO | G18: OFRECIMIENTO DEL OFERENTE | H18: PUNTAJE OBTENIDO POR EL OFERENTE
B19: ANTICIPO DE INDEMNIZACIÓN DEL 50%. NOTA: Si el aumento adicional del porcentaje de anticipo es condicionado a la demostración de la ocurrencia y cuantía, se califica con cero (0) puntos este factor. | E19: Se califica el aumento adicional del porcentaje ofrecido. Bajo la definición del texto de la condición obligatoria y sin estar condicionada a la demostración de ocurrencia y cuantía. | F19: 15
B20: COMPROMISO PARA EL PAGO DE LAS INDEMNIZACIONES Plazo de diez (10) días hábiles. | E20: Se califica el menor número de días hábiles una vez demostrada ocurrencia y cuantía. | F20: 15
B21: MÁXIMO CALIFICACIÓN | F21: =SUM(F19:F20) -> 30 | G21: CALIFICACIÓN DEL OFERENTE | H21: =SUM(H19:H20) -> 0
B22: By: Tiger | H22: =+'G1 COND ADIC. AUTOMÓVILES'!H35 -> VERSIÓN: SEP 2026

Sheet G1 COND ADIC. AUTOMÓVILES
B4: =+'METODOLOGÍA DE EVALUACIÓN'!B2:G2 -> REGISTRADURÍA NACIONAL DEL ESTADO CIVIL Y SU FONDO ROTATORIO
B6: Formato No 10. CONDICIONES TÉCNICAS ADICIONALES
B7: GRUPO No. 1
B8: 6. PÓLIZA DE AUTOMÓVILES
B9: OBJETO DEL SEGURO
B10: Amparar a la REGISTRADURIA NACIONAL DEL ESTADO CIVIL Y SU FONDO ROTATORIO, por los perjuicios que cause patrimonial (daños materiales incluyendo daño emergente y lucro cesante) y extrapatrimonialmente (incluidos el daño moral, daño fisiológico y daño a la vida en relación), al igual que los daños a bienes o lesiones o muerte a terceros. De igual forma se amparan los daños y/o pérdidas que afecten a los vehículos de su propiedad, bajo tenencia, control o por los que sea legalmente responsable o incluidos aquellos recibidos por parte de otras entidades para el desarrollo misional de la Entidad.
B11: INFORMACIÓN GENERAL:
B12: TOMADOR: | C12: FONDO ROTATORIO DE LA REGISTRADURIA NACIONAL DEL ESTADO CIVIL | G12: NIT. | H12: =+'G1. COND ADIC. TRDMC'!H11 -> 899.999.737-9
B13: ASEGURADO: | C13: =+C12 -> FONDO ROTATORIO DE LA REGISTRADURIA NACIONAL DEL ESTADO CIVIL | G13: NIT. | H13: =+H12 -> 899.999.737-9
C14: REGISTRADURIA NACIONAL DEL ESTADO CIVIL | G14: NIT. | H14: 899.999.040.-4
B15: BENEFICIARIO: | C15: REGISTRADURÍA NACIONAL DEL ESTADO CIVIL Y SU FONDO ROTATORIO / Y PARA RCE TERCEROS AFECTADOS | G15: NIT. | H15: =+H12 -> 899.999.737-9
B16: NOTA: | C16: CADA SUBLÍMITE O GASTOS OFRECIDOS EN FORMA ADICIONAL QUEDA CONTEMPLADO DENTRO DEL LÍMITE ASEGURADO.
B17: CRITERIOS DE EVALUACIÓN:
B18: CONDICIÓN REQUERIDA PARA EVALUACIÓN | E18: CRITERIO DE EVALUACIÓN | F18: PUNTAJE ESTABLECIDO | G18: OFRECIMIENTO DEL OFERENTE | H18: PUNTAJE OBTENIDO POR EL OFERENTE
B19: INCREMENTO DEL LÍMITE BÁSICO PARA LA COBERTURA DE RESPONSABILIDAD CIVIL EXTRACONTRACTUAL. (vigencia 6.4. Anexo No. 1) NOTA: Solo se acepta propuesta en los límites señados en los siguientes rangos. Ofrecimientos de otros valores diferentes serán evaluados con cero (0) puntos), excepto que sea superior al último rango. | E19: Se califica el aumento adicional del límite asegurado. SIN COBRO DE PRIMA | F19: =+D24 -> 13
B20: Al proponente que ofrezca únicamente el límite básico exigido de $1.550.000.000 / $1.550.000.000 / $3.100.000.000, ó Límite único combinado de $4.650.0000.000, se evaluara con CERO (0) puntos. Solo se acepta propuesta en los límites a continuación señalados, ofrecimientos de otros valores diferentes serán evaluados con cero (0) puntos). | D20: PUNTOS
B21: Al proponente que ofrezca límite de: $1.800.000.000 / $1.800.000.000 / $3.600.000.000. O límite único combinado de $5.400.000.000. | D21: 3
B22: Al proponente que ofrezca límite de: $2.000.000.000 / $2.000.000.000 / $4.000.000.000. O límite único combinado de $6.000.000.000. | D22: 5
B23: Al proponente que ofrezca límite de: $2.200.000.000 / $2.200.000.000 / $4.400.000.000. O límite único combinado de $6.600.000.000. | D23: 10
B24: Al proponente que ofrezca límite de: $2.500.000.000 / $2.500.000.000 / $5.000.000.000. O límite único combinado de $7.500.000.000. | D24: 13
B25: GASTOS DE TRANSPORTE POR PÉRDIDAS TOTALES (Daños y/o Hurto) (esta condición no aplica para motos y vehiculos pesados.) Limite de $40.000 diarios y hasta (90) días | E25: Se califica el aumento adicional del (incluido el básico) monto de los gastos de transporte. | F25: 3
B26: GASTOS DE BODEGAJE Limite de $5.000.000 evento $20.000.000 agregado anual | E26: Se califica el aumento adicional del monto de los gastos de bodegaje. | F26: 2
B27: Límite mínimo adicional al básico mayor a $500.000
B28: ANTICIPO DE INDEMNIZACIÓN DEL 80%. NOTA: Si el aumento adicional del porcentaje de anticipo es condicionado a la demostración de la ocurrencia y cuantía, se califica con cero (0) puntos este factor. | E28: Se califica el aumento adicional del porcentaje ofrecido. Bajo la definición del texto de la condición obligatoria y sin estar condicionada a la demostración de ocurrencia y cuantía. | F28: 3
B29: AMPARO AUTOMÁTICO DE VEHÍCULOS NUEVOS Y USADOS Sublímite de $300.000.000 por vehículo y término de 90 días de aviso. | E29: Se califica el aumento adicional del monto del sublímite para este amparo. | F29: 1.5
B30: AMPARO AUTOMÁTICO DE EQUIPOS Y ACCESORIOS Sublímite de $20.000.000 por vehículo y término de 90 días de aviso. | E30: Se califica el aumento adicional del monto del sublímite para este amparo. | F30: 1.5
B31: GASTOS DE GRÚA PARA VEHÍCULOS DE TERCEROS, AFECTADOS EN ACCIDENTES EN LOS CUALES SEA EVIDENTE LA RESPONSABILIDAD DEL ASEGURADO. Se paga por rembolso el servicio prestado de grúa al tercero. | E31: Se califica el otorgamiento de este servicio. | F31: 2
B32: VEHÍCULO DE REEMPLAZO Acorde con las políticas de la aseguradora. | E32: Se califica el ofrecimiento de este servicio | F32: 3
B33: VERIFICACIÓN CARACTERÍSTICAS DE LOS VEHÍCULOS ASEGURADOS FRENTE A CÓDIGO FASECOLDA Queda entendido, convenido y aceptado que la aseguradora se obliga a validar las características del vehículo asegurado en forma directa o a través de una firma externa especializada en reconocimiento de los vehículos relacionados por la Entidad, con expertos en la materia, tales como: marca, modelo, cilindraje o capacidad, carrocería, líneas, cabinas, y demás que consideren pertinentes, de tal forma que correspondan en un todo con el código exacto de FASECOLDA. Esta condición no aplica para vehículos con valor admitido. | E33: Se califica el ofrecimiento de este servicio | F33: 1
B34: MÁXIMO CALIFICACIÓN | F34: =SUM(F19:F33) -> 30 | G34: CALIFICACIÓN DEL OFERENTE | H34: =SUM(H19:H33) -> 0
B35: By: Tiger | H35: =+'G1. COND ADIC. RCE'!H39 -> VERSIÓN: SEP 2026

Sheet G2 . COND ADIC. RCSP
B3: =+'METODOLOGÍA DE EVALUACIÓN'!B2:G2 -> REGISTRADURÍA NACIONAL DEL ESTADO CIVIL Y SU FONDO ROTATORIO
B5: Formato No 10. CONDICIONES TÉCNICAS ADICIONALES
B6: GRUPO No. 2
B7: 7. PÓLIZA DE RESPONSABILIDAD CIVIL SERVIDORES PÚBLICOS
B8: OBJETO DEL SEGURO
B9: Amparar los perjuicios o detrimentos patrimoniales causados a la REGISTRADURIA NACIONAL DEL ESTADO CIVIL Y SU FONDO ROTATORIO, como consecuencia de decisiones de gestión incorrectas, pero no dolosas, adoptadas y/o ejecutadas o inejecutadas, por los Servidores Públicos y/o funcionarios con regímenes de responsabilidad similares a los de los servidores públicos, cuyos cargos se relacionan en el presente Pliego de Condiciones. Al igual que asumir los gastos de defensa (honorarios profesionales de abogados defensores y cauciones judiciales) según los límites establecidos en este documento, en todo tipo de procesos, incluidos los penales siempre que se trate de delitos no dolosos; civiles; administrativos; iniciados por entes de control (Procuraduría, Contraloría o similares), investigaciones o procesos internos, o; por cualquier organismo oficial, en los que se discuta la responsabilidad correspondiente a los cargos asegurados.
B10: Contratar la cobertura de seguro de Responsabilidad Civil Servidores públicos, de conformidad con lo previsto en el inciso tercero del artículo 43 de la Ley 2276 de 2022 “Por la cual se decreta el presupuesto de rentas y recursos de capital y ley de apropiaciones para la vigencia fiscal del 01 de enero al 31 de diciembre de 2023”, disposiciones que autorizan a las Entidades Estatales la contratación del seguro en los términos allí establecidos. (...) También podrán contratar un seguro de responsabilidad civil para servidores públicos, mediante el cual se ampare la responsabilidad de los mismos por actos o hechos no dolosos ocurridos en ejercicio de sus funciones, y los gastos de defensa en materia disciplinaria, penal y fiscal que deban realizar; estos últimos gastos los podrán pagar las entidades, siempre y cuando exista decisión definitiva que exonere de toda responsabilidad y no sea condenada la contraparte a las costas del proceso. (...).
B11: INFORMACIÓN GENERAL:
B12: TOMADOR: | C12: FONDO ROTATORIO DE LA REGISTRADURIA NACIONAL DEL ESTADO CIVIL | G12: NIT. | H12: =+'G1. COND ADIC. TRDMC'!H11 -> 899.999.737-9
B13: ASEGURADO: | C13: FONDO ROTATORIO DE LA REGISTRADURIA NACIONAL DEL ESTADO CIVIL Y/O REGISTRADURIA NACIONAL DEL ESTADO CIVIL Y/O CARGOS ASEGURADOS | G13: NIT. | H13: =+H12 -> 899.999.737-9
B14: BENEFICIARIO: | C14: REGISTRADURÍA NACIONAL DEL ESTADO CIVIL Y SU FONDO ROTATORIO Y/O CARGOS ASEGURADOS Y/O TERCEROS AFECTADOS | G14: NIT. | H14: =+H12 -> 899.999.737-9
B15: NOTA: | C15: CADA SUBLÍMITE O GASTOS OFRECIDOS EN FORMA ADICIONAL QUEDA CONTEMPLADO DENTRO DEL LÍMITE ASEGURADO.
B16: CRITERIOS DE EVALUACIÓN:
B17: CONDICIÓN REQUERIDA PARA EVALUACIÓN | E17: CRITERIO DE EVALUACIÓN | F17: PUNTAJE ESTABLECIDO | G17: OFRECIMIENTO DEL OFERENTE | H17: PUNTAJE OBTENIDO POR EL OFERENTE
B18: INCREMENTO DEL LÍMITE BÁSICO PARA LA COBERTURA DE PERJUICIOS O DETRIMENTO PATRIMONIAL. | E18: Se califica el aumento adicional del límite asegurado, únicamente relacionados en la tabla de rangos en la condición requerida para la evaluación. SIN COBRO DE PRIMA | F18: 4
B19: Límite de $5.000.000.000 (vigencia 7.4. Anexo No 1.) Incluido los Gastos de Defensa. NOTA: Solo se acepta propuesta en los límites señados en los siguientes rangos. Ofrecimientos de otros valores diferentes serán evaluados con cero (0) puntos), excepto que sea superior al último rango. | D19: PUNTOS
B20: Ofrecimiento adicional superior a $500.000.000 y hasta $800.000.000 | D20: 1
B21: Ofrecimiento adicional superior a $850.000.000 y hasta $1.200.000.000 | D21: 2
B22: Ofrecimiento adicional superior a $1.500.000.000 y hasta $2.000.000.000 | D22: 3
B23: Ofrecimiento adicional superior a $2.500.000.000 y hasta $5.000.000.000 | D23: 4
B24: INCREMENTO DEL LÍMITE BÁSICO PARA LA COBERTURA DE GASTOS DE DEFENSA. Incluidos en el límite de Perjuicios o Detrimento Patrimonial sin cobro de prima. NOTA: Solo se acepta propuesta en los límites señados en los siguientes rangos. Ofrecimientos de otros valores diferentes serán evaluados con cero (0) puntos), excepto que sea superior al último rango. | E24: Se califica el aumento adicional del límite asegurado, únicamente relacionados en la tabla de rangos en la condición requerida para la evaluación. SIN COBRO DE PRIMA | F24: =+D30 -> 10
B25: Límite de $2.500.000.000 (vigencia 7.4. Anexo No 1.) Incluidos en el límite de Perjuicios o Detrimento Patrimonial sin cobro de prima. | D25: PUNTOS
B26: Ofrecimiento adicional de $250.000.000 al límite básico. | D26: 2
B27: Ofrecimiento adicional de $500.000.000 al límite básico. | D27: 4
B28: Ofrecimiento adicional de $750.000.000 al límite básico. | D28: 6
B29: Ofrecimiento adicional de $1.000.000.000 al límite básico. | D29: 8
B30: Ofrecimiento adicional de $1.500.000.000 al límite básico. | D30: 10
B31: INCREMENTO DEL SUBLÍMITE DE GASTOS DE DEFENSA EN LOS PROCESOS DE INDAGACIÓN O INVESTIGACIONES PRELIMINARES o INDAGACIONES PREVIAS Y EN LA VINCULACIÓN PROCESAL HASTA FALLO QUE HAGA TRANSITO A COSA JUZGADA Incluidos en el límite de Perjuicios o Detrimento Patrimonial sin cobro de prima. | E31: Se califica el aumento adicional del límite asegurado conforme los valores indicados en los rangos. Salvo que sea superior al último rango para lo cual se calificara con el mayor puntaje del rango y los demás por regla de tres SIN COBRO DE PRIMA | F31: =+D36 -> 8
B32: SUBLÍMITE POR CARGO ASEGURADO
B33: El sublímite ofertado debe ser una cifra única aplicable para cada uno de los cargos asegurados | D33: PUNTOS
B34: Límite adicional al básico: $20.000.000 (vigencia 7.4. Anexo No 1.) | D34: 2
B35: Límite adicional al básico: $50.000.000 (vigencia 7.4. Anexo No 1.) | D35: 4
B36: Límite adicional al básico: $70.000.000 (vigencia 7.4. Anexo No 1.) | D36: 8
B37: ANTICIPO DE INDEMNIZACIÓN PARA EL PAGO DE HONORARIOS DEL 60%. NOTA: Si el aumento adicional del porcentaje de anticipo es condicionado a la demostración de la ocurrencia y cuantía, se califica con cero (0) puntos este factor. | E37: Se califica el aumento adicional del porcentaje ofrecido. Bajo la definición del texto de la condición obligatoria y sin estar condicionada a la demostración de ocurrencia y cuantía. | F37: 2
B38: NOTIFICACIÓN DE HECHOS O CIRCUNSTANCIAS. Si durante la vigencia de la póliza o del periodo extendido de reclamaciones, un asegurado o la entidad tomadora tuvieren conocimiento de cualquier hecho o circunstancia que razonablemente pudiera dar lugar en el futuro, a un siniestro o a generar una reclamación, los asegurados y/o la entidad tomadora, según fuere el caso, darán aviso a la compañía de seguros antes de la terminación de la vigencia de la póliza. En caso que con posterioridad a la terminación de la vigencia de la póliza efectivamente se formalice una reclamación derivada de los hechos o circunstancias que fueron notificados a la compañía de seguros en la forma establecida en esta cláusula, dicha reclamación se considerará presentada por primera vez en el mismo momento en que los hechos y circunstancias que la originaron fueron debidamente notificados o avisados a la aseguradora, razón por la cual la cobertura procederá bajo la póliza que se encontraba vigente en ese momento. | E38: Se califica el otorgamiento de esta condición | F38: 3
B39: EXTENSIÓN DE COBERTURA PARA PAGO DE MULTAS Y SANCIONES ADMINISTRATIVAS O TRIBUTARIAS (incluido en el límite de detrimento patrimonial) Se amparan los pagos de multas y sanciones de carácter administrativo o tributarias o indemnizaciones impuestas por cualquier organismo de control, siempre que la acción que da origen a la multa o sanción administrativa, tributaria o indemnización, que se derive de un acto incorrecto (error, omisión o negligencia) cometido sin dolo. Se extiende esta condición a los gastos en los que se discuta la imposición de multas y sanciones de carácter administrativo y tributario contra algún funcionario asegurado. | E39: Se califica el otorgamiento de esta condición | F39: 3
B40: Ofrecimiento de un sublímite de $50.000.000 evento /a gregado anual | D40: 0.5
B41: Ofrecimiento de un sublímite de $75.000.000 evento /a gregado anual | D41: 1
B42: Ofrecimiento de un sublímite de $100.000.000 evento /a gregado anual | D42: 1.5
B43: Ofrecimiento de un sublímite de $150.000.000 evento /a gregado anual | D43: 1.75
...

Sheet G2. COND ADIC. IRF
B3: =+'METODOLOGÍA DE EVALUACIÓN'!B2:G2 -> REGISTRADURÍA NACIONAL DEL ESTADO CIVIL Y SU FONDO ROTATORIO
B5: Formato No 10. CONDICIONES TÉCNICAS ADICIONALES
B6: GRUPO No. 2
B7: 8. PÓLIZA DE INFIDELIDAD Y RIESGOS FINANCIEROS
B8: OBJETO DEL SEGURO
B9: Amparar al asegurado las pérdidas, gastos y daños como consecuencia de actos deshonestos o fraudulentos cometidos por empleados del asegurado, solos o en concurso con otros, o con terceros, con la intención manifiesta de hacer que el asegurado sufra dicha pérdida. Se extienen el objeto del seguro a amparar el patrimonio del asegurado por la pérdida o daños de bienes propios y no propios por los cuales el Asegurado sea responsable tales como dineros efectivo y dinero en todas sus formas y representaciones, títulos valores y cualquier documento y forma material o inmaterial de representación de dinero, como consecuencia de los riesgos a que está expuesto el Asegurado en el giro normal de su actividad social.
B10: INFORMACIÓN GENERAL:
B11: TOMADOR: | C11: FONDO ROTATORIO DE LA REGISTRADURIA NACIONAL DEL ESTADO CIVIL | G11: NIT. | H11: =+'G1. COND ADIC. TRDMC'!H11 -> 899.999.737-9
B12: ASEGURADO: | C12: =+C11 -> FONDO ROTATORIO DE LA REGISTRADURIA NACIONAL DEL ESTADO CIVIL | G12: NIT. | H12: =+H11 -> 899.999.737-9
C13: REGISTRADURIA NACIONAL DEL ESTADO CIVIL | G13: NIT. | H13: 899.999.040-4
B14: BENEFICIARIO: | C14: =+C12 -> FONDO ROTATORIO DE LA REGISTRADURIA NACIONAL DEL ESTADO CIVIL | G14: NIT. | H14: =+H12 -> 899.999.737-9
C15: =+C13 -> REGISTRADURIA NACIONAL DEL ESTADO CIVIL | G15: NIT. | H15: =+H14 -> 899.999.737-9
B16: NOTA: | C16: CADA SUBLÍMITE O GASTOS OFRECIDOS EN FORMA ADICIONAL QUEDA CONTEMPLADO DENTRO DEL LÍMITE ASEGURADO.
B17: CRITERIOS DE EVALUACIÓN:
B18: CONDICIÓN REQUERIDA PARA EVALUACIÓN | E18: CRITERIO DE EVALUACIÓN | F18: PUNTAJE ESTABLECIDO | G18: OFRECIMIENTO DEL OFERENTE | H18: PUNTAJE OBTENIDO POR EL OFERENTE
A19: 46235 | B19: INCREMENTO DEL LÍMITE ASEGURADO $3.700.000.000 (vigencia 8.4 Anexo No. 1) | E19: Se califica el aumento adicional del LÍMITE ASEGURADO SIN COBRO DE PRIMA ADICIONAL | F19: 20
B20: ANTICIPO DE INDEMNIZACIÓN DEL 50%. NOTA: Si el aumento adicional del porcentaje de anticipo es condicionado a la demostración de la ocurrencia y cuantía, se califica con cero (0) puntos este factor. | D20: PUNTOS | E20: Se califica el aumento adicional del porcentaje ofrecido. Bajo la definición del texto de la condición obligatoria y sin estar condicionada a la demostración de ocurrencia y cuantía. | F20: 5
B21: BONO POR NO RECLAMACIÓN DIEZ (10%) POR CIENTO Está entendido y acordado que se otorga un descuento 10% de bono por no reclamación, pagadero a la expiración como devolución de prima bruta. Queda expresamente convenido y aceptado que la aseguradora efectuará el pago de la devolución del monto a que tenga derecho la entidad asegurada, por concepto de la Cláusula de Bono por no Reclamación, sin sujetar el mismo a la renovación y/o prórroga de la póliza, con la misma aseguradora y/o reaseguradores siempre y cuando la vigencia sea mínimo de un año. De igual forma se acuerdo que la aseguradora presentará a la entidad asegurada la liquidación de la devolución correspondiente, dentro de los treinta (30) días siguientes a la fecha de vencimiento de cada período anual de la vigencia de la póliza previa certificación expedida por el asegurado a la expiración de la póliza de no conocimiento de hechos o circunstancias que puedan afectar la póliza. “Lo anterior sujeto a carta de liberación de responsabilidad por parte del asegurado”. | E21: Se califica el otorgamiento de Bono por No reclamación | F21: 3 | I21: SI ESTA EN BÁSICA SE ELIMINA Y SE REESTRUCTURA EL PUNTAJE
B22: OFRECIMIENTO DE ESTUDIO DE RIESGOS CON COSTO A CARGO DE LA ASEGURADORA (SURVEY) Las recomendaciones, sugerencias y/o demás aspectos que se deriven del resultado de este estudio, no generarán exigencia de implementación de medidas de prevención y/o control de riesgo, aplicación de garantías o cualquier tipo de compromiso para el asegurado, así como la modificación de las condiciones ofertadas. El estudio deberá realizarse dentro de la vigencia de la póliza, el cronograma en el que se indiquen las actividades que desarrollará para tal efecto y los funcionarios y/o firma externa que llevarán a cabo las mismas. | E22: Se califica el otorgamiento del Estudio de Riesgos | F22: 2 | I22: SI ESTA EN BÁSICA SE ELIMINA Y SE REESTRUCTURA EL PUNTAJE
B23: MÁXIMO CALIFICACIÓN | F23: =SUM(F19:F22) -> 30 | G23: CALIFICACIÓN DEL OFERENTE | H23: =SUM(H20:H22) -> 0 | I23: =+'G2 . COND ADIC. RCSP'!I45 -> 0
B24: By: Tiger | H24: =+'METODOLOGÍA DE EVALUACIÓN'!G10 -> VERSIÓN: SEP 2026

Sheet G3. COND ADIC. RIESGO CYB
B3: =+'METODOLOGÍA DE EVALUACIÓN'!B2:G2 -> REGISTRADURÍA NACIONAL DEL ESTADO CIVIL Y SU FONDO ROTATORIO
B5: Formato No 10. CONDICIONES TÉCNICAS ADICIONALES
B6: GRUPO No. 3
B7: 9. PÓLIZA DE RIESGO CIBERNÉTICO (RESPONSABILIDAD CIVIL PROTECCIÓN DE DATOS)
B8: OBJETO DEL SEGURO
B9: Cubrir las pérdidas patrimoniales y Gastos de Defensa por la eventual responsabilidad de la REGISTRADURIA NACIONAL DEL ESTADO CIVIL Y SU FONDO ROTATORIO, por pérdidas o daños ocasionados a terceros, y por los daños o pérdidas a sus propios bienes e intereses, derivados de situaciones de riesgo en el manejo de información, que son objeto de la cobertura de la póliza, dentro y fuera del Territorio Nacional.
B10: INFORMACIÓN GENERAL:
B11: TOMADOR: | C11: FONDO ROTATORIO DE LA REGISTRADURIA NACIONAL DEL ESTADO CIVIL | G11: NIT. | H11: =+'G1. COND ADIC. TRDMC'!H11 -> 899.999.737-9
B12: ASEGURADO: | C12: =+C11 -> FONDO ROTATORIO DE LA REGISTRADURIA NACIONAL DEL ESTADO CIVIL | G12: NIT. | H12: =+H11 -> 899.999.737-9
C13: REGISTRADURIA NACIONAL DEL ESTADO CIVIL | G13: NIT. | H13: 899.999.040-4
B14: BENEFICIARIO: | C14: =+C12 -> FONDO ROTATORIO DE LA REGISTRADURIA NACIONAL DEL ESTADO CIVIL | G14: NIT. | H14: =+H12 -> 899.999.737-9
C15: =+C13 -> REGISTRADURIA NACIONAL DEL ESTADO CIVIL | G15: NIT. | H15: =+H13 -> 899.999.040-4
B16: NOTA: | C16: CADA SUBLÍMITE O GASTOS OFRECIDOS EN FORMA ADICIONAL QUEDA CONTEMPLADO DENTRO DEL LÍMITE ASEGURADO.
B17: CRITERIOS DE EVALUACIÓN:
B18: CONDICIÓN REQUERIDA PARA EVALUACIÓN | E18: CRITERIO DE EVALUACIÓN | F18: PUNTAJE ESTABLECIDO | G18: OFRECIMIENTO DEL OFERENTE | H18: PUNTAJE OBTENIDO POR EL OFERENTE
B19: INCREMENTO DEL LÍMITE BÁSICO DE $2.800.000.000 PARA LA COBERTURA DE RESPONSABILIDAD CIVIL PROTECCIÓN DE DATOS - RIESGO CIBERNÉTICO. NOTA: Solo se acepta propuesta en los límites señados en los siguientes rangos. Ofrecimientos de otros valores diferentes serán evaluados con cero (0) puntos), excepto que sea superior al último rango. | D19: PUNTOS | E19: Se califica el aumento adicional del límite asegurado. SIN COBRO DE PRIMA | F19: =+D22 -> 10
B20: Límite adicional al básico mayor a $300.000.000 y hasta $500.000.000 | D20: 2
B21: Límite adicional al básico mayor a $600.000.000 y hasta $800.000.000 | D21: 6
B22: Límite adicional al básico mayor a $1.000.000.000 y hasta $1.200.000.000 | D22: 10
B23: INVESTIGACIÓN Sublimite del 76% del valor asegurado por reclamo y en la vigencia. NOTA: Solo se acepta propuesta en los límites señados en los siguientes rangos. | D23: PUNTOS | E23: Se califica el aumento adicional del porcentaje ofrecido. | F23: =+D26 -> 3
B24: Límite adicional al básico mayor al 4% y hasta el 8%. | D24: 1
B25: Límite adicional al básico mayor al 8% y hasta el 10%. | D25: 2
B26: Límite adicional al básico mayor al 10% y hasta el 14%. | D26: 3
B27: NOTIFICACIÓN Y MONITOREO Sublimite del 76% del valor asegurado por reclamo y en la vigencia. NOTA: Solo se acepta propuesta en los límites señados en los siguientes rangos. | D27: PUNTOS | E27: Se califica el aumento adicional del porcentaje ofrecido. | F27: =+D30 -> 3
B28: Límite adicional al básico mayor al 4% y hasta el 8%. | D28: 1
B29: Límite adicional al básico mayor al 8% y hasta el 10%. | D29: 2
B30: Límite adicional al básico mayor al 10% y hasta el 14%. | D30: 3
B31: DATOS ELECTRÓNICOS Sublimite del 76% del valor asegurado por reclamo y en la vigencia. NOTA: Solo se acepta propuesta en los límites señados en los siguientes rangos. | D31: PUNTOS | E31: Se califica el aumento adicional del porcentaje ofrecido. | F31: =+D34 -> 3
B32: Límite adicional al básico mayor al 4% y hasta el 8%. | D32: 1
B33: Límite adicional al básico mayor al 8% y hasta el 10%. | D33: 2
B34: Límite adicional al básico mayor al 10% y hasta el 14%. | D34: 3
B35: CONTENIDO MULTIMEDIA Sublimite del 76% del valor asegurado por reclamo y en la vigencia. NOTA: Solo se acepta propuesta en los límites señados en los siguientes rangos. | D35: PUNTOS | E35: Se califica el aumento adicional del porcentaje ofrecido. | F35: =+D38 -> 3
B36: Límite adicional al básico mayor al 4% y hasta el 8%. | D36: 1
B37: Límite adicional al básico mayor al 8% y hasta el 10%. | D37: 2
B38: Límite adicional al básico mayor al 10% y hasta el 14%. | D38: 3
B39: INTERRUPCIÓN DE LA RED Sublimite del 50% del valor asegurado por reclamo y en y en el agregado anual. NOTA: Solo se acepta propuesta en los límites señados en los siguientes rangos. | D39: PUNTOS | E39: Se califica el aumento adicional del porcentaje ofrecido. | F39: =+D42 -> 3
B40: Límite adicional al básico mayor al 10% y hasta el 20%. | D40: 1
B41: Límite adicional al básico mayor al 25% y hasta el 35%. | D41: 2
B42: Límite adicional al básico mayor al 40% y hasta el 50%. | D42: 3
B43: INTERRUPCIÓN DE LA RED Periodo de horas de espera: 12 horas. | D43: PUNTOS | E43: Se califica la disminución de este periodo en horas. | F43: =+D47 -> 3
...
