Workbook

Sheet G1. CALIF. DEDUCIBLES TRDM
B2: REGISTRADURIA NACIONAL DEL ESTADO CIVIL Y SU FONDO ROTATORIO
B3: Formato No 11 EVALUACIÓN DE DEDUCIBLES
B4: GRUPO No. 1
B5: 1. PÓLIZA DE SEGURO DE TODO RIESGO DAÑOS MATERIALES COMBINADOS
B6: OBJETO DEL SEGURO
B7: Amparar, bajo la modalidad de Todo Riesgo Daños Materiales, las pérdidas, daños materiales o desaparición que sufran los bienes e intereses de propiedad de REGISTRADURIA NACIONAL DEL ESTADO CIVIL y su FONDO ROTATORIO, así como aquellos por los cuales sean o lleguen a ser legalmente responsables, ubicados en cualquier parte de territorio nacional o internacional, por cualquier causa no expresamente excluida en este Anexo Técnico. Las exclusiones serán taxativas y de interpretación restrictiva.
B8: INFORMACIÓN GENERAL:
B9: TOMADOR: | C9: FONDO ROTATORIO DE LA REGISTRADURIA NACIONAL DEL ESTADO CIVIL | I9: NIT. | J9: 899.999.737-7
B10: ASEGURADO: | C10: =+C9 -> FONDO ROTATORIO DE LA REGISTRADURIA NACIONAL DEL ESTADO CIVIL | I10: NIT. | J10: =+J9 -> 899.999.737-7
C11: REGISTRADURIA NACIONAL DEL ESTADO CIVIL | I11: NIT. | J11: 899.999.040-4
B12: BENEFICIARIO: | C12: =+C10 -> FONDO ROTATORIO DE LA REGISTRADURIA NACIONAL DEL ESTADO CIVIL | I12: NIT. | J12: =+J11 -> 899.999.040-4
C13: =+C11 -> REGISTRADURIA NACIONAL DEL ESTADO CIVIL | I13: NIT. | J13: 899.999.040-4
B14: CRITERIOS DE EVALUACIÓN:
B15: Los criterios establecidos tienen como objeto que la Entidad pueda obtener los mejores deducibles que le permitan lograr la mayor indemnización posible, frente a las pérdidas que pueda sufrir derivadas de un evento súbito e imprevisto que no depende de la voluntad del asegurado.
B16: DEDUCIBLES ACTUALES Y MÁXIMOS ACEPTABLES:
B17: Actualmente el FONDO ROTATORIO DE LA REGISTRADURIA NACIONAL DEL ESTADO CIVIL, tiene únicamente los siguientes deducibles aplicables:
B18: TERREMOTO, TEMBLOR, ERUPCION VOLCANICA: | E18: 1 % del valor sobre el valor asegurable del item afectado dentro del predio, sin mínimo
B19: ACTOS MAL INTENCIONADOS DE TERCEROS ASONADA, MOTÍN, CONMOCIÓN CIVIL O POPULAR Y HUELGA (INCLUIDO TERRORISMO Y SABOTAJE). | E19: 10 % del valor sobre el valor asegurable, Mínimo 1 SMMLV
B20: MODULO DE INCENDIO | E20: 15% del valor sobre el valor asegurable, Mínimo 3 SMMLV
B21: DEMÁS EVENTOS Y/O AMPAROS | E21: 2 % del valor sobre el valor asegurable, Mínimo 0,5 SMMLV
B22: PARÁMETROS PARA LA CALIFICACIÓN
B23: Para calificación del deducible se realizará aplicando los criterios aquí indicados y los puntajes señalados en las tablas de rangos relacionadas en estas.
B24: CALIFICACIÓN APLICABLE AL AMPARO DE TERREMOTO, TEMBLOR Y/O ERUPCIÓN VOLCÁNICA
B25: Las aseguradoras deben presentar únicamente propuestas de deducibles aplicables sobre el valor asegurado y/o valor asegurable, DEL ITEM AFECTADO DENTRO DEL PREDIO ASEGURADO para el amparo de Terremoto, temblor y/o erupción volcánica; propuestas que ofrezcan sobre el valor asegurado TOTAL y/o valor asegurable TOTAL, SERÁN OBJETO DE RECHAZO.
B26: De acuerdo con lo anterior y para los fines pertinentes de deducible y a efectos de la determinación del “valor asegurado o asegurable del ITEM AFECTADO DENTRO DEL PREDIO ASEGURADO”, se considerarán las siguientes definiciones:
B27: DEFINICIONES | E27: PREDIO ASEGURADO Es el sitio de ocurrencia del siniestro donde la Entidad lleva a cabo actividades y en el cual se encuentran contenidos los bienes asegurados, ya sea en uno o varios edificios o a la intemperie, si están diseñados para ello.
E28: ÍTEM AFECTADO Corresponde a la agrupación de bienes de iguales o similares características, tales como: Edificios, bienes muebles, equipos eléctricos, equipos electrónicos, maquinaria, equipo, mercancías, dineros y otros bienes de la Entidad en alcance de la definición establecida en las Anexo No. 1 Condiciones Obligatorias (Mínimas Técnicas).
E29: VALOR ASEGURADO O ASEGURABLE DEL ITEM AFECTADO DENTRO DEL PREDIO ASEGURADO Corresponde al monto asegurado o asegurable de los bienes contenidos en cada predio; es decir, los bienes correspondientes a los ítems de: Edificios, bienes muebles, equipos eléctricos, equipos electrónicos, maquinaria, equipo, mercancías, dineros y otros bienes de la Entidad en alcance de la definición establecida en las Anexo No. 1 Condiciones Obligatorias (Mínimas Técnicas).
E30: Se aclara que en caso de siniestro por pérdida o daño, que afecte solo algunos de los items antes citados, el valor asegurado o valor asegurable considerado para la aplicación del deducible corresponderá solamente al item o ítems correspondientes a los bienes afectados.
B31: TABLA DE CALIFICACIÓN
B33: Para efectos de la evaluación, se tendrán los siguientes ítems y puntajes: | F33: PUNTOS
B34: TERREMOTO, TEMBLOR Y/O ERUPCIÓN VOLCÁNICA: | F34: 2
B35: ACTOS MAL INTENCIONADOS DE TERCEROS ASONADA, MOTÍN, CONMOCIÓN CIVIL O POPULAR Y HUELGA (INCLUIDO TERRORISMO Y SABOTAJE). | E35: 4 | F35: 4
B36: MODULO DE INCENDIO | E36: 2 | F36: 2
B37: DEMÁS EVENTOS Y/O AMPAROS | E37: 2 | F37: 2
B38: TOTAL PUNTOS | F38: =SUM(F34:J37) -> 10
B39: NOTA: Para efectos de la evaluación y en aquellas tablas en los cuales se tengan rangos, en caso que el oferente indique "SE OTORGA" ó "SI" u otra expresión que implica que si esta otorgando el deducible, la Entidad entenderá que estos deducibles fueron ofrecidos con el valor del MÍNIMO RANGO y por lo tanto se asignará el puntaje respectivo de este rango y la aseguradora en caso de ser adjudicada su propuesta, expedirá la póliza con las condiciones mínimas de ese criterio en particular.
B40: 1- TERREMOTO, TEMBLOR Y/O ERUPCIÓN VOLCÁNICA:Dos (2) puntos
B41: RANGO DEL DEDUCIBLES PORCENTUAL | E41: PUNTAJE SOBRE EL VALOR DE LA PERDIDA | I41: DEDUCIBLE OFERTADO | J41: PUNTOS OBTENIDOS
B42: Sin deducible | E42: 2,00 Puntos | I42: (INDICAR EL DEDUCIBLE OFERTADO)
B43: Superior a 0,0% y hasta 0,2% | E43: 1,95 Puntos
B44: Superior a 0,2% y hasta 0,4% | E44: 1,90 Puntos
B45: Superior a 0,4% y hasta 0,6% | E45: 1,85 Puntos
B46: Superior a 0,6% y hasta 0,8% | E46: 1,80 Puntos
B47: Superior a 0,8% y hasta 1,0% | E47: 1,75 Puntos
B48: Superior a 1,0% | E48: SE RECHAZA LA OFERTA
B49: RANGO DEL DEDUCIBLES PORCENTUAL | E49: PUNTAJE SOBRE VALOR ASEGURADO del ítem afectado dentro del predio asegurado | I49: DEDUCIBLE OFERTADO | J49: PUNTOS OBTENIDOS
B50: Sin deducible | E50: 2,00 Puntos | I50: (INDICAR EL DEDUCIBLE OFERTADO)
B51: Superior a 0,0% y hasta 0,2% | E51: 1,70 Puntos
B52: Superior a 0,2% y hasta 0,4% | E52: 1,65 Puntos
B53: Superior a 0,4% y hasta 0,6% | E53: 1,60 Puntos
B54: Superior a 0,6% y hasta 0,8% | E54: 1,50 Puntos
B55: Superior a 0,8% y hasta 1,0% | E55: 1,40 Puntos
B56: Superior a 1,0% | E56: SE RECHAZA LA OFERTA
B57: RANGO DEL DEDUCIBLES PORCENTUAL | E57: PUNTAJE SOBRE VALOR ASEGURABLE del ítem afectado dentro del predio asegurado | I57: DEDUCIBLE OFERTADO | J57: PUNTOS OBTENIDOS
B58: Sin deducible | E58: 2,00 Puntos | I58: (INDICAR EL DEDUCIBLE OFERTADO)
B59: Superior a 0,0% y hasta 0,2% | E59: 1,30 Puntos
B60: Superior a 0,2% y hasta 0,4% | E60: 1,00 Puntos
B61: Superior a 0,4% y hasta 0,6% | E61: 0,50 Puntos
B62: Superior a 0,6% y hasta 0,8% | E62: 0,25 Puntos
B63: Superior a 0,8% y hasta 1,0% | E63: 0,10 Puntos
B64: Superior a 1,0% | E64: SE RECHAZA LA OFERTA
B65: 2- ACTOS MAL INTENCIONADOS DE TERCEROS ASONADA, MOTÍN, CONMOCIÓN CIVIL O POPULAR Y HUELGA (INCLUIDO TERRORISMO Y SABOTAJE): Cuatro (4) puntos
B66: RANGO DEL DEDUCIBLES PORCENTUAL | E66: PUNTAJE SOBRE EL VALOR DE LA PERDIDA | I66: DEDUCIBLE OFERTADO | J66: PUNTOS OBTENIDOS
B67: Sin deducible | E67: 2,50 Puntos | I67: (INDICAR EL DEDUCIBLE OFERTADO)
B68: Superior a 0,0% y hasta 2,0% | E68: 2,00 Puntos
B69: Superior a 2,0% y hasta 4,0% | E69: 1,50 Puntos
B70: Superior a 4,0% y hasta 6,0% | E70: 1,00 Puntos
B71: Superior a 6.0% y hasta 8,0% | E71: 0,50 Puntos
B72: Superior a 8,0% y hasta 10,0% | E72: 0,10 Puntos
B73: Superior a 10,0% | E73: SE RECHAZA LA OFERTA
B74: RANGO DEL DEDUCIBLES MÍNIMOS | E74: PUNTAJE SOBRE EL VALOR DE LA PERDIDA | I74: DEDUCIBLE OFERTADO | J74: PUNTOS OBTENIDOS
B75: Sin deducible | E75: 1,50 Puntos | I75: (INDICAR EL DEDUCIBLE OFERTADO)
B76: Superior a 0,0 SMMLV y hasta 0,25 SMMLV | E76: 1,25 Puntos
B77: Superior a 0,25 SMMLV y hasta 0,50 SMMLV | E77: 0,75 Puntos
B78: Superior a 0,50 SMMLV y hasta 0,75 SMMLV | E78: 0,50 Puntos
B79: Superior a 0,75 SMMLV y hasta 1,00 SMMLV | E79: 0,25 Puntos
B80: Superior a 1,00 SMMLV | E80: SE RECHAZA LA OFERTA
B81: 3-MODULO DE INCENDIO: Dos (2) puntos
B82: RANGO DEL DEDUCIBLES PORCENTUAL | E82: PUNTAJE SOBRE EL VALOR DE LA PERDIDA | I82: DEDUCIBLE OFERTADO | J82: PUNTOS OBTENIDOS
B83: Sin deducible | E83: 1,75 Puntos | I83: (INDICAR EL DEDUCIBLE OFERTADO)
B84: Superior a 0,0% y hasta 1,0% | E84: 1,70 Puntos
B85: Superior a 2,0% y hasta 3,0% | E85: 1,50 Puntos
B86: Superior a 3,0% y hasta 4,0% | E86: 1,00 Puntos
B87: Superior a 4.0% y hasta 5,0% | E87: 0,50 Puntos
B88: Superior a 5,0% | E88: SE RECHAZA LA OFERTA
B89: RANGO DEL DEDUCIBLES MÍNIMOS | E89: PUNTAJE SOBRE EL VALOR DE LA PERDIDA | I89: DEDUCIBLE OFERTADO | J89: PUNTOS OBTENIDOS
B90: Sin deducible | E90: 0,25 Puntos | I90: (INDICAR EL DEDUCIBLE OFERTADO)
B91: Superior a 0,0 SMMLV y hasta 0,25 SMMLV | E91: 0,23 Puntos
B92: Superior a 0,25 SMMLV y hasta 0,50 SMMLV | E92: 0,20 Puntos
B93: Superior a 0,50 SMMLV y hasta 0,75 SMMLV | E93: 0,15 Puntos
B94: Superior a 0,75 SMMLV y hasta 1,00 SMMLV | E94: 0,10 Puntos
B95: Superior a 1,00 SMMLV | E95: SE RECHAZA LA OFERTA
B96: 4- DEMÁS EVENTOS Y/O AMPAROS: Dos (2) puntos
B97: RANGO DEL DEDUCIBLES PORCENTUAL | E97: PUNTAJE SOBRE EL VALOR DE LA PERDIDA | I97: DEDUCIBLE OFERTADO | J97: PUNTOS OBTENIDOS
B98: Sin deducible | E98: 1,75 Puntos | I98: (INDICAR EL DEDUCIBLE OFERTADO)
B99: Superior a 0,0% y hasta 0,25% | E99: 1,70 Puntos
B100: Superior a 0,25% y hasta 0,50% | E100: 1,50 Puntos
B101: Superior a 0,50% y hasta 1,00% | E101: 1,00 Puntos
B102: Superior a 1,00% y hasta 1,50% | E102: 0,50 Puntos
...

Sheet G1. CALIF. DEDUCIBLES MANEJO
B2: =+'G1. CALIF. DEDUCIBLES TRDM'!B2 -> REGISTRADURIA NACIONAL DEL ESTADO CIVIL Y SU FONDO ROTATORIO
B3: Formato No 11 EVALUACIÓN DE DEDUCIBLES
B4: GRUPO No. 1
B5: 3. PÓLIZA DE SEGURO GLOBAL DE MANEJO PARA ENTIDADES OFICIALES
B6: OBJETO DEL SEGURO
B7: Amparar el menoscabo que sufran los fondos, valores y bienes de propiedad, bajo tenencia, control y/o responsabilidad de la REGISTRADURIA NACIONAL DEL ESTADO CIVIL y su FONDO ROTATORIO, ocasionado por empleados, funcionarios, servidores, sus reemplazos y demás personas comprendidas en la definición de trabajador o empleado de esta póliza, por actos que se tipifiquen como delitos contra la administración pública o fallos con responsabilidad fiscal, de conformidad con las coberturas y condiciones del presente anexo. La cobertura no estará condicionada a la existencia de sentencia penal o fallo fiscal cuando la ocurrencia y cuantía de la pérdida se encuentren acreditadas conforme al contrato y a la ley.
B8: INFORMACIÓN GENERAL:
B9: TOMADOR: | C9: =+'G1. CALIF. DEDUCIBLES TRDM'!C9 -> FONDO ROTATORIO DE LA REGISTRADURIA NACIONAL DEL ESTADO CIVIL | I9: NIT. | J9: =+'G1. CALIF. DEDUCIBLES TRDM'!J9 -> 899.999.737-7
B10: ASEGURADO: | C10: =+C9 -> FONDO ROTATORIO DE LA REGISTRADURIA NACIONAL DEL ESTADO CIVIL | I10: NIT. | J10: =+J9 -> 899.999.737-7
C11: REGISTRADURIA NACIONAL DEL ESTADO CIVIL | I11: NIT. | J11: 899.999.040-4
B12: BENEFICIARIO: | C12: =+C10 -> FONDO ROTATORIO DE LA REGISTRADURIA NACIONAL DEL ESTADO CIVIL | I12: NIT. | J12: =+J10 -> 899.999.737-7
C13: =+C11 -> REGISTRADURIA NACIONAL DEL ESTADO CIVIL | I13: NIT. | J13: =+J11 -> 899.999.040-4
B14: CRITERIOS DE EVALUACIÓN:
B15: Los criterios establecidos tienen como objeto que la Entidad pueda obtener los mejores deducibles que le permitan lograr la mayor indemnización posible, frente a las pérdidas que pueda sufrir derivadas de un evento súbito e imprevisto que no depende de la voluntad del asegurado.
B16: DEDUCIBLES ACTUALES Y MÁXIMOS ACEPTABLES:
B17: Actualmente la REGISTRADURÍA NACIONAL DEL ESTADO CIVIL, tiene únicamente los siguientes deducibles aplicables:
B18: TODA Y CADA PÉRDIDA | E18: 1% del valor sobre el valor de la pérdida, Mínimo 1 SMMLV
B19: PERSONAL NO IDENTIFICADO | E19: 5% del valor sobre el valor de la pérdida, Mínimo 2 SMMLV
B20: PERSONAL DE FIRMA ESPECIALIZADA | E20: 1% del valor sobre el valor de la pérdida, Mínimo 1 SMMLV
B21: CAJAS MENORES | E21: Sin Deducible
B22: TABLA DE CALIFICACIÓN
B23: Para efectos de la evaluación, se tendrán los siguientes ítems y puntajes: | F23: PUNTOS
B24: TODA Y CADA PÉRDIDA | F24: 4
B25: PERSONAL NO IDENTIFICADO | F25: 3
B26: PERSONAL DE FIRMA ESPECIALIZADA | F26: 3
B27: TOTAL PUNTOS | F27: =SUM(F24+F25+F26) -> 10
B28: NOTA: Para efectos de la evaluación y en aquellas tablas en los cuales se tengan rangos, en caso que el oferente indique "SE OTORGA" ó "SI" u otra expresión que implica que si esta otorgando el deducible, la Entidad entenderá que estos deducibles fueron ofrecidos con el valor del MÍNIMO RANGO y por lo tanto se asignará el puntaje respectivo de este rango y la aseguradora en caso de ser adjudicada su propuesta, expedirá la póliza con las condiciones mínimas de ese criterio en particular.
B29: 1- TODA Y CADA PÉRDIDA: Cuatro (4) puntos
B30: RANGO DE DEDUCIBLES PORCENTUAL | E30: PUNTAJE SOBRE EL VALOR DE LA PERDIDA | I30: DEDUCIBLE OFERTADO | J30: PUNTOS OBTENIDOS
B31: Sin deducible | E31: 2,00 Puntos | I31: (INDICAR EL DEDUCIBLE OFERTADO)
B32: Superior a 0,0% y hasta 0,5% | E32: 1,00 Puntos
B33: Superior a 0,5% y hasta 0,8% | E33: 0,50 Puntos
B34: Superior a 0,8% y hasta 1,0% | E34: 0,25 Puntos
B35: Superior a 1,0% | E35: SE RECHAZA LA OFERTA
B36: RANGO DEL DEDUCIBLES MÍNIMOS | E36: PUNTAJE SOBRE EL VALOR DE LA PERDIDA | I36: DEDUCIBLE OFERTADO | J36: PUNTOS OBTENIDOS
B37: Sin deducible | E37: 2,00 Puntos | I37: (INDICAR EL DEDUCIBLE OFERTADO)
B38: Superior a 0,0 SMMLV y hasta 0,5 SMMLV | E38: 1,00 Puntos
B39: Superior a 0,5 SMMLV y hasta 1,00 SMMLV | E39: 0,50 Puntos
B40: Superior a 1,00 SMMLV | E40: SE RECHAZA LA OFERTA
B41: 2- PERSONAL NO IDENTIFICADO: Tres (3) puntos
B42: RANGO DE DEDUCIBLES PORCENTUAL | E42: PUNTAJE SOBRE EL VALOR DE LA PERDIDA | I42: DEDUCIBLE OFERTADO | J42: PUNTOS OBTENIDOS
B43: Sin deducible | E43: 1,50 Puntos | I43: (INDICAR EL DEDUCIBLE OFERTADO)
B44: Superior a 0,0% y hasta 1,5% | E44: 1,00 Puntos
B45: Superior a 1,5% y hasta 3,0% | E45: 0,50 Puntos
B46: Superior a 3,0% y hasta 5,0% | E46: 0,25 Puntos
B47: Superior a 5,0% | E47: SE RECHAZA LA OFERTA
B48: RANGO DEL DEDUCIBLES MÍNIMOS | E48: PUNTAJE SOBRE EL VALOR DE LA PERDIDA | I48: DEDUCIBLE OFERTADO | J48: PUNTOS OBTENIDOS
B49: Sin deducible | E49: 1,50 Puntos | I49: (INDICAR EL DEDUCIBLE OFERTADO)
B50: Superior a 0,0 SMMLV y hasta 1,00 SMMLV | E50: 1,00 Puntos
B51: Superior a 1,0 SMMLV y hasta 2,00 SMMLV | E51: 0,50 Puntos
B52: Superior a 2,00 SMMLV | E52: SE RECHAZA LA OFERTA
B53: 3- PERSONAL DE FIRMA ESPECIALIZADA: Tres (3) puntos
B54: RANGO DE DEDUCIBLES PORCENTUAL | E54: PUNTAJE SOBRE EL VALOR DE LA PERDIDA | I54: DEDUCIBLE OFERTADO | J54: PUNTOS OBTENIDOS
B55: Sin deducible | E55: 1,50 Puntos | I55: (INDICAR EL DEDUCIBLE OFERTADO)
B56: Superior a 0,0% y hasta 0,5% | E56: 1,00 Puntos
B57: Superior a 0,5% y hasta 0,8% | E57: 0,50 Puntos
B58: Superior a 0,8% y hasta 1,0% | E58: 0,25 Puntos
B59: Superior a 1,0% | E59: SE RECHAZA LA OFERTA
B60: RANGO DEL DEDUCIBLES MÍNIMOS | E60: PUNTAJE SOBRE EL VALOR DE LA PERDIDA | I60: DEDUCIBLE OFERTADO | J60: PUNTOS OBTENIDOS
B61: Sin deducible | E61: 1,50 Puntos | I61: (INDICAR EL DEDUCIBLE OFERTADO)
B62: Superior a 0,0 SMMLV y hasta 0,5 SMMLV | E62: 1,00 Puntos
B63: Superior a 0,5 SMMLV y hasta 1,00 SMMLV | E63: 0,50 Puntos
B64: Superior a 1,00 SMMLV | E64: SE RECHAZA LA OFERTA
B65: By: Tiger | J65: =+'G1. CALIF. DEDUCIBLES TRDM'!J110 -> VERSIÓN: SEP 2026

Sheet G2. CALIF DEDUCIBLES IRF
B2: =+'[1]G1. CALIF. DEDUCIBLES TRDM'!B2:H2 -> REGISTRADURÍA NACIONAL DEL ESTADO CIVIL Y SU FONDO ROTATORIO
B3: FORMATO No. 11 EVALUACIÓN DE DEDUCIBLES
B4: GRUPO No. 2
B5: 7. PÓLIZA DE INFIDELIDAD Y RIESGOS FINANCIEROS
B6: OBJETO DEL SEGURO
B7: Amparar bajo las condiciones de la Póliza de Infidelidad de Riesgos Financieros – IRF, las perdidas, daños y gastos en que tenga que incurrir a la REGISTRADURÍA NACIONAL DEL ESTADO CIVIL Y SU FONDO ROTATORIO, como consecuencia de los riesgos a que está expuesto en el giro de su actividad, causados por empleados, terceros o en complicidad con éstos.
B8: INFORMACIÓN GENERAL:
B9: TOMADOR: | C9: FONDO ROTATORIO DE LA REGISTRADURÍA NACIONAL DEL ESTADO CIVIL | I9: NIT. | J9: =+'[1]G1. CALIF. DEDUCIBLES TRDM'!J9 -> 899.999.737-9
B10: ASEGURADO: | C10: =+C9 -> FONDO ROTATORIO DE LA REGISTRADURÍA NACIONAL DEL ESTADO CIVIL | I10: NIT. | J10: =+J9 -> 899.999.737-9
C11: REGISTRADURÍA NACIONAL DEL ESTADO CIVIL | I11: NIT. | J11: 899.999.040-4
B12: BENEFICIARIO: | C12: =+C9 -> FONDO ROTATORIO DE LA REGISTRADURÍA NACIONAL DEL ESTADO CIVIL | I12: NIT. | J12: =+J11 -> 899.999.040-4
C13: =+C11 -> REGISTRADURÍA NACIONAL DEL ESTADO CIVIL | I13: NIT. | J13: =+J11 -> 899.999.040-4
B14: CRITERIOS DE EVALUACIÓN:
B15: Los criterios establecidos tienen como objeto que la Entidad pueda obtener los mejores deducibles que le permitan lograr la mayor indemnización posible, frente a las pérdidas que pueda sufrir derivadas de un evento súbito e imprevisto que no depende de la voluntad del asegurado.
B16: DEDUCIBLES ACTUALES Y MÁXIMOS ACEPTABLES:
B17: TODA Y CADA PÉRDIDA: $50.000.000
B18: TABLA DE CALIFICACIÓN
B20: Para efectos de la evaluación, se tendrán los siguientes ítems y puntajes: | E20: PUNTOS
B21: 1- TODA Y CADA PÉRDIDA | E21: 10
B22: TOTAL PUNTOS | E22: =SUM(E21:H21) -> 10
B23: NOTA: Para efectos de la evaluación y en aquellas tablas en los cuales se tengan rangos, en caso que el oferente indique "SE OTORGA" ó "SI" u otra expresión que implica que si esta otorgando el deducible, la Entidad entenderá que estos deducibles fueron ofrecidos con el valor del MÍNIMO RANGO y por lo tanto se asignará el puntaje respectivo de este rango y la aseguradora en caso de ser adjudicada su propuesta, expedirá la póliza con las condiciones mínimas de ese criterio en particular.
B24: Se aclara que en caso de siniestro por pérdida o daño, que afecte solo algunos de los items antes citados, el valor asegurado o valor asegurable considerado para la aplicación del deducible corresponderá solamente al item o ítems correspondientes a los bienes afectados.
B25: 1- TODA Y CADA PÉRDIDA: Diez (10) puntos
B26: RANGO DE DEDUCIBLES EN COL$ | E26: PUNTAJE SOBRE EL VALOR DE LA PERDIDA | I26: DEDUCIBLE OFERTADO | J26: PUNTOS OBTENIDOS
B27: Sin deducible | E27: 10,00 Puntos | I27: (INDICAR EL DEDUCIBLE OFERTADO)
B28: Superior a $0 y hasta $10.000.000 | E28: 8,00 Puntos
B29: Superior a $10.000.000 y hasta $20.000.000 | E29: 5,00 Puntos
B30: Superior a $20.000.000 y hasta $30.000.000 | E30: 3,00 Puntos
B31: Superior a $30.000.000 y hasta $40.000.000 | E31: 1,00 Puntos
B32: Superior a $40.000.000 y hasta $50.000.000 | E32: 0,00 Puntos
B33: Superior a $50.000.000 | E33: SE RECHAZA LA OFERTA
B34: By: Tiger | J34: =+'G1. CALIF. DEDUCIBLES MANEJO'!J65 -> VERSIÓN: SEP 2026

Sheet G3- RIESGO CYBER
B2: =+'G1. CALIF. DEDUCIBLES TRDM'!B2 -> REGISTRADURIA NACIONAL DEL ESTADO CIVIL Y SU FONDO ROTATORIO
B3: Formato No 11 EVALUACIÓN DE DEDUCIBLES
B4: GRUPO No. 3
B5: 9. PÓLIZA DE RIESGO CIBERNÉTICO (RESPONSABILIDAD CIVIL PROTECCIÓN DE DATOS)
B6: OBJETO DEL SEGURO
B7: Cubrir las pérdidas patrimoniales y Gastos de Defensa por la eventual responsabilidad de la REGISTRADURIA NACIONAL DEL ESTADO CIVIL Y SU FONDO ROTATORIO, por pérdidas o daños ocasionados a terceros, y por los daños o pérdidas a sus propios bienes e intereses, derivados de situaciones de riesgo en el manejo de información, que son objeto de la cobertura de la póliza, dentro y fuera del Territorio Nacional.
B8: INFORMACIÓN GENERAL:
B9: TOMADOR: | C9: FONDO ROTATORIO DE LA REGISTRADURIA NACIONAL DEL ESTADO CIVIL | I9: NIT. | J9: =+'G1. CALIF. DEDUCIBLES TRDM'!J9 -> 899.999.737-7
B10: ASEGURADO: | C10: =+C9 -> FONDO ROTATORIO DE LA REGISTRADURIA NACIONAL DEL ESTADO CIVIL | I10: NIT. | J10: =+J9 -> 899.999.737-7
C11: REGISTRADURIA NACIONAL DEL ESTADO CIVIL | I11: NIT. | J11: 899.999.040-4
B12: BENEFICIARIO: | C12: =+C9 -> FONDO ROTATORIO DE LA REGISTRADURIA NACIONAL DEL ESTADO CIVIL | I12: NIT. | J12: =+J10 -> 899.999.737-7
C13: =+C11 -> REGISTRADURIA NACIONAL DEL ESTADO CIVIL | I13: NIT. | J13: =+J11 -> 899.999.040-4
B14: CRITERIOS DE EVALUACIÓN:
B15: Los criterios establecidos tienen como objeto que la Entidad pueda obtener los mejores deducibles que le permitan lograr la mayor indemnización posible, frente a las pérdidas que pueda sufrir derivadas de un evento súbito e imprevisto que no depende de la voluntad del asegurado.
B16: DEDUCIBLES ACTUALES Y MÁXIMOS ACEPTABLES:
B17: Actualmente la REGISTRADURIA NACIONAL DEL ESTADO CIVIL tiene únicamente los siguientes deducibles aplicables:
B18: TODA Y CADA PÉRDIDA: $200.000.000
B19: - GASTOS POR SERVICIOS DE INFORMÁTICA FORENSE. - GASTOS POR ASISTENCIA DE SERVICIOS DE PRIMERA RESPUESTA. - GASTOS DE DEFENSA | E19: SIN DEDUCIBLE
B20: Para calificación del deducible se realizará aplicando los criterios aquí indicados y los puntajes señalados en las tablas de rangos relacionadas en estas.
B21: TABLA DE CALIFICACIÓN
B23: Para efectos de la evaluación, se tendrán los siguientes ítems y puntajes: | E23: PUNTOS
B24: 1- TODA Y CADA PÉRDIDA | E24: 10
B25: TOTAL PUNTOS | E25: =SUM(E24:H24) -> 10
B26: NOTA: Para efectos de la evaluación y en aquellas tablas en los cuales se tengan rangos, en caso que el oferente indique "SE OTORGA" ó "SI" u otra expresión que implica que si esta otorgando el deducible, la Entidad entenderá que estos deducibles fueron ofrecidos con el valor del MÍNIMO RANGO y por lo tanto se asignará el puntaje respectivo de este rango y la aseguradora en caso de ser adjudicada su propuesta, expedirá la póliza con las condiciones mínimas de ese criterio en particular.
B27: Se aclara que en caso de siniestro por pérdida o daño, que afecte solo algunos de los items antes citados, el valor asegurado o valor asegurable considerado para la aplicación del deducible corresponderá solamente al item o ítems correspondientes a los bienes afectados.
B28: 1- TODA Y CADA PÉRDIDA: Diez (10) puntos
B29: RANGO DE DEDUCIBLES EN COL$ | E29: PUNTAJE SOBRE EL VALOR DE LA PERDIDA | I29: DEDUCIBLE OFERTADO | J29: PUNTOS OBTENIDOS
B30: Sin deducible | E30: 10,00 Puntos | I30: (INDICAR EL DEDUCIBLE OFERTADO)
B31: Superior a $0 y hasta $50.000.000 | E31: 8,00 Puntos
B32: Superior a $50.000.000 y hasta $100.000.000 | E32: 5,00 Puntos
B33: Superior a $100.000.000 y hasta $150.000.000 | E33: 3,00 Puntos
B34: Superior a $150.000.000 y hasta $200.000.000 | E34: 1,00 Puntos
B35: Superior a $200.000.000 | E35: SE RECHAZA LA OFERTA
B36: By: Tiger | J36: =+'G1. CALIF. DEDUCIBLES TRDM'!J110 -> VERSIÓN: SEP 2026
