Workbook

Sheet RESUMEN
C1: RESULTADO ESTUDIO DE MERCADO EM-413-2025 | K1: Versión: | L1: 3
K2: Fecha de aprobación: | L2: 45369
K3: Código: | L3: 18-01-FO-0004
A4: FECHA | C4: ENERO DE 2026
A5: PROCESO | C5: EJECUTAR LAS OBRAS DE ADECUACIÓN DE INFRAESTRUCTURA PREVISTAS PARA LAS SEDES PORVENIR, ASUNCIÓN BOCHICA Y CARVAJAL EN EL CONVENIO INTERADMINISTRATIVO 8541049, CONFORME A LOS ESTUDIOS TÉCNICOS, PLANOS Y PRESUPUESTO APROBADOS, PARA SU HABILITACIÓN COMO UNIDADES ALTAMENTE RESOLUTIVAS.
A6: PLAZO DEL CONTRATO | C6: SEIS (06) MESES
A7: INFORME DEL ESTUDIO | C7: El día 05 de diciembre de 2025, se solicitaron cotizaciones por medio de la plataforma de Colombia Compra Eficiente (SECOP II), con fecha de recepción final de cotizaciones hasta el día 29 de diciembre del 2025. Al publicar el proceso, la Subred evidencia que Seis Mil Trescientos Ochenta y Cuatro (6384) proveedores pertenecen al sector objeto del estudio, de ellos, dos (02) expresan su interés y dos (02) presentan su cotización al proceso en curso
B11: DESCRIPCIÓN | C11: =+PORVENIR!D11 -> VALOR SECRETARIA | D11: =+PORVENIR!G11 -> DP INGENIERIA SAS | E11: =+PORVENIR!I11 -> CONSTRUCTORA SANTOSP S.A.S | F11: =+PORVENIR!N184 -> VARIACIÓN PORCENTUAL | G11: =+PORVENIR!P184 -> VALOR TOTAL | H11: COSTO DE LA INTERVENTORÍA | I11: COSTO FINAL DE OBRA SIN INTERVENTORÍA
B12: PORVENIR | C12: =+PORVENIR!F198 -> 1.111982e+09 | D12: =+PORVENIR!H198 -> 1.1095141e+09 | E12: =+PORVENIR!J198 -> 1.1043752e+09 | F12: =+PORVENIR!N191 -> -0.036726916 | G12: =+PORVENIR!P198 -> 1.0906647e+09 | H12: 94638348 | I12: =+PORVENIR!P196 -> 9.9151341e+08
B13: ASUNCIÓN BOCHICA | C13: =+'ASUNCION BOCHICA'!F169 -> 9.9892902e+08 | D13: =+'ASUNCION BOCHICA'!H169 -> 9.9638786e+08 | E13: =+'ASUNCION BOCHICA'!J169 -> 9.8861426e+08 | F13: =+'ASUNCION BOCHICA'!N162 -> -0.031063574 | G13: =+'ASUNCION BOCHICA'!P169 -> 9.8201891e+08 | H13: 85016377 | I13: =+'ASUNCION BOCHICA'!P167 -> 8.9274446e+08
B14: CARVAJAL | C14: =+CARVAJAL!F159 -> 4.4785308e+08 | D14: =+CARVAJAL!H159 -> 4.4510902e+08 | E14: =+CARVAJAL!J159 -> 4.3888179e+08 | F14: =+CARVAJAL!N150 -> -0.082246758 | G14: =+CARVAJAL!P159 -> 4.313619e+08 | H14: 37102333 | I14: =+CARVAJAL!P157 -> 3.9214718e+08
B15: TOTAL | C15: =+C14+C13+C12 -> 2.5587641e+09 | D15: =+D14+D13+D12 -> 2.5510109e+09 | E15: =+E14+E13+E12 -> 2.5318713e+09 | F15: =AVERAGE(F12:F14) -> -0.050012416 | G15: =+G14+G13+G12 -> 2.5040456e+09 | H15: =H12+H13+H14 -> 2.1675706e+08 | I15: =I12+I13+I14 -> 2.276405e+09

Sheet PORVENIR
C1: RESULTADO ESTUDIO DE MERCADO EM-413-2025 | N1: Versión: | O1: 3
N2: Fecha de aprobación: | O2: 45369
N3: Código: | O3: 18-01-FO-0004
A4: FECHA | C4: ENERO DE 2026
A5: PROCESO | C5: EJECUTAR LAS OBRAS DE ADECUACIÓN DE INFRAESTRUCTURA PREVISTAS PARA LAS SEDES PORVENIR, ASUNCIÓN BOCHICA Y CARVAJAL EN EL CONVENIO INTERADMINISTRATIVO 8541049, CONFORME A LOS ESTUDIOS TÉCNICOS, PLANOS Y PRESUPUESTO APROBADOS, PARA SU HABILITACIÓN COMO UNIDADES ALTAMENTE RESOLUTIVAS.
A6: PLAZO DEL CONTRATO | C6: SEIS (06) MESES
A7: INFORME DEL ESTUDIO | C7: El día 05 de diciembre de 2025, se solicitaron cotizaciones por medio de la plataforma de Colombia Compra Eficiente (SECOP II), con fecha de recepción final de cotizaciones hasta el día 29 de diciembre del 2025. Al publicar el proceso, la Subred evidencia que Seis Mil Trescientos Ochenta y Cuatro (6384) proveedores pertenecen al sector objeto del estudio, de ellos, dos (02) expresan su interés y dos (02) presentan su cotización al proceso en curso
A10: 1 | B10: PRELIMINARES
A11: No (ITEM, ETAPAS O PROCESOS) | B11: ACTIVIDAD | C11: UNIDAD DE MEDIDA | D11: VALOR SECRETARIA | E11: CAN | F11: VALOR TOTAL REAL | G11: DP INGENIERIA SAS | I11: CONSTRUCTORA SANTOSP S.A.S | K11: PROMEDIO | L11: VALOR MINIMO | M11: VARIACIÓN EN PESOS | N11: VARIACIÓN PORCENTUAL | O11: VALOR TECHO UNITARIO | P11: VALOR TOTAL
G12: PRECIO UNITARIO | H12: VALOR TOTAL | I12: PRECIO UNITARIO | J12: VALOR TOTAL
A14: 1.1 | B14: =+VLOOKUP(A14,'[1]Consolidado Unitarios DIYT'!$B$11:$E$438,2,FALSE) -> LOCALIZACIÓN Y REPLANTEO OBRAS GENERALES | C14: =+VLOOKUP(A14,'[1]Consolidado Unitarios DIYT'!$B$11:$E$438,3,FALSE) -> M2 | D14: =+VLOOKUP(A14,'[1]Consolidado Unitarios DIYT'!$B$11:$E$438,4,FALSE) -> 7636 | E14: 575 | F14: =ROUND(D14*E14,0) -> 4390700 | G14: 7550 | H14: =+G14*E14 -> 4341250 | I14: 9650 | J14: =+I14*E14 -> 5548750 | K14: =AVERAGE(D14,G14,I14) -> 8278.6667 | L14: =SMALL((D14,G14,I14),1) -> 7550 | M14: =+L14-D14 -> -86 | N14: =(L14-D14)/L14 -> -0.011390728 | O14: =+L14 -> 7550 | P14: =+O14*E14 -> 4341250
A15: 1.8 | B15: =+VLOOKUP(A15,'[1]Consolidado Unitarios DIYT'!$B$11:$E$438,2,FALSE) -> DESMONTE DE MUROS INTERNOS, ATICOS EN LADRILLO HUECO O MACIZO DE ARCILLA COCIDA, BLOQUE DE CONCRETO SIMPLE, SISTEMA LIVIANO, EN CUAQUIER DIMENSIÓN Y ENRASE. INCLUYE: RETIRO DE SOBRECIMIENTOS, ESTRUCTURAS EN CONCRETO QUE ESTAN VINCULADOS A LOS MUROS COMO VIGUETAS AEREAS, DOVELAS. | C15: =+VLOOKUP(A15,'[1]Consolidado Unitarios DIYT'!$B$11:$E$438,3,FALSE) -> M2 | D15: =+VLOOKUP(A15,'[1]Consolidado Unitarios DIYT'!$B$11:$E$438,4,FALSE) -> 22495 | E15: 72.24 | F15: =ROUND(D15*E15,0) -> 1625039 | G15: 22200 | H15: =+G15*E15 -> 1603728 | I15: 21000 | J15: =+I15*E15 -> 1517040 | K15: =AVERAGE(D15,G15,I15) -> 21898.333 | L15: =SMALL((D15,G15,I15),1) -> 21000 | M15: =+L15-D15 -> -1495 | N15: =(L15-D15)/L15 -> -0.071190476 | O15: =+L15 -> 21000 | P15: =+O15*E15 -> 1517040
A16: 1.9 | B16: =+VLOOKUP(A16,'[1]Consolidado Unitarios DIYT'!$B$11:$E$438,2,FALSE) -> DESMONTE Y RETIRO DE PISOS EN BALDOSA DE MORTERO Y GRANO, TABLETA VITRIFICADA CON ARENON CHINO Y ADOQUIN EN CUALQUIER DIMENSIÓN. INCLUYE: RETIRO MORTERO DE NIVELACIÓN, PEGA, ENTRESUELO | C16: =+VLOOKUP(A16,'[1]Consolidado Unitarios DIYT'!$B$11:$E$438,3,FALSE) -> M2 | D16: =+VLOOKUP(A16,'[1]Consolidado Unitarios DIYT'!$B$11:$E$438,4,FALSE) -> 14989 | E16: 4 | F16: =ROUND(D16*E16,0) -> 59956 | G16: 14900 | H16: =+G16*E16 -> 59600 | I16: 16500 | J16: =+I16*E16 -> 66000 | K16: =AVERAGE(D16,G16,I16) -> 15463 | L16: =SMALL((D16,G16,I16),1) -> 14900 | M16: =+L16-D16 -> -89 | N16: =(L16-D16)/L16 -> -0.0059731544 | O16: 14750 | P16: =+O16*E16 -> 59000
A17: 1.10 | B17: =+VLOOKUP(A17,'[1]Consolidado Unitarios DIYT'!$B$11:$E$438,2,FALSE) -> DEMOLICIÓN DE PAÑETES EN MAL ESTADO INCLUYE CARGUE Y RETIRO DE SOBRANTES | C17: =+VLOOKUP(A17,'[1]Consolidado Unitarios DIYT'!$B$11:$E$438,3,FALSE) -> M2 | D17: =+VLOOKUP(A17,'[1]Consolidado Unitarios DIYT'!$B$11:$E$438,4,FALSE) -> 16803 | E17: 30 | G17: 16500 | I17: 14500 | K17: =AVERAGE(D17,G17,I17) -> 15934.333 | L17: =SMALL((D17,G17,I17),1) -> 14500 | M17: =+L17-D17 -> -2303 | N17: =(L17-D17)/L17 -> -0.15882759 | O17: =+L17 -> 14500 | P17: =+O17*E17 -> 435000
A18: 1.11 | B18: =+VLOOKUP(A18,'[1]Consolidado Unitarios DIYT'!$B$11:$E$438,2,FALSE) -> DESMONTE DE CANALES DE AGUAS LLUVIAS EN MAL ESTADO INCLUYE CARGUE Y RETIRO DE SOBRANTES | C18: =+VLOOKUP(A18,'[1]Consolidado Unitarios DIYT'!$B$11:$E$438,3,FALSE) -> M | D18: =+VLOOKUP(A18,'[1]Consolidado Unitarios DIYT'!$B$11:$E$438,4,FALSE) -> 6049 | E18: 70 | F18: =ROUND(D18*E18,0) -> 423430 | G18: 6000 | H18: =+G18*E18 -> 420000 | I18: 7000 | J18: =+I18*E18 -> 490000 | K18: =AVERAGE(D18,G18,I18) -> 6349.6667 | L18: =SMALL((D18,G18,I18),1) -> 6000 | M18: =+L18-D18 -> -49 | N18: =(L18-D18)/L18 -> -0.0081666667 | O18: =+L18 -> 6000 | P18: =+O18*E18 -> 420000
A19: 1.12 | B19: =+VLOOKUP(A19,'[1]Consolidado Unitarios DIYT'!$B$11:$E$438,2,FALSE) -> DESMONTE DE CIELO FALSO EN MAL ESTADO INCLUYE CARGUE Y RETIRO DE SOBRANTES | C19: =+VLOOKUP(A19,'[1]Consolidado Unitarios DIYT'!$B$11:$E$438,3,FALSE) -> M2 | D19: =+VLOOKUP(A19,'[1]Consolidado Unitarios DIYT'!$B$11:$E$438,4,FALSE) -> 13099 | E19: 450 | F19: =ROUND(D19*E19,0) -> 5894550 | G19: 12900 | H19: =+G19*E19 -> 5805000 | I19: 11200 | J19: =+I19*E19 -> 5040000 | K19: =AVERAGE(D19,G19,I19) -> 12399.667 | L19: =SMALL((D19,G19,I19),1) -> 11200 | M19: =+L19-D19 -> -1899 | N19: =(L19-D19)/L19 -> -0.16955357 | O19: =+L19 -> 11200 | P19: =+O19*E19 -> 5040000
A20: 1.13 | B20: =+VLOOKUP(A20,'[1]Consolidado Unitarios DIYT'!$B$11:$E$438,2,FALSE) -> DESMONTE Y RETIRO DE APARATOS HIDROSANITARIOS. INCLUYE: RETIRO DE GRIFERIA. TAPONADA DE SALIDAS HIDRÁULICAS Y SANITARIAS. SANITARIOS | C20: =+VLOOKUP(A20,'[1]Consolidado Unitarios DIYT'!$B$11:$E$438,3,FALSE) -> UN | D20: =+VLOOKUP(A20,'[1]Consolidado Unitarios DIYT'!$B$11:$E$438,4,FALSE) -> 100775.33 | E20: 48 | F20: =ROUND(D20*E20,0) -> 4837216 | G20: 100550 | H20: =+G20*E20 -> 4826400 | I20: 90500 | J20: =+I20*E20 -> 4344000 | K20: =AVERAGE(D20,G20,I20) -> 97275.11 | L20: =SMALL((D20,G20,I20),1) -> 90500 | M20: =+L20-D20 -> -10275.33 | N20: =(L20-D20)/L20 -> -0.11353956 | O20: =+L20 -> 90500 | P20: =+O20*E20 -> 4344000
A21: 1.14 | B21: =+VLOOKUP(A21,'[1]Consolidado Unitarios DIYT'!$B$11:$E$438,2,FALSE) -> DEMOLICION, RETIRO Y DISPOSICIÓN FINAL DE TRAMOS DE ALEROS EXISTENTES EN CUBIERTA EN TEJA DE BARRO, PLASTICA, ZINC O ASBESTO CEMENTO EXISTENTES | C21: =+VLOOKUP(A21,'[1]Consolidado Unitarios DIYT'!$B$11:$E$438,3,FALSE) -> M2 | D21: =+VLOOKUP(A21,'[1]Consolidado Unitarios DIYT'!$B$11:$E$438,4,FALSE) -> 50226 | E21: 480 | F21: =ROUND(D21*E21,0) -> 24108480 | G21: 50100 | H21: =+G21*E21 -> 24048000 | I21: 55640 | J21: =+I21*E21 -> 26707200 | K21: =AVERAGE(D21,G21,I21) -> 51988.667 | L21: =SMALL((D21,G21,I21),1) -> 50100 | M21: =+L21-D21 -> -126 | N21: =(L21-D21)/L21 -> -0.0025149701 | O21: =+L21 -> 50100 | P21: =+O21*E21 -> 24048000
A22: 1.17 | B22: =+VLOOKUP(A22,'[1]Consolidado Unitarios DIYT'!$B$11:$E$438,2,FALSE) -> DESMONTE Y RETIRO DE MARCOS CON SU RESPECTIVA ALA DE PUERTAS METÁLICAS, ALUMINIO Y MADERA PARA TODO TIPO DE MURO. DE ANCHO VARIABLE ENTRE 0.70-1.40 M | C22: =+VLOOKUP(A22,'[1]Consolidado Unitarios DIYT'!$B$11:$E$438,3,FALSE) -> UN | D22: =+VLOOKUP(A22,'[1]Consolidado Unitarios DIYT'!$B$11:$E$438,4,FALSE) -> 23150 | E22: 43 | F22: =ROUND(D22*E22,0) -> 995450 | G22: 23000 | H22: =+G22*E22 -> 989000 | I22: 32000 | J22: =+I22*E22 -> 1376000 | K22: =AVERAGE(D22,G22,I22) -> 26050 | L22: =SMALL((D22,G22,I22),1) -> 23000 | M22: =+L22-D22 -> -150 | N22: =(L22-D22)/L22 -> -0.0065217391 | O22: =+L22 -> 23000 | P22: =+O22*E22 -> 989000
A23: 1.18 | B23: =+VLOOKUP(A23,'[1]Consolidado Unitarios DIYT'!$B$11:$E$438,2,FALSE) -> DESMONTE DE PUNTOS HIDRÁULICOS CON FILTRACIONES INCLUYE CARGUE Y RETIRO DE SOBRANTES (INCLUYE LOS TRABAJOS DE REGATAS Y DEMOLICIONES) | C23: =+VLOOKUP(A23,'[1]Consolidado Unitarios DIYT'!$B$11:$E$438,3,FALSE) -> UN | D23: =+VLOOKUP(A23,'[1]Consolidado Unitarios DIYT'!$B$11:$E$438,4,FALSE) -> 36690 | E23: 4 | F23: =ROUND(D23*E23,0) -> 146760 | G23: 36500 | H23: =+G23*E23 -> 146000 | I23: 35000 | J23: =+I23*E23 -> 140000 | K23: =AVERAGE(D23,G23,I23) -> 36063.333 | L23: =SMALL((D23,G23,I23),1) -> 35000 | M23: =+L23-D23 -> -1690 | N23: =(L23-D23)/L23 -> -0.048285714 | O23: =+L23 -> 35000 | P23: =+O23*E23 -> 140000
A24: 1.19 | B24: =+VLOOKUP(A24,'[1]Consolidado Unitarios DIYT'!$B$11:$E$438,2,FALSE) -> DESMONTE DE PUNTOS SANITARIOS CON FILTRACIONES D=2-4" INCLUYE CARGUE Y RETIRO DE SOBRANTES (INCLUYE LOS TRABAJOS DE REGATAS Y DEMOLICIONES) | C24: =+VLOOKUP(A24,'[1]Consolidado Unitarios DIYT'!$B$11:$E$438,3,FALSE) -> UN | D24: =+VLOOKUP(A24,'[1]Consolidado Unitarios DIYT'!$B$11:$E$438,4,FALSE) -> 34197 | E24: 4 | F24: =ROUND(D24*E24,0) -> 136788 | G24: 34000 | H24: =+G24*E24 -> 136000 | I24: 45000 | J24: =+I24*E24 -> 180000 | K24: =AVERAGE(D24,G24,I24) -> 37732.333 | L24: =SMALL((D24,G24,I24),1) -> 34000 | M24: =+L24-D24 -> -197 | N24: =(L24-D24)/L24 -> -0.0057941176 | O24: =+L24 -> 34000 | P24: =+O24*E24 -> 136000
A25: 1.23 | B25: =+VLOOKUP(A25,'[1]Consolidado Unitarios DIYT'!$B$11:$E$438,2,FALSE) -> SUMINISTRO, INSTALACIÓN, MONTAJE Y DESMONTAJE DE CERRAMIENTO PROVISIONAL EN DRYWALL PARA OBRAS. ESTRUCTURA TEMPORAL, FÁCIL DE INSTALAR Y DESINSTALAR, CONSTRUIDA CON PLACAS DE YESO Y PERFILES DE ACERO GALVANIZADO PARA DELIMITAR ESPACIOS DE TRABAJO SEGUROS Y CONTROLADOS, PROTEGER A LOS PACIENTES Y AL PERSONAL DE POLVO Y ESCOMBROS, Y AISLAR ÁREAS DURANTE LA CONSTRUCCIÓN O REMODELACIÓN DE LAS UNIDADES DE SERVICIOS DE SALUD | C25: =+VLOOKUP(A25,'[1]Consolidado Unitarios DIYT'!$B$11:$E$438,3,FALSE) -> M2 | D25: =+VLOOKUP(A25,'[1]Consolidado Unitarios DIYT'!$B$11:$E$438,4,FALSE) -> 133141 | E25: 30 | F25: =ROUND(D25*E25,0) -> 3994230 | G25: 132900 | H25: =+G25*E25 -> 3987000 | I25: 142500 | J25: =+I25*E25 -> 4275000 | K25: =AVERAGE(D25,G25,I25) -> 136180.33 | L25: =SMALL((D25,G25,I25),1) -> 132900 | M25: =+L25-D25 -> -241 | N25: =(L25-D25)/L25 -> -0.0018133935 | O25: =+L25 -> 132900 | P25: =+O25*E25 -> 3987000
A26: SUMAS TOTALES PRELIMINARES | D26: =SUM(D14:D25) -> 459250.33 | E26: =SUM(E14:E25) -> 1810.24 | F26: =SUM(F14:F25) -> 46612599 | G26: =SUM(G14:G25) -> 457100 | H26: =SUM(H14:H25) -> 46361978 | I26: =SUM(I14:I25) -> 480490 | J26: =SUM(J14:J25) -> 49683990 | K26: =SUM(K14:K25) -> 465613.44 | ... M26: =SUM(M14:M25) -> -18600.33 | N26: =AVERAGE(N14:N25) -> -0.05029764 | O26: =SUM(O14:O25) -> 440500 | P26: =SUM(P14:P25) -> 45456290
A28: 2 | B28: EXCAVACIONES
A29: No (ITEM, ETAPAS O PROCESOS) | B29: ACTIVIDAD | C29: UNIDAD DE MEDIDA | D29: VALOR UNITARIO ACTUALIZADO | E29: CAN | F29: VALORTOTAL | G29: DP INGENIERIA SAS | I29: CONSTRUCTORA SANTOSP S.A.S | K29: PROMEDIO | L29: VALOR MINIMO | M29: VARIACIÓN EN PESOS | N29: VARIACIÓN PORCENTUAL | O29: VALOR TECHO UNITARIO | P29: VALOR TOTAL
G30: PRECIO UNITARIO | H30: VALOR TOTAL | I30: PRECIO UNITARIO | J30: VALOR TOTAL
A32: 2.1 | B32: EXCAVACION MANUAL EN MATERIAL COMUN INCLUYE CARGUE Y RETIRO DE SOBRANTES (trasiego de 15 m.) | C32: M3 | D32: 150745.67 | E32: 20 | F32: =ROUND(D32*E32,0) -> 3014913 | G32: 150500 | H32: =+G32*E32 -> 3010000 | I32: 175400 | J32: =+I32*E32 -> 3508000 | K32: =AVERAGE(D32,G32,I32) -> 158881.89 | L32: =SMALL((D32,G32,I32),1) -> 150500 | M32: =+L32-D32 -> -245.66667 | N32: =(L32-D32)/L32 -> -0.0016323367 | O32: =+L32 -> 150500 | P32: =+O32*E32 -> 3010000
A33: 2.2 | B33: Regata en muro y piso, incluye retiro de material sobrante | C33: ml | D33: 18000 | E33: 20 | F33: =ROUND(D33*E33,0) -> 360000 | G33: 17850 | H33: =+G33*E33 -> 357000 | I33: 20000 | J33: =+I33*E33 -> 400000 | K33: =AVERAGE(D33,G33,I33) -> 18616.667 | L33: =SMALL((D33,G33,I33),1) -> 17850 | M33: =+L33-D33 -> -150 | N33: =(L33-D33)/L33 -> -0.0084033613 | O33: =+L33 -> 17850 | P33: =+O33*E33 -> 357000
A34: SUMAS TOTALES EXCAVACIONES | D34: =SUM(D32:D33) -> 168745.67 | E34: =SUM(E32:E33) -> 40 | F34: =SUM(F32:F33) -> 3374913 | G34: =SUM(G32:G33) -> 168350 | H34: =SUM(H32:H33) -> 3367000 | I34: =SUM(I32:I33) -> 195400 | J34: =SUM(J32:J33) -> 3908000 | K34: =SUM(K32:K33) -> 177498.56 | ... M34: =SUM(M32:M33) -> -395.66667 | N34: =AVERAGE(N32:N33) -> -0.005017849 | O34: =SUM(O32:O33) -> 168350 | P34: =SUM(P32:P33) -> 3367000
A36: 4 | B36: OBRAS EN CUBIERTA
A37: No (ITEM, ETAPAS O PROCESOS) | B37: ACTIVIDAD | C37: UNIDAD DE MEDIDA | D37: VALOR UNITARIO ACTUALIZADO | E37: CAN | F37: VALORTOTAL | G37: DP INGENIERIA SAS | I37: CONSTRUCTORA SANTOSP S.A.S | K37: PROMEDIO | L37: VALOR MINIMO | M37: VARIACIÓN EN PESOS | N37: VARIACIÓN PORCENTUAL | O37: VALOR TECHO UNITARIO | P37: VALOR TOTAL
G38: PRECIO UNITARIO | H38: VALOR TOTAL | I38: PRECIO UNITARIO | J38: VALOR TOTAL
A40: 4.1 | B40: =+VLOOKUP(A40,'[1]Consolidado Unitarios DIYT'!$B$11:$E$438,2,FALSE) -> ESTRUCTURA METÁLICA CUBIERTAS INCLUYE: CORREAS, CONTRAVIENTOS, TENSORES, COLUMNAS, VIGAS DE AMARRE, ANCLAJES, TORNILLERÍA, SOLDADURAS, PLATINERÍA, ANTICORROSIVO Y PINTURA. CONTEMPLA TAMBIÉN: FABRICACIÓN, TRANSPORTE, SUMINISTRO Y MONTAJE. (Fabricación, suministro, transporte, montaje y pintura de elementos en metal para conformar la estructura metálica de cubierta con anclajes, columnas, vigas, correas, conexiones, templetes, en: Aceros ASTM A-36 para láminas, A-572 grado 50 y A-36 para ángulos en 1-1/2”, A-500 grado C para tuberías, ASTM A 1011 grado 50 f’y=3400 Kgf/cm2 de 2 mm de espesor para perlines, ASTM A 1008 grado 40 f’y=2750 Kgf/cm2 de 1.5 mm de espesor para perlines, soldaduras E70XX y E60XX, tornillería GR-5 ZINCADA (A-325) con limpieza manual SSPC-SP2, anticorrosivo alquídico 1.5 MILS terminado esmalte 1.5 MILS) Los trabajos deben contemplar el uso de andamios certificado y todos los elementos requeridos para esta actividad. | C40: =+VLOOKUP(A40,'[1]Consolidado Unitarios DIYT'!$B$11:$E$438,3,FALSE) -> KG | D40: =+VLOOKUP(A40,'[1]Consolidado Unitarios DIYT'!$B$11:$E$438,4,FALSE) -> 163862 | E40: 426 | F40: =ROUND(D40*E40,0) -> 69805212 | G40: 163450 | H40: =+G40*E40 -> 69629700 | I40: 161540 | J40: =+I40*E40 -> 68816040 | K40: =AVERAGE(D40,G40,I40) -> 162950.67 | L40: =SMALL((D40,G40,I40),1) -> 161540 | M40: =+L40-D40 -> -2322 | N40: =(L40-D40)/L40 -> -0.014374149 | O40: =+L40 -> 161540 | P40: =+O40*E40 -> 68816040
A41: 4.2 | B41: =+VLOOKUP(A41,'[1]Consolidado Unitarios DIYT'!$B$11:$E$438,2,FALSE) -> MEDIACAÑA EN MORTERO IMPERMABILIZADO 1:4 PARA LOSAS TECNICAS | C41: =+VLOOKUP(A41,'[1]Consolidado Unitarios DIYT'!$B$11:$E$438,3,FALSE) -> ML | D41: =+VLOOKUP(A41,'[1]Consolidado Unitarios DIYT'!$B$11:$E$438,4,FALSE) -> 46523 | E41: 50 | F41: =ROUND(D41*E41,0) -> 2326150 | G41: 46250 | H41: =+G41*E41 -> 2312500 | I41: 38500 | J41: =+I41*E41 -> 1925000 | K41: =AVERAGE(D41,G41,I41) -> 43757.667 | L41: =SMALL((D41,G41,I41),1) -> 38500 | M41: =+L41-D41 -> -8023 | N41: =(L41-D41)/L41 -> -0.20838961 | O41: =+L41 -> 38500 | P41: =+O41*E41 -> 1925000
A42: 4.3 | B42: =+VLOOKUP(A42,'[1]Consolidado Unitarios DIYT'!$B$11:$E$438,2,FALSE) -> PROTECCION DE LOSAS TECNICAS CON MORTERO IMPERMEABILIZADOS | C42: =+VLOOKUP(A42,'[1]Consolidado Unitarios DIYT'!$B$11:$E$438,3,FALSE) -> M2 | D42: =+VLOOKUP(A42,'[1]Consolidado Unitarios DIYT'!$B$11:$E$438,4,FALSE) -> 488626 | E42: 50 | F42: =ROUND(D42*E42,0) -> 24431300 | G42: 488300 | H42: =+G42*E42 -> 24415000 | I42: 488300 | J42: =+I42*E42 -> 24415000 | K42: =AVERAGE(D42,G42,I42) -> 488408.67 | L42: =SMALL((D42,G42,I42),1) -> 488300 | M42: =+L42-D42 -> -326 | N42: =(L42-D42)/L42 -> -0.00066762236 | O42: =+L42 -> 488300 | P42: =+O42*E42 -> 24415000
A43: 4.4 | B43: =+VLOOKUP(A43,'[1]Consolidado Unitarios DIYT'!$B$11:$E$438,2,FALSE) -> SUMINISTRO Y REPOSICIÓN CUBIERTA EN CUBIERTA ARQUITECTONICA PARA ZONAS EN MAL ESTADO. Teja modular similar a la referencia Superthermo 0.35 de Ajover. La cual debe tener un e = 1.9 mm; resistencia térmica ( R ) de 0.0133 mhºc/Kcal y conductividad térmica ( K ) de 0.211 Kcal/mhºc, en acero galvanizado, con foil de aluminio, forma trapezoidal, para las cubiertas del proyecto, de acuerdo a lo señalado en los Planos del Proyecto Arquitectónico y de Detalles.Los trabajos deben contemplar el uso de andamios certificado y todos los elementos requeridos para esta actividad. El costo incluye todos los costos de fijación y remates necesarios para el correcto funcionamiento | C43: =+VLOOKUP(A43,'[1]Consolidado Unitarios DIYT'!$B$11:$E$438,3,FALSE) -> M2 | D43: =+VLOOKUP(A43,'[1]Consolidado Unitarios DIYT'!$B$11:$E$438,4,FALSE) -> 76086 | E43: 372 | F43: =ROUND(D43*E43,0) -> 28303992 | G43: 75900 | H43: =+G43*E43 -> 28234800 | I43: 81000 | J43: =+I43*E43 -> 30132000 | K43: =AVERAGE(D43,G43,I43) -> 77662 | L43: =SMALL((D43,G43,I43),1) -> 75900 | M43: =+L43-D43 -> -186 | N43: =(L43-D43)/L43 -> -0.0024505929 | O43: =+L43 -> 75900 | P43: =+O43*E43 -> 28234800
A44: 4.6 | B44: =+VLOOKUP(A44,'[1]Consolidado Unitarios DIYT'!$B$11:$E$438,2,FALSE) -> SUMINISTRO Y REPOSICIÓN de Domos Fabricados con burbuja de acrílico y policarbonato de alta calidad. Fabricados con burbuja de acrílico y de policarbonato de alta calidad, el marco y perfil son de aluminio R4043. Espesor de la lámina 3 mm 44cm x 44 cm o 60 cm x 60cm Color de la lámina Perla, Blanco o Humo. El costo incluye todos los costos de fijación y remates necesarios para el correcto funcionamiento | C44: =+VLOOKUP(A44,'[1]Consolidado Unitarios DIYT'!$B$11:$E$438,3,FALSE) -> UN | D44: =+VLOOKUP(A44,'[1]Consolidado Unitarios DIYT'!$B$11:$E$438,4,FALSE) -> 305070 | E44: 300 | F44: =ROUND(D44*E44,0) -> 91521000 | G44: 305000 | H44: =+G44*E44 -> 91500000 | I44: 300000 | J44: =+I44*E44 -> 90000000 | K44: =AVERAGE(D44,G44,I44) -> 303356.67 | L44: =SMALL((D44,G44,I44),1) -> 300000 | M44: =+L44-D44 -> -5070 | N44: =(L44-D44)/L44 -> -0.0169 | O44: =+L44 -> 300000 | P44: =+O44*E44 -> 90000000
A45: 4.7 | B45: SUMINISTRO Y REPOSICIÓN CUBIERTA EN POLICARBONATO PARA ZONAS EN MAL ESTADO. Láminas en POLICARBONATO multipared con características de rigidez, bajo peso y aislamiento térmico. Estructura alveolar.Tipo Pesada: Lámina en policarbonato con estructura de doble pared en espesores de 6mm. El costo incluye todos los costos de fijación y remates necesarios para el correcto funcionamiento | C45: M2 | D45: 395637 | E45: 10 | F45: =ROUND(D45*E45,0) -> 3956370 | G45: 395300 | H45: =+G45*E45 -> 3953000 | I45: 370000 | J45: =+I45*E45 -> 3700000 | K45: =AVERAGE(D45,G45,I45) -> 386979 | L45: =SMALL((D45,G45,I45),1) -> 370000 | M45: =+L45-D45 -> -25637 | N45: =(L45-D45)/L45 -> -0.069289189 | O45: =+L45 -> 370000 | P45: =+O45*E45 -> 3700000
A46: 4.8 | B46: =+VLOOKUP(A46,'[1]Consolidado Unitarios DIYT'!$B$11:$E$438,2,FALSE) -> SUMINISTRO Y REPOSICIÓN DE BAJANTES DE AGUAS LLUVIAS EN PVC D=3-4" TIPO DEL MATERIAL: PVC rígido, material termoplástico compuesto de Poli (cloruro de vinilo), aditivos y exento de plastificantes. Resistencia a la Corrosión, Resistencia a la electrólisis, Resistencia a la Tensión y al Impacto. | C46: =+VLOOKUP(A46,'[1]Consolidado Unitarios DIYT'!$B$11:$E$438,3,FALSE) -> ML | D46: =+VLOOKUP(A46,'[1]Consolidado Unitarios DIYT'!$B$11:$E$438,4,FALSE) -> 44652 | E46: 40 | F46: =ROUND(D46*E46,0) -> 1786080 | G46: 44450 | H46: =+G46*E46 -> 1778000 | I46: 40000 | J46: =+I46*E46 -> 1600000 | K46: =AVERAGE(D46,G46,I46) -> 43034 | L46: =SMALL((D46,G46,I46),1) -> 40000 | M46: =+L46-D46 -> -4652 | N46: =(L46-D46)/L46 -> -0.1163 | O46: =+L46 -> 40000 | P46: =+O46*E46 -> 1600000
A47: 4.10 | B47: =+VLOOKUP(A47,'[1]Consolidado Unitarios DIYT'!$B$11:$E$438,2,FALSE) -> SUMINISTRO Y REPOSICIÓN DE CANALES PLASTICAS TIPO DEL MATERIAL: PVC rígido, material termoplástico compuesto de Poli (cloruro de vinilo), aditivos y exento de plastificantes. Resistencia a la Corrosión, Resistencia a la electrólisis, Resistencia a la Tensión y al Impacto. | C47: =+VLOOKUP(A47,'[1]Consolidado Unitarios DIYT'!$B$11:$E$438,3,FALSE) -> ML | D47: =+VLOOKUP(A47,'[1]Consolidado Unitarios DIYT'!$B$11:$E$438,4,FALSE) -> 74947 | E47: 86 | F47: =ROUND(D47*E47,0) -> 6445442 | G47: 74800 | H47: =+G47*E47 -> 6432800 | I47: 82500 | J47: =+I47*E47 -> 7095000 | K47: =AVERAGE(D47,G47,I47) -> 77415.667 | L47: =SMALL((D47,G47,I47),1) -> 74800 | M47: =+L47-D47 -> -147 | N47: =(L47-D47)/L47 -> -0.0019652406 | O47: =+L47 -> 74800 | P47: =+O47*E47 -> 6432800
...

Sheet ASUNCION BOCHICA
C1: RESULTADO ESTUDIO DE MERCADO EM-413-2025 | N1: Versión: | O1: 3
N2: Fecha de aprobación: | O2: 45369
N3: Código: | O3: 18-01-FO-0004
A4: FECHA | C4: ENERO DE 2026
A5: PROCESO | C5: EJECUTAR LAS OBRAS DE ADECUACIÓN DE INFRAESTRUCTURA PREVISTAS PARA LAS SEDES PORVENIR, ASUNCIÓN BOCHICA Y CARVAJAL EN EL CONVENIO INTERADMINISTRATIVO 8541049, CONFORME A LOS ESTUDIOS TÉCNICOS, PLANOS Y PRESUPUESTO APROBADOS, PARA SU HABILITACIÓN COMO UNIDADES ALTAMENTE RESOLUTIVAS.
A6: PLAZO DEL CONTRATO | C6: SEIS (06) MESES
A7: INFORME DEL ESTUDIO | C7: El día 05 de diciembre de 2025, se solicitaron cotizaciones por medio de la plataforma de Colombia Compra Eficiente (SECOP II), con fecha de recepción final de cotizaciones hasta el día 29 de diciembre del 2025. Al publicar el proceso, la Subred evidencia que Seis Mil Trescientos Ochenta y Cuatro (6384) proveedores pertenecen al sector objeto del estudio, de ellos, dos (02) expresan su interés y dos (02) presentan su cotización al proceso en curso
A9: 1 | B9: PRELIMINARES
A10: No (ITEM, ETAPAS O PROCESOS) | B10: ACTIVIDAD | C10: UNIDAD DE MEDIDA | D10: VALOR UNITARIO ACTUALIZADO | E10: CANTIDAD | F10: VALORTOTAL | G10: DP INGENIERIA SAS | I10: CONSTRUCTORA SANTOSP S.A.S | K10: PROMEDIO | L10: VALOR MINIMO | M10: VARIACIÓN EN PESOS | N10: VARIACIÓN PORCENTUAL | O10: VALOR TECHO UNITARIO | P10: VALOR TOTAL
G11: PRECIO UNITARIO | H11: VALOR TOTAL | I11: PRECIO UNITARIO | J11: VALOR TOTAL
A12: 1.1 | B12: LOCALIZACIÓN Y REPLANTEO OBRAS GENERALES | C12: =+VLOOKUP(A12,'[1]Consolidado Unitarios DIYT'!$B$11:$E$438,3,FALSE) -> M2 | D12: =+VLOOKUP(A12,'[1]Consolidado Unitarios DIYT'!$B$11:$E$438,4,FALSE) -> 7636 | E12: 152.1585 | F12: =ROUND(D12*E12,0) -> 1161882 | G12: 7550 | H12: =+G12*E12 -> 1148796.7 | I12: 9650 | J12: =+I12*E12 -> 1468329.5 | K12: =AVERAGE(D12,G12,I12) -> 8278.6667 | L12: =SMALL((D12,G12,I12),1) -> 7550 | M12: =+L12-D12 -> -86 | N12: =(L12-D12)/L12 -> -0.011390728 | O12: =+L12 -> 7550 | P12: =+O12*E12 -> 1148796.7
A13: 1.6 | B13: DEMOLICIÓN DE ENCHAPES EN MAL ESTADO INCLUYE CARGUE Y RETIRO DE SOBRANTES | C13: =+VLOOKUP(A13,'[1]Consolidado Unitarios DIYT'!$B$11:$E$438,3,FALSE) -> M2 | D13: =+VLOOKUP(A13,'[1]Consolidado Unitarios DIYT'!$B$11:$E$438,4,FALSE) -> 26423 | E13: 34.047702 | F13: =ROUND(D13*E13,0) -> 899642 | G13: 25900 | H13: =+G13*E13 -> 881835.48 | I13: 16590 | J13: =+I13*E13 -> 564851.38 | K13: =AVERAGE(D13,G13,I13) -> 22971 | L13: =SMALL((D13,G13,I13),1) -> 16590 | M13: =+L13-D13 -> -9833 | N13: =(L13-D13)/L13 -> -0.59270645 | O13: =+L13 -> 16590 | P13: =+O13*E13 -> 564851.38
A14: 1.8 | B14: DESMONTE DE MUROS INTERNOS, ATICOS EN LADRILLO HUECO O MACIZO DE ARCILLA COCIDA, BLOQUE DE CONCRETO SIMPLE, SISTEMA LIVIANO, EN CUAQUIER DIMENSIÓN Y ENRASE. INCLUYE: RETIRO DE SOBRECIMIENTOS, ESTRUCTURAS EN CONCRETO QUE ESTAN VINCULADOS A LOS MUROS COMO VIGUETAS AEREAS, DOVELAS. | C14: =+VLOOKUP(A14,'[1]Consolidado Unitarios DIYT'!$B$11:$E$438,3,FALSE) -> M2 | D14: =+VLOOKUP(A14,'[1]Consolidado Unitarios DIYT'!$B$11:$E$438,4,FALSE) -> 22495 | E14: 23.98734 | F14: =ROUND(D14*E14,0) -> 539595 | G14: 22100 | H14: =+G14*E14 -> 530120.21 | I14: 21000 | J14: =+I14*E14 -> 503734.14 | K14: =AVERAGE(D14,G14,I14) -> 21865 | L14: =SMALL((D14,G14,I14),1) -> 21000 | M14: =+L14-D14 -> -1495 | N14: =(L14-D14)/L14 -> -0.071190476 | O14: =+L14 -> 21000 | P14: =+O14*E14 -> 503734.14
A15: 1.9 | B15: DESMONTE Y RETIRO DE PISOS EN BALDOSA DE MORTERO Y GRANO, TABLETA VITRIFICADA CON ARENON CHINO Y ADOQUIN EN CUALQUIER DIMENSIÓN. INCLUYE: RETIRO MORTERO DE NIVELACIÓN, PEGA, ENTRESUELO | C15: =+VLOOKUP(A15,'[1]Consolidado Unitarios DIYT'!$B$11:$E$438,3,FALSE) -> M2 | D15: =+VLOOKUP(A15,'[1]Consolidado Unitarios DIYT'!$B$11:$E$438,4,FALSE) -> 14989 | E15: 54.06102 | F15: =ROUND(D15*E15,0) -> 810321 | G15: 14750 | H15: =+G15*E15 -> 797400.05 | I15: 16500 | J15: =+I15*E15 -> 892006.83 | K15: =AVERAGE(D15,G15,I15) -> 15413 | L15: =SMALL((D15,G15,I15),1) -> 14750 | M15: =+L15-D15 -> -239 | N15: =(L15-D15)/L15 -> -0.01620339 | O15: =+L15 -> 14750 | P15: =+O15*E15 -> 797400.05
A16: 1.23 | B16: SUMINISTRO, INSTALACIÓN, MONTAJE Y DESMONTAJE DE CERRAMIENTO PROVISIONAL EN DRYWALL PARA OBRAS. ESTRUCTURA TEMPORAL, FÁCIL DE INSTALAR Y DESINSTALAR, CONSTRUIDA CON PLACAS DE YESO Y PERFILES DE ACERO GALVANIZADO PARA DELIMITAR ESPACIOS DE TRABAJO SEGUROS Y CONTROLADOS, PROTEGER A LOS PACIENTES Y AL PERSONAL DE POLVO Y ESCOMBROS, Y AISLAR ÁREAS DURANTE LA CONSTRUCCIÓN O REMODELACIÓN DE LAS UNIDADES DE SERVICIOS DE SALUD | C16: =+VLOOKUP(A16,'[1]Consolidado Unitarios DIYT'!$B$11:$E$438,3,FALSE) -> M2 | D16: =+VLOOKUP(A16,'[1]Consolidado Unitarios DIYT'!$B$11:$E$438,4,FALSE) -> 133141 | E16: 57 | F16: =ROUND(D16*E16,0) -> 7589037 | G16: 132900 | H16: =+G16*E16 -> 7575300 | I16: 142500 | J16: =+I16*E16 -> 8122500 | K16: =AVERAGE(D16,G16,I16) -> 136180.33 | L16: =SMALL((D16,G16,I16),1) -> 132900 | M16: =+L16-D16 -> -241 | N16: =(L16-D16)/L16 -> -0.0018133935 | O16: =+L16 -> 132900 | P16: =+O16*E16 -> 7575300
A17: VALOR PRELIMINARES | D17: =SUM(D12:D16) -> 204684 | E17: =SUM(E12:E16) -> 321.25456 | F17: =SUM(F12:F16) -> 11000477 | G17: =SUM(G12:G16) -> 203200 | H17: =SUM(H12:H16) -> 10933452 | I17: =SUM(I12:I16) -> 206240 | J17: =SUM(J12:J16) -> 11551422 | K17: =SUM(K12:K16) -> 204708 | ... M17: =SUM(M12:M16) -> -11894 | N17: =AVERAGE(N12:N16) -> -0.13866089 | O17: =SUM(O12:O16) -> 192790 | P17: =SUM(P12:P16) -> 10590082
A19: 2 | B19: EXCAVACIONES
A20: No (ITEM, ETAPAS O PROCESOS) | B20: ACTIVIDAD | C20: UNIDAD DE MEDIDA | D20: VALOR UNITARIO ACTUALIZADO | E20: CANTIDAD | F20: VALOR REAL | G20: DP INGENIERIA SAS | I20: CONSTRUCTORA SANTOSP S.A.S | K20: PROMEDIO | L20: VALOR MINIMO | M20: VARIACIÓN EN PESOS | N20: VARIACIÓN PORCENTUAL | O20: VALOR TECHO UNITARIO | P20: VALOR TOTAL
G21: PRECIO UNITARIO | H21: VALOR TOTAL | I21: PRECIO UNITARIO | J21: VALOR TOTAL
A22: 2.1 | B22: EXCAVACION MANUAL EN MATERIAL COMUN INCLUYE CARGUE Y RETIRO DE SOBRANTES (trasiego de 15 m.) | C22: M3 | D22: 150745.67 | E22: 30 | F22: =ROUND(D22*E22,0) -> 4522370 | G22: 150500 | H22: =+G22*E22 -> 4515000 | I22: 175400 | J22: =+I22*E22 -> 5262000 | K22: =AVERAGE(D22,G22,I22) -> 158881.89 | L22: =SMALL((D22,G22,I22),1) -> 150500 | M22: =+L22-D22 -> -245.66667 | N22: =(L22-D22)/L22 -> -0.0016323367 | O22: =+L22 -> 150500 | P22: =+O22*E22 -> 4515000
A23: 2.2 | B23: Regata en muro y piso, incluye retiro de material sobrante | C23: ml | D23: 18000 | E23: 29 | F23: =ROUND(D23*E23,0) -> 522000 | G23: 17850 | H23: =+G23*E23 -> 517650 | I23: 20000 | J23: =+I23*E23 -> 580000 | K23: =AVERAGE(D23,G23,I23) -> 18616.667 | L23: =SMALL((D23,G23,I23),1) -> 17850 | M23: =+L23-D23 -> -150 | N23: =(L23-D23)/L23 -> -0.0084033613 | O23: =+L23 -> 17850 | P23: =+O23*E23 -> 517650
A24: VALOR EXCAVACIONES | D24: =SUM(D22:D23) -> 168745.67 | E24: =SUM(E22:E23) -> 59 | F24: =SUM(F22:F23) -> 5044370 | G24: =SUM(G22:G23) -> 168350 | H24: =SUM(H22:H23) -> 5032650 | I24: =SUM(I22:I23) -> 195400 | J24: =SUM(J22:J23) -> 5842000 | K24: =SUM(K22:K23) -> 177498.56 | ... M24: =SUM(M22:M23) -> -395.66667 | N24: =AVERAGE(N22:N23) -> -0.005017849 | O24: =SUM(O22:O23) -> 168350 | P24: =SUM(P22:P23) -> 5032650
A26: 4 | B26: OBRAS EN CUBIERTA
A27: No (ITEM, ETAPAS O PROCESOS) | B27: ACTIVIDAD | C27: UNIDAD DE MEDIDA | D27: VALOR UNITARIO ACTUALIZADO | E27: CANTIDAD | F27: VALORTOTAL | G27: DP INGENIERIA SAS | I27: CONSTRUCTORA SANTOSP S.A.S | K27: PROMEDIO | L27: VALOR MINIMO | M27: VARIACIÓN EN PESOS | N27: VARIACIÓN PORCENTUAL | O27: VALOR TECHO UNITARIO | P27: VALOR TOTAL
G28: PRECIO UNITARIO | H28: VALOR TOTAL | I28: PRECIO UNITARIO | J28: VALOR TOTAL
A29: 4.1 | B29: ESTRUCTURA METÁLICA CUBIERTAS INCLUYE: CORREAS, CONTRAVIENTOS, TENSORES, COLUMNAS, VIGAS DE AMARRE, ANCLAJES, TORNILLERÍA, SOLDADURAS, PLATINERÍA, ANTICORROSIVO Y PINTURA. CONTEMPLA TAMBIÉN: FABRICACIÓN, TRANSPORTE, SUMINISTRO Y MONTAJE. (Fabricación, suministro, transporte, montaje y pintura de elementos en metal para conformar la estructura metálica de cubierta con anclajes, columnas, vigas, correas, conexiones, templetes, en: Aceros ASTM A-36 para láminas, A-572 grado 50 y A-36 para ángulos en 1-1/2”, A-500 grado C para tuberías, ASTM A 1011 grado 50 f’y=3400 Kgf/cm2 de 2 mm de espesor para perlines, ASTM A 1008 grado 40 f’y=2750 Kgf/cm2 de 1.5 mm de espesor para perlines, soldaduras E70XX y E60XX, tornillería GR-5 ZINCADA (A-325) con limpieza manual SSPC-SP2, anticorrosivo alquídico 1.5 MILS terminado esmalte 1.5 MILS) Los trabajos deben contemplar el uso de andamios certificado y todos los elementos requeridos para esta actividad. | C29: =+VLOOKUP(A29,'[1]Consolidado Unitarios DIYT'!$B$11:$E$438,3,FALSE) -> KG | D29: =+VLOOKUP(A29,'[1]Consolidado Unitarios DIYT'!$B$11:$E$438,4,FALSE) -> 163862 | E29: 70 | F29: =ROUND(D29*E29,0) -> 11470340 | G29: 163450 | H29: =+G29*E29 -> 11441500 | I29: 161540 | J29: =+I29*E29 -> 11307800 | K29: =AVERAGE(D29,G29,I29) -> 162950.67 | L29: =SMALL((D29,G29,I29),1) -> 161540 | M29: =+L29-D29 -> -2322 | N29: =(L29-D29)/L29 -> -0.014374149 | O29: =+L29 -> 161540 | P29: =+O29*E29 -> 11307800
A30: 4.4 | B30: SUMINISTRO Y REPOSICIÓN CUBIERTA EN CUBIERTA ARQUITECTONICA PARA ZONAS EN MAL ESTADO. Teja modular similar a la referencia Superthermo 0.35 de Ajover. La cual debe tener un e = 1.9 mm; resistencia térmica ( R ) de 0.0133 mhºc/Kcal y conductividad térmica ( K ) de 0.211 Kcal/mhºc, en acero galvanizado, con foil de aluminio, forma trapezoidal, para las cubiertas del proyecto, de acuerdo a lo señalado en los Planos del Proyecto Arquitectónico y de Detalles.Los trabajos deben contemplar el uso de andamios certificado y todos los elementos requeridos para esta actividad. El costo incluye todos los costos de fijación y remates necesarios para el correcto funcionamiento | C30: =+VLOOKUP(A30,'[1]Consolidado Unitarios DIYT'!$B$11:$E$438,3,FALSE) -> M2 | D30: =+VLOOKUP(A30,'[1]Consolidado Unitarios DIYT'!$B$11:$E$438,4,FALSE) -> 76086 | E30: 70 | F30: =ROUND(D30*E30,0) -> 5326020 | G30: 75900 | H30: =+G30*E30 -> 5313000 | I30: 81000 | J30: =+I30*E30 -> 5670000 | K30: =AVERAGE(D30,G30,I30) -> 77662 | L30: =SMALL((D30,G30,I30),1) -> 75900 | M30: =+L30-D30 -> -186 | N30: =(L30-D30)/L30 -> -0.0024505929 | O30: =+L30 -> 75900 | P30: =+O30*E30 -> 5313000
A31: 4.8 | B31: SUMINISTRO Y REPOSICIÓN DE BAJANTES DE AGUAS LLUVIAS EN PVC D=3-4" TIPO DEL MATERIAL: PVC rígido, material termoplástico compuesto de Poli (cloruro de vinilo), aditivos y exento de plastificantes. Resistencia a la Corrosión, Resistencia a la electrólisis, Resistencia a la Tensión y al Impacto. | C31: =+VLOOKUP(A31,'[1]Consolidado Unitarios DIYT'!$B$11:$E$438,3,FALSE) -> ML | D31: =+VLOOKUP(A31,'[1]Consolidado Unitarios DIYT'!$B$11:$E$438,4,FALSE) -> 44652 | E31: 12 | F31: =ROUND(D31*E31,0) -> 535824 | G31: 44200 | H31: =+G31*E31 -> 530400 | I31: 40000 | J31: =+I31*E31 -> 480000 | K31: =AVERAGE(D31,G31,I31) -> 42950.667 | L31: =SMALL((D31,G31,I31),1) -> 40000 | M31: =+L31-D31 -> -4652 | N31: =(L31-D31)/L31 -> -0.1163 | O31: =+L31 -> 40000 | P31: =+O31*E31 -> 480000
A32: 4.10 | B32: SUMINISTRO Y REPOSICIÓN DE CANALES PLASTICAS TIPO DEL MATERIAL: PVC rígido, material termoplástico compuesto de Poli (cloruro de vinilo), aditivos y exento de plastificantes. Resistencia a la Corrosión, Resistencia a la electrólisis, Resistencia a la Tensión y al Impacto. | C32: =+VLOOKUP(A32,'[1]Consolidado Unitarios DIYT'!$B$11:$E$438,3,FALSE) -> ML | D32: =+VLOOKUP(A32,'[1]Consolidado Unitarios DIYT'!$B$11:$E$438,4,FALSE) -> 74947 | E32: 25 | F32: =ROUND(D32*E32,0) -> 1873675 | G32: 74850 | H32: =+G32*E32 -> 1871250 | I32: 82500 | J32: =+I32*E32 -> 2062500 | K32: =AVERAGE(D32,G32,I32) -> 77432.333 | L32: =SMALL((D32,G32,I32),1) -> 74850 | M32: =+L32-D32 -> -97 | N32: =(L32-D32)/L32 -> -0.0012959252 | O32: 74800 | P32: =+O32*E32 -> 1870000
A33: 4.11 | B33: FLANCHE EN LÁMINA GALVANIZADA CALIBRE 26 DESARROLLO 25CM INCLUYE ANDAMIO CERTIFICADO | C33: =+VLOOKUP(A33,'[1]Consolidado Unitarios DIYT'!$B$11:$E$438,3,FALSE) -> ML | D33: =+VLOOKUP(A33,'[1]Consolidado Unitarios DIYT'!$B$11:$E$438,4,FALSE) -> 75748 | E33: 25 | F33: =ROUND(D33*E33,0) -> 1893700 | G33: 75600 | H33: =+G33*E33 -> 1890000 | I33: 68950 | J33: =+I33*E33 -> 1723750 | K33: =AVERAGE(D33,G33,I33) -> 73432.667 | L33: =SMALL((D33,G33,I33),1) -> 68950 | M33: =+L33-D33 -> -6798 | N33: =(L33-D33)/L33 -> -0.098593183 | O33: =+L33 -> 68950 | P33: =+O33*E33 -> 1723750
A34: 4.13 | B34: FLANCHE LAMINA GALVANIZADA CL. 20 - DESARROLLO 80 CM | C34: ML | D34: 83844.333 | E34: 25 | F34: =ROUND(D34*E34,0) -> 2096108 | G34: 83750 | H34: =+G34*E34 -> 2093750 | I34: 85000 | J34: =+I34*E34 -> 2125000 | K34: =AVERAGE(D34,G34,I34) -> 84198.111 | L34: =SMALL((D34,G34,I34),1) -> 83750 | M34: =+L34-D34 -> -94.333333 | N34: =(L34-D34)/L34 -> -0.0011263682 | O34: =+L34 -> 83750 | P34: =+O34*E34 -> 2093750
A35: VALOR OBRAS EN CUBIERTA | D35: =SUM(D29:D34) -> 519139.33 | E35: =SUM(E29:E34) -> 227 | F35: =SUM(F29:F34) -> 23195667 | G35: =SUM(G29:G34) -> 517750 | H35: =SUM(H29:H34) -> 23139900 | I35: =SUM(I29:I34) -> 518990 | J35: =SUM(J29:J34) -> 23369050 | K35: =SUM(K29:K34) -> 518626.44 | ... M35: =SUM(M29:M34) -> -14149.333 | N35: =AVERAGE(N29:N34) -> -0.03902337 | O35: =SUM(O29:O34) -> 504940 | P35: =SUM(P29:P34) -> 22788300
A37: 5 | B37: MAMPOSTERIA Y PINTURA
A38: No (ITEM, ETAPAS O PROCESOS) | B38: ACTIVIDAD | C38: UNIDAD DE MEDIDA | D38: VALOR UNITARIO ACTUALIZADO | E38: CANTIDAD | F38: VALORTOTAL | G38: DP INGENIERIA SAS | I38: CONSTRUCTORA SANTOSP S.A.S | K38: PROMEDIO | L38: VALOR MINIMO | M38: VARIACIÓN EN PESOS | N38: VARIACIÓN PORCENTUAL | O38: VALOR TECHO UNITARIO | P38: VALOR TOTAL
G39: PRECIO UNITARIO | H39: VALOR TOTAL | I39: PRECIO UNITARIO | J39: VALOR TOTAL
A40: 5.1 | B40: FILOS Y DILATACIONES EN PAÑETES DE MUROS EN LADRILLO A LA VISTA | C40: =+VLOOKUP(A40,'[1]Consolidado Unitarios DIYT'!$B$11:$E$438,3,FALSE) -> ML | D40: =+VLOOKUP(A40,'[1]Consolidado Unitarios DIYT'!$B$11:$E$438,4,FALSE) -> 30729 | E40: 18.37836 | F40: =ROUND(D40*E40,0) -> 564749 | G40: 30650 | H40: =+G40*E40 -> 563296.73 | I40: 28900 | J40: =+I40*E40 -> 531134.6 | K40: =AVERAGE(D40,G40,I40) -> 30093 | L40: =SMALL((D40,G40,I40),1) -> 28900 | M40: =+L40-D40 -> -1829 | N40: =(L40-D40)/L40 -> -0.063287197 | O40: =+L40 -> 28900 | P40: =+O40*E40 -> 531134.6
A41: 5.2 | B41: SUMINISTRO E INSTALACION MUROS PANEL LIVIANO DIVISORIOS EN SISTEMA DE MURO SECO CONFORMADO POR LÁMINAS DE FIBROCEMENTO RH TIPO SUPERBOARD O SIMILAR DE CALIDAD SUPERIOR E=10 MM. ESTRUCTURA METÁLICA EN PERFIL GALVANIZADO GR50 CON RECUBRIMIENTO DE ZINC G60 E=2MM (c/40,5cm). RIELES EN PERFIL TIPO "U". LAS UNIONES O JUNTAS ENTRE LOS PANELES DEBEN IR CORRECTAMENTE SELLADAS CON CINTA MALLA Y TRATADAS CON MASILLA TIPO ETERCOAT DE ETERNIT, SIMILAR O DE CALIDAD SUPERIOR. | C41: =+VLOOKUP(A41,'[1]Consolidado Unitarios DIYT'!$B$11:$E$438,3,FALSE) -> M2 | D41: =+VLOOKUP(A41,'[1]Consolidado Unitarios DIYT'!$B$11:$E$438,4,FALSE) -> 234741 | E41: 190 | F41: =ROUND(D41*E41,0) -> 44600790 | G41: 234250 | H41: =+G41*E41 -> 44507500 | I41: 240000 | J41: =+I41*E41 -> 45600000 | K41: =AVERAGE(D41,G41,I41) -> 236330.33 | L41: =SMALL((D41,G41,I41),1) -> 234250 | M41: =+L41-D41 -> -491 | N41: =(L41-D41)/L41 -> -0.0020960512 | O41: =+L41 -> 234250 | P41: =+O41*E41 -> 44507500
A42: 5.9 | B42: REPOSICIÓN DE ESTUCO PLASTICO ACRILICO PARA INTERIOR Y EXTERIOR + TRES MANOS PINTURA ACRÍLICA BIOCIDA A BASE DE AGUA PARA AMBIENTES INTERIORES DE ALTA HIGIENE CON PROPIEDADES ANTIBACTERIALES Y ANTIHONGOS, RESISTENCIA AL LAVADO Y FACILIDAD DE LIMPIEZA. TIPO PINTURA ACRÍLICA DE ALTA ASEPSIA DE PINTUCO O SIMILAR DE CALIDAD SUPERIOR. CARACTERÍSTICAS: RESISTENTE A LA HUMEDAD Y AL VAPOR DE AGUA, DE BAJO OLOR, LIBRE DE VOC, LIBRE DE PLOMO Y CLORO, Y ALTA RESISTENCIA A LA FRICCIÓN. COLOR: BLANCO PURO RAL 9010. EN MUROS CON HUMEDADES Y EN MAL ESTADO. | C42: M2 | D42: 101984.75 | E42: 49 | F42: =ROUND(D42*E42,0) -> 4997253 | G42: 101800 | H42: =+G42*E42 -> 4988200 | I42: 99500 | J42: =+I42*E42 -> 4875500 | K42: =AVERAGE(D42,G42,I42) -> 101094.92 | L42: =SMALL((D42,G42,I42),1) -> 99500 | M42: =+L42-D42 -> -2484.75 | N42: =(L42-D42)/L42 -> -0.024972362 | O42: =+L42 -> 99500 | P42: =+O42*E42 -> 4875500
A43: 5.10 | B43: ESTUCO PLASTICO ACRILICO (SOBRE ENCHAPES CERAMICOS) PARA INTERIOR + TRES MANOS PINTURA ACRÍLICA BIOCIDA A BASE DE AGUA PARA AMBIENTES INTERIORES DE ALTA HIGIENE CON PROPIEDADES ANTIBACTERIALES Y ANTIHONGOS, RESISTENCIA AL LAVADO Y FACILIDAD DE LIMPIEZA. TIPO PINTURA ACRÍLICA DE ALTA ASEPSIA DE PINTUCO O SIMILAR DE CALIDAD SUPERIOR. CARACTERÍSTICAS: RESISTENTE A LA HUMEDAD Y AL VAPOR DE AGUA, DE BAJO OLOR, LIBRE DE VOC, LIBRE DE PLOMO Y CLORO, Y ALTA RESISTENCIA A LA FRICCIÓN. COLOR: BLANCO PURO RAL 9010. EN MUROS CON HUMEDADES Y EN MAL ESTADO. | C43: =+VLOOKUP(A43,'[1]Consolidado Unitarios DIYT'!$B$11:$E$438,3,FALSE) -> M2 | D43: =+VLOOKUP(A43,'[1]Consolidado Unitarios DIYT'!$B$11:$E$438,4,FALSE) -> 123114 | E43: 149.175 | F43: =ROUND(D43*E43,0) -> 18365531 | G43: 122900 | H43: =+G43*E43 -> 18333608 | I43: 120600 | J43: =+I43*E43 -> 17990505 | K43: =AVERAGE(D43,G43,I43) -> 122204.67 | L43: =SMALL((D43,G43,I43),1) -> 120600 | M43: =+L43-D43 -> -2514 | N43: =(L43-D43)/L43 -> -0.020845771 | O43: =+L43 -> 120600 | P43: =+O43*E43 -> 17990505
A44: 5.11 | B44: REPOSICIÓN EN ESMALTE SINTÉTICO A BASE DE ACEITE RESISTENTE AL AGUA, CON BUENA DURABILIDAD, ALTO BRILLO Y ADHERENCIA. SIN PLOMO NI CLORO PARA CARPINTERIA METALICA EN MAL ESTADO | C44: M2 | D44: 21400.667 | E44: 3 | F44: =ROUND(D44*E44,0) -> 64202 | G44: 21050 | H44: =+G44*E44 -> 63150 | I44: 20900 | J44: =+I44*E44 -> 62700 | K44: =AVERAGE(D44,G44,I44) -> 21116.889 | L44: =SMALL((D44,G44,I44),1) -> 20900 | M44: =+L44-D44 -> -500.66667 | N44: =(L44-D44)/L44 -> -0.023955343 | O44: =+L44 -> 20900 | P44: =+O44*E44 -> 62700
...

Sheet CARVAJAL
C1: RESULTADO ESTUDIO DE MERCADO EM-413-2025 | N1: Versión: | O1: 3
N2: Fecha de aprobación: | O2: 45369
N3: Código: | O3: 18-01-FO-0004
A4: FECHA | C4: ENERO DE 2026
A5: PROCESO | C5: EJECUTAR LAS OBRAS DE ADECUACIÓN DE INFRAESTRUCTURA PREVISTAS PARA LAS SEDES PORVENIR, ASUNCIÓN BOCHICA Y CARVAJAL EN EL CONVENIO INTERADMINISTRATIVO 8541049, CONFORME A LOS ESTUDIOS TÉCNICOS, PLANOS Y PRESUPUESTO APROBADOS, PARA SU HABILITACIÓN COMO UNIDADES ALTAMENTE RESOLUTIVAS.
A6: PLAZO DEL CONTRATO | C6: SEIS (06) MESES
A7: INFORME DEL ESTUDIO | C7: El día 05 de diciembre de 2025, se solicitaron cotizaciones por medio de la plataforma de Colombia Compra Eficiente (SECOP II), con fecha de recepción final de cotizaciones hasta el día 29 de diciembre del 2025. Al publicar el proceso, la Subred evidencia que Seis Mil Trescientos Ochenta y Cuatro (6384) proveedores pertenecen al sector objeto del estudio, de ellos, dos (02) expresan su interés y dos (02) presentan su cotización al proceso en curso
A9: 1 | B9: PRELIMINARES
A10: No (ITEM, ETAPAS O PROCESOS) | B10: ACTIVIDAD | C10: UNIDAD DE MEDIDA | D10: VALOR UNITARIO ACTUALIZADO | E10: CANTIDAD | F10: VALORTOTAL | G10: DP INGENIERIA SAS | I10: CONSTRUCTORA SANTOSP S.A.S | K10: PROMEDIO | L10: VALOR MINIMO | M10: VARIACIÓN EN PESOS | N10: VARIACIÓN PORCENTUAL | O10: VALOR TECHO UNITARIO | P10: VALOR TOTAL
G11: PRECIO UNITARIO | H11: VALOR TOTAL | I11: PRECIO UNITARIO | J11: VALOR TOTAL
A12: 1.1 | B12: =+VLOOKUP(A12,'[1]Consolidado Unitarios DIYT'!$B$11:$E$438,2,FALSE) -> LOCALIZACIÓN Y REPLANTEO OBRAS GENERALES | C12: =+VLOOKUP(A12,'[1]Consolidado Unitarios DIYT'!$B$11:$E$438,3,FALSE) -> M2 | D12: =+VLOOKUP(A12,'[1]Consolidado Unitarios DIYT'!$B$11:$E$438,4,FALSE) -> 7636 | E12: 62 | F12: =ROUND(D12*E12,0) -> 473432 | G12: 7550 | H12: =+G12*E12 -> 468100 | I12: 9650 | J12: =+I12*E12 -> 598300 | K12: =AVERAGE(D12,G12,I12) -> 8278.6667 | L12: =SMALL((D12,G12,I12),1) -> 7550 | M12: =+L12-D12 -> -86 | N12: =(L12-D12)/L12 -> -0.011390728 | O12: =+L12 -> 7550 | P12: =+O12*E12 -> 468100
A13: 1.6 | B13: =+VLOOKUP(A13,'[1]Consolidado Unitarios DIYT'!$B$11:$E$438,2,FALSE) -> DEMOLICIÓN DE ENCHAPES EN MAL ESTADO INCLUYE CARGUE Y RETIRO DE SOBRANTES | C13: =+VLOOKUP(A13,'[1]Consolidado Unitarios DIYT'!$B$11:$E$438,3,FALSE) -> M2 | D13: =+VLOOKUP(A13,'[1]Consolidado Unitarios DIYT'!$B$11:$E$438,4,FALSE) -> 26423 | E13: 66 | F13: =ROUND(D13*E13,0) -> 1743918 | G13: 26000 | H13: =+G13*E13 -> 1716000 | I13: 16590 | J13: =+I13*E13 -> 1094940 | K13: =AVERAGE(D13,G13,I13) -> 23004.333 | L13: =SMALL((D13,G13,I13),1) -> 16590 | M13: =+L13-D13 -> -9833 | N13: =(L13-D13)/L13 -> -0.59270645 | O13: =+L13 -> 16590 | P13: =+O13*E13 -> 1094940
A14: 1.8 | B14: =+VLOOKUP(A14,'[1]Consolidado Unitarios DIYT'!$B$11:$E$438,2,FALSE) -> DESMONTE DE MUROS INTERNOS, ATICOS EN LADRILLO HUECO O MACIZO DE ARCILLA COCIDA, BLOQUE DE CONCRETO SIMPLE, SISTEMA LIVIANO, EN CUAQUIER DIMENSIÓN Y ENRASE. INCLUYE: RETIRO DE SOBRECIMIENTOS, ESTRUCTURAS EN CONCRETO QUE ESTAN VINCULADOS A LOS MUROS COMO VIGUETAS AEREAS, DOVELAS. | C14: =+VLOOKUP(A14,'[1]Consolidado Unitarios DIYT'!$B$11:$E$438,3,FALSE) -> M2 | D14: =+VLOOKUP(A14,'[1]Consolidado Unitarios DIYT'!$B$11:$E$438,4,FALSE) -> 22495 | E14: 128.5 | F14: =ROUND(D14*E14,0) -> 2890608 | G14: 22200 | H14: =+G14*E14 -> 2852700 | I14: 21000 | J14: =+I14*E14 -> 2698500 | K14: =AVERAGE(D14,G14,I14) -> 21898.333 | L14: =SMALL((D14,G14,I14),1) -> 21000 | M14: =+L14-D14 -> -1495 | N14: =(L14-D14)/L14 -> -0.071190476 | O14: =+L14 -> 21000 | P14: =+O14*E14 -> 2698500
A15: 1.9 | B15: =+VLOOKUP(A15,'[1]Consolidado Unitarios DIYT'!$B$11:$E$438,2,FALSE) -> DESMONTE Y RETIRO DE PISOS EN BALDOSA DE MORTERO Y GRANO, TABLETA VITRIFICADA CON ARENON CHINO Y ADOQUIN EN CUALQUIER DIMENSIÓN. INCLUYE: RETIRO MORTERO DE NIVELACIÓN, PEGA, ENTRESUELO | C15: =+VLOOKUP(A15,'[1]Consolidado Unitarios DIYT'!$B$11:$E$438,3,FALSE) -> M2 | D15: =+VLOOKUP(A15,'[1]Consolidado Unitarios DIYT'!$B$11:$E$438,4,FALSE) -> 14989 | E15: 100 | F15: =ROUND(D15*E15,0) -> 1498900 | G15: 14900 | H15: =+G15*E15 -> 1490000 | I15: 16500 | J15: =+I15*E15 -> 1650000 | K15: =AVERAGE(D15,G15,I15) -> 15463 | L15: =SMALL((D15,G15,I15),1) -> 14900 | M15: =+L15-D15 -> -89 | N15: =(L15-D15)/L15 -> -0.0059731544 | O15: 14750 | P15: =+O15*E15 -> 1475000
A16: 1.10 | B16: =+VLOOKUP(A16,'[1]Consolidado Unitarios DIYT'!$B$11:$E$438,2,FALSE) -> DEMOLICIÓN DE PAÑETES EN MAL ESTADO INCLUYE CARGUE Y RETIRO DE SOBRANTES | C16: =+VLOOKUP(A16,'[1]Consolidado Unitarios DIYT'!$B$11:$E$438,3,FALSE) -> M2 | D16: =+VLOOKUP(A16,'[1]Consolidado Unitarios DIYT'!$B$11:$E$438,4,FALSE) -> 16803 | E16: 55.92 | F16: =ROUND(D16*E16,0) -> 939624 | G16: 16500 | H16: =+G16*E16 -> 922680 | I16: 14500 | J16: =+I16*E16 -> 810840 | K16: =AVERAGE(D16,G16,I16) -> 15934.333 | L16: =SMALL((D16,G16,I16),1) -> 14500 | M16: =+L16-D16 -> -2303 | N16: =(L16-D16)/L16 -> -0.15882759 | O16: =+L16 -> 14500 | P16: =+O16*E16 -> 810840
A17: 1.17 | B17: =+VLOOKUP(A17,'[1]Consolidado Unitarios DIYT'!$B$11:$E$438,2,FALSE) -> DESMONTE Y RETIRO DE MARCOS CON SU RESPECTIVA ALA DE PUERTAS METÁLICAS, ALUMINIO Y MADERA PARA TODO TIPO DE MURO. DE ANCHO VARIABLE ENTRE 0.70-1.40 M | C17: =+VLOOKUP(A17,'[1]Consolidado Unitarios DIYT'!$B$11:$E$438,3,FALSE) -> UN | D17: =+VLOOKUP(A17,'[1]Consolidado Unitarios DIYT'!$B$11:$E$438,4,FALSE) -> 23150 | E17: 11 | F17: =ROUND(D17*E17,0) -> 254650 | G17: 23000 | H17: =+G17*E17 -> 253000 | I17: 32000 | J17: =+I17*E17 -> 352000 | K17: =AVERAGE(D17,G17,I17) -> 26050 | L17: =SMALL((D17,G17,I17),1) -> 23000 | M17: =+L17-D17 -> -150 | N17: =(L17-D17)/L17 -> -0.0065217391 | O17: =+L17 -> 23000 | P17: =+O17*E17 -> 253000
A18: 1.18 | B18: =+VLOOKUP(A18,'[1]Consolidado Unitarios DIYT'!$B$11:$E$438,2,FALSE) -> DESMONTE DE PUNTOS HIDRÁULICOS CON FILTRACIONES INCLUYE CARGUE Y RETIRO DE SOBRANTES (INCLUYE LOS TRABAJOS DE REGATAS Y DEMOLICIONES) | C18: =+VLOOKUP(A18,'[1]Consolidado Unitarios DIYT'!$B$11:$E$438,3,FALSE) -> UN | D18: =+VLOOKUP(A18,'[1]Consolidado Unitarios DIYT'!$B$11:$E$438,4,FALSE) -> 36690 | E18: 7 | F18: =ROUND(D18*E18,0) -> 256830 | G18: 36500 | H18: =+G18*E18 -> 255500 | I18: 35000 | J18: =+I18*E18 -> 245000 | K18: =AVERAGE(D18,G18,I18) -> 36063.333 | L18: =SMALL((D18,G18,I18),1) -> 35000 | M18: =+L18-D18 -> -1690 | N18: =(L18-D18)/L18 -> -0.048285714 | O18: =+L18 -> 35000 | P18: =+O18*E18 -> 245000
A19: 1.19 | B19: =+VLOOKUP(A19,'[1]Consolidado Unitarios DIYT'!$B$11:$E$438,2,FALSE) -> DESMONTE DE PUNTOS SANITARIOS CON FILTRACIONES D=2-4" INCLUYE CARGUE Y RETIRO DE SOBRANTES (INCLUYE LOS TRABAJOS DE REGATAS Y DEMOLICIONES) | C19: =+VLOOKUP(A19,'[1]Consolidado Unitarios DIYT'!$B$11:$E$438,3,FALSE) -> UN | D19: =+VLOOKUP(A19,'[1]Consolidado Unitarios DIYT'!$B$11:$E$438,4,FALSE) -> 34197 | E19: 7 | F19: =ROUND(D19*E19,0) -> 239379 | G19: 34000 | H19: =+G19*E19 -> 238000 | I19: 45000 | J19: =+I19*E19 -> 315000 | K19: =AVERAGE(D19,G19,I19) -> 37732.333 | L19: =SMALL((D19,G19,I19),1) -> 34000 | M19: =+L19-D19 -> -197 | N19: =(L19-D19)/L19 -> -0.0057941176 | O19: =+L19 -> 34000 | P19: =+O19*E19 -> 238000
A20: 1.23 | B20: =+VLOOKUP(A20,'[1]Consolidado Unitarios DIYT'!$B$11:$E$438,2,FALSE) -> SUMINISTRO, INSTALACIÓN, MONTAJE Y DESMONTAJE DE CERRAMIENTO PROVISIONAL EN DRYWALL PARA OBRAS. ESTRUCTURA TEMPORAL, FÁCIL DE INSTALAR Y DESINSTALAR, CONSTRUIDA CON PLACAS DE YESO Y PERFILES DE ACERO GALVANIZADO PARA DELIMITAR ESPACIOS DE TRABAJO SEGUROS Y CONTROLADOS, PROTEGER A LOS PACIENTES Y AL PERSONAL DE POLVO Y ESCOMBROS, Y AISLAR ÁREAS DURANTE LA CONSTRUCCIÓN O REMODELACIÓN DE LAS UNIDADES DE SERVICIOS DE SALUD | C20: =+VLOOKUP(A20,'[1]Consolidado Unitarios DIYT'!$B$11:$E$438,3,FALSE) -> M2 | D20: =+VLOOKUP(A20,'[1]Consolidado Unitarios DIYT'!$B$11:$E$438,4,FALSE) -> 133141 | E20: 12 | F20: =ROUND(D20*E20,0) -> 1597692 | G20: 132900 | H20: =+G20*E20 -> 1594800 | I20: 142500 | J20: =+I20*E20 -> 1710000 | K20: =AVERAGE(D20,G20,I20) -> 136180.33 | L20: =SMALL((D20,G20,I20),1) -> 132900 | M20: =+L20-D20 -> -241 | N20: =(L20-D20)/L20 -> -0.0018133935 | O20: =+L20 -> 132900 | P20: =+O20*E20 -> 1594800
A21: VALOR PRELIMINARES | D21: =SUM(D12:D20) -> 315524 | E21: =SUM(E12:E20) -> 449.42 | F21: =SUM(F12:F20) -> 9895033 | G21: =SUM(G12:G20) -> 313550 | H21: =SUM(H12:H20) -> 9790780 | I21: =SUM(I12:I20) -> 332740 | J21: =SUM(J12:J20) -> 9474580 | K21: =SUM(K12:K20) -> 320604.67 | ... M21: =SUM(M12:M20) -> -16084 | N21: =AVERAGE(N12:N20) -> -0.10027815 | O21: =SUM(O12:O20) -> 299290 | P21: =SUM(P12:P20) -> 8878180
A23: 2 | B23: EXCAVACIONES
A24: No (ITEM, ETAPAS O PROCESOS) | B24: ACTIVIDAD | C24: UNIDAD DE MEDIDA | D24: VALOR UNITARIO ACTUALIZADO | E24: CANTIDAD | F24: VALORTOTAL | G24: DP INGENIERIA SAS | I24: CONSTRUCTORA SANTOSP S.A.S | K24: PROMEDIO | L24: VALOR MINIMO | M24: VARIACIÓN EN PESOS | N24: VARIACIÓN PORCENTUAL | O24: VALOR TECHO UNITARIO | P24: VALOR TOTAL
G25: PRECIO UNITARIO | H25: VALOR TOTAL | I25: PRECIO UNITARIO | J25: VALOR TOTAL
A26: 2.1 | B26: EXCAVACION MANUAL EN MATERIAL COMUN INCLUYE CARGUE Y RETIRO DE SOBRANTES (trasiego de 15 m.) | C26: M3 | D26: 150745.67 | E26: 30 | F26: =ROUND(D26*E26,0) -> 4522370 | G26: 150500 | H26: =+G26*E26 -> 4515000 | I26: 175400 | J26: =+I26*E26 -> 5262000 | K26: =AVERAGE(D26,G26,I26) -> 158881.89 | L26: =SMALL((D26,G26,I26),1) -> 150500 | M26: =+L26-D26 -> -245.66667 | N26: =(L26-D26)/L26 -> -0.0016323367 | O26: =+L26 -> 150500 | P26: =+O26*E26 -> 4515000
A27: 2.2 | B27: Regata en muro y piso, incluye retiro de material sobrante | C27: ml | D27: 18000 | E27: 30 | F27: =SUM(F26) -> 4522370 | G27: 17850 | H27: =SUM(H26) -> 4515000 | I27: 20000 | J27: =+I27*E27 -> 600000 | K27: =AVERAGE(D27,G27,I27) -> 18616.667 | L27: =SMALL((D27,G27,I27),1) -> 17850 | M27: =+L27-D27 -> -150 | N27: =(L27-D27)/L27 -> -0.0084033613 | O27: 17850 | P27: =+O27*E27 -> 535500
A28: VALOR TOTAL EXCAVACIONES | D28: =SUM(D26:D27) -> 168745.67 | E28: =SUM(E26:E27) -> 60 | F28: =SUM(F26:F27) -> 9044740 | G28: =SUM(G26:G27) -> 168350 | H28: =SUM(H26:H27) -> 9030000 | I28: =SUM(I26:I27) -> 195400 | J28: =SUM(J26:J27) -> 5862000 | K28: =SUM(K26:K27) -> 177498.56 | ... P28: =SUM(P26:P27) -> 5050500
A30: 4 | B30: OBRAS EN CUBIERTA
A31: No (ITEM, ETAPAS O PROCESOS) | B31: ACTIVIDAD | C31: UNIDAD DE MEDIDA | D31: VALOR UNITARIO ACTUALIZADO | E31: CANTIDAD | F31: VALORTOTAL | G31: DP INGENIERIA SAS | I31: CONSTRUCTORA SANTOSP S.A.S | K31: PROMEDIO | L31: VALOR MINIMO | M31: VARIACIÓN EN PESOS | N31: VARIACIÓN PORCENTUAL | O31: VALOR TECHO UNITARIO | P31: VALOR TOTAL
G32: PRECIO UNITARIO | H32: VALOR TOTAL | I32: PRECIO UNITARIO | J32: VALOR TOTAL
A33: 4.1 | B33: =+VLOOKUP(A33,'[1]Consolidado Unitarios DIYT'!$B$11:$E$438,2,FALSE) -> ESTRUCTURA METÁLICA CUBIERTAS INCLUYE: CORREAS, CONTRAVIENTOS, TENSORES, COLUMNAS, VIGAS DE AMARRE, ANCLAJES, TORNILLERÍA, SOLDADURAS, PLATINERÍA, ANTICORROSIVO Y PINTURA. CONTEMPLA TAMBIÉN: FABRICACIÓN, TRANSPORTE, SUMINISTRO Y MONTAJE. (Fabricación, suministro, transporte, montaje y pintura de elementos en metal para conformar la estructura metálica de cubierta con anclajes, columnas, vigas, correas, conexiones, templetes, en: Aceros ASTM A-36 para láminas, A-572 grado 50 y A-36 para ángulos en 1-1/2”, A-500 grado C para tuberías, ASTM A 1011 grado 50 f’y=3400 Kgf/cm2 de 2 mm de espesor para perlines, ASTM A 1008 grado 40 f’y=2750 Kgf/cm2 de 1.5 mm de espesor para perlines, soldaduras E70XX y E60XX, tornillería GR-5 ZINCADA (A-325) con limpieza manual SSPC-SP2, anticorrosivo alquídico 1.5 MILS terminado esmalte 1.5 MILS) Los trabajos deben contemplar el uso de andamios certificado y todos los elementos requeridos para esta actividad. | C33: =+VLOOKUP(A33,'[1]Consolidado Unitarios DIYT'!$B$11:$E$438,3,FALSE) -> KG | D33: =+VLOOKUP(A33,'[1]Consolidado Unitarios DIYT'!$B$11:$E$438,4,FALSE) -> 163862 | E33: 30.24 | F33: =ROUND(D33*E33,0) -> 4955187 | G33: 163450 | H33: =+G33*E33 -> 4942728 | I33: 161540 | J33: =+I33*E33 -> 4884969.6 | K33: =AVERAGE(D33,G33,I33) -> 162950.67 | L33: =SMALL((D33,G33,I33),1) -> 161540 | M33: =+L33-D33 -> -2322 | N33: =(L33-D33)/L33 -> -0.014374149 | O33: =+L33 -> 161540 | P33: =+O33*E33 -> 4884969.6
A34: 4.6 | B34: =+VLOOKUP(A34,'[1]Consolidado Unitarios DIYT'!$B$11:$E$438,2,FALSE) -> SUMINISTRO Y REPOSICIÓN de Domos Fabricados con burbuja de acrílico y policarbonato de alta calidad. Fabricados con burbuja de acrílico y de policarbonato de alta calidad, el marco y perfil son de aluminio R4043. Espesor de la lámina 3 mm 44cm x 44 cm o 60 cm x 60cm Color de la lámina Perla, Blanco o Humo. El costo incluye todos los costos de fijación y remates necesarios para el correcto funcionamiento | C34: =+VLOOKUP(A34,'[1]Consolidado Unitarios DIYT'!$B$11:$E$438,3,FALSE) -> UN | D34: =+VLOOKUP(A34,'[1]Consolidado Unitarios DIYT'!$B$11:$E$438,4,FALSE) -> 305070 | E34: 40 | F34: =ROUND(D34*E34,0) -> 12202800 | G34: 305000 | H34: =+G34*E34 -> 12200000 | I34: 300000 | J34: =+I34*E34 -> 12000000 | K34: =AVERAGE(D34,G34,I34) -> 303356.67 | L34: =SMALL((D34,G34,I34),1) -> 300000 | M34: =+L34-D34 -> -5070 | N34: =(L34-D34)/L34 -> -0.0169 | O34: =+L34 -> 300000 | P34: =+O34*E34 -> 12000000
A35: 4.7 | B35: SUMINISTRO Y REPOSICIÓN CUBIERTA EN POLICARBONATO PARA ZONAS EN MAL ESTADO. Láminas en POLICARBONATO multipared con características de rigidez, bajo peso y aislamiento térmico. Estructura alveolar.Tipo Pesada: Lámina en policarbonato con estructura de doble pared en espesores de 6mm. El costo incluye todos los costos de fijación y remates necesarios para el correcto funcionamiento | C35: M2 | D35: 395637 | E35: 20 | F35: =ROUND(D35*E35,0) -> 7912740 | G35: 395300 | H35: =+G35*E35 -> 7906000 | I35: 370000 | J35: =+I35*E35 -> 7400000 | K35: =AVERAGE(D35,G35,I35) -> 386979 | L35: =SMALL((D35,G35,I35),1) -> 370000 | M35: =+L35-D35 -> -25637 | N35: =(L35-D35)/L35 -> -0.069289189 | O35: =+L35 -> 370000 | P35: =+O35*E35 -> 7400000
A36: 4.11 | B36: =+VLOOKUP(A36,'[1]Consolidado Unitarios DIYT'!$B$11:$E$438,2,FALSE) -> FLANCHE EN LÁMINA GALVANIZADA CALIBRE 26 DESARROLLO 25CM INCLUYE ANDAMIO CERTIFICADO | C36: =+VLOOKUP(A36,'[1]Consolidado Unitarios DIYT'!$B$11:$E$438,3,FALSE) -> ML | D36: =+VLOOKUP(A36,'[1]Consolidado Unitarios DIYT'!$B$11:$E$438,4,FALSE) -> 75748 | E36: 19.91 | F36: =ROUND(D36*E36,0) -> 1508143 | G36: 75600 | H36: =+G36*E36 -> 1505196 | I36: 68950 | J36: =+I36*E36 -> 1372794.5 | K36: =AVERAGE(D36,G36,I36) -> 73432.667 | L36: =SMALL((D36,G36,I36),1) -> 68950 | M36: =+L36-D36 -> -6798 | N36: =(L36-D36)/L36 -> -0.098593183 | O36: =+L36 -> 68950 | P36: =+O36*E36 -> 1372794.5
A37: 4.13 | B37: FLANCHE LAMINA GALVANIZADA CL. 20 - DESARROLLO 80 CM | C37: ML | D37: 83844.333 | E37: 30 | F37: =ROUND(D37*E37,0) -> 2515330 | G37: 83750 | H37: =+G37*E37 -> 2512500 | I37: 85000 | J37: =+I37*E37 -> 2550000 | K37: =AVERAGE(D37,G37,I37) -> 84198.111 | L37: =SMALL((D37,G37,I37),1) -> 83750 | M37: =+L37-D37 -> -94.333333 | N37: =(L37-D37)/L37 -> -0.0011263682 | O37: =+L37 -> 83750 | P37: =+O37*E37 -> 2512500
A38: VALOR TOTAL OBRAS EN CUBIERTA | D38: =SUM(D33:D37) -> 1024161.3 | E38: =SUM(E33:E37) -> 140.15 | F38: =SUM(F33:F37) -> 29094200 | G38: =SUM(G33:G37) -> 1023100 | H38: =SUM(H33:H37) -> 29066424 | I38: =SUM(I33:I37) -> 985490 | J38: =SUM(J33:J37) -> 28207764 | K38: =SUM(K33:K37) -> 1010917.1 | ... M38: =SUM(M33:M37) -> -39921.333 | N38: =AVERAGE(N33:N37) -> -0.040056578 | O38: =SUM(O33:O37) -> 984240 | P38: =SUM(P33:P37) -> 28170264
A40: 5 | B40: MAMPOSTERIA Y PINTURA
A41: No (ITEM, ETAPAS O PROCESOS) | B41: ACTIVIDAD | C41: UNIDAD DE MEDIDA | D41: VALOR UNITARIO ACTUALIZADO | E41: CANTIDAD | F41: VALORTOTAL | G41: DP INGENIERIA SAS | I41: CONSTRUCTORA SANTOSP S.A.S | K41: PROMEDIO | L41: VALOR MINIMO | M41: VARIACIÓN EN PESOS | N41: VARIACIÓN PORCENTUAL | O41: VALOR TECHO UNITARIO | P41: VALOR TOTAL
G42: PRECIO UNITARIO | H42: VALOR TOTAL | I42: PRECIO UNITARIO | J42: VALOR TOTAL
A43: 5.2 | B43: =+VLOOKUP(A43,'[1]Consolidado Unitarios DIYT'!$B$11:$E$438,2,FALSE) -> SUMINISTRO E INSTALACION MUROS PANEL LIVIANO DIVISORIOS EN SISTEMA DE MURO SECO CONFORMADO POR LÁMINAS DE FIBROCEMENTO RH TIPO SUPERBOARD O SIMILAR DE CALIDAD SUPERIOR E=10 MM. ESTRUCTURA METÁLICA EN PERFIL GALVANIZADO GR50 CON RECUBRIMIENTO DE ZINC G60 E=2MM (c/40,5cm). RIELES EN PERFIL TIPO "U". LAS UNIONES O JUNTAS ENTRE LOS PANELES DEBEN IR CORRECTAMENTE SELLADAS CON CINTA MALLA Y TRATADAS CON MASILLA TIPO ETERCOAT DE ETERNIT, SIMILAR O DE CALIDAD SUPERIOR. | C43: =+VLOOKUP(A43,'[1]Consolidado Unitarios DIYT'!$B$11:$E$438,3,FALSE) -> M2 | D43: =+VLOOKUP(A43,'[1]Consolidado Unitarios DIYT'!$B$11:$E$438,4,FALSE) -> 234741 | E43: 120 | F43: =ROUND(D43*E43,0) -> 28168920 | G43: 234250 | H43: =+G43*E43 -> 28110000 | I43: 240000 | J43: =+I43*E43 -> 28800000 | K43: =AVERAGE(D43,G43,I43) -> 236330.33 | L43: =SMALL((D43,G43,I43),1) -> 234250 | M43: =+L43-D43 -> -491 | N43: =(L43-D43)/L43 -> -0.0020960512 | O43: =+L43 -> 234250 | P43: =+O43*E43 -> 28110000
A44: 5.3 | B44: =+VLOOKUP(A44,'[1]Consolidado Unitarios DIYT'!$B$11:$E$438,2,FALSE) -> PINTURA ACRÍLICA BIOCIDA A BASE DE AGUA PARA AMBIENTES INTERIORES DE ALTA HIGIENE CON PROPIEDADES ANTIBACTERIALES Y ANTIHONGOS, RESISTENCIA AL LAVADO Y FACILIDAD DE LIMPIEZA. TIPO PINTURA ACRÍLICA DE ALTA ASEPSIA DE PINTUCO O SIMILAR DE CALIDAD SUPERIOR. CARACTERÍSTICAS: RESISTENTE A LA HUMEDAD Y AL VAPOR DE AGUA, DE BAJO OLOR, LIBRE DE VOC, LIBRE DE PLOMO Y CLORO, Y ALTA RESISTENCIA A LA FRICCIÓN. COLOR: BLANCO PURO RAL 9010. | C44: =+VLOOKUP(A44,'[1]Consolidado Unitarios DIYT'!$B$11:$E$438,3,FALSE) -> M2 | D44: =+VLOOKUP(A44,'[1]Consolidado Unitarios DIYT'!$B$11:$E$438,4,FALSE) -> 20095 | E44: 380 | F44: =ROUND(D44*E44,0) -> 7636100 | G44: 20000 | H44: =+G44*E44 -> 7600000 | I44: 19500 | J44: =+I44*E44 -> 7410000 | K44: =AVERAGE(D44,G44,I44) -> 19865 | L44: =SMALL((D44,G44,I44),1) -> 19500 | M44: =+L44-D44 -> -595 | N44: =(L44-D44)/L44 -> -0.030512821 | O44: =+L44 -> 19500 | P44: =+O44*E44 -> 7410000
...
