Workbook

Sheet PROYECCION DICIEMBRE 2026
B1: SMMLV 2026 | C1: 1750905
B2: SEGURO DE VIDA | C2: =Hoja1!$E$4
A4: ITEM | B4: Descripcion del item | F4: Unidad de Medida | G4: Cantidad | H4: TARIFA 2026 | I4: VALOR PRIMA SEGURO COLECTIVO INCLUIDO VARIABLE DE PROPORCIONALIDAD, EN CASO DE APLICAR | J4: % DE GASTOS ADMINISTRATIVOS Y SUPERVISIÓN | K4: Valor Producto | L4: % IVA Producto | M4: IVA Producto | N4: Valor total con IVA
A5: PUERTA PRINCIPAL | B5: SERVICIO DE VIGILANCIA PRIVADA CON ARMA, CON EQUIPOS DE COMUNICACIÓN DE 24 HORAS DIARIAS, TODO EL MES DE LUNES A DOMINGO INCLUIDOS FESTIVOS. | F5: 1 | G5: 1 | H5: =(10.21*$C$1) | I5: =($C$2)*3 | J5: =+H5*10%+I5*10% | K5: =+H5+J5+I5 | L5: 0.019 | M5: =+K5*L5 | N5: =+K5+M5
A6: PARQUEADERO | B6: SERVICIO DE VIGILANCIA PRIVADA CON ARMA, CON EQUIPOS DE COMUNICACIÓN DE 24 HORAS DIARIAS, TODO EL MES DE LUNES A DOMINGO INCLUIDOS FESTIVOS. | F6: 1 | G6: 1 | H6: =(10.21*$C$1) | I6: =($C$2)*3 | J6: =+H6*10%+I6*10% | K6: =+H6+J6+I6 | L6: 0.019 | M6: =+K6*L6 | N6: =+K6+M6
A7: BIBLIOTECA | B7: SERVICIO DE VIGILANCIA PRIVADA CON ARMA, CON EQUIPOS DE COMUNICACIÓN DE 12 HORAS DIARIAS DIURNAS, TODO EL MES DE LUNES A VIERNES DÍAS HÁBILES EN EL HORARIO DE 6:00 A.M. A 6:00 P.M. | F7: 1 | G7: 1 | H7: =(10.21*$C$1)*47.59%/13*12/30*20 | I7: =($C$2)*47.59%/13*12/30*20 | J7: =H7*10%+I7*10% | K7: =H7+J7+I7 | L7: 0.019 | M7: =K7*L7 | N7: =K7+M7
A8: MONITOREO CCTV | B8: SERVICIO DE VIGILANCIA PRIVADA CON ARMA, CON EQUIPOS DE COMUNICACIÓN DE 24 HORAS DIARIAS, TODO EL MES DE LUNES A DOMINGO INCLUIDOS FESTIVOS. | F8: 1 | G8: 1 | H8: =(10.21*$C$1) | I8: =($C$2)*3 | J8: =+H8*10%+I8*10% | K8: =+H8+J8+I8 | L8: 0.019 | M8: =+K8*L8 | N8: =+K8+M8
A9: RECEPCIONISTA PUERTA PPAL | B9: SERVICIO DE VIGILANCIA PRIVADA CON ARMA, CON EQUIPOS DE COMUNICACIÓN DE 12 HORAS DIARIAS DIURNAS TODO EL MES, DE LUNES A VIERNES DÍAS HÁBILES EN EL HORARIO DE 6:00 A.M. A 6:00 P.M. | F9: 1 | G9: 1 | H9: =(10.21*$C$1)*47.59%/13*12/30*20 | I9: =($C$2)*47.59%/13*12/30*20 | J9: =H9*10%+I9*10% | K9: =H9+J9+I9 | L9: 0.019 | M9: =K9*L9 | N9: =K9+M9
A10: RECORREDOR | B10: SERVICIO DE VIGILANCIA PRIVADA CON ARMA, CON EQUIPOS DE COMUNICACIÓN DE 12 HORAS DIARIAS DIURNAS TODO EL MES, DE LUNES A VIERNES DÍAS HÁBILES EN EL HORARIO DE 6:00 A.M. A 6:00 P.M. | F10: 1 | G10: 1 | H10: =(10.21*$C$1)*47.59%/13*12/30*20 | I10: =($C$2)*47.59%/13*12/30*20 | J10: =H10*10%+I10*10% | K10: =H10+J10+I10 | L10: 0.019 | M10: =K10*L10 | N10: =K10+M10
A11: LABORATORIO CALIDAD AMBIENTAL | B11: SERVICIO DE VIGILANCIA PRIVADA CON ARMA, CON EQUIPOS DE COMUNICACIÓN DE 24 HORAS DIARIAS, TODO EL MES DE LUNES A DOMINGO INCLUIDOS FESTIVOS. | F11: 1 | G11: 1 | H11: =(10.21*$C$1) | I11: =($C$2)*3 | J11: =+H11*10%+I11*10% | K11: =+H11+J11+I11 | L11: 0.019 | M11: =+K11*L11 | N11: =+K11+M11
A12: MEDELLIN | B12: SERVICIO DE VIGILANCIA PRIVADA CON ARMA, CON EQUIPOS DE COMUNICACIÓN DE 24 HORAS DIARIAS, TODO EL MES DE LUNES A DOMINGO INCLUIDOS FESTIVOS. | F12: 1 | G12: 1 | H12: =(10.21*$C$1) | I12: =($C$2)*3 | J12: =+H12*10%+I12*10% | K12: =+H12+J12+I12 | L12: 0.019 | M12: =+K12*L12 | N12: =+K12+M12
A13: BARRANQUILLA | B13: SERVICIO DE VIGILANCIA PRIVADA CON ARMA, CON EQUIPOS DE COMUNICACIÓN DE 24 HORAS DIARIAS, TODO EL MES DE LUNES A DOMINGO INCLUIDOS FESTIVOS. | F13: 1 | G13: 1 | H13: =(10.21*$C$1) | I13: =($C$2)*3 | J13: =+H13*10%+I13*10% | K13: =+H13+J13+I13 | L13: 0.019 | M13: =+K13*L13 | N13: =+K13+M13
A14: VILLAVICENCIO | B14: SERVICIO DE VIGILANCIA PRIVADA CON ARMA, CON EQUIPOS DE COMUNICACIÓN DE 24 HORAS DIARIAS, TODO EL MES DE LUNES A DOMINGO INCLUIDOS FESTIVOS. | F14: 1 | G14: 1 | H14: =(10.21*$C$1) | I14: =($C$2)*3 | J14: =+H14*10%+I14*10% | K14: =+H14+J14+I14 | L14: 0.019 | M14: =+K14*L14 | N14: =+K14+M14
A15: NEIVA | B15: SERVICIO DE VIGILANCIA PRIVADA CON ARMA, CON EQUIPOS DE COMUNICACIÓN DE 24 HORAS DIARIAS, TODO EL MES DE LUNES A DOMINGO INCLUIDOS FESTIVOS. | F15: 1 | G15: 1 | H15: =(10.21*$C$1) | I15: =($C$2)*3 | J15: =+H15*10%+I15*10% | K15: =+H15+J15+I15 | L15: 0.019 | M15: =+K15*L15 | N15: =+K15+M15
A16: SANTA MARTA | B16: SERVICIO DE VIGILANCIA PRIVADA CON ARMA, CON EQUIPOS DE COMUNICACIÓN DE 24 HORAS DIARIAS, TODO EL MES DE LUNES A DOMINGO INCLUIDOS FESTIVOS. | F16: 1 | G16: 1 | H16: =(10.21*$C$1) | I16: =($C$2)*3 | J16: =+H16*10%+I16*10% | K16: =+H16+J16+I16 | L16: 0.019 | M16: =+K16*L16 | N16: =+K16+M16
A17: DUITAMA | B17: SERVICIO DE VIGILANCIA PRIVADA CON ARMA, CON EQUIPOS DE COMUNICACIÓN DE 24 HORAS DIARIAS, TODO EL MES DE LUNES A DOMINGO INCLUIDOS FESTIVOS. | F17: 1 | G17: 1 | H17: =(10.21*$C$1) | I17: =($C$2)*3 | J17: =+H17*10%+I17*10% | K17: =+H17+J17+I17 | L17: 0.019 | M17: =+K17*L17 | N17: =+K17+M17
A18: PASTO | B18: SERVICIO DE VIGILANCIA PRIVADA CON ARMA, CON EQUIPOS DE COMUNICACIÓN DE 24 HORAS DIARIAS, TODO EL MES DE LUNES A DOMINGO INCLUIDOS FESTIVOS. | F18: 1 | G18: 1 | H18: =(10.21*$C$1) | I18: =($C$2)*3 | J18: =+H18*10%+I18*10% | K18: =+H18+J18+I18 | L18: 0.019 | M18: =+K18*L18 | N18: =+K18+M18
A19: BUCARAMANGA | B19: SERVICIO DE VIGILANCIA PRIVADA CON ARMA, CON EQUIPOS DE COMUNICACIÓN DE 24 HORAS DIARIAS, TODO EL MES DE LUNES A DOMINGO INCLUIDOS FESTIVOS. | F19: 1 | G19: 1 | H19: =(10.21*$C$1) | I19: =($C$2)*3 | J19: =+H19*10%+I19*10% | K19: =+H19+J19+I19 | L19: 0.019 | M19: =+K19*L19 | N19: =+K19+M19
A20: CALI | B20: SERVICIO DE VIGILANCIA PRIVADA CON ARMA, CON EQUIPOS DE COMUNICACIÓN DE 24 HORAS DIARIAS, TODO EL MES DE LUNES A DOMINGO INCLUIDOS FESTIVOS. | F20: 1 | G20: 1 | H20: =(10.21*$C$1) | I20: =($C$2)*3 | J20: =+H20*10%+I20*10% | K20: =+H20+J20+I20 | L20: 0.019 | M20: =+K20*L20 | N20: =+K20+M20
A21: CALI | B21: SERVICIO DE VIGILANCIA PRIVADA CON ARMA, CON EQUIPOS DE COMUNICACIÓN DE 24 HORAS DIARIAS, TODO EL MES DE LUNES A DOMINGO INCLUIDOS FESTIVOS. | F21: 1 | G21: 1 | H21: =(10.21*$C$1) | I21: =($C$2)*3 | J21: =+H21*10%+I21*10% | K21: =+H21+J21+I21 | L21: 0.019 | M21: =+K21*L21 | N21: =+K21+M21
A22: IBAGUE | B22: SERVICIO DE VIGILANCIA PRIVADA CON ARMA, CON EQUIPOS DE COMUNICACIÓN DE 24 HORAS DIARIAS, TODO EL MES DE LUNES A DOMINGO INCLUIDOS FESTIVOS. | F22: 1 | G22: 1 | H22: =(10.21*$C$1) | I22: =($C$2)*3 | J22: =+H22*10%+I22*10% | K22: =+H22+J22+I22 | L22: 0.019 | M22: =+K22*L22 | N22: =+K22+M22
A23: PUERTO CARREÑO | B23: SERVICIO DE VIGILANCIA PRIVADA CON ARMA, CON EQUIPOS DE COMUNICACIÓN DE 12 HORAS NOCTURNAS DIARIAS, TODO EL MES DE LUNES A DOMINGO, INCLUIDO FESTIVOS EN EL HORARIO DE 6:00 P.M. A 6:00 A.M. | F23: 1 | G23: 1 | H23: =((10.21*$C$1)*47.59%/13*1)+((10.21*$C$1)*52.41%/11*11) | I23: =(($C$2)*47.59%/13*1)+(($C$2)*52.41%/11*11) | J23: =+H23*10%+I23*10% | K23: =+H23+J23+I23 | L23: 0.019 | M23: =+K23*L23 | N23: =+M23+K23
A24: SAN ANDRES | B24: SERVICIO DE VIGILANCIA PRIVADA CON ARMA, CON EQUIPOS DE COMUNICACIÓN DE 12 HORAS NOCTURNAS DIARIAS, TODO EL MES DE LUNES A DOMINGO, INCLUIDO FESTIVOS EN EL HORARIO DE 6:00 P.M. A 6:00 A.M. | F24: 1 | G24: 1 | H24: =((10.21*$C$1)*47.59%/13*1)+((10.21*$C$1)*52.41%/11*11) | I24: =(($C$2)*47.59%/13*1)+(($C$2)*52.41%/11*11) | J24: =+H24*10%+I24*10% | K24: =+H24+J24+I24 | M24: =+K24*L24 | N24: =+M24+K24
A25: LETICIA | B25: SERVICIO DE VIGILANCIA PRIVADA CON ARMA, CON EQUIPOS DE COMUNICACIÓN DE 12 HORAS NOCTURNAS DIARIAS, TODO EL MES DE LUNES A DOMINGO, INCLUIDO FESTIVOS EN EL HORARIO DE 6:00 P.M. A 6:00 A.M. | F25: 1 | G25: 1 | H25: =((10.21*$C$1)*47.59%/13*1)+((10.21*$C$1)*52.41%/11*11) | I25: =(($C$2)*47.59%/13*1)+(($C$2)*52.41%/11*11) | J25: =+H25*10%+I25*10% | K25: =+H25+J25+I25 | L25: 0.019 | M25: =+K25*L25 | N25: =+M25+K25
M26: =+SUM(M5:M25)
M27: TOTAL MENSUAL | N27: =SUM(N5:N26)
M28: 01 DICIEMBRE HASTA 24 DE DICIEMBRE | N28: =+N27/30
H29: AIU | J29: =SUM(J5:J27) | M29: DESDE 15 DE JULIO | N29: =+N28*16
M30: DESDE 01 DE AGOSTO | N30: =+N27*5
N32: =+N29+N30

Sheet PROYECCIÓN 2027
A2: OPERACIÓN | B2: 57396989 | N2: 1750905 | P2: =+N2*1.069
A3: SUBYACENTE | B3: SERVICIO DE VIGILANCIA | O3: SMMLV 2027 PROYECTADO | P3: 1871717.4
A4: FECHA DE COMPRA | B4: 45246 | O4: SEGURO DE VIDA | P4: =Hoja1!E4
A5: VALOR TOTAL ANTES DE IVA | B5: 8939966638
H6: DEL 15 DE JULIO AL 31 DE DICIEMBRE 2026 | N6: 01 AL 30 DE JUNIO | U6: A PARTIR DEL 01 DE JULIO 2027 | AB6: DEL 15 DE JULIO AL 31 DE DICIEMBRE
A7: ITEM | B7: Descripcion del item | F7: Unidad de Medida | G7: Cantidad | H7: TARIFA 2026 (DESDE 15 DE JULIO AL 31 DE DICIEMBRE 2026) | I7: % DE GASTOS ADMINISTRATIVOS Y SUPERVISIÓN | J7: Valor Producto | K7: % IVA Producto | L7: IVA Producto | M7: Valor total con IVA | N7: TARIFA 2027 (DESDE 01 DE ENERO AL 30 DE JUNIO DE 2027) | O7: VALOR PRIMA SEGURO COLECTIVO INCLUIDO VARIABLE DE PROPORCIONALIDAD, EN CASO DE APLICAR | P7: % DE GASTOS ADMINISTRATIVOS Y SUPERVISIÓN | Q7: Valor Producto | R7: % IVA Producto | S7: IVA Producto | T7: Valor total con IVA | U7: TARIFA 2027 (A PARTIR DEL 01 DE JULIO) | V7: VALOR PRIMA SEGURO COLECTIVO INCLUIDO VARIABLE DE PROPORCIONALIDAD, EN CASO DE APLICAR | W7: % DE GASTOS ADMINISTRATIVOS Y SUPERVISIÓN | X7: Valor Producto | Y7: % IVA Producto | Z7: IVA Producto | AA7: Valor total con IVA | AB7: TARIFA 2026 (DESDE 01 DE ENERO AL 30 DE JUNIO DE 2026) | AC7: % DE GASTOS ADMINISTRATIVOS Y SUPERVISIÓN | AD7: Valor Producto | AE7: % IVA Producto | AF7: IVA Producto | AG7: Valor total con IVA
A8: PUERTA PRINCIPAL | B8: SERVICIO DE VIGILANCIA PRIVADA CON ARMA, CON EQUIPOS DE COMUNICACIÓN DE 24 HORAS DIARIAS, TODO EL MES DE LUNES A DOMINGO INCLUIDOS FESTIVOS. | F8: 1 | G8: 1 | H8: 17878240 | I8: 1787824 | J8: 19666064 | K8: 0.019 | L8: 373655.22 | M8: 20039719 | N8: =(10.21*$P$3) | O8: =$P$4*3 | P8: =+N8*10%+O8*10% | Q8: =+N8+P8+O8 | R8: 0.019 | S8: =+Q8*R8 | T8: =+Q8+S8 | U8: =(10.38*$P$3) | V8: =$P$4*3 | W8: =+U8*10%+V8*10% | X8: =+U8+W8+V8 | Y8: 0.019 | Z8: =+X8*Y8 | AA8: =+X8+Z8 | AB8: =(10.21*1750905+1500) | AC8: =+AB8*10% | AD8: =+AB8+AC8 | AE8: 0.019 | AF8: =+AD8*AE8 | AG8: =+AD8+AF8
A9: PARQUEADERO | B9: SERVICIO DE VIGILANCIA PRIVADA CON ARMA, CON EQUIPOS DE COMUNICACIÓN DE 24 HORAS DIARIAS, TODO EL MES DE LUNES A DOMINGO INCLUIDOS FESTIVOS. | F9: 1 | G9: 1 | H9: 17878240 | I9: 1787824 | J9: 19666064 | K9: 0.019 | L9: 373655.22 | M9: 20039719 | N9: =(10.21*$P$3) | O9: =$P$4*3 | P9: =+N9*10%+O9*10% | Q9: =+N9+P9+O9 | R9: 0.019 | S9: =+Q9*R9 | T9: =+Q9+S9 | U9: =(10.38*$P$3) | V9: =$P$4*3 | W9: =+U9*10%+V9*10% | X9: =+U9+W9+V9 | Y9: 0.019 | Z9: =+X9*Y9 | AA9: =+X9+Z9 | AB9: =(10.21*1750905+1500) | AC9: =+AB9*10% | AD9: =+AB9+AC9 | AE9: 0.019 | AF9: =+AD9*AE9 | AG9: =+AD9+AF9
A10: BIBLIOTECA | B10: SERVICIO DE VIGILANCIA PRIVADA CON ARMA, CON EQUIPOS DE COMUNICACIÓN DE 12 HORAS DIARIAS DIURNAS, TODO EL MES DE LUNES A VIERNES DÍAS HÁBILES EN EL HORARIO DE 6:00 A.M. A 6:00 P.M. | F10: 1 | G10: 1 | H10: 5235556 | I10: 523555.6 | J10: 5759111.6 | K10: 0.019 | L10: 109423.12 | M10: 5868534.7 | N10: =(10.21*$P$3)*47.59%/13*12/30*20 | O10: =($P$4)*47.59%/13*12/30*20 | P10: =N10*10%+O10*10% | Q10: =N10+P10+O10 | R10: 0.019 | S10: =Q10*R10 | T10: =Q10+S10 | U10: =(10.38*$P$3)*47.59%/13*12/30*20 | V10: =($P$4)*47.59%/13*12/30*20 | W10: =U10*10%+V10*10% | X10: =+U10+W10+V10 | Y10: 0.019 | Z10: =X10*Y10 | AA10: =X10+Z10 | AB10: =(10.21*1750905+500)*55.97%/15*12/30*20 | AC10: =AB10*10% | AD10: =AB10+AC10 | AE10: 0.019 | AF10: =AD10*AE10 | AG10: =AD10+AF10
A11: MONITOREO CCTV | B11: SERVICIO DE VIGILANCIA PRIVADA CON ARMA, CON EQUIPOS DE COMUNICACIÓN DE 24 HORAS DIARIAS, TODO EL MES DE LUNES A DOMINGO INCLUIDOS FESTIVOS. | F11: 1 | G11: 1 | H11: 17878240 | I11: 1787824 | J11: 19666064 | K11: 0.019 | L11: 373655.22 | M11: 20039719 | N11: =(10.21*$P$3) | O11: =$P$4*3 | P11: =+N11*10%+O11*10% | Q11: =+N11+P11+O11 | R11: 0.019 | S11: =+Q11*R11 | T11: =+Q11+S11 | U11: =(10.38*$P$3) | V11: =$P$4*3 | W11: =+U11*10%+V11*10% | X11: =+U11+W11+V11 | Y11: 0.019 | Z11: =+X11*Y11 | AA11: =+X11+Z11 | AB11: =(10.21*1750905+1500) | AC11: =+AB11*10% | AD11: =+AB11+AC11 | AE11: 0.019 | AF11: =+AD11*AE11 | AG11: =+AD11+AF11
A12: RECEPCIONISTA PUERTA PPAL | B12: SERVICIO DE VIGILANCIA PRIVADA CON ARMA, CON EQUIPOS DE COMUNICACIÓN DE 12 HORAS DIARIAS DIURNAS TODO EL MES, DE LUNES A VIERNES DÍAS HÁBILES EN EL HORARIO DE 6:00 A.M. A 6:00 P.M. | F12: 1 | G12: 1 | H12: 5235556 | I12: 523555.6 | J12: 5759111.6 | K12: 0.019 | L12: 109423.12 | M12: 5868534.7 | N12: =(10.21*$P$3)*47.59%/13*12/30*20 | O12: =($P$4)*47.59%/13*12/30*20 | P12: =N12*10%+O12*10% | Q12: =N12+P12+O12 | R12: 0.019 | S12: =Q12*R12 | T12: =Q12+S12 | U12: =(10.38*$P$3)*47.59%/13*12/30*20 | V12: =($P$4)*47.59%/13*12/30*20 | W12: =U12*10%+V12*10% | X12: =+U12+W12+V12 | Y12: 0.019 | Z12: =X12*Y12 | AA12: =X12+Z12 | AB12: =(10.21*1750905+500)*55.97%/15*12/30*20 | AC12: =AB12*10% | AD12: =AB12+AC12 | AE12: 0.019 | AF12: =AD12*AE12 | AG12: =AD12+AF12
A13: RECORREDOR | B13: SERVICIO DE VIGILANCIA PRIVADA CON ARMA, CON EQUIPOS DE COMUNICACIÓN DE 12 HORAS DIARIAS DIURNAS TODO EL MES, DE LUNES A VIERNES DÍAS HÁBILES EN EL HORARIO DE 6:00 A.M. A 6:00 P.M. | F13: 1 | G13: 1 | H13: 5235556 | I13: 523555.6 | J13: 5759111.6 | K13: 0.019 | L13: 109423.12 | M13: 5868534.7 | N13: =(10.21*$P$3)*47.59%/13*12/30*20 | O13: =($P$4)*47.59%/13*12/30*20 | P13: =N13*10%+O13*10% | Q13: =N13+P13+O13 | R13: 0.019 | S13: =Q13*R13 | T13: =Q13+S13 | U13: =(10.38*$P$3)*47.59%/13*12/30*20 | V13: =($P$4)*47.59%/13*12/30*20 | W13: =U13*10%+V13*10% | X13: =+U13+W13+V13 | Y13: 0.019 | Z13: =X13*Y13 | AA13: =X13+Z13 | AB13: =(10.21*1750905+500)*55.97%/15*12/30*20 | AC13: =AB13*10% | AD13: =AB13+AC13 | AE13: 0.019 | AF13: =AD13*AE13 | AG13: =AD13+AF13
A14: LABORATORIO CALIDAD AMBIENTAL | B14: SERVICIO DE VIGILANCIA PRIVADA CON ARMA, CON EQUIPOS DE COMUNICACIÓN DE 24 HORAS DIARIAS, TODO EL MES DE LUNES A DOMINGO INCLUIDOS FESTIVOS. | F14: 1 | G14: 1 | H14: 17878240 | I14: 1787824 | J14: 19666064 | K14: 0.019 | L14: 373655.22 | M14: 20039719 | N14: =(10.21*$P$3) | O14: =$P$4*3 | P14: =+N14*10%+O14*10% | Q14: =+N14+P14+O14 | R14: 0.019 | S14: =+Q14*R14 | T14: =+Q14+S14 | U14: =(10.38*$P$3) | V14: =$P$4*3 | W14: =+U14*10%+V14*10% | X14: =+U14+W14+V14 | Y14: 0.019 | Z14: =+X14*Y14 | AA14: =+X14+Z14 | AB14: =(10.21*1750905+1500) | AC14: =+AB14*10% | AD14: =+AB14+AC14 | AE14: 0.019 | AF14: =+AD14*AE14 | AG14: =+AD14+AF14
A15: MEDELLIN | B15: SERVICIO DE VIGILANCIA PRIVADA CON ARMA, CON EQUIPOS DE COMUNICACIÓN DE 24 HORAS DIARIAS, TODO EL MES DE LUNES A DOMINGO INCLUIDOS FESTIVOS. | F15: 1 | G15: 1 | H15: 17878240 | I15: 1787824 | J15: 19666064 | K15: 0.019 | L15: 373655.22 | M15: 20039719 | N15: =(10.21*$P$3) | O15: =$P$4*3 | P15: =+N15*10%+O15*10% | Q15: =+N15+P15+O15 | R15: 0.019 | S15: =+Q15*R15 | T15: =+Q15+S15 | U15: =(10.38*$P$3) | V15: =$P$4*3 | W15: =+U15*10%+V15*10% | X15: =+U15+W15+V15 | Y15: 0.019 | Z15: =+X15*Y15 | AA15: =+X15+Z15 | AB15: =(10.21*1750905+1500) | AC15: =+AB15*10% | AD15: =+AB15+AC15 | AE15: 0.019 | AF15: =+AD15*AE15 | AG15: =+AD15+AF15
A16: BARRANQUILLA | B16: SERVICIO DE VIGILANCIA PRIVADA CON ARMA, CON EQUIPOS DE COMUNICACIÓN DE 24 HORAS DIARIAS, TODO EL MES DE LUNES A DOMINGO INCLUIDOS FESTIVOS. | F16: 1 | G16: 1 | H16: 17878240 | I16: 1787824 | J16: 19666064 | K16: 0.019 | L16: 373655.22 | M16: 20039719 | N16: =(10.21*$P$3) | O16: =$P$4*3 | P16: =+N16*10%+O16*10% | Q16: =+N16+P16+O16 | R16: 0.019 | S16: =+Q16*R16 | T16: =+Q16+S16 | U16: =(10.38*$P$3) | V16: =$P$4*3 | W16: =+U16*10%+V16*10% | X16: =+U16+W16+V16 | Y16: 0.019 | Z16: =+X16*Y16 | AA16: =+X16+Z16 | AB16: =(10.21*1750905+1500) | AC16: =+AB16*10% | AD16: =+AB16+AC16 | AE16: 0.019 | AF16: =+AD16*AE16 | AG16: =+AD16+AF16
A17: VILLAVICENCIO | B17: SERVICIO DE VIGILANCIA PRIVADA CON ARMA, CON EQUIPOS DE COMUNICACIÓN DE 24 HORAS DIARIAS, TODO EL MES DE LUNES A DOMINGO INCLUIDOS FESTIVOS. | F17: 1 | G17: 1 | H17: 17878240 | I17: 1787824 | J17: 19666064 | K17: 0.019 | L17: 373655.22 | M17: 20039719 | N17: =(10.21*$P$3) | O17: =$P$4*3 | P17: =+N17*10%+O17*10% | Q17: =+N17+P17+O17 | R17: 0.019 | S17: =+Q17*R17 | T17: =+Q17+S17 | U17: =(10.38*$P$3) | V17: =$P$4*3 | W17: =+U17*10%+V17*10% | X17: =+U17+W17+V17 | Y17: 0.019 | Z17: =+X17*Y17 | AA17: =+X17+Z17 | AB17: =(10.21*1750905+1500) | AC17: =+AB17*10% | AD17: =+AB17+AC17 | AE17: 0.019 | AF17: =+AD17*AE17 | AG17: =+AD17+AF17
A18: NEIVA | B18: SERVICIO DE VIGILANCIA PRIVADA CON ARMA, CON EQUIPOS DE COMUNICACIÓN DE 24 HORAS DIARIAS, TODO EL MES DE LUNES A DOMINGO INCLUIDOS FESTIVOS. | F18: 1 | G18: 1 | H18: 17878240 | I18: 1787824 | J18: 19666064 | K18: 0.019 | L18: 373655.22 | M18: 20039719 | N18: =(10.21*$P$3) | O18: =$P$4*3 | P18: =+N18*10%+O18*10% | Q18: =+N18+P18+O18 | R18: 0.019 | S18: =+Q18*R18 | T18: =+Q18+S18 | U18: =(10.38*$P$3) | V18: =$P$4*3 | W18: =+U18*10%+V18*10% | X18: =+U18+W18+V18 | Y18: 0.019 | Z18: =+X18*Y18 | AA18: =+X18+Z18 | AB18: =(10.21*1750905+1500) | AC18: =+AB18*10% | AD18: =+AB18+AC18 | AE18: 0.019 | AF18: =+AD18*AE18 | AG18: =+AD18+AF18
A19: SANTA MARTA | B19: SERVICIO DE VIGILANCIA PRIVADA CON ARMA, CON EQUIPOS DE COMUNICACIÓN DE 24 HORAS DIARIAS, TODO EL MES DE LUNES A DOMINGO INCLUIDOS FESTIVOS. | F19: 1 | G19: 1 | H19: 17878240 | I19: 1787824 | J19: 19666064 | K19: 0.019 | L19: 373655.22 | M19: 20039719 | N19: =(10.21*$P$3) | O19: =$P$4*3 | P19: =+N19*10%+O19*10% | Q19: =+N19+P19+O19 | R19: 0.019 | S19: =+Q19*R19 | T19: =+Q19+S19 | U19: =(10.38*$P$3) | V19: =$P$4*3 | W19: =+U19*10%+V19*10% | X19: =+U19+W19+V19 | Y19: 0.019 | Z19: =+X19*Y19 | AA19: =+X19+Z19 | AB19: =(10.21*1750905+1500) | AC19: =+AB19*10% | AD19: =+AB19+AC19 | AE19: 0.019 | AF19: =+AD19*AE19 | AG19: =+AD19+AF19
A20: DUITAMA | B20: SERVICIO DE VIGILANCIA PRIVADA CON ARMA, CON EQUIPOS DE COMUNICACIÓN DE 24 HORAS DIARIAS, TODO EL MES DE LUNES A DOMINGO INCLUIDOS FESTIVOS. | F20: 1 | G20: 1 | H20: 17878240 | I20: 1787824 | J20: 19666064 | K20: 0.019 | L20: 373655.22 | M20: 20039719 | N20: =(10.21*$P$3) | O20: =$P$4*3 | P20: =+N20*10%+O20*10% | Q20: =+N20+P20+O20 | R20: 0.019 | S20: =+Q20*R20 | T20: =+Q20+S20 | U20: =(10.38*$P$3) | V20: =$P$4*3 | W20: =+U20*10%+V20*10% | X20: =+U20+W20+V20 | Y20: 0.019 | Z20: =+X20*Y20 | AA20: =+X20+Z20 | AB20: =(10.21*1423500+1500) | AC20: =+AB20*10% | AD20: =+AB20+AC20 | AE20: 0.019 | AF20: =+AD20*AE20 | AG20: =+AD20+AF20
A21: PASTO | B21: SERVICIO DE VIGILANCIA PRIVADA CON ARMA, CON EQUIPOS DE COMUNICACIÓN DE 24 HORAS DIARIAS, TODO EL MES DE LUNES A DOMINGO INCLUIDOS FESTIVOS. | F21: 1 | G21: 1 | H21: 17878240 | I21: 1787824 | J21: 19666064 | K21: 0.019 | L21: 373655.22 | M21: 20039719 | N21: =(10.21*$P$3) | O21: =$P$4*3 | P21: =+N21*10%+O21*10% | Q21: =+N21+P21+O21 | R21: 0.019 | S21: =+Q21*R21 | T21: =+Q21+S21 | U21: =(10.38*$P$3) | V21: =$P$4*3 | W21: =+U21*10%+V21*10% | X21: =+U21+W21+V21 | Y21: 0.019 | Z21: =+X21*Y21 | AA21: =+X21+Z21 | AB21: =(10.21*1750905+1500) | AC21: =+AB21*10% | AD21: =+AB21+AC21 | AE21: 0.019 | AF21: =+AD21*AE21 | AG21: =+AD21+AF21
A22: BUCARAMANGA | B22: SERVICIO DE VIGILANCIA PRIVADA CON ARMA, CON EQUIPOS DE COMUNICACIÓN DE 24 HORAS DIARIAS, TODO EL MES DE LUNES A DOMINGO INCLUIDOS FESTIVOS. | F22: 1 | G22: 1 | H22: 17878240 | I22: 1787824 | J22: 19666064 | K22: 0.019 | L22: 373655.22 | M22: 20039719 | N22: =(10.21*$P$3) | O22: =$P$4*3 | P22: =+N22*10%+O22*10% | Q22: =+N22+P22+O22 | R22: 0.019 | S22: =+Q22*R22 | T22: =+Q22+S22 | U22: =(10.38*$P$3) | V22: =$P$4*3 | W22: =+U22*10%+V22*10% | X22: =+U22+W22+V22 | Y22: 0.019 | Z22: =+X22*Y22 | AA22: =+X22+Z22 | AB22: =(10.21*1750905+1500) | AC22: =+AB22*10% | AD22: =+AB22+AC22 | AE22: 0.019 | AF22: =+AD22*AE22 | AG22: =+AD22+AF22
A23: CALI | B23: SERVICIO DE VIGILANCIA PRIVADA CON ARMA, CON EQUIPOS DE COMUNICACIÓN DE 24 HORAS DIARIAS, TODO EL MES DE LUNES A DOMINGO INCLUIDOS FESTIVOS. | F23: 1 | G23: 1 | H23: 17878240 | I23: 1787824 | J23: 19666064 | K23: 0.019 | L23: 373655.22 | M23: 20039719 | N23: =(10.21*$P$3) | O23: =$P$4*3 | P23: =+N23*10%+O23*10% | Q23: =+N23+P23+O23 | R23: 0.019 | S23: =+Q23*R23 | T23: =+Q23+S23 | U23: =(10.38*$P$3) | V23: =$P$4*3 | W23: =+U23*10%+V23*10% | X23: =+U23+W23+V23 | Y23: 0.019 | Z23: =+X23*Y23 | AA23: =+X23+Z23 | AB23: =(10.21*1750905+1500) | AC23: =+AB23*10% | AD23: =+AB23+AC23 | AE23: 0.019 | AF23: =+AD23*AE23 | AG23: =+AD23+AF23
A24: CALI | B24: SERVICIO DE VIGILANCIA PRIVADA CON ARMA, CON EQUIPOS DE COMUNICACIÓN DE 24 HORAS DIARIAS, TODO EL MES DE LUNES A DOMINGO INCLUIDOS FESTIVOS. | F24: 1 | G24: 1 | H24: 17878240 | I24: 1787824 | J24: 19666064 | K24: 0.019 | L24: 373655.22 | M24: 20039719 | N24: =(10.21*$P$3) | O24: =$P$4*3 | P24: =+N24*10%+O24*10% | Q24: =+N24+P24+O24 | R24: 0.019 | S24: =+Q24*R24 | T24: =+Q24+S24 | U24: =(10.38*$P$3) | V24: =$P$4*3 | W24: =+U24*10%+V24*10% | X24: =+U24+W24+V24 | Y24: 0.019 | Z24: =+X24*Y24 | AA24: =+X24+Z24 | AB24: =(10.21*1750905+1500) | AC24: =+AB24*10% | AD24: =+AB24+AC24 | AE24: 0.019 | AF24: =+AD24*AE24 | AG24: =+AD24+AF24
A25: IBAGUE | B25: SERVICIO DE VIGILANCIA PRIVADA CON ARMA, CON EQUIPOS DE COMUNICACIÓN DE 24 HORAS DIARIAS, TODO EL MES DE LUNES A DOMINGO INCLUIDOS FESTIVOS. | F25: 1 | G25: 1 | H25: 17878240 | I25: 1787824 | J25: 19666064 | K25: 0.019 | L25: 373655.22 | M25: 20039719 | N25: =(10.21*$P$3) | O25: =$P$4*3 | P25: =+N25*10%+O25*10% | Q25: =+N25+P25+O25 | R25: 0.019 | S25: =+Q25*R25 | T25: =+Q25+S25 | U25: =(10.38*$P$3) | V25: =$P$4*3 | W25: =+U25*10%+V25*10% | X25: =+U25+W25+V25 | Y25: 0.019 | Z25: =+X25*Y25 | AA25: =+X25+Z25 | AB25: =(10.21*1750905+1500) | AC25: =+AB25*10% | AD25: =+AB25+AC25 | AE25: 0.019 | AF25: =+AD25*AE25 | AG25: =+AD25+AF25
A26: PUERTO CARREÑO | B26: SERVICIO DE VIGILANCIA PRIVADA CON ARMA, CON EQUIPOS DE COMUNICACIÓN DE 12 HORAS NOCTURNAS DIARIAS, TODO EL MES DE LUNES A DOMINGO, INCLUIDO FESTIVOS EN EL HORARIO DE 6:00 P.M. A 6:00 A.M. | F26: 1 | G26: 1 | H26: 10023906 | I26: 1002390.6 | J26: 11026297 | K26: 0 | L26: 0 | M26: 11026297 | N26: =((10.21*$P$3)*47.59%/13*1)+((10.21*$P$3)*52.41%/11*11) | O26: =(($P$4)*47.59%/13*1)+(($P$4)*52.41%/11*11) | P26: =(N26*10%)+(O26*10%) | Q26: =+N26+P26+O26 | R26: 0.019 | S26: =+Q26*R26 | T26: =+S26+Q26 | U26: =((10.38*$P$3)*47.59%/13*1)+((10.38*$P$3)*52.41%/11*11) | V26: =(($P$4)*47.59%/13*1)+(($P$4)*52.41%/11*11) | W26: =(U26*10%)+(V26*10%) | X26: =+U26+W26+V26 | Y26: 0.019 | Z26: =+X26*Y26 | AA26: =+Z26+X26 | AB26: =+((10.21*1750905+1000)*$E$33%/30*30)+((10.21*1750905+1000)*$E$34%/30*30) | AC26: =+AB26*10% | AD26: =+AB26+AC26 | AE26: 0 | AF26: 0 | AG26: =+AF26+AD26
A27: SAN ANDRES | B27: SERVICIO DE VIGILANCIA PRIVADA CON ARMA, CON EQUIPOS DE COMUNICACIÓN DE 12 HORAS NOCTURNAS DIARIAS, TODO EL MES DE LUNES A DOMINGO, INCLUIDO FESTIVOS EN EL HORARIO DE 6:00 P.M. A 6:00 A.M. | F27: 1 | G27: 1 | H27: 10023906 | I27: 1002390.6 | J27: 11026297 | K27: 0 | L27: 0 | M27: 11026297 | N27: =((10.21*$P$3)*47.59%/13*1)+((10.21*$P$3)*52.41%/11*11) | O27: =(($P$4)*47.59%/13*1)+(($P$4)*52.41%/11*11) | P27: =(N27*10%)+(O27*10%) | Q27: =+N27+P27+O27 | S27: =+Q27*R27 | T27: =+S27+Q27 | U27: =((10.38*$P$3)*47.59%/13*1)+((10.38*$P$3)*52.41%/11*11) | V27: =(($P$4)*47.59%/13*1)+(($P$4)*52.41%/11*11) | W27: =(U27*10%)+(V27*10%) | X27: =+U27+W27+V27 | Z27: =+X27*Y27 | AA27: =+Z27+X27 | AB27: =(10.21*1750905+1500) | AC27: =+AB27*10% | AD27: =+AB27+AC27 | AE27: 0 | AF27: 0 | AG27: =+AF27+AD27
A28: LETICIA | B28: SERVICIO DE VIGILANCIA PRIVADA CON ARMA, CON EQUIPOS DE COMUNICACIÓN DE 12 HORAS NOCTURNAS DIARIAS, TODO EL MES DE LUNES A DOMINGO, INCLUIDO FESTIVOS EN EL HORARIO DE 6:00 P.M. A 6:00 A.M. | F28: 1 | G28: 1 | H28: 10023906 | I28: 1002390.6 | J28: 11026297 | K28: 0 | L28: 0 | M28: 11026297 | N28: =((10.21*$P$3)*47.59%/13*1)+((10.21*$P$3)*52.41%/11*11) | O28: =(($P$4)*47.59%/13*1)+(($P$4)*52.41%/11*11) | P28: =(N28*10%)+(O28*10%) | Q28: =+N28+P28+O28 | R28: 0.019 | S28: =+Q28*R28 | T28: =+S28+Q28 | U28: =((10.38*$P$3)*47.59%/13*1)+((10.38*$P$3)*52.41%/11*11) | V28: =(($P$4)*47.59%/13*1)+(($P$4)*52.41%/11*11) | W28: =(U28*10%)+(V28*10%) | X28: =+U28+W28+V28 | Y28: 0.019 | Z28: =+X28*Y28 | AA28: =+Z28+X28 | AB28: =(10.21*1750905+1500) | AC28: =+AB28*10% | AD28: =+AB28+AC28 | AE28: 0 | AF28: 0 | AG28: =+AF28+AD28
L30: TOTAL MENSUAL | M30: =SUM(M8:M29) | N30: AIU | P30: =SUM(P8:P29) | S30: TOTAL MENSUAL | T30: =SUM(T8:T29) | U30: AIU | W30: =SUM(W8:W29) | Z30: TOTAL MENSUAL | AA30: =SUM(AA8:AA29) | AB30: AIU | AC30: =SUM(AC8:AC29) | AF30: TOTAL MENSUAL | AG30: =SUM(AG8:AG29)
N32: =+((1000)*$E$33%/30*30)+((1000)*$E$34%/30*30)
B33: PUERTO CARREÑO | C33: TURNO 1 HORAS DIURNO | E33: =1*47.59/13 | AD33: DESDE 01 DE AGOSTO | AE33: =+AG30*5
C34: TURNO 11 HORAS NOCTURNO | E34: =11*52.41/11
AG35: =+#REF!+AE33

Sheet PROYECCION VALORES 
A2: PROYECCIÓN VIGENCIA | B2: Dic. 2026 | C2: Ene. 2027 | D2: Feb. 2027 | E2: Mar. 2027 | F2: Abr. 2027 | G2: May. 2027 | H2: Jun. 2027 | I2: Jul. 2027 | J2: Ago. 2027 | K2: Sep. 2027 | L2: Oct. 2027 | M2: Nov. 2027
A3: VALOR | B3: ='PROYECCION DICIEMBRE 2026'!N27 | C3: ='PROYECCIÓN 2027'!T30 | D3: ='PROYECCIÓN 2027'!T30 | E3: ='PROYECCIÓN 2027'!T30 | F3: ='PROYECCIÓN 2027'!T30 | G3: ='PROYECCIÓN 2027'!T30 | H3: ='PROYECCIÓN 2027'!T30 | I3: ='PROYECCIÓN 2027'!AA30 | J3: ='PROYECCIÓN 2027'!AA30 | K3: ='PROYECCIÓN 2027'!AA30 | L3: ='PROYECCIÓN 2027'!AA30 | M3: ='PROYECCIÓN 2027'!AA30
A4: MEDIOS TECNOLOGICOS MENSUALES | B4: ='EM MEDIOS TECNOLOGICOS'!$R$85 | C4: ='EM MEDIOS TECNOLOGICOS'!$R$85 | D4: ='EM MEDIOS TECNOLOGICOS'!$R$85 | E4: ='EM MEDIOS TECNOLOGICOS'!$R$85 | F4: ='EM MEDIOS TECNOLOGICOS'!$R$85 | G4: ='EM MEDIOS TECNOLOGICOS'!$R$85 | H4: ='EM MEDIOS TECNOLOGICOS'!$R$85 | I4: ='EM MEDIOS TECNOLOGICOS'!$R$85 | ... M4: ='EM MEDIOS TECNOLOGICOS'!$R$85
A5: VALOR TOTAL MENSUAL | B5: =SUM(B3:B4) | C5: =SUM(C3:C4) | D5: =SUM(D3:D4) | E5: =SUM(E3:E4) | F5: =SUM(F3:F4) | G5: =SUM(G3:G4) | H5: =SUM(H3:H4) | I5: =SUM(I3:I4) | ... M5: =SUM(M3:M4)
A6: VALOR TOTAL PROYECCION DESDE DICIEMBRE 2026 HASTA NOVIEMBRE 2027 RECURSO HUMANO SERVICIO DE VIGILANCIA | M6: =SUM(B5:M5)
D8: VF | F8: 4697369894
D9: APALANCAMIENTO | F9: 394468072
D10: TOTAL | F10: =F8+F9

Sheet EM MEDIOS TECNOLOGICOS
E1: COSERVIPP LTDA | I1: CENTINELAS LTDA | M1: SURAMERICANA DE PROTECCIÓN Y SEGURIDAD PRIVADA LTDA | Q1: VALOR PROMEDIO UNITARIO MENSUAL ESTUDIO DE MERCADOS IVA INCLUIDO | R1: VALOR PROMEDIO MENSUAL CANTIDADES ESTUDIO DE MERCADOS IVA INCLUIDO | S1: VALOR PROMEDIO TOTAL * 12 MESES
A2: ITEM | B2: LUGAR UBICACIÓN | C2: SERVICIO DE MEDIOS TECNOLOGICO | D2: CANTIDAD | E2: VALOR UNITARIO MENSUAL | F2: IVA | G2: VALOR UNITARIO MENSUAL INCLUIDO IVA | H2: VALOR TOTAL MENSUAL CANTIDADES | I2: VALOR UNITARIO MENSUAL | J2: IVA | K2: VALOR UNITARIO MENSUAL INCLUIDO IVA | L2: VALOR TOTAL MENSUAL CANTIDADES | M2: VALOR UNITARIO MENSUAL | N2: IVA | O2: VALOR UNITARIO MENSUAL INCLUIDO IVA | P2: VALOR TOTAL MENSUAL CANTIDADES
A3: 1 | B3: IDEAM FONTIBON BOGOTA | C3: NVR 32 CANALES - 4K (INCLUYE ALMACENAMIENTO Y SWITCHES) | D3: 2 | E3: 554000 | F3: =E3*19% | G3: =E3+F3 | H3: =G3*D3 | I3: 500539 | J3: =I3*19% | K3: =I3+J3 | L3: =K3*D3 | M3: 524664.98 | N3: =M3*19% | O3: =M3+N3 | P3: =O3*D3 | Q3: =AVERAGE(G3,K3,O3) | R3: =AVERAGE(H3,L3,P3) | S3: =R3*12
C4: CÁMARA TIPO DOMO FIJA. VARIFOCAL | D4: 59 | E4: 55000 | F4: =E4*19% | G4: =E4+F4 | H4: =G4*D4 | I4: 49692.5 | J4: =I4*19% | K4: =I4+J4 | L4: =K4*D4 | M4: 52087.679 | N4: =M4*19% | O4: =M4+N4 | P4: =O4*D4 | Q4: =AVERAGE(G4,K4,O4) | R4: =AVERAGE(H4,L4,P4) | S4: =R4*12
C5: CÁMARA TIPO DOMO PTZ. 4MP 25X VARIFOCAL | D5: 4 | E5: 235000 | F5: =E5*19% | G5: =E5+F5 | H5: =G5*D5 | I5: 212322.5 | J5: =I5*19% | K5: =I5+J5 | L5: =K5*D5 | M5: 222556.44 | N5: =M5*19% | O5: =M5+N5 | P5: =O5*D5 | Q5: =AVERAGE(G5,K5,O5) | R5: =AVERAGE(H5,L5,P5) | S5: =R5*12
C6: SERVIDOR CENTRAL DE GESTIÓN DE VIDEO DE MONITOREO Y SOFTWARE VMS | D6: 1 | E6: 370000 | F6: =E6*19% | G6: =E6+F6 | H6: =G6*D6 | I6: 334295 | J6: =I6*19% | K6: =I6+J6 | L6: =K6*D6 | M6: 350408.02 | N6: =M6*19% | O6: =M6+N6 | P6: =O6*D6 | Q6: =AVERAGE(G6,K6,O6) | R6: =AVERAGE(H6,L6,P6) | S6: =R6*12
C7: MONITOR 43" (MATRIX 2x2) | D7: 4 | E7: 130000 | F7: =E7*19% | G7: =E7+F7 | H7: =G7*D7 | I7: 117455 | J7: =I7*19% | K7: =I7+J7 | L7: =K7*D7 | M7: 123116.33 | N7: =M7*19% | O7: =M7+N7 | P7: =O7*D7 | Q7: =AVERAGE(G7,K7,O7) | R7: =AVERAGE(H7,L7,P7) | S7: =R7*12
C8: DECODIFICADOR DE VIDEO IP DE ALTO RENDIMIENTO PARA PARED DE TV | D8: 1 | E8: 370000 | F8: =E8*19% | G8: =E8+F8 | H8: =G8*D8 | I8: 334295 | J8: =I8*19% | K8: =I8+J8 | L8: =K8*D8 | M8: 350408.02 | N8: =M8*19% | O8: =M8+N8 | P8: =O8*D8 | Q8: =AVERAGE(G8,K8,O8) | R8: =AVERAGE(H8,L8,P8) | S8: =R8*12
C9: MESA CONTROLADORA IPKEY | D9: 1 | E9: 176000 | F9: =E9*19% | G9: =E9+F9 | H9: =G9*D9 | I9: 159016 | J9: =I9*19% | K9: =I9+J9 | L9: =K9*D9 | M9: 166680.57 | N9: =M9*19% | O9: =M9+N9 | P9: =O9*D9 | Q9: =AVERAGE(G9,K9,O9) | R9: =AVERAGE(H9,L9,P9) | S9: =R9*12
C10: UPS 3 KVA | D10: 1 | E10: 190000 | F10: =E10*19% | G10: =E10+F10 | H10: =G10*D10 | I10: 171665 | J10: =I10*19% | K10: =I10+J10 | L10: =K10*D10 | M10: 179939.25 | N10: =M10*19% | O10: =M10+N10 | P10: =O10*D10 | Q10: =AVERAGE(G10,K10,O10) | R10: =AVERAGE(H10,L10,P10) | S10: =R10*12
C11: RACK GABINETE 20RU PARA PISO CON RUEDAS | D11: 1 | E11: 70000 | F11: =E11*19% | G11: =E11+F11 | H11: =G11*D11 | I11: 63245 | J11: =I11*19% | K11: =I11+J11 | L11: =K11*D11 | M11: 66293.409 | N11: =M11*19% | O11: =M11+N11 | P11: =O11*D11 | Q11: =AVERAGE(G11,K11,O11) | R11: =AVERAGE(H11,L11,P11) | S11: =R11*12
C12: SISTEMA CONTROL DE ACCESO CON IMPRESIÓN DE STICKERS (Incluye Lector de cédulas, Cámara Web conexión USB, Impresora de tickets, Rollo de stickers durante toda la ejecución del contrato) | D12: 1 | E12: 759725.17 | F12: =E12*19% | G12: =E12+F12 | H12: =G12*D12 | I12: 686411.69 | J12: =I12*19% | K12: =I12+J12 | L12: =K12*D12 | M12: 719496.73 | N12: =M12*19% | O12: =M12+N12 | P12: =O12*D12 | Q12: =AVERAGE(G12,K12,O12) | R12: =AVERAGE(H12,L12,P12) | S12: =R12*12
C13: INFRAESTRUCTURA (infraestructura de interconexión (cableado, canalizaciones, rack), mano de obra por instalación, configuración y mantenimiento, un canal de internet en la sede principal para la recepción de video de las sedes externas) | D13: 1 | E13: 8026326 | F13: =E13*19% | G13: =E13+F13 | H13: =G13*D13 | I13: 7251785.5 | J13: =I13*19% | K13: =I13+J13 | L13: =K13*D13 | M13: 7601321.6 | N13: =M13*19% | O13: =M13+N13 | P13: =O13*D13 | Q13: =AVERAGE(G13,K13,O13) | R13: =AVERAGE(H13,L13,P13) | S13: =R13*12
A14: 2 | B14: PTE ARANDA BODEGA BOGOTA | C14: NVR 32 CANALES - 4K (INCLUYE ALMACENAMIENTO Y SWITCHES) | D14: 1 | E14: 554000 | F14: =E14*19% | G14: =E14+F14 | H14: =G14*D14 | I14: 500539 | J14: =I14*19% | K14: =I14+J14 | L14: =K14*D14 | M14: 524664.98 | N14: =M14*19% | O14: =M14+N14 | P14: =O14*D14 | Q14: =AVERAGE(G14,K14,O14) | R14: =AVERAGE(H14,L14,P14) | S14: =R14*12
C15: CÁMARA TIPO DOMO FIJA. VARIFOCAL | D15: 32 | E15: 55000 | F15: =E15*19% | G15: =E15+F15 | H15: =G15*D15 | I15: 49692.5 | J15: =I15*19% | K15: =I15+J15 | L15: =K15*D15 | M15: 52087.679 | N15: =M15*19% | O15: =M15+N15 | P15: =O15*D15 | Q15: =AVERAGE(G15,K15,O15) | R15: =AVERAGE(H15,L15,P15) | S15: =R15*12
C16: UPS 3 KVA | D16: 1 | E16: 190000 | F16: =E16*19% | G16: =E16+F16 | H16: =G16*D16 | I16: 171665 | J16: =I16*19% | K16: =I16+J16 | L16: =K16*D16 | M16: 179939.25 | N16: =M16*19% | O16: =M16+N16 | P16: =O16*D16 | Q16: =AVERAGE(G16,K16,O16) | R16: =AVERAGE(H16,L16,P16) | S16: =R16*12
C17: RACK GABINETE 5RU PARED | D17: 1 | E17: 31666.667 | F17: =E17*19% | G17: =E17+F17 | H17: =G17*D17 | I17: 28610.833 | J17: =I17*19% | K17: =I17+J17 | L17: =K17*D17 | M17: 29989.875 | N17: =M17*19% | O17: =M17+N17 | P17: =O17*D17 | Q17: =AVERAGE(G17,K17,O17) | R17: =AVERAGE(H17,L17,P17) | S17: =R17*12
C18: MONITOR 43" | D18: 1 | E18: 130000 | F18: =E18*19% | G18: =E18+F18 | H18: =G18*D18 | I18: 117455 | J18: =I18*19% | K18: =I18+J18 | L18: =K18*D18 | M18: 123116.33 | N18: =M18*19% | O18: =M18+N18 | P18: =O18*D18 | Q18: =AVERAGE(G18,K18,O18) | R18: =AVERAGE(H18,L18,P18) | S18: =R18*12
C19: INFRAESTRUCTURA (infraestructura de interconexión (cableado, canalizaciones, rack), mano de obra por instalación, configuración y mantenimiento) | D19: 1 | E19: 3206808.8 | F19: =E19*19% | G19: =E19+F19 | H19: =G19*D19 | I19: 2897351.8 | J19: =I19*19% | K19: =I19+J19 | L19: =K19*D19 | M19: 3037004.1 | N19: =M19*19% | O19: =M19+N19 | P19: =O19*D19 | Q19: =AVERAGE(G19,K19,O19) | R19: =AVERAGE(H19,L19,P19) | S19: =R19*12
A20: 3 | B20: PTE ARANDA LABORATORIO BOGOTA | C20: NVR 32 CANALES - 4K (INCLUYE ALMACENAMIENTO Y SWITCHES) | D20: 1 | E20: 554000 | F20: =E20*19% | G20: =E20+F20 | H20: =G20*D20 | I20: 500539 | J20: =I20*19% | K20: =I20+J20 | L20: =K20*D20 | M20: 524664.98 | N20: =M20*19% | O20: =M20+N20 | P20: =O20*D20 | Q20: =AVERAGE(G20,K20,O20) | R20: =AVERAGE(H20,L20,P20) | S20: =R20*12
C21: CÁMARA TIPO DOMO FIJA. VARIFOCAL | D21: 26 | E21: 55000 | F21: =E21*19% | G21: =E21+F21 | H21: =G21*D21 | I21: 49692.5 | J21: =I21*19% | K21: =I21+J21 | L21: =K21*D21 | M21: 52087.679 | N21: =M21*19% | O21: =M21+N21 | P21: =O21*D21 | Q21: =AVERAGE(G21,K21,O21) | R21: =AVERAGE(H21,L21,P21) | S21: =R21*12
C22: RACK GABINETE 5RU PARED | D22: 1 | E22: 31666.667 | F22: =E22*19% | G22: =E22+F22 | H22: =G22*D22 | I22: 28610.833 | J22: =I22*19% | K22: =I22+J22 | L22: =K22*D22 | M22: 29989.875 | N22: =M22*19% | O22: =M22+N22 | P22: =O22*D22 | Q22: =AVERAGE(G22,K22,O22) | R22: =AVERAGE(H22,L22,P22) | S22: =R22*12
C23: MONITOR 43" | D23: 1 | E23: 130000 | F23: =E23*19% | G23: =E23+F23 | H23: =G23*D23 | I23: 117455 | J23: =I23*19% | K23: =I23+J23 | L23: =K23*D23 | M23: 123116.33 | N23: =M23*19% | O23: =M23+N23 | P23: =O23*D23 | Q23: =AVERAGE(G23,K23,O23) | R23: =AVERAGE(H23,L23,P23) | S23: =R23*12
C24: INFRAESTRUCTURA (infraestructura de interconexión (cableado, canalizaciones, rack), mano de obra por instalación, configuración y mantenimiento) | D24: 1 | E24: 2605532.2 | F24: =E24*19% | G24: =E24+F24 | H24: =G24*D24 | I24: 2354098.3 | J24: =I24*19% | K24: =I24+J24 | L24: =K24*D24 | M24: 2467565.9 | N24: =M24*19% | O24: =M24+N24 | P24: =O24*D24 | Q24: =AVERAGE(G24,K24,O24) | R24: =AVERAGE(H24,L24,P24) | S24: =R24*12
A25: 4 | B25: MEDELLIN | C25: NVR 8 CANALES - 4K (INCLUYE ALMACENAMIENTO) | D25: 1 | E25: 267000 | F25: =E25*19% | G25: =E25+F25 | H25: =G25*D25 | I25: 241234.5 | J25: =I25*19% | K25: =I25+J25 | L25: =K25*D25 | M25: 252862 | N25: =M25*19% | O25: =M25+N25 | P25: =O25*D25 | Q25: =AVERAGE(G25,K25,O25) | R25: =AVERAGE(H25,L25,P25) | S25: =R25*12
C26: CÁMARA TIPO DOMO FIJA. VARIFOCAL | D26: 1 | E26: 55000 | F26: =E26*19% | G26: =E26+F26 | H26: =G26*D26 | I26: 49692.5 | J26: =I26*19% | K26: =I26+J26 | L26: =K26*D26 | M26: 52087.679 | N26: =M26*19% | O26: =M26+N26 | P26: =O26*D26 | Q26: =AVERAGE(G26,K26,O26) | R26: =AVERAGE(H26,L26,P26) | S26: =R26*12
C27: UPS 1KVA | D27: 1 | E27: 51000 | F27: =E27*19% | G27: =E27+F27 | H27: =G27*D27 | I27: 46078.5 | J27: =I27*19% | K27: =I27+J27 | L27: =K27*D27 | M27: 48299.484 | N27: =M27*19% | O27: =M27+N27 | P27: =O27*D27 | Q27: =AVERAGE(G27,K27,O27) | R27: =AVERAGE(H27,L27,P27) | S27: =R27*12
C28: RACK GABINETE 5RU PARED | D28: 1 | E28: 31666.667 | F28: =E28*19% | G28: =E28+F28 | H28: =G28*D28 | I28: 28610.833 | J28: =I28*19% | K28: =I28+J28 | L28: =K28*D28 | M28: 29989.875 | N28: =M28*19% | O28: =M28+N28 | P28: =O28*D28 | Q28: =AVERAGE(G28,K28,O28) | R28: =AVERAGE(H28,L28,P28) | S28: =R28*12
C29: MONITOR 24" | D29: 1 | E29: 50000 | F29: =E29*19% | G29: =E29+F29 | H29: =G29*D29 | I29: 45175 | J29: =I29*19% | K29: =I29+J29 | L29: =K29*D29 | M29: 47352.435 | N29: =M29*19% | O29: =M29+N29 | P29: =O29*D29 | Q29: =AVERAGE(G29,K29,O29) | R29: =AVERAGE(H29,L29,P29) | S29: =R29*12
C30: INFRAESTRUCTURA (infraestructura de interconexión (cableado, canalizaciones, rack), mano de obra por instalación, configuración y mantenimiento) | D30: 1 | E30: 327425.42 | F30: =E30*19% | G30: =E30+F30 | H30: =G30*D30 | I30: 295828.86 | J30: =I30*19% | K30: =I30+J30 | L30: =K30*D30 | M30: 310087.82 | N30: =M30*19% | O30: =M30+N30 | P30: =O30*D30 | Q30: =AVERAGE(G30,K30,O30) | R30: =AVERAGE(H30,L30,P30) | S30: =R30*12
A31: 5 | B31: BARRANQUILLA | C31: NVR 8 CANALES - 4K (INCLUYE ALMACENAMIENTO) | D31: 1 | E31: 267000 | F31: =E31*19% | G31: =E31+F31 | H31: =G31*D31 | I31: 241234.5 | J31: =I31*19% | K31: =I31+J31 | L31: =K31*D31 | M31: 252862 | N31: =M31*19% | O31: =M31+N31 | P31: =O31*D31 | Q31: =AVERAGE(G31,K31,O31) | R31: =AVERAGE(H31,L31,P31) | S31: =R31*12
C32: CÁMARA TIPO DOMO FIJA. VARIFOCAL | D32: 1 | E32: 55000 | F32: =E32*19% | G32: =E32+F32 | H32: =G32*D32 | I32: 49692.5 | J32: =I32*19% | K32: =I32+J32 | L32: =K32*D32 | M32: 52087.679 | N32: =M32*19% | O32: =M32+N32 | P32: =O32*D32 | Q32: =AVERAGE(G32,K32,O32) | R32: =AVERAGE(H32,L32,P32) | S32: =R32*12
C33: UPS 1KVA | D33: 1 | E33: 51000 | F33: =E33*19% | G33: =E33+F33 | H33: =G33*D33 | I33: 46078.5 | J33: =I33*19% | K33: =I33+J33 | L33: =K33*D33 | M33: 48299.484 | N33: =M33*19% | O33: =M33+N33 | P33: =O33*D33 | Q33: =AVERAGE(G33,K33,O33) | R33: =AVERAGE(H33,L33,P33) | S33: =R33*12
C34: RACK GABINETE 5RU PARED | D34: 1 | E34: 31666.667 | F34: =E34*19% | G34: =E34+F34 | H34: =G34*D34 | I34: 28610.833 | J34: =I34*19% | K34: =I34+J34 | L34: =K34*D34 | M34: 29989.875 | N34: =M34*19% | O34: =M34+N34 | P34: =O34*D34 | Q34: =AVERAGE(G34,K34,O34) | R34: =AVERAGE(H34,L34,P34) | S34: =R34*12
C35: MONITOR 24" | D35: 1 | E35: 50000 | F35: =E35*19% | G35: =E35+F35 | H35: =G35*D35 | I35: 45175 | J35: =I35*19% | K35: =I35+J35 | L35: =K35*D35 | M35: 47352.435 | N35: =M35*19% | O35: =M35+N35 | P35: =O35*D35 | Q35: =AVERAGE(G35,K35,O35) | R35: =AVERAGE(H35,L35,P35) | S35: =R35*12
C36: INFRAESTRUCTURA (infraestructura de interconexión (cableado, canalizaciones, rack), mano de obra por instalación, configuración y mantenimiento) | D36: 1 | E36: 327425.42 | F36: =E36*19% | G36: =E36+F36 | H36: =G36*D36 | I36: 295828.86 | J36: =I36*19% | K36: =I36+J36 | L36: =K36*D36 | M36: 310087.82 | N36: =M36*19% | O36: =M36+N36 | P36: =O36*D36 | Q36: =AVERAGE(G36,K36,O36) | R36: =AVERAGE(H36,L36,P36) | S36: =R36*12
A37: 6 | B37: VILLAVICENCIO | C37: NVR 8 CANALES - 4K (INCLUYE ALMACENAMIENTO) | D37: 1 | E37: 267000 | F37: =E37*19% | G37: =E37+F37 | H37: =G37*D37 | I37: 241234.5 | J37: =I37*19% | K37: =I37+J37 | L37: =K37*D37 | M37: 252862 | N37: =M37*19% | O37: =M37+N37 | P37: =O37*D37 | Q37: =AVERAGE(G37,K37,O37) | R37: =AVERAGE(H37,L37,P37) | S37: =R37*12
C38: CÁMARA TIPO DOMO FIJA. VARIFOCAL | D38: 2 | E38: 55000 | F38: =E38*19% | G38: =E38+F38 | H38: =G38*D38 | I38: 49692.5 | J38: =I38*19% | K38: =I38+J38 | L38: =K38*D38 | M38: 52087.679 | N38: =M38*19% | O38: =M38+N38 | P38: =O38*D38 | Q38: =AVERAGE(G38,K38,O38) | R38: =AVERAGE(H38,L38,P38) | S38: =R38*12
C39: UPS 1KVA | D39: 1 | E39: 51000 | F39: =E39*19% | G39: =E39+F39 | H39: =G39*D39 | I39: 46078.5 | J39: =I39*19% | K39: =I39+J39 | L39: =K39*D39 | M39: 48299.484 | N39: =M39*19% | O39: =M39+N39 | P39: =O39*D39 | Q39: =AVERAGE(G39,K39,O39) | R39: =AVERAGE(H39,L39,P39) | S39: =R39*12
C40: RACK GABINETE 5RU PARED | D40: 1 | E40: 31666.667 | F40: =E40*19% | G40: =E40+F40 | H40: =G40*D40 | I40: 28610.833 | J40: =I40*19% | K40: =I40+J40 | L40: =K40*D40 | M40: 29989.875 | N40: =M40*19% | O40: =M40+N40 | P40: =O40*D40 | Q40: =AVERAGE(G40,K40,O40) | R40: =AVERAGE(H40,L40,P40) | S40: =R40*12
...

Sheet Hoja1
A1: TARIFAS - SEGURO DE VIDA PARA EMPRESAS DE VIGILANCIA | E1: VALOR PROMEDIO PRIMA INDIVIDUAL MENSUAL
A3: ASEGURADORA | B3: AMPARO | C3: VALORES ASEGURADOS | D3: PRIMA INDIVIDUAL MENSUAL
A4: SEGUROS DEL ESTADO | B4: MUERTE POR CUALQUIER CAUSA | C4: 20000000 | D4: 5500 | E4: =ROUND(AVERAGE(D4:D6),0)
A5: MUNDIAL SEGUROS | B5: MUERTE POR CUALQUIER CAUSA | C5: 20000000 | D5: 5100
A6: CAF ASESORES DE SEGUROS | B6: MUERTE POR CUALQUIER CAUSA | C6: 20000000 | D6: 8500
