Workbook

Sheet ANEXO 1 - COTIZACIONES
B2: ANEXO 1 - COTIZACIONES
D3: ANÁLISIS DE COTIZACIONES
D4: Suministro e instalación y puesta en funcionamiento de equipos UPS para diferentes sedes de la Regional Nororiental de la Fiscalía General de la Nación.
B9: ÍTEM | C9: DESCRIPCIÓN | D9: UNIDAD DE MEDIDA | E9: CANTIDAD | G9: COTIZACIÓN No.1 | H9: COTIZACIÓN No.2 | J9: VALOR COTIZACIÓN HÁBIL MÁS BAJA | K9: PROMEDIO | L9: VALOR COTIZACIÓN HÁBIL MÁS ALTA | M9: PORCENTAJE DIFERENCIAL (BAJA/PROMEDIO) | N9: MEDIA ARITMETICA BAJA | P9: ANALISIS DE COTIZACIONES
G11: VALOR UNITARIO SIN IVA | H11: VALOR UNITARIO SIN IVA | J11: VALOR UNITARIO SIN IVA | K11: VALOR UNITARIO SIN IVA | L11: VALOR UNITARIO SIN IVA | M11: 40% > / < | N11: VALOR UNITARIO SIN IVA | P11: VALOR UNITARIO SIN IVA | Q11: VALOR IVA | R11: VALOR UNITARIO INCLUIDO IVA | S11: VALOR TOTAL INCLUIDO IVA
B12: 1 | C12: Suministro, instalación y puesta en funcionamiento de una unidad UPS tipo ON-Line de Doble Conversión, capacidad de 10kVA Bifásica para la sede de Ocaña - Norte de Santander. Incluye baterías e instalación a punto cero. | D12: Unidad | E12: 1 | G12: 17400000 | H12: 11136000 | J12: =ROUND(MIN(G12,H12),0) -> 11136000 | K12: =ROUND(AVERAGE(G12,H12),0) -> 14268000 | L12: =+MAX(G12,H12) -> 17400000 | M12: =+(L12/J12)-1 -> 0.5625 | N12: =ROUND(AVERAGE(J12,K12),0) -> 12702000 | P12: =+N12 -> 12702000 | Q12: =ROUND(P12*19%,0) -> 2413380 | R12: =+P12+Q12 -> 15115380 | S12: =+R12*E12 -> 15115380
B13: 2 | C13: Suministro, instalación y puesta en funcionamiento de una unidad UPS tipo ON-Line de Doble Conversión, capacidad de 6kVA Bifásica para la sede de Piedecuesta - Santander. Incluye baterías e instalación a punto cero. | D13: Unidad | E13: 1 | G13: 11760000 | H13: 9568000 | J13: =ROUND(MIN(G13,H13),0) -> 9568000 | K13: =ROUND(AVERAGE(G13,H13),0) -> 10664000 | L13: =+MAX(G13,H13) -> 11760000 | M13: =+(L13/J13)-1 -> 0.22909699 | N13: =ROUND(AVERAGE(J13,K13),0) -> 10116000 | P13: =+N13 -> 10116000 | Q13: =ROUND(P13*19%,0) -> 1922040 | R13: =+P13+Q13 -> 12038040 | S13: =+R13*E13 -> 12038040
B14: 3 | C14: Suministro, instalación y puesta en funcionamiento de una unidad UPS tipo ON-Line de Doble Conversión, capacidad de 6kVA Monofásica para la sede de Los Patios - Norte de Santander. Incluye baterías e instalación a punto cero. | D14: Unidad | E14: 1 | G14: 11520000 | H14: 10992000 | J14: =ROUND(MIN(G14,H14),0) -> 10992000 | K14: =ROUND(AVERAGE(G14,H14),0) -> 11256000 | L14: =+MAX(G14,H14) -> 11520000 | M14: =+(L14/J14)-1 -> 0.048034934 | N14: =ROUND(AVERAGE(J14,K14),0) -> 11124000 | P14: =+N14 -> 11124000 | Q14: =ROUND(P14*19%,0) -> 2113560 | R14: =+P14+Q14 -> 13237560 | S14: =+R14*E14 -> 13237560
B16: NOTAS:
B17: 1) Se realizó el estudio con dos cotizacion la cual cumple con lo solicitado por la entidad
B18: 2) Para establecer el valor del mercado se utiliza la formula promedio
B19: 3) En el presente análisis se aplicó el procedimiento de aproximación generalmente aceptado por las reglas matemáticas denominado redondeo, que consiste en acercar los valores decimales al número entero más aproximado (a la baja, cuando el numero decimal sea menor a 5 o a la alta cuando el numero decimal sea igual o mayor a 5).

Sheet ANEXO 2 - HISTORICOS
B2: ANEXO 2 - HISTORICOS
D3: ANÁLISIS DE COSTOS HISTÓRICOS
D4: ='ANEXO 1 - COTIZACIONES'!D4 -> Suministro e instalación y puesta en funcionamiento de equipos UPS para diferentes sedes de la Regional Nororiental de la Fiscalía General de la Nación.
B9: ÍTEM | C9: DESCRIPCIÓN | D9: UNIDAD DE MEDIDA | E9: CANTIDAD | G9: PROCESO | H9: IPC SERIE DE EMPALME | K9: ANÁLISIS DE COSTOS HISTÓRICOS
H10: 45931 | I10: 46113
G11: VALOR UNITARIO | H11: 1.5176 | I11: 1.5817 | K11: VALOR UNITARIO SIN IVA | L11: VALOR TOTAL SIN IVA
B12: 1 | C12: ='ANEXO 1 - COTIZACIONES'!C12 -> Suministro, instalación y puesta en funcionamiento de una unidad UPS tipo ON-Line de Doble Conversión, capacidad de 10kVA Bifásica para la sede de Ocaña - Norte de Santander. Incluye baterías e instalación a punto cero. | D12: Unidad | E12: 1 | H12: =ROUND($I$11/$H$11*G12,0) -> 0 | K12: =+ROUND(H12,0) -> 0 | L12: =+K12*E12 -> 0
B13: 2 | C13: ='ANEXO 1 - COTIZACIONES'!C13 -> Suministro, instalación y puesta en funcionamiento de una unidad UPS tipo ON-Line de Doble Conversión, capacidad de 6kVA Bifásica para la sede de Piedecuesta - Santander. Incluye baterías e instalación a punto cero. | D13: Unidad | E13: 1 | H13: =ROUND($I$11/$H$11*G13,0) -> 0 | K13: =+ROUND(H13,0) -> 0 | L13: =+K13*E13 -> 0
B14: 3 | C14: ='ANEXO 1 - COTIZACIONES'!C14 -> Suministro, instalación y puesta en funcionamiento de una unidad UPS tipo ON-Line de Doble Conversión, capacidad de 6kVA Monofásica para la sede de Los Patios - Norte de Santander. Incluye baterías e instalación a punto cero. | D14: Unidad | E14: 1 | H14: =ROUND($I$11/$H$11*G14,0) -> 0 | K14: =+ROUND(H14,0) -> 0 | L14: =+K14*E14 -> 0
B16: NOTAS:
B17: 1) El índice refleja la evolución promedio de los precios de todos los artículos/insumos es decir, se refiere a un promedio tomado sobre la base de todos los productos ofrecidos en el mercado.
B18: 2) Para traer a valor presente los precios unitarios, se toma el índice de serie del mes vigente dividido por el índice de serie del mes y año en que fue efectuada la compra. Este resultado se multiplica por el precio de la misma.
B19: 3) En el presente análisis se aplicó el procedimiento de aproximación generalmente aceptado por las reglas matemáticas denominado redondeo, que consiste en acercar los valores decimales al número entero más aproximado (a la baja, cuando el numero decimal sea menor a 5 o a la alta cuando el numero decimal sea igual o mayor a 5).

Sheet ANEXO 3 - PROY COSTOS
B2: ANEXO 3 - PROY COSTOS
D3: ESTUDIO DEL SECTOR
D4: ='ANEXO 1 - COTIZACIONES'!D4 -> Suministro e instalación y puesta en funcionamiento de equipos UPS para diferentes sedes de la Regional Nororiental de la Fiscalía General de la Nación.
B9: ÍTEM | C9: DESCRIPCIÓN | D9: UNIDAD DE MEDIDA | E9: CANTIDAD | G9: ANÁLISIS DE COTIZACIONES | H9: ANÁLISIS DE COSTOS HISTÓRICOS | J9: PROYECCION COSTOS 2026
G11: VALOR UNITARIO SIN IVA | H11: VALOR UNITARIO SIN IVA | J11: VALOR UNITARIO SIN IVA | K11: VALOR IVA | L11: VALOR UNITARIO INCLUIDO IVA | M11: VALOR TOTAL INCLUIDO IVA
B12: 1 | C12: ='ANEXO 1 - COTIZACIONES'!C12 -> Suministro, instalación y puesta en funcionamiento de una unidad UPS tipo ON-Line de Doble Conversión, capacidad de 10kVA Bifásica para la sede de Ocaña - Norte de Santander. Incluye baterías e instalación a punto cero. | D12: Unidad | E12: 1 | G12: ='ANEXO 1 - COTIZACIONES'!P12 -> 12702000 | H12: ='ANEXO 2 - HISTORICOS'!K12 -> 0 | J12: =ROUND(IF(H12=0, G12, AVERAGE(G12,H12)),0) -> 12702000 | K12: =ROUND(J12*19%,0) -> 2413380 | L12: =+J12+K12 -> 15115380 | M12: =L12*E12 -> 15115380
B13: 2 | C13: ='ANEXO 1 - COTIZACIONES'!C13 -> Suministro, instalación y puesta en funcionamiento de una unidad UPS tipo ON-Line de Doble Conversión, capacidad de 6kVA Bifásica para la sede de Piedecuesta - Santander. Incluye baterías e instalación a punto cero. | D13: Unidad | E13: 1 | G13: ='ANEXO 1 - COTIZACIONES'!P13 -> 10116000 | H13: ='ANEXO 2 - HISTORICOS'!K13 -> 0 | J13: =ROUND(IF(H13=0, G13, AVERAGE(G13,H13)),0) -> 10116000 | K13: =ROUND(J13*19%,0) -> 1922040 | L13: =+J13+K13 -> 12038040 | M13: =L13*E13 -> 12038040
B14: 3 | C14: ='ANEXO 1 - COTIZACIONES'!C14 -> Suministro, instalación y puesta en funcionamiento de una unidad UPS tipo ON-Line de Doble Conversión, capacidad de 6kVA Monofásica para la sede de Los Patios - Norte de Santander. Incluye baterías e instalación a punto cero. | D14: Unidad | E14: 1 | G14: ='ANEXO 1 - COTIZACIONES'!P14 -> 11124000 | H14: ='ANEXO 2 - HISTORICOS'!K14 -> 0 | J14: =ROUND(IF(H14=0, G14, AVERAGE(G14,H14)),0) -> 11124000 | K14: =ROUND(J14*19%,0) -> 2113560 | L14: =+J14+K14 -> 13237560 | M14: =L14*E14 -> 13237560
B16: NOTAS:
B17: 1) Para establecer los valores unitarios se obtuvo del análisis (ítem x ítem) del promedio entre análisis de cotizaciones y análisis de costos históricos.
B18: 2) En el presente análisis se aplicó el procedimiento de aproximación generalmente aceptado por las reglas matemáticas denominado redondeo, que consiste en acercar los valores decimales al número entero más aproximado (a la baja, cuando el numero decimal sea menor a 5 o a la alta cuando el numero decimal sea igual o mayor a 5).
B20: Fecha de elaboración: 18/09/2026
B21: Estudio del Sector: No: 1

Sheet ANEXO 4 - ESTUDIO DEL SECTOR
B2: ANEXO 4 - ESTUDIO DEL SECTOR
D3: ESTUDIO DEL SECTOR
D4: ='ANEXO 1 - COTIZACIONES'!D4 -> Suministro e instalación y puesta en funcionamiento de equipos UPS para diferentes sedes de la Regional Nororiental de la Fiscalía General de la Nación.
B9: ÍTEM | C9: DESCRIPCIÓN | D9: UNIDAD DE MEDIDA | E9: CANTIDAD | G9: ESTUDIO DEL SECTOR 2026
G11: VALOR UNITARIO SIN IVA | H11: VALOR IVA | I11: VALOR UNITARIO INCLUIDO IVA | J11: VALOR TOTAL INCLUIDO IVA
B12: 1 | C12: ='ANEXO 1 - COTIZACIONES'!C12 -> Suministro, instalación y puesta en funcionamiento de una unidad UPS tipo ON-Line de Doble Conversión, capacidad de 10kVA Bifásica para la sede de Ocaña - Norte de Santander. Incluye baterías e instalación a punto cero. | D12: Unidad | E12: 1 | G12: ='ANEXO 3 - PROY COSTOS'!J12 -> 12702000 | H12: ='ANEXO 3 - PROY COSTOS'!K12 -> 2413380 | I12: ='ANEXO 3 - PROY COSTOS'!L12 -> 15115380 | J12: ='ANEXO 3 - PROY COSTOS'!M12 -> 15115380
B13: 2 | C13: ='ANEXO 1 - COTIZACIONES'!C13 -> Suministro, instalación y puesta en funcionamiento de una unidad UPS tipo ON-Line de Doble Conversión, capacidad de 6kVA Bifásica para la sede de Piedecuesta - Santander. Incluye baterías e instalación a punto cero. | D13: Unidad | E13: 1 | G13: ='ANEXO 3 - PROY COSTOS'!J13 -> 10116000 | H13: ='ANEXO 3 - PROY COSTOS'!K13 -> 1922040 | I13: ='ANEXO 3 - PROY COSTOS'!L13 -> 12038040 | J13: ='ANEXO 3 - PROY COSTOS'!M13 -> 12038040
B14: 3 | C14: ='ANEXO 1 - COTIZACIONES'!C14 -> Suministro, instalación y puesta en funcionamiento de una unidad UPS tipo ON-Line de Doble Conversión, capacidad de 6kVA Monofásica para la sede de Los Patios - Norte de Santander. Incluye baterías e instalación a punto cero. | D14: Unidad | E14: 1 | G14: ='ANEXO 3 - PROY COSTOS'!J14 -> 11124000 | H14: ='ANEXO 3 - PROY COSTOS'!K14 -> 2113560 | I14: ='ANEXO 3 - PROY COSTOS'!L14 -> 13237560 | J14: ='ANEXO 3 - PROY COSTOS'!M14 -> 13237560
B15: TOTAL | J15: =SUM(J12:J14) -> 40390980
B17: NOTAS:
B18: 1) Para establecer los valores unitarios se obtuvo del análisis (ítem x ítem) del promedio entre análisis de cotizaciones y análisis de costos históricos.
B19: 2) En el presente análisis se aplicó el procedimiento de aproximación generalmente aceptado por las reglas matemáticas denominado redondeo, que consiste en acercar los valores decimales al número entero más aproximado (a la baja, cuando el numero decimal sea menor a 5 o a la alta cuando el numero decimal sea igual o mayor a 5).
B21: Fecha de elaboración: 18/09/2026
B22: Estudio del Sector: No: 1

Sheet Costo por Bloque
A3: No. | B3: ÁREA | C3: COSTO TOTAL
A5: 1. | B5: ÁREAS DE CUBIERTA | C5: =SUM(C6:C8) -> #REF!
A6: 1.1 | B6: =#REF! -> #REF! | C6: =#REF! -> #REF!
A7: 1.2 | B7: MATERAS | C7: =#REF! -> #REF!
A8: 1.3 | B8: CUBIERTA | C8: =#REF! -> #REF!
A10: 2. | B10: BLOQUE F2 | C10: =SUM(C11:C17) -> #REF! | E10: 1.8633836e+09 | F10: =E10-C10 -> #REF!
A11: 2.1 | B11: BATERIA SANITARIA F - PISO 2 (LADO IZQUIERDO) | C11: =#REF! -> #REF! | F11: =C10-F10 -> #REF!
A12: 2.2 | B12: SEGUNDO PISO BLOQUE F IZQ | C12: =#REF! -> #REF!
A13: 2.3 | B13: SEGUNDO PISO F - PASILLO CENTRO | C13: =#REF! -> #REF!
A14: 2.4 | B14: SEGUNDO PISO BLOQUE F DER | C14: =#REF! -> #REF!
A15: 2.5 | B15: BATERÍAS BLOQUE F - PISO 2 (LADO DERECHO) | C15: =#REF! -> #REF!
A16: 2.6 | B16: CUARTO DE ASEO BLOQUE F- PISO 2 | C16: =#REF! -> #REF!
A17: 2.7 | B17: COCINETAS BLOQUE F - PISO 2 | C17: =#REF! -> #REF!
A19: 3. | B19: BLOQUE F1 | C19: =SUM(C20:C24) -> #REF!
A20: 3.1 | B20: BATERIA SANITARIA F - PISO 1 LADO IZQ | C20: =#REF! -> #REF!
A21: 3.2 | B21: OFICINAS BLOQUE F PISO 1 | C21: =#REF! -> #REF!
A22: 3.3 | B22: BATERÍAS BLOQUE F - PISO 1 | C22: =#REF! -> #REF!
A24: 3'. | B24: CELDAS | C24: =#REF! -> #REF!
A26: 4. | B26: BLOQUE F SÓTANO | C26: =SUM(C27:C31) -> #REF!
A27: 4.1 | B27: BLOQUE F SÓTANO | C27: =#REF! -> #REF!
A28: 4.2 | B28: BATERÍAS BLOQUE F - SÓTANO | C28: =#REF! -> #REF!
A29: 4.3 | B29: CUARTO DE ASEO BLOQUE F- SOTANO | C29: =#REF! -> #REF!
A30: 4.4 | B30: CEVAP | C30: =#REF! -> #REF!
A31: 4.5 | B31: NÓMINA | C31: =#REF! -> #REF!
A33: 5. | B33: BLOQUE T | C33: =SUM(C34:C39) -> #REF!
A34: 5.1 | B34: SÓTANO BLOQUE T | C34: =#REF! -> #REF!
A35: 5.2 | B35: CONSULTORIO SÓTANO T | C35: =#REF! -> #REF!
A36: 5.3 | B36: OFICINA BLOQUE T - SÓTANO | C36: =#REF! -> #REF!
A37: 5.4 | B37: BLOQUE T | C37: =#REF! -> #REF!
A38: 5.5 | B38: OFICINA BLOQUE T2 | C38: =#REF! -> #REF!
A39: 5.6 | B39: CACYM | C39: =#REF! -> #REF!
A41: 6. | B41: PLATAFORMA | C41: =SUM(C42:C45) -> #REF!
A42: 6.1 | B42: AUDITORIO | C42: =#REF! -> #REF!
A43: 6.2 | B43: BAÑOS AUXILIARES | C43: =#REF! -> #REF!
A44: 6.3 | B44: PRENSA | C44: =#REF! -> #REF!
A45: 6.4 | B45: OFICINA BIENESTAR | C45: =#REF! -> #REF!
A47: 7. | B47: BLOQUE C | C47: =SUM(C48:C51) -> #REF!
A48: 7.1 | B48: OFICINA BLOQUE C1 TICS | C48: =#REF! -> #REF!
A49: 7.2 | B49: OFICINAS BLOQUE C4 | C49: =#REF! -> #REF!
A50: 7.3 | B50: DESPACHO FISCAL | C50: =#REF! -> #REF!
...

Sheet Actividades Proyectadas
A3: PROYECCIONES | B3: DESCRIPCIÓN | C3: CANT | D3: VALOR | E3: CORTE
A5: 1.2 | B5: =VLOOKUP(A5,#REF!,2,FALSE) -> #REF! | C5: =#REF! -> #REF! | D5: =#REF! -> #REF! | E5: 5 | F5: Colchon (proyección incluida en balance) | G5: =SUM(D5:D14)*1.2295 -> #REF! | I5: =SUM(D5:D8) -> #REF!
A6: 1.21 | B6: =VLOOKUP(A6,#REF!,2,FALSE) -> #REF! | C6: 8 | D6: =#REF! -> #REF! | I6: =SUM(D12:D13) -> #REF!
A7: 1.22 | B7: =VLOOKUP(A7,#REF!,2,FALSE) -> #REF! | C7: 3 | D7: =#REF! -> #REF! | I7: =SUM(I5:I6)*1.2295 -> #REF!
A8: 1.26 | B8: =VLOOKUP(A8,#REF!,2,FALSE) -> #REF! | C8: 81.6 | D8: =#REF! -> #REF!
A9: 7.3 | B9: =VLOOKUP(A9,#REF!,2,FALSE) -> #REF! | C9: 81.6 | D9: =#REF! -> #REF!
A10: 18.8 | B10: =VLOOKUP(A10,#REF!,2,FALSE) -> #REF! | C10: 6 | D10: =#REF! -> #REF!
A11: 18.9 | B11: =VLOOKUP(A11,#REF!,2,FALSE) -> #REF! | C11: 8 | D11: =#REF! -> #REF!
A12: 18.1 | B12: =VLOOKUP(A12,#REF!,2,FALSE) -> #REF! | C12: 3 | D12: =#REF! -> #REF!
A13: 18.16 | B13: =VLOOKUP(A13,#REF!,2,FALSE) -> #REF! | C13: 8 | D13: =#REF! -> #REF!
A14: 18.17 | B14: =VLOOKUP(A14,#REF!,2,FALSE) -> #REF! | C14: 8 | D14: =#REF! -> #REF!
A17: IC080 | B17: =VLOOKUP(A17,#REF!,2,FALSE) -> #REF! | C17: 58.44 | D17: =#REF!*C17 -> #REF! | E17: 5 | F17: Saldo a favor | G17: =SUM(D17:D19)*1.2295 -> #REF!
A18: IC082 | B18: =VLOOKUP(A18,#REF!,2,FALSE) -> #REF! | C18: 165.64 | D18: =C18*#REF! -> #REF!
A19: IC083 | B19: =VLOOKUP(A19,#REF!,2,FALSE) -> #REF! | C19: 45.61 | D19: =C19*#REF! -> #REF!
A21: COSTOS INDIRECTOS | D21: =SUM(D5:D19) -> #REF!
A23: Administracion | C23: 0.15 | D23: =+D21*C23 -> #REF!
A24: Imprevistos | C24: 0.02 | D24: =+D21*C24 -> #REF! | F24: =SUM(D9+D10+D11+D14) -> #REF! | G24: =F24*1.2295 -> #REF! | H24: Se descuentan items en gris de corte 12
A25: Utilidad | C25: 0.05 | D25: =+D21*C25 -> #REF!
A26: IVA Sobre Utilidad | C26: 0.19 | D26: =+D25*C26 -> #REF!
F27: 558182747
A28: VALOR TOTAL | D28: =SUM(D21+D23+D24+D25+D26) -> #REF!
F29: 543418780
F31: =F27-F29 -> 14763967

Sheet Actividades a ejecutar-pisos 
A1: TRANSPORTES
A3: PROYECCIONES | B3: UNIDAD | C3: UNITARIO | E3: CANT | F3: VALOR
A4: =#REF! -> #REF! | B4: =VLOOKUP(A4,#REF!,3,FALSE) -> #REF! | C4: =VLOOKUP(A4,#REF!,5,FALSE) -> #REF! | E4: =105+80 -> 185 | F4: =C4*E4 -> #REF!
A5: =#REF! -> #REF! | B5: =VLOOKUP(A5,#REF!,3,FALSE) -> #REF! | C5: 7350 | E5: =105+80 -> 185 | F5: =C5*E5 -> 1359750
A6: 7.8 | B6: =VLOOKUP(A6,#REF!,3,FALSE) -> #REF! | C6: =VLOOKUP(A6,#REF!,5,FALSE) -> #REF! | E6: =105+80 -> 185 | F6: =C6*E6 -> #REF!
A7: =#REF! -> #REF! | B7: =VLOOKUP(A7,#REF!,3,FALSE) -> #REF! | C7: =VLOOKUP(A7,#REF!,5,FALSE) -> #REF! | E7: 45 | H7: =10*5 -> 50
A10: COSTOS INDIRECTOS | F10: =SUM(F4:F7) -> #REF!
A12: Administracion | D12: 0.15 | F12: =F$10*D12 -> #REF!
A13: Imprevistos | D13: 0.02 | F13: =F$10*D13 -> #REF!
A14: Utilidad | D14: 0.05 | F14: =F$10*D14 -> #REF!
A15: IVA Sobre Utilidad | D15: 0.19 | F15: =F14*D15 -> #REF!
A17: VALOR TOTAL | F17: =SUM(F10:F15) -> #REF!

Sheet Por facturar plataforma
A1: PLATAFORMA A NOVIEMBRE
A3: PROYECCIONES | B3: UNIDAD | C3: UNITARIO | E3: CANT | F3: VALOR
A4: =#REF! -> #REF! | B4: =VLOOKUP(A4,#REF!,3,FALSE) -> #REF! | C4: =VLOOKUP(A4,#REF!,5,FALSE) -> #REF! | E4: 105 | F4: =C4*E4 -> #REF!
A5: =#REF! -> #REF! | B5: =VLOOKUP(A5,#REF!,3,FALSE) -> #REF! | C5: =VLOOKUP(A5,#REF!,5,FALSE) -> #REF! | E5: 105 | F5: =C5*E5 -> #REF!
A6: 7.8 | B6: =VLOOKUP(A6,#REF!,3,FALSE) -> #REF! | C6: =VLOOKUP(A6,#REF!,5,FALSE) -> #REF! | E6: 105 | F6: =C6*E6 -> #REF!
A7: =#REF! -> #REF! | B7: =VLOOKUP(A7,#REF!,3,FALSE) -> #REF! | C7: =VLOOKUP(A7,#REF!,5,FALSE) -> #REF! | E7: 45 | F7: =C7*E7 -> #REF! | H7: =10*5 -> 50
A10: COSTOS INDIRECTOS | F10: =SUM(F4:F7) -> #REF!
A12: Administracion | D12: 0.15 | F12: =F$10*D12 -> #REF!
A13: Imprevistos | D13: 0.02 | F13: =F$10*D13 -> #REF!
A14: Utilidad | D14: 0.05 | F14: =F$10*D14 -> #REF!
A15: IVA Sobre Utilidad | D15: 0.19 | F15: =F14*D15 -> #REF!
A17: VALOR TOTAL | F17: =SUM(F10:F15) -> #REF!

Sheet CONTROL ANTICIPO 12-3-2018
A1: ABDO JOSE SALGADO AYOLA INGENIERO CIVIL | D1: CONTROL INVERSION DEL ANTICIPO
D3: FISCALIA GENERAL DE LA NACION EN BOGOTA | G3: ADG-002 | H3: Versión: 0
H4: Fecha: Enero 02/18
A5: CONTRATO DE INTERVENTORIA No. 0370 DE 2017. CUYO OBJETO ES “REALIZAR INTERVENTORIA TÉCNICA, ADMINISTRATIVA Y FINANCIERA SOBRE LOS TRABAJOS DE ADECUACIÓN Y MANTENIMIENTO DE LAS DEPENDENCIAS EN EL NIVEL CENTRAL DE LA FISCALÍA GENERAL DE LA NACION EN BOGOTA” .
F6: Valor total Anticipo | G6: 1118211029 | H6: 30% SOBRE EL VALOR DEL CONTRATO
F8: PROGRAMACION INICIAL | H8: Informe Mensual No 5 Noviembre de 2018
A9: ITEM | B9: DESCRIPCION ITEM DE LA INVERSION | C9: VALOR ITEM PLAN INVERSION | D9: FACT. | E9: DESEMBOLSO Nº | F9: EXENCION IVA | G9: INVERSION DEL ANTICIPO | H9: SALDO CAPITULO
A10: IV | B10: CARPINTERIA METALICA Y MADERA | C10: =#REF! -> #REF!
A11: =#REF! -> #REF! | B11: =#REF! -> #REF! | C11: =#REF! -> #REF!
D12: Cuenta de Cobro / 28-02-2018 - Fachadas y Ventanas | E12: 1 | G12: 105008021
D13: Cuenta de Cobro / 09-03-2018 - Fachadas y Ventanas | E13: 2 | G13: 70005348
B15: SUBTOTAL VALOR CAPITULO CARPINTERIA Y MADERA | C15: =SUM(C10:C11) -> #REF! | F15: =SUM(F12:F14) -> 0 | G15: =SUM(G12:G14) -> 175013369 | H15: =+C15-G15 -> #REF!
A19: IX | B19: =#REF! -> #REF! | C19: =#REF! -> #REF!
A20: X | B20: =#REF! -> #REF! | C20: =#REF! -> #REF!
A21: XI | B21: =#REF! -> #REF! | C21: =#REF! -> #REF!
A22: XII | B22: =#REF! -> #REF! | C22: =#REF! -> #REF!
A23: XIII | B23: =#REF! -> #REF! | C23: =#REF! -> #REF!
A24: XIV | B24: =#REF! -> #REF! | C24: =#REF! -> #REF!
A25: XV | B25: =#REF! -> #REF! | C25: =#REF! -> #REF!
A26: XVI | B26: =#REF! -> #REF! | C26: =#REF! -> #REF!
A27: XVII | B27: =#REF! -> #REF! | C27: =#REF! -> #REF!
D28: Cuenta de Cobro CC 001-18 / M&Z Ingenieria Electrica SAS | E28: 1 | G28: 224760587
D29: Factura No. 115772 Ferreelectricos | E29: 1 | G29: 2961000
D30: Cuenta de Cobro CC 011-18 / M&Z Ingenieria Electrica SAS | E30: 2 | G30: 149840392
B32: SUBTOTAL VALOR CAPITULO ELECTRICO | C32: =SUM(C19:C27) -> #REF! | F32: =SUM(F28:F29) -> 0 | G32: =SUM(G28:G30) -> 377561979 | H32: =+C32-G32 -> #REF!
A36: =#REF! -> #REF! | B36: =#REF! -> #REF! | C36: =#REF! -> #REF!
D37: Cuenta de Cobro No. 33 / Metalredes y CIA Ltda | E37: 1 | G37: 12105953
B39: SUBTOTAL VALOR CAPITULO HIDRAULICAS, SANITARIAS, GAS Y RED CONTRA INCENDIOS | C39: =SUM(C36) -> #REF! | F39: =SUM(F37) -> 0 | G39: =SUM(G37) -> 12105953 | H39: =+C39-G39 -> #REF!
A43: =#REF! -> #REF! | B43: =#REF! -> #REF! | C43: =#REF! -> #REF!
A44: =#REF! -> #REF! | B44: =#REF! -> #REF! | C44: =#REF! -> #REF!
D45: Cuenta de Cobro S/N - Bernardo Torres Diaz / 17-1-2018 | E45: 1 | G45: 8907921
D46: Cuenta de Cobro S/N - Bernardo Torres Diaz / 21-2-2018 | E46: 1 | G46: 7000000
B48: SUBTOTAL VALOR CAPITULO PRELIMINARES - PINTURA Y ACABADOS | C48: =SUM(C43:C44) -> #REF! | F48: =SUM(F45:F46) -> 0 | G48: =SUM(G45:G46) -> 15907921 | H48: =+C48-G48 -> #REF!
A52: =#REF! -> #REF! | B52: =#REF! -> #REF! | C52: =#REF! -> #REF!
D53: Factura No. 422-00085396 / Almacenes Corona | E53: 1 | G53: 3191536
D54: Factura No. BT29-5480005614 - Decorceramica | E54: 1 | G54: 3092152
B56: SUBTOTAL VALOR CAPITULO PISOS Y ENCHAPES | C56: =SUM(C52:C55) -> #REF! | F56: =SUM(F53:F54) -> 0 | G56: =SUM(G53:G55) -> 6283688 | H56: =+C56-G56 -> #REF!
A58: 2 | B58: COMPRA DE EQUIPOS Y REPUESTOS | C58: 33546331
D59: Factura No. 00007533 / Samm Colombia | E59: 2 | G59: 4859841
B61: SUBTOTAL VALOR COMPRA DE EQUIPOS Y REPUESTOS | C61: =C58 -> 33546331 | G61: =SUM(G59:G60) -> 4859841 | H61: =+C61-G61 -> 28686490
...
