Workbook

Sheet MTTO PPTO PRJC
B4: MANTENIMIENTO INFRAESTRUCTURAS PARQUE REGIONAL JOHNNY CAY
B5: S U B D I R E C C C I O N D E M A R E S Y C O S T A S
B7: P R E S U P U E S T O O F I C I A L
B8: OBJETO: CONTRATAR A TODO COSTO EL MANTENIMIENTO, MEJORAMIENTO Y REPARACIONES LOCATIVAS DE LA INFRAESTRUCTURA FISICA EXISTENTE EN EL PARQUE REGIONAL JOHNNY CAY” PLAZO: 2 MESES
B10: RESPONSABLE: SUBDIRECCION MARES Y COSTAS | E10: FECHA: OCTUBRE 2026
B11: Item No. | C11: DESCRIPCION | D11: UND | E11: CANT | F11: Vr. Unit | G11: Vr. Final
B13: A | C13: AREAS EXTERIORES
B14: A1 | C14: SISTEMA DE AGUAS NEGRAS
B15: 1 | C15: Mantenimiento sistema aguas negras
B16: 1.1 | C16: Limpieza y desinfeccion de sistema disposicion aguas negras | D16: GL | E16: 1 | F16: =+APU!$H$47 -> 3320092 | G16: =E16*F16 -> 3320092
B17: 1.2 | C17: Retiro e instalacion nueva de tuberia sanitaria de 4" y 2" PVC, espina de pescado para filtro de aguas residuales, incluye la excavacion de sanja, retiro de tuberia, instalacion de cama en gravilla nueva, forrada en polisombra doble, recubrimiento de tuberia con material de sitio. | D17: ML | E17: 50 | F17: =+APU!$H$137 -> 205103 | G17: =E17*F17 -> 10255150
B18: 1.3 | C18: Mantenimiento y limpieza de trampa de grasas, incluye la utilizacion de desengrasante, desinfeccion de paredes y fondo, pintura en marco y contramarco con pintura epoxica. (incluye bomba sumergible, planta y extencion electrica y accesorios necesarios) | D18: UND | E18: 5 | F18: =+APU!$H$185 -> 1171618 | G18: =E18*F18 -> 5858090
B19: 1.4 | C19: Mantenimiento y limpieza de registros de inspeccion, incluye la utilizacion de desengrasante, desinfeccion de paredes y fondo, . (incluye bomba sumergible, planta y extencion electrica) | D19: UND | E19: 8 | F19: =+APU!$H$232 -> 884223 | G19: =E19*F19 -> 7073784
B20: 1.5 | C20: Disposicion final de grasas, incluye desactivacion, por medio de cal viva, excavacion manual, para disposicion de desactivacion de grasas | D20: GL | E20: 1 | F20: =+APU!$H$280 -> 482858 | G20: =E20*F20 -> 482858
B21: B | C21: ZONA ADMINISTRATIVA P.01
B22: B1 | C22: (TAQUILLA - PTO INFORMACION - ENFERMERIA )
B23: 2 | C23: PRELIMINARES
B24: 2.1 | C24: Retiro o desmonte deck en madera en mal estado, incluye recoleccion en sacos para salida del parque | D24: M2 | E24: 60.12 | F24: =+APU!$H$328 -> 38973 | G24: =+ROUND(E24*F24,0) -> 2343057
B25: 3 | C25: CARPINTERIA EN MADERA
B26: 3.1 | C26: Mtto de barra de atención de a=0,40mts zona de taquilla y pto de informacion con madera Pino 2X8 inmunizada con merulex ISF - Sika, acabado barnis marino o similar tres manos. Incluye pulida madera, sellador lijable. | D26: ML | E26: 3.5 | F26: =+APU!$H$375 -> 289163 | G26: =+ROUND(E26*F26,0) -> 1012071
B27: 3.2 | C27: Mtto de columnas en madera tipo sandwich, en liston madera 2x8, incluye platina en hierro 1/8", pernos y accesorios de fijacion, acabado en pintura barniz marino | D27: ML | E27: 15 | F27: =+APU!$H$423 -> 494951 | G27: =+E27*F27 -> 7424265
B28: 3.3 | C28: Suministro e instalacion de cubierta en lamina ecoroof, incluye triplex marino 15mm, incluye tornilleria | D28: M2 | E28: 3 | F28: =+APU!$H$472 -> 565129 | G28: =+E28*F28 -> 1695387
B29: 3.4 | C29: Construccion de Rampa acceso a bodega-kiosco administracion en listones de pino inmunizado de 2x4 y 2x6, liston 2x6 y 2x4 en pino inmunizado, tornilleria, barniz marino. | D29: M2 | E29: =1.8*3.3 -> 5.94 | F29: =+APU!$H$664 -> 761481 | G29: =+ROUND(E29*F29,0) -> 4523197
B30: 3.5 | C30: Construccion de deck con desnivel en escalas area administrativa en listones de pino inmunizado de 2x4 y 2x6, incluye contrahuellas en liston 2x6 pino inmunizado, huellas en 2x4 en pino inmunizado, tornilleria, barniz marino. Area prom: 31,75m2 | D30: M2 | E30: 31.75 | F30: =+$F$29 -> 761481 | G30: =+ROUND(E30*F30,0) -> 24177022
B31: 4 | C31: CARPINTERIA EN ALUMINIO
B32: 4.1 | C32: Suministro e instalacion de perfil en alumnio 3 x 1/2" perimetral color natural, enmarque de puerta. Dimension h: 2,30, incluye desmonte instalacion de pasador incluir perforaciones (acceso bodega) | D32: Gl | E32: 1 | F32: =+APU!$H$518 -> 546510 | G32: =+E32*F32 -> 546510
B33: 4.2 | C33: Suministro e instalacion de perfil en alumnio 3 x 1/2" perimetralde hoja de puerta, (se reutilizan los pisavidrios y esterillas existentes)color natural, enmarque de puerta. Dimension 0,90 x 2,30 incluye desmonte. Cambio de bisagras, cambio de manija(para puerta acceso oficinas administrativas) | D33: Gl | E33: 1 | F33: =+APU!$H$615 -> 807010 | G33: =+E33*F33 -> 807010
B34: 4.3 | C34: Manteniento de ventana en alumnio color natural tipo guillotina, incluye limpieza, engrace y cambio de accesorio de fijcion y operación ( media lunas.) Dimension 1,30 x 1,50 | D34: UN | E34: 2 | F34: 120000 | G34: =+E34*F34 -> 240000
B35: 4.4 | C35: Desmonte y reinstalacion de puertas, mueble de baterias fotovoltaicas incluye corte de board, instalacion de refuerzo en madera como soporte, cierre de muro, acabado en estuco y pintura. | D35: GL | E35: 1 | F35: =+APU!$H$567 -> 1013934 | G35: =+E35*F35 -> 1013934
B36: 5 | C36: ACABADO EN PINTURA
B37: 5.1 | C37: Acabado pintura exterior, tipo coraza sobre muros, (2 manos) | D37: M2 | E37: 49.27 | F37: =+APU!$H$761 -> 81682 | G37: =+ROUND(E37*F37,0) -> 4024472
B38: 5.2 | C38: Acabado pintura interior muros, tipo 1 color blanco (3 manos) | D38: M2 | E38: 67.35 | F38: =+APU!$H$807 -> 78522 | G38: =+ROUND(E38*F38,0) -> 5288457
B39: 5.3 | C39: Acabado pintura exterior para piso deck en madera, barnis de alta resistecia para exterior. Tintilla color miel. (incluye lijado) | D39: M2 | E39: 37.61 | F39: =+APU!$H$863 -> 101707 | G39: =+ROUND(E39*F39,0) -> 3825200
B40: 5.4 | C40: Acabado pintura barnis de alta resistencia, para columnas tipo sandwich en madera.(incluye lijado) | D40: ML | E40: 38.87 | F40: =+APU!$H$959 -> 55645 | G40: =+ROUND(E40*F40,0) -> 2162921
B41: 5.5 | C41: Acabado en pintura en vinilo tipo 1 colores, exterior e interior para cercha y persianas en madera. | D41: M2 | E41: 48.3 | F41: =+$F$38 -> 78522 | G41: =+ROUND(E41*F41,0) -> 3792613
B42: 5.6 | C42: Suministro y aplicación de merulex o similar en madera de cubierta | D42: M2 | E42: 84.79 | F42: =+APU!$H$1008 -> 69704 | G42: =+ROUND(E42*F42,0) -> 5910202
B43: 5.7 | C43: Acabado pintura para cubierta en madera, barnis de alta resistencia para exterior. Tintilla color miel. (incluye lijado) | D43: M2 | E43: 84.79 | F43: =+APU!$H$911 -> 114707 | G43: =+ROUND(E43*F43,0) -> 9726007
B44: 6 | C44: SUMINISTRO E INSTALACION APARATOS
B45: 6.1 | C45: Suministro e Instalación de Tanque 2000 lit. tipo Colempaques o similar - incluye valvulas, accesorios y tuberia hasta el nivel de piso de los tanques. Incluye excavacion, h: 1,00m diametro 2,00m, construccion de base de suelo en concreto 4000psi, con malla electrosoldada esp: 0,10m. | D45: UN | E45: 1 | F45: =+APU!$H$1060 -> 3944575 | G45: =+E45*F45 -> 3944575
B46: 7 | C46: SISTEMA DE AGUAS LLUVIAS EN CUBIERTAS
...

Sheet APU
A6: ANALISIS DE PRECIOS UNITARIOS
G7: FECHA: MAYO 2026
A8: ITEM: Limpieza y desinfeccion de sistema disposicion aguas negras
G9: UNIDAD: GL
A10: EQUIPO
A11: DESCRIPCION | C11: TIPO | D11: CAPAC. | E11: TARIFA/HORA | F11: REND. HOR | G11: VR/PARCIAL
A12: HERRAMIENTA MENOR 5%M.O | G12: =ROUND(H36*0.05,0)+8-16 -> 139997
A13: TRANSPORTE MARITIMO | E13: 350000 | F13: 0.5 | G13: =ROUND(E13*F13,0) -> 175000
A14: TRANSPORTE TERRESTRE | E14: 50000 | F14: 0.1 | G14: =ROUND(E14*F14,0) -> 5000
G15: =ROUND(E15*F15,0) -> 0
F16: SUBTOTAL | H16: =SUM(G12:G15) -> 319997
A17: 2. MATERIALES
A18: DESCRIPCION | C18: UNIDAD | D18: DESP.% | E18: CANTIDAD | F18: VR. UNITARIO | G18: VR. PARCIAL
A19: Elementos de seguridad | C19: GL | E19: 1 | F19: 100000 | G19: =ROUND(E19*F19,0) -> 100000
A20: Jabon liquido | C20: Gln | E20: 1 | F20: 50000 | G20: =ROUND(E20*F20,0) -> 50000
A21: Cloro granulado | C21: GL | E21: 1 | F21: 50000 | G21: =ROUND(E21*F21,0) -> 50000
G22: =ROUND(E22*F22,0) -> 0
G23: =ROUND(E23*F23,0) -> 0
G24: =ROUND(E24*F24,0) -> 0
G25: =ROUND(E25*F25,0) -> 0
G26: =ROUND(E26*F26,0) -> 0
G27: =ROUND(E27*F27,0) -> 0
F28: SUBTOTAL COSTO MATERIAL | H28: =SUM(G19:G27) -> 200000
F29: DESPERDICIO 5% | H29: =ROUND((D19*G19)+(D20*G20)+(D21*G21)+(D22*G22)+(D23*G23)+(D24*G24)+(D25*G25)+(D26*G26)+(D27*G27),0) -> 0
F30: TOTAL COSTO MATERIAL | H30: =SUM(H28:H29) -> 200000
A31: 3. MANO DE OBRA
A32: DESCRIPCION | C32: JORNAL | D32: PRESTACIONES | E32: T. JORNAL | F32: RENDIMIENTO | G32: VR. PARCIAL
A33: OFICIAL | C33: =104000+26000 -> 130000 | D33: =+C33*0.16 -> 20800 | E33: =C33+D33 -> 150800 | F33: 12 | G33: =ROUND(E33*F33,0) -> 1809600
A34: AYUDANTE | C34: =60400+25850 -> 86250 | D34: =+C34*0.16 -> 13800 | E34: =C34+D34 -> 100050 | F34: 9.9 | G34: =ROUND(E34*F34,0) -> 990495
E35: =C35+D35 -> 0 | G35: =ROUND(E35*F35,0) -> 0
E36: SUBTOTAL MANO DE OBRA | H36: =SUM(G33:G35) -> 2800095
E38: TOTAL COSTO DIRECTO | H38: =H36+H30+H16 -> 3320092
A40: COSTOS INDIRECTOS
A41: DESCRIPCION | F41: % | G41: VR.PARCIAL
A42: A.I.U.30% | G42: =F42*H38 -> 0
G43: =F43*H38 -> 0
G44: =F44*H38 -> 0
E45: SUBTOTAL COSTOS INDIRECTOS | H45: =SUM(G42:G44) -> 0
F47: VALOR PRECIO UNITARIO | H47: =SUM(H45+H38) -> 3320092
A51: ANALISIS DE PRECIOS UNITARIOS
...
