Workbook

Sheet ANALISIS M.O
B2: ANÁLISIS MANO DE OBRA | E2: AFP | F2: =1+C25 -> 1.7733266
B3: Salario Mínimo Mensual Legal Vigente año 2025 | C3: 1750905 | H3: 1.7803121
B4: Subsidio de Transporte (salario <= 2 SMMLV) | C4: 200000
B6: DESCRIPCIÓN | C6: SALARIO <= 2 SMMLV | D6: SALARIO > 2 SMMLV
C7: PERSONAL TÉCNICO, OPERATIVO Riesgo Clase V | D7: PERSONAL TÉCNICO, OPERATIVO Riesgo Clase V
B8: PRESTACIONES SOCIALES
B9: Cesantías | C9: 0.0833 | D9: 0.0833
B10: Intereses cesantías | C10: 0.01 | D10: 0.01
B11: Vacaciones | C11: 0.0417 | D11: 0.0417
B12: Prima | C12: 0.0833 | D12: 0.0833
B13: Dotación | C13: 0.06 | D13: 0.04
B14: SEGURIDAD SOCIAL
B15: Aportes régimen general de pensiones (I.V.M) | C15: 0.12 | D15: 0.12
B16: Aporte riesgos profesionales A.R.P. | C16: 0.0696 | D16: 0.0696
B17: Aportes régimen contributivo de salud | C17: 0.085 | D17: 0.085
B18: Certificado trabajo seguro en alturas | C18: 0.0212 | D18: 0.0212
B19: OTROS APORTES
B20: Aportes FIC | C20: 0.025 | D20: 0.025
B21: I.C.B.F. | C21: 0 | D21: 0
B22: Comfamiliar | C22: 0.04 | D22: 0.04
B23: Subsidio de transporte | C23: =C4/C3 -> 0.11422664
B24: Examenes medicos de ingreso y egreso | C24: 0.02 | D24: 0.02
C25: =SUM(C8:C24) -> 0.77332664 | D25: =SUM(D8:D24) -> 0.6391
C26: =ROUND(1+C25,4) -> 1.7733 | D26: =ROUND(1+D25,4) -> 1.6391
B28: NOMBRE | C28: SALARIO MENSUAL | D28: PRESTACIONES Y APORTES | E28: SALARIO + PRESTACIONES | F28: SALARIO DIA SIN PRESTACIONES | G28: SALARIO DIA
B29: Ayudante | C29: =C3 -> 1750905 | D29: =ROUND((C29*$C$25),0) -> 1354021 | E29: =C29+D29 -> 3104926 | F29: =+ROUND((C29/30),0) -> 58364 | G29: =ROUND((E29/30),0) -> 103498
B30: Ayudante práctico | C30: =C29*1.4 -> 2451267 | D30: =ROUND((C30*$C$25),0) -> 1895630 | E30: =C30+D30 -> 4346897 | F30: =+ROUND((C30/30),0) -> 81709 | G30: =ROUND((E30/30),0) -> 144897
B31: Oficial | C31: =C29*1.8 -> 3151629 | D31: =ROUND((C31*$C$25),0) -> 2437239 | E31: =C31+D31 -> 5588868 | F31: =+ROUND((C31/30),0) -> 105054 | G31: =ROUND((E31/30),0) -> 186296
B32: Cadenero 1 | C32: =C29*1.5 -> 2626357.5 | D32: =ROUND((C32*$C$25),0) -> 2031032 | E32: =C32+D32 -> 4657389.5 | F32: =+ROUND((C32/30),0) -> 87545 | G32: =ROUND((E32/30),0) -> 155246
B33: Cadenero 2 | C33: =C29 -> 1750905 | D33: =ROUND((C33*$C$25),0) -> 1354021 | E33: =C33+D33 -> 3104926 | F33: =+ROUND((C33/30),0) -> 58364 | G33: =ROUND((E33/30),0) -> 103498
B34: Liniero cat 1 | C34: =C29*2.8 -> 4902534 | D34: =ROUND((C34*$C$25),0) -> 3791260 | E34: =C34+D34 -> 8693794 | F34: =+ROUND((C34/30),0) -> 163418 | G34: =ROUND((E34/30),0) -> 289793
B35: Liniero cat 2 | C35: =C29*1.8 -> 3151629 | D35: =ROUND((C35*$C$25),0) -> 2437239 | E35: =C35+D35 -> 5588868 | F35: =+ROUND((C35/30),0) -> 105054 | G35: =ROUND((E35/30),0) -> 186296
B36: Maestro de obra | C36: =C29*3 -> 5252715 | D36: =ROUND((C36*$C$25),0) -> 4062064 | E36: =C36+D36 -> 9314779 | F36: =+ROUND((C36/30),0) -> 175091 | G36: =ROUND((E36/30),0) -> 310493
B37: Operador de maquinaria | C37: =C29*2 -> 3501810 | D37: =ROUND((C37*$C$25),0) -> 2708043 | E37: =C37+D37 -> 6209853 | F37: =+ROUND((C37/30),0) -> 116727 | G37: =ROUND((E37/30),0) -> 206995
B38: Topógrafo | C38: =C29*3.5 -> 6128167.5 | D38: =ROUND((C38*$C$25),0) -> 4739075 | E38: =C38+D38 -> 10867242 | F38: =+ROUND((C38/30),0) -> 204272 | G38: =ROUND((E38/30),0) -> 362241
B39: Profesional en salud ocupacional | C39: =C29*2.8 -> 4902534 | D39: =ROUND((C39*$C$25),0) -> 3791260 | E39: =C39+D39 -> 8693794 | F39: =+ROUND((C39/30),0) -> 163418 | G39: =ROUND((E39/30),0) -> 289793
B40: Cuadrilla E 1 Of + 1 Ay (jornal + prestaciones) | F40: =F31+F29 -> 163418 | G40: =G31+G29 -> 289794
B41: Cuadrilla G 1 Of + 2 Ay (jornal + prestaciones) | F41: =F31+(2*F29) -> 221782 | G41: =G31+(2*G29) -> 393292
B42: Cuadrilla A 1 Of + 4 Ay (jornal + prestaciones) | F42: =F31+(4*F29) -> 338510 | G42: =G31+(4*G29) -> 600288
B43: Comisión topografía (topógrafo + Cadenero 1 + 2 Cadeneros 2) | F43: =F38+F32+(2*F33) -> 408545 | G43: =G38+G32+(2*G33) -> 724483
...

Sheet A.I.U.
A1: DISCRIMINACION DEL A.I.U.
A2: PROYECTO: | B2: REPOSICION DE REDES DE ACUEDUCTO Y ALCANTARILLADO EN LA CALLE 4 ENTRE CARRERAS 4 Y 5 Y EN LA CARRERA 5 ENTRE CALLES 4 Y 5 DEL MUNICIPIO DE AGUADAS CALDAS
A4: Valor estimado de la Obra (Costo Directo). | E4: Valor | F4: =+'PRESUPUESTO OFICIAL'!F55 -> 300000000
A5: Plazo estimado de ejecución | E5: Meses | F5: 2
A7: CAPITULO | B7: TIPO DE GASTO | C7: UN | D7: CANT | E7: DISPONIBILIDAD | F7: VALOR UNIT (mes) | G7: FACTOR | H7: VALOR TOTAL | I7: SUMA | J7: %
A9: 1 | B9: GASTOS GENERALES. | J9: =+I10/F4 -> 0.11490347
A10: 1.1 | B10: MANO DE OBRA Y GASTOS DE OFICINA | I10: =SUM(H11:H14) -> 34471042 | J10: =SUM(J11:J14) -> 0.11490347
B11: Ingeniero Residente de Obra | C11: Un | D11: 1 | E11: 1 | F11: 3700000 | G11: =+'ANALISIS M.O'!D26*K11 -> 1.5633125 | H11: =+D11*E11*F11*G11*$F$5 -> 11568513 | J11: =+H11/$F$4 -> 0.038561709 | K11: 0.95376276
B12: Maestro de obra | C12: Un | D12: 1 | E12: 1 | F12: 3125000 | G12: =+G11 -> 1.5633125 | H12: =+D12*E12*F12*G12*$F$5 -> 9770703.4 | J12: =+H12/$F$4 -> 0.032569011
B13: Profesional Social | C13: Un | D13: 1 | E13: 0.5 | F13: 2800000 | G13: =+G11 -> 1.5633125 | H13: =+D13*E13*F13*G13*$F$5 -> 4377275.1 | J13: =+H13/$F$4 -> 0.014590917
B14: Profesional Siso | C14: Un | D14: 1 | E14: 1 | F14: =+F13 -> 2800000 | G14: =+G12 -> 1.5633125 | H14: =+D14*E14*F14*G14*$F$5 -> 8754550.2 | J14: =+H14/$F$4 -> 0.029181834
A16: 2 | B16: GASTOS INDIRECTOS. | J16: =J17 -> 0.20139
A17: 2.2 | B17: IMPUESTOS Y VALORES AGREGADOS | I17: =SUM(H18:H25) -> 60417000 | J17: =SUM(J18:J25) -> 0.20139
B18: Contribución Especial | C18: % | D18: 0.05 | F18: =+F4 -> 300000000 | G18: 1.37 | H18: =D18*F18*G18 -> 20550000 | J18: =+H18/$F$4 -> 0.0685
B19: Estampilla Pro Cultura | C19: % | D19: 0.01 | F19: =+F18 -> 300000000 | G19: =+$G$18 -> 1.37 | H19: =D19*F19*G19 -> 4110000 | J19: =+H19/$F$4 -> 0.0137
B20: Estampilla Prouniversidad | C20: % | D20: 0.01 | F20: =+F18 -> 300000000 | G20: =+$G$18 -> 1.37 | H20: =D20*F20*G20 -> 4110000 | J20: =+H20/$F$4 -> 0.0137
B21: Estampilla Prohospital | C21: % | D21: 0.01 | F21: =+F19 -> 300000000 | G21: =+$G$18 -> 1.37 | H21: =D21*F21*G21 -> 4110000 | J21: =+H21/$F$4 -> 0.0137
B22: Estampilla Proanciano | C22: % | D22: 0.04 | F22: =+F19 -> 300000000 | G22: =+$G$18 -> 1.37 | H22: =D22*F22*G22 -> 16440000 | J22: =+H22/$F$4 -> 0.0548
B23: Estampilla Prodeporte | C23: % | D23: 0.015 | F23: =+F20 -> 300000000 | G23: =+$G$18 -> 1.37 | H23: =D23*F23*G23 -> 6165000 | J23: =+H23/$F$4 -> 0.02055
B24: Reteica | C24: % | D24: 0.007 | F24: =+F18 -> 300000000 | G24: =+$G$18 -> 1.37 | H24: =D24*F24*G24 -> 2877000 | J24: =+H24/$F$4 -> 0.00959
B25: Polizas | C25: % | D25: 0.005 | F25: =+F20 -> 300000000 | G25: =+$G$18 -> 1.37 | H25: =D25*F25*G25 -> 2055000 | J25: =+H25/$F$4 -> 0.00685 | K25: =+'PRESUPUESTO OFICIAL'!F55 -> 300000000
B26: TOTAL GASTOS ADMINISTRACION | I26: =+I10+I17 -> 94888042 | J26: =+ROUND((I26/F4),2) -> 0.32 | K26: =K25*32% -> 96000000
B27: IMPREVISTOS | J27: 0
B28: UTILIDAD | J28: 0.05
B29: TOTAL A.I.U. | J29: =SUM(J26:J28) -> 0.37

Sheet 1.1 localizacion
A1: FORMATO DE ANALISIS DE PRECIOS UNITARIOS-APU
A2: REPUBLICA DE COLOMBIA | E2: ANALISIS DE PRECIOS UNITARIOS
A4: OBJETO: | B4: =+'PRESUPUESTO OFICIAL'!A2 -> MEJORAMIENTO Y ADECUACIÓN DEL AUDITORIO DE LA INSTITUCIÓN EDUCATIVA MARINO GÓMEZ ESTRADA, SEDE DE LA UNIVERSIDAD DE CALDAS, EN EL MUNICIPIO DE AGUADAS, CALDAS. | G4: ITEM: | H4: 1.1
A5: DESCRIPCIÓN: | B5: =VLOOKUP(H4,'PRESUPUESTO OFICIAL'!A:F,2,0) -> LOCALIZACIÓN Y REPLANTEO | G5: UNIDAD: | H5: =VLOOKUP(H4,'PRESUPUESTO OFICIAL'!A:F,3,0) -> M2
A6: I.EQUIPO
A7: Descripción | D7: Tipo | E7: Tarifa/Hora | F7: Rendimiento | G7: Valor-Unit.
A8: HERRAMIENTA MENOR (5%MO) | G8: =+H29*0.05 -> 163.86918
G11: Sub-Total | H11: =SUM(G8:G10) -> 163.86918
A12: II. MATERIALES EN OBRA
A13: Descripción | D13: Unidad | E13: Precio-Unit. | F13: Cantidad | G13: Valor-Unit.
A14: PUNTILLA CON CABEEZA 2" | D14: LM | E14: =+'BASE DE DATOS'!D38 -> 12151 | F14: 0.02 | G14: =+F14*E14 -> 243.02
A15: DURMIENTO 4X4 | D15: ML | E15: =+'BASE DE DATOS'!D36 -> 4760 | F15: 0.4 | G15: =+F15*E15 -> 1904
G17: Sub-Total | H17: =SUM(G14:G16) -> 2147.02
A18: III.TRANSPORTES
A19: Material | C19: Vol-Peso ó Cant. | D19: Distancia | E19: M3-KM | F19: Tarifa | G19: Valor-Unit.
G23: Sub-Total | H23: =SUM(G20:G22) -> 0
A24: IV. MANO DE OBRA
A25: Trabajador | C25: Jornal | D25: Prestaciones | E25: Jornal Total | F25: Rendimiento | G25: Valor-Unit.
A26: OBREROS (2) | C26: =+'ANALISIS M.O'!$F$29*2 -> 116728 | D26: =+'ANALISIS M.O'!$C$26 -> 1.7733 | E26: =+D26*C26 -> 206993.76 | F26: 120 | G26: =+E26/F26 -> 1724.948
A27: OFICIAL (1) | C27: =+'ANALISIS M.O'!$F$31 -> 105054 | D27: =+'ANALISIS M.O'!$C$26 -> 1.7733 | E27: =+D27*C27 -> 186292.26 | F27: 120 | G27: =+E27/F27 -> 1552.4355
G29: Sub-Total | H29: =SUM(G26:G28) -> 3277.3835
E31: Total Costo Directo | H31: =ROUND((+H11+H17+H23+H29),4) -> 5588.2727
A33: V. AU
A34: Descripción | D34: PORCENTAJE | E34: Tarifa/Hora | F34: Rendimiento | G34: Valor-Unit.
A35: ADMINISTRACIÓN | D35: =+'PRESUPUESTO OFICIAL'!E57 -> 0.32 | G35: =$H$31*D35 -> 1788.2473
A36: UTILIDADES | D36: 0.05 | G36: =$H$31*D36 -> 279.41364
G37: Sub-Total | H37: =SUM(G35:G36) -> 2067.6609
E40: Total Costo | H40: =ROUND(H37+H31,0) -> 7656

Sheet 1.2 Valla
A1: FORMATO DE ANALISIS DE PRECIOS UNITARIOS-APU
A2: REPUBLICA DE COLOMBIA | E2: ANALISIS DE PRECIOS UNITARIOS
A4: OBJETO: | B4: =+'PRESUPUESTO OFICIAL'!A2 -> MEJORAMIENTO Y ADECUACIÓN DEL AUDITORIO DE LA INSTITUCIÓN EDUCATIVA MARINO GÓMEZ ESTRADA, SEDE DE LA UNIVERSIDAD DE CALDAS, EN EL MUNICIPIO DE AGUADAS, CALDAS. | G4: ITEM: | H4: 1.2
A5: DESCRIPCIÓN: | B5: =VLOOKUP(H4,'PRESUPUESTO OFICIAL'!A:F,2,0) -> SUMINISTRO, TRANSPORTE E INSTALACIÓN DE VALLA INFORMATIVA GENERAL DEL PROYECTO 2x4MTS | G5: UNIDAD: | H5: =VLOOKUP(H4,'PRESUPUESTO OFICIAL'!A:F,3,0) -> UND
A6: I.EQUIPO
A7: Descripción | D7: Tipo | E7: Tarifa/Hora | F7: Rendimiento | G7: Valor-Unit.
A8: HERRAMIENTA MENOR | G8: =+H31*0.05 -> 11398.918
G11: Sub-Total | H11: =SUM(G8:G10) -> 11398.918
A12: II. MATERIALES EN OBRA
A13: Descripción | D13: Unidad | E13: Precio-Unit. | F13: Cantidad | G13: Valor-Unit.
A14: =+'BASE DE DATOS'!A134 -> VALLA INSTITUCIONAL 2x4 | D14: =+'BASE DE DATOS'!B134 -> UN | E14: 580000 | F14: 1 | G14: =+F14*E14 -> 580000
A15: =+'BASE DE DATOS'!A127 -> CEPA DE GUADUA | D15: =+'BASE DE DATOS'!B127 -> UN | E15: =+'BASE DE DATOS'!D127 -> 15765 | F15: 2 | G15: =+F15*E15 -> 31530
G17: Sub-Total | H17: =SUM(G14:G16) -> 611530
A18: III.TRANSPORTES
A19: Material | C19: Vol-Peso ó Cant. | D19: Distancia | E19: M3-KM | F19: Tarifa | G19: Valor-Unit.
G23: Sub-Total | H23: =SUM(G20:G22) -> 0
A24: IV. MANO DE OBRA
A25: Trabajador | C25: Jornal | D25: Prestaciones | E25: Jornal Total | F25: Rendimiento | G25: Valor-Unit.
A26: OBREROS (2) | C26: =+'ANALISIS M.O'!$F$29*2 -> 116728 | D26: =+'ANALISIS M.O'!$C$26 -> 1.7733 | E26: =+D26*C26 -> 206993.76 | F26: 1.7251024 | G26: =+E26/F26 -> 119989.26
A27: OFICIAL (1) | C27: =+'ANALISIS M.O'!$F$31 -> 105054 | D27: =+'ANALISIS M.O'!$C$26 -> 1.7733 | E27: =+D27*C27 -> 186292.26 | F27: =+F26 -> 1.7251024 | G27: =+E27/F27 -> 107989.1
G31: Sub-Total | H31: =SUM(G26:G30) -> 227978.37
E33: Total Costo Directo | H33: =ROUND((+H11+H17+H23+H31),4) -> 850907.29
A35: V. AU
A36: Descripción | D36: PORCENTAJE | E36: Tarifa/Hora | F36: Rendimiento | G36: Valor-Unit.
A37: ADMINISTRACIÓN | D37: =+'1.1 localizacion'!$D$35 -> 0.32 | G37: =$H$33*D37 -> 272290.33
A38: UTILIDADES | D38: =+'1.1 localizacion'!$D$36 -> 0.05 | G38: =$H$33*D38 -> 42545.364
G39: Sub-Total | H39: =SUM(G37:G38) -> 314835.7
E42: Total Costo | H42: =ROUND(H39+H33,0) -> 1165743

Sheet 1.3 señal 
A1: FORMATO DE ANALISIS DE PRECIOS UNITARIOS-APU
A2: REPUBLICA DE COLOMBIA | E2: ANALISIS DE PRECIOS UNITARIOS
A4: OBJETO: | B4: =+'PRESUPUESTO OFICIAL'!A2 -> MEJORAMIENTO Y ADECUACIÓN DEL AUDITORIO DE LA INSTITUCIÓN EDUCATIVA MARINO GÓMEZ ESTRADA, SEDE DE LA UNIVERSIDAD DE CALDAS, EN EL MUNICIPIO DE AGUADAS, CALDAS. | G4: ITEM: | H4: 1.3
A5: DESCRIPCIÓN: | B5: =VLOOKUP(H4,'PRESUPUESTO OFICIAL'!A:F,2,0) -> SUMINISTRO, TRANSPORTE E INSTALACIÓN DE SEÑAL PREVENTIVA, REGLAMENTARIA E INFORMATIVA | G5: UNIDAD: | H5: =VLOOKUP(H4,'PRESUPUESTO OFICIAL'!A:F,3,0) -> UND
A6: I.EQUIPO
A7: Descripción | D7: Tipo | E7: Tarifa/Hora | F7: Rendimiento | G7: Valor-Unit.
A8: HERRAMIENTA MENOR | G8: =+H31*0.05 -> 1573.1854
G11: Sub-Total | H11: =SUM(G8:G10) -> 1573.1854
A12: II. MATERIALES EN OBRA
A13: Descripción | D13: Unidad | E13: Precio-Unit. | F13: Cantidad | G13: Valor-Unit.
A14: =+'BASE DE DATOS'!A133 -> SEÑAL PREVENTIVA | D14: Unidad | E14: =+'BASE DE DATOS'!D133 -> 169830 | F14: 1 | G14: =+F14*E14 -> 169830
G17: Sub-Total | H17: =SUM(G14:G16) -> 169830
A18: III.TRANSPORTES
A19: Material | C19: Vol-Peso ó Cant. | D19: Distancia | E19: M3-KM | F19: Tarifa | G19: Valor-Unit.
G23: Sub-Total | H23: =SUM(G20:G22) -> 0
A24: IV. MANO DE OBRA
A25: Trabajador | C25: Jornal | D25: Prestaciones | E25: Jornal Total | F25: Rendimiento | G25: Valor-Unit.
A26: OBREROS (2) | C26: =+'ANALISIS M.O'!$F$29*2 -> 116728 | D26: =+'ANALISIS M.O'!$C$26 -> 1.7733 | E26: =+D26*C26 -> 206993.76 | F26: 12.499672 | G26: =+E26/F26 -> 16559.936
A27: OFICIAL (1) | C27: =+'ANALISIS M.O'!$F$31 -> 105054 | D27: =+'ANALISIS M.O'!$C$26 -> 1.7733 | E27: =+D27*C27 -> 186292.26 | F27: =+F26 -> 12.499672 | G27: =+E27/F27 -> 14903.772
G31: Sub-Total | H31: =SUM(G26:G30) -> 31463.708
E33: Total Costo Directo | H33: =ROUND((+H11+H17+H23+H31),4) -> 202866.89
A35: V. AU
A36: Descripción | D36: PORCENTAJE | E36: Tarifa/Hora | F36: Rendimiento | G36: Valor-Unit.
A37: ADMINISTRACIÓN | D37: =+'1.1 localizacion'!$D$35 -> 0.32 | G37: =$H$33*D37 -> 64917.406
A38: UTILIDADES | D38: =+'1.1 localizacion'!$D$36 -> 0.05 | G38: =$H$33*D38 -> 10143.345
G39: Sub-Total | H39: =SUM(G37:G38) -> 75060.751
E42: Total Costo | H42: =ROUND(H39+H33,0) -> 277928

Sheet 1.4 Cerramiento 
A1: FORMATO DE ANALISIS DE PRECIOS UNITARIOS-APU
A2: REPUBLICA DE COLOMBIA | E2: ANALISIS DE PRECIOS UNITARIOS
A4: OBJETO: | B4: =+'PRESUPUESTO OFICIAL'!A2 -> MEJORAMIENTO Y ADECUACIÓN DEL AUDITORIO DE LA INSTITUCIÓN EDUCATIVA MARINO GÓMEZ ESTRADA, SEDE DE LA UNIVERSIDAD DE CALDAS, EN EL MUNICIPIO DE AGUADAS, CALDAS. | G4: ITEM: | H4: 1.4
A5: DESCRIPCIÓN: | B5: =VLOOKUP(H4,'PRESUPUESTO OFICIAL'!A:F,2,0) -> SUMINISTRO, TRANSPORTE E INSTALACION BARRERA CON BOMBONES PLÁSTICOS, CINTA DE SEGURIDAD Y YUTE PARA CERRAMIENTO | G5: UNIDAD: | H5: =VLOOKUP(H4,'PRESUPUESTO OFICIAL'!A:F,3,0) -> ML
A6: I.EQUIPO
A7: Descripción | D7: Tipo | E7: Tarifa/Hora | F7: Rendimiento | G7: Valor-Unit.
A8: HERRAMIENTA MENOR | G8: =+H32*0.05 -> 227.70367
G11: Sub-Total | H11: =SUM(G8:G10) -> 227.70367
A12: II. MATERIALES EN OBRA
A13: Descripción | D13: Unidad | E13: Precio-Unit. | F13: Cantidad | G13: Valor-Unit.
A14: YUTE VERDE H2M | D14: ='BASE DE DATOS'!B25 -> ml | E14: =+'BASE DE DATOS'!$D$28 -> 3870 | F14: 1 | G14: =+F14*E14 -> 3870
A15: CEPA DE GUADUA | D15: UN | E15: =+'BASE DE DATOS'!D127 -> 15765 | F15: 0.2 | G15: =+F15*E15 -> 3153
A16: BOMBONES EN GUADUA | D16: UN | E16: =+'BASE DE DATOS'!D29 -> 4423 | F16: 0.13 | G16: =+F16*E16 -> 574.99
A17: CINTA REFLECTIVA DE SEGURIDAD (2 HILERAS) | D17: ML | E17: =+'BASE DE DATOS'!D25 -> 221 | F17: 2.3 | G17: =+F17*E17 -> 508.3
G18: Sub-Total | H18: =SUM(G14:G17) -> 8106.29
A19: III.TRANSPORTES
A20: Material | C20: Vol-Peso ó Cant. | D20: Distancia | E20: M3-KM | F20: Tarifa | G20: Valor-Unit.
G24: Sub-Total | H24: =SUM(G21:G23) -> 0
A25: IV. MANO DE OBRA
A26: Trabajador | C26: Jornal | D26: Prestaciones | E26: Jornal Total | F26: Rendimiento | G26: Valor-Unit.
A27: OBREROS (1) | C27: =+'ANALISIS M.O'!$F$29 -> 58364 | D27: =+'ANALISIS M.O'!$C$26 -> 1.7733 | E27: =+D27*C27 -> 103496.88 | F27: 63.632952 | G27: =+E27/F27 -> 1626.4668
A28: OFICIAL (1) | C28: =+'ANALISIS M.O'!$F$31 -> 105054 | D28: =+'ANALISIS M.O'!$C$26 -> 1.7733 | E28: =+D28*C28 -> 186292.26 | F28: =+F27 -> 63.632952 | G28: =+E28/F28 -> 2927.6067
G32: Sub-Total | H32: =SUM(G27:G31) -> 4554.0735
E34: Total Costo Directo | H34: =ROUND((+H11+H18+H24+H32),4) -> 12888.067
A36: V. AU
A37: Descripción | D37: PORCENTAJE | E37: Tarifa/Hora | F37: Rendimiento | G37: Valor-Unit.
A38: ADMINISTRACIÓN | D38: =+'1.1 localizacion'!$D$35 -> 0.32 | G38: =$H$34*D38 -> 4124.1815
A39: UTILIDADES | D39: =+'1.1 localizacion'!$D$36 -> 0.05 | G39: =$H$34*D39 -> 644.40336
G40: Sub-Total | H40: =SUM(G38:G39) -> 4768.5849
E43: Total Costo | H43: =ROUND(H40+H34,0) -> 17657

Sheet 2.1 Desmonte teja
A1: FORMATO DE ANALISIS DE PRECIOS UNITARIOS-APU
A2: REPUBLICA DE COLOMBIA | E2: ANALISIS DE PRECIOS UNITARIOS
A4: OBJETO: | B4: =+'PRESUPUESTO OFICIAL'!A2 -> MEJORAMIENTO Y ADECUACIÓN DEL AUDITORIO DE LA INSTITUCIÓN EDUCATIVA MARINO GÓMEZ ESTRADA, SEDE DE LA UNIVERSIDAD DE CALDAS, EN EL MUNICIPIO DE AGUADAS, CALDAS. | G4: ITEM: | H4: 2.1
A5: DESCRIPCIÓN: | B5: =VLOOKUP(H4,'PRESUPUESTO OFICIAL'!A:F,2,0) -> DESMONTE DE CUBIERTA EN LÁMINA DE FIBROCEMENTO. INCLUYE RETIRO | G5: UNIDAD: | H5: =VLOOKUP(H4,'PRESUPUESTO OFICIAL'!A:F,3,0) -> M2
A6: I.EQUIPO
A7: Descripción | D7: Tipo | E7: Tarifa/Hora | F7: Rendimiento | G7: Valor-Unit.
A8: HERRAMIENTA MENOR | D8: UND | E8: 3484 | F8: 0.15 | G8: =+E8*F8 -> 522.6
A9: ANDAMIO METÁLICO | D9: UND | E9: 9968 | F9: 0.1 | G9: =+E9*F9 -> 996.8
A10: TALADRO ROTO PERCUTOR | D10: DIA | E10: 83300 | F10: 0.025 | G10: =+E10*F10 -> 2082.5
A11: EQUIPO DE TRANSPORTE | D11: DIA | E11: 180217 | F11: 0.0029 | G11: =+E11*F11 -> 522.6293
G12: Sub-Total | H12: =SUM(G8:G11) -> 4124.5293
A13: II. MATERIALES EN OBRA
A14: Descripción | D14: Unidad | E14: Precio-Unit. | F14: Cantidad | G14: Valor-Unit.
G15: =+F15*E15 -> 0
G16: =+F16*E16 -> 0
G17: =+F17*E17 -> 0
G19: Sub-Total | H19: =SUM(G15:G18) -> 0
A20: III.TRANSPORTES
A21: Material | C21: Vol-Peso ó Cant. | D21: Distancia | E21: M3-KM | F21: Tarifa | G21: Valor-Unit.
A22: ACARREO INTERNO | E22: 0.37 | F22: 1824 | G22: =+E22*F22 -> 674.88
G25: Sub-Total | H25: =SUM(G22:G24) -> 674.88
A26: IV. MANO DE OBRA
A27: Trabajador | C27: Jornal | D27: Prestaciones | E27: Jornal Total | F27: Rendimiento | G27: Valor-Unit.
A28: CUADRILLA AA TIPO 2 (1 OFICIAL + 2 AYUDANTE) (Albañileria) | C28: 42963 | F28: 0.3 | G28: =+F28*C28 -> 12888.9
G33: Sub-Total | H33: =SUM(G28:G32) -> 12888.9
E35: Total Costo Directo | H35: =ROUND((+H12+H19+H25+H33),4) -> 17688.309
A37: V. AU
A38: Descripción | D38: PORCENTAJE | E38: Tarifa/Hora | F38: Rendimiento | G38: Valor-Unit.
A39: ADMINISTRACIÓN | D39: =+'1.1 localizacion'!$D$35 -> 0.32 | G39: =$H$35*D39 -> 5660.259
A40: UTILIDADES | D40: =+'1.1 localizacion'!$D$36 -> 0.05 | G40: =$H$35*D40 -> 884.41547
G41: Sub-Total | H41: =SUM(G39:G40) -> 6544.6744
E44: Total Costo | H44: =ROUND(H41+H35,0) -> 24233

Sheet 2.2 Desmonte cielo raso
A1: FORMATO DE ANALISIS DE PRECIOS UNITARIOS-APU
A2: REPUBLICA DE COLOMBIA | E2: ANALISIS DE PRECIOS UNITARIOS
A4: OBJETO: | B4: =+'PRESUPUESTO OFICIAL'!A2 -> MEJORAMIENTO Y ADECUACIÓN DEL AUDITORIO DE LA INSTITUCIÓN EDUCATIVA MARINO GÓMEZ ESTRADA, SEDE DE LA UNIVERSIDAD DE CALDAS, EN EL MUNICIPIO DE AGUADAS, CALDAS. | G4: ITEM: | H4: 2.2
A5: DESCRIPCIÓN: | B5: =VLOOKUP(H4,'PRESUPUESTO OFICIAL'!A:F,2,0) -> DESMONTE CIELO RASO (INCLUYE RETIRO) | G5: UNIDAD: | H5: =VLOOKUP(H4,'PRESUPUESTO OFICIAL'!A:F,3,0) -> M2
A6: I.EQUIPO
A7: Descripción | D7: Tipo | E7: Tarifa/Hora | F7: Rendimiento | G7: Valor-Unit.
A8: HERRAMIENTA MENOR | E8: 3484 | F8: 0.18 | G8: =+ROUND(E8*F8,0) -> 627
A9: ANDAMIO TUBULAR CON TIJERA 1.50x1.50 m | D9: $/hr | E9: 9968 | F9: 0.16 | G9: =+E9*F9 -> 1594.88
A10: VOLQUETA 6M3 (CARGUE A MANO) Y DISPOSICIÓN FINAL | D10: $/hr | E10: 162197 | F10: 0.018 | G10: =+ROUND(E10*F10,0) -> 2920
G11: Sub-Total | H11: =SUM(G8:G10) -> 5141.88
A12: II. MATERIALES EN OBRA
A13: Descripción | D13: Unidad | E13: Precio-Unit. | F13: Cantidad | G13: Valor-Unit.
G14: =+F14*E14 -> 0
G15: =+F15*E15 -> 0 | I15: 0.22 | J15: 4924
G16: =+F16*E16 -> 0
G18: Sub-Total | H18: =SUM(G14:G17) -> 0
A19: III.TRANSPORTES
A20: Material | C20: Vol-Peso ó Cant. | D20: Distancia | E20: M3-KM | F20: Tarifa | G20: Valor-Unit.
A21: ACARREO INTERNO | E21: 0.3 | F21: 1824 | G21: =+ROUND(E21*F21,0) -> 547
G24: Sub-Total | H24: =SUM(G21:G23) -> 547
A25: IV. MANO DE OBRA
A26: Trabajador | C26: Jornal | D26: Prestaciones | E26: Jornal Total | F26: Rendimiento | G26: Valor-Unit.
A27: OBREROS (2) | C27: =+'ANALISIS M.O'!$F$29*2 -> 116728 | D27: =+'ANALISIS M.O'!$C$26 -> 1.7733 | E27: =+D27*C27 -> 206993.76 | F27: 60 | G27: =+E27/F27 -> 3449.896
A28: OFICIAL (1) | C28: =+'ANALISIS M.O'!$F$31 -> 105054 | D28: =+'ANALISIS M.O'!$C$26 -> 1.7733 | E28: =+D28*C28 -> 186292.26 | F28: 43 | G28: =+E28/F28 -> 4332.3781
G32: Sub-Total | H32: =SUM(G27:G31) -> 7782.2741
E34: Total Costo Directo | H34: =ROUND((+H11+H18+H24+H32),4) -> 13471.154
A36: V. AU
A37: Descripción | D37: PORCENTAJE | E37: Tarifa/Hora | F37: Rendimiento | G37: Valor-Unit.
A38: ADMINISTRACIÓN | D38: =+'1.1 localizacion'!$D$35 -> 0.32 | G38: =$H$34*D38 -> 4310.7693
A39: UTILIDADES | D39: =+'1.1 localizacion'!$D$36 -> 0.05 | G39: =$H$34*D39 -> 673.55771
G40: Sub-Total | H40: =SUM(G38:G39) -> 4984.327
E43: Total Costo | H43: =ROUND(H40+H34,0) -> 18455

Sheet 2.3 Desmonte Madera
A1: FORMATO DE ANALISIS DE PRECIOS UNITARIOS-APU
A2: REPUBLICA DE COLOMBIA | E2: ANALISIS DE PRECIOS UNITARIOS
A4: OBJETO: | B4: =+'PRESUPUESTO OFICIAL'!A2 -> MEJORAMIENTO Y ADECUACIÓN DEL AUDITORIO DE LA INSTITUCIÓN EDUCATIVA MARINO GÓMEZ ESTRADA, SEDE DE LA UNIVERSIDAD DE CALDAS, EN EL MUNICIPIO DE AGUADAS, CALDAS. | G4: ITEM: | H4: 2.3
A5: DESCRIPCIÓN: | B5: =VLOOKUP(H4,'PRESUPUESTO OFICIAL'!A:F,2,0) -> DESMONTE DE PISOS O PAREDES EN MADERA; INCLUYE ESTRUCTURA DE SOPORTE | G5: UNIDAD: | H5: =VLOOKUP(H4,'PRESUPUESTO OFICIAL'!A:F,3,0) -> M2
A6: I.EQUIPO
A7: Descripción | D7: Tipo | E7: Tarifa/Hora | F7: Rendimiento | G7: Valor-Unit.
A8: HERRAMIENTA MENOR (5%MO) | F8: 0.08 | G8: =+H29*0.08 -> 936
G11: Sub-Total | H11: =SUM(G8:G10) -> 936
A12: II. MATERIALES EN OBRA
A13: Descripción | D13: Unidad | E13: Precio-Unit. | F13: Cantidad | G13: Valor-Unit.
G14: =+F14*E14 -> 0
G15: =+F15*E15 -> 0
G17: Sub-Total | H17: =SUM(G14:G16) -> 0
A18: III.TRANSPORTES
A19: Material | C19: Vol-Peso ó Cant. | D19: Distancia | E19: M3-KM | F19: Tarifa | G19: Valor-Unit.
G23: Sub-Total | H23: =SUM(G20:G22) -> 0
A24: IV. MANO DE OBRA
A25: Trabajador | C25: Jornal | D25: Prestaciones | E25: Jornal Total | F25: Rendimiento | G25: Valor-Unit.
A26: CUADRILLA #1 | C26: 130000 | D26: 1.8 | E26: =+D26*C26 -> 234000 | F26: 20 | G26: =+E26/F26 -> 11700
G29: Sub-Total | H29: =SUM(G26:G28) -> 11700
E31: Total Costo Directo | H31: =ROUND((+H11+H17+H23+H29),4) -> 12636
A33: V. AU
A34: Descripción | D34: PORCENTAJE | E34: Tarifa/Hora | F34: Rendimiento | G34: Valor-Unit.
A35: ADMINISTRACIÓN | D35: =+'PRESUPUESTO OFICIAL'!E57 -> 0.32 | G35: =$H$31*D35 -> 4043.52
A36: UTILIDADES | D36: 0.05 | G36: =$H$31*D36 -> 631.8
G37: Sub-Total | H37: =SUM(G35:G36) -> 4675.32
E40: Total Costo | H40: =ROUND(H37+H31,0) -> 17311

Sheet 2.4 demolición ceramica
B1: 2.4 | C1: =+'PRESUPUESTO OFICIAL'!B13 -> DEMOLICIÓN MANUAL DE ENCHAPE O PAÑETE | D1: =+'PRESUPUESTO OFICIAL'!C37 -> M2 | E1: =+G13 -> 16849
C2: DESCRIPCION | D2: UNIDAD | E2: CANTIDAD | F2: VALOR UNITARIO | G2: VALOR PARCIAL
C3: MATERIALES
A4: M0104 | C4: ANDAMIO TUBULAR CON TIJERA 1.50x1.50 m | D4: Día | E4: 0.1 | F4: 4924 | G4: =+F4*E4 -> 492.4
A5: M0104 | C5: ALMADANA 4 lb | D5: Un | E5: 0.0014 | F5: 52309 | G5: =+F5*E5 -> 73.2326
A6: M0104 | C6: CINCEL 3/4" ACERO TEMPLADO | D6: Un | E6: 0.0014 | F6: 32335 | G6: =+F6*E6 -> 45.269
C7: EQUIPO
C9: TRANSPORTE
C11: MANO DE OBRA
A12: C1 | C12: CUADRILLA TIPO 1 (1 of + 1 Ayu) | D12: Día | E12: 0.068 | F12: 238792 | G12: =+F12*E12 -> 16237.856
G13: =ROUND(SUM(G4:G12),0) -> 16849
A15: V. AU
A16: Descripción | D16: PORCENTAJE | E16: Tarifa/Hora | F16: Rendimiento | G16: Valor-Unit.
A17: ADMINISTRACIÓN | D17: =+'1.1 localizacion'!$D$35 -> 0.32 | G17: =G13*D17 -> 5391.68
A18: UTILIDADES | D18: 0.05 | G18: =G13*D18 -> 842.45
G19: Sub-Total | H19: =+G17+G18+G13 -> 23083.13

Sheet 3.1. Teja termoacustica
A1: FORMATO DE ANALISIS DE PRECIOS UNITARIOS-APU
A2: REPUBLICA DE COLOMBIA | E2: ANALISIS DE PRECIOS UNITARIOS
A4: OBJETO: | B4: =+'PRESUPUESTO OFICIAL'!A2 -> MEJORAMIENTO Y ADECUACIÓN DEL AUDITORIO DE LA INSTITUCIÓN EDUCATIVA MARINO GÓMEZ ESTRADA, SEDE DE LA UNIVERSIDAD DE CALDAS, EN EL MUNICIPIO DE AGUADAS, CALDAS. | G4: ITEM: | H4: 3.1.
A5: DESCRIPCIÓN: | B5: =VLOOKUP(H4,'PRESUPUESTO OFICIAL'!A:F,2,0) -> SUMINISTRO, TRANSPORTE E INSTALACIÓN DE TEJA TERMOACÚSTICA TIPO CINDURIB O SIMILAR, A=0.82 M, INCLUYE ACCESORIOS DE FIJACIÓN. | G5: UNIDAD: | H5: =VLOOKUP(H4,'PRESUPUESTO OFICIAL'!A:F,3,0) -> M2
A6: I.EQUIPO
A7: Descripción | D7: Tipo | E7: Tarifa/Hora | F7: Rendimiento | G7: Valor-Unit.
A8: KIT ARNÉS PARA ALTURAS | D8: Un | E8: 726643 | F8: 0.002 | G8: =+E8*F8 -> 1453.286
A9: ANDAMIO TUBULAR CON TIJERA 1.50x1.50 m | D9: Día | E9: 4924 | F9: 0.71 | G9: =+E9*F9 -> 3496.04
A10: TIJERA CORTA LÁMINA 10" | D10: Un | E10: 39560 | F10: 0.001 | G10: =+E10*F10 -> 39.56
G11: Sub-Total | H11: =SUM(G8:G10) -> 4988.886
A12: II. MATERIALES EN OBRA | J12: KIT ARNÉS PARA ALTURAS | K12: Un | L12: 0.002 | M12: 726643
A13: Descripción | D13: Unidad | E13: Precio-Unit. | F13: Cantidad | G13: Valor-Unit. | J13: ANDAMIO TUBULAR CON TIJERA 1.50x1.50 m | K13: Día | L13: 0.71 | M13: 4924
A14: TEJA TERMOACÚSTICA a= 0.82 m | D14: M | E14: 58340 | F14: 1.22 | G14: =+F14*E14 -> 71174.8 | J14: TIJERA CORTA LÁMINA 10" | K14: Un | L14: 0.001 | M14: 39560
A15: ACCESORIOS % | D15: % | E15: 71174.8 | F15: 0.05 | G15: =+F15*E15 -> 3558.74
G19: Sub-Total | H19: =SUM(G14:G18) -> 74733.54
A20: III.TRANSPORTES
A21: Material | C21: Vol-Peso ó Cant. | D21: Distancia | E21: M3-KM | F21: Tarifa | G21: Valor-Unit.
A22: CAMIÓN 350 | E22: 0.01 | F22: 60740 | G22: =+E22*F22 -> 607.4
G25: Sub-Total | H25: =SUM(G22:G24) -> 607.4
A26: IV. MANO DE OBRA
A27: Trabajador | C27: Jornal | D27: Prestaciones | E27: Jornal Total | F27: Rendimiento | G27: Valor-Unit.
A28: CUADRILLA 1 OF + 1 AY | C28: 214937 | F28: 0.098 | G28: =+F28*C28 -> 21063.826
G33: Sub-Total | H33: =SUM(G28:G32) -> 21063.826
E35: Total Costo Directo | H35: =ROUND((+H11+H19+H25+H33),4) -> 101393.65
A37: V. AU
A38: Descripción | D38: PORCENTAJE | E38: Tarifa/Hora | F38: Rendimiento | G38: Valor-Unit.
A39: ADMINISTRACIÓN | D39: =+'1.1 localizacion'!$D$35 -> 0.32 | G39: =$H$35*D39 -> 32445.969
A40: UTILIDADES | D40: =+'1.1 localizacion'!$D$36 -> 0.05 | G40: =$H$35*D40 -> 5069.6826
G41: Sub-Total | H41: =SUM(G39:G40) -> 37515.651
E44: Total Costo | H44: =ROUND(H41+H35,0) -> 138909

Sheet 3.2 Caballete termo
A1: FORMATO DE ANALISIS DE PRECIOS UNITARIOS-APU
A2: REPUBLICA DE COLOMBIA | E2: ANALISIS DE PRECIOS UNITARIOS
A4: OBJETO: | B4: =+'PRESUPUESTO OFICIAL'!A2 -> MEJORAMIENTO Y ADECUACIÓN DEL AUDITORIO DE LA INSTITUCIÓN EDUCATIVA MARINO GÓMEZ ESTRADA, SEDE DE LA UNIVERSIDAD DE CALDAS, EN EL MUNICIPIO DE AGUADAS, CALDAS. | G4: ITEM: | H4: 3.2
A5: DESCRIPCIÓN: | B5: =VLOOKUP(H4,'PRESUPUESTO OFICIAL'!A:F,2,0) -> SUMINISTRO, TRANSPORTE E INSTALACION CABALLETE TEJA TERMOACÚSTICA CINDULIT / CINDURIB O SIMILAR. COLOR SEGÚN DISEÑO | G5: UNIDAD: | H5: =VLOOKUP(H4,'PRESUPUESTO OFICIAL'!A:F,3,0) -> ML
A6: I.EQUIPO
A7: Descripción | D7: Tipo | E7: Tarifa/Hora | F7: Rendimiento | G7: Valor-Unit.
A8: HERRAMIENTA MENOR | E8: 3484 | F8: 0.05 | G8: =+E8*F8 -> 174.2
A9: ANDAMIO METÁLICO | D9: $/hr | E9: 9968 | F9: 0.1 | G9: =+E9*F9 -> 996.8
A10: TALADRO ROJO PERCUTOR | D10: $/hr | E10: 83300 | F10: 0.025 | G10: =+E10*F10 -> 2082.5
A11: ANDAMIO COLGANTE | D11: $/hr | E11: 3137 | F11: 0.1 | G11: =+E11*F11 -> 313.7
G13: Sub-Total | H13: =SUM(G8:G12) -> 3567.2
A14: II. MATERIALES EN OBRA
A15: Descripción | D15: Unidad | E15: Precio-Unit. | F15: Cantidad | G15: Valor-Unit.
A16: CABALLETE LISO TEJA TIPO CINDULIT / CINDURIB L=3.05 M. O SIMILAR. COLOR VERDE, AZUL O ROJO SEGÚN DISEÑO. | D16: UND | E16: =155416*1.1 -> 170957.6 | F16: 0.33 | G16: =+F16*E16 -> 56416.008
A17: TORNILLO AUTOPERFORANTE TEJA TIPO CINDU O SIMILAR. DIAM. 3/4". | D17: UND | E17: 410 | F17: 4 | G17: =+F17*E17 -> 1640
A18: TELERA 20 CM X 4 CM X 3 M. | D18: ML | E18: 11893 | F18: 0.1 | G18: =+F18*E18 -> 1189.3
G19: Sub-Total | H19: =SUM(G16:G18) -> 59245.308
A20: III.TRANSPORTES
A21: Material | C21: Vol-Peso ó Cant. | D21: Distancia | E21: M3-KM | F21: Tarifa | G21: Valor-Unit.
A22: EQUIPO DE TRANSPORTE | E22: 0.0057 | F22: 180127 | G22: =+E22*F22 -> 1026.7239
G25: Sub-Total | H25: =SUM(G22:G24) -> 1026.7239
A26: IV. MANO DE OBRA
A27: Trabajador | C27: Jornal | D27: Prestaciones | E27: Jornal Total | F27: Rendimiento | G27: Valor-Unit.
A28: OBREROS (2) | C28: =+'ANALISIS M.O'!$F$29*2 -> 116728 | D28: =+'ANALISIS M.O'!$C$26 -> 1.7733 | E28: =+D28*C28 -> 206993.76 | F28: 0.005 | G28: =+E28*F28 -> 1034.9688
A29: OFICIAL (1) | C29: =+'ANALISIS M.O'!$F$31 -> 105054 | D29: =+'ANALISIS M.O'!$C$26 -> 1.7733 | E29: =+D29*C29 -> 186292.26 | F29: 0.008 | G29: =+E29*F29 -> 1490.3381
G33: Sub-Total | H33: =SUM(G28:G32) -> 2525.3069
E35: Total Costo Directo | H35: =ROUND((+H13+H19+H25+H33),4) -> 66364.539
A37: V. AU
A38: Descripción | D38: PORCENTAJE | E38: Tarifa/Hora | F38: Rendimiento | G38: Valor-Unit.
A39: ADMINISTRACIÓN | D39: =+'1.1 localizacion'!$D$35 -> 0.32 | G39: =$H$35*D39 -> 21236.652
A40: UTILIDADES | D40: =+'1.1 localizacion'!$D$36 -> 0.05 | G40: =$H$35*D40 -> 3318.2269
G41: Sub-Total | H41: =SUM(G39:G40) -> 24554.879
E44: Total Costo | H44: =ROUND(H41+H35,0) -> 90919

Sheet 3.3 Impermiabiliazación
A1: FORMATO DE ANALISIS DE PRECIOS UNITARIOS-APU
A2: REPUBLICA DE COLOMBIA | E2: ANALISIS DE PRECIOS UNITARIOS
A4: OBJETO: | B4: =+'PRESUPUESTO OFICIAL'!A2 -> MEJORAMIENTO Y ADECUACIÓN DEL AUDITORIO DE LA INSTITUCIÓN EDUCATIVA MARINO GÓMEZ ESTRADA, SEDE DE LA UNIVERSIDAD DE CALDAS, EN EL MUNICIPIO DE AGUADAS, CALDAS. | G4: ITEM: | H4: 3.3
A5: DESCRIPCIÓN: | B5: =VLOOKUP(H4,'PRESUPUESTO OFICIAL'!A:F,2,0) -> SUMINISTRO, TRANSPORTE E INSTALACION IMPERMEABILIZACION Tipo Manto Morter Plas AL-80 de 3.5 mm con foil de aluminio o Similar. INCLUYE (Canales y/o cubiertas planas, incluye media cañas, remates, pintura bituminosa) | G5: UNIDAD: | H5: 3
A6: I.EQUIPO
A7: Descripción | D7: Tipo | E7: Tarifa/Hora | F7: Rendimiento | G7: Valor-Unit.
A8: HERRAMIENTA MENOR | G8: =+H31*0.05 -> 809.2305
A9: SOPLETE GAS CON GATILLO QUEMADOR 25-35-50MM | D9: $/hr | E9: =+'BASE DE DATOS'!D131 -> 5500 | F9: 10 | G9: =+E9/F9 -> 550
G11: Sub-Total | H11: =SUM(G8:G10) -> 1359.2305
A12: II. MATERIALES EN OBRA
A13: Descripción | D13: Unidad | E13: Precio-Unit. | F13: Cantidad | G13: Valor-Unit.
A14: PINTURA BITUMINOSA | D14: GAL | E14: =+'BASE DE DATOS'!D74 -> 110140 | F14: 0.008 | G14: =+F14*E14 -> 881.12
A15: IMPERMEABILIZACIÓN TIPO MANTO MORTER PLAS AL -80 E=35MM O SIMILAR | D15: M2 | E15: =+'BASE DE DATOS'!D75 -> 34260 | F15: 1 | G15: =+F15*E15 -> 34260
A16: EMULSIÓN ASFÁLTICA TIPO CRL-1 | D16: LT | E16: =+'BASE DE DATOS'!D76 -> 5430 | F16: 0.1 | G16: =+E16*F16 -> 543
G17: Sub-Total | H17: =SUM(G14:G16) -> 35684.12
A18: III.TRANSPORTES
A19: Material | C19: Vol-Peso ó Cant. | D19: Distancia | E19: M3-KM | F19: Tarifa | G19: Valor-Unit.
G23: Sub-Total | H23: =SUM(G20:G22) -> 0
A24: IV. MANO DE OBRA
A25: Trabajador | C25: Jornal | D25: Prestaciones | E25: Jornal Total | F25: Rendimiento | G25: Valor-Unit.
A26: OBREROS (2) | C26: =+'ANALISIS M.O'!$F$29*2 -> 116728 | D26: =+'ANALISIS M.O'!$C$26 -> 1.7733 | E26: =+D26*C26 -> 206993.76 | F26: 24.3 | G26: =+E26/F26 -> 8518.2618
A27: OFICIAL (1) | C27: =+'ANALISIS M.O'!$F$31 -> 105054 | D27: =+'ANALISIS M.O'!$C$26 -> 1.7733 | E27: =+D27*C27 -> 186292.26 | F27: =+F26 -> 24.3 | G27: =+E27/F27 -> 7666.3481
G31: Sub-Total | H31: =SUM(G26:G30) -> 16184.61
E33: Total Costo Directo | H33: =ROUND((+H11+H17+H23+H31),4) -> 53227.96
A35: V. AU
A36: Descripción | D36: PORCENTAJE | E36: Tarifa/Hora | F36: Rendimiento | G36: Valor-Unit.
A37: ADMINISTRACIÓN | D37: =+'1.1 localizacion'!$D$35 -> 0.32 | G37: =$H$33*D37 -> 17032.947
A38: UTILIDADES | D38: =+'1.1 localizacion'!$D$36 -> 0.05 | G38: =$H$33*D38 -> 2661.398
G39: Sub-Total | H39: =SUM(G37:G38) -> 19694.345
E42: Total Costo | H42: =ROUND(H39+H33,0) -> 72922

Sheet 3.4 Canal
A1: FORMATO DE ANALISIS DE PRECIOS UNITARIOS-APU
A2: REPUBLICA DE COLOMBIA | E2: ANALISIS DE PRECIOS UNITARIOS
A4: OBJETO: | B4: =+'PRESUPUESTO OFICIAL'!A2 -> MEJORAMIENTO Y ADECUACIÓN DEL AUDITORIO DE LA INSTITUCIÓN EDUCATIVA MARINO GÓMEZ ESTRADA, SEDE DE LA UNIVERSIDAD DE CALDAS, EN EL MUNICIPIO DE AGUADAS, CALDAS. | G4: ITEM: | H4: 3.4
A5: DESCRIPCIÓN: | B5: =VLOOKUP(H4,'PRESUPUESTO OFICIAL'!A:F,2,0) -> SUMINISTRO, TRANSPORTE E INSTALACION CANAL EN LAMINA GALVANIZADA CAL .20 D/ 0.60 M. (SUMINISTRO E INSTALACIÓN CON WASH PRIMER + ESMALTE + ANCLAJE A MURO + SILICONA) | G5: UNIDAD: | H5: =VLOOKUP(H4,'PRESUPUESTO OFICIAL'!A:F,3,0) -> ML
A6: I.EQUIPO
A7: Descripción | D7: Tipo | E7: Tarifa/Hora | F7: Rendimiento | G7: Valor-Unit.
A8: HERRAMIENTA MENOR | G8: =+H35*0.05 -> 1820.7686
A9: ANDAMIO METÁLICO | D9: $/hr | E9: =+'BASE DE DATOS'!D130 -> 450 | F9: 1.5 | G9: =+E9/F9 -> 300
G11: Sub-Total | H11: =SUM(G8:G10) -> 2120.7686
A12: II. MATERIALES EN OBRA
A13: Descripción | D13: Unidad | E13: Precio-Unit. | F13: Cantidad | G13: Valor-Unit.
A14: ESMALTE SINTETICO PINTULUX 3 EN 1 (No requiere anticorrosivo) | B14: ESMALTE SINTETICO PINTULUX 3 EN 1 (No requiere anticorrosivo) | C14: ESMALTE SINTETICO PINTULUX 3 EN 1 (No requiere anticorrosivo) | D14: GAL | E14: =+'BASE DE DATOS'!D139 -> 436656 | F14: 0.038 | G14: =+F14*E14 -> 16592.928
A15: WASH PRIMER COMPONENTE A - 1/4 GL REF. 509A O SIMILAR | B15: WASH PRIMER COMPONENTE A - 1/4 GL REF. 509A O SIMILAR | C15: WASH PRIMER COMPONENTE A - 1/4 GL REF. 509A O SIMILAR | D15: UND | E15: =+'BASE DE DATOS'!D77 -> 29350 | F15: 0.06 | G15: =+F15*E15 -> 1761
A16: WASH PRIMER COMPONENTE B - 1/4 GL REF. 509B O SIMILAR | B16: WASH PRIMER COMPONENTE B - 1/4 GL REF. 509B O SIMILAR | C16: WASH PRIMER COMPONENTE B - 1/4 GL REF. 509B O SIMILAR | D16: UND | E16: =+'BASE DE DATOS'!D78 -> 44320 | F16: 0.06 | G16: =+F16*E16 -> 2659.2
A17: LAMINA GALVANIZADA CAL. 20 TIPO ACESCO O SIMILAR. | B17: LAMINA GALVANIZADA CAL. 20 TIPO ACESCO O SIMILAR. | C17: LAMINA GALVANIZADA CAL. 20 TIPO ACESCO O SIMILAR. | D17: M2 | E17: =+'BASE DE DATOS'!D79 -> 48500 | F17: 0.66 | G17: =+F17*E17 -> 32010
A18: PLATINA SOPORTE 3 MM | B18: PLATINA SOPORTE 3 MM | C18: PLATINA SOPORTE 3 MM | D18: UND | E18: =+'BASE DE DATOS'!D80 -> 8050 | F18: 0.5 | G18: =+F18*E18 -> 4025
A19: SOLDADURA DE ESTAÑO 60-40 250GR 1/16" (1.6 MM) | B19: SOLDADURA DE ESTAÑO 60-40 250GR 1/16" (1.6 MM) | C19: SOLDADURA DE ESTAÑO 60-40 250GR 1/16" (1.6 MM) | D19: UND | E19: =+'BASE DE DATOS'!D81 -> 1650 | F19: 0.03 | G19: =+F19*E19 -> 49.5
A20: SIKAFLEX 1A TUBO 305 CC O SIMILAR. | B20: SIKAFLEX 1A TUBO 305 CC O SIMILAR. | C20: SIKAFLEX 1A TUBO 305 CC O SIMILAR. | D20: UND | E20: =+'BASE DE DATOS'!D82 -> 31520 | F20: 0.005 | G20: =+F20*E20 -> 157.6
G21: Sub-Total | H21: =SUM(G14:G20) -> 57255.228
A22: III.TRANSPORTES
A23: Material | C23: Vol-Peso ó Cant. | D23: Distancia | E23: M3-KM | F23: Tarifa | G23: Valor-Unit.
G27: Sub-Total | H27: =SUM(G24:G26) -> 0
A28: IV. MANO DE OBRA
A29: Trabajador | C29: Jornal | D29: Prestaciones | E29: Jornal Total | F29: Rendimiento | G29: Valor-Unit.
A30: OBREROS (2) | C30: =+'ANALISIS M.O'!$F$29*2 -> 116728 | D30: =+'ANALISIS M.O'!$C$26 -> 1.7733 | E30: =+D30*C30 -> 206993.76 | F30: 10.8 | G30: =+E30/F30 -> 19166.089
A31: OFICIAL (1) | C31: =+'ANALISIS M.O'!$F$31 -> 105054 | D31: =+'ANALISIS M.O'!$C$26 -> 1.7733 | E31: =+D31*C31 -> 186292.26 | F31: =+F30 -> 10.8 | G31: =+E31/F31 -> 17249.283
G35: Sub-Total | H35: =SUM(G30:G34) -> 36415.372
E37: Total Costo Directo | H37: =ROUND((+H11+H21+H27+H35),4) -> 95791.369
A39: V. AU
A40: Descripción | D40: PORCENTAJE | E40: Tarifa/Hora | F40: Rendimiento | G40: Valor-Unit.
A41: ADMINISTRACIÓN | D41: =+'1.1 localizacion'!$D$35 -> 0.32 | G41: =$H$37*D41 -> 30653.238
A42: UTILIDADES | D42: =+'1.1 localizacion'!$D$36 -> 0.05 | G42: =$H$37*D42 -> 4789.5684
G43: Sub-Total | H43: =SUM(G41:G42) -> 35442.806
E46: Total Costo | H46: =ROUND(H43+H37,0) -> 131234

Sheet 3.5 Bajante
A1: FORMATO DE ANALISIS DE PRECIOS UNITARIOS-APU
A2: REPUBLICA DE COLOMBIA | E2: ANALISIS DE PRECIOS UNITARIOS
A4: OBJETO: | B4: =+'PRESUPUESTO OFICIAL'!A2 -> MEJORAMIENTO Y ADECUACIÓN DEL AUDITORIO DE LA INSTITUCIÓN EDUCATIVA MARINO GÓMEZ ESTRADA, SEDE DE LA UNIVERSIDAD DE CALDAS, EN EL MUNICIPIO DE AGUADAS, CALDAS. | G4: ITEM: | H4: 3.5
A5: DESCRIPCIÓN: | B5: =VLOOKUP(H4,'PRESUPUESTO OFICIAL'!A:F,2,0) -> SUMINISTRO, TRANSPORTE E INSTALACION BAJANTE AGUAS LLUVIAS PVC 3" (INCLUYE CODO, UNION Y ACCESORIOS DE FIJACION) | G5: UNIDAD: | H5: =VLOOKUP(H4,'PRESUPUESTO OFICIAL'!A:F,3,0) -> ML
A6: I.EQUIPO
A7: Descripción | D7: Tipo | E7: Tarifa/Hora | F7: Rendimiento | G7: Valor-Unit.
A8: HERRAMIENTA MENOR | G8: =+H35*0.05 -> 959.2342
G11: Sub-Total | H11: =SUM(G8:G10) -> 959.2342
A12: II. MATERIALES EN OBRA
A13: Descripción | D13: Unidad | E13: Precio-Unit. | F13: Cantidad | G13: Valor-Unit.
A14: ABRAZADERA EN ACERO | B14: ABRAZADERA EN ACERO | C14: ABRAZADERA EN ACERO | D14: UND | E14: =+'BASE DE DATOS'!D86 -> 2849 | F14: 0.63 | G14: =+F14*E14 -> 1794.87
A15: CODO 90° 1/4 CXC SANITARIO 3'' | B15: CODO 90° 1/4 CXC SANITARIO 3'' | C15: CODO 90° 1/4 CXC SANITARIO 3'' | D15: UND | E15: =+'BASE DE DATOS'!D87 -> 9901 | F15: 0.1 | G15: =+F15*E15 -> 990.1
A16: LIMPIADOR REM PVC 760 GRMS. (1/4) | B16: LIMPIADOR REM PVC 760 GRMS. (1/4) | C16: LIMPIADOR REM PVC 760 GRMS. (1/4) | D16: UND | E16: =+'BASE DE DATOS'!D88 -> 62393 | F16: 0.015 | G16: =+F16*E16 -> 935.895
A17: SOLDADURA PVC LIQUIDA 1/4 | B17: SOLDADURA PVC LIQUIDA 1/4 | C17: SOLDADURA PVC LIQUIDA 1/4 | D17: UND | E17: =+'BASE DE DATOS'!D89 -> 129335 | F17: 0.015 | G17: =+F17*E17 -> 1940.025
A18: TUBO PVC A.LL-VENTILACION 3'' | B18: TUBO PVC A.LL-VENTILACION 3'' | C18: TUBO PVC A.LL-VENTILACION 3'' | D18: ML | E18: =+'BASE DE DATOS'!D90 -> 12317 | F18: 1.03 | G18: =+F18*E18 -> 12686.51
A19: UNION SANITARIA 3" PVC | B19: UNION SANITARIA 3" PVC | C19: UNION SANITARIA 3" PVC | D19: UND | E19: =+'BASE DE DATOS'!D91 -> 4974 | F19: 0.16 | G19: =+F19*E19 -> 795.84
G21: Sub-Total | H21: =SUM(G14:G20) -> 19143.24
A22: III.TRANSPORTES
A23: Material | C23: Vol-Peso ó Cant. | D23: Distancia | E23: M3-KM | F23: Tarifa | G23: Valor-Unit.
G27: Sub-Total | H27: =SUM(G24:G26) -> 0
A28: IV. MANO DE OBRA
A29: Trabajador | C29: Jornal | D29: Prestaciones | E29: Jornal Total | F29: Rendimiento | G29: Valor-Unit.
A30: OBREROS (2) | C30: =+'ANALISIS M.O'!$F$29*2 -> 116728 | D30: =+'ANALISIS M.O'!$C$26 -> 1.7733 | E30: =+D30*C30 -> 206993.76 | F30: 20.5 | G30: =+E30/F30 -> 10097.257
A31: OFICIAL (1) | C31: =+'ANALISIS M.O'!$F$31 -> 105054 | D31: =+'ANALISIS M.O'!$C$26 -> 1.7733 | E31: =+D31*C31 -> 186292.26 | F31: =+F30 -> 20.5 | G31: =+E31/F31 -> 9087.4272
G35: Sub-Total | H35: =SUM(G30:G34) -> 19184.684
E37: Total Costo Directo | H37: =ROUND((+H11+H21+H27+H35),4) -> 39287.158
A39: V. AU
A40: Descripción | D40: PORCENTAJE | E40: Tarifa/Hora | F40: Rendimiento | G40: Valor-Unit.
A41: ADMINISTRACIÓN | D41: =+'1.1 localizacion'!$D$35 -> 0.32 | G41: =$H$37*D41 -> 12571.891
A42: UTILIDADES | D42: =+'1.1 localizacion'!$D$36 -> 0.05 | G42: =$H$37*D42 -> 1964.3579
G43: Sub-Total | H43: =SUM(G41:G42) -> 14536.248
E46: Total Costo | H46: =ROUND(H43+H37,0) -> 53823

Sheet 3.6 Recorrido cubierta
A1: FORMATO DE ANALISIS DE PRECIOS UNITARIOS-APU
A2: REPUBLICA DE COLOMBIA | E2: ANALISIS DE PRECIOS UNITARIOS
A4: OBJETO: | B4: =+'PRESUPUESTO OFICIAL'!A2 -> MEJORAMIENTO Y ADECUACIÓN DEL AUDITORIO DE LA INSTITUCIÓN EDUCATIVA MARINO GÓMEZ ESTRADA, SEDE DE LA UNIVERSIDAD DE CALDAS, EN EL MUNICIPIO DE AGUADAS, CALDAS. | G4: ITEM: | H4: 3.6
A5: DESCRIPCIÓN: | B5: =VLOOKUP(H4,'PRESUPUESTO OFICIAL'!A:F,2,0) -> RECORRIDO DE CUBIERTA | G5: UNIDAD: | H5: =VLOOKUP(H4,'PRESUPUESTO OFICIAL'!A:F,3,0) -> M2
A6: I.EQUIPO
A7: Descripción | D7: Tipo | E7: Tarifa/Hora | F7: Rendimiento | G7: Valor-Unit.
A8: HERRAMIENTA MENOR | G8: =+H33*0.05 -> 893.83187
G11: Sub-Total | H11: =SUM(G8:G10) -> 893.83187
A12: II. MATERIALES EN OBRA
A13: Descripción | D13: Unidad | E13: Precio-Unit. | F13: Cantidad | G13: Valor-Unit.
A14: ACARREO INTERNO | D14: UND | E14: 1824 | F14: 0.1 | G14: =+F14*E14 -> 182.4
A15: GANCHO PARA TEJA ETERNIT | B15: GANCHO PARA TEJA ETERNIT | C15: GANCHO PARA TEJA ETERNIT | D15: UND | E15: 1190 | F15: 1 | G15: =+F15*E15 -> 1190
A16: AMARRA PARA TEJA ETERNIT | B16: AMARRA PARA TEJA ETERNIT | C16: AMARRA PARA TEJA ETERNIT | D16: UND | E16: 595 | F16: 1 | G16: =+F16*E16 -> 595
A17: SIKAFLEX 1A TUBO 305 CC O SIMILAR. | B17: SIKAFLEX 1A TUBO 305 CC O SIMILAR. | C17: SIKAFLEX 1A TUBO 305 CC O SIMILAR. | D17: UND | E17: 44338 | F17: 0.01 | G17: =+F17*E17 -> 443.38
G19: Sub-Total | H19: =SUM(G14:G18) -> 2410.78
A20: III.TRANSPORTES
A21: Material | C21: Vol-Peso ó Cant. | D21: Distancia | E21: M3-KM | F21: Tarifa | G21: Valor-Unit.
G25: Sub-Total | H25: =SUM(G22:G24) -> 0
A26: IV. MANO DE OBRA
A27: Trabajador | C27: Jornal | D27: Prestaciones | E27: Jornal Total | F27: Rendimiento | G27: Valor-Unit.
A28: OBREROS (2) | C28: =+'ANALISIS M.O'!$F$29*2 -> 116728 | D28: =+'ANALISIS M.O'!$C$26 -> 1.7733 | E28: =+D28*C28 -> 206993.76 | F28: 22 | G28: =+E28/F28 -> 9408.8074
A29: OFICIAL (1) | C29: =+'ANALISIS M.O'!$F$31 -> 105054 | D29: =+'ANALISIS M.O'!$C$26 -> 1.7733 | E29: =+D29*C29 -> 186292.26 | F29: =+F28 -> 22 | G29: =+E29/F29 -> 8467.8299
G33: Sub-Total | H33: =SUM(G28:G32) -> 17876.637
E35: Total Costo Directo | H35: =ROUND((+H11+H19+H25+H33),4) -> 21181.249
A37: V. AU
A38: Descripción | D38: PORCENTAJE | E38: Tarifa/Hora | F38: Rendimiento | G38: Valor-Unit.
A39: ADMINISTRACIÓN | D39: =+'1.1 localizacion'!$D$35 -> 0.32 | G39: =$H$35*D39 -> 6777.9997
A40: UTILIDADES | D40: =+'1.1 localizacion'!$D$36 -> 0.05 | G40: =$H$35*D40 -> 1059.0625
G41: Sub-Total | H41: =SUM(G39:G40) -> 7837.0622
E44: Total Costo | H44: =ROUND(H41+H35,0) -> 29018

Sheet 4.1 cielo raso pvc
A1: FORMATO DE ANALISIS DE PRECIOS UNITARIOS-APU
A2: REPUBLICA DE COLOMBIA | E2: ANALISIS DE PRECIOS UNITARIOS
A4: OBJETO: | B4: =+'PRESUPUESTO OFICIAL'!A2 -> MEJORAMIENTO Y ADECUACIÓN DEL AUDITORIO DE LA INSTITUCIÓN EDUCATIVA MARINO GÓMEZ ESTRADA, SEDE DE LA UNIVERSIDAD DE CALDAS, EN EL MUNICIPIO DE AGUADAS, CALDAS. | G4: ITEM: | H4: 4.1
A5: DESCRIPCIÓN: | B5: =VLOOKUP(H4,'PRESUPUESTO OFICIAL'!A:F,2,0) -> SUMINISTRO E INSTALACION DE CIELO RASO EN PVC. INCLUYE ESTRUCTURA Y DEMAS ELEMENTOS DE FIJACION | G5: UNIDAD: | H5: =VLOOKUP(H4,'PRESUPUESTO OFICIAL'!A:F,3,0) -> M2
A6: I.EQUIPO
A7: Descripción | D7: Tipo | E7: Tarifa/Hora | F7: Rendimiento | G7: Valor-Unit.
A8: Andamio tubular con tijera 1.50x1.50m | D8: DÌA | E8: 5733.6 | F8: 0.67 | G8: =+E8*F8 -> 3841.512 | K8: Un | L8: 0.001 | M8: 15789
A9: Rueda giratoria para andamio | D9: DÍA | E9: 2443.2 | F9: 1.1 | G9: =+E9*F9 -> 2687.52 | K9: Un | L9: 0.001 | M9: 15789
G10: Sub-Total | H10: =SUM(G7:G9) -> 6529.032
A11: II. MATERIALES EN OBRA
A12: Descripción | D12: Unidad | E12: Precio-Unit. | F12: Cantidad | G12: Valor-Unit.
A13: Lamina PVC | D13: M2 | E13: 1.05 | F13: 38000 | G13: =+F13*E13 -> 39900
A14: Angulo | D14: ML | E14: 0.5 | F14: 3500 | G14: =+F14*E14 -> 1750
A15: Omegas | D15: UND | E15: 0.6 | F15: 4200 | G15: =+F15*E15 -> 2520
A16: Perfil perimetral | D16: ML | E16: 0.8 | F16: 12000 | G16: =+F16*E16 -> 9600
A17: Tornillo cabeza auto perforante | D17: UND | E17: 18 | F17: 50 | G17: =+F17*E17 -> 900
A18: Tornillo cabeza lenteja | D18: UND | E18: 18 | F18: 50 | G18: =+F18*E18 -> 900
G20: Sub-Total | H20: =SUM(G13:G18) -> 55570
A21: III.TRANSPORTES
A22: Material | C22: Vol-Peso ó Cant. | D22: Distancia | E22: M3-KM | F22: Tarifa | G22: Valor-Unit.
A23: CAMIONETA | E23: 0.02 | F23: 44220 | G23: =+E23*F23 -> 884.4
G26: Sub-Total | H26: =SUM(G23:G25) -> 884.4
A27: IV. MANO DE OBRA
A28: Trabajador | C28: Jornal | D28: Prestaciones | E28: Jornal Total | F28: Rendimiento | G28: Valor-Unit.
A29: CUADRILLA 1 OF + 1 AY | C29: 173333 | D29: 1.8 | E29: =+C29*D29 -> 311999.4 | F29: 7.99 | G29: =+E29/F29 -> 39048.736
G30: =+F30*C30 -> 0
G34: Sub-Total | H34: =SUM(G29:G33) -> 39048.736
E36: Total Costo Directo | H36: =ROUND((+H10+H20+H26+H34),4) -> 102032.17
A38: V. AU
A39: Descripción | D39: PORCENTAJE | E39: Tarifa/Hora | F39: Rendimiento | G39: Valor-Unit.
A40: ADMINISTRACIÓN | D40: =+'1.1 localizacion'!$D$35 -> 0.32 | G40: =$H$36*D40 -> 32650.294
A41: UTILIDADES | D41: 0.05 | G41: =$H$36*D41 -> 5101.6084
G42: Sub-Total | H42: =SUM(G40:G41) -> 37751.902
E45: Total Costo | H45: =ROUND(H42+H36,0) -> 139784

Sheet 4.4 Triplex
A1: FORMATO DE ANALISIS DE PRECIOS UNITARIOS-APU
A2: REPUBLICA DE COLOMBIA | E2: ANALISIS DE PRECIOS UNITARIOS
A4: OBJETO: | B4: MEJORAMIENTO Y ADECUACIÓN DE LA CUBIERTA DE LA CASA DE LA CULTURA FRÁNCICO GIRALDO DEL MUNICIPIO DEL MUNICIPIO DE AGUADAS, CALDAS | G4: ITEM: | H4: 3.13
A5: DESCRIPCIÓN: | B5: SUMINISTRO, TRANSPORTE E INSTALACIÓN CIELO RASO EN LÁMINA TRIPLEX 3.22MM X 1.22X2.44M. INCLUYE PERFILERIA Y ANCLAJES PARA FIJACIÓN Y PINTURA | G5: UNIDAD: | H5: M2
A6: I.EQUIPO
A7: Descripción | D7: Tipo | E7: Tarifa/Hora | F7: Rendimiento | G7: Valor-Unit.
A8: HERRAMIENTA MENOR | G8: 270.4049
A9: ANDAMIO METÁLICO | D9: $/hr | E9: 450 | F9: 1.5 | G9: 300
G11: Sub-Total | H11: 570.4049
A12: II. MATERIALES EN OBRA
A13: Descripción | D13: Unidad | E13: Precio-Unit. | F13: Cantidad | G13: Valor-Unit.
A14: INTERVINILO - TIPO PINTUCO REF. 2501 SEGÚN COLOR DISEÑO O SIMILAR | B14: INTERVINILO - TIPO PINTUCO REF. 2501 SEGÚN COLOR DISEÑO O SIMILAR | C14: INTERVINILO - TIPO PINTUCO REF. 2501 SEGÚN COLOR DISEÑO O SIMILAR | D14: UND | E14: 59900 | F14: 0.4 | G14: 23960
A15: VINILTEX ACRILTEX- TIPO PINTUCO REF. SEGÚN COLOR DISEÑO O SIMILAR. | B15: VINILTEX ACRILTEX- TIPO PINTUCO REF. SEGÚN COLOR DISEÑO O SIMILAR. | C15: VINILTEX ACRILTEX- TIPO PINTUCO REF. SEGÚN COLOR DISEÑO O SIMILAR. | D15: UND | E15: 104901 | F15: 0.06 | G15: 6294.06
A16: CINTA MALLA DE FIBRA DE VIDRIO ( 90 M. ) | B16: CINTA MALLA DE FIBRA DE VIDRIO ( 90 M. ) | C16: CINTA MALLA DE FIBRA DE VIDRIO ( 90 M. ) | D16: UND | E16: 12900 | F16: 0.009 | G16: 116.1
A17: PERFIL VIGUETA CIELO RASO x 2.4m CAL 26 | B17: PERFIL VIGUETA CIELO RASO x 2.4m CAL 26 | C17: PERFIL VIGUETA CIELO RASO x 2.4m CAL 26 | D17: UND | E17: 3601 | F17: 0.4 | G17: 1440.4
A18: PERFIL OMEGA CAL 26 - 2.44 M. | B18: PERFIL OMEGA CAL 26 - 2.44 M. | C18: PERFIL OMEGA CAL 26 - 2.44 M. | D18: UND | E18: 3650 | F18: 1 | G18: 3650
A19: ÁNGULO CIELO RASO 20×30 CALIBRE 26 (0.38) X 2.44MT | B19: ÁNGULO CIELO RASO 20×30 CALIBRE 26 (0.38) X 2.44MT | C19: ÁNGULO CIELO RASO 20×30 CALIBRE 26 (0.38) X 2.44MT | D19: UND | E19: 2275 | F19: 0.3 | G19: 682.5
A20: LÁMINA TRIPLEX (1.22X2.44) E = 3.2MM | B20: LÁMINA TRIPLEX (1.22X2.44) E = 3.2MM | C20: LÁMINA TRIPLEX (1.22X2.44) E = 3.2MM | D20: M2 | E20: 13389 | F20: 1 | G20: 13389
A21: TORNILLO AUTOPERFORANTE EST. 7/16 " | B21: TORNILLO AUTOPERFORANTE EST. 7/16 " | C21: TORNILLO AUTOPERFORANTE EST. 7/16 " | D21: UND | E21: 42 | F21: 6 | G21: 252
A22: TORNILLO PTA BROCA EXTRAPL. EST 8 X 1/2" ( 13MM ) | B22: TORNILLO PTA BROCA EXTRAPL. EST 8 X 1/2" ( 13MM ) | C22: TORNILLO PTA BROCA EXTRAPL. EST 8 X 1/2" ( 13MM ) | D22: UND | E22: 77 | F22: 10 | G22: 770
G24: Sub-Total | H24: 50554.06
A25: III.TRANSPORTES
A26: Material | C26: Vol-Peso ó Cant. | D26: Distancia | E26: M3-KM | F26: Tarifa | G26: Valor-Unit.
G30: Sub-Total | H30: 0
A31: IV. MANO DE OBRA
A32: Trabajador | C32: Jornal | D32: Prestaciones | E32: Jornal Total | F32: Rendimiento | G32: Valor-Unit.
A33: OBREROS (2) | C33: 94900 | D33: 1.7996 | E33: 170782.04 | F33: 60 | G33: 2846.3673
A34: OFICIAL (1) | C34: 85410 | D34: 1.7996 | E34: 153703.84 | F34: 60 | G34: 2561.7306
G38: Sub-Total | H38: 5408.0979
E40: Total Costo Directo | H40: 56532.563
A42: V. AU
A43: Descripción | D43: PORCENTAJE | E43: Tarifa/Hora | F43: Rendimiento | G43: Valor-Unit.
A44: ADMINISTRACIÓN | D44: 0.32 | G44: 18090.42
A45: UTILIDADES | D45: 0.05 | G45: 2826.6281
G46: Sub-Total | H46: 20917.048
E49: Total Costo | H49: =+H46+H40 -> 77449.611

Sheet 4.5 frescasa
A1: FORMATO DE ANALISIS DE PRECIOS UNITARIOS-APU
A2: REPUBLICA DE COLOMBIA | E2: ANALISIS DE PRECIOS UNITARIOS
A4: OBJETO: | B4: MEJORAMIENTO Y ADECUACIÓN DE LA CUBIERTA DE LA CASA DE LA CULTURA FRÁNCICO GIRALDO DEL MUNICIPIO DEL MUNICIPIO DE AGUADAS, CALDAS | G4: ITEM: | H4: 3.15
A5: DESCRIPCIÓN: | B5: SUMINISTRO, TRANSPORTE E INSTALACION FIBRA DE VIDRIO TIPO FRESCASA e=3 1/2" sin papel | G5: UNIDAD: | H5: M2
A6: I.EQUIPO
A7: Descripción | D7: Tipo | E7: Tarifa/Hora | F7: Rendimiento | G7: Valor-Unit.
A8: HERRAMIENTA MENOR | G8: 202.80367
A9: ANDAMIO METÁLICO | D9: $/hr | E9: 450 | F9: 5 | G9: 90
G11: Sub-Total | H11: 292.80367
A12: II. MATERIALES EN OBRA
A13: Descripción | D13: Unidad | E13: Precio-Unit. | F13: Cantidad | G13: Valor-Unit.
A14: FIBRA DE VIDRIO FRESCASA DE 3 1/2" | B14: FIBRA DE VIDRIO FRESCASA DE 3 1/2" | C14: FIBRA DE VIDRIO FRESCASA DE 3 1/2" | D14: M2 | E14: 14850 | F14: 1.05 | G14: 15592.5
G15: 0
G16: 0
G18: Sub-Total | H18: 15592.5
A19: III.TRANSPORTES
A20: Material | C20: Vol-Peso ó Cant. | D20: Distancia | E20: M3-KM | F20: Tarifa | G20: Valor-Unit.
G24: Sub-Total | H24: 0
A25: IV. MANO DE OBRA
A26: Trabajador | C26: Jornal | D26: Prestaciones | E26: Jornal Total | F26: Rendimiento | G26: Valor-Unit.
A27: OBREROS (2) | C27: 94900 | D27: 1.7996 | E27: 170782.04 | F27: 80 | G27: 2134.7755
A28: OFICIAL (1) | C28: 85410 | D28: 1.7996 | E28: 153703.84 | F28: 80 | G28: 1921.298
G32: Sub-Total | H32: 4056.0735
E34: Total Costo Directo | H34: 19941.377
A36: V. AU
A37: Descripción | D37: PORCENTAJE | E37: Tarifa/Hora | F37: Rendimiento | G37: Valor-Unit.
A38: ADMINISTRACIÓN | D38: 0.32 | G38: 6381.2407
A39: UTILIDADES | D39: 0.05 | G39: 997.06886
G40: Sub-Total | H40: 7378.3095
E43: Total Costo | H43: =+H40+H34 -> 27319.687

Sheet 4.2 luminarias
A1: FORMATO DE ANALISIS DE PRECIOS UNITARIOS-APU
A2: REPUBLICA DE COLOMBIA | E2: ANALISIS DE PRECIOS UNITARIOS
A4: OBJETO: | B4: =+'PRESUPUESTO OFICIAL'!A2 -> MEJORAMIENTO Y ADECUACIÓN DEL AUDITORIO DE LA INSTITUCIÓN EDUCATIVA MARINO GÓMEZ ESTRADA, SEDE DE LA UNIVERSIDAD DE CALDAS, EN EL MUNICIPIO DE AGUADAS, CALDAS. | G4: ITEM: | H4: 4.1
A5: DESCRIPCIÓN: | B5: =VLOOKUP(H4,'PRESUPUESTO OFICIAL'!A:F,2,0) -> SUMINISTRO E INSTALACION DE CIELO RASO EN PVC. INCLUYE ESTRUCTURA Y DEMAS ELEMENTOS DE FIJACION | G5: UNIDAD: | H5: =VLOOKUP(H4,'PRESUPUESTO OFICIAL'!A:F,3,0) -> M2
A6: I.MATERIALES
A7: Descripción | D7: Tipo | E7: Tarifa/Hora | F7: Rendimiento | G7: Valor-Unit.
A8: PANEL LED 60x60 cm 38W | D8: UND | E8: 129956 | F8: 1 | G8: =+E8*F8 -> 129956
A9: CINTA AISLANTE SUPER 33 x 20 m | D9: UND | E9: 21672 | F9: 0.05 | G9: =+E9*F9 -> 1083.6
G11: Sub-Total | H11: =SUM(G7:G10) -> 131039.6
A12: II. EQUIPO Y HERRAMIENTAS
A13: Descripción | D13: Unidad | E13: Precio-Unit. | F13: Cantidad | G13: Valor-Unit.
A14: ESCALERA DE ALUMINIO EN TIJERA 6 PASOS | D14: Un | E14: 287105 | F14: 0.0018 | G14: =+F14*E14 -> 516.789
A15: HERRAMIENTAS PARA ELECTRICISTA | B15: CODO 90° 1/4 CXC SANITARIO 3'' | C15: CODO 90° 1/4 CXC SANITARIO 3'' | D15: Un | E15: 307713 | F15: 0.0018 | G15: =+F15*E15 -> 553.8834
G17: Sub-Total | H17: =SUM(G14:G15) -> 1070.6724
A18: III.TRANSPORTES
A19: Material | C19: Vol-Peso ó Cant. | D19: Distancia | E19: M3-KM | F19: Tarifa | G19: Valor-Unit.
A20: CAMIONETA | E20: 0.01 | F20: 37963 | G20: =+E20*F20 -> 379.63
G23: Sub-Total | H23: =SUM(G20:G22) -> 379.63
A24: IV. MANO DE OBRA
A25: Trabajador | C25: Jornal | D25: Prestaciones | E25: Jornal Total | F25: Rendimiento | G25: Valor-Unit.
A26: CUADRILLA ELECTRICISTA | C26: 223826 | F26: 0.1774 | G26: =+C26*F26 -> 39706.732
G27: =+F27*C27 -> 0
G31: Sub-Total | H31: =SUM(G26:G30) -> 39706.732
E33: Total Costo Directo | H33: =ROUND((+H11+H17+H23+H31),4) -> 172196.63
A35: V. AU
A36: Descripción | D36: PORCENTAJE | E36: Tarifa/Hora | F36: Rendimiento | G36: Valor-Unit.
A37: ADMINISTRACIÓN | D37: =+'1.1 localizacion'!$D$35 -> 0.32 | G37: =$H$33*D37 -> 55102.923
A38: UTILIDADES | D38: =+'1.1 localizacion'!$D$36 -> 0.05 | G38: =$H$33*D38 -> 8609.8317
G39: Sub-Total | H39: =SUM(G37:G38) -> 63712.755
E42: Total Costo | H42: =ROUND(H39+H33,0) -> 235909

Sheet 4.3 Puntos eléctricos
A1: ITEM | B1: INP-01 | C1: UNIDAD | D1: UN | E1: VLR. UNI. | F1: 128740
A2: INP-01 | B2: PUNTO ELÉCTRICO INCLUYE TUBERÍA CONDIUT, 3 CABLE AWG N°12 Y CAJA OCTAGONAL
A4: I. EQUIPO
A5: DESCRIPCIÓN | C5: UNIDAD | D5: CANT/REND | E5: V/UNITARIO | F5: V/PARCIAL
A6: Herramienta menor | C6: Unidad | D6: 0.08 | E6: 347991.6 | F6: 3980.3936
F7: 0
E8: SUBTOTAL | F8: 3980.3936
A9: II. MATERIALES
A10: DESCRIPCIÓN | C10: UNIDAD | D10: CANTIDAD | E10: V/UNITARIO | F10: V/PARCIAL
A11: Limpiador PVC | C11: GR | D11: 0.09 | E11: 18500 | F11: 1665
A12: Tubo Conduit PVC 1/2" x 3m | C12: Unidad | D12: 1 | E12: 9609.6 | F12: 9609.6
A13: Adaptador Terminal PVC 1/2" Conduit | C13: Unidad | D13: 1 | E13: 718.8 | F13: 718.8
A14: Caja galvanizada octagonal | C14: Unidad | D14: 1 | E14: 2611.2 | F14: 2611.2
A15: Alambre de cobre THHN/THWN #12 AWG | C15: M | D15: 10 | E15: 3626.4 | F15: 36264
A16: Cinta Aislante super 33x20 m | C16: Unidad | D16: 0.1 | E16: 24508.8 | F16: 2450.88
A17: Tomacorriente o Interruptor o luminaria | C17: Unidad | D17: 1 | E17: 18000 | F17: 18000
E18: SUBTOTAL | F18: 71319.48
A19: III. TRANSPORTES
A20: MATERIAL | B20: unidad | C20: Distancia | D20: tarifa | E20: cantidad | F20: V/PARCIAL
A21: Camioneta | B21: Hr | D21: 0.1 | E21: 36850 | F21: 3685
F22: 0
F23: 0
E25: SUBTOTAL | F25: 3685
A26: IV. MANO DE OBRA
A27: DESCRIPCION | C27: UNIDAD | D27: CANT/REND | E27: JNL. TOTAL | F27: V/PARCIAL
A28: Cuadrilla electricista | C28: DÍA | D28: 0.178 | E28: 279522 | F28: 49754.92
E31: SUBTOTAL | F31: 49754.92
B33: TOTAL COSTOS DIRECTOS | F33: 128740
A34: ADMINISTRACIÓN | E34: 0.32 | F34: =+F33*E34 -> 41196.8
A35: UTILIDAD | E35: 0.05 | F35: 6437
A36: PRECIO TOTAL INCLUYE AIU | F36: =+F34+F35+F33 -> 176373.8

Sheet 5.1 pintura exterior
B1: 5.1 | C1: SUMINISTRO, TRANSPORTE E INSTALACION ESTUCO Y PINTURA TIPO KORAZA O SIMILAR 3 MANOS INTERNA (INCLUYE ESTUCO, 1 MANO EN PINTURA TIPO 2 Y DOS MANOS EN PINTURA TIPO KORAZA O SIMILAR, FILOS Y DILATACIONES). | D1: M2 | E1: =+G15 -> 39615
C2: DESCRIPCION | D2: UNIDAD | E2: CANTIDAD | F2: VALOR UNITARIO | G2: VALOR PARCIAL
C3: MATERIALES
C4: LIJA DE AGUA | D4: Pliego | E4: 0.1 | F4: 1951 | G4: =+E4*F4 -> 195.1
C5: ESTUCOR ESTUCO PLÁSTICO | D5: Kg | E5: 1.5 | F5: 3844 | G5: =+E5*F5 -> 5766
C6: VINILO KORAZA EXTERIOR 1 | D6: Gal | E6: 0.05 | F6: 149900 | G6: =+E6*F6 -> 7495
C7: EQUIPO
C8: ANDAMIO TUBULAR CON TIJERA 1.50x1.50 m | D8: Día | E8: 0.55 | F8: =4924*1.5 -> 7386 | G8: =+E8*F8 -> 4062.3
C9: RUEDA GIRATORIA PARA ANDAMIO | D9: Día | E9: 0.55 | F9: 2097 | G9: =+E9*F9 -> 1153.35
C10: HERRAMIENTAS PARA PINTOR | D10: Un | E10: 0.0008 | F10: 189882 | G10: =+E10*F10 -> 151.9056
C11: TRANSPORTE
C12: CAMIONETA | D12: Hr | E12: 0.02 | F12: 37963 | G12: =+E12*F12 -> 759.26
C13: MANO DE OBRA
C14: CUADRILLA PINTURA | D14: Día | E14: 0.0932 | F14: 214938 | G14: =+E14*F14 -> 20032.222
G15: =ROUND(SUM(G3:G14),0) -> 39615
A17: V. AU
A18: Descripción | D18: PORCENTAJE | E18: Tarifa/Hora | F18: Rendimiento | G18: Valor-Unit.
A19: ADMINISTRACIÓN | D19: =+'1.1 localizacion'!$D$35 -> 0.32 | G19: =G15*D19 -> 12676.8
A20: UTILIDADES | D20: 0.05 | G20: =G15*D20 -> 1980.75
G21: Sub-Total | H21: =+G19+G20+G15 -> 54272.55

Sheet 5.2 Pintura interior
B1: 5.2 | C1: SUMINISTRO E INSTALACIÓN DE ESTUCO Y PINTURA PARA INTERIOR 3 MANOS. (INCLUYE ESTUCO, UNA MANO EN PINTURA TIPO 2 Y DOS MANOS EN PINTURA TIPO 1, FILOS Y DILATACIONES). COLOR BLANCO SEGÚN DISEÑO. INCLUYE MATERIALES, EQUIPOS, HERRAMIENTA Y MANO DE OBRA NECESARIOS PARA LA EJECUCIÓN DE LA ACTIVIDAD | D1: M2 | E1: =+G14 -> 30234
C2: DESCRIPCION | D2: UNIDAD | E2: CANTIDAD | F2: VALOR UNITARIO | G2: VALOR PARCIAL
C3: MATERIALES
A4: M0031 | C4: ESTUCO | D4: gal | E4: 0.1 | F4: 30900 | G4: =+E4*F4 -> 3090
A5: M0088 | C5: VINILTEX - TIPO PINTUCO PARA INTERIOR SEGÚN COLOR DISEÑO O SIMILAR | D5: gal | E5: 0.05 | F5: 99900 | G5: =+E5*F5 -> 4995
A6: M0045 | C6: KORAZA - TIPO PINTUCO REF. 2650 SEGÚN COLOR DISEÑO O SIMILAR | D6: gal | E6: 0.013 | F6: 115180 | G6: =+E6*F6 -> 1497.34
A7: M0213 | C7: PABMERIL PLIEGO 9" X 11" | D7: un | E7: 0.02 | F7: 15900 | G7: =+E7*F7 -> 318
A8: HE0002 | C8: ANDAMIO METALICO CERTIFICADO, INCLUYE ESCALERILLA CON BARANDAS Y PLATAFORMAS DE TRABAJO | D8: día | E8: 0.3 | F8: 22000 | G8: =+E8*F8 -> 6600
A9: HE0013 | C9: MEZCLADORA A GASOLINA DE UN SACO | D9: hr | E9: 0.07 | F9: =+G13 -> 11939.6 | G9: =+E9*F9 -> 835.772
C10: TRANSPORTE
A11: HE0019 | C11: TRANSPORTE MATERIAL (% Tuberia) | D11: % | E11: 0.1 | F11: =SUM(G4:G6) -> 9582.34 | G11: =+E11*F11 -> 958.234
C12: MANO DE OBRA
A13: C1 | C13: CUADRILLA TIPO 1 (1 of + 1 Ayu) | D13: día | E13: 0.05 | F13: 238792 | G13: =+E13*F13 -> 11939.6
G14: =ROUND(SUM(G4:G13),0) -> 30234
A16: V. AU
A17: Descripción | D17: PORCENTAJE | E17: Tarifa/Hora | F17: Rendimiento | G17: Valor-Unit.
A18: ADMINISTRACIÓN | D18: =+'1.1 localizacion'!$D$35 -> 0.32 | G18: =G14*D18 -> 9674.88
A19: UTILIDADES | D19: 0.05 | G19: =G14*D19 -> 1511.7
G20: Sub-Total | H20: =+G18+G19+G14 -> 41420.58

Sheet 5.3 pintura ventanas
B1: 5.3 | C1: =+'PRESUPUESTO OFICIAL'!B30 -> PINTURA, MANTENIMIENTO Y RESTAURACIÓN DE PUERTAS Y VENTANAS | D1: =+'PRESUPUESTO OFICIAL'!C30 -> M2 | E1: =+G16 -> 21489
C2: DESCRIPCION | D2: UNIDAD | E2: CANTIDAD | F2: VALOR UNITARIO | G2: VALOR PARCIAL
C3: MATERIALES
A4: M0031 | C4: PINTURA ESMALTE ANTICORROSIVO (GALÓN) | D4: gal | E4: 0.05 | F4: 66800 | G4: =+E4*F4 -> 3340
A5: M0088 | C5: DISOLVENTE PARA PINTURA (GALÓN) | D5: gal | E5: 0.02 | F5: 14600 | G5: =+E5*F5 -> 292
A6: M0045 | C6: LIJA DE AGUA N°150 | D6: und | E6: 0.5 | F6: 1650 | G6: =+E6*F6 -> 825
A7: M0213 | C7: ESTOPA | D7: kg | E7: 0.2 | F7: 18000 | G7: =+E7*F7 -> 3600
A8: HE0002 | C8: ESTUCOR (25 KG) | D8: saco | E8: 0.3 | F8: 1316 | G8: =+E8*F8 -> 394.8
C9: EQUIPO
A10: HE0019 | C10: HERRAMIENTA MENOR | D10: %MO | E10: 0.05 | F10: =+G15 -> 11939.6 | G10: =+E10*F10 -> 596.98
A11: HE0019 | C11: ANDAMIO PLEGABLE Y/O ZANCOS | D11: día | E11: 0.1 | F11: 5000 | G11: =+E11*F11 -> 500
C12: TRANSPORTE
A13: HE0019 | C13: TRANSPORTE MATERIAL (% Tuberia) | D13: % | E13: 0.002 | F13: =+G8 -> 394.8 | G13: =+E13*F13 -> 0.7896
C14: MANO DE OBRA
A15: C1 | C15: CUADRILLA TIPO 1 (1 of + 1 Ayu) | D15: día | E15: =1/20 -> 0.05 | F15: 238792 | G15: =+E15*F15 -> 11939.6
G16: =ROUND(SUM(G4:G15),0) -> 21489
A18: V. AU
A19: Descripción | D19: PORCENTAJE | E19: Tarifa/Hora | F19: Rendimiento | G19: Valor-Unit.
A20: ADMINISTRACIÓN | D20: =+'1.1 localizacion'!$D$35 -> 0.32 | G20: =G16*D20 -> 6876.48
A21: UTILIDADES | D21: 0.05 | G21: =G16*D21 -> 1074.45
G22: Sub-Total | H22: =+G20+G21+G16 -> 29439.93

Sheet 5.4 mantenimiento ventanales
B1: 5.4 | C1: =+'PRESUPUESTO OFICIAL'!B31 -> LIMPIEZA, RESTAURACIÓN Y PINTURA DE MARCOS METÁLICOS DE VENTANALES, INCLUYE PREPARACIÓN DE SUPERFICIES, TRATAMIENTO ANTICORROSIVO Y ACABADO FINAL. | D1: =+'PRESUPUESTO OFICIAL'!C31 -> M2 | E1: =+G17 -> 101599
C2: DESCRIPCION | D2: UNIDAD | E2: CANTIDAD | F2: VALOR UNITARIO | G2: VALOR PARCIAL
C3: MATERIALES
A4: M0031 | C4: PINTURA ESMALTE ANTICORROSIVO | D4: ml | E4: 1 | F4: 18676 | G4: =+E4*F4 -> 18676
A5: M0088 | C5: DECAPANTE QUÍMICO PARA LIMPIEZA METÁLICA | D5: ml | E5: 1 | F5: 5285 | G5: =+E5*F5 -> 5285
A6: M0045 | C6: LIJA, DISOLVENTE, BROCHAS Y CONSUMIBLES | D6: und | E6: 1 | F6: 2600 | G6: =+E6*F6 -> 2600
C9: EQUIPO
A10: HE0019 | C10: HERRAMIENTA MENOR (LIJAS, BROCHAS, ETC.) | D10: m² | E10: 1 | F10: 820 | G10: =+E10*F10 -> 820
A11: HE0019 | C11: ANDAMIO COMPLETO CON RUEDAS | D11: m² | E11: 1.01 | F11: 1741 | G11: =+E11*F11 -> 1758.41
A12: HE0019 | C12: EQUIPO DE ALTURA (ARNÉS, LÍNEAS DE VIDA) | D12: m² | E12: 1 | F12: 6875 | G12: =+E12*F12 -> 6875
