Workbook

Sheet 1. REFRIGERIOS 
A1: Valor promedio refrigerios
A2: SUMINISTRO DE REFRIGERIO PARA ADULTO MAYOR | B2: UND | C2: CANTIDAD SEMANAL | D2: PROPACHAMAMA | E2: CAFAMI | F2: CORPORACION TERNURA | G2: VALOR UNITARIO PROMEDIO | H2: VALOR MENSUAL PROMEDIO | I2: VALOR TOTAL PROMEDIO 6 MESES
D3: VALOR UNITARIO | E3: VALOR UNITARIO | F3: VALOR UNITARIO
A4: Bebida/ caliente o fría: jugo natural, bebida láctea (yogurt, kumis) café, chocolate, avena, té 11 onzas. | B4: Und | C4: 1500 | D4: 3800 | E4: 4300 | F4: 3600 | G4: =ROUND((D4+E4+F4)/3,2) -> 3900 | H4: =ROUND((G4*C4)*4,2) -> 23400000 | I4: =ROUND((H4*6),2) -> 140400000 | M4: =+H4/30 -> 780000
A5: Harina o cereal: torta casera, pastel de pollo, sanduche, galletas, entre otros 70 gr. | B5: Und | C5: 1500 | D5: 3800 | E5: 4300 | F5: 3600 | G5: =ROUND((D5+E5+F5)/3,2) -> 3900 | H5: =ROUND((G5*C5)*4,2) -> 23400000 | I5: =ROUND((H5*6),2) -> 140400000 | M5: =+M4*16 -> 12480000
A6: Porción de Fruta 60 gr. | B6: Und | C6: 1500 | D6: 2100 | E6: 3350 | F6: 2050 | G6: =ROUND((D6+E6+F6)/3,2) -> 2500 | H6: =ROUND((G6*C6)*4,2) -> 15000000 | I6: =ROUND((H6*6),2) -> 90000000
A7: TOTAL | G7: =G6+G5+G4 -> 10300 | H7: =H6+H5+H4 -> 61800000 | I7: =SUM(I4:I6) -> 370800000
M8: 210
M9: 16
C10: =35*30 -> 1050
M11: =+M8+M9 -> 226

Sheet 1. REFRIGERIOS  (2)
A2: Valor promedio refrigerios
A3: SUMINISTRO DE REFRIGERIO PARA ADULTO MAYOR | B3: UND | C3: CANTIDAD | G3: VALOR UNITARIO PROMEDIO | H3: VALOR MENSUAL PROMEDIO (4 SEMANAS/MES) | I3: VALOR TOTAL PROMEDIO 6 MESES | J3: VALOR PROMEDIO 16 DÍAS | K3: VALOR TOTAL 6 MESES Y 16 DÍAS
D4: VALOR UNITARIO | E4: VALOR UNITARIO | F4: VALOR UNITARIO
A5: Bebida/ caliente o fría: jugo natural, bebida láctea (yogurt, kumis) café, chocolate, avena, té 11 onzas. | B5: Und | C5: 1 | I5: =H5*6 -> 0 | J5: =+(H5/30)*16 -> 0 | K5: =+I5+J5 -> 0
A6: Harina o cereal: torta casera, pastel de pollo, sanduche, galletas, entre otros 70 gr. | B6: Und | C6: 1 | I6: =H6*6 -> 0 | J6: =+(H6/30)*16 -> 0 | K6: =+I6+J6 -> 0
A7: Porción de Fruta 60 gr. | B7: Und | C7: 1 | I7: =H7*6 -> 0 | J7: =+(H7/30)*16 -> 0 | K7: =+I7+J7 -> 0
A8: TOTAL | I8: =SUM(I5:I7) -> 0 | J8: =SUM(J5:J7) -> 0 | K8: =SUM(K5:K7) -> 0

Sheet 2.1 ALIMENTACIÓN C.N. 
A2: 2. COMEDOR NUTRICIONAL ADULTO MAYOR
A4: A. Suministro servicio de alimentación
A6: SUMINISTRO SERVICIO ALIMENTACION COMEDOR | B6: COSTO DIARIO POR ADULTO MAYOR BENEFICIARIO
B7: UNIDAD | C7: CANTIDAD | D7: PROPACHAMAMA | E7: CAFAMI | F7: CORPORACION TERNURA | G7: VALOR PROMEDIO DÍA
A8: Desayuno: bebida caliente o fría de 11 onzas (café, chocolate, jugo natural, avena, te) , proteína de 60 gr (huevos, queso) harina/ cereal 50 gr (pan, tostadas, croissant, arepas) y porción de fruta 60 gr. | B8: UND | C8: 1 | D8: 14200 | E8: 18500 | F8: 14100 | G8: =ROUND((D8+E8+F8)/3,2) -> 15600
A9: Almuerzo: sopa 250 cc, proteico 150gr carne, pescado, cerdo, pollo) Hortalizas y Verduras 100 gr (ensaladas, verduras caliente, etc.) leguminosas secas 60 gr (garbanzo, lenteja, frijol) cereal 90 gr (arroz), raíces tubérculos y plátano 80 gr (plátano, yuca, papa) jugo de fruta de cosecha 300 cc. | B9: UND | C9: 1 | D9: 21800 | E9: 25000 | F9: 21500 | G9: =ROUND((D9+E9+F9)/3,2) -> 22766.67
A10: Cena: proteína 150 gr (carne, pescado, cerdo, pollo) Hortalizas y Verduras 100 gr (ensaladas, verduras caliente, etc.) leguminosas secas 60 gr (garbanzo, lenteja, frijol) cereal 90 gr (arroz), raíces tubérculos y plátano 80 gr (plátano, yuca, papa) jugo de fruta 300 cc. | B10: UND | C10: 1 | D10: 17500 | E10: 21500 | F10: 17200 | G10: =ROUND((D10+E10+F10)/3,2) -> 18733.33
A11: TOTAL | D11: =SUM(D8:D10) -> 53500 | E11: =SUM(E8:E10) -> 65000 | F11: =SUM(F8:F10) -> 52800 | G11: =ROUND((G10+G9+G8),2) -> 57100
A15: SUMINISTRO SERVICIO ALIMENTACION COMEDOR | B15: VALOR PARA CIENTO CINCUENTA (150) ADULTOS MAYORES
B16: VALOR PROMEDIO DIA 150 ADULTOS | C16: VALOR 156 DIAS PARA 150 ADULTOS
A17: Desayuno: bebida caliente o fría de 11 onzas (café, chocolate, jugo natural, avena, te) , proteína de 60 gr (huevos, queso) harina/ cereal 50 gr (pan, tostadas, croissant, arepas) y porción de fruta 60 gr. | B17: =ROUND((G8*150),2) -> 2340000 | C17: =ROUND((B17*156),2) -> 365040000
A18: Almuerzo: sopa 250 cc, proteico 150gr. carne, pescado, cerdo, pollo) Hortalizas y Verduras 100 gr (ensaladas, verduras caliente, etc.) leguminosas secas 60 gr (garbanzo, lenteja, frijol) cereal 90 gr (arroz), raíces tubérculos y plátano 80 gr (plátano, yuca, papa) jugo de fruta de cosecha 300 cc. | B18: =ROUND((G9*150),2) -> 3415000.5 | C18: =ROUND((B18*156),2) -> 532740078
A19: Cena: proteína 150 gr (carne, pescado, cerdo, pollo) Hortalizas y Verduras 100 gr (ensaladas, verduras caliente, etc.) leguminosas secas 60 gr (garbanzo, lenteja, frijol) cereal 90 gr (arroz), raíces tubérculos y plátano 80 gr (plátano, yuca, papa) jugo de fruta 300 cc. | B19: =ROUND((G10*150),2) -> 2809999.5 | C19: =ROUND((B19*156),2) -> 438359922
A20: TOTAL | B20: =SUM(B17:B19) -> 8565000 | C20: =ROUND((C19+C18+C17),2) -> 1336140000
A24: VALOR ESTIMADO CONTRATACIÓN SUMINISTRO DE ALIMENTACIÓN PARA 150 ADULTOS MAYORES DEL COMEDOR NUTRICIONAL DURANTE 156 DIAS
A25: ALIMENTACIÓN | D25: VALOR UN (1) DIA | E25: VALOR 156 DIAS
A26: Prestar el suministro de asistencia alimentaria de lunes a sábado sin ninguna interrupción (incluyendo días lunes festivo) correspondiente a desayuno, almuerzo, y cena a la población adulto mayor que esté inscrita en el programa Adulto Mayor que ofrece el Municipio (De acuerdo a minuta) | D26: =B20 -> 8565000 | E26: =C20 -> 1336140000
A32: DOMICILIOS DE ALIMENTACION | D32: PROPACHAMAMA | F32: CAFAMI | H32: CORPORACION TERNURA | J32: VALOR PROMEDIO MES | K32: VALOR PROMEDIO 6 MESES
A33: DETALLE | B33: UND | C33: CANTIDAD | D33: valor unitario | E33: valor total MES | F33: valor unitario | G33: valor total MES | H33: valor unitario | I33: valor total MES
A34: SERVICIO DE DOMICILIO EL CONTRATISTA DEBERÁ PRESTAR EL SERVICIO DE DOMICILIO A LOS DIFERENTES LUGARES DE VIVIENDA DE LOS BENEFIFIARIOS QUE LO REQUIERAN. (DENTRO DEL CASCO URBANO Y RURAL) | B34: Und | C34: 520 | D34: 7500 | E34: =ROUND((+C34*D34),2) -> 3900000 | F34: 8500 | G34: =ROUND((+F34*C34),2) -> 4420000 | H34: 7550 | I34: =ROUND((+C34*H34),2) -> 3926000 | J34: =ROUND((E34+G34+I34)/3,2) -> 4082000 | K34: =ROUND((+J34*6),2) -> 24492000

Sheet 2.2 Personal C.N
A2: Personal centro de atención - Comedor nutricional para adultos mayores.
B3: DESCRIPCION | C3: UNIDAD | D3: CANTIDAD | E3: REQUISITOS | F3: PROPACHAMAMA | G3: CAFAMI | H3: CORPORACION TERNURA | I3: VALOR MENSUAL PROMEDIO | J3: VALOR TOTAL PROMEDIO SERVICIO/MES | K3: VALOR 6 MESES
B4: ECONOMAS LA PREPARACIÓN Y ALISTAMIENTO DE LOS ALIMENTOS PARA LOS ADULTOS MAYORES, CON UNA PERIODICIDAD DIARIA (TRES VECES AL DÍA) (DESAYUNO, ALMUERZO, Y CENA). | C4: Und | D4: 4 | E4: CURSO CERTIFICADO EN MANIPULACIÓN DE ALIMENTOS. EXPERIENCIA MAYOR A 1 AÑO EN MANIPULACIÓN DE ALIMENTOS, EN PROGRAMAS DE ADULTO MAYOR. DEBEN CONTAR CON LA DOCUMENTACIÓN REQUERIDA POR LA SECRETARIA DE SALUD (CARNET DE MANIPULACIÓN DE ALIMENTOS) DE ACUERDO CON LO DISPUESTO EN EL ANEXO TÉCNICO DE LA RESOLUCIÓN 024 | F4: =ROUND((8880000/4),2) -> 2220000 | G4: =ROUND((9600000/4),2) -> 2400000 | H4: =ROUND((8820000/4),) -> 2205000 | I4: =ROUND((F4+G4+H4)/3,2) -> 2275000 | J4: =ROUND((+I4*D4),2) -> 9100000 | K4: =ROUND((J4*6),2) -> 54600000
B5: PERSONA PARA ASEO Y SERVICIOS GENERALES. PERSONAS QUE SE ENCARGAN DE ASEO Y MANTENIMIENTO DE LAS INSTALACIONES Y DEL LAVADO Y ARREGLO DE LA ROPA DE LOS ADULTOS MAYORES. | C5: Und | D5: 4 | E5: EXPERIENCIA MAYOR A UN (1) AÑO CON POBLACION ADULTA MAYOR Y/O ESTUDIOS EN MANEJO DE RESIDUOS HOSPITALARIOS. | F5: =ROUND((8560000/4),2) -> 2140000 | G5: =ROUND((9400000/4),2) -> 2350000 | H5: =ROUND((8400000/4),2) -> 2100000 | I5: =ROUND((F5+G5+H5)/3,2) -> 2196666.7 | J5: =ROUND((+I5*D5),2) -> 8786666.7 | K5: =ROUND((J5*6),2) -> 52720000
A6: TOTAL VALOR MENSUAL PERSONAS REQUERIDO PARA EL COMEDOR NUTRICIONAL. | F6: =F5+F4 -> 4360000 | G6: =G5+G4 -> 4750000 | H6: =H5+H4 -> 4305000 | I6: =I5+I4 -> 4471666.7 | J6: =SUM(J4:J5) -> 17886667 | K6: =SUM(K4:K5) -> 1.0732e+08
J10: =I10*4*6 -> 0

Sheet 2.3 Infraestructura C.N
A3: DETALLE | B3: UND | C3: CANTIDAD | D3: PROPACHAMAMA | G3: CAFAMI | J3: CORPORACION TERNURA | M3: PROMEDIOS
D4: VALOR UNITARIO (SIN IVA) | E4: IVA (19%) | F4: VALOR UNITARIO CON IVA | G4: VALOR UNITARIO (SIN IVA) | H4: IVA (19%) | I4: VALOR UNITARIO CON IVA | J4: VALOR UNITARIO (SIN IVA) | K4: IVA (19%) | L4: VALOR UNITARIO CON IVA | M4: VALOR UNITARIO PROMEDIO MES (SIN IVA) | N4: PROMEDIO IVA (19%) | O4: VALOR UNITARIO PROMEDIO MES CON IVA | P4: VALOR PROMEDIO 6 MESES
A5: INFRAESTRUCTURA FISICA COMEDOR NUTRICIONAL SECTOR OCCIDENTAL - ALTAMIRA | B5: Und | C5: 1 | D5: 1700000 | E5: =ROUND((D5*19%),2) -> 323000 | F5: =ROUND((D5+E5),2) -> 2023000 | G5: 2080000 | H5: =ROUND((G5*19%),2) -> 395200 | I5: =ROUND((+G5+H5),2) -> 2475200 | J5: 1800000 | K5: 0 | L5: =ROUND((J5+K5),2) -> 1800000 | M5: =ROUND((D5+G5+J5)/3,2) -> 1860000 | N5: =ROUND((E5+H5+K5)/3,2) -> 239400 | O5: =ROUND((F5+I5+L5)/3,2) -> 2099400 | P5: =ROUND((O5*6),2) -> 12596400
A6: INFRAESTRUCTURA FISICA COMEDOR NUTRICIONAL SECTOR SUR EL COMEDOR SUR - UBICADO EN EL SECTOR SUR DE LA CIUDAD DE TUNJA | B6: Und | C6: 1 | D6: 1700000 | E6: =ROUND((D6*19%),2) -> 323000 | F6: =ROUND((D6+E6),2) -> 2023000 | G6: 2080000 | H6: =ROUND((G6*19%),2) -> 395200 | I6: =ROUND((+G6+H6),2) -> 2475200 | J6: 1800000 | K6: 0 | L6: =ROUND((J6+K6),2) -> 1800000 | M6: =ROUND((D6+G6+J6)/3,2) -> 1860000 | N6: =ROUND((E6+H6+K6)/3,2) -> 239400 | O6: =ROUND((F6+I6+L6)/3,2) -> 2099400 | P6: =ROUND((O6*6),2) -> 12596400
A7: INFRAESTRUCTURA FISICA COMEDOR NUTRICIONAL SECTOR ORIENTAL EL COMEDOR ORIENTAL - BARRIO EL DORADO | B7: Und | C7: 1 | D7: 1700000 | E7: =ROUND((D7*19%),2) -> 323000 | F7: =ROUND((D7+E7),2) -> 2023000 | G7: 2080000 | H7: =ROUND((G7*19%),2) -> 395200 | I7: =ROUND((+G7+H7),2) -> 2475200 | J7: 1800000 | K7: 0 | L7: =ROUND((J7+K7),2) -> 1800000 | M7: =ROUND((D7+G7+J7)/3,2) -> 1860000 | N7: =ROUND((E7+H7+K7)/3,2) -> 239400 | O7: =ROUND((F7+I7+L7)/3,2) -> 2099400 | P7: =ROUND((O7*6),2) -> 12596400
A8: INFRAESTRUCTURA FISICA COMEDOR NUTRICIONAL SECTOR CENTRO (Casco Urbano) | B8: Und | C8: 1 | D8: 0 | E8: =ROUND((D8*19%),2) -> 0 | F8: =ROUND((D8+E8),2) -> 0 | G8: 0 | H8: =ROUND((G8*19%),2) -> 0 | I8: =ROUND((+G8+H8),2) -> 0 | J8: 0 | K8: =ROUND((J8*19%),2) -> 0 | L8: =ROUND((J8+K8),2) -> 0 | M8: =ROUND((D8+G8+J8)/3,2) -> 0 | N8: =ROUND((E8+H8+K8)/3,2) -> 0 | O8: =ROUND((F8+I8+L8)/3,2) -> 0 | P8: =ROUND((O8*6),2) -> 0
A9: TOTAL | D9: =SUM(D5:D8) -> 5100000 | E9: =SUM(E5:E8) -> 969000 | F9: =SUM(F5:F8) -> 6069000 | G9: 2080000 | H9: =SUM(H5:H8) -> 1185600 | I9: =SUM(I5:I8) -> 7425600 | J9: =SUM(J5:J8) -> 5400000 | K9: =SUM(K5:K8) -> 0 | L9: =SUM(L5:L8) -> 5400000 | M9: =SUM(M5:M8) -> 5580000 | N9: =SUM(N5:N8) -> 718200 | O9: =SUM(O5:O8) -> 6298200 | P9: =SUM(P5:P8) -> 37789200

Sheet Total Comedores N.
A2: VALOR PARA LA ATENCION ADULTOS MAYORES EN COMEDOR NUTRICIONAL 156 DIAS
A3: SUMINISTRO | B3: CANTIDAD | C3: VALOR TOTAL PROMEDIO 156 DIAS INCLUYENDO IVA
A4: SERVICIO ALIMENTACIÓN ADULTOS MAYORES | B4: 150 | C4: =+'2.1 ALIMENTACIÓN C.N. '!E26 -> 1336140000
A5: VALOR PERSONAL COMEDORES NUTRICIONALES | B5: 8 | C5: =+'2.2 Personal C.N'!K6 -> 1.0732e+08
A6: DOMICILOS ALIMENTACION | B6: 520 | C6: 24492000 | E6: =(7550+7500+8500)/3 -> 7850
A7: INFRAESTRUCTURA FISICA COMEDOR NUTRICIONAL | B7: 4 | C7: =+'2.3 Infraestructura C.N'!P9 -> 37789200 | E7: =E6*520*8 -> 32656000
A8: TOTAL | C8: =SUM(C4:C7) -> 1.5057412e+09
D18: 4.9669394e+08
D20: 2.9801637e+09
D21: =D20-D18 -> 2.4834697e+09

Sheet 3.1  Alimentación HG. 
A3: CENTRO DE PROTECCIÓN EN LA MODALIDAD HOGAR GERIÁTRICO PARA ADULTOS MAYORES SUMINISTRO SERVICIO ALIMENTACION DIA/ POR BENEFICIARIO
A4: SUMINISTRO SERVICIO ALIMENTACION PARA ADULTOS MAYORES | B4: UNIDAD | C4: CANTIDAD | D4: PROPACHAMAMA | E4: CAFAMI | F4: CORPOPRACION TERNURA | G4: VALOR PROMEDIO DIARIO/ PERSONA | H4: VALOR PROMEDIO MENSUAL
A5: Desayuno: bebida caliente o fría de 11 onzas (café, chocolate, jugo natural, avena, te) , proteína de 60 gr (huevos, queso) harina/ cereal 50 gr (pan, tostadas, croissant, arepas) y porción de fruta 60 gr. | B5: Und | C5: 1 | D5: 14200 | E5: 18500 | F5: 14100 | G5: =ROUND((D5+E5+F5)/3,2) -> 15600 | H5: =ROUND((G5*30),2) -> 468000
A6: Refrigerios: Bebida/ caliente o fría: jugo natural bebida láctea (yogurt, kumis) café, chocolate, avena, té de 11 oz, porción de fruta de 50gr. | B6: =+'3.1 Alimentación HG. '!J21 -> 0 | C6: 1 | D6: 6750 | E6: 8500 | F6: 6350 | G6: =ROUND((D6+E6+F6)/3,2) -> 7200 | H6: =ROUND((G6*30),2) -> 216000
A7: Almuerzo: sopa 250 cc, proteico 150gr (carne, pescado, cerdo, pollo) Hortalizas y Verduras 100 gr (ensaladas, verduras caliente, etc.) leguminosas secas 60 gr (garbanzo, lenteja, frijol) cereal 90 gr (arroz), raíces tubérculos y plátano 80 gr (plátano, yuca, papa) jugo de fruta de cosecha 300 cc. | B7: Und | C7: 1 | D7: 21800 | E7: 25000 | F7: 21500 | G7: =ROUND((D7+E7+F7)/3,2) -> 22766.67 | H7: =ROUND((G7*30),2) -> 683000.1
A8: Refrigerios: Bebida/ caliente o fría: jugo natural, bebida láctea (yogurt, kumis) café, chocolate, avena, té de 11 oz Harina o cereal: torta casera, pastel de pollo, sandwich, galletas, entre otros de 50 gr. | B8: Und | C8: 1 | D8: 6750 | E8: 8500 | F8: 6350 | G8: =ROUND((D8+E8+F8)/3,2) -> 7200 | H8: =ROUND((G8*30),2) -> 216000
A9: Cena: proteína 150 gr (carne, pescado, cerdo, pollo) Hortalizas y Verduras 100 gr (ensaladas, verduras caliente, etc.) leguminosas secas 60 gr (garbanzo, lenteja, frijol) cereal 90 gr (arroz), raíces tubérculos y plátano 80 gr (plátano, yuca, papa) jugo de fruta 300cc. | B9: Und | C9: 1 | D9: 17500 | E9: 21500 | F9: 17200 | G9: =ROUND((D9+E9+F9)/3,2) -> 18733.33 | H9: =ROUND((G9*30),2) -> 561999.9
A10: TOTAL | D10: =D9+D8+D7+D6+D5 -> 67000 | E10: =E9+E8+E7+E6+E5 -> 82000 | F10: =F9+F8+F7+F6+F5 -> 65500 | G10: =SUM(G5:G9) -> 71500 | H10: =H9+H8+H7+H6+H5 -> 2145000
A14: CENTRO DE PROTECCIÓN EN LA MODALIDAD HOGAR GERIÁTRICO PARA ADULTOS MAYORES SUMINISTRO SERVICIO ALIMENTACION PARA CUARENTA (40) ADULTOS MAYORES
A15: SUMINISTRO SERVICIO ALIMENTACION PARA ADULTOS MAYORES | D15: VALOR PROMEDIO DIA | E15: VALOR PROMEDIO 180 DIAS | F15: VALOR PROMEDIO 180 DIAS POR 4O ADULTOS
A16: Desayuno: bebida caliente o fría de 11 onzas (café, chocolate, jugo natural, avena, te) , proteína de 60 gr (huevos, queso) harina/ cereal 50 gr (pan, tostadas, croissant, arepas) y porción de fruta 60 gr. | D16: =G5 -> 15600 | E16: =ROUND((+D16*180),2) -> 2808000 | F16: =ROUND((+E16*40),2) -> 112320000 | H16: =30*8 -> 240
A17: Refrigerios: Bebida/ caliente o fría: jugo natural bebida láctea (yogurt, kumis) café, chocolate, avena, té de 11 oz, porción de fruta de 50gr. | D17: =G6 -> 7200 | E17: =ROUND((+D17*180),2) -> 1296000 | F17: =ROUND((+E17*40),2) -> 51840000
A18: Almuerzo: sopa 250 cc, proteico 150gr (carne, pescado, cerdo, pollo) Hortalizas y Verduras 100 gr (ensaladas, verduras caliente, etc.) leguminosas secas 60 gr (garbanzo, lenteja, frijol) cereal 90 gr (arroz), raíces tubérculos y plátano 80 gr (plátano, yuca, papa) jugo de fruta de cosecha 300 cc. | D18: =G7 -> 22766.67 | E18: =ROUND((+D18*180),2) -> 4098000.6 | F18: =ROUND((+E18*40),2) -> 163920024
A19: Refrigerios: Bebida/ caliente o fría: jugo natural, bebida láctea (yogurt, kumis) café, chocolate, avena, té de 11 oz Harina o cereal: torta casera, pastel de pollo, sandwich, galletas, entre otros de 50 gr. | D19: =G8 -> 7200 | E19: =ROUND((+D19*180),2) -> 1296000 | F19: =ROUND((+E19*40),2) -> 51840000
A20: Cena: proteína 150 gr (carne, pescado, cerdo, pollo) Hortalizas y Verduras 100 gr (ensaladas, verduras caliente, etc.) leguminosas secas 60 gr (garbanzo, lenteja, frijol) cereal 90 gr (arroz), raíces tubérculos y plátano 80 gr (plátano, yuca, papa) jugo de fruta 300cc. | D20: =G9 -> 18733.33 | E20: =ROUND((+D20*180),2) -> 3371999.4 | F20: =ROUND((+E20*40),2) -> 134879976
A21: TOTAL | D21: =SUM(D16:D20) -> 71500 | E21: =SUM(E16:E20) -> 12870000 | F21: =SUM(F16:F20) -> 514800000
A23: VALOR ESTIMADO CONTRATACIÓN SUMINISTRO DE ALIMENTACIÓN PARA ADULTOS MAYORES DEL HOGAR GERIATRICO PARA 180 DIAS
A24: ALIMENTACIÓN | D24: CANTIDAD DE PERSONAS | E24: VALOR PROMEDIO UNITARIO | F24: VALOR UN DIA | G24: VALOR 30 DIAS | H24: VALOR 180 DÍAS
A25: Prestar el suministro de asistencia alimentaria de lunes a sábado sin ninguna interrupción (incluyendo días lunes festivo) correspondiente a desayuno, almuerzo, y cena a la población adulto mayor que esté inscrita en el programa Adulto Mayor que ofrece el Municipio (De acuerdo a minuta) | D25: 40 | E25: =G10 -> 71500 | F25: =+E25*D25 -> 2860000 | G25: =F25*30 -> 85800000 | H25: =+F25*180 -> 514800000

Sheet 3.2 KIT DE ASEO HG
A2: KIT DE ASEO PERSONAL
A4: KIT DE ASEO PARA HOMBRE | B4: UNIDAD | C4: CANTIDAD | D4: PROPACHAMAMA | G4: CAFAMI | J4: CORPORACION TERNURA | M4: PROMEDIOS
D5: VALOR UNITARIO SIN IVA | E5: IVA 19% | F5: VALOR UNITARIO CON IVA | G5: VALOR UNITARIO SIN IVA | H5: IVA 19% | I5: VALOR UNITARIO CON IVA | J5: VALOR UNITARIO SIN IVA | K5: IVA 19% | L5: VALOR UNITARIO CON IVA | M5: VALOR UNITARIO PROMEDIO SIN IVA | N5: PROMEDIO IVA 19% | O5: VALOR UNITARIO PROMEDIO CON IVA
A6: Jabón de tocador de 120 gramos | B6: Und | C6: 1 | D6: 4000 | E6: =ROUND((D6*19%),2) -> 760 | F6: =ROUND((D6+E6),2) -> 4760 | G6: 4000 | H6: =ROUND((G6*19%),2) -> 760 | I6: =ROUND((G6+H6),2) -> 4760 | J6: 4200 | L6: =ROUND((J6+K6),2) -> 4200 | M6: =ROUND((D6+G6+J6)/3,2) -> 4066.67 | N6: =ROUND((E6+H6+K6)/3,2) -> 506.67 | O6: =ROUND((F6+I6+L6)/3,2) -> 4573.33
A7: Tubo de crema dental de 125 gramos | B7: Und | C7: 1 | D7: 8200 | E7: =ROUND((D7*19%),2) -> 1558 | F7: =ROUND((D7+E7),2) -> 9758 | G7: 9000 | H7: =ROUND((G7*19%),2) -> 1710 | I7: =ROUND((G7+H7),2) -> 10710 | J7: 8800 | L7: =ROUND((J7+K7),2) -> 8800 | M7: =ROUND((D7+G7+J7)/3,2) -> 8666.67 | N7: =ROUND((E7+H7+K7)/3,2) -> 1089.33 | O7: =ROUND((F7+I7+L7)/3,2) -> 9756
A8: Cepillo de dientes | B8: Und | C8: 1 | D8: 6500 | E8: =ROUND((D8*19%),2) -> 1235 | F8: =ROUND((D8+E8),2) -> 7735 | G8: 7000 | H8: =ROUND((G8*19%),2) -> 1330 | I8: =ROUND((G8+H8),2) -> 8330 | J8: 7500 | L8: =ROUND((J8+K8),2) -> 7500 | M8: =ROUND((D8+G8+J8)/3,2) -> 7000 | N8: =ROUND((E8+H8+K8)/3,2) -> 855 | O8: =ROUND((F8+I8+L8)/3,2) -> 7855
A9: Shampoo de 400 ML. | B9: Und | C9: 1 | D9: 23000 | E9: =ROUND((D9*19%),2) -> 4370 | F9: =ROUND((D9+E9),2) -> 27370 | G9: 29000 | H9: =ROUND((G9*19%),2) -> 5510 | I9: =ROUND((G9+H9),2) -> 34510 | J9: 26200 | L9: =ROUND((J9+K9),2) -> 26200 | M9: =ROUND((D9+G9+J9)/3,2) -> 26066.67 | N9: =ROUND((E9+H9+K9)/3,2) -> 3293.33 | O9: =ROUND((F9+I9+L9)/3,2) -> 29360
A10: Peinilla | B10: Und | C10: 1 | D10: 2000 | E10: =ROUND((D10*19%),2) -> 380 | F10: =ROUND((D10+E10),2) -> 2380 | G10: 2350 | H10: =ROUND((G10*19%),2) -> 446.5 | I10: =ROUND((G10+H10),2) -> 2796.5 | J10: 2000 | L10: =ROUND((J10+K10),2) -> 2000 | M10: =ROUND((D10+G10+J10)/3,2) -> 2116.67 | N10: =ROUND((E10+H10+K10)/3,2) -> 275.5 | O10: =ROUND((F10+I10+L10)/3,2) -> 2392.17
A11: Desodorante roll on | B11: Und | C11: 1 | D11: 9000 | E11: =ROUND((D11*19%),2) -> 1710 | F11: =ROUND((D11+E11),2) -> 10710 | G11: 8000 | H11: =ROUND((G11*19%),2) -> 1520 | I11: =ROUND((G11+H11),2) -> 9520 | J11: 9000 | L11: =ROUND((J11+K11),2) -> 9000 | M11: =ROUND((D11+G11+J11)/3,2) -> 8666.67 | N11: =ROUND((E11+H11+K11)/3,2) -> 1076.67 | O11: =ROUND((F11+I11+L11)/3,2) -> 9743.33
A12: Cortauñas | B12: Und | C12: 1 | D12: 5000 | E12: =ROUND((D12*19%),2) -> 950 | F12: =ROUND((D12+E12),2) -> 5950 | G12: 5000 | H12: =ROUND((G12*19%),2) -> 950 | I12: =ROUND((G12+H12),2) -> 5950 | J12: 5500 | L12: =ROUND((J12+K12),2) -> 5500 | M12: =ROUND((D12+G12+J12)/3,2) -> 5166.67 | N12: =ROUND((E12+H12+K12)/3,2) -> 633.33 | O12: =ROUND((F12+I12+L12)/3,2) -> 5800
A13: Talcos para pies de 125 gramos | B13: Und | C13: 1 | D13: 13200 | E13: =ROUND((D13*19%),2) -> 2508 | F13: =ROUND((D13+E13),2) -> 15708 | G13: 13000 | H13: =ROUND((G13*19%),2) -> 2470 | I13: =ROUND((G13+H13),2) -> 15470 | J13: 14000 | L13: =ROUND((J13+K13),2) -> 14000 | M13: =ROUND((D13+G13+J13)/3,2) -> 13400 | N13: =ROUND((E13+H13+K13)/3,2) -> 1659.33 | O13: =ROUND((F13+I13+L13)/3,2) -> 15059.33
A14: Prestobarba o máquina de afeitar doble hoja | B14: Und | C14: 1 | D14: 7200 | E14: =ROUND((D14*19%),2) -> 1368 | F14: =ROUND((D14+E14),2) -> 8568 | G14: 7200 | H14: =ROUND((G14*19%),2) -> 1368 | I14: =ROUND((G14+H14),2) -> 8568 | J14: 8000 | L14: =ROUND((J14+K14),2) -> 8000 | M14: =ROUND((D14+G14+J14)/3,2) -> 7466.67 | N14: =ROUND((E14+H14+K14)/3,2) -> 912 | O14: =ROUND((F14+I14+L14)/3,2) -> 8378.67
A15: Papel higiénico doble hoja 80 gramos | B15: Und | C15: 2 | D15: 7000 | E15: =ROUND((D15*19%),2) -> 1330 | F15: =ROUND((D15+E15),2) -> 8330 | G15: 9000 | H15: =ROUND((G15*19%),2) -> 1710 | I15: =ROUND((G15+H15),2) -> 10710 | J15: 9000 | L15: =ROUND((J15+K15),2) -> 9000 | M15: =ROUND((D15+G15+J15)/3,2) -> 8333.33 | N15: =ROUND((E15+H15+K15)/3,2) -> 1013.33 | O15: =ROUND((F15+I15+L15)/3,2) -> 9346.67
A16: Pañitos húmedos por 60 unidades | B16: Und | C16: 1 | D16: 7200 | E16: =ROUND((D16*19%),2) -> 1368 | F16: =ROUND((D16+E16),2) -> 8568 | G16: 6500 | H16: =ROUND((G16*19%),2) -> 1235 | I16: =ROUND((G16+H16),2) -> 7735 | J16: 7200 | L16: =ROUND((J16+K16),2) -> 7200 | M16: =ROUND((D16+G16+J16)/3,2) -> 6966.67 | N16: =ROUND((E16+H16+K16)/3,2) -> 867.67 | O16: =ROUND((F16+I16+L16)/3,2) -> 7834.33
C17: TOTAL | F17: =SUM(F6:F16) -> 109837 | I17: =SUM(I6:I16) -> 119059.5 | L17: =SUM(L6:L16) -> 101400 | O17: =SUM(O6:O16) -> 110098.83
A20: KIT DE ASEO PARA HOMBRE PRIMERA ENTREGA | C20: CANTIDAD DE PERSONAS | D20: VALOR UNITARIO PROMEDIO CON IVA | E20: VALOR PROMEDIO 23 KIT ADULTOS MAYORES PRIMER MES
A21: Suministro de elementos de aseo para hombres (con cortauñas) | C21: 23 | D21: =O17 -> 110098.83 | E21: =ROUND((D21*C21),2) -> 2532273.1
A23: KIT DE ASEO PARA HOMBRE POR 5 ENTREGAS | C23: CANTIDAD DE PERSONAS | D23: VALOR UNITARIO PROMEDIO CON IVA | E23: VALOR PROMEDIO 23 KIT ADULTOS MAYORES | F23: VALOR PROMEDIO 23 KIT ADULTOS MAYORES 5 ENTREGAS SIN CORTAUÑAS
A24: Suministro de elementos de aseo para hombres (sin cortauñas) | C24: 23 | D24: =ROUND((O6+O7+O8+O9+O10+O11+O13+O14+O15+O16),2) -> 104298.83 | E24: =ROUND((D24*C24),2) -> 2398873.1 | F24: =ROUND((E24*5),2) -> 11994365
A26: KIT DE ASEO PARA HOMBRE | C26: CANTIDAD DE PERSONAS | D26: VALOR TOTAL PROMEDIO
A27: Suministro de elementos de aseo para hombres | C27: 23 | D27: =ROUND((F24+E21),2) -> 14526639
A30: DAMAS
A32: DESCRIPCION | B32: UNIDAD | C32: CANTIDAD | D32: =+D4 -> PROPACHAMAMA | G32: =+G4 -> CAFAMI | J32: =+J4 -> CORPORACION TERNURA | M32: VALOR PROMEDIO
D33: VALOR UNITARIO SIN IVA | E33: IVA 19% | F33: VALOR UNITARIO CON IVA | G33: VALOR UNITARIO SIN IVA | H33: IVA 19% | I33: VALOR UNITARIO CON IVA | J33: VALOR UNITARIO SIN IVA | K33: IVA 19% | L33: VALOR UNITARIO CON IVA | M33: VALOR UNITARIO PROMEDIO SIN IVA | N33: PROMEDIO IVA 19% | O33: VALOR UNITARIO PROMEDIO CON IVA
A34: Jabón de tocador de 120 gramos | B34: Und | C34: 1 | D34: 4000 | E34: =ROUND((D34*19%),2) -> 760 | F34: =ROUND((D34+E34),2) -> 4760 | G34: 5000 | H34: =ROUND((G34*19%),2) -> 950 | I34: =ROUND((G34+H34),2) -> 5950 | J34: 4200 | L34: =ROUND((J34+K34),2) -> 4200 | M34: =ROUND((D34+G34+J34)/3,2) -> 4400 | N34: =ROUND((E34+H34+K34)/3,2) -> 570 | O34: =ROUND((F34+I34+L34)/3,2) -> 4970
A35: Tubo de crema dental de 125 gramos | B35: Und | C35: 1 | D35: 8200 | E35: =ROUND((D35*19%),2) -> 1558 | F35: =ROUND((D35+E35),2) -> 9758 | G35: 10000 | H35: =ROUND((G35*19%),2) -> 1900 | I35: =ROUND((G35+H35),2) -> 11900 | J35: 9000 | L35: =ROUND((J35+K35),2) -> 9000 | M35: =ROUND((D35+G35+J35)/3,2) -> 9066.67 | N35: =ROUND((E35+H35+K35)/3,2) -> 1152.67 | O35: =ROUND((F35+I35+L35)/3,2) -> 10219.33
A36: Cepillo de dientes | B36: Und | C36: 1 | D36: 6500 | E36: =ROUND((D36*19%),2) -> 1235 | F36: =ROUND((D36+E36),2) -> 7735 | G36: 8000 | H36: =ROUND((G36*19%),2) -> 1520 | I36: =ROUND((G36+H36),2) -> 9520 | J36: 7000 | L36: =ROUND((J36+K36),2) -> 7000 | M36: =ROUND((D36+G36+J36)/3,2) -> 7166.67 | N36: =ROUND((E36+H36+K36)/3,2) -> 918.33 | O36: =ROUND((F36+I36+L36)/3,2) -> 8085
A37: Shampoo de 400 ML. | B37: Und | C37: 1 | D37: 23000 | E37: =ROUND((D37*19%),2) -> 4370 | F37: =ROUND((D37+E37),2) -> 27370 | G37: 30000 | H37: =ROUND((G37*19%),2) -> 5700 | I37: =ROUND((G37+H37),2) -> 35700 | J37: 26000 | L37: =ROUND((J37+K37),2) -> 26000 | M37: =ROUND((D37+G37+J37)/3,2) -> 26333.33 | N37: =ROUND((E37+H37+K37)/3,2) -> 3356.67 | O37: =ROUND((F37+I37+L37)/3,2) -> 29690
A38: Peinilla | B38: Und | C38: 1 | D38: 2000 | E38: =ROUND((D38*19%),2) -> 380 | F38: =ROUND((D38+E38),2) -> 2380 | G38: 3000 | H38: =ROUND((G38*19%),2) -> 570 | I38: =ROUND((G38+H38),2) -> 3570 | J38: 2000 | L38: =ROUND((J38+K38),2) -> 2000 | M38: =ROUND((D38+G38+J38)/3,2) -> 2333.33 | N38: =ROUND((E38+H38+K38)/3,2) -> 316.67 | O38: =ROUND((F38+I38+L38)/3,2) -> 2650
A39: Desodorante roll on | B39: Und | C39: 1 | D39: 9000 | E39: =ROUND((D39*19%),2) -> 1710 | F39: =ROUND((D39+E39),2) -> 10710 | G39: 10000 | H39: =ROUND((G39*19%),2) -> 1900 | I39: =ROUND((G39+H39),2) -> 11900 | J39: 10000 | L39: =ROUND((J39+K39),2) -> 10000 | M39: =ROUND((D39+G39+J39)/3,2) -> 9666.67 | N39: =ROUND((E39+H39+K39)/3,2) -> 1203.33 | O39: =ROUND((F39+I39+L39)/3,2) -> 10870
A40: Talcos para pies de 125 gramos | B40: Und | C40: 1 | D40: 13200 | E40: =ROUND((D40*19%),2) -> 2508 | F40: =ROUND((D40+E40),2) -> 15708 | G40: 16000 | H40: =ROUND((G40*19%),2) -> 3040 | I40: =ROUND((G40+H40),2) -> 19040 | J40: 16000 | L40: =ROUND((J40+K40),2) -> 16000 | M40: =ROUND((D40+G40+J40)/3,2) -> 15066.67 | N40: =ROUND((E40+H40+K40)/3,2) -> 1849.33 | O40: =ROUND((F40+I40+L40)/3,2) -> 16916
A41: Cortauñas | B41: Und | C41: 1 | D41: 5000 | E41: =ROUND((D41*19%),2) -> 950 | F41: =ROUND((D41+E41),2) -> 5950 | G41: 8000 | H41: =ROUND((G41*19%),2) -> 1520 | I41: =ROUND((G41+H41),2) -> 9520 | J41: 8000 | L41: =ROUND((J41+K41),2) -> 8000 | M41: =ROUND((D41+G41+J41)/3,2) -> 7000 | N41: =ROUND((E41+H41+K41)/3,2) -> 823.33 | O41: =ROUND((F41+I41+L41)/3,2) -> 7823.33
A42: Lima de uñas | B42: Und | C42: 1 | D42: 4000 | E42: =ROUND((D42*19%),2) -> 760 | F42: =ROUND((D42+E42),2) -> 4760 | G42: 4000 | H42: =ROUND((G42*19%),2) -> 760 | I42: =ROUND((G42+H42),2) -> 4760 | J42: 3000 | L42: =ROUND((J42+K42),2) -> 3000 | M42: =ROUND((D42+G42+J42)/3,2) -> 3666.67 | N42: =ROUND((E42+H42+K42)/3,2) -> 506.67 | O42: =ROUND((F42+I42+L42)/3,2) -> 4173.33
A43: Papel higiénico doble hoja 80 gramos | B43: Und | C43: 2 | D43: 7000 | E43: =ROUND((D43*19%),2) -> 1330 | F43: =ROUND((D43+E43),2) -> 8330 | G43: 7000 | H43: =ROUND((G43*19%),2) -> 1330 | I43: =ROUND((G43+H43),2) -> 8330 | J43: 6000 | L43: =ROUND((J43+K43),2) -> 6000 | M43: =ROUND((D43+G43+J43)/3,2) -> 6666.67 | N43: =ROUND((E43+H43+K43)/3,2) -> 886.67 | O43: =ROUND((F43+I43+L43)/3,2) -> 7553.33
A44: Pañitos húmedos por 60 unidades | B44: Und | C44: 1 | D44: 7200 | E44: =ROUND((D44*19%),2) -> 1368 | F44: =ROUND((D44+E44),2) -> 8568 | G44: 8000 | H44: =ROUND((G44*19%),2) -> 1520 | I44: =ROUND((G44+H44),2) -> 9520 | J44: 8000 | L44: =ROUND((J44+K44),2) -> 8000 | M44: =ROUND((D44+G44+J44)/3,2) -> 7733.33 | N44: =ROUND((E44+H44+K44)/3,2) -> 962.67 | O44: =ROUND((F44+I44+L44)/3,2) -> 8696
A45: TOTAL | F45: =SUM(F34:F44) -> 106029 | I45: =SUM(I34:I44) -> 129710 | L45: =SUM(L34:L44) -> 99200 | M45: =SUM(M34:M44) -> 99100.01 | N45: =SUM(N34:N44) -> 12546.34 | O45: =SUM(O34:O44) -> 111646.32
A48: KIT DE ASEO PARA MUJER PRIMERA ENTREGA | C48: CANTIDAD DE PERSONAS | D48: VALOR UNITARIO PROMEDIO CON IVA | E48: VALOR PROMEDIO 1 KIT ADULTOS MAYORES PRIMER MES
A49: Suministro de elementos de aseo para mujeres (con cortauñas) | C49: 17 | D49: =O45 -> 111646.32 | E49: =ROUND((D49*C49),2) -> 1897987.4
A51: KIT DE ASEO PARA MUJER POR 5 ENTREGAS | C51: CANTIDAD DE PERSONAS | D51: VALOR UNITARIO PROMEDIO CON IVA | E51: VALOR PROMEDIO 17 ADULTOS MAYORES | F51: VALOR PROMEDIO 17 KIT ADULTOS MAYORES 5 ENTREGAS SIN CORTAUÑAS
A52: Suministro de elementos de aseo para mujeres (sin cortauñas) | C52: 17 | D52: =ROUND((O34+O35+O36+O37+O38+O39+O40+O42+O43+O44),2) -> 103822.99 | E52: =ROUND((D52*C52),2) -> 1764990.8 | F52: =ROUND((E52*5),2) -> 8824954.2
...

Sheet 3.3 DOTACIÓN HG
A2: ADULTO MAYOR MUJER
A4: PRODUCTO/MUJER | C4: CANTIDAD | D4: PROPACHAMAMA | G4: CAFAMI | J4: CORPORACION TERNURA | M4: PROMEDIOS
B5: UNIDAD | D5: VALOR UNITARIO SIN IVA | E5: IVA 19% | F5: VALOR TOTAL CON IVA | G5: VALOR UNITARIO SIN IVA | H5: IVA 19% | I5: VALOR TOTAL CON IVA | J5: VALOR UNITARIO SIN IVA | K5: IVA 19% | L5: VALOR TOTAL CON IVA | M5: VALOR UNITARIO PROMEDIO SIN IVA | N5: PROMEDIO IVA 19% | O5: VALOR TOTAL PROMEDIO CON IVA
A6: Sudadera (chaqueta y pantalón) en material impermeable, con forro, costuras reforzadas, bolsillos con cremallera, con bordado institucional. | B6: Und | C6: 1 | D6: 220000 | E6: =ROUND((D6*19%),2) -> 41800 | F6: =ROUND((+D6+E6),2) -> 261800 | G6: 200000 | H6: =ROUND((G6*19%),2) -> 38000 | I6: =ROUND((+G6+H6),2) -> 238000 | J6: 235000 | L6: =ROUND((+J6+K6),2) -> 235000 | M6: =ROUND((D6+G6+J6)/3,2) -> 218333.33 | N6: =ROUND((E6+H6+K6)/3,2) -> 26600 | O6: =ROUND((F6+I6+L6)/3,2) -> 244933.33
A7: Camiseta en cuello redondo, doble cuello, costuras reforzadas, con bordado institucional. | B7: Und | C7: 1 | D7: 81000 | E7: =ROUND((D7*19%),2) -> 15390 | F7: =ROUND((+D7+E7),2) -> 96390 | G7: 80000 | H7: =ROUND((G7*19%),2) -> 15200 | I7: =ROUND((+G7+H7),2) -> 95200 | J7: 82000 | L7: =ROUND((+J7+K7),2) -> 82000 | M7: =ROUND((D7+G7+J7)/3,2) -> 81000 | N7: =ROUND((E7+H7+K7)/3,2) -> 10196.67 | O7: =ROUND((F7+I7+L7)/3,2) -> 91196.67
A8: Gorra bordada con logo institucional. | B8: Und | C8: 1 | D8: 23000 | E8: =ROUND((D8*19%),2) -> 4370 | F8: =ROUND((+D8+E8),2) -> 27370 | G8: 24000 | H8: =ROUND((G8*19%),2) -> 4560 | I8: =ROUND((+G8+H8),2) -> 28560 | J8: 26000 | L8: =ROUND((+J8+K8),2) -> 26000 | M8: =ROUND((D8+G8+J8)/3,2) -> 24333.33 | N8: =ROUND((E8+H8+K8)/3,2) -> 2976.67 | O8: =ROUND((F8+I8+L8)/3,2) -> 27310
A9: Par de medias | B9: Und | C9: 3 | D9: 40000 | E9: =ROUND((D9*19%),2) -> 7600 | F9: =ROUND((+D9+E9),2) -> 47600 | G9: 38000 | H9: =ROUND((G9*19%),2) -> 7220 | I9: =ROUND((+G9+H9),2) -> 45220 | J9: 41000 | L9: =ROUND((+J9+K9),2) -> 41000 | M9: =ROUND((D9+G9+J9)/3,2) -> 39666.67 | N9: =ROUND((E9+H9+K9)/3,2) -> 4940 | O9: =ROUND((F9+I9+L9)/3,2) -> 44606.67
A10: Brassier deportivo sin costuras | B10: Und | C10: 3 | D10: 185000 | E10: =ROUND((D10*19%),2) -> 35150 | F10: =ROUND((+D10+E10),2) -> 220150 | G10: 175000 | H10: =ROUND((G10*19%),2) -> 33250 | I10: =ROUND((+G10+H10),2) -> 208250 | J10: 125000 | L10: =ROUND((+J10+K10),2) -> 125000 | M10: =ROUND((D10+G10+J10)/3,2) -> 161666.67 | N10: =ROUND((E10+H10+K10)/3,2) -> 22800 | O10: =ROUND((F10+I10+L10)/3,2) -> 184466.67
A11: Ropa interior | B11: Und | C11: 3 | D11: 135000 | E11: =ROUND((D11*19%),2) -> 25650 | F11: =ROUND((+D11+E11),2) -> 160650 | G11: 155000 | H11: =ROUND((G11*19%),2) -> 29450 | I11: =ROUND((+G11+H11),2) -> 184450 | J11: 165000 | L11: =ROUND((+J11+K11),2) -> 165000 | M11: =ROUND((D11+G11+J11)/3,2) -> 151666.67 | N11: =ROUND((E11+H11+K11)/3,2) -> 18366.67 | O11: =ROUND((F11+I11+L11)/3,2) -> 170033.33
A12: Pijama | B12: Und | C12: 1 | D12: 90000 | E12: =ROUND((D12*19%),2) -> 17100 | F12: =ROUND((+D12+E12),2) -> 107100 | G12: 105000 | H12: =ROUND((G12*19%),2) -> 19950 | I12: =ROUND((+G12+H12),2) -> 124950 | J12: 130000 | L12: =ROUND((+J12+K12),2) -> 130000 | M12: =ROUND((D12+G12+J12)/3,2) -> 108333.33 | N12: =ROUND((E12+H12+K12)/3,2) -> 12350 | O12: =ROUND((F12+I12+L12)/3,2) -> 120683.33
A13: Par de Tenis (Se podrá suministrar 2 pantuflas en los casos que por recomendación médica se requiera) | B13: Und | C13: 1 | D13: 140000 | E13: =ROUND((D13*19%),2) -> 26600 | F13: =ROUND((+D13+E13),2) -> 166600 | G13: 185000 | H13: =ROUND((G13*19%),2) -> 35150 | I13: =ROUND((+G13+H13),2) -> 220150 | J13: 155000 | L13: =ROUND((+J13+K13),2) -> 155000 | M13: =ROUND((D13+G13+J13)/3,2) -> 160000 | N13: =ROUND((E13+H13+K13)/3,2) -> 20583.33 | O13: =ROUND((F13+I13+L13)/3,2) -> 180583.33
A14: Toalla para baño mediana. | B14: Und | C14: 1 | D14: 70000 | E14: =ROUND((D14*19%),2) -> 13300 | F14: =ROUND((+D14+E14),2) -> 83300 | G14: 77000 | H14: =ROUND((G14*19%),2) -> 14630 | I14: =ROUND((+G14+H14),2) -> 91630 | J14: 75000 | L14: =ROUND((+J14+K14),2) -> 75000 | M14: =ROUND((D14+G14+J14)/3,2) -> 74000 | N14: =ROUND((E14+H14+L14)/3,2) -> 34310 | O14: =ROUND((F14+I14+L14)/3,2) -> 83310
C15: TOTAL | D15: =SUM(F6:F14) -> 1170960 | G15: =SUM(I6:I14) -> 1236410 | J15: =SUM(L6:L14) -> 1034000 | M15: =ROUND((D15+G15+J15)/3,2) -> 1147123.3 | N15: =SUM(N6:N14) -> 153123.34 | O15: =SUM(O6:O14) -> 1147123.3
J16: TOTAL 17 MUJERES | O16: =+O15*17 -> 19501097
R18: =11+6 -> 17
A19: HOMBRE | R19: =+R18+23 -> 40
A21: PRODUCTO/HOMBRE | B21: UNIDAD | C21: CANTIDAD | D21: =+D4 -> PROPACHAMAMA | G21: =+G4 -> CAFAMI | J21: =+J4 -> CORPORACION TERNURA | M21: PROMEDIOS
D22: VALOR UNITARIO SIN IVA | E22: IVA 19% | F22: VALOR TOTAL CON IVA | G22: VALOR UNITARIO SIN IVA | H22: IVA 19% | I22: VALOR TOTAL CON IVA | J22: VALOR UNITARIO SIN IVA | K22: IVA 19% | L22: VALOR TOTAL CON IVA | M22: VALOR UNITARIO PROMEDIO SIN IVA | N22: PROMEDIO IVA 19% | O22: VALOR TOTAL PROMEDIO CON IVA
A23: Sudadera (chaqueta y pantalón) en material impermeable, con forro, costuras reforzadas, bolsillos con cremallera, con bordado institucional. | B23: Und | C23: 1 | D23: 225000 | E23: =ROUND((D23*19%),2) -> 42750 | F23: =ROUND((+D23+E23),2) -> 267750 | G23: 220000 | H23: =ROUND((G23*19%),2) -> 41800 | I23: =ROUND((+G23+H23),2) -> 261800 | J23: 240000 | L23: =ROUND((+J23+K23),2) -> 240000 | M23: =ROUND((D23+G23+J23)/3,2) -> 228333.33 | N23: =ROUND((E23+H23+K23)/3,2) -> 28183.33 | O23: =ROUND((F23+I23+L23)/3,2) -> 256516.67 | R23: =11+23 -> 34 | S23: 6 | T23: =+R23+S23 -> 40
A24: Camiseta en cuello redondo, doble cuello, costuras reforzadas, con bordado institucional | B24: Und | C24: 1 | D24: 82000 | E24: =ROUND((D24*19%),2) -> 15580 | F24: =ROUND((+D24+E24),2) -> 97580 | G24: 79250 | H24: =ROUND((G24*19%),2) -> 15057.5 | I24: =ROUND((+G24+H24),2) -> 94307.5 | J24: 78000 | L24: =ROUND((+J24+K24),2) -> 78000 | M24: =ROUND((D24+G24+J24)/3,2) -> 79750 | N24: =ROUND((E24+H24+K24)/3,2) -> 10212.5 | O24: =ROUND((F24+I24+L24)/3,2) -> 89962.5
A25: Gorra bordada con logo institucional. | B25: Und | C25: 1 | D25: 28000 | E25: =ROUND((D25*19%),2) -> 5320 | F25: =ROUND((+D25+E25),2) -> 33320 | G25: 32000 | H25: =ROUND((G25*19%),2) -> 6080 | I25: =ROUND((+G25+H25),2) -> 38080 | J25: 30000 | L25: =ROUND((+J25+K25),2) -> 30000 | M25: =ROUND((D25+G25+J25)/3,2) -> 30000 | N25: =ROUND((E25+H25+K25)/3,2) -> 3800 | O25: =ROUND((F25+I25+L25)/3,2) -> 33800
A26: Par de medias | B26: Und | C26: 3 | D26: 38000 | E26: =ROUND((D26*19%),2) -> 7220 | F26: =ROUND((+D26+E26),2) -> 45220 | G26: 38000 | H26: =ROUND((G26*19%),2) -> 7220 | I26: =ROUND((+G26+H26),2) -> 45220 | J26: 40000 | L26: =ROUND((+J26+K26),2) -> 40000 | M26: =ROUND((D26+G26+J26)/3,2) -> 38666.67 | N26: =ROUND((E26+H26+K26)/3,2) -> 4813.33 | O26: =ROUND((F26+I26+L26)/3,2) -> 43480
A27: Ropa interior | B27: Und | C27: 3 | D27: 165000 | E27: =ROUND((D27*19%),2) -> 31350 | F27: =ROUND((+D27+E27),2) -> 196350 | G27: 175000 | H27: =ROUND((G27*19%),2) -> 33250 | I27: =ROUND((+G27+H27),2) -> 208250 | J27: 180000 | L27: =ROUND((+J27+K27),2) -> 180000 | M27: =ROUND((D27+G27+J27)/3,2) -> 173333.33 | N27: =ROUND((E27+H27+K27)/3,2) -> 21533.33 | O27: =ROUND((F27+I27+L27)/3,2) -> 194866.67
A28: Pijama | B28: Und | C28: 1 | D28: 90000 | E28: =ROUND((D28*19%),2) -> 17100 | F28: =ROUND((+D28+E28),2) -> 107100 | G28: 105000 | H28: =ROUND((G28*19%),2) -> 19950 | I28: =ROUND((+G28+H28),2) -> 124950 | J28: 110000 | L28: =ROUND((+J28+K28),2) -> 110000 | M28: =ROUND((D28+G28+J28)/3,2) -> 101666.67 | N28: =ROUND((E28+H28+K28)/3,2) -> 12350 | O28: =ROUND((F28+I28+L28)/3,2) -> 114016.67
A29: Par de Tenis (Se podrá suministrar 2 pantuflas en los casos que por recomendación médica se requiera) | B29: Und | C29: 1 | D29: 160000 | E29: =ROUND((D29*19%),2) -> 30400 | F29: =ROUND((+D29+E29),2) -> 190400 | G29: 138720.34 | H29: =ROUND((G29*19%),2) -> 26356.86 | I29: =ROUND((+G29+H29),2) -> 165077.2 | J29: 175000 | L29: =ROUND((+J29+K29),2) -> 175000 | M29: =ROUND((D29+G29+J29)/3,2) -> 157906.78 | N29: =ROUND((E29+H29+K29)/3,2) -> 18918.95 | O29: =ROUND((F29+I29+L29)/3,2) -> 176825.73
A30: Toalla para baño mediana. | B30: Und | C30: 1 | D30: 76000 | E30: =ROUND((D30*19%),2) -> 14440 | F30: =ROUND((+D30+E30),2) -> 90440 | G30: 74000 | H30: =ROUND((G30*19%),2) -> 14060 | I30: =ROUND((+G30+H30),2) -> 88060 | J30: 75000 | L30: =ROUND((+J30+K30),2) -> 75000 | M30: =ROUND((D30+G30+J30)/3,2) -> 75000 | N30: =ROUND((E30+H30+K30)/3,2) -> 9500 | O30: =ROUND((F30+I30+L30)/3,2) -> 84500
A31: TOTAL | F31: =SUM(F23:F30) -> 1028160 | I31: =SUM(I23:I30) -> 1025744.7 | L31: =SUM(L23:L30) -> 928000 | M31: =SUM(M23:M30) -> 884656.78 | N31: =SUM(N23:N30) -> 109311.44 | O31: =SUM(O23:O30) -> 993968.24
J32: TOTAL 23 HOMBRES | O32: =ROUND((O31*23),2) -> 22861270
A35: DESCRIPCIÓN | B35: UND | C35: CANT | D35: VALOR UNITARIO | E35: VALOR TOTAL
A36: DOTACIÓN CABALLEROS | B36: Und | C36: 23 | D36: =+O31 -> 993968.24 | E36: =+C36*D36 -> 22861270
A37: DOTACION DAMAS | B37: Und | C37: 17 | D37: =+O15 -> 1147123.3 | E37: =+C37*D37 -> 19501097
A38: TOTAL | C38: =+C36+C37 -> 40 | E38: =+E36+E37 -> 42362366

Sheet 3.4 IMPREVISTOS
A2: IMPREVISTOS, NO POST Y SERVICIOS FUNERARIOS
A6: DESCRIPCION | B6: UNIDAD | C6: CANTIDAD | D6: =+'3.3 DOTACIÓN HG'!D4:F4 -> PROPACHAMAMA | G6: =+'3.3 DOTACIÓN HG'!G4:I4 -> CAFAMI | J6: =+'3.3 DOTACIÓN HG'!J4:L4 -> CORPORACION TERNURA | M6: VALORES PROMEDIOS
D7: VALOR UNITARIO MENSUAL SIN IVA | E7: IVA 19% | F7: VALOR UNITARIO MENSUAL CON IVA | G7: VALOR UNITARIO MENSUAL SIN IVA | H7: IVA 19% | I7: VALOR UNITARIO MENSUAL CON IVA | J7: VALOR UNITARIO MENSUAL SIN IVA | K7: IVA 19% | L7: VALOR UNITARIO MENSUAL CON IVA | M7: VALOR UNITARIO PROMEDIO MENSUAL SIN IVA | N7: PROMEDIO IVA 19% | O7: VALOR UNITARIO PROMEDIO MENSUAL CON IVA | P7: VALOR MENSUAL PARA 40 ADULTOS MAYORES
A8: AUXILIO FUNERARIO COBERTURA PARA 40 ADULTOS MAYORES | B8: MES | C8: 40 | D8: 30000 | F8: =ROUND((+D8+E8),2) -> 30000 | G8: 35000 | I8: =ROUND((+G8+H8),2) -> 35000 | J8: 31200 | L8: =ROUND((+J8+K8),2) -> 31200 | M8: =+SUM(D8+G8+J8)/3 -> 32066.667 | N8: 0 | O8: =+SUM(F8+I8+L8)/3 -> 32066.667 | P8: =ROUND((+O8*C8),2) -> 1282666.7 | Q8: =+O8*40 -> 1282666.7
A9: IMPREVISTOS: NO POST | B9: Gbl | C9: 1 | D9: 2150000 | E9: =ROUND((D9*19%),2) -> 408500 | F9: =ROUND((+D9+E9),2) -> 2558500 | G9: 2300000 | H9: =ROUND((G9*19%),2) -> 437000 | I9: =ROUND((+G9+H9),2) -> 2737000 | J9: 2250000 | L9: =ROUND((+J9+K9),2) -> 2250000 | M9: =ROUND((D9+G9+J9)/3,2) -> 2233333.3 | N9: =ROUND((E9+H9+K9)/3,2) -> 281833.33 | O9: =ROUND((F9+I9+L9)/3,2) -> 2515166.7 | P9: =ROUND((+O9*C9),2) -> 2515166.7
J10: TOTAL MENSUAL IMPREVISTO Y AUXILIO FUNERARIO | P10: =ROUND((+P8+P9),2) -> 3797833.3
J11: GRAN TOTAL IMPREVISTOS Y AUXILIO FUNERARIO 6 MESES | P11: =ROUND((+P10*6),2) -> 22787000

Sheet 3.5 PERSONAL HG 1
A3: DESCRIPCION | B3: UNIDAD | C3: CANTIDAD | D3: REQUISITOS | E3: PROPACHAMAMA | G3: CAFAMI | I3: CORPORACION TERNURA | K3: Valor promedio
E4: valor unitario | F4: Valor total | G4: valor unitario | H4: Valor total | I4: valor unitario | J4: Valor total | K4: VALOR UNITARIO PROMEDIO | L4: VALOR MENSUAL PROMEDIO TOTAL | M4: VALOR PROMEDIO 6 MESES
A5: PROFESIONAL EN NUTRICIÓN Y DIETETICA ENCARGADO DE DAR SOPORTE NUTRICIONAL Y DETERMINAR CUÁL ES LA MEJOR OPCIÓN DE ALIMENTACIÓN PARA CADA ADULTO MAYOR. SE ENCARGARA IGUALMENTE DE PROMOVER HÁBITOS DE VIDA SALUDABLE Y AJUSTARA LAS MINUTAS DE ACURDO A LAS NECESIDADES DE LA POBLACIÓN ADULTO MAYOR. | B5: Und | C5: 1 | D5: SE REQUIERE DE UN PROFESIONAL EN NUTRICIÓN Y DIETETICA CON TÍTULO OTORGADO POR UNA INSTITUCIÓN UNIVERSITARIA LEGALMENTE RECONOCIDA EN COLOMBIA. (TARJETA PROFESIONAL). EXPERIENCIA CERTIFICADA DE MÍNIMO 2 AÑOS CON POBLACIÓN ADULTA MAYOR ESPECIALMENTE EN FORMULACIÓN DE TRATAMIENTOS DIETÉTICOS PARA ADULTOS Y MANEJO EN SERVICIO DE ALIMENTACIÓN . | E5: 4650000 | F5: =ROUND((+C5*E5),2) -> 4650000 | G5: 4900000 | H5: =ROUND((+G5*C5),2) -> 4900000 | I5: 4610000 | J5: =ROUND((+I5*C5),2) -> 4610000 | K5: =ROUND((E5+G5+I5)/3,2) -> 4720000 | L5: =ROUND((F5+H5+J5)/3,2) -> 4720000 | M5: =ROUND((L5*6),2) -> 28320000
A6: AUXILIAR DE ENFERMERIA SUMINISTRO DE MEDICAMENTOS, GESTIÓN DE CITAS, TRASLADOS Y ATENCIÓN EN PRIMEROS AUXILIOS. | B6: Und | C6: 7 | D6: SE REQUIEREN DE SIETE AUXILIARES DE ENFERMERÍA, CON TÍTULO OTORGADO POR UNA INSTITUCIÓN LEGALMENTE RECONOCIDA EN COLOMBIA. EXPERIENCIA MÍNIMO DE 3 AÑOS CERTIFICADA EN POBLACIÓN ADULTO MAYOR Y/O CONTAR CON CURSO EN PRIMEROS AUXILIOS. | E6: 2500000 | F6: =ROUND((+C6*E6),2) -> 17500000 | G6: 2500000 | H6: =ROUND((+G6*C6),2) -> 17500000 | I6: 2400000 | J6: =ROUND((+I6*C6),2) -> 16800000 | K6: =ROUND((E6+G6+I6)/3,2) -> 2466666.7 | L6: =ROUND((F6+H6+J6)/3,2) -> 17266667 | M6: =ROUND((L6*6),2) -> 1.036e+08
A7: JEFE DE ENFERMERIA SUMINISTRO DE MEDICAMENTOS, GESTIÓN DE CITAS, TRASLADOS Y ATENCIÓN EN PRIMEROS AUXILIOS. | B7: Und | C7: 1 | D7: SE REQUIEREN DE UN JEFE ENFERMERÍA, CON TÍTULO OTORGADO POR UNA INSTITUCIÓN LEGALMENTE RECONOCIDA EN COLOMBIA. EXPERIENCIA MÍNIMO DE 3 AÑOS CERTIFICADA EN POBLACIÓN ADULTO MAYOR Y/O CONTAR CON CURSO EN PRIMEROS AUXILIOS. | E7: 4650000 | F7: =ROUND((+C7*E7),2) -> 4650000 | G7: 4900000 | H7: =ROUND((+G7*C7),2) -> 4900000 | I7: 4610000 | J7: =ROUND((+I7*C7),2) -> 4610000 | K7: =ROUND((E7+G7+I7)/3,2) -> 4720000 | L7: =ROUND((F7+H7+J7)/3,2) -> 4720000 | M7: =ROUND((L7*6),2) -> 28320000
A8: COORDINADOR GENERAL PROFESIONAL EN CARRERAS ADMINISTRATIVAS, SALUD Y/O TRABAJO SOCIAL Y/O QUÍMICA DE ALIMENTOS; QUIEN SE ENCARGARA DE LA SUPERVISIÓN, CONTROL Y MANEJO DEL CENTRO GERIÁTRICO DE PROTECCIÓN DÍA Y DEL COMEDOR NUTRICIONAL.. | B8: Und | C8: 1 | D8: SE REQUIERE DE UN PROFESIONAL CON TÍTULO EN CARRERAS ADMINISTRATIVAS, SALUD Y/O TRABAJO SOCIAL Y/O QUÍMICA DE ALIMENTOS, OTORGADO POR UNA NSTITUCIÓN UNIVERSITARIA LEGALMENTE RECONOCIDA EN COLOMBIA. (TARJETA PROFESIONAL PARA LAS PROFESIONES QUE ESTE REGLAMENTADO POR LA LEY). EXPERIENCIA CERTIFICADA DE MÍNIMO DE TRES AÑOS EN LA COORDINACIÓN DE PROYECTOS Y/O PROGRAMAS DE ATENCIÓN DE SERVICIO DE PROTECCIÓN INTEGRAL AL ADULTO MAYOR Y/O CENTROS GERIÁTRICOS. | E8: 4650000 | F8: =ROUND((+C8*E8),2) -> 4650000 | G8: 4900000 | H8: =ROUND((+G8*C8),2) -> 4900000 | I8: 4610000 | J8: =ROUND((+I8*C8),2) -> 4610000 | K8: =ROUND((E8+G8+I8)/3,2) -> 4720000 | L8: =ROUND((F8+H8+J8)/3,2) -> 4720000 | M8: =ROUND((L8*6),2) -> 28320000
A9: PSICOLOGO. PROFESIONAL EN PSICOLOGÍA, QUIEN SE ENCARGARÁ DE BRINDAR ACOMPAÑAMIENTO Y ATENCIÓN PSICOLÓGICA A LOS ADULTOS MAYORES DEL HOGAR GERIÁTRICO. | B9: Und | C9: 1 | D9: SE REQUIERE PROFESIONAL EN PSICOLOGÍA CON TÍTULO OTORGADO POR UNA INSTITUCIÓN UNIVERSITARIA LEGALMENTE RECONOCIDA EN COLOMBIA. (TARJETA PROFESIONAL PARA LAS PROFESIONES QUE ESTE REGLAMENTADO POR LA LEY). EXPERIENCIA CERTIFICADA DE MÍNIMO 2 AÑOS EN ATENCIÓN AL ADULTO MAYOR | E9: 4650000 | F9: =ROUND((+C9*E9),2) -> 4650000 | G9: 4900000 | H9: =ROUND((+G9*C9),2) -> 4900000 | I9: 4610000 | J9: =ROUND((+I9*C9),2) -> 4610000 | K9: =ROUND((E9+G9+I9)/3,2) -> 4720000 | L9: =ROUND((F9+H9+J9)/3,2) -> 4720000 | M9: =ROUND((L9*6),2) -> 28320000
A10: FISIOTERAPEUTA. PROFESIONAL ENCARGADO DE REALIZAR LA RUTINA DE EJERCICIOS CON EL FIN DE FORTALECER Y ESTIMULAR LOS MÚSCULOS Y ARTICULACIONES DE LOS ADULTOS MAYORES DEL HOGAR GERIÁTRICO Y APLICACIÓN DE TERAPIAS ALTERNATIVAS. | B10: Und | C10: 1 | D10: SE REQUIERE DE UN PROFESIONAL CON TÍTULO EN TERAPIA FÍSICA, OTORGADO POR UNA INSTITUCIÓN UNIVERSITARIA LEGALMENTE RECONOCIDA EN COLOMBIA. (TARJETA PROFESIONAL). CON EXPERIENCIA PROFESIONAL CERTIFICADA DE MÍNIMO 2 AÑOS CON ADULTO MAYOR. DEBE CONTAR CON TRES JORNADAS DE ACTUALIZACIÓN EN DIFERENTES TEMAS FISIOTERAPÉUTICOS REALIZADAS POR UNA INSTITUCIÓN UNIVERSITARIA LEGALMENTE RECONOCIDA EN COLOMBIA. | E10: 4650000 | F10: =ROUND((+C10*E10),2) -> 4650000 | G10: 4900000 | H10: =ROUND((+G10*C10),2) -> 4900000 | I10: 4610000 | J10: =ROUND((+I10*C10),2) -> 4610000 | K10: =ROUND((E10+G10+I10)/3,2) -> 4720000 | L10: =ROUND((F10+H10+J10)/3,2) -> 4720000 | M10: =ROUND((L10*6),2) -> 28320000
A11: QUIMICO., QUÍMICO DE ALIMENTOS, INGENIERO DE ALIMENTOS, PROFESIONAL ENCARGADO DE APLICAR PROCESOS DE CALIDAD A CADA UNO DE LOS ALIMENTOS PROPORCIONADOS A LOS ADULTOS MAYORES EN LOS CENTROS VIDA (REFRIGERIOS), HOGAR GERIÁTRICO Y COMEDORES NUTRICIONALES. | B11: Und | C11: 1 | D11: E REQUIERE DE UN PROFESIONAL CON TÍTULO EN QUIMICA,QUIMICO DE ALIMENTOS Y/O INGENIERO DE ALIMENTOS CON TITULO OTORGADO POR UNA INSTITUCIÓN UNIVERSITARIA LEGALMENTE RECONOCIDA EN COLOMBIA (TARJETA PROFESIONAL PARA LAS PROFESIONES QUE ESTE REGLAMENTADO POR LA LEY). CON ESPE CON ESPECIALIZACION EN SEGURIDAD Y CALIDAD ALIMENTARIA, EXPERIENCIA PROFESIONAL CERTIFICADA DE MÍNIMO 2 AÑOS CON ADULTO MAYOR. | E11: 4650000 | F11: =ROUND((+C11*E11),2) -> 4650000 | G11: 4900000 | H11: =ROUND((+G11*C11),2) -> 4900000 | I11: 4610000 | J11: =ROUND((+I11*C11),2) -> 4610000 | K11: =ROUND((E11+G11+I11)/3,2) -> 4720000 | L11: =ROUND((F11+H11+J11)/3,2) -> 4720000 | M11: =ROUND((L11*6),2) -> 28320000
A12: ECONOMAS PERSONAS QUE SE ENCARGAN DE LA PREPARACIÓN Y ALISTAMIENTO DE LOS ALIMENTOS PARA LOS ADULTOS MAYORES, CON UNA PERIODICIDAD DIARIA (CINCO VECES AL DÍA) (DESAYUNO, REFRIGERIO, ALMUERZO, REFRIGERIO Y COMIDA). | B12: Und | C12: 3 | D12: CURSO CERTIFICADO EN MANIPULACIÓN DE ALIMENTOS. EXPERIENCIA MAYOR A 1 AÑO EN MANIPULACIÓN DE ALIMENTOS EN PROGRAMAS DE ADULTO MAYOR. DEBEN CONTAR CON LA DOCUMENTACIÓN REQUERIDA POR LA SECRETARIA DE SALUD (CARNET DE MANIPULACIÓN DE ALIMENTOS) DE ACUERDO CON LO DISPUESTO EN EL ANEXO TÉCNICO DE LA RESOLUCIÓN 024 DEL 11 DE ENERO DE 2014. | E12: 2200000 | F12: =ROUND((+C12*E12),2) -> 6600000 | G12: 2400000 | H12: =ROUND((+G12*C12),2) -> 7200000 | I12: 2200000 | J12: =ROUND((+I12*C12),2) -> 6600000 | K12: =ROUND((E12+G12+I12)/3,2) -> 2266666.7 | L12: =ROUND((F12+H12+J12)/3,2) -> 6800000 | M12: =ROUND((L12*6),2) -> 40800000
A13: PERSONAL DE LAVANDERIA Y ASEO PERSONAS QUE SE ENCARGAN DE ASEO Y MANTENIMIENTO DE LAS INSTALACIONES Y DEL LAVADO Y ARREGLO DE LA ROPA DE LOS ADULTOS MAYORES, | B13: Und | C13: 2 | D13: EXPERIENCIA MAYOR A UN (1) AÑO CON POBLACION ADULTA MAYOR Y/O ESTUDIOS EN MANEJO DE RESIDUOS HOSPITALARIOS.. | E13: 2140000 | F13: =ROUND((+C13*E13),2) -> 4280000 | G13: 2350000 | H13: =ROUND((+G13*C13),2) -> 4700000 | I13: 2100000 | J13: =ROUND((+I13*C13),2) -> 4200000 | K13: =ROUND((E13+G13+I13)/3,2) -> 2196666.7 | L13: =ROUND((F13+H13+J13)/3,2) -> 4393333.3 | M13: =ROUND((L13*6),2) -> 26360000
A14: Total | E14: =SUM(E5:E13) -> 34740000 | F14: =SUM(F5:F13) -> 56280000 | G14: =SUM(G5:G13) -> 36650000 | H14: =SUM(H5:H13) -> 58800000 | I14: =SUM(I5:I13) -> 34360000 | J14: =SUM(J5:J13) -> 55260000 | K14: =SUM(K5:K13) -> 35250000 | L14: =SUM(L5:L13) -> 56780000 | M14: =SUM(M5:M13) -> 340680000
A22: TURNOS ADICIONALES DE ENFERMERIA DE MANERA MENSUAL
A24: DESCRIPCION | B24: UNIDAD | D24: PROPACHAMAMA | F24: CAFAMI | H24: CORPORACION TERNURA | J24: VALOR UNITARIO PROMEDIO
C25: CANTIDAD | D25: valor unitario | E25: Valor total | F25: valor unitario | G25: Valor total | H25: valor unitario | I25: Valor total | J25: VALOR UNITARIO PROMEDIO | K25: VALOR MENSUAL PROMEDIO TOTAL | L25: VALOR PROMEDIO 6 MESES
A26: TURNOS ADICIONALES DE ENFERMERIA | B26: Und | C26: 21 | D26: 120000 | E26: =ROUND((+D26*C26),2) -> 2520000 | F26: 120000 | G26: =ROUND((+F26*C26),2) -> 2520000 | H26: 115000 | I26: =ROUND((+H26*C26),2) -> 2415000 | J26: =ROUND((+D26+F26+H26)/3,2) -> 118333.33 | K26: =ROUND((+E26+G26+I26)/3,2) -> 2485000 | L26: =ROUND((+K26*6),2) -> 14910000

Sheet  INFRAESTRUCTURA  HG.
A4: REQUISITOS | B4: UNIDAD | C4: CANTIDAD | D4: PROPACHAMAMA | G4: CAFAMI | K4: CORPORACION TERNURA | R4: PROMEDIOS
D5: VALOR UNITARIO MENSUAL SIN IVA | E5: IVA 19% | F5: VALOR UNITARIO MENSUAL CON IVA | G5: VALOR UNITARIO MENSUAL SIN IVA | H5: IVA 19% | I5: VALOR UNITARIO MENSUAL CON IVA | J5: VALOR 12 DIAS IVA | K5: VALOR UNITARIO MENSUAL SIN IVA | L5: IVA 19% | M5: VALOR UNITARIO MENSUAL CON IVA | N5: VALOR DIA SIN IVA | O5: VALOR 15 DIAS SIN IVA | P5: IVA 19% | Q5: VALOR 15 DIAS IVA | R5: VALOR PROMEDIO UNITARIO MENSUAL SIN IVA | S5: IVA PROMEDIO MES 19% | T5: VALOR PROMEDIO UNITARIO MENSUAL CON IVA
A6: INFRAESTRUCTURA DEL LUGAR - ACCIONES OPERACIÓNALES PARA CENTRO DE PROTECCIÓN EN LA MODALIDAD HOGAR GERIATRICO, PARA ADULTOS MAYORES Y COMEDOR NUTRICIONAL | B6: Mes | C6: 1 | D6: 21000000 | E6: =ROUND((D6*19%),2) -> 3990000 | F6: =ROUND((+D6+E6),2) -> 24990000 | G6: 23000000 | H6: =ROUND((G6*19%),2) -> 4370000 | I6: =ROUND((+G6+H6),2) -> 27370000 | K6: 19000000 | M6: =ROUND((+K6+L6),2) -> 19000000 | R6: =ROUND((D6+G6+K6)/3,2) -> 21000000 | S6: =ROUND((E6+H6+L6)/3,2) -> 2786666.7 | T6: =ROUND((M6+I6+F6)/3,2) -> 23786667
D7: TOTAL 6 MESES | F7: =SUM(F6:F6)*6 -> 149940000 | G7: TOTAL 6 MESES | I7: =SUM(I6:I6)*6 -> 164220000 | J7: =+J6 -> 0 | K7: TOTAL 6 MESES | M7: =SUM(M6)*6 -> 114000000 | N7: TOTAL 12 DIAS | Q7: =+Q6 -> 0 | R7: TOTAL PROMEDIO 6 MESES | T7: =SUM(T6:T6)*6 -> 1.4272e+08
R9: VALOR TOTAL | T9: =+T7 -> 1.4272e+08

Sheet TOTAL 
A1: VALOR ESTIMADO CONTRATO PARA LA ATENCIÓN ADULTOS MAYORES EN HOGAR GERIATRICO 180 DIAS
A2: SUMINISTRO | B2: VALOR 180 DIAS INCLUIDO IVA
A3: SERVICIO ALIMENTACIÓN PARA 40 ADULTOS MAYORES | B3: =+'3.1 Alimentación HG. '!H25 -> 514800000
A4: KIT DE ASEO PARA HOMBRES (23). | B4: =+'3.2 KIT DE ASEO HG'!D27 -> 14526639
A5: KIT DE ASEO PARA MUJER (17) | B5: =+'3.2 KIT DE ASEO HG'!D55 -> 10722942
A6: DOTACION Y VESTUARIO MUJER (17) | B6: =+'3.3 DOTACIÓN HG'!O16 -> 19501097
A7: DOTACION Y VESTUARIO HOMBRE (23) | B7: =+'3.3 DOTACIÓN HG'!O32 -> 22861270
A8: IMPREVISTOS. NO POST. SERVICIO FUNERARIO | B8: =+'3.4 IMPREVISTOS'!P11 -> 22787000
A9: PERSONAL PARA EL FUNCIONAMIENTO DEL HOGAR | B9: =+'3.5 PERSONAL HG 1'!M14 -> 340680000
A10: TURNOS ADICIONALES DE ENFERMERIA | B10: =+'3.5 PERSONAL HG 1'!L26 -> 14910000
A11: INFRAESTRUCTURA | B11: =+' INFRAESTRUCTURA HG.'!T9 -> 1.4272e+08
A12: TOTAL OPERACION 180 DIAS | B12: =SUM(B3:B11) -> 1.1035089e+09
A14: VALOR ESTIMADO CONTRATO PARA LA ATENCIÓN INTEGRAL ADULTOS MAYORES 180 DIAS
A15: SUMINISTRO | B15: VALOR 180 DIAS INCLUIDO IVA
A16: SUMINISTRO DE REFRIGERIOS | B16: =+'1. REFRIGERIOS '!I7 -> 370800000
A17: CENTRO DE PROTECCIÓN EN LA MODALIDAD HOGAR GERIÁTRICO COMEDOR NUTRICIONAL PARA ADULTOS MAYORES. | B17: =+'Total Comedores N.'!C8 -> 1.5057412e+09
A18: CENTRO DE PROTECCIÓN EN LA MODALIDAD HOGAR GERIATRICO, PARA ADULTOS MAYORES | B18: =B12 -> 1.1035089e+09
A19: TOTAL ATENCIÓN INTEGRAL ADULTOS MAYORES 180 DIAS | B19: =SUM(B16:B18) -> 2.9800501e+09
D21: 2.9801637e+09
C22: =+D21-B19 -> 113520.56
