Workbook

Sheet Hoja2
A1: AÑO | B1: ENTIDAD | C1: NÚMERO PROCESO | D1: LIQUIDEZ | E1: ENDEUDAMIENTO | F1: COBERTURA INTERESES | G1: RENTABILIDAD PATRIMONIO | H1: RENTABILIDAD ACTIVO | I1: OBJETO
A2: 2023 | B2: Alcaldía de Tunja | C2: LP-AMT-016-2023 | D2: 1.68 | E2: 0.68 | F2: 5.27 | G2: 0.09 | H2: 0.05 | I2: Prestar servicios para la atención integral de los adultos mayores del municipio de Tunja, a través del suministro de complementos alimentarios en centros vida/día, operación de comedores nutricionales y funcionamiento del centro de protección integral en la modalidad hogar geriátrico
A3: 2024 | B3: Alcaldía de Tunja | C3: LP-AMT-004-2024 | D3: 2.1 | E3: 0.56 | F3: 4.32 | G3: 0.22 | H3: 0.1 | I3: Prestación de servicios para la ejecución de las actividades del programa de atención integral al adulto mayor en condición de vulnerabilidad, comprendiendo el suministro de alimentación preparada en sitio para comedores comunitarios y albergue de larga estancia en el municipio de Tunja.
A4: 2024 | B4: Municipio de Cajicá | C4: LP-004-2024 | D4: 1.9 | E4: 0.6 | F4: 3.57 | G4: 0.32 | H4: 0.12 | I4: Prestación de servicios para la operación y atención integral de las personas mayores beneficiarias del programa Centro Día y subsidio alimentario en los diferentes puntos de atención del municipio de Cajicá.
A5: 2024 | B5: Municipio de Sabaneta | C5: SAB-05-007-2024 | D5: 5 | E5: 0.39 | F5: 5 | G5: 0.1 | H5: 0.06 | I5: Prestación de servicios de apoyo a la gestión para el cuidado integral, atención psicosocial, nutricional y suministro de alimentación a la población adulta mayor en condición de fragilidad y vulnerabilidad socioeconómica
A6: 2024 | B6: Gobernación del Meta | C6: GCSJ-LP-010-2024 | D6: 2.65 | E6: 0.51 | F6: 4.23 | G6: 0.13 | H6: 0.06 | I6: Prestación de servicios para el fortalecimiento de la atención integral y asistencia social en centros de bienestar y protección del adulto mayor, incluyendo componentes de hospedaje, dotación y seguridad alimentaria
A7: 2024 | B7: Municipio de Yumbo | C7: LP-BS-003-2024 | D7: 3.5 | E7: 0.58 | F7: 6 | G7: 0.02 | H7: 0.02 | I7: Prestación de servicios de apoyo para la atención integral y entrega de raciones alimentarias preparadas a personas mayores en centros vida y hogares de paso del municipio de Yumbo
A8: 2024 | B8: Municipio de Villa del Rosario | C8: LP-001-2024 | D8: 2.54 | E8: 0.49 | F8: 2 | G8: 0.13 | H8: 0.1 | I8: Prestación de servicios para la ejecución de actividades del plan de atención a la población adulta mayor vulnerable mediante la modalidad centro vida, asistencia nutricional y desarrollo de actividades lúdico-recreativas
A9: 2024 | B9: Municipio de Soacha | C9: LP-012-2024 | D9: 2.2 | E9: 0.55 | F9: 4.5 | G9: 0.18 | H9: 0.08 | I9: Prestación de servicios para la atención integral, acompañamiento asistencial y suministro de alimentación caliente en sitio a adultos mayores vulnerables vinculados a comedores comunitarios y centros de estancia
A10: 2025 | B10: Alcaldía de Tunja | C10: LP-AMT-002-2025 | D10: 2.41 | E10: 0.58 | F10: 4.54 | G10: 0.23 | H10: 0.07 | I10: Prestación de servicios para la atención integral y protección social de los adultos mayores en condición de vulnerabilidad, mediante el suministro de complementos y raciones alimentarias preparadas en sitio para centros vida/día, comedores nutricionales comunitarios y albergue de larga estancia en el municipio de Tunja.
A11: 2025 | B11: Municipio Cajicá | C11: LP-012-2025 | D11: 3.19 | E11: 0.55 | F11: 4.72 | G11: 0.18 | H11: 0.14 | I11: PRESTACIÓN DE SERVICIOS PARA LA PREPARACIÓN Y ENTREGA DE RACIÓN SERVIDA EN CALIENTE Y SUPLEMENTO ALIMENTARIO A LAS PERSONAS MAYORES DEL PROGRAMA ADULTO MAYOR DEL MUNICIPIO DE CAJICÁ.
A12: 2025 | B12: Municipio Cajicá | C12: LP-002-2025 | D12: 1.90 | E12: 0.45 | F12: 4.25 | G12: 0.24 | H12: 0.25 | I12: PRESTACIÓN DE SERVICIOS PARA LA PREPARACIÓN Y ENTREGA DE RACIÓN SERVIDA EN CALIENTE Y SUPLEMENTO ALIMENTARIO A LAS PERSONAS MAYORES DEL PROGRAMA ADULTO MAYOR DEL MUNICIPIO DE CAJICÁ
A13: PROMEDIO (MEDIA) | D13: =AVERAGE(D2:D12) -> 2.717 | E13: =AVERAGE(E2:E12) -> 0.54 | F13: =AVERAGE(F2:F12) -> 4.4 | G13: =AVERAGE(G2:G12) -> 0.16727273 | H13: =AVERAGE(H2:H12) -> 0.095454545
A14: MEDIANA | D14: =MEDIAN(D2:D12) -> 2.475 | E14: =MEDIAN(E2:E12) -> 0.55 | F14: =MEDIAN(F2:F12) -> 4.5 | G14: =MEDIAN(G2:G12) -> 0.18 | H14: =MEDIAN(H2:H12) -> 0.08
A15: DESV. ESTÁNDAR | D15: =_xlfn.STDEV.S(D2:D12) -> 0.97580793 | E15: =_xlfn.STDEV.S(E2:E12) -> 0.078102497 | F15: =_xlfn.STDEV.S(F2:F12) -> 1.0156574 | G15: =_xlfn.STDEV.S(G2:G12) -> 0.084034625 | H15: =_xlfn.STDEV.S(H2:H12) -> 0.061378113
A16: VALOR EXIGIDO PLIEGO | D16: >= 2.25 | E16: <= 0.60 | F16: >= 4.20 | G16: >= 0.12 | H16: >= 0.05

Sheet Hoja3
A1: PROMEDIO (MEDIA) | B1: =AVERAGE(Hoja2!D2:D12) -> 2.717 | C1: =AVERAGE(Hoja2!E2:E12) -> 0.54 | D1: =AVERAGE(Hoja2!F2:F12) -> 4.4 | E1: =AVERAGE(Hoja2!G2:G12) -> 0.16727273 | F1: =AVERAGE(Hoja2!H2:H12) -> 0.095454545
A2: MEDIANA | B2: =MEDIAN(Hoja2!D2:D12) -> 2.475 | C2: =MEDIAN(Hoja2!E2:E12) -> 0.55 | D2: =MEDIAN(Hoja2!F2:F12) -> 4.5 | E2: =MEDIAN(Hoja2!G2:G12) -> 0.18 | F2: =MEDIAN(Hoja2!H2:H12) -> 0.08
A3: DESV. ESTÁNDAR | B3: =_xlfn.STDEV.S(Hoja2!D2:D12) -> 0.97580793 | C3: =_xlfn.STDEV.S(Hoja2!E2:E12) -> 0.078102497 | D3: =_xlfn.STDEV.S(Hoja2!F2:F12) -> 1.0156574 | E3: =_xlfn.STDEV.S(Hoja2!G2:G12) -> 0.084034625 | F3: =_xlfn.STDEV.S(Hoja2!H2:H12) -> 0.061378113
