Workbook
Name AMAZONAS: 'datos 2'!$AG$2:$AG$3
Name ANTIOQUIA: 'datos 2'!$E$2:$E$18
Name ARAUCA: 'datos 2'!$AC$2:$AC$3
Name ATLANTICO: 'datos 2'!$F$2:$F$6
Name BOLIVAR: 'datos 2'!$H$2:$H$6+'datos 2'!$I$2:$I$5+'datos 2'!$H$2:$H$6
Name BOYACA: 'datos 2'!$I$2:$I$6
Name CALDAS: 'datos 2'!$J$2:$J$7
Name CAQUETA: 'datos 2'!$K$2:$K$3
Name CASANARE: 'datos 2'!$AE$2:$AE$3
Name CAUCA: 'datos 2'!$L$2:$L$5
Name CESAR: 'datos 2'!$M$2:$M$5
Name CHOCO: 'datos 2'!$P$2:$P$3
Name CORDOBA: 'datos 2'!$N$2:$N$4
Name CUNDINAMARCA: 'datos 2'!$O$2:$O$8
Name DG: 'datos 2'!$D$2
Name DISTRITO: 'datos 2'!$G$2:$G$19
Name GUAINIA: 'datos 2'!$AH$2:$AH$3
Name GUAJIRA: 'datos 2'!$E$2:$E$18
Name GUAVIARE: 'datos 2'!$AI$2:$AI$3
Name HUILA: 'datos 2'!$Q$2:$Q$7
Name MAGDALENA: 'datos 2'!$S$2:$S$4
Name META: 'datos 2'!$T$2:$T$4
Name NARIÑO: 'datos 2'!$AF$3
Name QUINDIO: 'datos 2'!$AF$3
Name REG: 'GIL-F-014-ID-3514773'!$E$11
Name REG: 'GIL-F-014-ID-3514775'!$E$11
Name REG: 'GIL-F-014-ID-3514793'!$E$11
Name REG: 'GIL-F-014-ID-3514795'!$E$11
Name REG: 'GIL-F-014-ID-3514796'!$E$11
Name REG: 'GIL-F-014-ID-3514798'!$E$11
Name REG: 'GIL-F-014-ID-3514799'!$E$11
Name REG: 'GIL-F-014-ID-3514800'!$E$11
Name REG: 'GIL-F-014-ID-3514801'!$E$11
Name REG: 'GIL-F-014-ID-3514802'!$E$11
Name REG: 'GIL-F-014-ID-3514803'!$E$11
Name REG: 'GIL-F-014-ID-3514804'!$E$11
Name REG: 'GIL-F-014-ID-3514812'!$E$11
Name REG: 'GIL-F-014-ID-3514813'!$E$11
Name REG: 'GIL-F-014-ID-3514814'!$E$11
Name REG: 'GIL-F-014-ID-3514815'!$E$11
Name REG: 'GIL-F-014-ID-3514816'!$E$11
Name REG: 'GIL-F-014-ID-3514817'!$E$11
Name REG: 'GIL-F-014-ID-3514818'!$E$11
Name REG: 'GIL-F-014-ID-3514820'!$E$11
Name REG: 'GIL-F-014-ID-3514821'!$E$11
Name REG: 'GIL-F-014-ID-3575967'!$E$11
Name REG: 'GIL-F-014-ID-3514797'!$E$11
Name REGIONALES: 'datos 2'!$C$2:$C$35
Name RISARALDA: 'datos 2'!$AF$3
Name SANANDRES: 'datos 2'!$AF$2:$AF$3
Name SANTANDER: 'datos 2'!$Y$2:$Y$10
Name SUCRE: 'datos 2'!$Z$2
Name TOLIMA: 'datos 2'!$AA$2:$AA$5
Name VALLE: 'datos 2'!$AB$2:$AB$12
Name VAUPES: 'datos 2'!$AJ$2:$AJ$3
Name VICHADA: 'datos 2'!$AK$2:$AK$3

Sheet Instrucciones
K2: Versión: 07
K3: Código: Código: GIL-F-014
B4: PROCESO
B5: GESTIÓN DE INFRAESTRUCTURA Y LOGÍSTICA
B6: NOMBRE DEL FORMATO
B7: FORMATO SOLICITUD DE BIENES PARA USO DE CUENTADANTES
B8: CLASIFICACIÓN DE LA INFORMACIÓN
B9: Pública: | D9: Pública Clasificada: | H9: Pública Reservada:
B10: INSTRUCCIONES PARA EL DILIGENCIAMIENTO DEL FORMATO
B11: NO IMPRIMIR
B12: 1. Generalidades
B13: a) El Formato de solicitud de bienes para el uso de cuentadantes - GIL-F-014, tiene como objetivo ejercer un control por parte de los jefes de área y/o supervisores de contrato, a fin de que tengan pleno conocimiento de los bienes que son solicitados por los cuentadantes para el desarrollo de sus funciones o actividades y autoricen a través de este documento la entrega de los mismos por parte del almacén de cada centro de costo.
B14: b) El diligenciamiento del Formato de solicitud de bienes para el uso de cuentadantes - GIL-F-014, hace parte de las actividades para el Ingreso de Bienes, las cuales se encuentran descritas en la Guía para la Administración y Control de Bienes GIL-G-003.
B15: c)El formato es diligenciado por el/los cuentadantes que requieren los bienes para el cumplimiento de sus funciones y es firmado por el Director, Subdirector, Coordinador, jefe de área o supervisor de contrato que autoriza le entrega de los bienes al cuentadante.
B16: d) Se hace necesario diligenciar un Formato de solicitud de bienes para el uso de cuentadantes - GIL-F-014 por cada cuentadante o cuentadante múltiple que requiere los elementos para el desarrollo de sus funciones
B17: e) El almacenista de cada centro de costo una vez recibe el formato de solicitud de bienes para el uso de cuentadante GIL-F-014, procede a realizar la nota de salida de los elementos y entregarlos al cuentadante. La entrega de bienes se realiza de acuerdo con las existencias registradas en el Kardex de cada almacén.
B18: f) El Formato de solicitud de bienes para el uso de cuentadantes GIL-F-014, es un documento soporte para la nota de salida de bienes, la cual es archivada de acuerdo a las tablas de retención documental del área de almacén e inventarios en cada centro de costo.
B19: g) Este formato aplica para solicitud de bienes para cuentadantes unipersonales o cuentadantes múltiples.
B20: h) Para el caso de los cuentadantes múltiples se debe relacionar el nombre y los números de identificación de las personas que lo conforman.
B22: 2. Instrucciones para diligenciar las casillas
B24: NOMBRE DE LA CASILLA | C24: INSTRUCCIONES | H24: TENER EN CUENTA
B25: FECHA SOLICITUD | C25: Digite la fecha de la solicitud
B26: AREA | C26: Digite el nombre del área a la cual pertenecen los cuentadantes que requieren los bienes.
B27: CODIGO REGIONAL | C27: De la lista desplegable seleccione el código de la regional a la que pertenecen el cuentadante.
B28: NOMBRE REGIONAL | C28: Verifique que la regional corresponda con el código seleccionado.
B29: COD CENTRO DE COSTOS | C29: Digite el código del centro de costo al que pertenece el cuentadante que requiere los bienes.
B30: NOMBRE CENTRO DE COSTO | C30: Digite el nombre del centro de costo al que pertenece el cuentadante que requiere los bienes.
B31: NOMBRE DE JEFE DE OFICINA O COORDINADOR DE AREA: | C31: Digitel el nombre del Jefe de área o Coordinador que autoriza la entrega de los bienes al cuentadante
B32: TIPO DE CUENTADANTE | C32: De la lista desplegable seleccione el tipo de cuentadante al que se le asignaran los bienes solicitados. | H32: CUENTADANTE UNIPERSONAL: una sola persona a la que se asignaran los bienes. CUENTADANTE MÚLTIPLE: Grupo de personas a las que se les asignaran los bienes y responden de manera solidaria.
B33: NOMBRE DEL CUENTADANTE UNIPERSONAL O CUENTADANTE MÚLTIPLE | C33: Digitel el nombre del cuentadante al que le se asignaran lo bienes, para el caso del cuentadante múltiple digite el nombre asignado.
B34: N° DE IDENTIFICIACIÓN | C34: Digite el número de identificación del cuentadante al que se le asignaran los bienes, para el cuentadante múltiple si conoce el código asignado por el sistema de información digítelo; en caso contrario deje el espacio en blanco.
B35: NOMBRE | C35: Digitel el nombre de las personas que conforman el cuentadante múltiple.
B36: N° DE IDENTIFICIACIÓN | C36: Digitel el número de identificación de las personas que conforman el cuentadante múltiple | H36: Adicione todas las filas que requiera.
B37: DESTINO DE LOS BIENES SOLICITADOS | C37: De la lista desplegable seleccione el destino de los bienes solicitados. | H37: AREA ADMINISTRATIVA: cuando los bienes solicitados serán utilizados en áreas administrativas. FORMACIÓN: cuando los bienes solicitados serán utilizados para la formación.
B38: CÓDIGO DE GRUPO O FICHA DE CARACTERIZACIÓN | C38: Es campo solo se diligencia cuando la solicitud corresponde a materiales de formación, para lo cual se digitar el código del Grupo o ficha de caracterización.
B39: CÓDIGO SENA | C39: Si conoce el código del elemento solicitado por favor diligéncielo, en caso contrario deje el espacio en blanco
B40: UNIDA DE MEDIDA | C40: Digite la unidad de medida de los elementos solicitados, ejemplo: unidad, libras, kilos, litros.
B41: DESCRIPCION DEL BIEN | C41: Describa de manera clara el nombre del elemento que se esta solicitando y las características del mismo si es necesario. | H41: Adicione todas las filas que requiera.
B42: CANTIDAD SOLICITADA | C42: Digite la cantidad de bienes requerida | H42: La cantidad de bienes entregada puede ser inferior a la cantidad de bienes solicitados toda vez que la solicitud se atiende de acuerdo a las existencias físicas de bienes en cada almacén.
B43: CANTIDAD ENTREGADA | C43: Este espacio es diligenciado por el almacenista o persona del área de almacén que hace entrega de los bienes al cuentadante.
B44: OBSERVACIONES | C44: Digite las observaciones que se deben tener en cuenta, relacionadas con el elemento solicitado.
B45: NOMBRE: | C45: Digite el nombre de la persona que autoriza la entrega de elementos al cuentadante
B46: CARGO | C46: Este campo corresponde al cargo que ejerce el funcionario ejemplo, coordinador, jefe de área, instructor, entre otros.
B47: FIRMA: | C47: Firma de la persona que autoriza la entrega de elementos al cuentadante.
B48: Nota 1: No insertar comentarios en las casillas para dar instrucciones porque al imprimir el formato las instrucciones no se leen.
B49: Nota 2: Al hacer uso de este formato, coloque en el encabezado el código y versión que le corresponda.
B50: Nota 3: El cuerpo del formato se estructura según lo determine el proceso, conservando el encabezado de la hoja "Plantilla Excel". Si existen formatos con más de una hoja, se sigue el mismo lineamiento anterior.

Sheet GIL-F-014-ID-3575967
M2: Versión: 07
M3: Código: GIL-F-014
B4: PROCESO
B5: GESTIÓN DE INFRAESTRUCTURA Y LOGÍSTICA
B6: NOMBRE DEL FORMATO
B7: FORMATO SOLICITUD DE BIENES PARA USO DE CUENTADANTES
B8: CLASIFICACIÓN DE LA INFORMACIÓN
B9: Pública: | G9: Pública Clasificada: | L9: Pública Reservada:
B10: FECHA SOLICITUD | J10: AREA
B11: CODIGO REGIONAL | E11: 41 | J11: NOMBRE REGIONAL | L11: =VLOOKUP(REG,'datos 2'!A2:B35,2,FALSE) -> Huila
B12: COD CENTRO DE COSTOS | J12: NOMBRE CENTRO DE COSTO
B13: NOMBRE DE JEFE DE OFICINA O COORDINADOR DE AREA: | H13: SILVIA CRISTINA VASQUEZ CASTRO
B14: TIPO DE CUENTADANTE | H14: UNIPERSONAL
B15: NOMBRE DEL CUENTADANTE UNIPERSONAL O CUENTADANTE MÚLTIPLE | H15: CARLOS ANDRES TORRES | L15: N° DE IDENTIFICIACIÓN
B17: PARA EL CASO DE CUENTADANTE MÚLPLES EN EL SIGUIENTE CAMPO RELACIONE EL NOMBRE Y NUMERO DE IDENTIFICACIÓN DE LAS PERSONAS QUE LO CONFORMAN Adicione todas las celdas que se requieran.
B18: NOMBRE | J18: N° DE IDENTIFICIACIÓN
B19: NOMBRE | J19: N° DE IDENTIFICIACIÓN
B20: NOMBRE | J20: N° DE IDENTIFICIACIÓN
B22: DESTINO DE LOS BIENES SOLICITADOS | H22: Formación
B23: CÓDIGO DE GRUPO O FICHA DE CARACTERIZACIÓN | H23: ID 3575967
B25: ITEM | C25: CÓDIGO SENA | E25: DESCRIPCION DE BIEN | H25: UNIDA DE MEDIDA | I25: CANTIDAD SOLICITADA | J25: CANTIDAD ENTREGADA | K25: OBSERVACIONES
B26: 1 | E26: ALAMBRE DULCE NEGRO, PARA AMARRE DE HIERRO, CALIBRE 18, PRESENTACIÓN KILOGRAMO (PRODUCTO - ALAMBRE DULCE) | H26: UN | I26: 18 | J26: 18
B27: 2 | E27: GRIS, BULTO X 50 KG, TIPO PORTLAN. (PRODCUTO CEMENTO) | H27: UN | I27: 137 | J27: 137
B28: 3 | E28: PUNTILLA DE HIERRO 2 1/2"X LB, CON CABEZA, PARA CONSTRUCCIÓN | H28: UN | I28: 6 | J28: 6
B29: 4 | E29: TABLON DE MADERA, LARGO 3M, ANCHO 30CM Y ESPESOR 3CM, N/A, TABLÓN DE MADERA LARGO 3M, ANCHO 30CM Y ESPESOR 3CM CEPILLADO POR UNA CARA, PARA USO DE FORMALETA ESTRUCTURAS EN CONCRETO | H29: UN | I29: 10 | J29: 10
B30: 5 | E30: VARILLA CORRUGADA G60 W #2 (1/4 PULG) X 6M. CUMPLE CON NTC 2289 AÑO 2012 - DECRETO 1513 AÑO 2012 - RESOLUCION 1856 AÑO 2017. | H30: UN | I30: 86 | J30: 86
B31: 6 | E31: VARILLA CORRUGADA G60 W #3 (3/8 PULG) X 6M. CUMPLE CON NTC 2289 AÑO 2012 - DECRETO 1513 AÑO 2012 - RESOLUCION 1856 AÑO 2017. | H31: UN | I31: 146 | J31: 146
B32: 7 | E32: VARILLA CORRUGADA G60 W #4 (1/2 PULG) X 6M. CUMPLE CON NTC 2289 AÑO 2012 - DECRETO 1513 AÑO 2012 - RESOLUCION 1856 AÑO 2017. | H32: UN | I32: 4 | J32: 4
B33: 8 | E33: ARENA GRUESA (CUMPLIMIENTO NTC 174 AGREGADOS PARA CONCRETO MF= 2,3 - 3,1), LA UNIDAD DE MEDIDA ES METRO CUBICO (M3) PARA ESTE ELEMENTO | H33: M3 | I33: 18 | J33: 18
B34: 9 | E34: GRAVA TRITURADA 1/2" CON CUMPLIMIENTO DE LA NTC 174 " ESPECIFICACIONES DE LOS AGREGADOS PARA CONCRETOS" | H34: M3 | I34: 24 | J34: 24
C37: NOMBRE: | E37: SILVIA CRISTINA VÁSQUEZ CASTRO | J37: CARGO | L37: COORDINADORA ACADÉMICA DE PROGRAMAS ESPECIALES
C38: FIRMA:
C40: Nota: La cantidad de bienes entregada puede ser inferior a la cantidad de bienes solicitados toda vez que la solicitud se atiende de acuerdo a las existencias físicas de bienes en cada almacén.

Sheet GIL-F-014-ID-3514773
M2: Versión: 07
M3: Código: GIL-F-014
B4: PROCESO
B5: GESTIÓN DE INFRAESTRUCTURA Y LOGÍSTICA
B6: NOMBRE DEL FORMATO
B7: FORMATO SOLICITUD DE BIENES PARA USO DE CUENTADANTES
B8: CLASIFICACIÓN DE LA INFORMACIÓN
B9: Pública: | G9: Pública Clasificada: | L9: Pública Reservada:
B10: FECHA SOLICITUD | J10: AREA | K10: CAM
B11: CODIGO REGIONAL | E11: 41 | J11: NOMBRE REGIONAL | L11: =VLOOKUP(REG,'datos 2'!A2:B35,2,FALSE) -> Huila
B12: COD CENTRO DE COSTOS | J12: NOMBRE CENTRO DE COSTO
B13: NOMBRE DE JEFE DE OFICINA O COORDINADOR DE AREA: | H13: SILVIA CRISTINA VASQUEZ CASTRO
B14: TIPO DE CUENTADANTE | H14: UNIPERSONAL
B15: NOMBRE DEL CUENTADANTE UNIPERSONAL O CUENTADANTE MÚLTIPLE | H15: CARLOS ANDRES TORRES | L15: N° DE IDENTIFICIACIÓN
B17: PARA EL CASO DE CUENTADANTE MÚLPLES EN EL SIGUIENTE CAMPO RELACIONE EL NOMBRE Y NUMERO DE IDENTIFICACIÓN DE LAS PERSONAS QUE LO CONFORMAN Adicione todas las celdas que se requieran.
B18: NOMBRE | J18: N° DE IDENTIFICIACIÓN
B19: NOMBRE | J19: N° DE IDENTIFICIACIÓN
B20: NOMBRE | J20: N° DE IDENTIFICIACIÓN
B22: DESTINO DE LOS BIENES SOLICITADOS | H22: Formación
B23: CÓDIGO DE GRUPO O FICHA DE CARACTERIZACIÓN | H23: ID 3514773
B25: ITEM | C25: CÓDIGO SENA | E25: DESCRIPCION DE BIEN | H25: UNIDA DE MEDIDA | I25: CANTIDAD SOLICITADA | J25: CANTIDAD ENTREGADA | K25: OBSERVACIONES
B26: 1 | E26: ALAMBRE DULCE NEGRO, PARA AMARRE DE HIERRO, CALIBRE 18, PRESENTACIÓN KILOGRAMO (PRODUCTO - ALAMBRE DULCE) | H26: UN | I26: 18 | J26: 18
B27: 2 | E27: GRIS, BULTO X 50 KG, TIPO PORTLAN. (PRODCUTO CEMENTO) | H27: UN | I27: 127 | J27: 127
B28: 3 | E28: PUNTILLA DE HIERRO 2 1/2"X LB, CON CABEZA, PARA CONSTRUCCIÓN | H28: UN | I28: 6 | J28: 6
B29: 4 | E29: TABLON DE MADERA, LARGO 3M, ANCHO 30CM Y ESPESOR 3CM, N/A, TABLÓN DE MADERA LARGO 3M, ANCHO 30CM Y ESPESOR 3CM CEPILLADO POR UNA CARA, PARA USO DE FORMALETA ESTRUCTURAS EN CONCRETO | H29: UN | I29: 10 | J29: 10
B30: 5 | E30: VARILLA CORRUGADA G60 W #2 (1/4 PULG) X 6M. CUMPLE CON NTC 2289 AÑO 2012 - DECRETO 1513 AÑO 2012 - RESOLUCION 1856 AÑO 2017. | H30: UN | I30: 79 | J30: 79
B31: 6 | E31: VARILLA CORRUGADA G60 W #3 (3/8 PULG) X 6M. CUMPLE CON NTC 2289 AÑO 2012 - DECRETO 1513 AÑO 2012 - RESOLUCION 1856 AÑO 2017. | H31: UN | I31: 137 | J31: 137
B32: 7 | E32: VARILLA CORRUGADA G60 W #4 (1/2 PULG) X 6M. CUMPLE CON NTC 2289 AÑO 2012 - DECRETO 1513 AÑO 2012 - RESOLUCION 1856 AÑO 2017. | H32: UN | I32: 4 | J32: 4
B33: 8 | E33: ARENA GRUESA (CUMPLIMIENTO NTC 174 AGREGADOS PARA CONCRETO MF= 2,3 - 3,1), LA UNIDAD DE MEDIDA ES METRO CUBICO (M3) PARA ESTE ELEMENTO | H33: M3 | I33: 18 | J33: 18
B34: 9 | E34: GRAVA TRITURADA 1/2" CON CUMPLIMIENTO DE LA NTC 174 " ESPECIFICACIONES DE LOS AGREGADOS PARA CONCRETOS" | H34: M3 | I34: 24 | J34: 24
B35: 10 | E35: PIEDRA RAJÓN, METRO CUBICO, N/A, PIEDRA CON UN TAMAÑO PROMEDIO DE 12CM DE DIÁMETRO DE BUENA RESISTENCIA. SE UTILIZA PARA LA CONSTRUCCIÓN DE VÍAS Y CONSTRUCCIÓN DE PLACA HUELAS (CONCRETO CICLÓPEO). SU DESGASTE NO DEBE SER MAYOR AL 50% Y EL ÍNDICE DE PLASTICIDAD DEL MATERIAL FINO DEBE SER MENOR O IGUAL AL 6%, LA UNIDAD DE MEDIDA PARA ESTE ELEMENTO ES METRO CUBICO (M3) | H35: M3 | I35: 6 | J35: 6
C38: NOMBRE: | E38: SILVIA CRISTINA VÁSQUEZ CASTRO | J38: CARGO | L38: COORDINADORA ACADÉMICA DE PROGRAMAS ESPECIALES
C39: FIRMA:
C41: Nota: La cantidad de bienes entregada puede ser inferior a la cantidad de bienes solicitados toda vez que la solicitud se atiende de acuerdo a las existencias físicas de bienes en cada almacén.

Sheet GIL-F-014-ID-3514775
M2: Versión: 07
M3: Código: GIL-F-014
B4: PROCESO
B5: GESTIÓN DE INFRAESTRUCTURA Y LOGÍSTICA
B6: NOMBRE DEL FORMATO
B7: FORMATO SOLICITUD DE BIENES PARA USO DE CUENTADANTES
B8: CLASIFICACIÓN DE LA INFORMACIÓN
B9: Pública: | G9: Pública Clasificada: | L9: Pública Reservada:
B10: FECHA SOLICITUD | J10: AREA | K10: CAM
B11: CODIGO REGIONAL | E11: 41 | J11: NOMBRE REGIONAL | L11: =VLOOKUP(REG,'datos 2'!A2:B35,2,FALSE) -> Huila
B12: COD CENTRO DE COSTOS | J12: NOMBRE CENTRO DE COSTO
B13: NOMBRE DE JEFE DE OFICINA O COORDINADOR DE AREA: | H13: SILVIA CRISTINA VASQUEZ CASTRO
B14: TIPO DE CUENTADANTE | H14: UNIPERSONAL
B15: NOMBRE DEL CUENTADANTE UNIPERSONAL O CUENTADANTE MÚLTIPLE | H15: CARLOS ANDRES TORRES | L15: N° DE IDENTIFICIACIÓN
B17: PARA EL CASO DE CUENTADANTE MÚLPLES EN EL SIGUIENTE CAMPO RELACIONE EL NOMBRE Y NUMERO DE IDENTIFICACIÓN DE LAS PERSONAS QUE LO CONFORMAN Adicione todas las celdas que se requieran.
B18: NOMBRE | J18: N° DE IDENTIFICIACIÓN
B19: NOMBRE | J19: N° DE IDENTIFICIACIÓN
B20: NOMBRE | J20: N° DE IDENTIFICIACIÓN
B22: DESTINO DE LOS BIENES SOLICITADOS | H22: Formación
B23: CÓDIGO DE GRUPO O FICHA DE CARACTERIZACIÓN | H23: ID 3514775
B25: ITEM | C25: CÓDIGO SENA | E25: DESCRIPCION DE BIEN | H25: UNIDA DE MEDIDA | I25: CANTIDAD SOLICITADA | J25: CANTIDAD ENTREGADA | K25: OBSERVACIONES
B26: 1 | E26: ALAMBRE DULCE NEGRO, PARA AMARRE DE HIERRO, CALIBRE 18, PRESENTACIÓN KILOGRAMO (PRODUCTO - ALAMBRE DULCE) | H26: UN | I26: 18 | J26: 18
B27: 2 | E27: GRIS, BULTO X 50 KG, TIPO PORTLAN. (PRODCUTO CEMENTO) | H27: UN | I27: 127 | J27: 127
B28: 3 | E28: PUNTILLA DE HIERRO 2 1/2"X LB, CON CABEZA, PARA CONSTRUCCIÓN | H28: UN | I28: 6 | J28: 6
B29: 4 | E29: TABLON DE MADERA, LARGO 3M, ANCHO 30CM Y ESPESOR 3CM, N/A, TABLÓN DE MADERA LARGO 3M, ANCHO 30CM Y ESPESOR 3CM CEPILLADO POR UNA CARA, PARA USO DE FORMALETA ESTRUCTURAS EN CONCRETO | H29: UN | I29: 10 | J29: 10
B30: 5 | E30: VARILLA CORRUGADA G60 W #2 (1/4 PULG) X 6M. CUMPLE CON NTC 2289 AÑO 2012 - DECRETO 1513 AÑO 2012 - RESOLUCION 1856 AÑO 2017. | H30: UN | I30: 79 | J30: 79
B31: 6 | E31: VARILLA CORRUGADA G60 W #3 (3/8 PULG) X 6M. CUMPLE CON NTC 2289 AÑO 2012 - DECRETO 1513 AÑO 2012 - RESOLUCION 1856 AÑO 2017. | H31: UN | I31: 137 | J31: 137
B32: 7 | E32: VARILLA CORRUGADA G60 W #4 (1/2 PULG) X 6M. CUMPLE CON NTC 2289 AÑO 2012 - DECRETO 1513 AÑO 2012 - RESOLUCION 1856 AÑO 2017. | H32: UN | I32: 4 | J32: 4
B33: 8 | E33: ARENA GRUESA (CUMPLIMIENTO NTC 174 AGREGADOS PARA CONCRETO MF= 2,3 - 3,1), LA UNIDAD DE MEDIDA ES METRO CUBICO (M3) PARA ESTE ELEMENTO | H33: M3 | I33: 18 | J33: 18
B34: 9 | E34: GRAVA TRITURADA 1/2" CON CUMPLIMIENTO DE LA NTC 174 " ESPECIFICACIONES DE LOS AGREGADOS PARA CONCRETOS" | H34: M3 | I34: 24 | J34: 24
B35: 10 | E35: PIEDRA RAJÓN, METRO CUBICO, N/A, PIEDRA CON UN TAMAÑO PROMEDIO DE 12CM DE DIÁMETRO DE BUENA RESISTENCIA. SE UTILIZA PARA LA CONSTRUCCIÓN DE VÍAS Y CONSTRUCCIÓN DE PLACA HUELAS (CONCRETO CICLÓPEO). SU DESGASTE NO DEBE SER MAYOR AL 50% Y EL ÍNDICE DE PLASTICIDAD DEL MATERIAL FINO DEBE SER MENOR O IGUAL AL 6%, LA UNIDAD DE MEDIDA PARA ESTE ELEMENTO ES METRO CUBICO (M3) | H35: M3 | I35: 6 | J35: 6
C38: NOMBRE: | E38: SILVIA CRISTINA VÁSQUEZ CASTRO | J38: CARGO | L38: COORDINADORA ACADÉMICA DE PROGRAMAS ESPECIALES
C39: FIRMA:
C41: Nota: La cantidad de bienes entregada puede ser inferior a la cantidad de bienes solicitados toda vez que la solicitud se atiende de acuerdo a las existencias físicas de bienes en cada almacén.

Sheet GIL-F-014-ID-3514793
M2: Versión: 07
M3: Código: GIL-F-014
B4: PROCESO
B5: GESTIÓN DE INFRAESTRUCTURA Y LOGÍSTICA
B6: NOMBRE DEL FORMATO
B7: FORMATO SOLICITUD DE BIENES PARA USO DE CUENTADANTES
B8: CLASIFICACIÓN DE LA INFORMACIÓN
B9: Pública: | G9: Pública Clasificada: | L9: Pública Reservada:
B10: FECHA SOLICITUD | J10: AREA
B11: CODIGO REGIONAL | E11: 41 | J11: NOMBRE REGIONAL | L11: =VLOOKUP(REG,'datos 2'!A2:B35,2,FALSE) -> Huila
B12: COD CENTRO DE COSTOS | J12: NOMBRE CENTRO DE COSTO
B13: NOMBRE DE JEFE DE OFICINA O COORDINADOR DE AREA: | H13: SILVIA CRISTINA VASQUEZ CASTRO
B14: TIPO DE CUENTADANTE | H14: UNIPERSONAL
B15: NOMBRE DEL CUENTADANTE UNIPERSONAL O CUENTADANTE MÚLTIPLE | H15: NIXON GERMAN DIAZ MUÑOZ | L15: N° DE IDENTIFICIACIÓN | M15: 1082773486
B17: PARA EL CASO DE CUENTADANTE MÚLPLES EN EL SIGUIENTE CAMPO RELACIONE EL NOMBRE Y NUMERO DE IDENTIFICACIÓN DE LAS PERSONAS QUE LO CONFORMAN Adicione todas las celdas que se requieran.
B18: NOMBRE | J18: N° DE IDENTIFICIACIÓN
B19: NOMBRE | J19: N° DE IDENTIFICIACIÓN
B20: NOMBRE | J20: N° DE IDENTIFICIACIÓN
B22: DESTINO DE LOS BIENES SOLICITADOS | H22: Formación
B23: CÓDIGO DE GRUPO O FICHA DE CARACTERIZACIÓN | H23: ID 3514793
B25: ITEM | C25: CÓDIGO SENA | E25: DESCRIPCION DE BIEN | H25: UNIDA DE MEDIDA | I25: CANTIDAD SOLICITADA | J25: CANTIDAD ENTREGADA | K25: OBSERVACIONES
B26: 1 | E26: ALAMBRE DULCE NEGRO, PARA AMARRE DE HIERRO, CALIBRE 18, PRESENTACIÓN KILOGRAMO (PRODUCTO - ALAMBRE DULCE) | H26: UN | I26: 18 | J26: =+I26 -> 18
B27: 2 | E27: GRIS, BULTO X 50 KG, TIPO PORTLAN. (PRODCUTO CEMENTO) | F27: GRIS, BULTO X 50 KG, TIPO PORTLAN. (PRODCUTO CEMENTO) | G27: GRIS, BULTO X 50 KG, TIPO PORTLAN. (PRODCUTO CEMENTO) | H27: UN | I27: 137 | J27: =+I27 -> 137
B28: 3 | E28: PUNTILLA DE HIERRO 2 1/2"X LB, CON CABEZA, PARA CONSTRUCCIÓN | F28: PUNTILLA DE HIERRO 2 1/2"X LB, CON CABEZA, PARA CONSTRUCCIÓN | G28: PUNTILLA DE HIERRO 2 1/2"X LB, CON CABEZA, PARA CONSTRUCCIÓN | H28: UN | I28: 6 | J28: =+I28 -> 6
B29: 4 | E29: TABLON DE MADERA, LARGO 3M, ANCHO 30CM Y ESPESOR 3CM, N/A, TABLÓN DE MADERA LARGO 3M, ANCHO 30CM Y ESPESOR 3CM CEPILLADO POR UNA CARA, PARA USO DE FORMALETA ESTRUCTURAS EN CONCRETO | F29: TABLON DE MADERA, LARGO 3M, ANCHO 30CM Y ESPESOR 3CM, N/A, TABLÓN DE MADERA LARGO 3M, ANCHO 30CM Y ESPESOR 3CM CEPILLADO POR UNA CARA, PARA USO DE FORMALETA ESTRUCTURAS EN CONCRETO | G29: TABLON DE MADERA, LARGO 3M, ANCHO 30CM Y ESPESOR 3CM, N/A, TABLÓN DE MADERA LARGO 3M, ANCHO 30CM Y ESPESOR 3CM CEPILLADO POR UNA CARA, PARA USO DE FORMALETA ESTRUCTURAS EN CONCRETO | H29: UN | I29: 10 | J29: =+I29 -> 10
B30: 5 | E30: VARILLA CORRUGADA G60 W #2 (1/4 PULG) X 6M. CUMPLE CON NTC 2289 AÑO 2012 - DECRETO 1513 AÑO 2012 - RESOLUCION 1856 AÑO 2017. | F30: VARILLA CORRUGADA G60 W #2 (1/4 PULG) X 6M. CUMPLE CON NTC 2289 AÑO 2012 - DECRETO 1513 AÑO 2012 - RESOLUCION 1856 AÑO 2017. | G30: VARILLA CORRUGADA G60 W #2 (1/4 PULG) X 6M. CUMPLE CON NTC 2289 AÑO 2012 - DECRETO 1513 AÑO 2012 - RESOLUCION 1856 AÑO 2017. | H30: UN | I30: 86 | J30: =+I30 -> 86
B31: 6 | E31: VARILLA CORRUGADA G60 W #3 (3/8 PULG) X 6M. CUMPLE CON NTC 2289 AÑO 2012 - DECRETO 1513 AÑO 2012 - RESOLUCION 1856 AÑO 2017. | F31: VARILLA CORRUGADA G60 W #3 (3/8 PULG) X 6M. CUMPLE CON NTC 2289 AÑO 2012 - DECRETO 1513 AÑO 2012 - RESOLUCION 1856 AÑO 2017. | G31: VARILLA CORRUGADA G60 W #3 (3/8 PULG) X 6M. CUMPLE CON NTC 2289 AÑO 2012 - DECRETO 1513 AÑO 2012 - RESOLUCION 1856 AÑO 2017. | H31: UN | I31: 146 | J31: =+I31 -> 146
B32: 7 | E32: VARILLA CORRUGADA G60 W #4 (1/2 PULG) X 6M. CUMPLE CON NTC 2289 AÑO 2012 - DECRETO 1513 AÑO 2012 - RESOLUCION 1856 AÑO 2017. | F32: VARILLA CORRUGADA G60 W #4 (1/2 PULG) X 6M. CUMPLE CON NTC 2289 AÑO 2012 - DECRETO 1513 AÑO 2012 - RESOLUCION 1856 AÑO 2017. | G32: VARILLA CORRUGADA G60 W #4 (1/2 PULG) X 6M. CUMPLE CON NTC 2289 AÑO 2012 - DECRETO 1513 AÑO 2012 - RESOLUCION 1856 AÑO 2017. | H32: UN | I32: 4 | J32: =+I32 -> 4
B33: 8 | E33: ARENA GRUESA (CUMPLIMIENTO NTC 174 AGREGADOS PARA CONCRETO MF= 2,3 - 3,1), LA UNIDAD DE MEDIDA ES METRO CUBICO (M3) PARA ESTE ELEMENTO | F33: ARENA GRUESA (CUMPLIMIENTO NTC 174 AGREGADOS PARA CONCRETO MF= 2,3 - 3,1), LA UNIDAD DE MEDIDA ES METRO CUBICO (M3) PARA ESTE ELEMENTO | G33: ARENA GRUESA (CUMPLIMIENTO NTC 174 AGREGADOS PARA CONCRETO MF= 2,3 - 3,1), LA UNIDAD DE MEDIDA ES METRO CUBICO (M3) PARA ESTE ELEMENTO | H33: M3 | I33: 18 | J33: =+I33 -> 18
B34: 9 | E34: GRAVA TRITURADA 1/2" CON CUMPLIMIENTO DE LA NTC 174 " ESPECIFICACIONES DE LOS AGREGADOS PARA CONCRETOS" | F34: GRAVA TRITURADA 1/2" CON CUMPLIMIENTO DE LA NTC 174 " ESPECIFICACIONES DE LOS AGREGADOS PARA CONCRETOS" | G34: GRAVA TRITURADA 1/2" CON CUMPLIMIENTO DE LA NTC 174 " ESPECIFICACIONES DE LOS AGREGADOS PARA CONCRETOS" | H34: M3 | I34: 24 | J34: =+I34 -> 24
C37: NOMBRE: | E37: SILVIA CRISTINA VÁSQUEZ CASTRO | J37: CARGO | L37: COORDINADORA ACADÉMICA DE PROGRAMAS ESPECIALES
C38: FIRMA:
C40: Nota: La cantidad de bienes entregada puede ser inferior a la cantidad de bienes solicitados toda vez que la solicitud se atiende de acuerdo a las existencias físicas de bienes en cada almacén.

Sheet GIL-F-014-ID-3514795
M2: Versión: 07
M3: Código: GIL-F-014
B4: PROCESO
B5: GESTIÓN DE INFRAESTRUCTURA Y LOGÍSTICA
B6: NOMBRE DEL FORMATO
B7: FORMATO SOLICITUD DE BIENES PARA USO DE CUENTADANTES
B8: CLASIFICACIÓN DE LA INFORMACIÓN
B9: Pública: | G9: Pública Clasificada: | L9: Pública Reservada:
B10: FECHA SOLICITUD | J10: AREA
B11: CODIGO REGIONAL | E11: 41 | J11: NOMBRE REGIONAL | L11: =VLOOKUP(REG,'datos 2'!A2:B35,2,FALSE) -> Huila
B12: COD CENTRO DE COSTOS | J12: NOMBRE CENTRO DE COSTO
B13: NOMBRE DE JEFE DE OFICINA O COORDINADOR DE AREA: | H13: SILVIA CRISTINA VASQUEZ CASTRO
B14: TIPO DE CUENTADANTE | H14: UNIPERSONAL
B15: NOMBRE DEL CUENTADANTE UNIPERSONAL O CUENTADANTE MÚLTIPLE | H15: JOHN EDWIN MONTILLA BERNA | L15: N° DE IDENTIFICIACIÓN | M15: 1077858481
B17: PARA EL CASO DE CUENTADANTE MÚLPLES EN EL SIGUIENTE CAMPO RELACIONE EL NOMBRE Y NUMERO DE IDENTIFICACIÓN DE LAS PERSONAS QUE LO CONFORMAN Adicione todas las celdas que se requieran.
B18: NOMBRE | J18: N° DE IDENTIFICIACIÓN
B19: NOMBRE | J19: N° DE IDENTIFICIACIÓN
B20: NOMBRE | J20: N° DE IDENTIFICIACIÓN
B22: DESTINO DE LOS BIENES SOLICITADOS | H22: Formación
B23: CÓDIGO DE GRUPO O FICHA DE CARACTERIZACIÓN | H23: ID 3514795
B25: ITEM | C25: CÓDIGO SENA | E25: DESCRIPCION DE BIEN | H25: UNIDA DE MEDIDA | I25: CANTIDAD SOLICITADA | J25: CANTIDAD ENTREGADA | K25: OBSERVACIONES
B26: 1 | E26: ALAMBRE DULCE NEGRO, PARA AMARRE DE HIERRO, CALIBRE 18, PRESENTACIÓN KILOGRAMO (PRODUCTO - ALAMBRE DULCE) | H26: UN | I26: 18 | J26: 18
B27: 2 | E27: GRIS, BULTO X 50 KG, TIPO PORTLAN. (PRODCUTO CEMENTO) | H27: UN | I27: 127 | J27: 127
B28: 3 | E28: PUNTILLA DE HIERRO 2 1/2"X LB, CON CABEZA, PARA CONSTRUCCIÓN | H28: UN | I28: 6 | J28: 6
B29: 4 | E29: TABLON DE MADERA, LARGO 3M, ANCHO 30CM Y ESPESOR 3CM, N/A, TABLÓN DE MADERA LARGO 3M, ANCHO 30CM Y ESPESOR 3CM CEPILLADO POR UNA CARA, PARA USO DE FORMALETA ESTRUCTURAS EN CONCRETO | H29: UN | I29: 10 | J29: 10
B30: 5 | E30: VARILLA CORRUGADA G60 W #2 (1/4 PULG) X 6M. CUMPLE CON NTC 2289 AÑO 2012 - DECRETO 1513 AÑO 2012 - RESOLUCION 1856 AÑO 2017. | H30: UN | I30: 79 | J30: 79
B31: 6 | E31: VARILLA CORRUGADA G60 W #3 (3/8 PULG) X 6M. CUMPLE CON NTC 2289 AÑO 2012 - DECRETO 1513 AÑO 2012 - RESOLUCION 1856 AÑO 2017. | H31: UN | I31: 137 | J31: 137
B32: 7 | E32: VARILLA CORRUGADA G60 W #4 (1/2 PULG) X 6M. CUMPLE CON NTC 2289 AÑO 2012 - DECRETO 1513 AÑO 2012 - RESOLUCION 1856 AÑO 2017. | H32: UN | I32: 4 | J32: 4
B33: 8 | E33: ARENA GRUESA (CUMPLIMIENTO NTC 174 AGREGADOS PARA CONCRETO MF= 2,3 - 3,1), LA UNIDAD DE MEDIDA ES METRO CUBICO (M3) PARA ESTE ELEMENTO | H33: M3 | I33: 18 | J33: 18
B34: 9 | E34: GRAVA TRITURADA 1/2" CON CUMPLIMIENTO DE LA NTC 174 " ESPECIFICACIONES DE LOS AGREGADOS PARA CONCRETOS" | H34: M3 | I34: 24 | J34: 24
B35: 10 | E35: PIEDRA RAJÓN, METRO CUBICO, N/A, PIEDRA CON UN TAMAÑO PROMEDIO DE 12CM DE DIÁMETRO DE BUENA RESISTENCIA. SE UTILIZA PARA LA CONSTRUCCIÓN DE VÍAS Y CONSTRUCCIÓN DE PLACA HUELAS (CONCRETO CICLÓPEO). SU DESGASTE NO DEBE SER MAYOR AL 50% Y EL ÍNDICE DE PLASTICIDAD DEL MATERIAL FINO DEBE SER MENOR O IGUAL AL 6%, LA UNIDAD DE MEDIDA PARA ESTE ELEMENTO ES METRO CUBICO (M3) | H35: M3 | I35: 6 | J35: 6
C38: NOMBRE: | E38: SILVIA CRISTINA VÁSQUEZ CASTRO | J38: CARGO | L38: COORDINADORA ACADÉMICA DE PROGRAMAS ESPECIALES
C39: FIRMA:
C41: Nota: La cantidad de bienes entregada puede ser inferior a la cantidad de bienes solicitados toda vez que la solicitud se atiende de acuerdo a las existencias físicas de bienes en cada almacén.

Sheet GIL-F-014-ID-3514796
M2: Versión: 07
M3: Código: GIL-F-014
B4: PROCESO
B5: GESTIÓN DE INFRAESTRUCTURA Y LOGÍSTICA
B6: NOMBRE DEL FORMATO
B7: FORMATO SOLICITUD DE BIENES PARA USO DE CUENTADANTES
B8: CLASIFICACIÓN DE LA INFORMACIÓN
B9: Pública: | G9: Pública Clasificada: | L9: Pública Reservada:
B10: FECHA SOLICITUD | J10: AREA | K10: CAM
B11: CODIGO REGIONAL | E11: 41 | J11: NOMBRE REGIONAL | L11: =VLOOKUP(REG,'datos 2'!A2:B35,2,FALSE) -> Huila
B12: COD CENTRO DE COSTOS | J12: NOMBRE CENTRO DE COSTO
B13: NOMBRE DE JEFE DE OFICINA O COORDINADOR DE AREA: | H13: SILVIA CRISTINA VASQUEZ CASTRO
B14: TIPO DE CUENTADANTE | H14: UNIPERSONAL
B15: NOMBRE DEL CUENTADANTE UNIPERSONAL O CUENTADANTE MÚLTIPLE | H15: NIXON GERMAN DIAZ MUÑOZ | L15: N° DE IDENTIFICIACIÓN | M15: 1082773486
B17: PARA EL CASO DE CUENTADANTE MÚLPLES EN EL SIGUIENTE CAMPO RELACIONE EL NOMBRE Y NUMERO DE IDENTIFICACIÓN DE LAS PERSONAS QUE LO CONFORMAN Adicione todas las celdas que se requieran.
B18: NOMBRE | J18: N° DE IDENTIFICIACIÓN
B19: NOMBRE | J19: N° DE IDENTIFICIACIÓN
B20: NOMBRE | J20: N° DE IDENTIFICIACIÓN
B22: DESTINO DE LOS BIENES SOLICITADOS | H22: Formación
B23: CÓDIGO DE GRUPO O FICHA DE CARACTERIZACIÓN | H23: ID 3514796
B25: ITEM | C25: CÓDIGO SENA | E25: DESCRIPCION DE BIEN | H25: UNIDA DE MEDIDA | I25: CANTIDAD SOLICITADA | J25: CANTIDAD ENTREGADA | K25: OBSERVACIONES
B26: 1 | E26: ALAMBRE DULCE NEGRO, PARA AMARRE DE HIERRO, CALIBRE 18, PRESENTACIÓN KILOGRAMO (PRODUCTO - ALAMBRE DULCE) | H26: UN | I26: 18 | J26: 18
B27: 2 | E27: GRIS, BULTO X 50 KG, TIPO PORTLAN. (PRODCUTO CEMENTO) | H27: UN | I27: 162 | J27: 162
B28: 3 | E28: PUNTILLA DE HIERRO 2 1/2"X LB, CON CABEZA, PARA CONSTRUCCIÓN | H28: UN | I28: 6 | J28: 6
B29: 4 | E29: TABLON DE MADERA, LARGO 3M, ANCHO 30CM Y ESPESOR 3CM, N/A, TABLÓN DE MADERA LARGO 3M, ANCHO 30CM Y ESPESOR 3CM CEPILLADO POR UNA CARA, PARA USO DE FORMALETA ESTRUCTURAS EN CONCRETO | H29: UN | I29: 10 | J29: 10
B30: 5 | E30: VARILLA CORRUGADA G60 W #2 (1/4 PULG) X 6M. CUMPLE CON NTC 2289 AÑO 2012 - DECRETO 1513 AÑO 2012 - RESOLUCION 1856 AÑO 2017. | H30: UN | I30: 100 | J30: 100
B31: 6 | E31: VARILLA CORRUGADA G60 W #3 (3/8 PULG) X 6M. CUMPLE CON NTC 2289 AÑO 2012 - DECRETO 1513 AÑO 2012 - RESOLUCION 1856 AÑO 2017. | H31: UN | I31: 174 | J31: 174
B32: 7 | E32: VARILLA CORRUGADA G60 W #4 (1/2 PULG) X 6M. CUMPLE CON NTC 2289 AÑO 2012 - DECRETO 1513 AÑO 2012 - RESOLUCION 1856 AÑO 2017. | H32: UN | I32: 4 | J32: 4
B33: 8 | E33: GRAVA TRITURADA 1/2" CON CUMPLIMIENTO DE LA NTC 174 " ESPECIFICACIONES DE LOS AGREGADOS PARA CONCRETOS" | H33: M3 | I33: 24 | J33: 24
B34: 9 | E34: PIEDRA RAJÓN, METRO CUBICO, N/A, PIEDRA CON UN TAMAÑO PROMEDIO DE 12CM DE DIÁMETRO DE BUENA RESISTENCIA. SE UTILIZA PARA LA CONSTRUCCIÓN DE VÍAS Y CONSTRUCCIÓN DE PLACA HUELAS (CONCRETO CICLÓPEO). SU DESGASTE NO DEBE SER MAYOR AL 50% Y EL ÍNDICE DE PLASTICIDAD DEL MATERIAL FINO DEBE SER MENOR O IGUAL AL 6%, LA UNIDAD DE MEDIDA PARA ESTE ELEMENTO ES METRO CUBICO (M3) | H34: M3 | I34: 6 | J34: 6
C37: NOMBRE: | E37: SILVIA CRISTINA VÁSQUEZ CASTRO | J37: CARGO | L37: COORDINADORA ACADÉMICA DE PROGRAMAS ESPECIALES
C38: FIRMA:
C40: Nota: La cantidad de bienes entregada puede ser inferior a la cantidad de bienes solicitados toda vez que la solicitud se atiende de acuerdo a las existencias físicas de bienes en cada almacén.

Sheet GIL-F-014-ID-3514797
M2: Versión: 07
M3: Código: GIL-F-014
B4: PROCESO
B5: GESTIÓN DE INFRAESTRUCTURA Y LOGÍSTICA
B6: NOMBRE DEL FORMATO
B7: FORMATO SOLICITUD DE BIENES PARA USO DE CUENTADANTES
B8: CLASIFICACIÓN DE LA INFORMACIÓN
B9: Pública: | G9: Pública Clasificada: | L9: Pública Reservada:
B10: FECHA SOLICITUD | J10: AREA | K10: CAM
B11: CODIGO REGIONAL | E11: 41 | J11: NOMBRE REGIONAL | L11: =VLOOKUP(REG,'datos 2'!A2:B35,2,FALSE) -> Huila
B12: COD CENTRO DE COSTOS | J12: NOMBRE CENTRO DE COSTO
B13: NOMBRE DE JEFE DE OFICINA O COORDINADOR DE AREA: | H13: SILVIA CRISTINA VASQUEZ CASTRO
B14: TIPO DE CUENTADANTE | H14: UNIPERSONAL
B15: NOMBRE DEL CUENTADANTE UNIPERSONAL O CUENTADANTE MÚLTIPLE | H15: NIXON GERMAN DIAZ MUÑOZ | L15: N° DE IDENTIFICIACIÓN | M15: 1082773486
B17: PARA EL CASO DE CUENTADANTE MÚLPLES EN EL SIGUIENTE CAMPO RELACIONE EL NOMBRE Y NUMERO DE IDENTIFICACIÓN DE LAS PERSONAS QUE LO CONFORMAN Adicione todas las celdas que se requieran.
B18: NOMBRE | J18: N° DE IDENTIFICIACIÓN
B19: NOMBRE | J19: N° DE IDENTIFICIACIÓN
B20: NOMBRE | J20: N° DE IDENTIFICIACIÓN
B22: DESTINO DE LOS BIENES SOLICITADOS | H22: Formación
B23: CÓDIGO DE GRUPO O FICHA DE CARACTERIZACIÓN | H23: ID 3514797
B25: ITEM | C25: CÓDIGO SENA | E25: DESCRIPCION DE BIEN | H25: UNIDA DE MEDIDA | I25: CANTIDAD SOLICITADA | J25: CANTIDAD ENTREGADA | K25: OBSERVACIONES
B26: 1 | E26: ALAMBRE DULCE NEGRO, PARA AMARRE DE HIERRO, CALIBRE 18, PRESENTACIÓN KILOGRAMO (PRODUCTO - ALAMBRE DULCE) | H26: UN | I26: 18 | J26: 18
B27: 2 | E27: GRIS, BULTO X 50 KG, TIPO PORTLAN. (PRODCUTO CEMENTO) | H27: UN | I27: 175 | J27: 175
B28: 3 | E28: PUNTILLA DE HIERRO 2 1/2"X LB, CON CABEZA, PARA CONSTRUCCIÓN | H28: UN | I28: 6 | J28: 6
B29: 4 | E29: TABLON DE MADERA, LARGO 3M, ANCHO 30CM Y ESPESOR 3CM, N/A, TABLÓN DE MADERA LARGO 3M, ANCHO 30CM Y ESPESOR 3CM CEPILLADO POR UNA CARA, PARA USO DE FORMALETA ESTRUCTURAS EN CONCRETO | H29: UN | I29: 10 | J29: 10
B30: 5 | E30: VARILLA CORRUGADA G60 W #2 (1/4 PULG) X 6M. CUMPLE CON NTC 2289 AÑO 2012 - DECRETO 1513 AÑO 2012 - RESOLUCION 1856 AÑO 2017. | H30: UN | I30: 104 | J30: 104
B31: 6 | E31: VARILLA CORRUGADA G60 W #3 (3/8 PULG) X 6M. CUMPLE CON NTC 2289 AÑO 2012 - DECRETO 1513 AÑO 2012 - RESOLUCION 1856 AÑO 2017. | H31: UN | I31: 180 | J31: 180
B32: 7 | E32: VARILLA CORRUGADA G60 W #4 (1/2 PULG) X 6M. CUMPLE CON NTC 2289 AÑO 2012 - DECRETO 1513 AÑO 2012 - RESOLUCION 1856 AÑO 2017. | H32: UN | I32: 4 | J32: 4
B33: 8 | E33: GRAVA TRITURADA 1/2" CON CUMPLIMIENTO DE LA NTC 174 " ESPECIFICACIONES DE LOS AGREGADOS PARA CONCRETOS" | H33: M3 | I33: 24 | J33: 24
C36: NOMBRE: | E36: SILVIA CRISTINA VÁSQUEZ CASTRO | J36: CARGO | L36: COORDINADORA ACADÉMICA DE PROGRAMAS ESPECIALES
C37: FIRMA:
C39: Nota: La cantidad de bienes entregada puede ser inferior a la cantidad de bienes solicitados toda vez que la solicitud se atiende de acuerdo a las existencias físicas de bienes en cada almacén.

Sheet GIL-F-014-ID-3514812
M2: Versión: 07
M3: Código: GIL-F-014
B4: PROCESO
B5: GESTIÓN DE INFRAESTRUCTURA Y LOGÍSTICA
B6: NOMBRE DEL FORMATO
B7: FORMATO SOLICITUD DE BIENES PARA USO DE CUENTADANTES
B8: CLASIFICACIÓN DE LA INFORMACIÓN
B9: Pública: | G9: Pública Clasificada: | L9: Pública Reservada:
B10: FECHA SOLICITUD | J10: AREA
B11: CODIGO REGIONAL | E11: 41 | J11: NOMBRE REGIONAL | L11: =VLOOKUP(REG,'datos 2'!A2:B35,2,FALSE) -> Huila
B12: COD CENTRO DE COSTOS | J12: NOMBRE CENTRO DE COSTO
B13: NOMBRE DE JEFE DE OFICINA O COORDINADOR DE AREA: | H13: SILVIA CRISTINA VASQUEZ CASTRO
B14: TIPO DE CUENTADANTE | H14: UNIPERSONAL
B15: NOMBRE DEL CUENTADANTE UNIPERSONAL O CUENTADANTE MÚLTIPLE | H15: JOHN EDWIN MONTILLA BERNA | L15: N° DE IDENTIFICIACIÓN | M15: 1077858481
B17: PARA EL CASO DE CUENTADANTE MÚLPLES EN EL SIGUIENTE CAMPO RELACIONE EL NOMBRE Y NUMERO DE IDENTIFICACIÓN DE LAS PERSONAS QUE LO CONFORMAN Adicione todas las celdas que se requieran.
B18: NOMBRE | J18: N° DE IDENTIFICIACIÓN
B19: NOMBRE | J19: N° DE IDENTIFICIACIÓN
B20: NOMBRE | J20: N° DE IDENTIFICIACIÓN
B22: DESTINO DE LOS BIENES SOLICITADOS | H22: Formación
B23: CÓDIGO DE GRUPO O FICHA DE CARACTERIZACIÓN | H23: ID 3514812
B25: ITEM | C25: CÓDIGO SENA | E25: DESCRIPCION DE BIEN | H25: UNIDA DE MEDIDA | I25: CANTIDAD SOLICITADA | J25: CANTIDAD ENTREGADA | K25: OBSERVACIONES
B26: 1 | E26: ALAMBRE DULCE NEGRO, PARA AMARRE DE HIERRO, CALIBRE 18, PRESENTACIÓN KILOGRAMO (PRODUCTO - ALAMBRE DULCE) | H26: UN | I26: 18 | J26: 18
B27: 2 | E27: GRIS, BULTO X 50 KG, TIPO PORTLAN. (PRODCUTO CEMENTO) | H27: UN | I27: 137 | J27: 137
B28: 3 | E28: PUNTILLA DE HIERRO 2 1/2"X LB, CON CABEZA, PARA CONSTRUCCIÓN | H28: UN | I28: 6 | J28: 6
B29: 4 | E29: TABLON DE MADERA, LARGO 3M, ANCHO 30CM Y ESPESOR 3CM, N/A, TABLÓN DE MADERA LARGO 3M, ANCHO 30CM Y ESPESOR 3CM CEPILLADO POR UNA CARA, PARA USO DE FORMALETA ESTRUCTURAS EN CONCRETO | H29: UN | I29: 10 | J29: 10
B30: 5 | E30: VARILLA CORRUGADA G60 W #2 (1/4 PULG) X 6M. CUMPLE CON NTC 2289 AÑO 2012 - DECRETO 1513 AÑO 2012 - RESOLUCION 1856 AÑO 2017. | H30: UN | I30: 86 | J30: 86
B31: 6 | E31: VARILLA CORRUGADA G60 W #3 (3/8 PULG) X 6M. CUMPLE CON NTC 2289 AÑO 2012 - DECRETO 1513 AÑO 2012 - RESOLUCION 1856 AÑO 2017. | H31: UN | I31: 146 | J31: 146
B32: 7 | E32: VARILLA CORRUGADA G60 W #4 (1/2 PULG) X 6M. CUMPLE CON NTC 2289 AÑO 2012 - DECRETO 1513 AÑO 2012 - RESOLUCION 1856 AÑO 2017. | H32: UN | I32: 4 | J32: 4
B33: 8 | E33: ARENA GRUESA (CUMPLIMIENTO NTC 174 AGREGADOS PARA CONCRETO MF= 2,3 - 3,1), LA UNIDAD DE MEDIDA ES METRO CUBICO (M3) PARA ESTE ELEMENTO | H33: M3 | I33: 18 | J33: 18
B34: 9 | E34: GRAVA TRITURADA 1/2" CON CUMPLIMIENTO DE LA NTC 174 " ESPECIFICACIONES DE LOS AGREGADOS PARA CONCRETOS" | H34: M3 | I34: 24 | J34: 24
C37: NOMBRE: | E37: SILVIA CRISTINA VÁSQUEZ CASTRO | J37: CARGO | L37: COORDINADORA ACADÉMICA DE PROGRAMAS ESPECIALES
C38: FIRMA:
C40: Nota: La cantidad de bienes entregada puede ser inferior a la cantidad de bienes solicitados toda vez que la solicitud se atiende de acuerdo a las existencias físicas de bienes en cada almacén.

Sheet GIL-F-014-ID-3514813
M2: Versión: 07
M3: Código: GIL-F-014
B4: PROCESO
B5: GESTIÓN DE INFRAESTRUCTURA Y LOGÍSTICA
B6: NOMBRE DEL FORMATO
B7: FORMATO SOLICITUD DE BIENES PARA USO DE CUENTADANTES
B8: CLASIFICACIÓN DE LA INFORMACIÓN
B9: Pública: | G9: Pública Clasificada: | L9: Pública Reservada:
B10: FECHA SOLICITUD | J10: AREA
B11: CODIGO REGIONAL | E11: 41 | J11: NOMBRE REGIONAL | L11: =VLOOKUP(REG,'datos 2'!A2:B35,2,FALSE) -> Huila
B12: COD CENTRO DE COSTOS | J12: NOMBRE CENTRO DE COSTO
B13: NOMBRE DE JEFE DE OFICINA O COORDINADOR DE AREA: | H13: SILVIA CRISTINA VASQUEZ CASTRO
B14: TIPO DE CUENTADANTE | H14: UNIPERSONAL
B15: NOMBRE DEL CUENTADANTE UNIPERSONAL O CUENTADANTE MÚLTIPLE | H15: CARLOS ANDRES TORRES | L15: N° DE IDENTIFICIACIÓN
B17: PARA EL CASO DE CUENTADANTE MÚLPLES EN EL SIGUIENTE CAMPO RELACIONE EL NOMBRE Y NUMERO DE IDENTIFICACIÓN DE LAS PERSONAS QUE LO CONFORMAN Adicione todas las celdas que se requieran.
B18: NOMBRE | J18: N° DE IDENTIFICIACIÓN
B19: NOMBRE | J19: N° DE IDENTIFICIACIÓN
B20: NOMBRE | J20: N° DE IDENTIFICIACIÓN
B22: DESTINO DE LOS BIENES SOLICITADOS | H22: Formación
B23: CÓDIGO DE GRUPO O FICHA DE CARACTERIZACIÓN | H23: ID 3514813
B25: ITEM | C25: CÓDIGO SENA | E25: DESCRIPCION DE BIEN | H25: UNIDA DE MEDIDA | I25: CANTIDAD SOLICITADA | J25: CANTIDAD ENTREGADA | K25: OBSERVACIONES
B26: 1 | E26: ALAMBRE DULCE NEGRO, PARA AMARRE DE HIERRO, CALIBRE 18, PRESENTACIÓN KILOGRAMO (PRODUCTO - ALAMBRE DULCE) | H26: UN | I26: 18 | J26: 18
B27: 2 | E27: GRIS, BULTO X 50 KG, TIPO PORTLAN. (PRODCUTO CEMENTO) | H27: UN | I27: 127 | J27: 127
B28: 3 | E28: PUNTILLA DE HIERRO 2 1/2"X LB, CON CABEZA, PARA CONSTRUCCIÓN | H28: UN | I28: 6 | J28: 6
B29: 4 | E29: TABLON DE MADERA, LARGO 3M, ANCHO 30CM Y ESPESOR 3CM, N/A, TABLÓN DE MADERA LARGO 3M, ANCHO 30CM Y ESPESOR 3CM CEPILLADO POR UNA CARA, PARA USO DE FORMALETA ESTRUCTURAS EN CONCRETO | H29: UN | I29: 10 | J29: 10
B30: 5 | E30: VARILLA CORRUGADA G60 W #2 (1/4 PULG) X 6M. CUMPLE CON NTC 2289 AÑO 2012 - DECRETO 1513 AÑO 2012 - RESOLUCION 1856 AÑO 2017. | H30: UN | I30: 79 | J30: 79
B31: 6 | E31: VARILLA CORRUGADA G60 W #3 (3/8 PULG) X 6M. CUMPLE CON NTC 2289 AÑO 2012 - DECRETO 1513 AÑO 2012 - RESOLUCION 1856 AÑO 2017. | H31: UN | I31: 137 | J31: 137
B32: 7 | E32: VARILLA CORRUGADA G60 W #4 (1/2 PULG) X 6M. CUMPLE CON NTC 2289 AÑO 2012 - DECRETO 1513 AÑO 2012 - RESOLUCION 1856 AÑO 2017. | H32: UN | I32: 4 | J32: 4
B33: 8 | E33: ARENA GRUESA (CUMPLIMIENTO NTC 174 AGREGADOS PARA CONCRETO MF= 2,3 - 3,1), LA UNIDAD DE MEDIDA ES METRO CUBICO (M3) PARA ESTE ELEMENTO | H33: M3 | I33: 18 | J33: 18
B34: 9 | E34: GRAVA TRITURADA 1/2" CON CUMPLIMIENTO DE LA NTC 174 " ESPECIFICACIONES DE LOS AGREGADOS PARA CONCRETOS" | H34: M3 | I34: 24 | J34: 24
B35: 10 | E35: PIEDRA RAJÓN, METRO CUBICO, N/A, PIEDRA CON UN TAMAÑO PROMEDIO DE 12CM DE DIÁMETRO DE BUENA RESISTENCIA. SE UTILIZA PARA LA CONSTRUCCIÓN DE VÍAS Y CONSTRUCCIÓN DE PLACA HUELAS (CONCRETO CICLÓPEO). SU DESGASTE NO DEBE SER MAYOR AL 50% Y EL ÍNDICE DE PLASTICIDAD DEL MATERIAL FINO DEBE SER MENOR O IGUAL AL 6%, LA UNIDAD DE MEDIDA PARA ESTE ELEMENTO ES METRO CUBICO (M3) | H35: M3 | I35: 6 | J35: 6
C38: NOMBRE: | E38: SILVIA CRISTINA VÁSQUEZ CASTRO | J38: CARGO | L38: COORDINADORA ACADÉMICA DE PROGRAMAS ESPECIALES
C39: FIRMA:
C41: Nota: La cantidad de bienes entregada puede ser inferior a la cantidad de bienes solicitados toda vez que la solicitud se atiende de acuerdo a las existencias físicas de bienes en cada almacén.

Sheet GIL-F-014-ID-3514814
M2: Versión: 07
M3: Código: GIL-F-014
B4: PROCESO
B5: GESTIÓN DE INFRAESTRUCTURA Y LOGÍSTICA
B6: NOMBRE DEL FORMATO
B7: FORMATO SOLICITUD DE BIENES PARA USO DE CUENTADANTES
B8: CLASIFICACIÓN DE LA INFORMACIÓN
B9: Pública: | G9: Pública Clasificada: | L9: Pública Reservada:
B10: FECHA SOLICITUD | J10: AREA
B11: CODIGO REGIONAL | E11: 41 | J11: NOMBRE REGIONAL | L11: =VLOOKUP(REG,'datos 2'!A2:B35,2,FALSE) -> Huila
B12: COD CENTRO DE COSTOS | J12: NOMBRE CENTRO DE COSTO
B13: NOMBRE DE JEFE DE OFICINA O COORDINADOR DE AREA: | H13: SILVIA CRISTINA VASQUEZ CASTRO
B14: TIPO DE CUENTADANTE | H14: UNIPERSONAL
B15: NOMBRE DEL CUENTADANTE UNIPERSONAL O CUENTADANTE MÚLTIPLE | H15: NIXON GERMAN DIAZ MUÑOZ | L15: N° DE IDENTIFICIACIÓN | M15: 1082773486
B17: PARA EL CASO DE CUENTADANTE MÚLPLES EN EL SIGUIENTE CAMPO RELACIONE EL NOMBRE Y NUMERO DE IDENTIFICACIÓN DE LAS PERSONAS QUE LO CONFORMAN Adicione todas las celdas que se requieran.
B18: NOMBRE | J18: N° DE IDENTIFICIACIÓN
B19: NOMBRE | J19: N° DE IDENTIFICIACIÓN
B20: NOMBRE | J20: N° DE IDENTIFICIACIÓN
B22: DESTINO DE LOS BIENES SOLICITADOS | H22: Formación
B23: CÓDIGO DE GRUPO O FICHA DE CARACTERIZACIÓN | H23: ID 3514814
B25: ITEM | C25: CÓDIGO SENA | E25: DESCRIPCION DE BIEN | H25: UNIDA DE MEDIDA | I25: CANTIDAD SOLICITADA | J25: CANTIDAD ENTREGADA | K25: OBSERVACIONES
B26: 1 | E26: ALAMBRE DULCE NEGRO, PARA AMARRE DE HIERRO, CALIBRE 18, PRESENTACIÓN KILOGRAMO (PRODUCTO - ALAMBRE DULCE) | H26: UN | I26: 18 | J26: 18
B27: 2 | E27: GRIS, BULTO X 50 KG, TIPO PORTLAN. (PRODCUTO CEMENTO) | H27: UN | I27: 110 | J27: 110
B28: 3 | E28: PUNTILLA DE HIERRO 2 1/2"X LB, CON CABEZA, PARA CONSTRUCCIÓN | H28: UN | I28: 6 | J28: 6
B29: 4 | E29: TABLON DE MADERA, LARGO 3M, ANCHO 30CM Y ESPESOR 3CM, N/A, TABLÓN DE MADERA LARGO 3M, ANCHO 30CM Y ESPESOR 3CM CEPILLADO POR UNA CARA, PARA USO DE FORMALETA ESTRUCTURAS EN CONCRETO | H29: UN | I29: 10 | J29: 10
B30: 5 | E30: VARILLA CORRUGADA G60 W #2 (1/4 PULG) X 6M. CUMPLE CON NTC 2289 AÑO 2012 - DECRETO 1513 AÑO 2012 - RESOLUCION 1856 AÑO 2017. | H30: UN | I30: 80 | J30: 80
B31: 6 | E31: VARILLA CORRUGADA G60 W #3 (3/8 PULG) X 6M. CUMPLE CON NTC 2289 AÑO 2012 - DECRETO 1513 AÑO 2012 - RESOLUCION 1856 AÑO 2017. | H31: UN | I31: 110 | J31: 110
B32: 7 | E32: VARILLA CORRUGADA G60 W #4 (1/2 PULG) X 6M. CUMPLE CON NTC 2289 AÑO 2012 - DECRETO 1513 AÑO 2012 - RESOLUCION 1856 AÑO 2017. | H32: UN | I32: 4 | J32: 4
B33: 8 | E33: ARENA GRUESA (CUMPLIMIENTO NTC 174 AGREGADOS PARA CONCRETO MF= 2,3 - 3,1), LA UNIDAD DE MEDIDA ES METRO CUBICO (M3) PARA ESTE ELEMENTO | H33: M3 | I33: 18 | J33: 18
B34: 9 | E34: GRAVA TRITURADA 1/2" CON CUMPLIMIENTO DE LA NTC 174 " ESPECIFICACIONES DE LOS AGREGADOS PARA CONCRETOS" | H34: M3 | I34: 24 | J34: 24
B35: 10 | E35: PIEDRA RAJÓN, METRO CUBICO, N/A, PIEDRA CON UN TAMAÑO PROMEDIO DE 12CM DE DIÁMETRO DE BUENA RESISTENCIA. SE UTILIZA PARA LA CONSTRUCCIÓN DE VÍAS Y CONSTRUCCIÓN DE PLACA HUELAS (CONCRETO CICLÓPEO). SU DESGASTE NO DEBE SER MAYOR AL 50% Y EL ÍNDICE DE PLASTICIDAD DEL MATERIAL FINO DEBE SER MENOR O IGUAL AL 6%, LA UNIDAD DE MEDIDA PARA ESTE ELEMENTO ES METRO CUBICO (M3) | H35: M3 | I35: 6 | J35: 6
B36: 11 | E36: RECEBO TIPO INVIAS, MEZCLA DE MATERIALES GRANULARES GRUESOS Y FINOS (ARENA, ROCA TRITURADA) UTILIZADA PARA RELLENAR, NIVELAR Y ESTABILIZAR SUELOS. | H36: M3 | I36: 18 | J36: 18
C39: NOMBRE: | E39: SILVIA CRISTINA VÁSQUEZ CASTRO | J39: CARGO | L39: COORDINADORA ACADÉMICA DE PROGRAMAS ESPECIALES
C40: FIRMA:
C42: Nota: La cantidad de bienes entregada puede ser inferior a la cantidad de bienes solicitados toda vez que la solicitud se atiende de acuerdo a las existencias físicas de bienes en cada almacén.

Sheet GIL-F-014-ID-3514815
M2: Versión: 07
M3: Código: GIL-F-014
B4: PROCESO
B5: GESTIÓN DE INFRAESTRUCTURA Y LOGÍSTICA
B6: NOMBRE DEL FORMATO
B7: FORMATO SOLICITUD DE BIENES PARA USO DE CUENTADANTES
B8: CLASIFICACIÓN DE LA INFORMACIÓN
B9: Pública: | G9: Pública Clasificada: | L9: Pública Reservada:
B10: FECHA SOLICITUD | J10: AREA
B11: CODIGO REGIONAL | E11: 41 | J11: NOMBRE REGIONAL | L11: =VLOOKUP(REG,'datos 2'!A2:B35,2,FALSE) -> Huila
B12: COD CENTRO DE COSTOS | J12: NOMBRE CENTRO DE COSTO
B13: NOMBRE DE JEFE DE OFICINA O COORDINADOR DE AREA: | H13: SILVIA CRISTINA VASQUEZ CASTRO
B14: TIPO DE CUENTADANTE | H14: UNIPERSONAL
B15: NOMBRE DEL CUENTADANTE UNIPERSONAL O CUENTADANTE MÚLTIPLE | H15: CARLOS ANDRES TORRES | L15: N° DE IDENTIFICIACIÓN
B17: PARA EL CASO DE CUENTADANTE MÚLPLES EN EL SIGUIENTE CAMPO RELACIONE EL NOMBRE Y NUMERO DE IDENTIFICACIÓN DE LAS PERSONAS QUE LO CONFORMAN Adicione todas las celdas que se requieran.
B18: NOMBRE | J18: N° DE IDENTIFICIACIÓN
B19: NOMBRE | J19: N° DE IDENTIFICIACIÓN
B20: NOMBRE | J20: N° DE IDENTIFICIACIÓN
B22: DESTINO DE LOS BIENES SOLICITADOS | H22: Formación
B23: CÓDIGO DE GRUPO O FICHA DE CARACTERIZACIÓN | H23: ID 3514815
B25: ITEM | C25: CÓDIGO SENA | E25: DESCRIPCION DE BIEN | H25: UNIDA DE MEDIDA | I25: CANTIDAD SOLICITADA | J25: CANTIDAD ENTREGADA | K25: OBSERVACIONES
B26: 1 | E26: ALAMBRE DULCE NEGRO, PARA AMARRE DE HIERRO, CALIBRE 18, PRESENTACIÓN KILOGRAMO (PRODUCTO - ALAMBRE DULCE) | H26: UN | I26: 18 | J26: 18
B27: 2 | E27: GRIS, BULTO X 50 KG, TIPO PORTLAN. (PRODCUTO CEMENTO) | H27: UN | I27: 110 | J27: 110
B28: 3 | E28: PUNTILLA DE HIERRO 2 1/2"X LB, CON CABEZA, PARA CONSTRUCCIÓN | H28: UN | I28: 6 | J28: 6
B29: 4 | E29: TABLON DE MADERA, LARGO 3M, ANCHO 30CM Y ESPESOR 3CM, N/A, TABLÓN DE MADERA LARGO 3M, ANCHO 30CM Y ESPESOR 3CM CEPILLADO POR UNA CARA, PARA USO DE FORMALETA ESTRUCTURAS EN CONCRETO | H29: UN | I29: 10 | J29: 10
B30: 5 | E30: VARILLA CORRUGADA G60 W #2 (1/4 PULG) X 6M. CUMPLE CON NTC 2289 AÑO 2012 - DECRETO 1513 AÑO 2012 - RESOLUCION 1856 AÑO 2017. | H30: UN | I30: 80 | J30: 80
B31: 6 | E31: VARILLA CORRUGADA G60 W #3 (3/8 PULG) X 6M. CUMPLE CON NTC 2289 AÑO 2012 - DECRETO 1513 AÑO 2012 - RESOLUCION 1856 AÑO 2017. | H31: UN | I31: 110 | J31: 110
B32: 7 | E32: VARILLA CORRUGADA G60 W #4 (1/2 PULG) X 6M. CUMPLE CON NTC 2289 AÑO 2012 - DECRETO 1513 AÑO 2012 - RESOLUCION 1856 AÑO 2017. | H32: UN | I32: 4 | J32: 4
B33: 8 | E33: ARENA GRUESA (CUMPLIMIENTO NTC 174 AGREGADOS PARA CONCRETO MF= 2,3 - 3,1), LA UNIDAD DE MEDIDA ES METRO CUBICO (M3) PARA ESTE ELEMENTO | H33: M3 | I33: 18 | J33: 18
B34: 9 | E34: GRAVA TRITURADA 1/2" CON CUMPLIMIENTO DE LA NTC 174 " ESPECIFICACIONES DE LOS AGREGADOS PARA CONCRETOS" | H34: M3 | I34: 24 | J34: 24
B35: 10 | E35: PIEDRA RAJÓN, METRO CUBICO, N/A, PIEDRA CON UN TAMAÑO PROMEDIO DE 12CM DE DIÁMETRO DE BUENA RESISTENCIA. SE UTILIZA PARA LA CONSTRUCCIÓN DE VÍAS Y CONSTRUCCIÓN DE PLACA HUELAS (CONCRETO CICLÓPEO). SU DESGASTE NO DEBE SER MAYOR AL 50% Y EL ÍNDICE DE PLASTICIDAD DEL MATERIAL FINO DEBE SER MENOR O IGUAL AL 6%, LA UNIDAD DE MEDIDA PARA ESTE ELEMENTO ES METRO CUBICO (M3) | H35: M3 | I35: 6 | J35: 6
B36: 11 | E36: RECEBO TIPO INVIAS, MEZCLA DE MATERIALES GRANULARES GRUESOS Y FINOS (ARENA, ROCA TRITURADA) UTILIZADA PARA RELLENAR, NIVELAR Y ESTABILIZAR SUELOS. | H36: M3 | I36: 18 | J36: 18
C39: NOMBRE: | E39: SILVIA CRISTINA VÁSQUEZ CASTRO | J39: CARGO | L39: COORDINADORA ACADÉMICA DE PROGRAMAS ESPECIALES
C40: FIRMA:
C42: Nota: La cantidad de bienes entregada puede ser inferior a la cantidad de bienes solicitados toda vez que la solicitud se atiende de acuerdo a las existencias físicas de bienes en cada almacén.

Sheet GIL-F-014-ID-3514816
M2: Versión: 07
M3: Código: GIL-F-014
B4: PROCESO
B5: GESTIÓN DE INFRAESTRUCTURA Y LOGÍSTICA
B6: NOMBRE DEL FORMATO
B7: FORMATO SOLICITUD DE BIENES PARA USO DE CUENTADANTES
B8: CLASIFICACIÓN DE LA INFORMACIÓN
B9: Pública: | G9: Pública Clasificada: | L9: Pública Reservada:
B10: FECHA SOLICITUD | J10: AREA
B11: CODIGO REGIONAL | E11: 41 | J11: NOMBRE REGIONAL | L11: =VLOOKUP(REG,'datos 2'!A2:B35,2,FALSE) -> Huila
B12: COD CENTRO DE COSTOS | J12: NOMBRE CENTRO DE COSTO
B13: NOMBRE DE JEFE DE OFICINA O COORDINADOR DE AREA: | H13: SILVIA CRISTINA VASQUEZ CASTRO
B14: TIPO DE CUENTADANTE | H14: UNIPERSONAL
B15: NOMBRE DEL CUENTADANTE UNIPERSONAL O CUENTADANTE MÚLTIPLE | H15: NIXON GERMAN DIAZ | L15: N° DE IDENTIFICIACIÓN | M15: 1082773486
B17: PARA EL CASO DE CUENTADANTE MÚLPLES EN EL SIGUIENTE CAMPO RELACIONE EL NOMBRE Y NUMERO DE IDENTIFICACIÓN DE LAS PERSONAS QUE LO CONFORMAN Adicione todas las celdas que se requieran.
B18: NOMBRE | J18: N° DE IDENTIFICIACIÓN
B19: NOMBRE | J19: N° DE IDENTIFICIACIÓN
B20: NOMBRE | J20: N° DE IDENTIFICIACIÓN
B22: DESTINO DE LOS BIENES SOLICITADOS | H22: Formación
B23: CÓDIGO DE GRUPO O FICHA DE CARACTERIZACIÓN | H23: ID 3514816
B25: ITEM | C25: CÓDIGO SENA | E25: DESCRIPCION DE BIEN | H25: UNIDA DE MEDIDA | I25: CANTIDAD SOLICITADA | J25: CANTIDAD ENTREGADA | K25: OBSERVACIONES
B26: 1 | E26: ALAMBRE DULCE NEGRO, PARA AMARRE DE HIERRO, CALIBRE 18, PRESENTACIÓN KILOGRAMO (PRODUCTO - ALAMBRE DULCE) | H26: UN | I26: 18 | J26: 18
B27: 2 | E27: GRIS, BULTO X 50 KG, TIPO PORTLAN. (PRODCUTO CEMENTO) | H27: UN | I27: 162 | J27: 110
B28: 3 | E28: PUNTILLA DE HIERRO 2 1/2"X LB, CON CABEZA, PARA CONSTRUCCIÓN | H28: UN | I28: 6 | J28: 6
B29: 4 | E29: TABLON DE MADERA, LARGO 3M, ANCHO 30CM Y ESPESOR 3CM, N/A, TABLÓN DE MADERA LARGO 3M, ANCHO 30CM Y ESPESOR 3CM CEPILLADO POR UNA CARA, PARA USO DE FORMALETA ESTRUCTURAS EN CONCRETO | H29: UN | I29: 10 | J29: 10
B30: 5 | E30: VARILLA CORRUGADA G60 W #2 (1/4 PULG) X 6M. CUMPLE CON NTC 2289 AÑO 2012 - DECRETO 1513 AÑO 2012 - RESOLUCION 1856 AÑO 2017. | H30: UN | I30: 100 | J30: 80
B31: 6 | E31: VARILLA CORRUGADA G60 W #3 (3/8 PULG) X 6M. CUMPLE CON NTC 2289 AÑO 2012 - DECRETO 1513 AÑO 2012 - RESOLUCION 1856 AÑO 2017. | H31: UN | I31: 174 | J31: 110
B32: 7 | E32: VARILLA CORRUGADA G60 W #4 (1/2 PULG) X 6M. CUMPLE CON NTC 2289 AÑO 2012 - DECRETO 1513 AÑO 2012 - RESOLUCION 1856 AÑO 2017. | H32: UN | I32: 4 | J32: 4
B33: 8 | E33: GRAVA TRITURADA 1/2" CON CUMPLIMIENTO DE LA NTC 174 " ESPECIFICACIONES DE LOS AGREGADOS PARA CONCRETOS" | H33: M3 | I33: 24 | J33: 24
B34: 9 | E34: PIEDRA RAJÓN, METRO CUBICO, N/A, PIEDRA CON UN TAMAÑO PROMEDIO DE 12CM DE DIÁMETRO DE BUENA RESISTENCIA. SE UTILIZA PARA LA CONSTRUCCIÓN DE VÍAS Y CONSTRUCCIÓN DE PLACA HUELAS (CONCRETO CICLÓPEO). SU DESGASTE NO DEBE SER MAYOR AL 50% Y EL ÍNDICE DE PLASTICIDAD DEL MATERIAL FINO DEBE SER MENOR O IGUAL AL 6%, LA UNIDAD DE MEDIDA PARA ESTE ELEMENTO ES METRO CUBICO (M3) | H34: M3 | I34: 6 | J34: 6
C37: NOMBRE: | E37: SILVIA CRISTINA VÁSQUEZ CASTRO | J37: CARGO | L37: COORDINADORA ACADÉMICA DE PROGRAMAS ESPECIALES
C38: FIRMA:
C40: Nota: La cantidad de bienes entregada puede ser inferior a la cantidad de bienes solicitados toda vez que la solicitud se atiende de acuerdo a las existencias físicas de bienes en cada almacén.

Sheet GIL-F-014-ID-3514817
M2: Versión: 07
M3: Código: GIL-F-014
B4: PROCESO
B5: GESTIÓN DE INFRAESTRUCTURA Y LOGÍSTICA
B6: NOMBRE DEL FORMATO
B7: FORMATO SOLICITUD DE BIENES PARA USO DE CUENTADANTES
B8: CLASIFICACIÓN DE LA INFORMACIÓN
B9: Pública: | G9: Pública Clasificada: | L9: Pública Reservada:
B10: FECHA SOLICITUD | J10: AREA
B11: CODIGO REGIONAL | E11: 41 | J11: NOMBRE REGIONAL | L11: =VLOOKUP(REG,'datos 2'!A2:B35,2,FALSE) -> Huila
B12: COD CENTRO DE COSTOS | J12: NOMBRE CENTRO DE COSTO
B13: NOMBRE DE JEFE DE OFICINA O COORDINADOR DE AREA: | H13: SILVIA CRISTINA VASQUEZ CASTRO
B14: TIPO DE CUENTADANTE | H14: UNIPERSONAL
B15: NOMBRE DEL CUENTADANTE UNIPERSONAL O CUENTADANTE MÚLTIPLE | H15: JOHN EDWIN MONTILLA BERNA | L15: N° DE IDENTIFICIACIÓN | M15: 1077858481
B17: PARA EL CASO DE CUENTADANTE MÚLPLES EN EL SIGUIENTE CAMPO RELACIONE EL NOMBRE Y NUMERO DE IDENTIFICACIÓN DE LAS PERSONAS QUE LO CONFORMAN Adicione todas las celdas que se requieran.
B18: NOMBRE | J18: N° DE IDENTIFICIACIÓN
B19: NOMBRE | J19: N° DE IDENTIFICIACIÓN
B20: NOMBRE | J20: N° DE IDENTIFICIACIÓN
B22: DESTINO DE LOS BIENES SOLICITADOS | H22: Formación
B23: CÓDIGO DE GRUPO O FICHA DE CARACTERIZACIÓN | H23: ID 3514817
B25: ITEM | C25: CÓDIGO SENA | E25: DESCRIPCION DE BIEN | H25: UNIDA DE MEDIDA | I25: CANTIDAD SOLICITADA | J25: CANTIDAD ENTREGADA | K25: OBSERVACIONES
B26: 1 | E26: ALAMBRE DULCE NEGRO, PARA AMARRE DE HIERRO, CALIBRE 18, PRESENTACIÓN KILOGRAMO (PRODUCTO - ALAMBRE DULCE) | H26: UN | I26: 18 | J26: =+I26 -> 18
B27: 2 | E27: GRIS, BULTO X 50 KG, TIPO PORTLAN. (PRODCUTO CEMENTO) | H27: UN | I27: 162 | J27: =+I27 -> 162
B28: 3 | E28: PUNTILLA DE HIERRO 2 1/2"X LB, CON CABEZA, PARA CONSTRUCCIÓN | H28: UN | I28: 6 | J28: =+I28 -> 6
B29: 4 | E29: TABLON DE MADERA, LARGO 3M, ANCHO 30CM Y ESPESOR 3CM, N/A, TABLÓN DE MADERA LARGO 3M, ANCHO 30CM Y ESPESOR 3CM CEPILLADO POR UNA CARA, PARA USO DE FORMALETA ESTRUCTURAS EN CONCRETO | H29: UN | I29: 10 | J29: =+I29 -> 10
B30: 5 | E30: VARILLA CORRUGADA G60 W #2 (1/4 PULG) X 6M. CUMPLE CON NTC 2289 AÑO 2012 - DECRETO 1513 AÑO 2012 - RESOLUCION 1856 AÑO 2017. | H30: UN | I30: 100 | J30: =+I30 -> 100
B31: 6 | E31: VARILLA CORRUGADA G60 W #3 (3/8 PULG) X 6M. CUMPLE CON NTC 2289 AÑO 2012 - DECRETO 1513 AÑO 2012 - RESOLUCION 1856 AÑO 2017. | H31: UN | I31: 174 | J31: =+I31 -> 174
B32: 7 | E32: VARILLA CORRUGADA G60 W #4 (1/2 PULG) X 6M. CUMPLE CON NTC 2289 AÑO 2012 - DECRETO 1513 AÑO 2012 - RESOLUCION 1856 AÑO 2017. | H32: UN | I32: 4 | J32: =+I32 -> 4
B33: 8 | E33: ARENA GRUESA (CUMPLIMIENTO NTC 174 AGREGADOS PARA CONCRETO MF= 2,3 - 3,1), LA UNIDAD DE MEDIDA ES METRO CUBICO (M3) PARA ESTE ELEMENTO | H33: M3 | I33: 18 | J33: =+I33 -> 18
B34: 9 | E34: GRAVA TRITURADA 1/2" CON CUMPLIMIENTO DE LA NTC 174 " ESPECIFICACIONES DE LOS AGREGADOS PARA CONCRETOS" | H34: M3 | I34: 24 | J34: =+I34 -> 24
C37: NOMBRE: | E37: SILVIA CRISTINA VÁSQUEZ CASTRO | J37: CARGO | L37: COORDINADORA ACADÉMICA DE PROGRAMAS ESPECIALES
C38: FIRMA:
C40: Nota: La cantidad de bienes entregada puede ser inferior a la cantidad de bienes solicitados toda vez que la solicitud se atiende de acuerdo a las existencias físicas de bienes en cada almacén.

Sheet GIL-F-014-ID-3514818
M2: Versión: 07
M3: Código: GIL-F-014
B4: PROCESO
B5: GESTIÓN DE INFRAESTRUCTURA Y LOGÍSTICA
B6: NOMBRE DEL FORMATO
B7: FORMATO SOLICITUD DE BIENES PARA USO DE CUENTADANTES
B8: CLASIFICACIÓN DE LA INFORMACIÓN
B9: Pública: | G9: Pública Clasificada: | L9: Pública Reservada:
B10: FECHA SOLICITUD | J10: AREA
B11: CODIGO REGIONAL | E11: 41 | J11: NOMBRE REGIONAL | L11: =VLOOKUP(REG,'datos 2'!A2:B35,2,FALSE) -> Huila
B12: COD CENTRO DE COSTOS | J12: NOMBRE CENTRO DE COSTO
B13: NOMBRE DE JEFE DE OFICINA O COORDINADOR DE AREA: | H13: SILVIA CRISTINA VASQUEZ CASTRO
B14: TIPO DE CUENTADANTE | H14: UNIPERSONAL
B15: NOMBRE DEL CUENTADANTE UNIPERSONAL O CUENTADANTE MÚLTIPLE | H15: CARLOS ANDRES TORRES | L15: N° DE IDENTIFICIACIÓN
B17: PARA EL CASO DE CUENTADANTE MÚLPLES EN EL SIGUIENTE CAMPO RELACIONE EL NOMBRE Y NUMERO DE IDENTIFICACIÓN DE LAS PERSONAS QUE LO CONFORMAN Adicione todas las celdas que se requieran.
B18: NOMBRE | J18: N° DE IDENTIFICIACIÓN
B19: NOMBRE | J19: N° DE IDENTIFICIACIÓN
B20: NOMBRE | J20: N° DE IDENTIFICIACIÓN
B22: DESTINO DE LOS BIENES SOLICITADOS | H22: Formación
B23: CÓDIGO DE GRUPO O FICHA DE CARACTERIZACIÓN | H23: ID 3514818
B25: ITEM | C25: CÓDIGO SENA | E25: DESCRIPCION DE BIEN | H25: UNIDA DE MEDIDA | I25: CANTIDAD SOLICITADA | J25: CANTIDAD ENTREGADA | K25: OBSERVACIONES
B26: 1 | E26: ALAMBRE DULCE NEGRO, PARA AMARRE DE HIERRO, CALIBRE 18, PRESENTACIÓN KILOGRAMO (PRODUCTO - ALAMBRE DULCE) | H26: UN | I26: 18 | J26: =+I26 -> 18
B27: 2 | E27: GRIS, BULTO X 50 KG, TIPO PORTLAN. (PRODCUTO CEMENTO) | H27: UN | I27: 137 | J27: =+I27 -> 137
B28: 3 | E28: PUNTILLA DE HIERRO 2 1/2"X LB, CON CABEZA, PARA CONSTRUCCIÓN | H28: UN | I28: 6 | J28: =+I28 -> 6
B29: 4 | E29: TABLON DE MADERA, LARGO 3M, ANCHO 30CM Y ESPESOR 3CM, N/A, TABLÓN DE MADERA LARGO 3M, ANCHO 30CM Y ESPESOR 3CM CEPILLADO POR UNA CARA, PARA USO DE FORMALETA ESTRUCTURAS EN CONCRETO | H29: UN | I29: 10 | J29: =+I29 -> 10
B30: 5 | E30: VARILLA CORRUGADA G60 W #2 (1/4 PULG) X 6M. CUMPLE CON NTC 2289 AÑO 2012 - DECRETO 1513 AÑO 2012 - RESOLUCION 1856 AÑO 2017. | H30: UN | I30: 86 | J30: =+I30 -> 86
B31: 6 | E31: VARILLA CORRUGADA G60 W #3 (3/8 PULG) X 6M. CUMPLE CON NTC 2289 AÑO 2012 - DECRETO 1513 AÑO 2012 - RESOLUCION 1856 AÑO 2017. | H31: UN | I31: 146 | J31: =+I31 -> 146
B32: 7 | E32: VARILLA CORRUGADA G60 W #4 (1/2 PULG) X 6M. CUMPLE CON NTC 2289 AÑO 2012 - DECRETO 1513 AÑO 2012 - RESOLUCION 1856 AÑO 2017. | H32: UN | I32: 4 | J32: =+I32 -> 4
B33: 8 | E33: ARENA GRUESA (CUMPLIMIENTO NTC 174 AGREGADOS PARA CONCRETO MF= 2,3 - 3,1), LA UNIDAD DE MEDIDA ES METRO CUBICO (M3) PARA ESTE ELEMENTO | H33: M3 | I33: 18 | J33: =+I33 -> 18
B34: 9 | E34: GRAVA TRITURADA 1/2" CON CUMPLIMIENTO DE LA NTC 174 " ESPECIFICACIONES DE LOS AGREGADOS PARA CONCRETOS" | H34: M3 | I34: 24 | J34: =+I34 -> 24
C37: NOMBRE: | E37: SILVIA CRISTINA VÁSQUEZ CASTRO | J37: CARGO | L37: COORDINADORA ACADÉMICA DE PROGRAMAS ESPECIALES
C38: FIRMA:
C40: Nota: La cantidad de bienes entregada puede ser inferior a la cantidad de bienes solicitados toda vez que la solicitud se atiende de acuerdo a las existencias físicas de bienes en cada almacén.

Sheet GIL-F-014-ID-3514798
M2: Versión: 07
M3: Código: GIL-F-014
B4: PROCESO
B5: GESTIÓN DE INFRAESTRUCTURA Y LOGÍSTICA
B6: NOMBRE DEL FORMATO
B7: FORMATO SOLICITUD DE BIENES PARA USO DE CUENTADANTES
B8: CLASIFICACIÓN DE LA INFORMACIÓN
B9: Pública: | G9: Pública Clasificada: | L9: Pública Reservada:
B10: FECHA SOLICITUD | J10: AREA
B11: CODIGO REGIONAL | E11: 41 | J11: NOMBRE REGIONAL | L11: =VLOOKUP(REG,'datos 2'!A2:B35,2,FALSE) -> Huila
B12: COD CENTRO DE COSTOS | J12: NOMBRE CENTRO DE COSTO
B13: NOMBRE DE JEFE DE OFICINA O COORDINADOR DE AREA: | H13: SILVIA CRISTINA VASQUEZ CASTRO
B14: TIPO DE CUENTADANTE | H14: UNIPERSONAL
B15: NOMBRE DEL CUENTADANTE UNIPERSONAL O CUENTADANTE MÚLTIPLE | H15: NIXON GERMAN DIAZ | L15: N° DE IDENTIFICIACIÓN | M15: 1082773486
B17: PARA EL CASO DE CUENTADANTE MÚLPLES EN EL SIGUIENTE CAMPO RELACIONE EL NOMBRE Y NUMERO DE IDENTIFICACIÓN DE LAS PERSONAS QUE LO CONFORMAN Adicione todas las celdas que se requieran.
B18: NOMBRE | J18: N° DE IDENTIFICIACIÓN
B19: NOMBRE | J19: N° DE IDENTIFICIACIÓN
B20: NOMBRE | J20: N° DE IDENTIFICIACIÓN
B22: DESTINO DE LOS BIENES SOLICITADOS | H22: Formación
B23: CÓDIGO DE GRUPO O FICHA DE CARACTERIZACIÓN | H23: ID 3514798
B25: ITEM | C25: CÓDIGO SENA | E25: DESCRIPCION DE BIEN | H25: UNIDA DE MEDIDA | I25: CANTIDAD SOLICITADA | J25: CANTIDAD ENTREGADA | K25: OBSERVACIONES
B26: 1 | E26: ALAMBRE DULCE NEGRO, PARA AMARRE DE HIERRO, CALIBRE 18, PRESENTACIÓN KILOGRAMO (PRODUCTO - ALAMBRE DULCE) | H26: UN | I26: 18 | J26: =+I26 -> 18
B27: 2 | E27: GRIS, BULTO X 50 KG, TIPO PORTLAN. (PRODCUTO CEMENTO) | H27: UN | I27: 127 | J27: =+I27 -> 127
B28: 3 | E28: PUNTILLA DE HIERRO 2 1/2"X LB, CON CABEZA, PARA CONSTRUCCIÓN | H28: UN | I28: 6 | J28: =+I28 -> 6
B29: 4 | E29: TABLON DE MADERA, LARGO 3M, ANCHO 30CM Y ESPESOR 3CM, N/A, TABLÓN DE MADERA LARGO 3M, ANCHO 30CM Y ESPESOR 3CM CEPILLADO POR UNA CARA, PARA USO DE FORMALETA ESTRUCTURAS EN CONCRETO | H29: UN | I29: 10 | J29: =+I29 -> 10
B30: 5 | E30: VARILLA CORRUGADA G60 W #2 (1/4 PULG) X 6M. CUMPLE CON NTC 2289 AÑO 2012 - DECRETO 1513 AÑO 2012 - RESOLUCION 1856 AÑO 2017. | H30: UN | I30: 79 | J30: =+I30 -> 79
B31: 6 | E31: VARILLA CORRUGADA G60 W #3 (3/8 PULG) X 6M. CUMPLE CON NTC 2289 AÑO 2012 - DECRETO 1513 AÑO 2012 - RESOLUCION 1856 AÑO 2017. | H31: UN | I31: 137 | J31: =+I31 -> 137
B32: 7 | E32: VARILLA CORRUGADA G60 W #4 (1/2 PULG) X 6M. CUMPLE CON NTC 2289 AÑO 2012 - DECRETO 1513 AÑO 2012 - RESOLUCION 1856 AÑO 2017. | H32: UN | I32: 4 | J32: =+I32 -> 4
B33: 8 | E33: ARENA GRUESA (CUMPLIMIENTO NTC 174 AGREGADOS PARA CONCRETO MF= 2,3 - 3,1), LA UNIDAD DE MEDIDA ES METRO CUBICO (M3) PARA ESTE ELEMENTO | H33: M3 | I33: 18 | J33: =+I33 -> 18
B34: 9 | E34: GRAVA TRITURADA 1/2" CON CUMPLIMIENTO DE LA NTC 174 " ESPECIFICACIONES DE LOS AGREGADOS PARA CONCRETOS" | H34: M3 | I34: 24 | J34: =+I34 -> 24
E35: PIEDRA RAJÓN, METRO CUBICO, N/A, PIEDRA CON UN TAMAÑO PROMEDIO DE 12CM DE DIÁMETRO DE BUENA RESISTENCIA. SE UTILIZA PARA LA CONSTRUCCIÓN DE VÍAS Y CONSTRUCCIÓN DE PLACA HUELAS (CONCRETO CICLÓPEO). SU DESGASTE NO DEBE SER MAYOR AL 50% Y EL ÍNDICE DE PLASTICIDAD DEL MATERIAL FINO DEBE SER MENOR O IGUAL AL 6%, LA UNIDAD DE MEDIDA PARA ESTE ELEMENTO ES METRO CUBICO (M3) | H35: M3 | I35: 6 | J35: =+I35 -> 6
C37: NOMBRE: | E37: SILVIA CRISTINA VÁSQUEZ CASTRO | J37: CARGO | L37: COORDINADORA ACADÉMICA DE PROGRAMAS ESPECIALES
C38: FIRMA:
C40: Nota: La cantidad de bienes entregada puede ser inferior a la cantidad de bienes solicitados toda vez que la solicitud se atiende de acuerdo a las existencias físicas de bienes en cada almacén.

Sheet GIL-F-014-ID-3514799
M2: Versión: 07
M3: Código: GIL-F-014
B4: PROCESO
B5: GESTIÓN DE INFRAESTRUCTURA Y LOGÍSTICA
B6: NOMBRE DEL FORMATO
B7: FORMATO SOLICITUD DE BIENES PARA USO DE CUENTADANTES
B8: CLASIFICACIÓN DE LA INFORMACIÓN
B9: Pública: | G9: Pública Clasificada: | L9: Pública Reservada:
B10: FECHA SOLICITUD | J10: AREA
B11: CODIGO REGIONAL | E11: 41 | J11: NOMBRE REGIONAL | L11: =VLOOKUP(REG,'datos 2'!A2:B35,2,FALSE) -> Huila
B12: COD CENTRO DE COSTOS | J12: NOMBRE CENTRO DE COSTO
B13: NOMBRE DE JEFE DE OFICINA O COORDINADOR DE AREA: | H13: SILVIA CRISTINA VASQUEZ CASTRO
B14: TIPO DE CUENTADANTE | H14: UNIPERSONAL
B15: NOMBRE DEL CUENTADANTE UNIPERSONAL O CUENTADANTE MÚLTIPLE | H15: JOHN EDWIN MONTILLA BERNA | L15: N° DE IDENTIFICIACIÓN | M15: 1077858481
B17: PARA EL CASO DE CUENTADANTE MÚLPLES EN EL SIGUIENTE CAMPO RELACIONE EL NOMBRE Y NUMERO DE IDENTIFICACIÓN DE LAS PERSONAS QUE LO CONFORMAN Adicione todas las celdas que se requieran.
B18: NOMBRE | J18: N° DE IDENTIFICIACIÓN
B19: NOMBRE | J19: N° DE IDENTIFICIACIÓN
B20: NOMBRE | J20: N° DE IDENTIFICIACIÓN
B22: DESTINO DE LOS BIENES SOLICITADOS | H22: Formación
B23: CÓDIGO DE GRUPO O FICHA DE CARACTERIZACIÓN | H23: ID 3514799
B25: ITEM | C25: CÓDIGO SENA | E25: DESCRIPCION DE BIEN | H25: UNIDA DE MEDIDA | I25: CANTIDAD SOLICITADA | J25: CANTIDAD ENTREGADA | K25: OBSERVACIONES
B26: 1 | E26: ALAMBRE DULCE NEGRO, PARA AMARRE DE HIERRO, CALIBRE 18, PRESENTACIÓN KILOGRAMO (PRODUCTO - ALAMBRE DULCE) | H26: UN | I26: 18 | J26: =+I26 -> 18
B27: 2 | E27: GRIS, BULTO X 50 KG, TIPO PORTLAN. (PRODCUTO CEMENTO) | H27: UN | I27: 136 | J27: =+I27 -> 136
B28: 3 | E28: PUNTILLA DE HIERRO 2 1/2"X LB, CON CABEZA, PARA CONSTRUCCIÓN | H28: UN | I28: 6 | J28: =+I28 -> 6
B29: 4 | E29: TABLON DE MADERA, LARGO 3M, ANCHO 30CM Y ESPESOR 3CM, N/A, TABLÓN DE MADERA LARGO 3M, ANCHO 30CM Y ESPESOR 3CM CEPILLADO POR UNA CARA, PARA USO DE FORMALETA ESTRUCTURAS EN CONCRETO | H29: UN | I29: 10 | J29: =+I29 -> 10
B30: 5 | E30: VARILLA CORRUGADA G60 W #2 (1/4 PULG) X 6M. CUMPLE CON NTC 2289 AÑO 2012 - DECRETO 1513 AÑO 2012 - RESOLUCION 1856 AÑO 2017. | H30: UN | I30: 80 | J30: =+I30 -> 80
B31: 6 | E31: VARILLA CORRUGADA G60 W #3 (3/8 PULG) X 6M. CUMPLE CON NTC 2289 AÑO 2012 - DECRETO 1513 AÑO 2012 - RESOLUCION 1856 AÑO 2017. | H31: UN | I31: 120 | J31: =+I31 -> 120
B32: 7 | E32: VARILLA CORRUGADA G60 W #4 (1/2 PULG) X 6M. CUMPLE CON NTC 2289 AÑO 2012 - DECRETO 1513 AÑO 2012 - RESOLUCION 1856 AÑO 2017. | H32: UN | I32: 4 | J32: =+I32 -> 4
B33: 8 | E33: ARENA GRUESA (CUMPLIMIENTO NTC 174 AGREGADOS PARA CONCRETO MF= 2,3 - 3,1), LA UNIDAD DE MEDIDA ES METRO CUBICO (M3) PARA ESTE ELEMENTO | H33: M3 | I33: 18 | J33: =+I33 -> 18
B34: 9 | E34: GRAVA TRITURADA 1/2" CON CUMPLIMIENTO DE LA NTC 174 " ESPECIFICACIONES DE LOS AGREGADOS PARA CONCRETOS" | H34: M3 | I34: 24 | J34: =+I34 -> 24
E35: PIEDRA RAJÓN, METRO CUBICO, N/A, PIEDRA CON UN TAMAÑO PROMEDIO DE 12CM DE DIÁMETRO DE BUENA RESISTENCIA. SE UTILIZA PARA LA CONSTRUCCIÓN DE VÍAS Y CONSTRUCCIÓN DE PLACA HUELAS (CONCRETO CICLÓPEO). SU DESGASTE NO DEBE SER MAYOR AL 50% Y EL ÍNDICE DE PLASTICIDAD DEL MATERIAL FINO DEBE SER MENOR O IGUAL AL 6%, LA UNIDAD DE MEDIDA PARA ESTE ELEMENTO ES METRO CUBICO (M3) | H35: M3 | I35: 6 | J35: =+I35 -> 6
C37: NOMBRE: | E37: SILVIA CRISTINA VÁSQUEZ CASTRO | J37: CARGO | L37: COORDINADORA ACADÉMICA DE PROGRAMAS ESPECIALES
C38: FIRMA:
C40: Nota: La cantidad de bienes entregada puede ser inferior a la cantidad de bienes solicitados toda vez que la solicitud se atiende de acuerdo a las existencias físicas de bienes en cada almacén.

Sheet GIL-F-014-ID-3514820
M2: Versión: 07
M3: Código: GIL-F-014
B4: PROCESO
B5: GESTIÓN DE INFRAESTRUCTURA Y LOGÍSTICA
B6: NOMBRE DEL FORMATO
B7: FORMATO SOLICITUD DE BIENES PARA USO DE CUENTADANTES
B8: CLASIFICACIÓN DE LA INFORMACIÓN
B9: Pública: | G9: Pública Clasificada: | L9: Pública Reservada:
B10: FECHA SOLICITUD | J10: AREA
B11: CODIGO REGIONAL | E11: 41 | J11: NOMBRE REGIONAL | L11: =VLOOKUP(REG,'datos 2'!A2:B35,2,FALSE) -> Huila
B12: COD CENTRO DE COSTOS | J12: NOMBRE CENTRO DE COSTO
B13: NOMBRE DE JEFE DE OFICINA O COORDINADOR DE AREA: | H13: SILVIA CRISTINA VASQUEZ CASTRO
B14: TIPO DE CUENTADANTE | H14: UNIPERSONAL
B15: NOMBRE DEL CUENTADANTE UNIPERSONAL O CUENTADANTE MÚLTIPLE | H15: CARLOS ANDRES TORRES | L15: N° DE IDENTIFICIACIÓN
B17: PARA EL CASO DE CUENTADANTE MÚLPLES EN EL SIGUIENTE CAMPO RELACIONE EL NOMBRE Y NUMERO DE IDENTIFICACIÓN DE LAS PERSONAS QUE LO CONFORMAN Adicione todas las celdas que se requieran.
B18: NOMBRE | J18: N° DE IDENTIFICIACIÓN
B19: NOMBRE | J19: N° DE IDENTIFICIACIÓN
B20: NOMBRE | J20: N° DE IDENTIFICIACIÓN
B22: DESTINO DE LOS BIENES SOLICITADOS | H22: Formación
B23: CÓDIGO DE GRUPO O FICHA DE CARACTERIZACIÓN | H23: ID 3514820
B25: ITEM | C25: CÓDIGO SENA | E25: DESCRIPCION DE BIEN | H25: UNIDA DE MEDIDA | I25: CANTIDAD SOLICITADA | J25: CANTIDAD ENTREGADA | K25: OBSERVACIONES
B26: 1 | E26: ALAMBRE DULCE NEGRO, PARA AMARRE DE HIERRO, CALIBRE 18, PRESENTACIÓN KILOGRAMO (PRODUCTO - ALAMBRE DULCE) | H26: UN | I26: 18 | J26: =+I26 -> 18
B27: 2 | E27: GRIS, BULTO X 50 KG, TIPO PORTLAN. (PRODCUTO CEMENTO) | H27: UN | I27: 148 | J27: =+I27 -> 148
B28: 3 | E28: PUNTILLA DE HIERRO 2 1/2"X LB, CON CABEZA, PARA CONSTRUCCIÓN | H28: UN | I28: 6 | J28: =+I28 -> 6
B29: 4 | E29: TABLON DE MADERA, LARGO 3M, ANCHO 30CM Y ESPESOR 3CM, N/A, TABLÓN DE MADERA LARGO 3M, ANCHO 30CM Y ESPESOR 3CM CEPILLADO POR UNA CARA, PARA USO DE FORMALETA ESTRUCTURAS EN CONCRETO | H29: UN | I29: 10 | J29: =+I29 -> 10
B30: 5 | E30: VARILLA CORRUGADA G60 W #2 (1/4 PULG) X 6M. CUMPLE CON NTC 2289 AÑO 2012 - DECRETO 1513 AÑO 2012 - RESOLUCION 1856 AÑO 2017. | H30: UN | I30: 81 | J30: =+I30 -> 81
B31: 6 | E31: VARILLA CORRUGADA G60 W #3 (3/8 PULG) X 6M. CUMPLE CON NTC 2289 AÑO 2012 - DECRETO 1513 AÑO 2012 - RESOLUCION 1856 AÑO 2017. | H31: UN | I31: 129 | J31: =+I31 -> 129
B32: 7 | E32: VARILLA CORRUGADA G60 W #4 (1/2 PULG) X 6M. CUMPLE CON NTC 2289 AÑO 2012 - DECRETO 1513 AÑO 2012 - RESOLUCION 1856 AÑO 2017. | H32: UN | I32: 4 | J32: =+I32 -> 4
B33: 8 | E33: ARENA GRUESA (CUMPLIMIENTO NTC 174 AGREGADOS PARA CONCRETO MF= 2,3 - 3,1), LA UNIDAD DE MEDIDA ES METRO CUBICO (M3) PARA ESTE ELEMENTO | H33: M3 | I33: 18 | J33: =+I33 -> 18
B34: 9 | E34: GRAVA TRITURADA 1/2" CON CUMPLIMIENTO DE LA NTC 174 " ESPECIFICACIONES DE LOS AGREGADOS PARA CONCRETOS" | H34: M3 | I34: 24 | J34: =+I34 -> 24
C37: NOMBRE: | E37: SILVIA CRISTINA VÁSQUEZ CASTRO | J37: CARGO | L37: COORDINADORA ACADÉMICA DE PROGRAMAS ESPECIALES
C38: FIRMA:
C40: Nota: La cantidad de bienes entregada puede ser inferior a la cantidad de bienes solicitados toda vez que la solicitud se atiende de acuerdo a las existencias físicas de bienes en cada almacén.

Sheet GIL-F-014-ID-3514821
M2: Versión: 07
M3: Código: GIL-F-014
B4: PROCESO
B5: GESTIÓN DE INFRAESTRUCTURA Y LOGÍSTICA
B6: NOMBRE DEL FORMATO
B7: FORMATO SOLICITUD DE BIENES PARA USO DE CUENTADANTES
B8: CLASIFICACIÓN DE LA INFORMACIÓN
B9: Pública: | G9: Pública Clasificada: | L9: Pública Reservada:
B10: FECHA SOLICITUD | J10: AREA
B11: CODIGO REGIONAL | E11: 41 | J11: NOMBRE REGIONAL | L11: =VLOOKUP(REG,'datos 2'!A2:B35,2,FALSE) -> Huila
B12: COD CENTRO DE COSTOS | J12: NOMBRE CENTRO DE COSTO
B13: NOMBRE DE JEFE DE OFICINA O COORDINADOR DE AREA: | H13: SILVIA CRISTINA VASQUEZ CASTRO
B14: TIPO DE CUENTADANTE | H14: UNIPERSONAL
B15: NOMBRE DEL CUENTADANTE UNIPERSONAL O CUENTADANTE MÚLTIPLE | H15: NIXON GERMAN DIAZ | L15: N° DE IDENTIFICIACIÓN | M15: 1082773486
B17: PARA EL CASO DE CUENTADANTE MÚLPLES EN EL SIGUIENTE CAMPO RELACIONE EL NOMBRE Y NUMERO DE IDENTIFICACIÓN DE LAS PERSONAS QUE LO CONFORMAN Adicione todas las celdas que se requieran.
B18: NOMBRE | J18: N° DE IDENTIFICIACIÓN
B19: NOMBRE | J19: N° DE IDENTIFICIACIÓN
B20: NOMBRE | J20: N° DE IDENTIFICIACIÓN
B22: DESTINO DE LOS BIENES SOLICITADOS | H22: Formación
B23: CÓDIGO DE GRUPO O FICHA DE CARACTERIZACIÓN | H23: ID 3514821
B25: ITEM | C25: CÓDIGO SENA | E25: DESCRIPCION DE BIEN | H25: UNIDA DE MEDIDA | I25: CANTIDAD SOLICITADA | J25: CANTIDAD ENTREGADA | K25: OBSERVACIONES
B26: 1 | E26: ALAMBRE DULCE NEGRO, PARA AMARRE DE HIERRO, CALIBRE 18, PRESENTACIÓN KILOGRAMO (PRODUCTO - ALAMBRE DULCE) | H26: UN | I26: 18 | J26: =+I26 -> 18
B27: 2 | E27: GRIS, BULTO X 50 KG, TIPO PORTLAN. (PRODCUTO CEMENTO) | H27: UN | I27: 153 | J27: =+I27 -> 153
B28: 3 | E28: PUNTILLA DE HIERRO 2 1/2"X LB, CON CABEZA, PARA CONSTRUCCIÓN | H28: UN | I28: 6 | J28: =+I28 -> 6
B29: 4 | E29: TABLON DE MADERA, LARGO 3M, ANCHO 30CM Y ESPESOR 3CM, N/A, TABLÓN DE MADERA LARGO 3M, ANCHO 30CM Y ESPESOR 3CM CEPILLADO POR UNA CARA, PARA USO DE FORMALETA ESTRUCTURAS EN CONCRETO | H29: UN | I29: 10 | J29: =+I29 -> 10
B30: 5 | E30: VARILLA CORRUGADA G60 W #2 (1/4 PULG) X 6M. CUMPLE CON NTC 2289 AÑO 2012 - DECRETO 1513 AÑO 2012 - RESOLUCION 1856 AÑO 2017. | H30: UN | I30: 81 | J30: =+I30 -> 81
B31: 6 | E31: VARILLA CORRUGADA G60 W #3 (3/8 PULG) X 6M. CUMPLE CON NTC 2289 AÑO 2012 - DECRETO 1513 AÑO 2012 - RESOLUCION 1856 AÑO 2017. | H31: UN | I31: 120 | J31: =+I31 -> 120
B32: 7 | E32: VARILLA CORRUGADA G60 W #4 (1/2 PULG) X 6M. CUMPLE CON NTC 2289 AÑO 2012 - DECRETO 1513 AÑO 2012 - RESOLUCION 1856 AÑO 2017. | H32: UN | I32: 4 | J32: =+I32 -> 4
B33: 8 | E33: ARENA GRUESA (CUMPLIMIENTO NTC 174 AGREGADOS PARA CONCRETO MF= 2,3 - 3,1), LA UNIDAD DE MEDIDA ES METRO CUBICO (M3) PARA ESTE ELEMENTO | H33: M3 | I33: 18 | J33: =+I33 -> 18
B34: 9 | E34: GRAVA TRITURADA 1/2" CON CUMPLIMIENTO DE LA NTC 174 " ESPECIFICACIONES DE LOS AGREGADOS PARA CONCRETOS" | H34: M3 | I34: 24 | J34: =+I34 -> 24
C37: NOMBRE: | E37: SILVIA CRISTINA VÁSQUEZ CASTRO | J37: CARGO | L37: COORDINADORA ACADÉMICA DE PROGRAMAS ESPECIALES
C38: FIRMA:
C40: Nota: La cantidad de bienes entregada puede ser inferior a la cantidad de bienes solicitados toda vez que la solicitud se atiende de acuerdo a las existencias físicas de bienes en cada almacén.

Sheet GIL-F-014-ID-3514800
M2: Versión: 07
M3: Código: GIL-F-014
B4: PROCESO
B5: GESTIÓN DE INFRAESTRUCTURA Y LOGÍSTICA
B6: NOMBRE DEL FORMATO
B7: FORMATO SOLICITUD DE BIENES PARA USO DE CUENTADANTES
B8: CLASIFICACIÓN DE LA INFORMACIÓN
B9: Pública: | G9: Pública Clasificada: | L9: Pública Reservada:
B10: FECHA SOLICITUD | J10: AREA
B11: CODIGO REGIONAL | E11: 41 | J11: NOMBRE REGIONAL | L11: =VLOOKUP(REG,'datos 2'!A2:B35,2,FALSE) -> Huila
B12: COD CENTRO DE COSTOS | J12: NOMBRE CENTRO DE COSTO
B13: NOMBRE DE JEFE DE OFICINA O COORDINADOR DE AREA: | H13: SILVIA CRISTINA VASQUEZ CASTRO
B14: TIPO DE CUENTADANTE | H14: UNIPERSONAL
B15: NOMBRE DEL CUENTADANTE UNIPERSONAL O CUENTADANTE MÚLTIPLE | H15: JOHN EDWIN MONTILLA BERNA | L15: N° DE IDENTIFICIACIÓN | M15: 1077858481
B17: PARA EL CASO DE CUENTADANTE MÚLPLES EN EL SIGUIENTE CAMPO RELACIONE EL NOMBRE Y NUMERO DE IDENTIFICACIÓN DE LAS PERSONAS QUE LO CONFORMAN Adicione todas las celdas que se requieran.
B18: NOMBRE | J18: N° DE IDENTIFICIACIÓN
B19: NOMBRE | J19: N° DE IDENTIFICIACIÓN
B20: NOMBRE | J20: N° DE IDENTIFICIACIÓN
B22: DESTINO DE LOS BIENES SOLICITADOS | H22: Formación
B23: CÓDIGO DE GRUPO O FICHA DE CARACTERIZACIÓN | H23: ID 3514800
B25: ITEM | C25: CÓDIGO SENA | E25: DESCRIPCION DE BIEN | H25: UNIDA DE MEDIDA | I25: CANTIDAD SOLICITADA | J25: CANTIDAD ENTREGADA | K25: OBSERVACIONES
B26: 1 | E26: ALAMBRE DULCE NEGRO, PARA AMARRE DE HIERRO, CALIBRE 18, PRESENTACIÓN KILOGRAMO (PRODUCTO - ALAMBRE DULCE) | H26: UN | I26: 18 | J26: =+I26 -> 18
B27: 2 | E27: GRIS, BULTO X 50 KG, TIPO PORTLAN. (PRODCUTO CEMENTO) | H27: UN | I27: 145 | J27: =+I27 -> 145
B28: 3 | E28: PUNTILLA DE HIERRO 2 1/2"X LB, CON CABEZA, PARA CONSTRUCCIÓN | H28: UN | I28: 6 | J28: =+I28 -> 6
B29: 4 | E29: VARILLA CORRUGADA G60 W #2 (1/4 PULG) X 6M. CUMPLE CON NTC 2289 AÑO 2012 - DECRETO 1513 AÑO 2012 - RESOLUCION 1856 AÑO 2017. | H29: UN | I29: 91 | J29: =+I29 -> 91
B30: 5 | E30: VARILLA CORRUGADA G60 W #3 (3/8 PULG) X 6M. CUMPLE CON NTC 2289 AÑO 2012 - DECRETO 1513 AÑO 2012 - RESOLUCION 1856 AÑO 2017. | H30: UN | I30: 152 | J30: =+I30 -> 152
B31: 6 | E31: VARILLA CORRUGADA G60 W #4 (1/2 PULG) X 6M. CUMPLE CON NTC 2289 AÑO 2012 - DECRETO 1513 AÑO 2012 - RESOLUCION 1856 AÑO 2017. | H31: UN | I31: 4 | J31: =+I31 -> 4
B32: 7 | E32: ARENA GRUESA (CUMPLIMIENTO NTC 174 AGREGADOS PARA CONCRETO MF= 2,3 - 3,1), LA UNIDAD DE MEDIDA ES METRO CUBICO (M3) PARA ESTE ELEMENTO | H32: M3 | I32: 18 | J32: =+I32 -> 18
B33: 8 | E33: GRAVA TRITURADA 1/2" CON CUMPLIMIENTO DE LA NTC 174 " ESPECIFICACIONES DE LOS AGREGADOS PARA CONCRETOS" | H33: M3 | I33: 24 | J33: =+I33 -> 24
C36: NOMBRE: | E36: SILVIA CRISTINA VÁSQUEZ CASTRO | J36: CARGO | L36: COORDINADORA ACADÉMICA DE PROGRAMAS ESPECIALES
C37: FIRMA:
C39: Nota: La cantidad de bienes entregada puede ser inferior a la cantidad de bienes solicitados toda vez que la solicitud se atiende de acuerdo a las existencias físicas de bienes en cada almacén.

Sheet GIL-F-014-ID-3514801
M2: Versión: 07
M3: Código: GIL-F-014
B4: PROCESO
B5: GESTIÓN DE INFRAESTRUCTURA Y LOGÍSTICA
B6: NOMBRE DEL FORMATO
B7: FORMATO SOLICITUD DE BIENES PARA USO DE CUENTADANTES
B8: CLASIFICACIÓN DE LA INFORMACIÓN
B9: Pública: | G9: Pública Clasificada: | L9: Pública Reservada:
B10: FECHA SOLICITUD | J10: AREA
B11: CODIGO REGIONAL | E11: 41 | J11: NOMBRE REGIONAL | L11: =VLOOKUP(REG,'datos 2'!A2:B35,2,FALSE) -> Huila
B12: COD CENTRO DE COSTOS | J12: NOMBRE CENTRO DE COSTO
B13: NOMBRE DE JEFE DE OFICINA O COORDINADOR DE AREA: | H13: SILVIA CRISTINA VASQUEZ CASTRO
B14: TIPO DE CUENTADANTE | H14: UNIPERSONAL
B15: NOMBRE DEL CUENTADANTE UNIPERSONAL O CUENTADANTE MÚLTIPLE | H15: CARLOS ANDRES TORRES | L15: N° DE IDENTIFICIACIÓN
B17: PARA EL CASO DE CUENTADANTE MÚLPLES EN EL SIGUIENTE CAMPO RELACIONE EL NOMBRE Y NUMERO DE IDENTIFICACIÓN DE LAS PERSONAS QUE LO CONFORMAN Adicione todas las celdas que se requieran.
B18: NOMBRE | J18: N° DE IDENTIFICIACIÓN
B19: NOMBRE | J19: N° DE IDENTIFICIACIÓN
B20: NOMBRE | J20: N° DE IDENTIFICIACIÓN
B22: DESTINO DE LOS BIENES SOLICITADOS | H22: Formación
B23: CÓDIGO DE GRUPO O FICHA DE CARACTERIZACIÓN | H23: ID 3514801
B25: ITEM | C25: CÓDIGO SENA | E25: DESCRIPCION DE BIEN | H25: UNIDA DE MEDIDA | I25: CANTIDAD SOLICITADA | J25: CANTIDAD ENTREGADA | K25: OBSERVACIONES
B26: 1 | E26: ALAMBRE DULCE NEGRO, PARA AMARRE DE HIERRO, CALIBRE 18, PRESENTACIÓN KILOGRAMO (PRODUCTO - ALAMBRE DULCE) | H26: UN | I26: 18 | J26: =+I26 -> 18
B27: 2 | E27: GRIS, BULTO X 50 KG, TIPO PORTLAN. (PRODCUTO CEMENTO) | H27: UN | I27: 137 | J27: =+I27 -> 137
B28: 3 | E28: PUNTILLA DE HIERRO 2 1/2"X LB, CON CABEZA, PARA CONSTRUCCIÓN | H28: UN | I28: 6 | J28: =+I28 -> 6
B29: 4 | E29: TABLON DE MADERA, LARGO 3M, ANCHO 30CM Y ESPESOR 3CM, N/A, TABLÓN DE MADERA LARGO 3M, ANCHO 30CM Y ESPESOR 3CM CEPILLADO POR UNA CARA, PARA USO DE FORMALETA ESTRUCTURAS EN CONCRETO | H29: UN | I29: 10 | J29: =+I29 -> 10
B30: 5 | E30: VARILLA CORRUGADA G60 W #2 (1/4 PULG) X 6M. CUMPLE CON NTC 2289 AÑO 2012 - DECRETO 1513 AÑO 2012 - RESOLUCION 1856 AÑO 2017. | H30: UN | I30: 86 | J30: =+I30 -> 86
B31: 6 | E31: VARILLA CORRUGADA G60 W #3 (3/8 PULG) X 6M. CUMPLE CON NTC 2289 AÑO 2012 - DECRETO 1513 AÑO 2012 - RESOLUCION 1856 AÑO 2017. | H31: UN | I31: 146 | J31: =+I31 -> 146
B32: 7 | E32: VARILLA CORRUGADA G60 W #4 (1/2 PULG) X 6M. CUMPLE CON NTC 2289 AÑO 2012 - DECRETO 1513 AÑO 2012 - RESOLUCION 1856 AÑO 2017. | H32: UN | I32: 4 | J32: =+I32 -> 4
B33: 8 | E33: ARENA GRUESA (CUMPLIMIENTO NTC 174 AGREGADOS PARA CONCRETO MF= 2,3 - 3,1), LA UNIDAD DE MEDIDA ES METRO CUBICO (M3) PARA ESTE ELEMENTO | H33: M3 | I33: 18 | J33: =+I33 -> 18
B34: 9 | E34: GRAVA TRITURADA 1/2" CON CUMPLIMIENTO DE LA NTC 174 " ESPECIFICACIONES DE LOS AGREGADOS PARA CONCRETOS" | H34: M3 | I34: 24 | J34: =+I34 -> 24
C37: NOMBRE: | E37: SILVIA CRISTINA VÁSQUEZ CASTRO | J37: CARGO | L37: COORDINADORA ACADÉMICA DE PROGRAMAS ESPECIALES
C38: FIRMA:
C40: Nota: La cantidad de bienes entregada puede ser inferior a la cantidad de bienes solicitados toda vez que la solicitud se atiende de acuerdo a las existencias físicas de bienes en cada almacén.

Sheet GIL-F-014-ID-3514802
M2: Versión: 07
M3: Código: GIL-F-014
B4: PROCESO
B5: GESTIÓN DE INFRAESTRUCTURA Y LOGÍSTICA
B6: NOMBRE DEL FORMATO
B7: FORMATO SOLICITUD DE BIENES PARA USO DE CUENTADANTES
B8: CLASIFICACIÓN DE LA INFORMACIÓN
B9: Pública: | G9: Pública Clasificada: | L9: Pública Reservada:
B10: FECHA SOLICITUD | J10: AREA
B11: CODIGO REGIONAL | E11: 41 | J11: NOMBRE REGIONAL | L11: =VLOOKUP(REG,'datos 2'!A2:B35,2,FALSE) -> Huila
B12: COD CENTRO DE COSTOS | J12: NOMBRE CENTRO DE COSTO
B13: NOMBRE DE JEFE DE OFICINA O COORDINADOR DE AREA: | H13: SILVIA CRISTINA VASQUEZ CASTRO
B14: TIPO DE CUENTADANTE | H14: UNIPERSONAL
B15: NOMBRE DEL CUENTADANTE UNIPERSONAL O CUENTADANTE MÚLTIPLE | H15: NIXON GERMAN DIAZ | L15: N° DE IDENTIFICIACIÓN | M15: 1082773486
B17: PARA EL CASO DE CUENTADANTE MÚLPLES EN EL SIGUIENTE CAMPO RELACIONE EL NOMBRE Y NUMERO DE IDENTIFICACIÓN DE LAS PERSONAS QUE LO CONFORMAN Adicione todas las celdas que se requieran.
B18: NOMBRE | J18: N° DE IDENTIFICIACIÓN
B19: NOMBRE | J19: N° DE IDENTIFICIACIÓN
B20: NOMBRE | J20: N° DE IDENTIFICIACIÓN
B22: DESTINO DE LOS BIENES SOLICITADOS | H22: Formación
B23: CÓDIGO DE GRUPO O FICHA DE CARACTERIZACIÓN | H23: ID 3514802
B25: ITEM | C25: CÓDIGO SENA | E25: DESCRIPCION DE BIEN | H25: UNIDA DE MEDIDA | I25: CANTIDAD SOLICITADA | J25: CANTIDAD ENTREGADA | K25: OBSERVACIONES
B26: 1 | E26: ALAMBRE DULCE NEGRO, PARA AMARRE DE HIERRO, CALIBRE 18, PRESENTACIÓN KILOGRAMO (PRODUCTO - ALAMBRE DULCE) | H26: UN | I26: 18 | J26: =+I26 -> 18
B27: 2 | E27: GRIS, BULTO X 50 KG, TIPO PORTLAN. (PRODCUTO CEMENTO) | H27: UN | I27: 137 | J27: =+I27 -> 137
B28: 3 | E28: PUNTILLA DE HIERRO 2 1/2"X LB, CON CABEZA, PARA CONSTRUCCIÓN | H28: UN | I28: 6 | J28: =+I28 -> 6
B29: 4 | E29: TABLON DE MADERA, LARGO 3M, ANCHO 30CM Y ESPESOR 3CM, N/A, TABLÓN DE MADERA LARGO 3M, ANCHO 30CM Y ESPESOR 3CM CEPILLADO POR UNA CARA, PARA USO DE FORMALETA ESTRUCTURAS EN CONCRETO | H29: UN | I29: 10 | J29: =+I29 -> 10
B30: 5 | E30: VARILLA CORRUGADA G60 W #2 (1/4 PULG) X 6M. CUMPLE CON NTC 2289 AÑO 2012 - DECRETO 1513 AÑO 2012 - RESOLUCION 1856 AÑO 2017. | H30: UN | I30: 86 | J30: =+I30 -> 86
B31: 6 | E31: VARILLA CORRUGADA G60 W #3 (3/8 PULG) X 6M. CUMPLE CON NTC 2289 AÑO 2012 - DECRETO 1513 AÑO 2012 - RESOLUCION 1856 AÑO 2017. | H31: UN | I31: 146 | J31: =+I31 -> 146
B32: 7 | E32: VARILLA CORRUGADA G60 W #4 (1/2 PULG) X 6M. CUMPLE CON NTC 2289 AÑO 2012 - DECRETO 1513 AÑO 2012 - RESOLUCION 1856 AÑO 2017. | H32: UN | I32: 4 | J32: =+I32 -> 4
B33: 8 | E33: ARENA GRUESA (CUMPLIMIENTO NTC 174 AGREGADOS PARA CONCRETO MF= 2,3 - 3,1), LA UNIDAD DE MEDIDA ES METRO CUBICO (M3) PARA ESTE ELEMENTO | H33: M3 | I33: 18 | J33: =+I33 -> 18
B34: 9 | E34: GRAVA TRITURADA 1/2" CON CUMPLIMIENTO DE LA NTC 174 " ESPECIFICACIONES DE LOS AGREGADOS PARA CONCRETOS" | H34: M3 | I34: 24 | J34: =+I34 -> 24
C37: NOMBRE: | E37: SILVIA CRISTINA VÁSQUEZ CASTRO | J37: CARGO | L37: COORDINADORA ACADÉMICA DE PROGRAMAS ESPECIALES
C38: FIRMA:
C40: Nota: La cantidad de bienes entregada puede ser inferior a la cantidad de bienes solicitados toda vez que la solicitud se atiende de acuerdo a las existencias físicas de bienes en cada almacén.

Sheet GIL-F-014-ID-3514803
M2: Versión: 07
M3: Código: GIL-F-014
B4: PROCESO
B5: GESTIÓN DE INFRAESTRUCTURA Y LOGÍSTICA
B6: NOMBRE DEL FORMATO
B7: FORMATO SOLICITUD DE BIENES PARA USO DE CUENTADANTES
B8: CLASIFICACIÓN DE LA INFORMACIÓN
B9: Pública: | G9: Pública Clasificada: | L9: Pública Reservada:
B10: FECHA SOLICITUD | J10: AREA
B11: CODIGO REGIONAL | E11: 41 | J11: NOMBRE REGIONAL | L11: =VLOOKUP(REG,'datos 2'!A2:B35,2,FALSE) -> Huila
B12: COD CENTRO DE COSTOS | J12: NOMBRE CENTRO DE COSTO
B13: NOMBRE DE JEFE DE OFICINA O COORDINADOR DE AREA: | H13: SILVIA CRISTINA VASQUEZ CASTRO
B14: TIPO DE CUENTADANTE | H14: UNIPERSONAL
B15: NOMBRE DEL CUENTADANTE UNIPERSONAL O CUENTADANTE MÚLTIPLE | H15: CARLOS ANDRES TORRES | L15: N° DE IDENTIFICIACIÓN
B17: PARA EL CASO DE CUENTADANTE MÚLPLES EN EL SIGUIENTE CAMPO RELACIONE EL NOMBRE Y NUMERO DE IDENTIFICACIÓN DE LAS PERSONAS QUE LO CONFORMAN Adicione todas las celdas que se requieran.
B18: NOMBRE | J18: N° DE IDENTIFICIACIÓN
B19: NOMBRE | J19: N° DE IDENTIFICIACIÓN
B20: NOMBRE | J20: N° DE IDENTIFICIACIÓN
B22: DESTINO DE LOS BIENES SOLICITADOS | H22: Formación
B23: CÓDIGO DE GRUPO O FICHA DE CARACTERIZACIÓN | H23: ID 3514803
B25: ITEM | C25: CÓDIGO SENA | E25: DESCRIPCION DE BIEN | H25: UNIDA DE MEDIDA | I25: CANTIDAD SOLICITADA | J25: CANTIDAD ENTREGADA | K25: OBSERVACIONES
B26: 1 | E26: ALAMBRE DULCE NEGRO, PARA AMARRE DE HIERRO, CALIBRE 18, PRESENTACIÓN KILOGRAMO (PRODUCTO - ALAMBRE DULCE) | H26: UN | I26: 18 | J26: =+I26 -> 18
B27: 2 | E27: GRIS, BULTO X 50 KG, TIPO PORTLAN. (PRODCUTO CEMENTO) | H27: UN | I27: 137 | J27: =+I27 -> 137
B28: 3 | E28: PUNTILLA DE HIERRO 2 1/2"X LB, CON CABEZA, PARA CONSTRUCCIÓN | H28: UN | I28: 6 | J28: =+I28 -> 6
B29: 4 | E29: TABLON DE MADERA, LARGO 3M, ANCHO 30CM Y ESPESOR 3CM, N/A, TABLÓN DE MADERA LARGO 3M, ANCHO 30CM Y ESPESOR 3CM CEPILLADO POR UNA CARA, PARA USO DE FORMALETA ESTRUCTURAS EN CONCRETO | H29: UN | I29: 10 | J29: =+I29 -> 10
B30: 5 | E30: VARILLA CORRUGADA G60 W #2 (1/4 PULG) X 6M. CUMPLE CON NTC 2289 AÑO 2012 - DECRETO 1513 AÑO 2012 - RESOLUCION 1856 AÑO 2017. | H30: UN | I30: 86 | J30: =+I30 -> 86
B31: 6 | E31: VARILLA CORRUGADA G60 W #3 (3/8 PULG) X 6M. CUMPLE CON NTC 2289 AÑO 2012 - DECRETO 1513 AÑO 2012 - RESOLUCION 1856 AÑO 2017. | H31: UN | I31: 146 | J31: =+I31 -> 146
B32: 7 | E32: VARILLA CORRUGADA G60 W #4 (1/2 PULG) X 6M. CUMPLE CON NTC 2289 AÑO 2012 - DECRETO 1513 AÑO 2012 - RESOLUCION 1856 AÑO 2017. | H32: UN | I32: 4 | J32: =+I32 -> 4
B33: 8 | E33: ARENA GRUESA (CUMPLIMIENTO NTC 174 AGREGADOS PARA CONCRETO MF= 2,3 - 3,1), LA UNIDAD DE MEDIDA ES METRO CUBICO (M3) PARA ESTE ELEMENTO | H33: M3 | I33: 18 | J33: =+I33 -> 18
B34: 9 | E34: GRAVA TRITURADA 1/2" CON CUMPLIMIENTO DE LA NTC 174 " ESPECIFICACIONES DE LOS AGREGADOS PARA CONCRETOS" | H34: M3 | I34: 24 | J34: =+I34 -> 24
C37: NOMBRE: | E37: SILVIA CRISTINA VÁSQUEZ CASTRO | J37: CARGO | L37: COORDINADORA ACADÉMICA DE PROGRAMAS ESPECIALES
C38: FIRMA:
C40: Nota: La cantidad de bienes entregada puede ser inferior a la cantidad de bienes solicitados toda vez que la solicitud se atiende de acuerdo a las existencias físicas de bienes en cada almacén.

Sheet GIL-F-014-ID-3514804
M2: Versión: 07
M3: Código: GIL-F-014
B4: PROCESO
B5: GESTIÓN DE INFRAESTRUCTURA Y LOGÍSTICA
B6: NOMBRE DEL FORMATO
B7: FORMATO SOLICITUD DE BIENES PARA USO DE CUENTADANTES
B8: CLASIFICACIÓN DE LA INFORMACIÓN
B9: Pública: | G9: Pública Clasificada: | L9: Pública Reservada:
B10: FECHA SOLICITUD | J10: AREA
B11: CODIGO REGIONAL | E11: 41 | J11: NOMBRE REGIONAL | L11: =VLOOKUP(REG,'datos 2'!A2:B35,2,FALSE) -> Huila
B12: COD CENTRO DE COSTOS | J12: NOMBRE CENTRO DE COSTO
B13: NOMBRE DE JEFE DE OFICINA O COORDINADOR DE AREA: | H13: SILVIA CRISTINA VASQUEZ CASTRO
B14: TIPO DE CUENTADANTE | H14: UNIPERSONAL
B15: NOMBRE DEL CUENTADANTE UNIPERSONAL O CUENTADANTE MÚLTIPLE | H15: JOHN EDWIN MONTILLA BERNA | L15: N° DE IDENTIFICIACIÓN | M15: 1077858481
B17: PARA EL CASO DE CUENTADANTE MÚLPLES EN EL SIGUIENTE CAMPO RELACIONE EL NOMBRE Y NUMERO DE IDENTIFICACIÓN DE LAS PERSONAS QUE LO CONFORMAN Adicione todas las celdas que se requieran.
B18: NOMBRE | J18: N° DE IDENTIFICIACIÓN
B19: NOMBRE | J19: N° DE IDENTIFICIACIÓN
B20: NOMBRE | J20: N° DE IDENTIFICIACIÓN
B22: DESTINO DE LOS BIENES SOLICITADOS | H22: Formación
B23: CÓDIGO DE GRUPO O FICHA DE CARACTERIZACIÓN | H23: ID 3514804
B25: ITEM | C25: CÓDIGO SENA | E25: DESCRIPCION DE BIEN | H25: UNIDA DE MEDIDA | I25: CANTIDAD SOLICITADA | J25: CANTIDAD ENTREGADA | K25: OBSERVACIONES
B26: 1 | E26: ALAMBRE DULCE NEGRO, PARA AMARRE DE HIERRO, CALIBRE 18, PRESENTACIÓN KILOGRAMO (PRODUCTO - ALAMBRE DULCE) | H26: UN | I26: 18 | J26: =+I26 -> 18
B27: 2 | E27: GRIS, BULTO X 50 KG, TIPO PORTLAN. (PRODCUTO CEMENTO) | H27: UN | I27: 137 | J27: =+I27 -> 137
B28: 3 | E28: PUNTILLA DE HIERRO 2 1/2"X LB, CON CABEZA, PARA CONSTRUCCIÓN | H28: UN | I28: 6 | J28: =+I28 -> 6
B29: 4 | E29: TABLON DE MADERA, LARGO 3M, ANCHO 30CM Y ESPESOR 3CM, N/A, TABLÓN DE MADERA LARGO 3M, ANCHO 30CM Y ESPESOR 3CM CEPILLADO POR UNA CARA, PARA USO DE FORMALETA ESTRUCTURAS EN CONCRETO | H29: UN | I29: 10 | J29: =+I29 -> 10
B30: 5 | E30: VARILLA CORRUGADA G60 W #2 (1/4 PULG) X 6M. CUMPLE CON NTC 2289 AÑO 2012 - DECRETO 1513 AÑO 2012 - RESOLUCION 1856 AÑO 2017. | H30: UN | I30: 86 | J30: =+I30 -> 86
B31: 6 | E31: VARILLA CORRUGADA G60 W #3 (3/8 PULG) X 6M. CUMPLE CON NTC 2289 AÑO 2012 - DECRETO 1513 AÑO 2012 - RESOLUCION 1856 AÑO 2017. | H31: UN | I31: 146 | J31: =+I31 -> 146
B32: 7 | E32: VARILLA CORRUGADA G60 W #4 (1/2 PULG) X 6M. CUMPLE CON NTC 2289 AÑO 2012 - DECRETO 1513 AÑO 2012 - RESOLUCION 1856 AÑO 2017. | H32: UN | I32: 4 | J32: =+I32 -> 4
B33: 8 | E33: ARENA GRUESA (CUMPLIMIENTO NTC 174 AGREGADOS PARA CONCRETO MF= 2,3 - 3,1), LA UNIDAD DE MEDIDA ES METRO CUBICO (M3) PARA ESTE ELEMENTO | H33: M3 | I33: 18 | J33: =+I33 -> 18
B34: 9 | E34: GRAVA TRITURADA 1/2" CON CUMPLIMIENTO DE LA NTC 174 " ESPECIFICACIONES DE LOS AGREGADOS PARA CONCRETOS" | H34: M3 | I34: 24 | J34: =+I34 -> 24
C37: NOMBRE: | E37: SILVIA CRISTINA VÁSQUEZ CASTRO | J37: CARGO | L37: COORDINADORA ACADÉMICA DE PROGRAMAS ESPECIALES
C38: FIRMA:
C40: Nota: La cantidad de bienes entregada puede ser inferior a la cantidad de bienes solicitados toda vez que la solicitud se atiende de acuerdo a las existencias físicas de bienes en cada almacén.

Sheet datos 2
A1: CÓDIGO REGIONAL | B1: NOMBRE REGIONAL | C1: REG | D1: 1 | E1: 5 | F1: 8 | G1: 11 | H1: 13 | I1: 15 | J1: 17 | K1: 18 | L1: 19 | M1: 20 | N1: 23 | O1: 25 | P1: 27 | Q1: 41 | R1: 44 | S1: 47 | T1: 50 | U1: 52 | V1: 54 | W1: 63 | X1: 66 | Y1: 68 | Z1: 70 | AA1: 73 | AB1: 76 | AC1: 81 | AD1: 85 | AE1: 86 | AF1: 88 | AG1: 91 | AH1: 94 | AI1: 95 | AJ1: 97 | AK1: 99 | AO1: 18 | AQ1: 19 | AU1: 20 | AY1: 23 | BB1: 25 | BI1: 27 | BK1: 41 | BQ1: 44 | BT1: 47 | BW1: 50 | BZ1: 52 | CD1: 54 | CG1: 63 | CK1: 66 | CO1: 68 | CX1: 70 | CZ1: 73 | DD1: 76 | DO1: 81 | DQ1: 85 | DS1: 86 | DU1: 88 | DW1: 91 | DY1: 94 | EA1: 95 | EC1: 97 | EE1: 99
A2: 1 | B2: Dirección General | C2: 1 | D2: 101001 | E2: 101005 | F2: 101008 | G2: 011110 | H2: 101013 | I2: 101015 | J2: 101017 | K2: 101018 | L2: 101019 | M2: 101020 | N2: 101023 | O2: 101025 | P2: 101027 | Q2: 101041 | R2: 101044 | S2: 101047 | T2: 101050 | U2: 101052 | V2: 101054 | W2: 101063 | X2: 101066 | Y2: 101068 | Z2: 101070 | AA2: 101073 | AB2: 101076 | AC2: 101081 | AD2: 101085 | AE2: 101086 | AF2: 101088 | AG2: 101091 | AH2: 101094 | AI2: 101095 | AJ2: 101097 | AK2: 101099
A3: 5 | B3: Antioquia | C3: 5 | E3: 910110 | F3: 910310 | G3: 011210 | H3: 910410 | I3: 911010 | J3: 911210 | K3: 951610 | L3: 911310 | M3: 911410 | N3: 911510 | O3: 923210 | P3: 952210 | Q3: 911610 | R3: 922210 | S3: 911810 | T3: 911710 | U3: 953410 | V3: 911910 | W3: 912010 | X3: 912110 | Y3: 912210 | Z3: 954210 | AA3: 912310 | AB3: 912410 | AC3: 953010 | AD3: 951910 | AE3: 951810 | AF3: 953910 | AG3: 951710 | AH3: 954710 | AI3: 953310 | AJ3: 954810 | AK3: 953110
A4: 8 | B4: Atlántico | C4: 8 | E4: 912710 | F4: 920710 | G4: 011310 | H4: 910510 | I4: 911110 | J4: 921910 | L4: 922110 | M4: 952010 | N4: 952310 | O4: 950910 | Q4: 952510 | R4: 952410 | S4: 952910 | T4: 953210 | U4: 953510 | V4: 953710 | W4: 923110 | X4: 922310 | Y4: 922410 | AA4: 922610 | AB4: 912510
A5: 11 | B5: Distrito Capital | C5: 11 | E5: 920110 | F5: 920810 | G5: 920910 | H5: 921810 | I5: 930510 | J5: 922010 | L5: 930710 | M5: 952110 | O5: 951010 | Q5: 952610 | U5: 953610 | W5: 953810 | X5: 930810 | Y5: 922510 | AA5: 931010 | AB5: 912610
A6: 13 | B6: Bolívar | C6: 13 | E6: 920210 | F6: 930210 | G6: 921010 | H6: 930410 | I6: 951410 | J6: 930610 | O6: 951110 | Q6: 952710 | Y6: 930910 | AB6: 922710
A7: 15 | B7: Boyacá | C7: 15 | E7: 920310 | G7: 921110 | J7: 951510 | O7: 951210 | Q7: 952810 | Y7: 954010 | AB7: 922810
A8: 17 | B8: Caldas | C8: 17 | E8: 920410 | G8: 921210 | O8: 951310 | Y8: 954110 | AB8: 922910
A9: 18 | B9: Caquetá | C9: 18 | E9: 920510 | G9: 921310 | Y9: 954510 | AB9: 923010
A10: 19 | B10: Cauca | C10: 19 | E10: 920610 | G10: 921410 | Y10: 954610 | AB10: 931110
A11: 20 | B11: Cesar | C11: 20 | E11: 930110 | G11: 921510 | AB11: 954310
A12: 23 | B12: Córdoba | C12: 23 | E12: 940110 | G12: 921610 | AB12: 954410
A13: 25 | B13: Cundinamarca | C13: 25 | E13: 940210 | G13: 921710
A14: 27 | B14: Chocó | C14: 27 | E14: 950110 | G14: 930310
A15: 41 | B15: Huila | C15: 41 | E15: 950210 | G15: 940310
A16: 44 | B16: Guajira | C16: 44 | E16: 950310 | G16: 940410
A17: 47 | B17: Magdalena | C17: 47 | E17: 950410 | G17: 940510
A18: 50 | B18: Meta | C18: 50 | E18: 954910 | G18: 940610
A19: 52 | B19: Nariño | C19: 52 | G19: 950810
A20: 54 | B20: Norte de Santander | C20: 54
A21: 63 | B21: Quindío | C21: 63
A22: 66 | B22: Risaralda | C22: 66
A23: 68 | B23: Santander | C23: 68
A24: 70 | B24: Sucre | C24: 70
A25: 73 | B25: Tolima | C25: 73
A26: 76 | B26: Valle del Cauca | C26: 76
A27: 81 | B27: Arauca | C27: 81
A28: 85 | B28: Casanare | C28: 85
A29: 86 | B29: Putumayo | C29: 86
A30: 88 | B30: San Andrés | C30: 88
A31: 91 | B31: Amazonas | C31: 91
... A35: 99 | B35: Vichada | C35: 99
B38: Area administrativa
B39: Formación
B41: MÚLTIPLE
B42: UNIPERSONAL
