Workbook
Name AMAZONAS: 'datos 2'!$AG$2:$AG$3
Name ANTIOQUIA: 'datos 2'!$E$2:$E$18
Name ARAUCA: 'datos 2'!$AC$2:$AC$3
Name ATLANTICO: 'datos 2'!$F$2:$F$6
Name BOLIVAR: 'datos 2'!$H$2:$H$6+'datos 2'!$I$2:$I$5+'datos 2'!$H$2:$H$6
Name BOYACA: 'datos 2'!$I$2:$I$6
Name CALDAS: 'datos 2'!$J$2:$J$7
Name CAQUETA: 'datos 2'!$K$2:$K$3
Name CASANARE: 'datos 2'!$AE$2:$AE$3
Name CAUCA: 'datos 2'!$L$2:$L$5
Name CESAR: 'datos 2'!$M$2:$M$5
Name CHOCO: 'datos 2'!$P$2:$P$3
Name CORDOBA: 'datos 2'!$N$2:$N$4
Name CUNDINAMARCA: 'datos 2'!$O$2:$O$8
Name DG: 'datos 2'!$D$2
Name DISTRITO: 'datos 2'!$G$2:$G$19
Name GUAINIA: 'datos 2'!$AH$2:$AH$3
Name GUAJIRA: 'datos 2'!$E$2:$E$18
Name GUAVIARE: 'datos 2'!$AI$2:$AI$3
Name HUILA: 'datos 2'!$Q$2:$Q$7
Name MAGDALENA: 'datos 2'!$S$2:$S$4
Name META: 'datos 2'!$T$2:$T$4
Name NARIÑO: 'datos 2'!$AF$3
Name QUINDIO: 'datos 2'!$AF$3
Name REG: 'GIL-F-014-ID-3514773'!$E$11
Name REG: 'GIL-F-014-ID-3514775'!$E$11
Name REG: 'GIL-F-014-ID-3514793'!$E$11
Name REG: 'GIL-F-014-ID-3514795'!$E$11
Name REG: 'GIL-F-014-ID-3514796'!$E$11
Name REG: 'GIL-F-014-ID-3514798'!$E$11
Name REG: 'GIL-F-014-ID-3514799'!$E$11
Name REG: 'GIL-F-014-ID-3514800'!$E$11
Name REG: 'GIL-F-014-ID-3514801'!$E$11
Name REG: 'GIL-F-014-ID-3514802'!$E$11
Name REG: 'GIL-F-014-ID-3514803'!$E$11
Name REG: 'GIL-F-014-ID-3514804'!$E$11
Name REG: 'GIL-F-014-ID-3514812'!$E$11
Name REG: 'GIL-F-014-ID-3514813'!$E$11
Name REG: 'GIL-F-014-ID-3514814'!$E$11
Name REG: 'GIL-F-014-ID-3514815'!$E$11
Name REG: 'GIL-F-014-ID-3514816'!$E$11
Name REG: 'GIL-F-014-ID-3514817'!$E$11
Name REG: 'GIL-F-014-ID-3514818'!$E$11
Name REG: 'GIL-F-014-ID-3514820'!$E$11
Name REG: 'GIL-F-014-ID-3514821'!$E$11
Name REG: 'GIL-F-014-ID-3575967'!$E$11
Name REG: 'GIL-F-014-ID-3514797'!$E$11
Name REGIONALES: 'datos 2'!$C$2:$C$35
Name RISARALDA: 'datos 2'!$AF$3
Name SANANDRES: 'datos 2'!$AF$2:$AF$3
Name SANTANDER: 'datos 2'!$Y$2:$Y$10
Name SUCRE: 'datos 2'!$Z$2
Name TOLIMA: 'datos 2'!$AA$2:$AA$5
Name VALLE: 'datos 2'!$AB$2:$AB$12
Name VAUPES: 'datos 2'!$AJ$2:$AJ$3
Name VICHADA: 'datos 2'!$AK$2:$AK$3

Sheet Instrucciones
K2: Versión: 07
K3: Código: Código: GIL-F-014
B4: PROCESO
B5: GESTIÓN DE INFRAESTRUCTURA Y LOGÍSTICA
B6: NOMBRE DEL FORMATO
B7: FORMATO SOLICITUD DE BIENES PARA USO DE CUENTADANTES
B8: CLASIFICACIÓN DE LA INFORMACIÓN
B9: Pública: | D9: Pública Clasificada: | H9: Pública Reservada:
B10: INSTRUCCIONES PARA EL DILIGENCIAMIENTO DEL FORMATO
B11: NO IMPRIMIR
B12: 1. Generalidades
B13: a) El Formato de solicitud de bienes para el uso de cuentadantes - GIL-F-014, tiene como objetivo ejercer un control por parte de los jefes de área y/o supervisores de contrato, a fin de que tengan pleno conocimiento de los bienes que son solicitados por los cuentadantes para el desarrollo de sus funciones o actividades y autoricen a través de este documento la entrega de los mismos por parte del almacén de cada centro de costo.
B14: b) El diligenciamiento del Formato de solicitud de bienes para el uso de cuentadantes - GIL-F-014, hace parte de las actividades para el Ingreso de Bienes, las cuales se encuentran descritas en la Guía para la Administración y Control de Bienes GIL-G-003.
B15: c)El formato es diligenciado por el/los cuentadantes que requieren los bienes para el cumplimiento de sus funciones y es firmado por el Director, Subdirector, Coordinador, jefe de área o supervisor de contrato que autoriza le entrega de los bienes al cuentadante.
B16: d) Se hace necesario diligenciar un Formato de solicitud de bienes para el uso de cuentadantes - GIL-F-014 por cada cuentadante o cuentadante múltiple que requiere los elementos para el desarrollo de sus funciones
B17: e) El almacenista de cada centro de costo una vez recibe el formato de solicitud de bienes para el uso de cuentadante GIL-F-014, procede a realizar la nota de salida de los elementos y entregarlos al cuentadante. La entrega de bienes se realiza de acuerdo con las existencias registradas en el Kardex de cada almacén.
B18: f) El Formato de solicitud de bienes para el uso de cuentadantes GIL-F-014, es un documento soporte para la nota de salida de bienes, la cual es archivada de acuerdo a las tablas de retención documental del área de almacén e inventarios en cada centro de costo.
B19: g) Este formato aplica para solicitud de bienes para cuentadantes unipersonales o cuentadantes múltiples.
B20: h) Para el caso de los cuentadantes múltiples se debe relacionar el nombre y los números de identificación de las personas que lo conforman.
B22: 2. Instrucciones para diligenciar las casillas
B24: NOMBRE DE LA CASILLA | C24: INSTRUCCIONES | H24: TENER EN CUENTA
B25: FECHA SOLICITUD | C25: Digite la fecha de la solicitud
B26: AREA | C26: Digite el nombre del área a la cual pertenecen los cuentadantes que requieren los bienes.
B27: CODIGO REGIONAL | C27: De la lista desplegable seleccione el código de la regional a la que pertenecen el cuentadante.
B28: NOMBRE REGIONAL | C28: Verifique que la regional corresponda con el código seleccionado.
B29: COD CENTRO DE COSTOS | C29: Digite el código del centro de costo al que pertenece el cuentadante que requiere los bienes.
B30: NOMBRE CENTRO DE COSTO | C30: Digite el nombre del centro de costo al que pertenece el cuentadante que requiere los bienes.
B31: NOMBRE DE JEFE DE OFICINA O COORDINADOR DE AREA: | C31: Digitel el nombre del Jefe de área o Coordinador que autoriza la entrega de los bienes al cuentadante
B32: TIPO DE CUENTADANTE | C32: De la lista desplegable seleccione el tipo de cuentadante al que se le asignaran los bienes solicitados. | H32: CUENTADANTE UNIPERSONAL: una sola persona a la que se asignaran los bienes. CUENTADANTE MÚLTIPLE: Grupo de personas a las que se les asignaran los bienes y responden de manera solidaria.
B33: NOMBRE DEL CUENTADANTE UNIPERSONAL O CUENTADANTE MÚLTIPLE | C33: Digitel el nombre del cuentadante al que le se asignaran lo bienes, para el caso del cuentadante múltiple digite el nombre asignado.
B34: N° DE IDENTIFICIACIÓN | C34: Digite el número de identificación del cuentadante al que se le asignaran los bienes, para el cuentadante múltiple si conoce el código asignado por el sistema de información digítelo; en caso contrario deje el espacio en blanco.
B35: NOMBRE | C35: Digitel el nombre de las personas que conforman el cuentadante múltiple.
B36: N° DE IDENTIFICIACIÓN | C36: Digitel el número de identificación de las personas que conforman el cuentadante múltiple | H36: Adicione todas las filas que requiera.
B37: DESTINO DE LOS BIENES SOLICITADOS | C37: De la lista desplegable seleccione el destino de los bienes solicitados. | H37: AREA ADMINISTRATIVA: cuando los bienes solicitados serán utilizados en áreas administrativas. FORMACIÓN: cuando los bienes solicitados serán utilizados para la formación.
B38: CÓDIGO DE GRUPO O FICHA DE CARACTERIZACIÓN | C38: Es campo solo se diligencia cuando la solicitud corresponde a materiales de formación, para lo cual se digitar el código del Grupo o ficha de caracterización.
B39: CÓDIGO SENA | C39: Si conoce el código del elemento solicitado por favor diligéncielo, en caso contrario deje el espacio en blanco
B40: UNIDA DE MEDIDA | C40: Digite la unidad de medida de los elementos solicitados, ejemplo: unidad, libras, kilos, litros.
B41: DESCRIPCION DEL BIEN | C41: Describa de manera clara el nombre del elemento que se esta solicitando y las características del mismo si es necesario. | H41: Adicione todas las filas que requiera.
B42: CANTIDAD SOLICITADA | C42: Digite la cantidad de bienes requerida | H42: La cantidad de bienes entregada puede ser inferior a la cantidad de bienes solicitados toda vez que la solicitud se atiende de acuerdo a las existencias físicas de bienes en cada almacén.
B43: CANTIDAD ENTREGADA | C43: Este espacio es diligenciado por el almacenista o persona del área de almacén que hace entrega de los bienes al cuentadante.
...

Sheet GIL-F-014-ID-3575967
M2: Versión: 07
M3: Código: GIL-F-014
B4: PROCESO
B5: GESTIÓN DE INFRAESTRUCTURA Y LOGÍSTICA
B6: NOMBRE DEL FORMATO
B7: FORMATO SOLICITUD DE BIENES PARA USO DE CUENTADANTES
B8: CLASIFICACIÓN DE LA INFORMACIÓN
B9: Pública: | G9: Pública Clasificada: | L9: Pública Reservada:
B10: FECHA SOLICITUD | J10: AREA
B11: CODIGO REGIONAL | E11: 41 | J11: NOMBRE REGIONAL | L11: =VLOOKUP(REG,'datos 2'!A2:B35,2,FALSE) -> Huila
B12: COD CENTRO DE COSTOS | J12: NOMBRE CENTRO DE COSTO
B13: NOMBRE DE JEFE DE OFICINA O COORDINADOR DE AREA: | H13: SILVIA CRISTINA VASQUEZ CASTRO
B14: TIPO DE CUENTADANTE | H14: UNIPERSONAL
B15: NOMBRE DEL CUENTADANTE UNIPERSONAL O CUENTADANTE MÚLTIPLE | H15: CARLOS ANDRES TORRES | L15: N° DE IDENTIFICIACIÓN
B17: PARA EL CASO DE CUENTADANTE MÚLPLES EN EL SIGUIENTE CAMPO RELACIONE EL NOMBRE Y NUMERO DE IDENTIFICACIÓN DE LAS PERSONAS QUE LO CONFORMAN Adicione todas las celdas que se requieran.
B18: NOMBRE | J18: N° DE IDENTIFICIACIÓN
B19: NOMBRE | J19: N° DE IDENTIFICIACIÓN
B20: NOMBRE | J20: N° DE IDENTIFICIACIÓN
B22: DESTINO DE LOS BIENES SOLICITADOS | H22: Formación
B23: CÓDIGO DE GRUPO O FICHA DE CARACTERIZACIÓN | H23: ID 3575967
B25: ITEM | C25: CÓDIGO SENA | E25: DESCRIPCION DE BIEN | H25: UNIDA DE MEDIDA | I25: CANTIDAD SOLICITADA | J25: CANTIDAD ENTREGADA | K25: OBSERVACIONES
B26: 1 | E26: ALAMBRE DULCE NEGRO, PARA AMARRE DE HIERRO, CALIBRE 18, PRESENTACIÓN KILOGRAMO (PRODUCTO - ALAMBRE DULCE) | H26: UN | I26: 18 | J26: 18
B27: 2 | E27: GRIS, BULTO X 50 KG, TIPO PORTLAN. (PRODCUTO CEMENTO) | H27: UN | I27: 137 | J27: 137
B28: 3 | E28: PUNTILLA DE HIERRO 2 1/2"X LB, CON CABEZA, PARA CONSTRUCCIÓN | H28: UN | I28: 6 | J28: 6
B29: 4 | E29: TABLON DE MADERA, LARGO 3M, ANCHO 30CM Y ESPESOR 3CM, N/A, TABLÓN DE MADERA LARGO 3M, ANCHO 30CM Y ESPESOR 3CM CEPILLADO POR UNA CARA, PARA USO DE FORMALETA ESTRUCTURAS EN CONCRETO | H29: UN | I29: 10 | J29: 10
B30: 5 | E30: VARILLA CORRUGADA G60 W #2 (1/4 PULG) X 6M. CUMPLE CON NTC 2289 AÑO 2012 - DECRETO 1513 AÑO 2012 - RESOLUCION 1856 AÑO 2017. | H30: UN | I30: 86 | J30: 86
B31: 6 | E31: VARILLA CORRUGADA G60 W #3 (3/8 PULG) X 6M. CUMPLE CON NTC 2289 AÑO 2012 - DECRETO 1513 AÑO 2012 - RESOLUCION 1856 AÑO 2017. | H31: UN | I31: 146 | J31: 146
B32: 7 | E32: VARILLA CORRUGADA G60 W #4 (1/2 PULG) X 6M. CUMPLE CON NTC 2289 AÑO 2012 - DECRETO 1513 AÑO 2012 - RESOLUCION 1856 AÑO 2017. | H32: UN | I32: 4 | J32: 4
B33: 8 | E33: ARENA GRUESA (CUMPLIMIENTO NTC 174 AGREGADOS PARA CONCRETO MF= 2,3 - 3,1), LA UNIDAD DE MEDIDA ES METRO CUBICO (M3) PARA ESTE ELEMENTO | H33: M3 | I33: 18 | J33: 18
B34: 9 | E34: GRAVA TRITURADA 1/2" CON CUMPLIMIENTO DE LA NTC 174 " ESPECIFICACIONES DE LOS AGREGADOS PARA CONCRETOS" | H34: M3 | I34: 24 | J34: 24
C37: NOMBRE: | E37: SILVIA CRISTINA VÁSQUEZ CASTRO | J37: CARGO | L37: COORDINADORA ACADÉMICA DE PROGRAMAS ESPECIALES
C38: FIRMA:
C40: Nota: La cantidad de bienes entregada puede ser inferior a la cantidad de bienes solicitados toda vez que la solicitud se atiende de acuerdo a las existencias físicas de bienes en cada almacén.

Sheet GIL-F-014-ID-3514773
M2: Versión: 07
M3: Código: GIL-F-014
B4: PROCESO
B5: GESTIÓN DE INFRAESTRUCTURA Y LOGÍSTICA
B6: NOMBRE DEL FORMATO
B7: FORMATO SOLICITUD DE BIENES PARA USO DE CUENTADANTES
B8: CLASIFICACIÓN DE LA INFORMACIÓN
B9: Pública: | G9: Pública Clasificada: | L9: Pública Reservada:
B10: FECHA SOLICITUD | J10: AREA | K10: CAM
B11: CODIGO REGIONAL | E11: 41 | J11: NOMBRE REGIONAL | L11: =VLOOKUP(REG,'datos 2'!A2:B35,2,FALSE) -> Huila
B12: COD CENTRO DE COSTOS | J12: NOMBRE CENTRO DE COSTO
B13: NOMBRE DE JEFE DE OFICINA O COORDINADOR DE AREA: | H13: SILVIA CRISTINA VASQUEZ CASTRO
B14: TIPO DE CUENTADANTE | H14: UNIPERSONAL
B15: NOMBRE DEL CUENTADANTE UNIPERSONAL O CUENTADANTE MÚLTIPLE | H15: CARLOS ANDRES TORRES | L15: N° DE IDENTIFICIACIÓN
B17: PARA EL CASO DE CUENTADANTE MÚLPLES EN EL SIGUIENTE CAMPO RELACIONE EL NOMBRE Y NUMERO DE IDENTIFICACIÓN DE LAS PERSONAS QUE LO CONFORMAN Adicione todas las celdas que se requieran.
B18: NOMBRE | J18: N° DE IDENTIFICIACIÓN
B19: NOMBRE | J19: N° DE IDENTIFICIACIÓN
B20: NOMBRE | J20: N° DE IDENTIFICIACIÓN
B22: DESTINO DE LOS BIENES SOLICITADOS | H22: Formación
B23: CÓDIGO DE GRUPO O FICHA DE CARACTERIZACIÓN | H23: ID 3514773
B25: ITEM | C25: CÓDIGO SENA | E25: DESCRIPCION DE BIEN | H25: UNIDA DE MEDIDA | I25: CANTIDAD SOLICITADA | J25: CANTIDAD ENTREGADA | K25: OBSERVACIONES
B26: 1 | E26: ALAMBRE DULCE NEGRO, PARA AMARRE DE HIERRO, CALIBRE 18, PRESENTACIÓN KILOGRAMO (PRODUCTO - ALAMBRE DULCE) | H26: UN | I26: 18 | J26: 18
B27: 2 | E27: GRIS, BULTO X 50 KG, TIPO PORTLAN. (PRODCUTO CEMENTO) | H27: UN | I27: 127 | J27: 127
B28: 3 | E28: PUNTILLA DE HIERRO 2 1/2"X LB, CON CABEZA, PARA CONSTRUCCIÓN | H28: UN | I28: 6 | J28: 6
B29: 4 | E29: TABLON DE MADERA, LARGO 3M, ANCHO 30CM Y ESPESOR 3CM, N/A, TABLÓN DE MADERA LARGO 3M, ANCHO 30CM Y ESPESOR 3CM CEPILLADO POR UNA CARA, PARA USO DE FORMALETA ESTRUCTURAS EN CONCRETO | H29: UN | I29: 10 | J29: 10
B30: 5 | E30: VARILLA CORRUGADA G60 W #2 (1/4 PULG) X 6M. CUMPLE CON NTC 2289 AÑO 2012 - DECRETO 1513 AÑO 2012 - RESOLUCION 1856 AÑO 2017. | H30: UN | I30: 79 | J30: 79
B31: 6 | E31: VARILLA CORRUGADA G60 W #3 (3/8 PULG) X 6M. CUMPLE CON NTC 2289 AÑO 2012 - DECRETO 1513 AÑO 2012 - RESOLUCION 1856 AÑO 2017. | H31: UN | I31: 137 | J31: 137
B32: 7 | E32: VARILLA CORRUGADA G60 W #4 (1/2 PULG) X 6M. CUMPLE CON NTC 2289 AÑO 2012 - DECRETO 1513 AÑO 2012 - RESOLUCION 1856 AÑO 2017. | H32: UN | I32: 4 | J32: 4
B33: 8 | E33: ARENA GRUESA (CUMPLIMIENTO NTC 174 AGREGADOS PARA CONCRETO MF= 2,3 - 3,1), LA UNIDAD DE MEDIDA ES METRO CUBICO (M3) PARA ESTE ELEMENTO | H33: M3 | I33: 18 | J33: 18
B34: 9 | E34: GRAVA TRITURADA 1/2" CON CUMPLIMIENTO DE LA NTC 174 " ESPECIFICACIONES DE LOS AGREGADOS PARA CONCRETOS" | H34: M3 | I34: 24 | J34: 24
B35: 10 | E35: PIEDRA RAJÓN, METRO CUBICO, N/A, PIEDRA CON UN TAMAÑO PROMEDIO DE 12CM DE DIÁMETRO DE BUENA RESISTENCIA. SE UTILIZA PARA LA CONSTRUCCIÓN DE VÍAS Y CONSTRUCCIÓN DE PLACA HUELAS (CONCRETO CICLÓPEO). SU DESGASTE NO DEBE SER MAYOR AL 50% Y EL ÍNDICE DE PLASTICIDAD DEL MATERIAL FINO DEBE SER MENOR O IGUAL AL 6%, LA UNIDAD DE MEDIDA PARA ESTE ELEMENTO ES METRO CUBICO (M3) | H35: M3 | I35: 6 | J35: 6
C38: NOMBRE: | E38: SILVIA CRISTINA VÁSQUEZ CASTRO | J38: CARGO | L38: COORDINADORA ACADÉMICA DE PROGRAMAS ESPECIALES
C39: FIRMA:
C41: Nota: La cantidad de bienes entregada puede ser inferior a la cantidad de bienes solicitados toda vez que la solicitud se atiende de acuerdo a las existencias físicas de bienes en cada almacén.

Sheet GIL-F-014-ID-3514775
M2: Versión: 07
M3: Código: GIL-F-014
B4: PROCESO
B5: GESTIÓN DE INFRAESTRUCTURA Y LOGÍSTICA
B6: NOMBRE DEL FORMATO
B7: FORMATO SOLICITUD DE BIENES PARA USO DE CUENTADANTES
B8: CLASIFICACIÓN DE LA INFORMACIÓN
B9: Pública: | G9: Pública Clasificada: | L9: Pública Reservada:
B10: FECHA SOLICITUD | J10: AREA | K10: CAM
B11: CODIGO REGIONAL | E11: 41 | J11: NOMBRE REGIONAL | L11: =VLOOKUP(REG,'datos 2'!A2:B35,2,FALSE) -> Huila
B12: COD CENTRO DE COSTOS | J12: NOMBRE CENTRO DE COSTO
B13: NOMBRE DE JEFE DE OFICINA O COORDINADOR DE AREA: | H13: SILVIA CRISTINA VASQUEZ CASTRO
B14: TIPO DE CUENTADANTE | H14: UNIPERSONAL
B15: NOMBRE DEL CUENTADANTE UNIPERSONAL O CUENTADANTE MÚLTIPLE | H15: CARLOS ANDRES TORRES | L15: N° DE IDENTIFICIACIÓN
B17: PARA EL CASO DE CUENTADANTE MÚLPLES EN EL SIGUIENTE CAMPO RELACIONE EL NOMBRE Y NUMERO DE IDENTIFICACIÓN DE LAS PERSONAS QUE LO CONFORMAN Adicione todas las celdas que se requieran.
B18: NOMBRE | J18: N° DE IDENTIFICIACIÓN
B19: NOMBRE | J19: N° DE IDENTIFICIACIÓN
B20: NOMBRE | J20: N° DE IDENTIFICIACIÓN
B22: DESTINO DE LOS BIENES SOLICITADOS | H22: Formación
B23: CÓDIGO DE GRUPO O FICHA DE CARACTERIZACIÓN | H23: ID 3514775
B25: ITEM | C25: CÓDIGO SENA | E25: DESCRIPCION DE BIEN | H25: UNIDA DE MEDIDA | I25: CANTIDAD SOLICITADA | J25: CANTIDAD ENTREGADA | K25: OBSERVACIONES
B26: 1 | E26: ALAMBRE DULCE NEGRO, PARA AMARRE DE HIERRO, CALIBRE 18, PRESENTACIÓN KILOGRAMO (PRODUCTO - ALAMBRE DULCE) | H26: UN | I26: 18 | J26: 18
B27: 2 | E27: GRIS, BULTO X 50 KG, TIPO PORTLAN. (PRODCUTO CEMENTO) | H27: UN | I27: 127 | J27: 127
B28: 3 | E28: PUNTILLA DE HIERRO 2 1/2"X LB, CON CABEZA, PARA CONSTRUCCIÓN | H28: UN | I28: 6 | J28: 6
B29: 4 | E29: TABLON DE MADERA, LARGO 3M, ANCHO 30CM Y ESPESOR 3CM, N/A, TABLÓN DE MADERA LARGO 3M, ANCHO 30CM Y ESPESOR 3CM CEPILLADO POR UNA CARA, PARA USO DE FORMALETA ESTRUCTURAS EN CONCRETO | H29: UN | I29: 10 | J29: 10
B30: 5 | E30: VARILLA CORRUGADA G60 W #2 (1/4 PULG) X 6M. CUMPLE CON NTC 2289 AÑO 2012 - DECRETO 1513 AÑO 2012 - RESOLUCION 1856 AÑO 2017. | H30: UN | I30: 79 | J30: 79
B31: 6 | E31: VARILLA CORRUGADA G60 W #3 (3/8 PULG) X 6M. CUMPLE CON NTC 2289 AÑO 2012 - DECRETO 1513 AÑO 2012 - RESOLUCION 1856 AÑO 2017. | H31: UN | I31: 137 | J31: 137
B32: 7 | E32: VARILLA CORRUGADA G60 W #4 (1/2 PULG) X 6M. CUMPLE CON NTC 2289 AÑO 2012 - DECRETO 1513 AÑO 2012 - RESOLUCION 1856 AÑO 2017. | H32: UN | I32: 4 | J32: 4
B33: 8 | E33: ARENA GRUESA (CUMPLIMIENTO NTC 174 AGREGADOS PARA CONCRETO MF= 2,3 - 3,1), LA UNIDAD DE MEDIDA ES METRO CUBICO (M3) PARA ESTE ELEMENTO | H33: M3 | I33: 18 | J33: 18
B34: 9 | E34: GRAVA TRITURADA 1/2" CON CUMPLIMIENTO DE LA NTC 174 " ESPECIFICACIONES DE LOS AGREGADOS PARA CONCRETOS" | H34: M3 | I34: 24 | J34: 24
B35: 10 | E35: PIEDRA RAJÓN, METRO CUBICO, N/A, PIEDRA CON UN TAMAÑO PROMEDIO DE 12CM DE DIÁMETRO DE BUENA RESISTENCIA. SE UTILIZA PARA LA CONSTRUCCIÓN DE VÍAS Y CONSTRUCCIÓN DE PLACA HUELAS (CONCRETO CICLÓPEO). SU DESGASTE NO DEBE SER MAYOR AL 50% Y EL ÍNDICE DE PLASTICIDAD DEL MATERIAL FINO DEBE SER MENOR O IGUAL AL 6%, LA UNIDAD DE MEDIDA PARA ESTE ELEMENTO ES METRO CUBICO (M3) | H35: M3 | I35: 6 | J35: 6
C38: NOMBRE: | E38: SILVIA CRISTINA VÁSQUEZ CASTRO | J38: CARGO | L38: COORDINADORA ACADÉMICA DE PROGRAMAS ESPECIALES
C39: FIRMA:
C41: Nota: La cantidad de bienes entregada puede ser inferior a la cantidad de bienes solicitados toda vez que la solicitud se atiende de acuerdo a las existencias físicas de bienes en cada almacén.

Sheet GIL-F-014-ID-3514793
M2: Versión: 07
M3: Código: GIL-F-014
B4: PROCESO
B5: GESTIÓN DE INFRAESTRUCTURA Y LOGÍSTICA
B6: NOMBRE DEL FORMATO
B7: FORMATO SOLICITUD DE BIENES PARA USO DE CUENTADANTES
B8: CLASIFICACIÓN DE LA INFORMACIÓN
B9: Pública: | G9: Pública Clasificada: | L9: Pública Reservada:
B10: FECHA SOLICITUD | J10: AREA
B11: CODIGO REGIONAL | E11: 41 | J11: NOMBRE REGIONAL | L11: =VLOOKUP(REG,'datos 2'!A2:B35,2,FALSE) -> Huila
B12: COD CENTRO DE COSTOS | J12: NOMBRE CENTRO DE COSTO
B13: NOMBRE DE JEFE DE OFICINA O COORDINADOR DE AREA: | H13: SILVIA CRISTINA VASQUEZ CASTRO
B14: TIPO DE CUENTADANTE | H14: UNIPERSONAL
B15: NOMBRE DEL CUENTADANTE UNIPERSONAL O CUENTADANTE MÚLTIPLE | H15: NIXON GERMAN DIAZ MUÑOZ | L15: N° DE IDENTIFICIACIÓN | M15: 1082773486
B17: PARA EL CASO DE CUENTADANTE MÚLPLES EN EL SIGUIENTE CAMPO RELACIONE EL NOMBRE Y NUMERO DE IDENTIFICACIÓN DE LAS PERSONAS QUE LO CONFORMAN Adicione todas las celdas que se requieran.
B18: NOMBRE | J18: N° DE IDENTIFICIACIÓN
B19: NOMBRE | J19: N° DE IDENTIFICIACIÓN
B20: NOMBRE | J20: N° DE IDENTIFICIACIÓN
B22: DESTINO DE LOS BIENES SOLICITADOS | H22: Formación
B23: CÓDIGO DE GRUPO O FICHA DE CARACTERIZACIÓN | H23: ID 3514793
B25: ITEM | C25: CÓDIGO SENA | E25: DESCRIPCION DE BIEN | H25: UNIDA DE MEDIDA | I25: CANTIDAD SOLICITADA | J25: CANTIDAD ENTREGADA | K25: OBSERVACIONES
B26: 1 | E26: ALAMBRE DULCE NEGRO, PARA AMARRE DE HIERRO, CALIBRE 18, PRESENTACIÓN KILOGRAMO (PRODUCTO - ALAMBRE DULCE) | H26: UN | I26: 18 | J26: =+I26 -> 18
B27: 2 | E27: GRIS, BULTO X 50 KG, TIPO PORTLAN. (PRODCUTO CEMENTO) | F27: GRIS, BULTO X 50 KG, TIPO PORTLAN. (PRODCUTO CEMENTO) | G27: GRIS, BULTO X 50 KG, TIPO PORTLAN. (PRODCUTO CEMENTO) | H27: UN | I27: 137 | J27: =+I27 -> 137
B28: 3 | E28: PUNTILLA DE HIERRO 2 1/2"X LB, CON CABEZA, PARA CONSTRUCCIÓN | F28: PUNTILLA DE HIERRO 2 1/2"X LB, CON CABEZA, PARA CONSTRUCCIÓN | G28: PUNTILLA DE HIERRO 2 1/2"X LB, CON CABEZA, PARA CONSTRUCCIÓN | H28: UN | I28: 6 | J28: =+I28 -> 6
B29: 4 | E29: TABLON DE MADERA, LARGO 3M, ANCHO 30CM Y ESPESOR 3CM, N/A, TABLÓN DE MADERA LARGO 3M, ANCHO 30CM Y ESPESOR 3CM CEPILLADO POR UNA CARA, PARA USO DE FORMALETA ESTRUCTURAS EN CONCRETO | F29: TABLON DE MADERA, LARGO 3M, ANCHO 30CM Y ESPESOR 3CM, N/A, TABLÓN DE MADERA LARGO 3M, ANCHO 30CM Y ESPESOR 3CM CEPILLADO POR UNA CARA, PARA USO DE FORMALETA ESTRUCTURAS EN CONCRETO | G29: TABLON DE MADERA, LARGO 3M, ANCHO 30CM Y ESPESOR 3CM, N/A, TABLÓN DE MADERA LARGO 3M, ANCHO 30CM Y ESPESOR 3CM CEPILLADO POR UNA CARA, PARA USO DE FORMALETA ESTRUCTURAS EN CONCRETO | H29: UN | I29: 10 | J29: =+I29 -> 10
B30: 5 | E30: VARILLA CORRUGADA G60 W #2 (1/4 PULG) X 6M. CUMPLE CON NTC 2289 AÑO 2012 - DECRETO 1513 AÑO 2012 - RESOLUCION 1856 AÑO 2017. | F30: VARILLA CORRUGADA G60 W #2 (1/4 PULG) X 6M. CUMPLE CON NTC 2289 AÑO 2012 - DECRETO 1513 AÑO 2012 - RESOLUCION 1856 AÑO 2017. | G30: VARILLA CORRUGADA G60 W #2 (1/4 PULG) X 6M. CUMPLE CON NTC 2289 AÑO 2012 - DECRETO 1513 AÑO 2012 - RESOLUCION 1856 AÑO 2017. | H30: UN | I30: 86 | J30: =+I30 -> 86
B31: 6 | E31: VARILLA CORRUGADA G60 W #3 (3/8 PULG) X 6M. CUMPLE CON NTC 2289 AÑO 2012 - DECRETO 1513 AÑO 2012 - RESOLUCION 1856 AÑO 2017. | F31: VARILLA CORRUGADA G60 W #3 (3/8 PULG) X 6M. CUMPLE CON NTC 2289 AÑO 2012 - DECRETO 1513 AÑO 2012 - RESOLUCION 1856 AÑO 2017. | G31: VARILLA CORRUGADA G60 W #3 (3/8 PULG) X 6M. CUMPLE CON NTC 2289 AÑO 2012 - DECRETO 1513 AÑO 2012 - RESOLUCION 1856 AÑO 2017. | H31: UN | I31: 146 | J31: =+I31 -> 146
B32: 7 | E32: VARILLA CORRUGADA G60 W #4 (1/2 PULG) X 6M. CUMPLE CON NTC 2289 AÑO 2012 - DECRETO 1513 AÑO 2012 - RESOLUCION 1856 AÑO 2017. | F32: VARILLA CORRUGADA G60 W #4 (1/2 PULG) X 6M. CUMPLE CON NTC 2289 AÑO 2012 - DECRETO 1513 AÑO 2012 - RESOLUCION 1856 AÑO 2017. | G32: VARILLA CORRUGADA G60 W #4 (1/2 PULG) X 6M. CUMPLE CON NTC 2289 AÑO 2012 - DECRETO 1513 AÑO 2012 - RESOLUCION 1856 AÑO 2017. | H32: UN | I32: 4 | J32: =+I32 -> 4
B33: 8 | E33: ARENA GRUESA (CUMPLIMIENTO NTC 174 AGREGADOS PARA CONCRETO MF= 2,3 - 3,1), LA UNIDAD DE MEDIDA ES METRO CUBICO (M3) PARA ESTE ELEMENTO | F33: ARENA GRUESA (CUMPLIMIENTO NTC 174 AGREGADOS PARA CONCRETO MF= 2,3 - 3,1), LA UNIDAD DE MEDIDA ES METRO CUBICO (M3) PARA ESTE ELEMENTO | G33: ARENA GRUESA (CUMPLIMIENTO NTC 174 AGREGADOS PARA CONCRETO MF= 2,3 - 3,1), LA UNIDAD DE MEDIDA ES METRO CUBICO (M3) PARA ESTE ELEMENTO | H33: M3 | I33: 18 | J33: =+I33 -> 18
B34: 9 | E34: GRAVA TRITURADA 1/2" CON CUMPLIMIENTO DE LA NTC 174 " ESPECIFICACIONES DE LOS AGREGADOS PARA CONCRETOS" | F34: GRAVA TRITURADA 1/2" CON CUMPLIMIENTO DE LA NTC 174 " ESPECIFICACIONES DE LOS AGREGADOS PARA CONCRETOS" | G34: GRAVA TRITURADA 1/2" CON CUMPLIMIENTO DE LA NTC 174 " ESPECIFICACIONES DE LOS AGREGADOS PARA CONCRETOS" | H34: M3 | I34: 24 | J34: =+I34 -> 24
C37: NOMBRE: | E37: SILVIA CRISTINA VÁSQUEZ CASTRO | J37: CARGO | L37: COORDINADORA ACADÉMICA DE PROGRAMAS ESPECIALES
C38: FIRMA:
C40: Nota: La cantidad de bienes entregada puede ser inferior a la cantidad de bienes solicitados toda vez que la solicitud se atiende de acuerdo a las existencias físicas de bienes en cada almacén.

Sheet GIL-F-014-ID-3514795
M2: Versión: 07
M3: Código: GIL-F-014
B4: PROCESO
B5: GESTIÓN DE INFRAESTRUCTURA Y LOGÍSTICA
B6: NOMBRE DEL FORMATO
B7: FORMATO SOLICITUD DE BIENES PARA USO DE CUENTADANTES
B8: CLASIFICACIÓN DE LA INFORMACIÓN
B9: Pública: | G9: Pública Clasificada: | L9: Pública Reservada:
B10: FECHA SOLICITUD | J10: AREA
B11: CODIGO REGIONAL | E11: 41 | J11: NOMBRE REGIONAL | L11: =VLOOKUP(REG,'datos 2'!A2:B35,2,FALSE) -> Huila
B12: COD CENTRO DE COSTOS | J12: NOMBRE CENTRO DE COSTO
B13: NOMBRE DE JEFE DE OFICINA O COORDINADOR DE AREA: | H13: SILVIA CRISTINA VASQUEZ CASTRO
B14: TIPO DE CUENTADANTE | H14: UNIPERSONAL
B15: NOMBRE DEL CUENTADANTE UNIPERSONAL O CUENTADANTE MÚLTIPLE | H15: JOHN EDWIN MONTILLA BERNA | L15: N° DE IDENTIFICIACIÓN | M15: 1077858481
B17: PARA EL CASO DE CUENTADANTE MÚLPLES EN EL SIGUIENTE CAMPO RELACIONE EL NOMBRE Y NUMERO DE IDENTIFICACIÓN DE LAS PERSONAS QUE LO CONFORMAN Adicione todas las celdas que se requieran.
B18: NOMBRE | J18: N° DE IDENTIFICIACIÓN
B19: NOMBRE | J19: N° DE IDENTIFICIACIÓN
B20: NOMBRE | J20: N° DE IDENTIFICIACIÓN
B22: DESTINO DE LOS BIENES SOLICITADOS | H22: Formación
B23: CÓDIGO DE GRUPO O FICHA DE CARACTERIZACIÓN | H23: ID 3514795
B25: ITEM | C25: CÓDIGO SENA | E25: DESCRIPCION DE BIEN | H25: UNIDA DE MEDIDA | I25: CANTIDAD SOLICITADA | J25: CANTIDAD ENTREGADA | K25: OBSERVACIONES
B26: 1 | E26: ALAMBRE DULCE NEGRO, PARA AMARRE DE HIERRO, CALIBRE 18, PRESENTACIÓN KILOGRAMO (PRODUCTO - ALAMBRE DULCE) | H26: UN | I26: 18 | J26: 18
B27: 2 | E27: GRIS, BULTO X 50 KG, TIPO PORTLAN. (PRODCUTO CEMENTO) | H27: UN | I27: 127 | J27: 127
B28: 3 | E28: PUNTILLA DE HIERRO 2 1/2"X LB, CON CABEZA, PARA CONSTRUCCIÓN | H28: UN | I28: 6 | J28: 6
B29: 4 | E29: TABLON DE MADERA, LARGO 3M, ANCHO 30CM Y ESPESOR 3CM, N/A, TABLÓN DE MADERA LARGO 3M, ANCHO 30CM Y ESPESOR 3CM CEPILLADO POR UNA CARA, PARA USO DE FORMALETA ESTRUCTURAS EN CONCRETO | H29: UN | I29: 10 | J29: 10
B30: 5 | E30: VARILLA CORRUGADA G60 W #2 (1/4 PULG) X 6M. CUMPLE CON NTC 2289 AÑO 2012 - DECRETO 1513 AÑO 2012 - RESOLUCION 1856 AÑO 2017. | H30: UN | I30: 79 | J30: 79
B31: 6 | E31: VARILLA CORRUGADA G60 W #3 (3/8 PULG) X 6M. CUMPLE CON NTC 2289 AÑO 2012 - DECRETO 1513 AÑO 2012 - RESOLUCION 1856 AÑO 2017. | H31: UN | I31: 137 | J31: 137
B32: 7 | E32: VARILLA CORRUGADA G60 W #4 (1/2 PULG) X 6M. CUMPLE CON NTC 2289 AÑO 2012 - DECRETO 1513 AÑO 2012 - RESOLUCION 1856 AÑO 2017. | H32: UN | I32: 4 | J32: 4
B33: 8 | E33: ARENA GRUESA (CUMPLIMIENTO NTC 174 AGREGADOS PARA CONCRETO MF= 2,3 - 3,1), LA UNIDAD DE MEDIDA ES METRO CUBICO (M3) PARA ESTE ELEMENTO | H33: M3 | I33: 18 | J33: 18
B34: 9 | E34: GRAVA TRITURADA 1/2" CON CUMPLIMIENTO DE LA NTC 174 " ESPECIFICACIONES DE LOS AGREGADOS PARA CONCRETOS" | H34: M3 | I34: 24 | J34: 24
B35: 10 | E35: PIEDRA RAJÓN, METRO CUBICO, N/A, PIEDRA CON UN TAMAÑO PROMEDIO DE 12CM DE DIÁMETRO DE BUENA RESISTENCIA. SE UTILIZA PARA LA CONSTRUCCIÓN DE VÍAS Y CONSTRUCCIÓN DE PLACA HUELAS (CONCRETO CICLÓPEO). SU DESGASTE NO DEBE SER MAYOR AL 50% Y EL ÍNDICE DE PLASTICIDAD DEL MATERIAL FINO DEBE SER MENOR O IGUAL AL 6%, LA UNIDAD DE MEDIDA PARA ESTE ELEMENTO ES METRO CUBICO (M3) | H35: M3 | I35: 6 | J35: 6
C38: NOMBRE: | E38: SILVIA CRISTINA VÁSQUEZ CASTRO | J38: CARGO | L38: COORDINADORA ACADÉMICA DE PROGRAMAS ESPECIALES
C39: FIRMA:
C41: Nota: La cantidad de bienes entregada puede ser inferior a la cantidad de bienes solicitados toda vez que la solicitud se atiende de acuerdo a las existencias físicas de bienes en cada almacén.

Sheet GIL-F-014-ID-3514796
M2: Versión: 07
M3: Código: GIL-F-014
B4: PROCESO
B5: GESTIÓN DE INFRAESTRUCTURA Y LOGÍSTICA
B6: NOMBRE DEL FORMATO
B7: FORMATO SOLICITUD DE BIENES PARA USO DE CUENTADANTES
B8: CLASIFICACIÓN DE LA INFORMACIÓN
B9: Pública: | G9: Pública Clasificada: | L9: Pública Reservada:
B10: FECHA SOLICITUD | J10: AREA | K10: CAM
B11: CODIGO REGIONAL | E11: 41 | J11: NOMBRE REGIONAL | L11: =VLOOKUP(REG,'datos 2'!A2:B35,2,FALSE) -> Huila
B12: COD CENTRO DE COSTOS | J12: NOMBRE CENTRO DE COSTO
B13: NOMBRE DE JEFE DE OFICINA O COORDINADOR DE AREA: | H13: SILVIA CRISTINA VASQUEZ CASTRO
B14: TIPO DE CUENTADANTE | H14: UNIPERSONAL
B15: NOMBRE DEL CUENTADANTE UNIPERSONAL O CUENTADANTE MÚLTIPLE | H15: NIXON GERMAN DIAZ MUÑOZ | L15: N° DE IDENTIFICIACIÓN | M15: 1082773486
B17: PARA EL CASO DE CUENTADANTE MÚLPLES EN EL SIGUIENTE CAMPO RELACIONE EL NOMBRE Y NUMERO DE IDENTIFICACIÓN DE LAS PERSONAS QUE LO CONFORMAN Adicione todas las celdas que se requieran.
B18: NOMBRE | J18: N° DE IDENTIFICIACIÓN
B19: NOMBRE | J19: N° DE IDENTIFICIACIÓN
B20: NOMBRE | J20: N° DE IDENTIFICIACIÓN
B22: DESTINO DE LOS BIENES SOLICITADOS | H22: Formación
B23: CÓDIGO DE GRUPO O FICHA DE CARACTERIZACIÓN | H23: ID 3514796
B25: ITEM | C25: CÓDIGO SENA | E25: DESCRIPCION DE BIEN | H25: UNIDA DE MEDIDA | I25: CANTIDAD SOLICITADA | J25: CANTIDAD ENTREGADA | K25: OBSERVACIONES
B26: 1 | E26: ALAMBRE DULCE NEGRO, PARA AMARRE DE HIERRO, CALIBRE 18, PRESENTACIÓN KILOGRAMO (PRODUCTO - ALAMBRE DULCE) | H26: UN | I26: 18 | J26: 18
B27: 2 | E27: GRIS, BULTO X 50 KG, TIPO PORTLAN. (PRODCUTO CEMENTO) | H27: UN | I27: 162 | J27: 162
B28: 3 | E28: PUNTILLA DE HIERRO 2 1/2"X LB, CON CABEZA, PARA CONSTRUCCIÓN | H28: UN | I28: 6 | J28: 6
B29: 4 | E29: TABLON DE MADERA, LARGO 3M, ANCHO 30CM Y ESPESOR 3CM, N/A, TABLÓN DE MADERA LARGO 3M, ANCHO 30CM Y ESPESOR 3CM CEPILLADO POR UNA CARA, PARA USO DE FORMALETA ESTRUCTURAS EN CONCRETO | H29: UN | I29: 10 | J29: 10
B30: 5 | E30: VARILLA CORRUGADA G60 W #2 (1/4 PULG) X 6M. CUMPLE CON NTC 2289 AÑO 2012 - DECRETO 1513 AÑO 2012 - RESOLUCION 1856 AÑO 2017. | H30: UN | I30: 100 | J30: 100
B31: 6 | E31: VARILLA CORRUGADA G60 W #3 (3/8 PULG) X 6M. CUMPLE CON NTC 2289 AÑO 2012 - DECRETO 1513 AÑO 2012 - RESOLUCION 1856 AÑO 2017. | H31: UN | I31: 174 | J31: 174
B32: 7 | E32: VARILLA CORRUGADA G60 W #4 (1/2 PULG) X 6M. CUMPLE CON NTC 2289 AÑO 2012 - DECRETO 1513 AÑO 2012 - RESOLUCION 1856 AÑO 2017. | H32: UN | I32: 4 | J32: 4
B33: 8 | E33: GRAVA TRITURADA 1/2" CON CUMPLIMIENTO DE LA NTC 174 " ESPECIFICACIONES DE LOS AGREGADOS PARA CONCRETOS" | H33: M3 | I33: 24 | J33: 24
B34: 9 | E34: PIEDRA RAJÓN, METRO CUBICO, N/A, PIEDRA CON UN TAMAÑO PROMEDIO DE 12CM DE DIÁMETRO DE BUENA RESISTENCIA. SE UTILIZA PARA LA CONSTRUCCIÓN DE VÍAS Y CONSTRUCCIÓN DE PLACA HUELAS (CONCRETO CICLÓPEO). SU DESGASTE NO DEBE SER MAYOR AL 50% Y EL ÍNDICE DE PLASTICIDAD DEL MATERIAL FINO DEBE SER MENOR O IGUAL AL 6%, LA UNIDAD DE MEDIDA PARA ESTE ELEMENTO ES METRO CUBICO (M3) | H34: M3 | I34: 6 | J34: 6
C37: NOMBRE: | E37: SILVIA CRISTINA VÁSQUEZ CASTRO | J37: CARGO | L37: COORDINADORA ACADÉMICA DE PROGRAMAS ESPECIALES
C38: FIRMA:
C40: Nota: La cantidad de bienes entregada puede ser inferior a la cantidad de bienes solicitados toda vez que la solicitud se atiende de acuerdo a las existencias físicas de bienes en cada almacén.

Sheet GIL-F-014-ID-3514797
M2: Versión: 07
M3: Código: GIL-F-014
B4: PROCESO
B5: GESTIÓN DE INFRAESTRUCTURA Y LOGÍSTICA
B6: NOMBRE DEL FORMATO
B7: FORMATO SOLICITUD DE BIENES PARA USO DE CUENTADANTES
B8: CLASIFICACIÓN DE LA INFORMACIÓN
B9: Pública: | G9: Pública Clasificada: | L9: Pública Reservada:
B10: FECHA SOLICITUD | J10: AREA | K10: CAM
B11: CODIGO REGIONAL | E11: 41 | J11: NOMBRE REGIONAL | L11: =VLOOKUP(REG,'datos 2'!A2:B35,2,FALSE) -> Huila
B12: COD CENTRO DE COSTOS | J12: NOMBRE CENTRO DE COSTO
B13: NOMBRE DE JEFE DE OFICINA O COORDINADOR DE AREA: | H13: SILVIA CRISTINA VASQUEZ CASTRO
B14: TIPO DE CUENTADANTE | H14: UNIPERSONAL
B15: NOMBRE DEL CUENTADANTE UNIPERSONAL O CUENTADANTE MÚLTIPLE | H15: NIXON GERMAN DIAZ MUÑOZ | L15: N° DE IDENTIFICIACIÓN | M15: 1082773486
B17: PARA EL CASO DE CUENTADANTE MÚLPLES EN EL SIGUIENTE CAMPO RELACIONE EL NOMBRE Y NUMERO DE IDENTIFICACIÓN DE LAS PERSONAS QUE LO CONFORMAN Adicione todas las celdas que se requieran.
B18: NOMBRE | J18: N° DE IDENTIFICIACIÓN
B19: NOMBRE | J19: N° DE IDENTIFICIACIÓN
B20: NOMBRE | J20: N° DE IDENTIFICIACIÓN
B22: DESTINO DE LOS BIENES SOLICITADOS | H22: Formación
B23: CÓDIGO DE GRUPO O FICHA DE CARACTERIZACIÓN | H23: ID 3514797
B25: ITEM | C25: CÓDIGO SENA | E25: DESCRIPCION DE BIEN | H25: UNIDA DE MEDIDA | I25: CANTIDAD SOLICITADA | J25: CANTIDAD ENTREGADA | K25: OBSERVACIONES
B26: 1 | E26: ALAMBRE DULCE NEGRO, PARA AMARRE DE HIERRO, CALIBRE 18, PRESENTACIÓN KILOGRAMO (PRODUCTO - ALAMBRE DULCE) | H26: UN | I26: 18 | J26: 18
B27: 2 | E27: GRIS, BULTO X 50 KG, TIPO PORTLAN. (PRODCUTO CEMENTO) | H27: UN | I27: 175 | J27: 175
B28: 3 | E28: PUNTILLA DE HIERRO 2 1/2"X LB, CON CABEZA, PARA CONSTRUCCIÓN | H28: UN | I28: 6 | J28: 6
B29: 4 | E29: TABLON DE MADERA, LARGO 3M, ANCHO 30CM Y ESPESOR 3CM, N/A, TABLÓN DE MADERA LARGO 3M, ANCHO 30CM Y ESPESOR 3CM CEPILLADO POR UNA CARA, PARA USO DE FORMALETA ESTRUCTURAS EN CONCRETO | H29: UN | I29: 10 | J29: 10
B30: 5 | E30: VARILLA CORRUGADA G60 W #2 (1/4 PULG) X 6M. CUMPLE CON NTC 2289 AÑO 2012 - DECRETO 1513 AÑO 2012 - RESOLUCION 1856 AÑO 2017. | H30: UN | I30: 104 | J30: 104
B31: 6 | E31: VARILLA CORRUGADA G60 W #3 (3/8 PULG) X 6M. CUMPLE CON NTC 2289 AÑO 2012 - DECRETO 1513 AÑO 2012 - RESOLUCION 1856 AÑO 2017. | H31: UN | I31: 180 | J31: 180
B32: 7 | E32: VARILLA CORRUGADA G60 W #4 (1/2 PULG) X 6M. CUMPLE CON NTC 2289 AÑO 2012 - DECRETO 1513 AÑO 2012 - RESOLUCION 1856 AÑO 2017. | H32: UN | I32: 4 | J32: 4
B33: 8 | E33: GRAVA TRITURADA 1/2" CON CUMPLIMIENTO DE LA NTC 174 " ESPECIFICACIONES DE LOS AGREGADOS PARA CONCRETOS" | H33: M3 | I33: 24 | J33: 24
C36: NOMBRE: | E36: SILVIA CRISTINA VÁSQUEZ CASTRO | J36: CARGO | L36: COORDINADORA ACADÉMICA DE PROGRAMAS ESPECIALES
C37: FIRMA:
C39: Nota: La cantidad de bienes entregada puede ser inferior a la cantidad de bienes solicitados toda vez que la solicitud se atiende de acuerdo a las existencias físicas de bienes en cada almacén.

Sheet GIL-F-014-ID-3514812
M2: Versión: 07
M3: Código: GIL-F-014
B4: PROCESO
B5: GESTIÓN DE INFRAESTRUCTURA Y LOGÍSTICA
B6: NOMBRE DEL FORMATO
B7: FORMATO SOLICITUD DE BIENES PARA USO DE CUENTADANTES
B8: CLASIFICACIÓN DE LA INFORMACIÓN
B9: Pública: | G9: Pública Clasificada: | L9: Pública Reservada:
B10: FECHA SOLICITUD | J10: AREA
B11: CODIGO REGIONAL | E11: 41 | J11: NOMBRE REGIONAL | L11: =VLOOKUP(REG,'datos 2'!A2:B35,2,FALSE) -> Huila
B12: COD CENTRO DE COSTOS | J12: NOMBRE CENTRO DE COSTO
B13: NOMBRE DE JEFE DE OFICINA O COORDINADOR DE AREA: | H13: SILVIA CRISTINA VASQUEZ CASTRO
B14: TIPO DE CUENTADANTE | H14: UNIPERSONAL
B15: NOMBRE DEL CUENTADANTE UNIPERSONAL O CUENTADANTE MÚLTIPLE | H15: JOHN EDWIN MONTILLA BERNA | L15: N° DE IDENTIFICIACIÓN | M15: 1077858481
B17: PARA EL CASO DE CUENTADANTE MÚLPLES EN EL SIGUIENTE CAMPO RELACIONE EL NOMBRE Y NUMERO DE IDENTIFICACIÓN DE LAS PERSONAS QUE LO CONFORMAN Adicione todas las celdas que se requieran.
B18: NOMBRE | J18: N° DE IDENTIFICIACIÓN
B19: NOMBRE | J19: N° DE IDENTIFICIACIÓN
B20: NOMBRE | J20: N° DE IDENTIFICIACIÓN
B22: DESTINO DE LOS BIENES SOLICITADOS | H22: Formación
B23: CÓDIGO DE GRUPO O FICHA DE CARACTERIZACIÓN | H23: ID 3514812
B25: ITEM | C25: CÓDIGO SENA | E25: DESCRIPCION DE BIEN | H25: UNIDA DE MEDIDA | I25: CANTIDAD SOLICITADA | J25: CANTIDAD ENTREGADA | K25: OBSERVACIONES
B26: 1 | E26: ALAMBRE DULCE NEGRO, PARA AMARRE DE HIERRO, CALIBRE 18, PRESENTACIÓN KILOGRAMO (PRODUCTO - ALAMBRE DULCE) | H26: UN | I26: 18 | J26: 18
B27: 2 | E27: GRIS, BULTO X 50 KG, TIPO PORTLAN. (PRODCUTO CEMENTO) | H27: UN | I27: 137 | J27: 137
B28: 3 | E28: PUNTILLA DE HIERRO 2 1/2"X LB, CON CABEZA, PARA CONSTRUCCIÓN | H28: UN | I28: 6 | J28: 6
B29: 4 | E29: TABLON DE MADERA, LARGO 3M, ANCHO 30CM Y ESPESOR 3CM, N/A, TABLÓN DE MADERA LARGO 3M, ANCHO 30CM Y ESPESOR 3CM CEPILLADO POR UNA CARA, PARA USO DE FORMALETA ESTRUCTURAS EN CONCRETO | H29: UN | I29: 10 | J29: 10
B30: 5 | E30: VARILLA CORRUGADA G60 W #2 (1/4 PULG) X 6M. CUMPLE CON NTC 2289 AÑO 2012 - DECRETO 1513 AÑO 2012 - RESOLUCION 1856 AÑO 2017. | H30: UN | I30: 86 | J30: 86
B31: 6 | E31: VARILLA CORRUGADA G60 W #3 (3/8 PULG) X 6M. CUMPLE CON NTC 2289 AÑO 2012 - DECRETO 1513 AÑO 2012 - RESOLUCION 1856 AÑO 2017. | H31: UN | I31: 146 | J31: 146
B32: 7 | E32: VARILLA CORRUGADA G60 W #4 (1/2 PULG) X 6M. CUMPLE CON NTC 2289 AÑO 2012 - DECRETO 1513 AÑO 2012 - RESOLUCION 1856 AÑO 2017. | H32: UN | I32: 4 | J32: 4
B33: 8 | E33: ARENA GRUESA (CUMPLIMIENTO NTC 174 AGREGADOS PARA CONCRETO MF= 2,3 - 3,1), LA UNIDAD DE MEDIDA ES METRO CUBICO (M3) PARA ESTE ELEMENTO | H33: M3 | I33: 18 | J33: 18
B34: 9 | E34: GRAVA TRITURADA 1/2" CON CUMPLIMIENTO DE LA NTC 174 " ESPECIFICACIONES DE LOS AGREGADOS PARA CONCRETOS" | H34: M3 | I34: 24 | J34: 24
C37: NOMBRE: | E37: SILVIA CRISTINA VÁSQUEZ CASTRO | J37: CARGO | L37: COORDINADORA ACADÉMICA DE PROGRAMAS ESPECIALES
C38: FIRMA:
C40: Nota: La cantidad de bienes entregada puede ser inferior a la cantidad de bienes solicitados toda vez que la solicitud se atiende de acuerdo a las existencias físicas de bienes en cada almacén.

Sheet GIL-F-014-ID-3514813
M2: Versión: 07
M3: Código: GIL-F-014
B4: PROCESO
B5: GESTIÓN DE INFRAESTRUCTURA Y LOGÍSTICA
B6: NOMBRE DEL FORMATO
B7: FORMATO SOLICITUD DE BIENES PARA USO DE CUENTADANTES
B8: CLASIFICACIÓN DE LA INFORMACIÓN
B9: Pública: | G9: Pública Clasificada: | L9: Pública Reservada:
B10: FECHA SOLICITUD | J10: AREA
B11: CODIGO REGIONAL | E11: 41 | J11: NOMBRE REGIONAL | L11: =VLOOKUP(REG,'datos 2'!A2:B35,2,FALSE) -> Huila
B12: COD CENTRO DE COSTOS | J12: NOMBRE CENTRO DE COSTO
B13: NOMBRE DE JEFE DE OFICINA O COORDINADOR DE AREA: | H13: SILVIA CRISTINA VASQUEZ CASTRO
B14: TIPO DE CUENTADANTE | H14: UNIPERSONAL
B15: NOMBRE DEL CUENTADANTE UNIPERSONAL O CUENTADANTE MÚLTIPLE | H15: CARLOS ANDRES TORRES | L15: N° DE IDENTIFICIACIÓN
B17: PARA EL CASO DE CUENTADANTE MÚLPLES EN EL SIGUIENTE CAMPO RELACIONE EL NOMBRE Y NUMERO DE IDENTIFICACIÓN DE LAS PERSONAS QUE LO CONFORMAN Adicione todas las celdas que se requieran.
B18: NOMBRE | J18: N° DE IDENTIFICIACIÓN
B19: NOMBRE | J19: N° DE IDENTIFICIACIÓN
B20: NOMBRE | J20: N° DE IDENTIFICIACIÓN
B22: DESTINO DE LOS BIENES SOLICITADOS | H22: Formación
B23: CÓDIGO DE GRUPO O FICHA DE CARACTERIZACIÓN | H23: ID 3514813
B25: ITEM | C25: CÓDIGO SENA | E25: DESCRIPCION DE BIEN | H25: UNIDA DE MEDIDA | I25: CANTIDAD SOLICITADA | J25: CANTIDAD ENTREGADA | K25: OBSERVACIONES
B26: 1 | E26: ALAMBRE DULCE NEGRO, PARA AMARRE DE HIERRO, CALIBRE 18, PRESENTACIÓN KILOGRAMO (PRODUCTO - ALAMBRE DULCE) | H26: UN | I26: 18 | J26: 18
B27: 2 | E27: GRIS, BULTO X 50 KG, TIPO PORTLAN. (PRODCUTO CEMENTO) | H27: UN | I27: 127 | J27: 127
B28: 3 | E28: PUNTILLA DE HIERRO 2 1/2"X LB, CON CABEZA, PARA CONSTRUCCIÓN | H28: UN | I28: 6 | J28: 6
B29: 4 | E29: TABLON DE MADERA, LARGO 3M, ANCHO 30CM Y ESPESOR 3CM, N/A, TABLÓN DE MADERA LARGO 3M, ANCHO 30CM Y ESPESOR 3CM CEPILLADO POR UNA CARA, PARA USO DE FORMALETA ESTRUCTURAS EN CONCRETO | H29: UN | I29: 10 | J29: 10
B30: 5 | E30: VARILLA CORRUGADA G60 W #2 (1/4 PULG) X 6M. CUMPLE CON NTC 2289 AÑO 2012 - DECRETO 1513 AÑO 2012 - RESOLUCION 1856 AÑO 2017. | H30: UN | I30: 79 | J30: 79
B31: 6 | E31: VARILLA CORRUGADA G60 W #3 (3/8 PULG) X 6M. CUMPLE CON NTC 2289 AÑO 2012 - DECRETO 1513 AÑO 2012 - RESOLUCION 1856 AÑO 2017. | H31: UN | I31: 137 | J31: 137
B32: 7 | E32: VARILLA CORRUGADA G60 W #4 (1/2 PULG) X 6M. CUMPLE CON NTC 2289 AÑO 2012 - DECRETO 1513 AÑO 2012 - RESOLUCION 1856 AÑO 2017. | H32: UN | I32: 4 | J32: 4
B33: 8 | E33: ARENA GRUESA (CUMPLIMIENTO NTC 174 AGREGADOS PARA CONCRETO MF= 2,3 - 3,1), LA UNIDAD DE MEDIDA ES METRO CUBICO (M3) PARA ESTE ELEMENTO | H33: M3 | I33: 18 | J33: 18
B34: 9 | E34: GRAVA TRITURADA 1/2" CON CUMPLIMIENTO DE LA NTC 174 " ESPECIFICACIONES DE LOS AGREGADOS PARA CONCRETOS" | H34: M3 | I34: 24 | J34: 24
B35: 10 | E35: PIEDRA RAJÓN, METRO CUBICO, N/A, PIEDRA CON UN TAMAÑO PROMEDIO DE 12CM DE DIÁMETRO DE BUENA RESISTENCIA. SE UTILIZA PARA LA CONSTRUCCIÓN DE VÍAS Y CONSTRUCCIÓN DE PLACA HUELAS (CONCRETO CICLÓPEO). SU DESGASTE NO DEBE SER MAYOR AL 50% Y EL ÍNDICE DE PLASTICIDAD DEL MATERIAL FINO DEBE SER MENOR O IGUAL AL 6%, LA UNIDAD DE MEDIDA PARA ESTE ELEMENTO ES METRO CUBICO (M3) | H35: M3 | I35: 6 | J35: 6
C38: NOMBRE: | E38: SILVIA CRISTINA VÁSQUEZ CASTRO | J38: CARGO | L38: COORDINADORA ACADÉMICA DE PROGRAMAS ESPECIALES
C39: FIRMA:
C41: Nota: La cantidad de bienes entregada puede ser inferior a la cantidad de bienes solicitados toda vez que la solicitud se atiende de acuerdo a las existencias físicas de bienes en cada almacén.

Sheet GIL-F-014-ID-3514814
M2: Versión: 07
M3: Código: GIL-F-014
B4: PROCESO
B5: GESTIÓN DE INFRAESTRUCTURA Y LOGÍSTICA
B6: NOMBRE DEL FORMATO
B7: FORMATO SOLICITUD DE BIENES PARA USO DE CUENTADANTES
B8: CLASIFICACIÓN DE LA INFORMACIÓN
B9: Pública: | G9: Pública Clasificada: | L9: Pública Reservada:
B10: FECHA SOLICITUD | J10: AREA
B11: CODIGO REGIONAL | E11: 41 | J11: NOMBRE REGIONAL | L11: =VLOOKUP(REG,'datos 2'!A2:B35,2,FALSE) -> Huila
B12: COD CENTRO DE COSTOS | J12: NOMBRE CENTRO DE COSTO
B13: NOMBRE DE JEFE DE OFICINA O COORDINADOR DE AREA: | H13: SILVIA CRISTINA VASQUEZ CASTRO
B14: TIPO DE CUENTADANTE | H14: UNIPERSONAL
B15: NOMBRE DEL CUENTADANTE UNIPERSONAL O CUENTADANTE MÚLTIPLE | H15: NIXON GERMAN DIAZ MUÑOZ | L15: N° DE IDENTIFICIACIÓN | M15: 1082773486
B17: PARA EL CASO DE CUENTADANTE MÚLPLES EN EL SIGUIENTE CAMPO RELACIONE EL NOMBRE Y NUMERO DE IDENTIFICACIÓN DE LAS PERSONAS QUE LO CONFORMAN Adicione todas las celdas que se requieran.
B18: NOMBRE | J18: N° DE IDENTIFICIACIÓN
B19: NOMBRE | J19: N° DE IDENTIFICIACIÓN
B20: NOMBRE | J20: N° DE IDENTIFICIACIÓN
B22: DESTINO DE LOS BIENES SOLICITADOS | H22: Formación
B23: CÓDIGO DE GRUPO O FICHA DE CARACTERIZACIÓN | H23: ID 3514814
B25: ITEM | C25: CÓDIGO SENA | E25: DESCRIPCION DE BIEN | H25: UNIDA DE MEDIDA | I25: CANTIDAD SOLICITADA | J25: CANTIDAD ENTREGADA | K25: OBSERVACIONES
B26: 1 | E26: ALAMBRE DULCE NEGRO, PARA AMARRE DE HIERRO, CALIBRE 18, PRESENTACIÓN KILOGRAMO (PRODUCTO - ALAMBRE DULCE) | H26: UN | I26: 18 | J26: 18
B27: 2 | E27: GRIS, BULTO X 50 KG, TIPO PORTLAN. (PRODCUTO CEMENTO) | H27: UN | I27: 110 | J27: 110
B28: 3 | E28: PUNTILLA DE HIERRO 2 1/2"X LB, CON CABEZA, PARA CONSTRUCCIÓN | H28: UN | I28: 6 | J28: 6
B29: 4 | E29: TABLON DE MADERA, LARGO 3M, ANCHO 30CM Y ESPESOR 3CM, N/A, TABLÓN DE MADERA LARGO 3M, ANCHO 30CM Y ESPESOR 3CM CEPILLADO POR UNA CARA, PARA USO DE FORMALETA ESTRUCTURAS EN CONCRETO | H29: UN | I29: 10 | J29: 10
B30: 5 | E30: VARILLA CORRUGADA G60 W #2 (1/4 PULG) X 6M. CUMPLE CON NTC 2289 AÑO 2012 - DECRETO 1513 AÑO 2012 - RESOLUCION 1856 AÑO 2017. | H30: UN | I30: 80 | J30: 80
B31: 6 | E31: VARILLA CORRUGADA G60 W #3 (3/8 PULG) X 6M. CUMPLE CON NTC 2289 AÑO 2012 - DECRETO 1513 AÑO 2012 - RESOLUCION 1856 AÑO 2017. | H31: UN | I31: 110 | J31: 110
B32: 7 | E32: VARILLA CORRUGADA G60 W #4 (1/2 PULG) X 6M. CUMPLE CON NTC 2289 AÑO 2012 - DECRETO 1513 AÑO 2012 - RESOLUCION 1856 AÑO 2017. | H32: UN | I32: 4 | J32: 4
B33: 8 | E33: ARENA GRUESA (CUMPLIMIENTO NTC 174 AGREGADOS PARA CONCRETO MF= 2,3 - 3,1), LA UNIDAD DE MEDIDA ES METRO CUBICO (M3) PARA ESTE ELEMENTO | H33: M3 | I33: 18 | J33: 18
B34: 9 | E34: GRAVA TRITURADA 1/2" CON CUMPLIMIENTO DE LA NTC 174 " ESPECIFICACIONES DE LOS AGREGADOS PARA CONCRETOS" | H34: M3 | I34: 24 | J34: 24
B35: 10 | E35: PIEDRA RAJÓN, METRO CUBICO, N/A, PIEDRA CON UN TAMAÑO PROMEDIO DE 12CM DE DIÁMETRO DE BUENA RESISTENCIA. SE UTILIZA PARA LA CONSTRUCCIÓN DE VÍAS Y CONSTRUCCIÓN DE PLACA HUELAS (CONCRETO CICLÓPEO). SU DESGASTE NO DEBE SER MAYOR AL 50% Y EL ÍNDICE DE PLASTICIDAD DEL MATERIAL FINO DEBE SER MENOR O IGUAL AL 6%, LA UNIDAD DE MEDIDA PARA ESTE ELEMENTO ES METRO CUBICO (M3) | H35: M3 | I35: 6 | J35: 6
B36: 11 | E36: RECEBO TIPO INVIAS, MEZCLA DE MATERIALES GRANULARES GRUESOS Y FINOS (ARENA, ROCA TRITURADA) UTILIZADA PARA RELLENAR, NIVELAR Y ESTABILIZAR SUELOS. | H36: M3 | I36: 18 | J36: 18
C39: NOMBRE: | E39: SILVIA CRISTINA VÁSQUEZ CASTRO | J39: CARGO | L39: COORDINADORA ACADÉMICA DE PROGRAMAS ESPECIALES
C40: FIRMA:
C42: Nota: La cantidad de bienes entregada puede ser inferior a la cantidad de bienes solicitados toda vez que la solicitud se atiende de acuerdo a las existencias físicas de bienes en cada almacén.

Sheet GIL-F-014-ID-3514815
M2: Versión: 07
M3: Código: GIL-F-014
B4: PROCESO
B5: GESTIÓN DE INFRAESTRUCTURA Y LOGÍSTICA
B6: NOMBRE DEL FORMATO
B7: FORMATO SOLICITUD DE BIENES PARA USO DE CUENTADANTES
B8: CLASIFICACIÓN DE LA INFORMACIÓN
B9: Pública: | G9: Pública Clasificada: | L9: Pública Reservada:
B10: FECHA SOLICITUD | J10: AREA
B11: CODIGO REGIONAL | E11: 41 | J11: NOMBRE REGIONAL | L11: =VLOOKUP(REG,'datos 2'!A2:B35,2,FALSE) -> Huila
B12: COD CENTRO DE COSTOS | J12: NOMBRE CENTRO DE COSTO
B13: NOMBRE DE JEFE DE OFICINA O COORDINADOR DE AREA: | H13: SILVIA CRISTINA VASQUEZ CASTRO
B14: TIPO DE CUENTADANTE | H14: UNIPERSONAL
B15: NOMBRE DEL CUENTADANTE UNIPERSONAL O CUENTADANTE MÚLTIPLE | H15: CARLOS ANDRES TORRES | L15: N° DE IDENTIFICIACIÓN
B17: PARA EL CASO DE CUENTADANTE MÚLPLES EN EL SIGUIENTE CAMPO RELACIONE EL NOMBRE Y NUMERO DE IDENTIFICACIÓN DE LAS PERSONAS QUE LO CONFORMAN Adicione todas las celdas que se requieran.
B18: NOMBRE | J18: N° DE IDENTIFICIACIÓN
B19: NOMBRE | J19: N° DE IDENTIFICIACIÓN
B20: NOMBRE | J20: N° DE IDENTIFICIACIÓN
B22: DESTINO DE LOS BIENES SOLICITADOS | H22: Formación
B23: CÓDIGO DE GRUPO O FICHA DE CARACTERIZACIÓN | H23: ID 3514815
B25: ITEM | C25: CÓDIGO SENA | E25: DESCRIPCION DE BIEN | H25: UNIDA DE MEDIDA | I25: CANTIDAD SOLICITADA | J25: CANTIDAD ENTREGADA | K25: OBSERVACIONES
B26: 1 | E26: ALAMBRE DULCE NEGRO, PARA AMARRE DE HIERRO, CALIBRE 18, PRESENTACIÓN KILOGRAMO (PRODUCTO - ALAMBRE DULCE) | H26: UN | I26: 18 | J26: 18
B27: 2 | E27: GRIS, BULTO X 50 KG, TIPO PORTLAN. (PRODCUTO CEMENTO) | H27: UN | I27: 110 | J27: 110
B28: 3 | E28: PUNTILLA DE HIERRO 2 1/2"X LB, CON CABEZA, PARA CONSTRUCCIÓN | H28: UN | I28: 6 | J28: 6
B29: 4 | E29: TABLON DE MADERA, LARGO 3M, ANCHO 30CM Y ESPESOR 3CM, N/A, TABLÓN DE MADERA LARGO 3M, ANCHO 30CM Y ESPESOR 3CM CEPILLADO POR UNA CARA, PARA USO DE FORMALETA ESTRUCTURAS EN CONCRETO | H29: UN | I29: 10 | J29: 10
B30: 5 | E30: VARILLA CORRUGADA G60 W #2 (1/4 PULG) X 6M. CUMPLE CON NTC 2289 AÑO 2012 - DECRETO 1513 AÑO 2012 - RESOLUCION 1856 AÑO 2017. | H30: UN | I30: 80 | J30: 80
B31: 6 | E31: VARILLA CORRUGADA G60 W #3 (3/8 PULG) X 6M. CUMPLE CON NTC 2289 AÑO 2012 - DECRETO 1513 AÑO 2012 - RESOLUCION 1856 AÑO 2017. | H31: UN | I31: 110 | J31: 110
B32: 7 | E32: VARILLA CORRUGADA G60 W #4 (1/2 PULG) X 6M. CUMPLE CON NTC 2289 AÑO 2012 - DECRETO 1513 AÑO 2012 - RESOLUCION 1856 AÑO 2017. | H32: UN | I32: 4 | J32: 4
B33: 8 | E33: ARENA GRUESA (CUMPLIMIENTO NTC 174 AGREGADOS PARA CONCRETO MF= 2,3 - 3,1), LA UNIDAD DE MEDIDA ES METRO CUBICO (M3) PARA ESTE ELEMENTO | H33: M3 | I33: 18 | J33: 18
B34: 9 | E34: GRAVA TRITURADA 1/2" CON CUMPLIMIENTO DE LA NTC 174 " ESPECIFICACIONES DE LOS AGREGADOS PARA CONCRETOS" | H34: M3 | I34: 24 | J34: 24
B35: 10 | E35: PIEDRA RAJÓN, METRO CUBICO, N/A, PIEDRA CON UN TAMAÑO PROMEDIO DE 12CM DE DIÁMETRO DE BUENA RESISTENCIA. SE UTILIZA PARA LA CONSTRUCCIÓN DE VÍAS Y CONSTRUCCIÓN DE PLACA HUELAS (CONCRETO CICLÓPEO). SU DESGASTE NO DEBE SER MAYOR AL 50% Y EL ÍNDICE DE PLASTICIDAD DEL MATERIAL FINO DEBE SER MENOR O IGUAL AL 6%, LA UNIDAD DE MEDIDA PARA ESTE ELEMENTO ES METRO CUBICO (M3) | H35: M3 | I35: 6 | J35: 6
B36: 11 | E36: RECEBO TIPO INVIAS, MEZCLA DE MATERIALES GRANULARES GRUESOS Y FINOS (ARENA, ROCA TRITURADA) UTILIZADA PARA RELLENAR, NIVELAR Y ESTABILIZAR SUELOS. | H36: M3 | I36: 18 | J36: 18
C39: NOMBRE: | E39: SILVIA CRISTINA VÁSQUEZ CASTRO | J39: CARGO | L39: COORDINADORA ACADÉMICA DE PROGRAMAS ESPECIALES
C40: FIRMA:
C42: Nota: La cantidad de bienes entregada puede ser inferior a la cantidad de bienes solicitados toda vez que la solicitud se atiende de acuerdo a las existencias físicas de bienes en cada almacén.

Sheet GIL-F-014-ID-3514816
M2: Versión: 07
M3: Código: GIL-F-014
B4: PROCESO
B5: GESTIÓN DE INFRAESTRUCTURA Y LOGÍSTICA
B6: NOMBRE DEL FORMATO
B7: FORMATO SOLICITUD DE BIENES PARA USO DE CUENTADANTES
B8: CLASIFICACIÓN DE LA INFORMACIÓN
B9: Pública: | G9: Pública Clasificada: | L9: Pública Reservada:
B10: FECHA SOLICITUD | J10: AREA
B11: CODIGO REGIONAL | E11: 41 | J11: NOMBRE REGIONAL | L11: =VLOOKUP(REG,'datos 2'!A2:B35,2,FALSE) -> Huila
B12: COD CENTRO DE COSTOS | J12: NOMBRE CENTRO DE COSTO
B13: NOMBRE DE JEFE DE OFICINA O COORDINADOR DE AREA: | H13: SILVIA CRISTINA VASQUEZ CASTRO
B14: TIPO DE CUENTADANTE | H14: UNIPERSONAL
B15: NOMBRE DEL CUENTADANTE UNIPERSONAL O CUENTADANTE MÚLTIPLE | H15: NIXON GERMAN DIAZ | L15: N° DE IDENTIFICIACIÓN | M15: 1082773486
B17: PARA EL CASO DE CUENTADANTE MÚLPLES EN EL SIGUIENTE CAMPO RELACIONE EL NOMBRE Y NUMERO DE IDENTIFICACIÓN DE LAS PERSONAS QUE LO CONFORMAN Adicione todas las celdas que se requieran.
B18: NOMBRE | J18: N° DE IDENTIFICIACIÓN
B19: NOMBRE | J19: N° DE IDENTIFICIACIÓN
B20: NOMBRE | J20: N° DE IDENTIFICIACIÓN
B22: DESTINO DE LOS BIENES SOLICITADOS | H22: Formación
B23: CÓDIGO DE GRUPO O FICHA DE CARACTERIZACIÓN | H23: ID 3514816
B25: ITEM | C25: CÓDIGO SENA | E25: DESCRIPCION DE BIEN | H25: UNIDA DE MEDIDA | I25: CANTIDAD SOLICITADA | J25: CANTIDAD ENTREGADA | K25: OBSERVACIONES
B26: 1 | E26: ALAMBRE DULCE NEGRO, PARA AMARRE DE HIERRO, CALIBRE 18, PRESENTACIÓN KILOGRAMO (PRODUCTO - ALAMBRE DULCE) | H26: UN | I26: 18 | J26: 18
B27: 2 | E27: GRIS, BULTO X 50 KG, TIPO PORTLAN. (PRODCUTO CEMENTO) | H27: UN | I27: 162 | J27: 110
B28: 3 | E28: PUNTILLA DE HIERRO 2 1/2"X LB, CON CABEZA, PARA CONSTRUCCIÓN | H28: UN | I28: 6 | J28: 6
B29: 4 | E29: TABLON DE MADERA, LARGO 3M, ANCHO 30CM Y ESPESOR 3CM, N/A, TABLÓN DE MADERA LARGO 3M, ANCHO 30CM Y ESPESOR 3CM CEPILLADO POR UNA CARA, PARA USO DE FORMALETA ESTRUCTURAS EN CONCRETO | H29: UN | I29: 10 | J29: 10
B30: 5 | E30: VARILLA CORRUGADA G60 W #2 (1/4 PULG) X 6M. CUMPLE CON NTC 2289 AÑO 2012 - DECRETO 1513 AÑO 2012 - RESOLUCION 1856 AÑO 2017. | H30: UN | I30: 100 | J30: 80
B31: 6 | E31: VARILLA CORRUGADA G60 W #3 (3/8 PULG) X 6M. CUMPLE CON NTC 2289 AÑO 2012 - DECRETO 1513 AÑO 2012 - RESOLUCION 1856 AÑO 2017. | H31: UN | I31: 174 | J31: 110
B32: 7 | E32: VARILLA CORRUGADA G60 W #4 (1/2 PULG) X 6M. CUMPLE CON NTC 2289 AÑO 2012 - DECRETO 1513 AÑO 2012 - RESOLUCION 1856 AÑO 2017. | H32: UN | I32: 4 | J32: 4
B33: 8 | E33: GRAVA TRITURADA 1/2" CON CUMPLIMIENTO DE LA NTC 174 " ESPECIFICACIONES DE LOS AGREGADOS PARA CONCRETOS" | H33: M3 | I33: 24 | J33: 24
B34: 9 | E34: PIEDRA RAJÓN, METRO CUBICO, N/A, PIEDRA CON UN TAMAÑO PROMEDIO DE 12CM DE DIÁMETRO DE BUENA RESISTENCIA. SE UTILIZA PARA LA CONSTRUCCIÓN DE VÍAS Y CONSTRUCCIÓN DE PLACA HUELAS (CONCRETO CICLÓPEO). SU DESGASTE NO DEBE SER MAYOR AL 50% Y EL ÍNDICE DE PLASTICIDAD DEL MATERIAL FINO DEBE SER MENOR O IGUAL AL 6%, LA UNIDAD DE MEDIDA PARA ESTE ELEMENTO ES METRO CUBICO (M3) | H34: M3 | I34: 6 | J34: 6
C37: NOMBRE: | E37: SILVIA CRISTINA VÁSQUEZ CASTRO | J37: CARGO | L37: COORDINADORA ACADÉMICA DE PROGRAMAS ESPECIALES
C38: FIRMA:
C40: Nota: La cantidad de bienes entregada puede ser inferior a la cantidad de bienes solicitados toda vez que la solicitud se atiende de acuerdo a las existencias físicas de bienes en cada almacén.

Sheet GIL-F-014-ID-3514817
M2: Versión: 07
M3: Código: GIL-F-014
B4: PROCESO
B5: GESTIÓN DE INFRAESTRUCTURA Y LOGÍSTICA
B6: NOMBRE DEL FORMATO
B7: FORMATO SOLICITUD DE BIENES PARA USO DE CUENTADANTES
B8: CLASIFICACIÓN DE LA INFORMACIÓN
B9: Pública: | G9: Pública Clasificada: | L9: Pública Reservada:
B10: FECHA SOLICITUD | J10: AREA
B11: CODIGO REGIONAL | E11: 41 | J11: NOMBRE REGIONAL | L11: =VLOOKUP(REG,'datos 2'!A2:B35,2,FALSE) -> Huila
B12: COD CENTRO DE COSTOS | J12: NOMBRE CENTRO DE COSTO
B13: NOMBRE DE JEFE DE OFICINA O COORDINADOR DE AREA: | H13: SILVIA CRISTINA VASQUEZ CASTRO
B14: TIPO DE CUENTADANTE | H14: UNIPERSONAL
B15: NOMBRE DEL CUENTADANTE UNIPERSONAL O CUENTADANTE MÚLTIPLE | H15: JOHN EDWIN MONTILLA BERNA | L15: N° DE IDENTIFICIACIÓN | M15: 1077858481
B17: PARA EL CASO DE CUENTADANTE MÚLPLES EN EL SIGUIENTE CAMPO RELACIONE EL NOMBRE Y NUMERO DE IDENTIFICACIÓN DE LAS PERSONAS QUE LO CONFORMAN Adicione todas las celdas que se requieran.
B18: NOMBRE | J18: N° DE IDENTIFICIACIÓN
B19: NOMBRE | J19: N° DE IDENTIFICIACIÓN
B20: NOMBRE | J20: N° DE IDENTIFICIACIÓN
B22: DESTINO DE LOS BIENES SOLICITADOS | H22: Formación
B23: CÓDIGO DE GRUPO O FICHA DE CARACTERIZACIÓN | H23: ID 3514817
B25: ITEM | C25: CÓDIGO SENA | E25: DESCRIPCION DE BIEN | H25: UNIDA DE MEDIDA | I25: CANTIDAD SOLICITADA | J25: CANTIDAD ENTREGADA | K25: OBSERVACIONES
B26: 1 | E26: ALAMBRE DULCE NEGRO, PARA AMARRE DE HIERRO, CALIBRE 18, PRESENTACIÓN KILOGRAMO (PRODUCTO - ALAMBRE DULCE) | H26: UN | I26: 18 | J26: =+I26 -> 18
B27: 2 | E27: GRIS, BULTO X 50 KG, TIPO PORTLAN. (PRODCUTO CEMENTO) | H27: UN | I27: 162 | J27: =+I27 -> 162
B28: 3 | E28: PUNTILLA DE HIERRO 2 1/2"X LB, CON CABEZA, PARA CONSTRUCCIÓN | H28: UN | I28: 6 | J28: =+I28 -> 6
B29: 4 | E29: TABLON DE MADERA, LARGO 3M, ANCHO 30CM Y ESPESOR 3CM, N/A, TABLÓN DE MADERA LARGO 3M, ANCHO 30CM Y ESPESOR 3CM CEPILLADO POR UNA CARA, PARA USO DE FORMALETA ESTRUCTURAS EN CONCRETO | H29: UN | I29: 10 | J29: =+I29 -> 10
B30: 5 | E30: VARILLA CORRUGADA G60 W #2 (1/4 PULG) X 6M. CUMPLE CON NTC 2289 AÑO 2012 - DECRETO 1513 AÑO 2012 - RESOLUCION 1856 AÑO 2017. | H30: UN | I30: 100 | J30: =+I30 -> 100
B31: 6 | E31: VARILLA CORRUGADA G60 W #3 (3/8 PULG) X 6M. CUMPLE CON NTC 2289 AÑO 2012 - DECRETO 1513 AÑO 2012 - RESOLUCION 1856 AÑO 2017. | H31: UN | I31: 174 | J31: =+I31 -> 174
B32: 7 | E32: VARILLA CORRUGADA G60 W #4 (1/2 PULG) X 6M. CUMPLE CON NTC 2289 AÑO 2012 - DECRETO 1513 AÑO 2012 - RESOLUCION 1856 AÑO 2017. | H32: UN | I32: 4 | J32: =+I32 -> 4
B33: 8 | E33: ARENA GRUESA (CUMPLIMIENTO NTC 174 AGREGADOS PARA CONCRETO MF= 2,3 - 3,1), LA UNIDAD DE MEDIDA ES METRO CUBICO (M3) PARA ESTE ELEMENTO | H33: M3 | I33: 18 | J33: =+I33 -> 18
B34: 9 | E34: GRAVA TRITURADA 1/2" CON CUMPLIMIENTO DE LA NTC 174 " ESPECIFICACIONES DE LOS AGREGADOS PARA CONCRETOS" | H34: M3 | I34: 24 | J34: =+I34 -> 24
C37: NOMBRE: | E37: SILVIA CRISTINA VÁSQUEZ CASTRO | J37: CARGO | L37: COORDINADORA ACADÉMICA DE PROGRAMAS ESPECIALES
C38: FIRMA:
C40: Nota: La cantidad de bienes entregada puede ser inferior a la cantidad de bienes solicitados toda vez que la solicitud se atiende de acuerdo a las existencias físicas de bienes en cada almacén.

Sheet GIL-F-014-ID-3514818
M2: Versión: 07
M3: Código: GIL-F-014
B4: PROCESO
B5: GESTIÓN DE INFRAESTRUCTURA Y LOGÍSTICA
B6: NOMBRE DEL FORMATO
B7: FORMATO SOLICITUD DE BIENES PARA USO DE CUENTADANTES
B8: CLASIFICACIÓN DE LA INFORMACIÓN
B9: Pública: | G9: Pública Clasificada: | L9: Pública Reservada:
B10: FECHA SOLICITUD | J10: AREA
B11: CODIGO REGIONAL | E11: 41 | J11: NOMBRE REGIONAL | L11: =VLOOKUP(REG,'datos 2'!A2:B35,2,FALSE) -> Huila
B12: COD CENTRO DE COSTOS | J12: NOMBRE CENTRO DE COSTO
B13: NOMBRE DE JEFE DE OFICINA O COORDINADOR DE AREA: | H13: SILVIA CRISTINA VASQUEZ CASTRO
B14: TIPO DE CUENTADANTE | H14: UNIPERSONAL
B15: NOMBRE DEL CUENTADANTE UNIPERSONAL O CUENTADANTE MÚLTIPLE | H15: CARLOS ANDRES TORRES | L15: N° DE IDENTIFICIACIÓN
B17: PARA EL CASO DE CUENTADANTE MÚLPLES EN EL SIGUIENTE CAMPO RELACIONE EL NOMBRE Y NUMERO DE IDENTIFICACIÓN DE LAS PERSONAS QUE LO CONFORMAN Adicione todas las celdas que se requieran.
B18: NOMBRE | J18: N° DE IDENTIFICIACIÓN
B19: NOMBRE | J19: N° DE IDENTIFICIACIÓN
B20: NOMBRE | J20: N° DE IDENTIFICIACIÓN
B22: DESTINO DE LOS BIENES SOLICITADOS | H22: Formación
B23: CÓDIGO DE GRUPO O FICHA DE CARACTERIZACIÓN | H23: ID 3514818
B25: ITEM | C25: CÓDIGO SENA | E25: DESCRIPCION DE BIEN | H25: UNIDA DE MEDIDA | I25: CANTIDAD SOLICITADA | J25: CANTIDAD ENTREGADA | K25: OBSERVACIONES
B26: 1 | E26: ALAMBRE DULCE NEGRO, PARA AMARRE DE HIERRO, CALIBRE 18, PRESENTACIÓN KILOGRAMO (PRODUCTO - ALAMBRE DULCE) | H26: UN | I26: 18 | J26: =+I26 -> 18
B27: 2 | E27: GRIS, BULTO X 50 KG, TIPO PORTLAN. (PRODCUTO CEMENTO) | H27: UN | I27: 137 | J27: =+I27 -> 137
B28: 3 | E28: PUNTILLA DE HIERRO 2 1/2"X LB, CON CABEZA, PARA CONSTRUCCIÓN | H28: UN | I28: 6 | J28: =+I28 -> 6
B29: 4 | E29: TABLON DE MADERA, LARGO 3M, ANCHO 30CM Y ESPESOR 3CM, N/A, TABLÓN DE MADERA LARGO 3M, ANCHO 30CM Y ESPESOR 3CM CEPILLADO POR UNA CARA, PARA USO DE FORMALETA ESTRUCTURAS EN CONCRETO | H29: UN | I29: 10 | J29: =+I29 -> 10
B30: 5 | E30: VARILLA CORRUGADA G60 W #2 (1/4 PULG) X 6M. CUMPLE CON NTC 2289 AÑO 2012 - DECRETO 1513 AÑO 2012 - RESOLUCION 1856 AÑO 2017. | H30: UN | I30: 86 | J30: =+I30 -> 86
B31: 6 | E31: VARILLA CORRUGADA G60 W #3 (3/8 PULG) X 6M. CUMPLE CON NTC 2289 AÑO 2012 - DECRETO 1513 AÑO 2012 - RESOLUCION 1856 AÑO 2017. | H31: UN | I31: 146 | J31: =+I31 -> 146
B32: 7 | E32: VARILLA CORRUGADA G60 W #4 (1/2 PULG) X 6M. CUMPLE CON NTC 2289 AÑO 2012 - DECRETO 1513 AÑO 2012 - RESOLUCION 1856 AÑO 2017. | H32: UN | I32: 4 | J32: =+I32 -> 4
B33: 8 | E33: ARENA GRUESA (CUMPLIMIENTO NTC 174 AGREGADOS PARA CONCRETO MF= 2,3 - 3,1), LA UNIDAD DE MEDIDA ES METRO CUBICO (M3) PARA ESTE ELEMENTO | H33: M3 | I33: 18 | J33: =+I33 -> 18
B34: 9 | E34: GRAVA TRITURADA 1/2" CON CUMPLIMIENTO DE LA NTC 174 " ESPECIFICACIONES DE LOS AGREGADOS PARA CONCRETOS" | H34: M3 | I34: 24 | J34: =+I34 -> 24
C37: NOMBRE: | E37: SILVIA CRISTINA VÁSQUEZ CASTRO | J37: CARGO | L37: COORDINADORA ACADÉMICA DE PROGRAMAS ESPECIALES
C38: FIRMA:
C40: Nota: La cantidad de bienes entregada puede ser inferior a la cantidad de bienes solicitados toda vez que la solicitud se atiende de acuerdo a las existencias físicas de bienes en cada almacén.

Sheet GIL-F-014-ID-3514798
M2: Versión: 07
M3: Código: GIL-F-014
B4: PROCESO
B5: GESTIÓN DE INFRAESTRUCTURA Y LOGÍSTICA
B6: NOMBRE DEL FORMATO
B7: FORMATO SOLICITUD DE BIENES PARA USO DE CUENTADANTES
B8: CLASIFICACIÓN DE LA INFORMACIÓN
B9: Pública: | G9: Pública Clasificada: | L9: Pública Reservada:
B10: FECHA SOLICITUD | J10: AREA
B11: CODIGO REGIONAL | E11: 41 | J11: NOMBRE REGIONAL | L11: =VLOOKUP(REG,'datos 2'!A2:B35,2,FALSE) -> Huila
B12: COD CENTRO DE COSTOS | J12: NOMBRE CENTRO DE COSTO
B13: NOMBRE DE JEFE DE OFICINA O COORDINADOR DE AREA: | H13: SILVIA CRISTINA VASQUEZ CASTRO
B14: TIPO DE CUENTADANTE | H14: UNIPERSONAL
B15: NOMBRE DEL CUENTADANTE UNIPERSONAL O CUENTADANTE MÚLTIPLE | H15: NIXON GERMAN DIAZ | L15: N° DE IDENTIFICIACIÓN | M15: 1082773486
B17: PARA EL CASO DE CUENTADANTE MÚLPLES EN EL SIGUIENTE CAMPO RELACIONE EL NOMBRE Y NUMERO DE IDENTIFICACIÓN DE LAS PERSONAS QUE LO CONFORMAN Adicione todas las celdas que se requieran.
B18: NOMBRE | J18: N° DE IDENTIFICIACIÓN
B19: NOMBRE | J19: N° DE IDENTIFICIACIÓN
B20: NOMBRE | J20: N° DE IDENTIFICIACIÓN
B22: DESTINO DE LOS BIENES SOLICITADOS | H22: Formación
B23: CÓDIGO DE GRUPO O FICHA DE CARACTERIZACIÓN | H23: ID 3514798
B25: ITEM | C25: CÓDIGO SENA | E25: DESCRIPCION DE BIEN | H25: UNIDA DE MEDIDA | I25: CANTIDAD SOLICITADA | J25: CANTIDAD ENTREGADA | K25: OBSERVACIONES
B26: 1 | E26: ALAMBRE DULCE NEGRO, PARA AMARRE DE HIERRO, CALIBRE 18, PRESENTACIÓN KILOGRAMO (PRODUCTO - ALAMBRE DULCE) | H26: UN | I26: 18 | J26: =+I26 -> 18
B27: 2 | E27: GRIS, BULTO X 50 KG, TIPO PORTLAN. (PRODCUTO CEMENTO) | H27: UN | I27: 127 | J27: =+I27 -> 127
B28: 3 | E28: PUNTILLA DE HIERRO 2 1/2"X LB, CON CABEZA, PARA CONSTRUCCIÓN | H28: UN | I28: 6 | J28: =+I28 -> 6
B29: 4 | E29: TABLON DE MADERA, LARGO 3M, ANCHO 30CM Y ESPESOR 3CM, N/A, TABLÓN DE MADERA LARGO 3M, ANCHO 30CM Y ESPESOR 3CM CEPILLADO POR UNA CARA, PARA USO DE FORMALETA ESTRUCTURAS EN CONCRETO | H29: UN | I29: 10 | J29: =+I29 -> 10
B30: 5 | E30: VARILLA CORRUGADA G60 W #2 (1/4 PULG) X 6M. CUMPLE CON NTC 2289 AÑO 2012 - DECRETO 1513 AÑO 2012 - RESOLUCION 1856 AÑO 2017. | H30: UN | I30: 79 | J30: =+I30 -> 79
B31: 6 | E31: VARILLA CORRUGADA G60 W #3 (3/8 PULG) X 6M. CUMPLE CON NTC 2289 AÑO 2012 - DECRETO 1513 AÑO 2012 - RESOLUCION 1856 AÑO 2017. | H31: UN | I31: 137 | J31: =+I31 -> 137
B32: 7 | E32: VARILLA CORRUGADA G60 W #4 (1/2 PULG) X 6M. CUMPLE CON NTC 2289 AÑO 2012 - DECRETO 1513 AÑO 2012 - RESOLUCION 1856 AÑO 2017. | H32: UN | I32: 4 | J32: =+I32 -> 4
B33: 8 | E33: ARENA GRUESA (CUMPLIMIENTO NTC 174 AGREGADOS PARA CONCRETO MF= 2,3 - 3,1), LA UNIDAD DE MEDIDA ES METRO CUBICO (M3) PARA ESTE ELEMENTO | H33: M3 | I33: 18 | J33: =+I33 -> 18
B34: 9 | E34: GRAVA TRITURADA 1/2" CON CUMPLIMIENTO DE LA NTC 174 " ESPECIFICACIONES DE LOS AGREGADOS PARA CONCRETOS" | H34: M3 | I34: 24 | J34: =+I34 -> 24
E35: PIEDRA RAJÓN, METRO CUBICO, N/A, PIEDRA CON UN TAMAÑO PROMEDIO DE 12CM DE DIÁMETRO DE BUENA RESISTENCIA. SE UTILIZA PARA LA CONSTRUCCIÓN DE VÍAS Y CONSTRUCCIÓN DE PLACA HUELAS (CONCRETO CICLÓPEO). SU DESGASTE NO DEBE SER MAYOR AL 50% Y EL ÍNDICE DE PLASTICIDAD DEL MATERIAL FINO DEBE SER MENOR O IGUAL AL 6%, LA UNIDAD DE MEDIDA PARA ESTE ELEMENTO ES METRO CUBICO (M3) | H35: M3 | I35: 6 | J35: =+I35 -> 6
C37: NOMBRE: | E37: SILVIA CRISTINA VÁSQUEZ CASTRO | J37: CARGO | L37: COORDINADORA ACADÉMICA DE PROGRAMAS ESPECIALES
C38: FIRMA:
