Workbook

Sheet Cálculos (julio11) (2)
B1: ESTUDIO DE MERCADO
B2: OBJETO: REALIZAR, DESARROLLAR Y EJECUTAR LA INTERVENTORÍA TÉCNICA, JURÍDICA, ADMINISTRATIVA, FINANCIERA Y CONTABLE, EN REPRESENTACIÓN DE LA SECRETARÍA DE SALUD DEL DEPARTAMENTO DE CUNDINAMARCA COMO ENTIDAD CONTRATANTE DEL “CONTRATO DE CONCESIÓN NO. 002 DE 2003” CELEBRADO ENTRE LA SECRETARÍA DE SALUD Y LA UNIÓN TEMPORAL HOSPITAL CARDIOVASCULAR DEL NIÑO DE CUNDINAMARCA.
F6: Cotización 1 | G6: Cotización 2 | H6: Cotización 3 | I6: Cotización 4 | J6: Cotización 5
A7: Item | B7: Item | C7: Descripcion | D7: Especificaciones Tecnicas | E7: Cant | F7: MR Y CIA SAS | G7: LABCARE DE COLOMBIA SAS | H7: ACG CALIDAD SAS | I7: UNIVERSIDAD MILITAR | J7: Valor Unitario | K7: Media Aritmetica | L7: Desviacion Estandar | M7: Mediana | N7: Media Geometrica | O7: Media Armonica | P7: Min | Q7: Max
B8: {=_xlfn.SEQUENCE(30,1,1)} -> 1 | C8: Control de calidad externo microbiologico para análisis cualitativo de Coliformes totales, Coliformes fecales y E coli AGUA PARA CONSUMO HUMANO | E8: 1 | F8: 3127636 | G8: 3036543.7 | H8: 3158001 | K8: =AVERAGE(F8:I8) -> 3107393.6 | L8: =STDEVA(F8:I8) -> 63208.276 | M8: =MEDIAN(F8:I8) -> 3127636 | N8: =GEOMEAN(F8:I8) -> 3106962.4 | O8: =HARMEAN(F8:I8) -> 3106528.8 | P8: =MIN(F8:I8) -> 3036543.7 | Q8: =MAX(F8:I8) -> 3158001
B9: 2 | C9: Control de calidad externo microbiológico cualitativo para lácteos (Detección de Escherichia coli O157 (non- toxigenic strain); Listeria species; Listeria monocytogenes; Salmonella species Identification of Listeria species ). | E9: 1 | F9: 5495150 | G9: 5335096.6 | H9: 5548500 | K9: =AVERAGE(F9:I9) -> 5459582.2 | L9: =STDEVA(F9:I9) -> 111058.76 | M9: =MEDIAN(F9:I9) -> 5495150 | N9: =GEOMEAN(F9:I9) -> 5458824.7 | O9: =HARMEAN(F9:I9) -> 5458062.7 | P9: =MIN(F9:I9) -> 5335096.6 | Q9: =MAX(F9:I9) -> 5548500
B10: 3 | C10: Control de calidad Microbiología de Aguas. Matriz agua envasada NMP/ 100 ml Coliformes totales, NMP/100 ml E. coli y NMP/100 ml Pseudomonas aeruginosa. | E10: 1 | F10: 2737637 | G10: 2657900 | H10: 2764216 | K10: =AVERAGE(F10:I10) -> 2719917.7 | L10: =STDEVA(F10:I10) -> 55328.601 | M10: =MEDIAN(F10:I10) -> 2737637 | N10: =GEOMEAN(F10:I10) -> 2719540.3 | O10: =HARMEAN(F10:I10) -> 2719160.7 | P10: =MIN(F10:I10) -> 2657900 | Q10: =MAX(F10:I10) -> 2764216
B11: 4 | K11: =AVERAGE(F11:I11) -> #DIV/0! | L11: =STDEVA(F11:I11) -> #DIV/0! | M11: =MEDIAN(F11:I11) -> #NUM! | N11: =GEOMEAN(F11:I11) -> #NUM! | O11: =HARMEAN(F11:I11) -> #N/A | P11: =MIN(F11:I11) -> 0 | Q11: =MAX(F11:I11) -> 0
B12: 5 | K12: =AVERAGE(F12:I12) -> #DIV/0! | L12: =STDEVA(F12:I12) -> #DIV/0! | M12: =MEDIAN(F12:I12) -> #NUM! | N12: =GEOMEAN(F12:I12) -> #NUM! | O12: =HARMEAN(F12:I12) -> #N/A | P12: =MIN(F12:I12) -> 0 | Q12: =MAX(F12:I12) -> 0
B13: 6 | E13: 1
B14: 7 | E14: 1
B15: 8 | E15: 1
B16: 9 | E16: 1
B17: 10 | E17: 1
B18: 11
B19: 12
B20: 13
B21: 14
B22: 15
B23: 16
B24: 17
B25: 18
B26: 19
B27: 20
B28: 21
B29: 22
... B37: 30
B39: TOTAL | F39: =SUM(F8:F38) -> 11360423 | G39: =SUM(G8:G38) -> 11029540 | H39: =SUM(H8:H38) -> 11470717 | I39: =SUM(I8:I38) -> 0 | K39: =K8+K9+K10 -> 11286893 | L39: =L8+L9+L10 -> 229595.64 | M39: =M8+M9+M10 -> 11360423 | N39: =N8+N9+N10 -> 11285327 | O39: =O8+O9+O10 -> 11283752 | P39: =P8+P9+P10 -> 11029540 | Q39: =Q8+Q9+Q10 -> 11470717
E43: 1
E44: 1
E45: 1 | F45: =F39*1.19 -> 13518903 | G45: =G39*1.19 -> 13125153 | H45: =H39*1.19 -> 13650153

Sheet COMPARATIVO
A1: A. S. MEDICAL LTDA | J1: SIBERMEDICAL SAS | S1: INGENIERIA Y MANTENIMIENTO COLOMBIANO SAS - IMC | AB1: JOTA MEDICS SAS | AK1: MANUFACTURAS LUCOLDI SAS
A2: 1. ACTIVIDADES MANTENIMIENTO EQUIPO MÉDICO Y BIOMÉDICO DEL CRUE | J2: 1. ACTIVIDADES MANTENIMIENTO EQUIPO MÉDICO Y BIOMÉDICO DEL CRUE | S2: 1. ACTIVIDADES MANTENIMIENTO EQUIPO MÉDICO Y BIOMÉDICO DEL CRUE | AB2: 1. ACTIVIDADES MANTENIMIENTO EQUIPO MÉDICO Y BIOMÉDICO DEL CRUE | AK2: 1. ACTIVIDADES MANTENIMIENTO EQUIPO MÉDICO Y BIOMÉDICO DEL CRUE
A3: ITEM | C3: REPUESTO | D3: CANTIDAD | E3: UNIDAD | F3: (INCLUYE MANO DE OBRA) | G3: IVA | H3: OFERTADO IVA INCLUIDO | J3: ITEM | L3: REPUESTO | M3: CANTIDAD | N3: UNIDAD | O3: (INCLUYE MANO DE OBRA) | P3: IVA | Q3: OFERTADO IVA INCLUIDO | S3: ITEM | U3: REPUESTO | V3: CANTIDAD | W3: UNIDAD | X3: (INCLUYE MANO DE OBRA) | Y3: IVA | Z3: OFERTADO IVA INCLUIDO | AB3: ITEM | AD3: REPUESTO | AE3: CANTIDAD | AF3: UNIDAD | AG3: (INCLUYE MANO DE OBRA) | AH3: IVA | AI3: OFERTADO IVA INCLUIDO | AK3: ITEM | AM3: REPUESTO | AN3: CANTIDAD | AO3: UNIDAD | AP3: (INCLUYE MANO DE OBRA) | AQ3: IVA | AR3: OFERTADO IVA INCLUIDO
A4: BALA DE OXÍGENO DE 4.15 | J4: BALA DE OXÍGENO DE 4.15 | S4: BALA DE OXÍGENO DE 4.15 | AB4: BALA DE OXÍGENO DE 4.15 | AK4: BALA DE OXÍGENO DE 4.15
A5: 1 | B5: BALA DE OXÍGENO DE 4.15 | C5: Realizar: 1- Inspección física 2- Recarga 3- Prueba hidrostática 4- Suministro de cánulas. (4 unidades) | D5: 15 | E5: UND | F5: =98000+145000+12000 -> 255000 | G5: =18620+27550+2280 -> 48450 | H5: 4394670 | J5: 1 | K5: BALA DE OXÍGENO DE 4.15 | L5: Realizar: 1- Inspección física 2- Recarga 3- Prueba hidrostática 4- Suministro de cánulas. (4 unidades) | M5: 15 | N5: UND | O5: =171000+200000+4600 -> 375600 | P5: =32490+38000+874 -> 71364 | Q5: =3052350+3570000+21896 -> 6644246 | S5: 1 | T5: BALA DE OXÍGENO DE 4.15 | U5: Realizar: 1- Inspección física 2- Recarga 3- Prueba hidrostática 4- Suministro de cánulas. (4 unidades) | V5: 15 | W5: UND | X5: =10000+70000+160000+20000 -> 260000 | Y5: =1900+13300+30400+3800 -> 49400 | Z5: =178500+1249500+2856000+95200 -> 4379200 | AB5: 1 | AC5: BALA DE OXÍGENO DE 4.15 | AD5: Realizar: 1- Inspección física 2- Recarga 3- Prueba hidrostática 4- Suministro de cánulas. (4 unidades) | AE5: 15 | AF5: UND | AG5: =15000+69000+195000+2250 -> 281250 | AH5: =2850+13110+37050+427 -> 53437 | AI5: =267750+1231658+3480745+10709 -> 4990862 | AK5: 1 | AL5: BALA DE OXÍGENO DE 4.15 | AM5: Realizar: 1- Inspección física 2- Recarga 3- Prueba hidrostática 4- Suministro de cánulas. (4 unidades) | AN5: 15 | AO5: UND | AP5: =120000+120000+360000+90000 -> 690000 | AQ5: =22800+22800+68400+17100 -> 131100 | AR5: =2142000+2142000+6426000+428400 -> 11138400
A6: BALA DE OXÍGENO DE 6.5 | J6: BALA DE OXÍGENO DE 6.5 | S6: BALA DE OXÍGENO DE 6.5 | AB6: BALA DE OXÍGENO DE 6.5 | AK6: BALA DE OXÍGENO DE 6.5
A7: 2 | B7: BALA DE OXÍGENO DE 6.5 | C7: Realizar: 1- Inspección física 2- recarga 3- Prueba hidrostática. | D7: 3 | E7: UND | F7: =130000+145000 -> 275000 | G7: =24700+27550 -> 52250 | H7: =(275000+52250)*3 -> 981750 | J7: 2 | K7: BALA DE OXÍGENO DE 6.5 | L7: Realizar: 1- Inspección física 2- recarga 3- Prueba hidrostática. | M7: 3 | N7: UND | O7: =180000+200000 -> 380000 | P7: =34200+38000 -> 72200 | Q7: =642600+714000 -> 1356600 | S7: 2 | T7: BALA DE OXÍGENO DE 6.5 | U7: Realizar: 1- Inspección física 2- recarga 3- Prueba hidrostática. | V7: 3 | W7: UND | X7: =10000+105000+160000 -> 275000 | Y7: =1900+19950+30400 -> 52250 | Z7: =35700+374850+571200 -> 981750 | AB7: 2 | AC7: BALA DE OXÍGENO DE 6.5 | AD7: Realizar: 1- Inspección física 2- recarga 3- Prueba hidrostática. | AE7: 3 | AF7: UND | AG7: =15000+146000+195000 -> 356000 | AH7: =2850+27740+37050 -> 67640 | AI7: =53550+521221+696149 -> 1270920 | AK7: 2 | AL7: BALA DE OXÍGENO DE 6.5 | AM7: Realizar: 1- Inspección física 2- recarga 3- Prueba hidrostática. | AN7: 3 | AO7: UND | AP7: =120000+250000+360000 -> 730000 | AQ7: =22800+47500+68400 -> 138700 | AR7: =428400+892500+1285200 -> 2606100
A8: PULSOXIMETROS MARCA RIESTER | J8: PULSOXIMETROS MARCA RIESTER | S8: PULSOXIMETROS MARCA RIESTER | AB8: PULSOXIMETROS MARCA RIESTER | AK8: PULSOXIMETROS MARCA RIESTER
A9: 3 | B9: PULSOXIMETROS MARCA RIESTER | C9: Realizar: 1- Inspección física 2- Limpieza general 3- Verificación de parámetros 4- Verificación de funcionamiento 5- Verificación de sistema eléctrico y electrónico. 6-Calibración. 7- Suministro de pilas "AAA" (6 uds) | D9: 3 | E9: UND | F9: 266500 | G9: 50635 | H9: 1010310 | J9: 3 | K9: PULSOXIMETROS MARCA RIESTER | L9: Realizar: 1- Inspección física 2- Limpieza general 3- Verificación de parámetros 4- Verificación de funcionamiento 5- Verificación de sistema eléctrico y electrónico. 6-Calibración. 7- Suministro de pilas "AAA" (6 uds) | M9: 3 | N9: UND | O9: =72000+277000+8000 -> 357000 | P9: =13680+52630+1520 -> 67830 | Q9: =257040+988890+57120 -> 1303050 | S9: 3 | T9: PULSOXIMETROS MARCA RIESTER | U9: Realizar: 1- Inspección física 2- Limpieza general 3- Verificación de parámetros 4- Verificación de funcionamiento 5- Verificación de sistema eléctrico y electrónico. 6-Calibración. 7- Suministro de pilas "AAA" (6 uds) | V9: 3 | W9: UND | X9: =50000+90000+15000 -> 155000 | Y9: =1900*5+17100+2850 -> 29450 | Z9: =35700*5+321300+107100 -> 606900 | AB9: 3 | AC9: PULSOXIMETROS MARCA RIESTER | AD9: Realizar: 1- Inspección física 2- Limpieza general 3- Verificación de parámetros 4- Verificación de funcionamiento 5- Verificación de sistema eléctrico y electrónico. 6-Calibración. 7- Suministro de pilas "AAA" (6 uds) | AE9: 3 | AF9: UND | AG9: =6000+8000+12000+12000+12000+70000+8450 -> 128450 | AH9: =1140+1520+2280+2280+2280+13300+1606 -> 24406 | AI9: =21420+28560+42840+42840+42840+249900+60336 -> 488736 | AK9: 3 | AL9: PULSOXIMETROS MARCA RIESTER | AM9: Realizar: 1- Inspección física 2- Limpieza general 3- Verificación de parámetros 4- Verificación de funcionamiento 5- Verificación de sistema eléctrico y electrónico. 6-Calibración. 7- Suministro de pilas "AAA" (6 uds) | AN9: 3 | AO9: UND | AP9: =250000+250000+8000 -> 508000 | AQ9: =47500+47500+1520 -> 96520 | AR9: =892500+892500+57120 -> 1842120
A10: PULSOXIMETROS MARCA LEMMAN | J10: PULSOXIMETROS MARCA LEMMAN | S10: PULSOXIMETROS MARCA LEMMAN | AB10: PULSOXIMETROS MARCA LEMMAN | AK10: PULSOXIMETROS MARCA LEMMAN
A11: 4 | B11: PULSOXIMETROS MARCA LEMMAN | C11: Realizar: 1- Inspección física 2- Limpieza general 3- Verificación de parámetros 4- Verificación de funcionamiento 5- Verificación de sistema eléctrico y electrónico. 6-Calibración. 7- Suministro de pilas "AAA" (4 uds) | D11: 2 | E11: UND | F11: 266500 | G11: 50635 | H11: 673540 | J11: 4 | K11: PULSOXIMETROS MARCA LEMMAN | L11: Realizar: 1- Inspección física 2- Limpieza general 3- Verificación de parámetros 4- Verificación de funcionamiento 5- Verificación de sistema eléctrico y electrónico. 6-Calibración. 7- Suministro de pilas "AAA" (4 uds) | M11: 2 | N11: UND | O11: =72000+277000+8000 -> 357000 | P11: =13680+52630+1520 -> 67830 | Q11: =171360+659260+38080 -> 868700 | S11: 4 | T11: PULSOXIMETROS MARCA LEMMAN | U11: Realizar: 1- Inspección física 2- Limpieza general 3- Verificación de parámetros 4- Verificación de funcionamiento 5- Verificación de sistema eléctrico y electrónico. 6-Calibración. 7- Suministro de pilas "AAA" (4 uds) | V11: 2 | W11: UND | X11: =10000*5+90000+15000 -> 155000 | Y11: =1900*5+17100+2850 -> 29450 | Z11: =23800*5+214200+71400 -> 404600 | AB11: 4 | AC11: PULSOXIMETROS MARCA LEMMAN | AD11: Realizar: 1- Inspección física 2- Limpieza general 3- Verificación de parámetros 4- Verificación de funcionamiento 5- Verificación de sistema eléctrico y electrónico. 6-Calibración. 7- Suministro de pilas "AAA" (4 uds) | AE11: 2 | AF11: UND | AG11: =6000+8000+12000+12000+12000+70000+8450 -> 128450 | AH11: =1140+1520+2280+2280+2280+13300+1606 -> 24406 | AI11: =14280+19040+28560+28560+28560+166600+40224 -> 325824 | AK11: 4 | AL11: PULSOXIMETROS MARCA LEMMAN | AM11: Realizar: 1- Inspección física 2- Limpieza general 3- Verificación de parámetros 4- Verificación de funcionamiento 5- Verificación de sistema eléctrico y electrónico. 6-Calibración. 7- Suministro de pilas "AAA" (4 uds) | AN11: 2 | AO11: UND | AP11: =250000+250000+8000 -> 508000 | AQ11: =47500+47500+1520 -> 96520 | AR11: =595000+595000+38080 -> 1228080
A12: LINTERNAS MARCA RIESTER | J12: LINTERNAS MARCA RIESTER | S12: LINTERNAS MARCA RIESTER | AB12: LINTERNAS MARCA RIESTER | AK12: LINTERNAS MARCA RIESTER
A13: 5 | B13: LINTERNAS MARCA RIESTER | C13: Realizar: 1- Inspección física. 2- Limpieza general. 3- Verificación de funcionamiento. 4- Suministro de pilas alcalinas "AAA" (20 unidades) | D13: 10 | E13: UND | F13: 36500 | G13: 6935 | H13: 630700 | J13: 5 | K13: LINTERNAS MARCA RIESTER | L13: Realizar: 1- Inspección física. 2- Limpieza general. 3- Verificación de funcionamiento. 4- Suministro de pilas alcalinas "AAA" (20 unidades) | M13: 10 | N13: UND | O13: 19000 | P13: =2090+1520 -> 3610 | Q13: =130900+190400 -> 321300 | S13: 5 | T13: LINTERNAS MARCA RIESTER | U13: Realizar: 1- Inspección física. 2- Limpieza general. 3- Verificación de funcionamiento. 4- Suministro de pilas alcalinas "AAA" (20 unidades) | V13: 10 | W13: UND | X13: 30000 | Y13: =950*3+2850 -> 5700 | Z13: =59500*3+357000 -> 535500 | AB13: 5 | AC13: LINTERNAS MARCA RIESTER | AD13: Realizar: 1- Inspección física. 2- Limpieza general. 3- Verificación de funcionamiento. 4- Suministro de pilas alcalinas "AAA" (20 unidades) | AE13: 10 | AF13: UND | AG13: =8000+10000+27000+8450 -> 53450 | AH13: =1520+1900+5130+1606 -> 10156 | AI13: =95200+119000+321300+201119 -> 736619 | AK13: 5 | AL13: LINTERNAS MARCA RIESTER | AM13: Realizar: 1- Inspección física. 2- Limpieza general. 3- Verificación de funcionamiento. 4- Suministro de pilas alcalinas "AAA" (20 unidades) | AN13: 10 | AO13: UND | AP13: =120000+8000 -> 128000 | AQ13: =22800+1520 -> 24320 | AR13: =1428000+190400 -> 1618400
A14: MANGOS DE LARINGOSCOPIO MARCA WELCH ALLYN | J14: MANGOS DE LARINGOSCOPIO MARCA WELCH ALLYN | S14: MANGOS DE LARINGOSCOPIO MARCA WELCH ALLYN | AB14: MANGOS DE LARINGOSCOPIO MARCA WELCH ALLYN | AK14: MANGOS DE LARINGOSCOPIO MARCA WELCH ALLYN
A15: 6 | B15: MANGOS DE LARINGOSCOPIO MARCA WELCH ALLYN | C15: Realizar: 1- Inspección física 2- Limpieza general 3- Verificación de accesorios 4- Verificación de funcionamiento 5- Suministro de pilas alcalinas "C2" | D15: 6 | E15: UND | F15: 64000 | G15: 12160 | H15: 592620 | J15: 6 | K15: MANGOS DE LARINGOSCOPIO MARCA WELCH ALLYN | L15: Realizar: 1- Inspección física 2- Limpieza general 3- Verificación de accesorios 4- Verificación de funcionamiento 5- Suministro de pilas alcalinas "C2" | M15: 6 | N15: UND | O15: =17000+16000 -> 33000 | P15: =3230+3040 -> 6270 | Q15: =121380+228480 -> 349860 | S15: 6 | T15: MANGOS DE LARINGOSCOPIO MARCA WELCH ALLYN | U15: Realizar: 1- Inspección física 2- Limpieza general 3- Verificación de accesorios 4- Verificación de funcionamiento 5- Suministro de pilas alcalinas "C2" | V15: 6 | W15: UND | X15: =10000+10000+5000+5000+35000 -> 65000 | Y15: =1900+1900+950+950+6650 -> 12350 | Z15: =71400+71400+35700+35700+499800 -> 714000 | AB15: 6 | AC15: MANGOS DE LARINGOSCOPIO MARCA WELCH ALLYN | AD15: Realizar: 1- Inspección física 2- Limpieza general 3- Verificación de accesorios 4- Verificación de funcionamiento 5- Suministro de pilas alcalinas "C2" | AE15: 6 | AF15: UND | AG15: =8000+10000+10000+17000+73000 -> 118000 | AH15: =1520+1900+1900+3230+13870 -> 22420 | AI15: =57120+71400+71400+121380+1042437 -> 1363737 | AK15: 6 | AL15: MANGOS DE LARINGOSCOPIO MARCA WELCH ALLYN | AM15: Realizar: 1- Inspección física 2- Limpieza general 3- Verificación de accesorios 4- Verificación de funcionamiento 5- Suministro de pilas alcalinas "C2" | AN15: 6 | AO15: UND | AP15: =250000+80000 -> 330000 | AQ15: =47500+15200 -> 62700 | AR15: =1785000+1142400 -> 2927400
A16: FONENDOSCOPIOS MARCA SPIRIT | J16: FONENDOSCOPIOS MARCA SPIRIT | S16: FONENDOSCOPIOS MARCA SPIRIT | AB16: FONENDOSCOPIOS MARCA SPIRIT | AK16: FONENDOSCOPIOS MARCA SPIRIT
A17: 7 | B17: FONENDOSCOPIOS MARCA SPIRIT | C17: Realizar: 1- Inspección física. 2- Limpieza general. 3- Verificación de accesorios. 4- Verificación de funcionamiento. | D17: 9 | E17: UND | F17: 25000 | G17: 4750 | H17: 267750 | J17: 7 | K17: FONENDOSCOPIOS MARCA SPIRIT | L17: Realizar: 1- Inspección física. 2- Limpieza general. 3- Verificación de accesorios. 4- Verificación de funcionamiento. | M17: 9 | N17: UND | O17: 16000 | P17: 3040 | Q17: 19040 | S17: 7 | T17: FONENDOSCOPIOS MARCA SPIRIT | U17: Realizar: 1- Inspección física. 2- Limpieza general. 3- Verificación de accesorios. 4- Verificación de funcionamiento. | V17: 9 | W17: UND | X17: 40000 | Y17: =1900*4 -> 7600 | Z17: =107100*4 -> 428400 | AB17: 7 | AC17: FONENDOSCOPIOS MARCA SPIRIT | AD17: Realizar: 1- Inspección física. 2- Limpieza general. 3- Verificación de accesorios. 4- Verificación de funcionamiento. | AE17: 9 | AF17: UND | AG17: =8000+10000+8000+12000 -> 38000 | AH17: =1520+1900+1520+2280 -> 7220 | AI17: =85680+107100+85680+128520 -> 406980 | AK17: 7 | AL17: FONENDOSCOPIOS MARCA SPIRIT | AM17: Realizar: 1- Inspección física. 2- Limpieza general. 3- Verificación de accesorios. 4- Verificación de funcionamiento. | AN17: 9 | AO17: UND | AP17: 250000 | AQ17: 47500 | AR17: 2677500
A18: FONENDOSCOPIOS MARCA RIESTER | J18: FONENDOSCOPIOS MARCA RIESTER | S18: FONENDOSCOPIOS MARCA RIESTER | AB18: FONENDOSCOPIOS MARCA RIESTER | AK18: FONENDOSCOPIOS MARCA RIESTER
A19: 8 | B19: FONENDOSCOPIOS MARCA RIESTER | C19: Realizar: 1- Inspección física. 2- Limpieza general. 3- Verificación de accesorios. 4- Verificación de funcionamiento. | D19: 33 | E19: UND | F19: 25000 | G19: 4750 | H19: 981750 | J19: 8 | K19: FONENDOSCOPIOS MARCA RIESTER | L19: Realizar: 1- Inspección física. 2- Limpieza general. 3- Verificación de accesorios. 4- Verificación de funcionamiento. | M19: 33 | N19: UND | O19: 16000 | P19: 3040 | Q19: 628320 | S19: 8 | T19: FONENDOSCOPIOS MARCA RIESTER | U19: Realizar: 1- Inspección física. 2- Limpieza general. 3- Verificación de accesorios. 4- Verificación de funcionamiento. | V19: 33 | W19: UND | X19: 40000 | Y19: =1900*4 -> 7600 | Z19: =392700*4 -> 1570800 | AB19: 8 | AC19: FONENDOSCOPIOS MARCA RIESTER | AD19: Realizar: 1- Inspección física. 2- Limpieza general. 3- Verificación de accesorios. 4- Verificación de funcionamiento. | AE19: 33 | AF19: UND | AG19: =8000+10000+8000+12000 -> 38000 | AH19: =1520+1900+1520+2280 -> 7220 | AI19: =314160+392700+314160+471240 -> 1492260 | AK19: 8 | AL19: FONENDOSCOPIOS MARCA RIESTER | AM19: Realizar: 1- Inspección física. 2- Limpieza general. 3- Verificación de accesorios. 4- Verificación de funcionamiento. | AN19: 33 | AO19: UND | AP19: 250000 | AQ19: 47500 | AR19: 9817500
A20: TENSIOMETROS MARCA ALPK2 | J20: TENSIOMETROS MARCA ALPK2 | S20: TENSIOMETROS MARCA ALPK2 | AB20: TENSIOMETROS MARCA ALPK2 | AK20: TENSIOMETROS MARCA ALPK2
A21: 9 | B21: TENSIOMETROS MARCA ALPK2 | C21: Realizar: 1- Inspección física. 2- Limpieza general. 3- Verificación de parámetros. 4- Verificación de accesorios 5- Verificación neumática 6- Verificación de funcionamiento 7- Calibración | D21: 22 | E21: UND | F21: 55000 | G21: 10450 | H21: 1439900 | J21: 9 | K21: TENSIOMETROS MARCA ALPK2 | L21: Realizar: 1- Inspección física. 2- Limpieza general. 3- Verificación de parámetros. 4- Verificación de accesorios 5- Verificación neumática 6- Verificación de funcionamiento 7- Calibración | M21: 22 | N21: UND | O21: =40000+188000 -> 228000 | P21: =7600+35720 -> 43320 | Q21: =1047200+4921840 -> 5969040 | S21: 9 | T21: TENSIOMETROS MARCA ALPK2 | U21: Realizar: 1- Inspección física. 2- Limpieza general. 3- Verificación de parámetros. 4- Verificación de accesorios 5- Verificación neumática 6- Verificación de funcionamiento 7- Calibración | V21: 22 | W21: UND | X21: =10000+15000+10000+5000+5000+5000+90000 -> 140000 | Y21: =1900+2850+1900+950+950+950+17100 -> 26600 | Z21: =261800+392700+261800+130900+130900+130900+2356200 -> 3665200 | AB21: 9 | AC21: TENSIOMETROS MARCA ALPK2 | AD21: Realizar: 1- Inspección física. 2- Limpieza general. 3- Verificación de parámetros. 4- Verificación de accesorios 5- Verificación neumática 6- Verificación de funcionamiento 7- Calibración | AE21: 22 | AF21: UND | AG21: =6000+8000+12000+11000+11000+12000+158000 -> 218000 | AH21: =1140+1520+2280+2090+2090+2280+30020 -> 41420 | AI21: =157080+209440+314160+287980+287980+314160+4136440 -> 5707240 | AK21: 9 | AL21: TENSIOMETROS MARCA ALPK2 | AM21: Realizar: 1- Inspección física. 2- Limpieza general. 3- Verificación de parámetros. 4- Verificación de accesorios 5- Verificación neumática 6- Verificación de funcionamiento 7- Calibración | AN21: 22 | AO21: UND | AP21: =250000+250000 -> 500000 | AQ21: =47500+47500 -> 95000 | AR21: =6545000+6545000 -> 13090000
A22: TENSIOMETROS MARCA PRESTIGE | J22: TENSIOMETROS MARCA PRESTIGE | S22: TENSIOMETROS MARCA PRESTIGE | AB22: TENSIOMETROS MARCA PRESTIGE | AK22: TENSIOMETROS MARCA PRESTIGE
A23: 10 | B23: TENSIOMETROS MARCA PRESTIGE | C23: Realizar: 1- Inspección física. 2- Limpieza general. 3- Verificación de parámetros. 4- Verificación de accesorios 5- Verificación neumática 6- Verificación de funcionamiento 7- Calibración | D23: 9 | E23: UND | F23: 315000 | G23: 59850 | H23: 3373650 | J23: 10 | K23: TENSIOMETROS MARCA PRESTIGE | L23: Realizar: 1- Inspección física. 2- Limpieza general. 3- Verificación de parámetros. 4- Verificación de accesorios 5- Verificación neumática 6- Verificación de funcionamiento 7- Calibración | M23: 9 | N23: UND | O23: =40000+188000 -> 228000 | P23: =7600+35720 -> 43320 | Q23: =428400+2013480 -> 2441880 | S23: 10 | T23: TENSIOMETROS MARCA PRESTIGE | U23: Realizar: 1- Inspección física. 2- Limpieza general. 3- Verificación de parámetros. 4- Verificación de accesorios 5- Verificación neumática 6- Verificación de funcionamiento 7- Calibración | V23: 9 | W23: UND | X23: =10000+15000+10000+5000+5000+5000+90000 -> 140000 | Y23: =1900+2850+1900+950+950+950+17100 -> 26600 | Z23: =107100+160650+107100+53550+53550+53550+963900 -> 1499400 | AB23: 10 | AC23: TENSIOMETROS MARCA PRESTIGE | AD23: Realizar: 1- Inspección física. 2- Limpieza general. 3- Verificación de parámetros. 4- Verificación de accesorios 5- Verificación neumática 6- Verificación de funcionamiento 7- Calibración | AE23: 9 | AF23: UND | AG23: =6000+8000+12000+11000+11000+12000+158000 -> 218000 | AH23: =1140+1520+2280+2090+2090+2280+30020 -> 41420 | AI23: =64260+85680+128520+117810+117810+128520+1692180 -> 2334780 | AK23: 10 | AL23: TENSIOMETROS MARCA PRESTIGE | AM23: Realizar: 1- Inspección física. 2- Limpieza general. 3- Verificación de parámetros. 4- Verificación de accesorios 5- Verificación neumática 6- Verificación de funcionamiento 7- Calibración | AN23: 9 | AO23: UND | AP23: =250000+250000 -> 500000 | AQ23: =47500+47500 -> 95000 | AR23: =2677500+2677500 -> 5355000
A24: TENSIOMETROS MARCA RIESTER | J24: TENSIOMETROS MARCA RIESTER | S24: TENSIOMETROS MARCA RIESTER | AB24: TENSIOMETROS MARCA RIESTER | AK24: TENSIOMETROS MARCA RIESTER
A25: 11 | B25: TENSIOMETROS MARCA RIESTER | C25: Realizar: 1- Inspección física. 2- Limpieza general. 3- Verificación de parámetros. 4- Verificación de accesorios 5- Verificación neumática 6- Verificación de funcionamiento 7- Calibración | D25: 5 | E25: UND | F25: 315000 | G25: 59850 | H25: 1874250 | J25: 11 | K25: TENSIOMETROS MARCA RIESTER | L25: Realizar: 1- Inspección física. 2- Limpieza general. 3- Verificación de parámetros. 4- Verificación de accesorios 5- Verificación neumática 6- Verificación de funcionamiento 7- Calibración | M25: 5 | N25: UND | O25: =40000+188000 -> 228000 | P25: =7600+35720 -> 43320 | Q25: =238000+1118600 -> 1356600 | S25: 11 | T25: TENSIOMETROS MARCA RIESTER | U25: Realizar: 1- Inspección física. 2- Limpieza general. 3- Verificación de parámetros. 4- Verificación de accesorios 5- Verificación neumática 6- Verificación de funcionamiento 7- Calibración | V25: 5 | W25: UND | X25: =10000+15000+10000+5000+5000+5000+90000 -> 140000 | Y25: =1900+2850+1900+950+950+950+17100 -> 26600 | Z25: =59500+89250+59500+29750+29750+29750+535500 -> 833000 | AB25: 11 | AC25: TENSIOMETROS MARCA RIESTER | AD25: Realizar: 1- Inspección física. 2- Limpieza general. 3- Verificación de parámetros. 4- Verificación de accesorios 5- Verificación neumática 6- Verificación de funcionamiento 7- Calibración | AE25: 5 | AF25: UND | AG25: =6000+8000+12000+11000+11000+12000+158000 -> 218000 | AH25: =1140+1520+2280+2090+2090+2280+30020 -> 41420 | AI25: =35700+47600+71400+65450+65450+71400+940100 -> 1297100 | AK25: 11 | AL25: TENSIOMETROS MARCA RIESTER | AM25: Realizar: 1- Inspección física. 2- Limpieza general. 3- Verificación de parámetros. 4- Verificación de accesorios 5- Verificación neumática 6- Verificación de funcionamiento 7- Calibración | AN25: 5 | AO25: UND | AP25: =250000+250000 -> 500000 | AQ25: =47500+47500 -> 95000 | AR25: =1487500+1487500 -> 2975000
A26: EQUIPO DE ÓRGANOS MARCA WELCH ALLYN | J26: EQUIPO DE ÓRGANOS MARCA WELCH ALLYN | S26: EQUIPO DE ÓRGANOS MARCA WELCH ALLYN | AB26: EQUIPO DE ÓRGANOS MARCA WELCH ALLYN | AK26: EQUIPO DE ÓRGANOS MARCA WELCH ALLYN
A27: 12 | B27: EQUIPO DE ÓRGANOS MARCA WELCH ALLYN | C27: Realizar: 1- Inspección física. 2- Limpieza general. 3- Verificación de parámetros. 4- Verificación de accesorios 5- Verificación de conectores 6- Verificación de funcionamiento 7- Suministro de pilas alcalinas "AA" (16 Unidades) | D27: 4 | E27: UND | F27: 135000 | G27: 25650 | H27: 376800 | J27: 12 | K27: EQUIPO DE ÓRGANOS MARCA WELCH ALLYN | L27: Realizar: 1- Inspección física. 2- Limpieza general. 3- Verificación de parámetros. 4- Verificación de accesorios 5- Verificación de conectores 6- Verificación de funcionamiento 7- Suministro de pilas alcalinas "AA" (16 Unidades) | M27: 4 | N27: UND | O27: =35000+7300 -> 42300 | P27: =6650+1387 -> 8037 | Q27: =166600+138992 -> 305592 | S27: 12 | T27: EQUIPO DE ÓRGANOS MARCA WELCH ALLYN | U27: Realizar: 1- Inspección física. 2- Limpieza general. 3- Verificación de parámetros. 4- Verificación de accesorios 5- Verificación de conectores 6- Verificación de funcionamiento 7- Suministro de pilas alcalinas "AA" (16 Unidades) | V27: 4 | W27: UND | X27: =10000+20000+10000+10000+10000+10000+15000 -> 85000 | Y27: =1900+3800+1900+1900+1900+1900+2850 -> 16150 | Z27: =47600+95200+47600+47600+47600+47600+285600 -> 618800 | AB27: 12 | AC27: EQUIPO DE ÓRGANOS MARCA WELCH ALLYN | AD27: Realizar: 1- Inspección física. 2- Limpieza general. 3- Verificación de parámetros. 4- Verificación de accesorios 5- Verificación de conectores 6- Verificación de funcionamiento 7- Suministro de pilas alcalinas "AA" (16 Unidades) | AE27: 4 | AF27: UND | AG27: =6000+8000+12000+11000+11000+12000+8600 -> 68600 | AH27: =1140+1520+2280+2090+2090+2280+1634 -> 13034 | AI27: =28560+38080+57120+52360+52360+57120+163752 -> 449352 | AK27: 12 | AL27: EQUIPO DE ÓRGANOS MARCA WELCH ALLYN | AM27: Realizar: 1- Inspección física. 2- Limpieza general. 3- Verificación de parámetros. 4- Verificación de accesorios 5- Verificación de conectores 6- Verificación de funcionamiento 7- Suministro de pilas alcalinas "AA" (16 Unidades) | AN27: 4 | AO27: UND | AP27: =250000+8000 -> 258000 | AQ27: =47500+1520 -> 49020 | AR27: =1190000+152320 -> 1342320
A28: GLUCÓMETROS MARCA FASTCHECK | J28: GLUCÓMETROS MARCA FASTCHECK | S28: GLUCÓMETROS MARCA FASTCHECK | AB28: GLUCÓMETROS MARCA FASTCHECK | AK28: GLUCÓMETROS MARCA FASTCHECK
A29: 13 | B29: GLUCÓMETROS MARCA FASTCHECK | C29: Realizar: 1- Inspección física. 2- Limpieza general. 3- Verificación de parámetros. 4- Verificación de accesorios 5- Verificación de funcionamiento 6- Suministro de tirillas 7- Suministro de lancetas 8- Suministro de pilas de litio "3V" | D29: 5 | E29: UND | F29: 163000 | G29: 30970 | H29: 969850 | J29: 13 | K29: GLUCÓMETROS MARCA FASTCHECK | L29: Realizar: 1- Inspección física. 2- Limpieza general. 3- Verificación de parámetros. 4- Verificación de accesorios 5- Verificación de funcionamiento 6- Suministro de tirillas 7- Suministro de lancetas 8- Suministro de pilas de litio "3V" | M29: 5 | N29: UND | O29: =35000+50000+35000+6200 -> 126200 | P29: 23978 | Q29: 750890 | S29: 13 | T29: GLUCÓMETROS MARCA FASTCHECK | U29: Realizar: 1- Inspección física. 2- Limpieza general. 3- Verificación de parámetros. 4- Verificación de accesorios 5- Verificación de funcionamiento 6- Suministro de tirillas 7- Suministro de lancetas 8- Suministro de pilas de litio "3V" | V29: 5 | W29: UND | X29: =5000+5000+5000+5000+5000+65000+18000+17000 -> 125000 | Y29: =950+950+950+950+950+12350+3420+3230 -> 23750 | Z29: =29750+29750+29750+29750+29750+386750+107100+101150 -> 743750 | AB29: 13 | AC29: GLUCÓMETROS MARCA FASTCHECK | AD29: Realizar: 1- Inspección física. 2- Limpieza general. 3- Verificación de parámetros. 4- Verificación de accesorios 5- Verificación de funcionamiento 6- Suministro de tirillas 7- Suministro de lancetas 8- Suministro de pilas de litio "3V" | AE29: 5 | AF29: UND | AG29: =6000+8000+12000+11000+11000+12000+52000+14500 -> 126500 | AH29: =1140+1520+2280+2090+2090+2280+9880+2755 -> 24035 | AI29: =35700+47600+71400+65450+65450+71400+309397+86273 -> 752670 | AK29: 13 | AL29: GLUCÓMETROS MARCA FASTCHECK | AM29: Realizar: 1- Inspección física. 2- Limpieza general. 3- Verificación de parámetros. 4- Verificación de accesorios 5- Verificación de funcionamiento 6- Suministro de tirillas 7- Suministro de lancetas 8- Suministro de pilas de litio "3V" | AN29: 5 | AO29: UND | AP29: =250000+140000+100000+20000 -> 510000 | AQ29: =47500+26600+19000+3800 -> 96900 | AR29: =1487500+833000+595000+119000 -> 3034500
A30: MONITORES DE SIGNOS VITALES MARCA MINDRAY MODELO VS-800 | J30: MONITORES DE SIGNOS VITALES MARCA MINDRAY MODELO VS-800 | S30: MONITORES DE SIGNOS VITALES MARCA MINDRAY MODELO VS-800 | AB30: MONITORES DE SIGNOS VITALES MARCA MINDRAY MODELO VS-800 | AK30: MONITORES DE SIGNOS VITALES MARCA MINDRAY MODELO VS-800
A31: 14 | B31: MONITORES DE SIGNOS VITALES MARCA MINDRAY MODELO VS-800 | C31: Realizar: 1- Inspección física. 2- Limpieza general. 3- Verificación de parámetros. 4- Verificación de accesorios 5- Verificación de conectores 6- Verificación neumática 7- Verificación de funcionamiento 8- Verificación del sistema eléctrico y electrónico 9- Calibración 10- Suministro de batería | D31: 5 | E31: UND | F31: 780000 | G31: 148200 | H31: 4641000 | J31: 14 | K31: MONITORES DE SIGNOS VITALES MARCA MINDRAY MODELO VS-800 | L31: Realizar: 1- Inspección física. 2- Limpieza general. 3- Verificación de parámetros. 4- Verificación de accesorios 5- Verificación de conectores 6- Verificación neumática 7- Verificación de funcionamiento 8- Verificación del sistema eléctrico y electrónico 9- Calibración 10- Suministro de batería | M31: 5 | N31: UND | O31: =166000+388000+850000 -> 1404000 | P31: =31540+73720+161500 -> 266760 | Q31: =987700+2308600+5057500 -> 8353800 | S31: 14 | T31: MONITORES DE SIGNOS VITALES MARCA MINDRAY MODELO VS-800 | U31: Realizar: 1- Inspección física. 2- Limpieza general. 3- Verificación de parámetros. 4- Verificación de accesorios 5- Verificación de conectores 6- Verificación neumática 7- Verificación de funcionamiento 8- Verificación del sistema eléctrico y electrónico 9- Calibración 10- Suministro de batería | V31: 5 | W31: UND | X31: =20000+20000+10000+10000+5000+5000+10000+10000+190000+850000 -> 1130000 | Y31: =3800+3800+1900+1900+950+950+1900+1900+36100+161500 -> 214700 | Z31: =119000+119000+59500+59500+29750+29750+59500+59500+1130500+5057500 -> 6723500 | AB31: 14 | AC31: MONITORES DE SIGNOS VITALES MARCA MINDRAY MODELO VS-800 | AD31: Realizar: 1- Inspección física. 2- Limpieza general. 3- Verificación de parámetros. 4- Verificación de accesorios 5- Verificación de conectores 6- Verificación neumática 7- Verificación de funcionamiento 8- Verificación del sistema eléctrico y electrónico 9- Calibración 10- Suministro de batería | AE31: 5 | AF31: UND | AG31: =15000+15000+20000+15000+15000+15000+20000+20000+120000+577000 -> 832000 | AH31: =2850+2850+3800+2850+2850+2850+3800+3800+22800+109630 -> 158080 | AI31: =89250+89250+119000+89250+89250+89250+119000+119000+714000+3433153 -> 4950403 | AK31: 14 | AL31: MONITORES DE SIGNOS VITALES MARCA MINDRAY MODELO VS-800 | AM31: Realizar: 1- Inspección física. 2- Limpieza general. 3- Verificación de parámetros. 4- Verificación de accesorios 5- Verificación de conectores 6- Verificación neumática 7- Verificación de funcionamiento 8- Verificación del sistema eléctrico y electrónico 9- Calibración 10- Suministro de batería | AN31: 5 | AO31: UND | AP31: =700000+2000000+1900000 -> 4600000 | AQ31: =133000+380000+361000 -> 874000 | AR31: =4165000+11900000+11305000 -> 27370000
A32: MONITORES DE SIGNOS VITALES MARCA EDAN MODELO M9B | J32: MONITORES DE SIGNOS VITALES MARCA EDAN MODELO M9B | S32: MONITORES DE SIGNOS VITALES MARCA EDAN MODELO M9B | AB32: MONITORES DE SIGNOS VITALES MARCA EDAN MODELO M9B | AK32: MONITORES DE SIGNOS VITALES MARCA EDAN MODELO M9B
A33: 15 | B33: MONITORES DE SIGNOS VITALES MARCA EDAN MODELO M9B | C33: Realizar: 1- Inspección física. 2- Limpieza general. 3- Verificación de parámetros. 4- Verificación de accesorios 5- Verificación de conectores 6- Verificación neumática 7- Verificación de funcionamiento 8- Verificación del sistema eléctrico y electrónico 9- Calibración 10- Suministro de batería 11- Sensor SPO2 | D33: 1 | E33: UND | F33: 1130000 | G33: 214700 | H33: 1344700 | J33: 15 | K33: MONITORES DE SIGNOS VITALES MARCA EDAN MODELO M9B | L33: Realizar: 1- Inspección física. 2- Limpieza general. 3- Verificación de parámetros. 4- Verificación de accesorios 5- Verificación de conectores 6- Verificación neumática 7- Verificación de funcionamiento 8- Verificación del sistema eléctrico y electrónico 9- Calibración 10- Suministro de batería 11- Sensor SPO2 | M33: 1 | N33: UND | O33: =166000+360000+545000+133000 -> 1204000 | P33: =31540+68400+103550+25270 -> 228760 | Q33: =197540+428400+648550+158270 -> 1432760 | S33: 15 | T33: MONITORES DE SIGNOS VITALES MARCA EDAN MODELO M9B | U33: Realizar: 1- Inspección física. 2- Limpieza general. 3- Verificación de parámetros. 4- Verificación de accesorios 5- Verificación de conectores 6- Verificación neumática 7- Verificación de funcionamiento 8- Verificación del sistema eléctrico y electrónico 9- Calibración 10- Suministro de batería 11- Sensor SPO2 | V33: 1 | W33: UND | X33: =20000+20000+10000+5000+5000+10000+5000+10000+190000+390000+140000 -> 805000 | Y33: =3800+3800+1900+950+950+1900+950+1900+36100+74100+26600 -> 152950 | Z33: =23800+23800+11900+5950+5950+11900+5950+11900+226100+464100+166600 -> 957950 | AB33: 15 | AC33: MONITORES DE SIGNOS VITALES MARCA EDAN MODELO M9B | AD33: Realizar: 1- Inspección física. 2- Limpieza general. 3- Verificación de parámetros. 4- Verificación de accesorios 5- Verificación de conectores 6- Verificación neumática 7- Verificación de funcionamiento 8- Verificación del sistema eléctrico y electrónico 9- Calibración 10- Suministro de batería 11- Sensor SPO2 | AE33: 1 | AF33: UND | AG33: =15000+15000+20000+15000+15000+15000+20000+20000+120000+652000+120000 -> 1027000 | AH33: =2850+2850+3800+2850+2850+2850+3800+3800+22800+123880+22800 -> 195130 | AI33: =17850+17850+23800+17850+17850+17850+23800+23800+142800+775880+142800 -> 1222130 | AK33: 15 | AL33: MONITORES DE SIGNOS VITALES MARCA EDAN MODELO M9B | AM33: Realizar: 1- Inspección física. 2- Limpieza general. 3- Verificación de parámetros. 4- Verificación de accesorios 5- Verificación de conectores 6- Verificación neumática 7- Verificación de funcionamiento 8- Verificación del sistema eléctrico y electrónico 9- Calibración 10- Suministro de batería 11- Sensor SPO2 | AN33: 1 | AO33: UND | AP33: =700000+2000000+1900000+850000 -> 5450000 | AQ33: =133000+380000+361000+161500 -> 1035500 | AR33: =833000+2380000+2261000+1011500 -> 6485500
A34: DESFIBRILADORES MARCA ZOLL AED PLUS | J34: DESFIBRILADORES MARCA ZOLL AED PLUS | S34: DESFIBRILADORES MARCA ZOLL AED PLUS | AB34: DESFIBRILADORES MARCA ZOLL AED PLUS | AK34: DESFIBRILADORES MARCA ZOLL AED PLUS
A35: 16 | B35: DESFIBRILADORES MARCA ZOLL AED PLUS | C35: Realizar: 1- Inspección física. 2- Limpieza general. 3- Verificación de parámetros. 4- Verificación de accesorios 5- Verificación de conectores 6- Verificación del sistema eléctrico y electrónico 7- Suministro de pilas Lithium "CR1234 3V" (10 Unidades) | D35: 1 | E35: UND | F35: 382000 | G35: 72580 | H35: 797300 | J35: 16 | K35: DESFIBRILADORES MARCA ZOLL AED PLUS | L35: Realizar: 1- Inspección física. 2- Limpieza general. 3- Verificación de parámetros. 4- Verificación de accesorios 5- Verificación de conectores 6- Verificación del sistema eléctrico y electrónico 7- Suministro de pilas Lithium "CR1234 3V" (10 Unidades) | M35: 1 | N35: UND | O35: =200000+22500 -> 222500 | P35: =38000+4275 -> 42275 | Q35: =238000+267750 -> 505750 | S35: 16 | T35: DESFIBRILADORES MARCA ZOLL AED PLUS | U35: Realizar: 1- Inspección física. 2- Limpieza general. 3- Verificación de parámetros. 4- Verificación de accesorios 5- Verificación de conectores 6- Verificación del sistema eléctrico y electrónico 7- Suministro de pilas Lithium "CR1234 3V" (10 Unidades) | V35: 1 | W35: UND | X35: =20000+30000+10000+10000+5000+20000+350000 -> 445000 | Y35: =3800+5700+1900+1900+950+3800+66500 -> 84550 | Z35: =23800+35700+11900+11900+5950+23800+416500 -> 529550 | AB35: 16 | AC35: DESFIBRILADORES MARCA ZOLL AED PLUS | AD35: Realizar: 1- Inspección física. 2- Limpieza general. 3- Verificación de parámetros. 4- Verificación de accesorios 5- Verificación de conectores 6- Verificación del sistema eléctrico y electrónico 7- Suministro de pilas Lithium "CR1234 3V" (10 Unidades) | AE35: 1 | AF35: UND | AG35: =25000+25000+190000+35000+30000+45000+45500 -> 395500 | AH35: =4750+4750+36100+6650+5700+8550+8645 -> 75145 | AI35: =29750+29750+226100+41650+35700+53550+541450 -> 957950 | AK35: 16 | AL35: DESFIBRILADORES MARCA ZOLL AED PLUS | AM35: Realizar: 1- Inspección física. 2- Limpieza general. 3- Verificación de parámetros. 4- Verificación de accesorios 5- Verificación de conectores 6- Verificación del sistema eléctrico y electrónico 7- Suministro de pilas Lithium "CR1234 3V" (10 Unidades) | AN35: 1 | AO35: UND | AP35: =700000+150000 -> 850000 | AQ35: =133000+28500 -> 161500 | AR35: =833000+1785000 -> 2618000
A36: DESFIBRILADORES MARCA ZOLL AEDPRO | J36: DESFIBRILADORES MARCA ZOLL AEDPRO | S36: DESFIBRILADORES MARCA ZOLL AEDPRO | AB36: DESFIBRILADORES MARCA ZOLL AEDPRO | AK36: DESFIBRILADORES MARCA ZOLL AEDPRO
A37: 17 | B37: DESFIBRILADORES MARCA ZOLL AEDPRO | C37: Realizar: 1- Inspección física. 2- Limpieza general. 3- Verificación de parámetros. 4- Verificación de accesorios 5- Verificación de conectores 6- Verificación del sistema eléctrico y electrónico 7- Suministro de pila especial | D37: 1 | E37: UND | F37: 2915000 | G37: 553850 | H37: 3468850 | J37: 17 | K37: DESFIBRILADORES MARCA ZOLL AEDPRO | L37: Realizar: 1- Inspección física. 2- Limpieza general. 3- Verificación de parámetros. 4- Verificación de accesorios 5- Verificación de conectores 6- Verificación del sistema eléctrico y electrónico 7- Suministro de pila especial | M37: 1 | N37: UND | O37: =200000+3500000 -> 3700000 | P37: =38000+665000 -> 703000 | Q37: =238000+4165000 -> 4403000 | S37: 17 | T37: DESFIBRILADORES MARCA ZOLL AEDPRO | U37: Realizar: 1- Inspección física. 2- Limpieza general. 3- Verificación de parámetros. 4- Verificación de accesorios 5- Verificación de conectores 6- Verificación del sistema eléctrico y electrónico 7- Suministro de pila especial | V37: 1 | W37: UND | X37: =20000+30000+10000+10000+5000+20000+1250000 -> 1345000 | Y37: =3800+5700+1900+1900+950+3800+237500 -> 255550 | Z37: =23800+35700+11900+11900+5950+23800+1487500 -> 1600550 | AB37: 17 | AC37: DESFIBRILADORES MARCA ZOLL AEDPRO | AD37: Realizar: 1- Inspección física. 2- Limpieza general. 3- Verificación de parámetros. 4- Verificación de accesorios 5- Verificación de conectores 6- Verificación del sistema eléctrico y electrónico 7- Suministro de pila especial | AE37: 1 | AF37: UND | AG37: =25000+25000+190000+35000+30000+45000+1584000 -> 1934000 | AH37: =4750+4750+36100+6650+5700+8550+300960 -> 367460 | AI37: =29750+29750+226100+41650+35700+53550+1884960 -> 2301460 | AK37: 17 | AL37: DESFIBRILADORES MARCA ZOLL AEDPRO | AM37: Realizar: 1- Inspección física. 2- Limpieza general. 3- Verificación de parámetros. 4- Verificación de accesorios 5- Verificación de conectores 6- Verificación del sistema eléctrico y electrónico 7- Suministro de pila especial | AN37: 1 | AO37: UND | AP37: =700000+2500000 -> 3200000 | AQ37: =133000+475000 -> 608000 | AR37: =833000+2975000 -> 3808000
A38: DESFIBRILADORES DE ENTRENAMIENTO MARCA SCHILLER | J38: DESFIBRILADORES DE ENTRENAMIENTO MARCA SCHILLER | S38: DESFIBRILADORES DE ENTRENAMIENTO MARCA SCHILLER | AB38: DESFIBRILADORES DE ENTRENAMIENTO MARCA SCHILLER | AK38: DESFIBRILADORES DE ENTRENAMIENTO MARCA SCHILLER
A39: 18 | B39: DESFIBRILADORES DE ENTRENAMIENTO MARCA SCHILLER | C39: Realizar: 1- Inspección física. 2- Limpieza general. 3- Verificación de parámetros. 4- Verificación de accesorios 5- Verificación de conectores 6- Verificación del sistema eléctrico y electrónico 7- Suministro de pilas alcalinas "AA" (8 Unidades) | D39: 2 | E39: UND | F39: 365000 | G39: 69350 | H39: 975800 | J39: 18 | K39: DESFIBRILADORES DE ENTRENAMIENTO MARCA SCHILLER | L39: Realizar: 1- Inspección física. 2- Limpieza general. 3- Verificación de parámetros. 4- Verificación de accesorios 5- Verificación de conectores 6- Verificación del sistema eléctrico y electrónico 7- Suministro de pilas alcalinas "AA" (8 Unidades) | M39: 2 | N39: UND | O39: =200000+7500 -> 207500 | P39: =38000+1425 -> 39425 | Q39: =476000+71400 -> 547400 | S39: 18 | T39: DESFIBRILADORES DE ENTRENAMIENTO MARCA SCHILLER | U39: Realizar: 1- Inspección física. 2- Limpieza general. 3- Verificación de parámetros. 4- Verificación de accesorios 5- Verificación de conectores 6- Verificación del sistema eléctrico y electrónico 7- Suministro de pilas alcalinas "AA" (8 Unidades) | V39: 2 | W39: UND | X39: =20000+30000+10000+10000+5000+20000+15000 -> 110000 | Y39: =3800+5700+1900+1900+950+3800+2850 -> 20900 | Z39: =47600+71400+23800+23800+11900+47600+142800 -> 368900 | AB39: 18 | AC39: DESFIBRILADORES DE ENTRENAMIENTO MARCA SCHILLER | AD39: Realizar: 1- Inspección física. 2- Limpieza general. 3- Verificación de parámetros. 4- Verificación de accesorios 5- Verificación de conectores 6- Verificación del sistema eléctrico y electrónico 7- Suministro de pilas alcalinas "AA" (8 Unidades) | AE39: 2 | AF39: UND | AG39: =15000+15000+50000+15000+15000+30000+8600 -> 148600 | AH39: =2850+2850+9500+2850+2850+5700+1634 -> 28234 | AI39: =35700+35700+119000+35700+35700+71400+81876 -> 415076 | AK39: 18 | AL39: DESFIBRILADORES DE ENTRENAMIENTO MARCA SCHILLER | AM39: Realizar: 1- Inspección física. 2- Limpieza general. 3- Verificación de parámetros. 4- Verificación de accesorios 5- Verificación de conectores 6- Verificación del sistema eléctrico y electrónico 7- Suministro de pilas alcalinas "AA" (8 Unidades) | AN39: 2 | AO39: UND | AP39: =700000+8000 -> 708000 | AQ39: =133000+1520 -> 134520 | AR39: =1666000+76160 -> 1742160
A40: DESFIBRILADORES DE ENTRENAMIENTO MARCA TRINER | J40: DESFIBRILADORES DE ENTRENAMIENTO MARCA TRINER | S40: DESFIBRILADORES DE ENTRENAMIENTO MARCA TRINER | AB40: DESFIBRILADORES DE ENTRENAMIENTO MARCA TRINER | AK40: DESFIBRILADORES DE ENTRENAMIENTO MARCA TRINER
...

Sheet COMPARATIVO (2)
A1: A. S. MEDICAL LTDA | J1: SIBERMEDICAL SAS | S1: INGENIERIA Y MANTENIMIENTO COLOMBIANO SAS - IMC | AB1: JOTA MEDICS SAS | AK1: MANUFACTURAS LUCOLDI SAS
A2: 1. ACTIVIDADES MANTENIMIENTO EQUIPO MÉDICO Y BIOMÉDICO DEL CRUE | J2: 1. ACTIVIDADES MANTENIMIENTO EQUIPO MÉDICO Y BIOMÉDICO DEL CRUE | S2: 1. ACTIVIDADES MANTENIMIENTO EQUIPO MÉDICO Y BIOMÉDICO DEL CRUE | AB2: 1. ACTIVIDADES MANTENIMIENTO EQUIPO MÉDICO Y BIOMÉDICO DEL CRUE | AK2: 1. ACTIVIDADES MANTENIMIENTO EQUIPO MÉDICO Y BIOMÉDICO DEL CRUE
A3: ITEM | C3: REPUESTO | D3: CANTIDAD | E3: UNIDAD | F3: (INCLUYE MANO DE OBRA) | G3: IVA | H3: OFERTADO IVA INCLUIDO | J3: ITEM | L3: REPUESTO | M3: CANTIDAD | N3: UNIDAD | O3: (INCLUYE MANO DE OBRA) | P3: IVA | Q3: OFERTADO IVA INCLUIDO | S3: ITEM | U3: REPUESTO | V3: CANTIDAD | W3: UNIDAD | X3: (INCLUYE MANO DE OBRA) | Y3: IVA | Z3: OFERTADO IVA INCLUIDO | AB3: ITEM | AD3: REPUESTO | AE3: CANTIDAD | AF3: UNIDAD | AG3: (INCLUYE MANO DE OBRA) | AH3: IVA | AI3: OFERTADO IVA INCLUIDO | AK3: ITEM | AM3: REPUESTO | AN3: CANTIDAD | AO3: UNIDAD | AP3: (INCLUYE MANO DE OBRA) | AQ3: IVA | AR3: OFERTADO IVA INCLUIDO
A4: 1 | B4: BALA DE OXÍGENO DE 4.15 | C4: Realizar: 1- Inspección física 2- Recarga 3- Prueba hidrostática 4- Suministro de cánulas. (4 unidades) | D4: 15 | E4: UND | F4: =98000+145000+12000 -> 255000 | G4: =18620+27550+2280 -> 48450 | H4: 4394670 | J4: 1 | K4: BALA DE OXÍGENO DE 4.15 | L4: Realizar: 1- Inspección física 2- Recarga 3- Prueba hidrostática 4- Suministro de cánulas. (4 unidades) | M4: 15 | N4: UND | O4: =171000+200000+4600 -> 375600 | P4: =32490+38000+874 -> 71364 | Q4: =3052350+3570000+21896 -> 6644246 | S4: 1 | T4: BALA DE OXÍGENO DE 4.15 | U4: Realizar: 1- Inspección física 2- Recarga 3- Prueba hidrostática 4- Suministro de cánulas. (4 unidades) | V4: 15 | W4: UND | X4: =10000+70000+160000+20000 -> 260000 | Y4: =1900+13300+30400+3800 -> 49400 | Z4: =178500+1249500+2856000+95200 -> 4379200 | AB4: 1 | AC4: BALA DE OXÍGENO DE 4.15 | AD4: Realizar: 1- Inspección física 2- Recarga 3- Prueba hidrostática 4- Suministro de cánulas. (4 unidades) | AE4: 15 | AF4: UND | AG4: =15000+69000+195000+2250 -> 281250 | AH4: =2850+13110+37050+427 -> 53437 | AI4: =267750+1231658+3480745+10709 -> 4990862 | AK4: 1 | AL4: BALA DE OXÍGENO DE 4.15 | AM4: Realizar: 1- Inspección física 2- Recarga 3- Prueba hidrostática 4- Suministro de cánulas. (4 unidades) | AN4: 15 | AO4: UND | AP4: =120000+120000+360000+90000 -> 690000 | AQ4: =22800+22800+68400+17100 -> 131100 | AR4: =2142000+2142000+6426000+428400 -> 11138400
A5: 2 | B5: BALA DE OXÍGENO DE 6.5 | C5: Realizar: 1- Inspección física 2- recarga 3- Prueba hidrostática. | D5: 3 | E5: UND | F5: =130000+145000 -> 275000 | G5: =24700+27550 -> 52250 | H5: =(275000+52250)*3 -> 981750 | J5: 2 | K5: BALA DE OXÍGENO DE 6.5 | L5: Realizar: 1- Inspección física 2- recarga 3- Prueba hidrostática. | M5: 3 | N5: UND | O5: =180000+200000 -> 380000 | P5: =34200+38000 -> 72200 | Q5: =642600+714000 -> 1356600 | S5: 2 | T5: BALA DE OXÍGENO DE 6.5 | U5: Realizar: 1- Inspección física 2- recarga 3- Prueba hidrostática. | V5: 3 | W5: UND | X5: =10000+105000+160000 -> 275000 | Y5: =1900+19950+30400 -> 52250 | Z5: =35700+374850+571200 -> 981750 | AB5: 2 | AC5: BALA DE OXÍGENO DE 6.5 | AD5: Realizar: 1- Inspección física 2- recarga 3- Prueba hidrostática. | AE5: 3 | AF5: UND | AG5: =15000+146000+195000 -> 356000 | AH5: =2850+27740+37050 -> 67640 | AI5: =53550+521221+696149 -> 1270920 | AK5: 2 | AL5: BALA DE OXÍGENO DE 6.5 | AM5: Realizar: 1- Inspección física 2- recarga 3- Prueba hidrostática. | AN5: 3 | AO5: UND | AP5: =120000+250000+360000 -> 730000 | AQ5: =22800+47500+68400 -> 138700 | AR5: =428400+892500+1285200 -> 2606100
A6: 3 | B6: PULSOXIMETROS MARCA RIESTER | C6: Realizar: 1- Inspección física 2- Limpieza general 3- Verificación de parámetros 4- Verificación de funcionamiento 5- Verificación de sistema eléctrico y electrónico. 6-Calibración. 7- Suministro de pilas "AAA" (6 uds) | D6: 3 | E6: UND | F6: 266500 | G6: 50635 | H6: 1010310 | J6: 3 | K6: PULSOXIMETROS MARCA RIESTER | L6: Realizar: 1- Inspección física 2- Limpieza general 3- Verificación de parámetros 4- Verificación de funcionamiento 5- Verificación de sistema eléctrico y electrónico. 6-Calibración. 7- Suministro de pilas "AAA" (6 uds) | M6: 3 | N6: UND | O6: =72000+277000+8000 -> 357000 | P6: =13680+52630+1520 -> 67830 | Q6: =257040+988890+57120 -> 1303050 | S6: 3 | T6: PULSOXIMETROS MARCA RIESTER | U6: Realizar: 1- Inspección física 2- Limpieza general 3- Verificación de parámetros 4- Verificación de funcionamiento 5- Verificación de sistema eléctrico y electrónico. 6-Calibración. 7- Suministro de pilas "AAA" (6 uds) | V6: 3 | W6: UND | X6: =50000+90000+15000 -> 155000 | Y6: =1900*5+17100+2850 -> 29450 | Z6: =35700*5+321300+107100 -> 606900 | AB6: 3 | AC6: PULSOXIMETROS MARCA RIESTER | AD6: Realizar: 1- Inspección física 2- Limpieza general 3- Verificación de parámetros 4- Verificación de funcionamiento 5- Verificación de sistema eléctrico y electrónico. 6-Calibración. 7- Suministro de pilas "AAA" (6 uds) | AE6: 3 | AF6: UND | AG6: =6000+8000+12000+12000+12000+70000+8450 -> 128450 | AH6: =1140+1520+2280+2280+2280+13300+1606 -> 24406 | AI6: =21420+28560+42840+42840+42840+249900+60336 -> 488736 | AK6: 3 | AL6: PULSOXIMETROS MARCA RIESTER | AM6: Realizar: 1- Inspección física 2- Limpieza general 3- Verificación de parámetros 4- Verificación de funcionamiento 5- Verificación de sistema eléctrico y electrónico. 6-Calibración. 7- Suministro de pilas "AAA" (6 uds) | AN6: 3 | AO6: UND | AP6: =250000+250000+8000 -> 508000 | AQ6: =47500+47500+1520 -> 96520 | AR6: =892500+892500+57120 -> 1842120
A7: 4 | B7: PULSOXIMETROS MARCA LEMMAN | C7: Realizar: 1- Inspección física 2- Limpieza general 3- Verificación de parámetros 4- Verificación de funcionamiento 5- Verificación de sistema eléctrico y electrónico. 6-Calibración. 7- Suministro de pilas "AAA" (4 uds) | D7: 2 | E7: UND | F7: 266500 | G7: 50635 | H7: 673540 | J7: 4 | K7: PULSOXIMETROS MARCA LEMMAN | L7: Realizar: 1- Inspección física 2- Limpieza general 3- Verificación de parámetros 4- Verificación de funcionamiento 5- Verificación de sistema eléctrico y electrónico. 6-Calibración. 7- Suministro de pilas "AAA" (4 uds) | M7: 2 | N7: UND | O7: =72000+277000+8000 -> 357000 | P7: =13680+52630+1520 -> 67830 | Q7: =171360+659260+38080 -> 868700 | S7: 4 | T7: PULSOXIMETROS MARCA LEMMAN | U7: Realizar: 1- Inspección física 2- Limpieza general 3- Verificación de parámetros 4- Verificación de funcionamiento 5- Verificación de sistema eléctrico y electrónico. 6-Calibración. 7- Suministro de pilas "AAA" (4 uds) | V7: 2 | W7: UND | X7: =10000*5+90000+15000 -> 155000 | Y7: =1900*5+17100+2850 -> 29450 | Z7: =23800*5+214200+71400 -> 404600 | AB7: 4 | AC7: PULSOXIMETROS MARCA LEMMAN | AD7: Realizar: 1- Inspección física 2- Limpieza general 3- Verificación de parámetros 4- Verificación de funcionamiento 5- Verificación de sistema eléctrico y electrónico. 6-Calibración. 7- Suministro de pilas "AAA" (4 uds) | AE7: 2 | AF7: UND | AG7: =6000+8000+12000+12000+12000+70000+8450 -> 128450 | AH7: =1140+1520+2280+2280+2280+13300+1606 -> 24406 | AI7: =14280+19040+28560+28560+28560+166600+40224 -> 325824 | AK7: 4 | AL7: PULSOXIMETROS MARCA LEMMAN | AM7: Realizar: 1- Inspección física 2- Limpieza general 3- Verificación de parámetros 4- Verificación de funcionamiento 5- Verificación de sistema eléctrico y electrónico. 6-Calibración. 7- Suministro de pilas "AAA" (4 uds) | AN7: 2 | AO7: UND | AP7: =250000+250000+8000 -> 508000 | AQ7: =47500+47500+1520 -> 96520 | AR7: =595000+595000+38080 -> 1228080
A8: 5 | B8: LINTERNAS MARCA RIESTER | C8: Realizar: 1- Inspección física. 2- Limpieza general. 3- Verificación de funcionamiento. 4- Suministro de pilas alcalinas "AAA" (20 unidades) | D8: 10 | E8: UND | F8: 36500 | G8: 6935 | H8: 630700 | J8: 5 | K8: LINTERNAS MARCA RIESTER | L8: Realizar: 1- Inspección física. 2- Limpieza general. 3- Verificación de funcionamiento. 4- Suministro de pilas alcalinas "AAA" (20 unidades) | M8: 10 | N8: UND | O8: 19000 | P8: =2090+1520 -> 3610 | Q8: =130900+190400 -> 321300 | S8: 5 | T8: LINTERNAS MARCA RIESTER | U8: Realizar: 1- Inspección física. 2- Limpieza general. 3- Verificación de funcionamiento. 4- Suministro de pilas alcalinas "AAA" (20 unidades) | V8: 10 | W8: UND | X8: 30000 | Y8: =950*3+2850 -> 5700 | Z8: =59500*3+357000 -> 535500 | AB8: 5 | AC8: LINTERNAS MARCA RIESTER | AD8: Realizar: 1- Inspección física. 2- Limpieza general. 3- Verificación de funcionamiento. 4- Suministro de pilas alcalinas "AAA" (20 unidades) | AE8: 10 | AF8: UND | AG8: =8000+10000+27000+8450 -> 53450 | AH8: =1520+1900+5130+1606 -> 10156 | AI8: =95200+119000+321300+201119 -> 736619 | AK8: 5 | AL8: LINTERNAS MARCA RIESTER | AM8: Realizar: 1- Inspección física. 2- Limpieza general. 3- Verificación de funcionamiento. 4- Suministro de pilas alcalinas "AAA" (20 unidades) | AN8: 10 | AO8: UND | AP8: =120000+8000 -> 128000 | AQ8: =22800+1520 -> 24320 | AR8: =1428000+190400 -> 1618400
A9: 6 | B9: MANGOS DE LARINGOSCOPIO MARCA WELCH ALLYN | C9: Realizar: 1- Inspección física 2- Limpieza general 3- Verificación de accesorios 4- Verificación de funcionamiento 5- Suministro de pilas alcalinas "C2" | D9: 6 | E9: UND | F9: 64000 | G9: 12160 | H9: 592620 | J9: 6 | K9: MANGOS DE LARINGOSCOPIO MARCA WELCH ALLYN | L9: Realizar: 1- Inspección física 2- Limpieza general 3- Verificación de accesorios 4- Verificación de funcionamiento 5- Suministro de pilas alcalinas "C2" | M9: 6 | N9: UND | O9: =17000+16000 -> 33000 | P9: =3230+3040 -> 6270 | Q9: =121380+228480 -> 349860 | S9: 6 | T9: MANGOS DE LARINGOSCOPIO MARCA WELCH ALLYN | U9: Realizar: 1- Inspección física 2- Limpieza general 3- Verificación de accesorios 4- Verificación de funcionamiento 5- Suministro de pilas alcalinas "C2" | V9: 6 | W9: UND | X9: =10000+10000+5000+5000+35000 -> 65000 | Y9: =1900+1900+950+950+6650 -> 12350 | Z9: =71400+71400+35700+35700+499800 -> 714000 | AB9: 6 | AC9: MANGOS DE LARINGOSCOPIO MARCA WELCH ALLYN | AD9: Realizar: 1- Inspección física 2- Limpieza general 3- Verificación de accesorios 4- Verificación de funcionamiento 5- Suministro de pilas alcalinas "C2" | AE9: 6 | AF9: UND | AG9: =8000+10000+10000+17000+73000 -> 118000 | AH9: =1520+1900+1900+3230+13870 -> 22420 | AI9: =57120+71400+71400+121380+1042437 -> 1363737 | AK9: 6 | AL9: MANGOS DE LARINGOSCOPIO MARCA WELCH ALLYN | AM9: Realizar: 1- Inspección física 2- Limpieza general 3- Verificación de accesorios 4- Verificación de funcionamiento 5- Suministro de pilas alcalinas "C2" | AN9: 6 | AO9: UND | AP9: =250000+80000 -> 330000 | AQ9: =47500+15200 -> 62700 | AR9: =1785000+1142400 -> 2927400
A10: 7 | B10: FONENDOSCOPIOS MARCA SPIRIT | C10: Realizar: 1- Inspección física. 2- Limpieza general. 3- Verificación de accesorios. 4- Verificación de funcionamiento. | D10: 9 | E10: UND | F10: 25000 | G10: 4750 | H10: 267750 | J10: 7 | K10: FONENDOSCOPIOS MARCA SPIRIT | L10: Realizar: 1- Inspección física. 2- Limpieza general. 3- Verificación de accesorios. 4- Verificación de funcionamiento. | M10: 9 | N10: UND | O10: 16000 | P10: 3040 | Q10: 19040 | S10: 7 | T10: FONENDOSCOPIOS MARCA SPIRIT | U10: Realizar: 1- Inspección física. 2- Limpieza general. 3- Verificación de accesorios. 4- Verificación de funcionamiento. | V10: 9 | W10: UND | X10: 40000 | Y10: =1900*4 -> 7600 | Z10: =107100*4 -> 428400 | AB10: 7 | AC10: FONENDOSCOPIOS MARCA SPIRIT | AD10: Realizar: 1- Inspección física. 2- Limpieza general. 3- Verificación de accesorios. 4- Verificación de funcionamiento. | AE10: 9 | AF10: UND | AG10: =8000+10000+8000+12000 -> 38000 | AH10: =1520+1900+1520+2280 -> 7220 | AI10: =85680+107100+85680+128520 -> 406980 | AK10: 7 | AL10: FONENDOSCOPIOS MARCA SPIRIT | AM10: Realizar: 1- Inspección física. 2- Limpieza general. 3- Verificación de accesorios. 4- Verificación de funcionamiento. | AN10: 9 | AO10: UND | AP10: 250000 | AQ10: 47500 | AR10: 2677500
A11: 8 | B11: FONENDOSCOPIOS MARCA RIESTER | C11: Realizar: 1- Inspección física. 2- Limpieza general. 3- Verificación de accesorios. 4- Verificación de funcionamiento. | D11: 33 | E11: UND | F11: 25000 | G11: 4750 | H11: 981750 | J11: 8 | K11: FONENDOSCOPIOS MARCA RIESTER | L11: Realizar: 1- Inspección física. 2- Limpieza general. 3- Verificación de accesorios. 4- Verificación de funcionamiento. | M11: 33 | N11: UND | O11: 16000 | P11: 3040 | Q11: 628320 | S11: 8 | T11: FONENDOSCOPIOS MARCA RIESTER | U11: Realizar: 1- Inspección física. 2- Limpieza general. 3- Verificación de accesorios. 4- Verificación de funcionamiento. | V11: 33 | W11: UND | X11: 40000 | Y11: =1900*4 -> 7600 | Z11: =392700*4 -> 1570800 | AB11: 8 | AC11: FONENDOSCOPIOS MARCA RIESTER | AD11: Realizar: 1- Inspección física. 2- Limpieza general. 3- Verificación de accesorios. 4- Verificación de funcionamiento. | AE11: 33 | AF11: UND | AG11: =8000+10000+8000+12000 -> 38000 | AH11: =1520+1900+1520+2280 -> 7220 | AI11: =314160+392700+314160+471240 -> 1492260 | AK11: 8 | AL11: FONENDOSCOPIOS MARCA RIESTER | AM11: Realizar: 1- Inspección física. 2- Limpieza general. 3- Verificación de accesorios. 4- Verificación de funcionamiento. | AN11: 33 | AO11: UND | AP11: 250000 | AQ11: 47500 | AR11: 9817500
A12: 9 | B12: TENSIOMETROS MARCA ALPK2 | C12: Realizar: 1- Inspección física. 2- Limpieza general. 3- Verificación de parámetros. 4- Verificación de accesorios 5- Verificación neumática 6- Verificación de funcionamiento 7- Calibración | D12: 22 | E12: UND | F12: 55000 | G12: 10450 | H12: 1439900 | J12: 9 | K12: TENSIOMETROS MARCA ALPK2 | L12: Realizar: 1- Inspección física. 2- Limpieza general. 3- Verificación de parámetros. 4- Verificación de accesorios 5- Verificación neumática 6- Verificación de funcionamiento 7- Calibración | M12: 22 | N12: UND | O12: =40000+188000 -> 228000 | P12: =7600+35720 -> 43320 | Q12: =1047200+4921840 -> 5969040 | S12: 9 | T12: TENSIOMETROS MARCA ALPK2 | U12: Realizar: 1- Inspección física. 2- Limpieza general. 3- Verificación de parámetros. 4- Verificación de accesorios 5- Verificación neumática 6- Verificación de funcionamiento 7- Calibración | V12: 22 | W12: UND | X12: =10000+15000+10000+5000+5000+5000+90000 -> 140000 | Y12: =1900+2850+1900+950+950+950+17100 -> 26600 | Z12: =261800+392700+261800+130900+130900+130900+2356200 -> 3665200 | AB12: 9 | AC12: TENSIOMETROS MARCA ALPK2 | AD12: Realizar: 1- Inspección física. 2- Limpieza general. 3- Verificación de parámetros. 4- Verificación de accesorios 5- Verificación neumática 6- Verificación de funcionamiento 7- Calibración | AE12: 22 | AF12: UND | AG12: =6000+8000+12000+11000+11000+12000+158000 -> 218000 | AH12: =1140+1520+2280+2090+2090+2280+30020 -> 41420 | AI12: =157080+209440+314160+287980+287980+314160+4136440 -> 5707240 | AK12: 9 | AL12: TENSIOMETROS MARCA ALPK2 | AM12: Realizar: 1- Inspección física. 2- Limpieza general. 3- Verificación de parámetros. 4- Verificación de accesorios 5- Verificación neumática 6- Verificación de funcionamiento 7- Calibración | AN12: 22 | AO12: UND | AP12: =250000+250000 -> 500000 | AQ12: =47500+47500 -> 95000 | AR12: =6545000+6545000 -> 13090000
