Workbook

Sheet Cálculos (julio11) (2)
B1: ESTUDIO DE MERCADO
B2: OBJETO: REALIZAR, DESARROLLAR Y EJECUTAR LA INTERVENTORÍA TÉCNICA, JURÍDICA, ADMINISTRATIVA, FINANCIERA Y CONTABLE, EN REPRESENTACIÓN DE LA SECRETARÍA DE SALUD DEL DEPARTAMENTO DE CUNDINAMARCA COMO ENTIDAD CONTRATANTE DEL “CONTRATO DE CONCESIÓN NO. 002 DE 2003” CELEBRADO ENTRE LA SECRETARÍA DE SALUD Y LA UNIÓN TEMPORAL HOSPITAL CARDIOVASCULAR DEL NIÑO DE CUNDINAMARCA.
F6: Cotización 1 | G6: Cotización 2 | H6: Cotización 3 | I6: Cotización 4 | J6: Cotización 5
A7: Item | B7: Item | C7: Descripcion | D7: Especificaciones Tecnicas | E7: Cant | F7: MR Y CIA SAS | G7: LABCARE DE COLOMBIA SAS | H7: ACG CALIDAD SAS | I7: UNIVERSIDAD MILITAR | J7: Valor Unitario | K7: Media Aritmetica | L7: Desviacion Estandar | M7: Mediana | N7: Media Geometrica | O7: Media Armonica | P7: Min | Q7: Max
B8: {=_xlfn.SEQUENCE(30,1,1)} -> 1 | C8: Control de calidad externo microbiologico para análisis cualitativo de Coliformes totales, Coliformes fecales y E coli AGUA PARA CONSUMO HUMANO | E8: 1 | F8: 3127636 | G8: 3036543.7 | H8: 3158001 | K8: =AVERAGE(F8:I8) -> 3107393.6 | L8: =STDEVA(F8:I8) -> 63208.276 | M8: =MEDIAN(F8:I8) -> 3127636 | N8: =GEOMEAN(F8:I8) -> 3106962.4 | O8: =HARMEAN(F8:I8) -> 3106528.8 | P8: =MIN(F8:I8) -> 3036543.7 | Q8: =MAX(F8:I8) -> 3158001
B9: 2 | C9: Control de calidad externo microbiológico cualitativo para lácteos (Detección de Escherichia coli O157 (non- toxigenic strain); Listeria species; Listeria monocytogenes; Salmonella species Identification of Listeria species ). | E9: 1 | F9: 5495150 | G9: 5335096.6 | H9: 5548500 | K9: =AVERAGE(F9:I9) -> 5459582.2 | L9: =STDEVA(F9:I9) -> 111058.76 | M9: =MEDIAN(F9:I9) -> 5495150 | N9: =GEOMEAN(F9:I9) -> 5458824.7 | O9: =HARMEAN(F9:I9) -> 5458062.7 | P9: =MIN(F9:I9) -> 5335096.6 | Q9: =MAX(F9:I9) -> 5548500
B10: 3 | C10: Control de calidad Microbiología de Aguas. Matriz agua envasada NMP/ 100 ml Coliformes totales, NMP/100 ml E. coli y NMP/100 ml Pseudomonas aeruginosa. | E10: 1 | F10: 2737637 | G10: 2657900 | H10: 2764216 | K10: =AVERAGE(F10:I10) -> 2719917.7 | L10: =STDEVA(F10:I10) -> 55328.601 | M10: =MEDIAN(F10:I10) -> 2737637 | N10: =GEOMEAN(F10:I10) -> 2719540.3 | O10: =HARMEAN(F10:I10) -> 2719160.7 | P10: =MIN(F10:I10) -> 2657900 | Q10: =MAX(F10:I10) -> 2764216
B11: 4 | K11: =AVERAGE(F11:I11) -> #DIV/0! | L11: =STDEVA(F11:I11) -> #DIV/0! | M11: =MEDIAN(F11:I11) -> #NUM! | N11: =GEOMEAN(F11:I11) -> #NUM! | O11: =HARMEAN(F11:I11) -> #N/A | P11: =MIN(F11:I11) -> 0 | Q11: =MAX(F11:I11) -> 0
B12: 5 | K12: =AVERAGE(F12:I12) -> #DIV/0! | L12: =STDEVA(F12:I12) -> #DIV/0! | M12: =MEDIAN(F12:I12) -> #NUM! | N12: =GEOMEAN(F12:I12) -> #NUM! | O12: =HARMEAN(F12:I12) -> #N/A | P12: =MIN(F12:I12) -> 0 | Q12: =MAX(F12:I12) -> 0
B13: 6 | E13: 1
B14: 7 | E14: 1
B15: 8 | E15: 1
B16: 9 | E16: 1
B17: 10 | E17: 1
B18: 11
B19: 12
B20: 13
B21: 14
B22: 15
B23: 16
B24: 17
B25: 18
B26: 19
B27: 20
B28: 21
B29: 22
... B37: 30
B39: TOTAL | F39: =SUM(F8:F38) -> 11360423 | G39: =SUM(G8:G38) -> 11029540 | H39: =SUM(H8:H38) -> 11470717 | I39: =SUM(I8:I38) -> 0 | K39: =K8+K9+K10 -> 11286893 | L39: =L8+L9+L10 -> 229595.64 | M39: =M8+M9+M10 -> 11360423 | N39: =N8+N9+N10 -> 11285327 | O39: =O8+O9+O10 -> 11283752 | P39: =P8+P9+P10 -> 11029540 | Q39: =Q8+Q9+Q10 -> 11470717
E43: 1
E44: 1
E45: 1 | F45: =F39*1.19 -> 13518903 | G45: =G39*1.19 -> 13125153 | H45: =H39*1.19 -> 13650153

Sheet COMPARATIVO
A1: A. S. MEDICAL LTDA | J1: SIBERMEDICAL SAS | S1: INGENIERIA Y MANTENIMIENTO COLOMBIANO SAS - IMC | AB1: JOTA MEDICS SAS | AK1: MANUFACTURAS LUCOLDI SAS
A2: 1. ACTIVIDADES MANTENIMIENTO EQUIPO MÉDICO Y BIOMÉDICO DEL CRUE | J2: 1. ACTIVIDADES MANTENIMIENTO EQUIPO MÉDICO Y BIOMÉDICO DEL CRUE | S2: 1. ACTIVIDADES MANTENIMIENTO EQUIPO MÉDICO Y BIOMÉDICO DEL CRUE | AB2: 1. ACTIVIDADES MANTENIMIENTO EQUIPO MÉDICO Y BIOMÉDICO DEL CRUE | AK2: 1. ACTIVIDADES MANTENIMIENTO EQUIPO MÉDICO Y BIOMÉDICO DEL CRUE
A3: ITEM | C3: REPUESTO | D3: CANTIDAD | E3: UNIDAD | F3: (INCLUYE MANO DE OBRA) | G3: IVA | H3: OFERTADO IVA INCLUIDO | J3: ITEM | L3: REPUESTO | M3: CANTIDAD | N3: UNIDAD | O3: (INCLUYE MANO DE OBRA) | P3: IVA | Q3: OFERTADO IVA INCLUIDO | S3: ITEM | U3: REPUESTO | V3: CANTIDAD | W3: UNIDAD | X3: (INCLUYE MANO DE OBRA) | Y3: IVA | Z3: OFERTADO IVA INCLUIDO | AB3: ITEM | AD3: REPUESTO | AE3: CANTIDAD | AF3: UNIDAD | AG3: (INCLUYE MANO DE OBRA) | AH3: IVA | AI3: OFERTADO IVA INCLUIDO | AK3: ITEM | AM3: REPUESTO | AN3: CANTIDAD | AO3: UNIDAD | AP3: (INCLUYE MANO DE OBRA) | AQ3: IVA | AR3: OFERTADO IVA INCLUIDO
A4: BALA DE OXÍGENO DE 4.15 | J4: BALA DE OXÍGENO DE 4.15 | S4: BALA DE OXÍGENO DE 4.15 | AB4: BALA DE OXÍGENO DE 4.15 | AK4: BALA DE OXÍGENO DE 4.15
A5: 1 | B5: BALA DE OXÍGENO DE 4.15 | C5: Realizar: 1- Inspección física 2- Recarga 3- Prueba hidrostática 4- Suministro de cánulas. (4 unidades) | D5: 15 | E5: UND | F5: =98000+145000+12000 -> 255000 | G5: =18620+27550+2280 -> 48450 | H5: 4394670 | J5: 1 | K5: BALA DE OXÍGENO DE 4.15 | L5: Realizar: 1- Inspección física 2- Recarga 3- Prueba hidrostática 4- Suministro de cánulas. (4 unidades) | M5: 15 | N5: UND | O5: =171000+200000+4600 -> 375600 | P5: =32490+38000+874 -> 71364 | Q5: =3052350+3570000+21896 -> 6644246 | S5: 1 | T5: BALA DE OXÍGENO DE 4.15 | U5: Realizar: 1- Inspección física 2- Recarga 3- Prueba hidrostática 4- Suministro de cánulas. (4 unidades) | V5: 15 | W5: UND | X5: =10000+70000+160000+20000 -> 260000 | Y5: =1900+13300+30400+3800 -> 49400 | Z5: =178500+1249500+2856000+95200 -> 4379200 | AB5: 1 | AC5: BALA DE OXÍGENO DE 4.15 | AD5: Realizar: 1- Inspección física 2- Recarga 3- Prueba hidrostática 4- Suministro de cánulas. (4 unidades) | AE5: 15 | AF5: UND | AG5: =15000+69000+195000+2250 -> 281250 | AH5: =2850+13110+37050+427 -> 53437 | AI5: =267750+1231658+3480745+10709 -> 4990862 | AK5: 1 | AL5: BALA DE OXÍGENO DE 4.15 | AM5: Realizar: 1- Inspección física 2- Recarga 3- Prueba hidrostática 4- Suministro de cánulas. (4 unidades) | AN5: 15 | AO5: UND | AP5: =120000+120000+360000+90000 -> 690000 | AQ5: =22800+22800+68400+17100 -> 131100 | AR5: =2142000+2142000+6426000+428400 -> 11138400
A6: BALA DE OXÍGENO DE 6.5 | J6: BALA DE OXÍGENO DE 6.5 | S6: BALA DE OXÍGENO DE 6.5 | AB6: BALA DE OXÍGENO DE 6.5 | AK6: BALA DE OXÍGENO DE 6.5
A7: 2 | B7: BALA DE OXÍGENO DE 6.5 | C7: Realizar: 1- Inspección física 2- recarga 3- Prueba hidrostática. | D7: 3 | E7: UND | F7: =130000+145000 -> 275000 | G7: =24700+27550 -> 52250 | H7: =(275000+52250)*3 -> 981750 | J7: 2 | K7: BALA DE OXÍGENO DE 6.5 | L7: Realizar: 1- Inspección física 2- recarga 3- Prueba hidrostática. | M7: 3 | N7: UND | O7: =180000+200000 -> 380000 | P7: =34200+38000 -> 72200 | Q7: =642600+714000 -> 1356600 | S7: 2 | T7: BALA DE OXÍGENO DE 6.5 | U7: Realizar: 1- Inspección física 2- recarga 3- Prueba hidrostática. | V7: 3 | W7: UND | X7: =10000+105000+160000 -> 275000 | Y7: =1900+19950+30400 -> 52250 | Z7: =35700+374850+571200 -> 981750 | AB7: 2 | AC7: BALA DE OXÍGENO DE 6.5 | AD7: Realizar: 1- Inspección física 2- recarga 3- Prueba hidrostática. | AE7: 3 | AF7: UND | AG7: =15000+146000+195000 -> 356000 | AH7: =2850+27740+37050 -> 67640 | AI7: =53550+521221+696149 -> 1270920 | AK7: 2 | AL7: BALA DE OXÍGENO DE 6.5 | AM7: Realizar: 1- Inspección física 2- recarga 3- Prueba hidrostática. | AN7: 3 | AO7: UND | AP7: =120000+250000+360000 -> 730000 | AQ7: =22800+47500+68400 -> 138700 | AR7: =428400+892500+1285200 -> 2606100
A8: PULSOXIMETROS MARCA RIESTER | J8: PULSOXIMETROS MARCA RIESTER | S8: PULSOXIMETROS MARCA RIESTER | AB8: PULSOXIMETROS MARCA RIESTER | AK8: PULSOXIMETROS MARCA RIESTER
A9: 3 | B9: PULSOXIMETROS MARCA RIESTER | C9: Realizar: 1- Inspección física 2- Limpieza general 3- Verificación de parámetros 4- Verificación de funcionamiento 5- Verificación de sistema eléctrico y electrónico. 6-Calibración. 7- Suministro de pilas "AAA" (6 uds) | D9: 3 | E9: UND | F9: 266500 | G9: 50635 | H9: 1010310 | J9: 3 | K9: PULSOXIMETROS MARCA RIESTER | L9: Realizar: 1- Inspección física 2- Limpieza general 3- Verificación de parámetros 4- Verificación de funcionamiento 5- Verificación de sistema eléctrico y electrónico. 6-Calibración. 7- Suministro de pilas "AAA" (6 uds) | M9: 3 | N9: UND | O9: =72000+277000+8000 -> 357000 | P9: =13680+52630+1520 -> 67830 | Q9: =257040+988890+57120 -> 1303050 | S9: 3 | T9: PULSOXIMETROS MARCA RIESTER | U9: Realizar: 1- Inspección física 2- Limpieza general 3- Verificación de parámetros 4- Verificación de funcionamiento 5- Verificación de sistema eléctrico y electrónico. 6-Calibración. 7- Suministro de pilas "AAA" (6 uds) | V9: 3 | W9: UND | X9: =50000+90000+15000 -> 155000 | Y9: =1900*5+17100+2850 -> 29450 | Z9: =35700*5+321300+107100 -> 606900 | AB9: 3 | AC9: PULSOXIMETROS MARCA RIESTER | AD9: Realizar: 1- Inspección física 2- Limpieza general 3- Verificación de parámetros 4- Verificación de funcionamiento 5- Verificación de sistema eléctrico y electrónico. 6-Calibración. 7- Suministro de pilas "AAA" (6 uds) | AE9: 3 | AF9: UND | AG9: =6000+8000+12000+12000+12000+70000+8450 -> 128450 | AH9: =1140+1520+2280+2280+2280+13300+1606 -> 24406 | AI9: =21420+28560+42840+42840+42840+249900+60336 -> 488736 | AK9: 3 | AL9: PULSOXIMETROS MARCA RIESTER | AM9: Realizar: 1- Inspección física 2- Limpieza general 3- Verificación de parámetros 4- Verificación de funcionamiento 5- Verificación de sistema eléctrico y electrónico. 6-Calibración. 7- Suministro de pilas "AAA" (6 uds) | AN9: 3 | AO9: UND | AP9: =250000+250000+8000 -> 508000 | AQ9: =47500+47500+1520 -> 96520 | AR9: =892500+892500+57120 -> 1842120
A10: PULSOXIMETROS MARCA LEMMAN | J10: PULSOXIMETROS MARCA LEMMAN | S10: PULSOXIMETROS MARCA LEMMAN | AB10: PULSOXIMETROS MARCA LEMMAN | AK10: PULSOXIMETROS MARCA LEMMAN
A11: 4 | B11: PULSOXIMETROS MARCA LEMMAN | C11: Realizar: 1- Inspección física 2- Limpieza general 3- Verificación de parámetros 4- Verificación de funcionamiento 5- Verificación de sistema eléctrico y electrónico. 6-Calibración. 7- Suministro de pilas "AAA" (4 uds) | D11: 2 | E11: UND | F11: 266500 | G11: 50635 | H11: 673540 | J11: 4 | K11: PULSOXIMETROS MARCA LEMMAN | L11: Realizar: 1- Inspección física 2- Limpieza general 3- Verificación de parámetros 4- Verificación de funcionamiento 5- Verificación de sistema eléctrico y electrónico. 6-Calibración. 7- Suministro de pilas "AAA" (4 uds) | M11: 2 | N11: UND | O11: =72000+277000+8000 -> 357000 | P11: =13680+52630+1520 -> 67830 | Q11: =171360+659260+38080 -> 868700 | S11: 4 | T11: PULSOXIMETROS MARCA LEMMAN | U11: Realizar: 1- Inspección física 2- Limpieza general 3- Verificación de parámetros 4- Verificación de funcionamiento 5- Verificación de sistema eléctrico y electrónico. 6-Calibración. 7- Suministro de pilas "AAA" (4 uds) | V11: 2 | W11: UND | X11: =10000*5+90000+15000 -> 155000 | Y11: =1900*5+17100+2850 -> 29450 | Z11: =23800*5+214200+71400 -> 404600 | AB11: 4 | AC11: PULSOXIMETROS MARCA LEMMAN | AD11: Realizar: 1- Inspección física 2- Limpieza general 3- Verificación de parámetros 4- Verificación de funcionamiento 5- Verificación de sistema eléctrico y electrónico. 6-Calibración. 7- Suministro de pilas "AAA" (4 uds) | AE11: 2 | AF11: UND | AG11: =6000+8000+12000+12000+12000+70000+8450 -> 128450 | AH11: =1140+1520+2280+2280+2280+13300+1606 -> 24406 | AI11: =14280+19040+28560+28560+28560+166600+40224 -> 325824 | AK11: 4 | AL11: PULSOXIMETROS MARCA LEMMAN | AM11: Realizar: 1- Inspección física 2- Limpieza general 3- Verificación de parámetros 4- Verificación de funcionamiento 5- Verificación de sistema eléctrico y electrónico. 6-Calibración. 7- Suministro de pilas "AAA" (4 uds) | AN11: 2 | AO11: UND | AP11: =250000+250000+8000 -> 508000 | AQ11: =47500+47500+1520 -> 96520 | AR11: =595000+595000+38080 -> 1228080
A12: LINTERNAS MARCA RIESTER | J12: LINTERNAS MARCA RIESTER | S12: LINTERNAS MARCA RIESTER | AB12: LINTERNAS MARCA RIESTER | AK12: LINTERNAS MARCA RIESTER
A13: 5 | B13: LINTERNAS MARCA RIESTER | C13: Realizar: 1- Inspección física. 2- Limpieza general. 3- Verificación de funcionamiento. 4- Suministro de pilas alcalinas "AAA" (20 unidades) | D13: 10 | E13: UND | F13: 36500 | G13: 6935 | H13: 630700 | J13: 5 | K13: LINTERNAS MARCA RIESTER | L13: Realizar: 1- Inspección física. 2- Limpieza general. 3- Verificación de funcionamiento. 4- Suministro de pilas alcalinas "AAA" (20 unidades) | M13: 10 | N13: UND | O13: 19000 | P13: =2090+1520 -> 3610 | Q13: =130900+190400 -> 321300 | S13: 5 | T13: LINTERNAS MARCA RIESTER | U13: Realizar: 1- Inspección física. 2- Limpieza general. 3- Verificación de funcionamiento. 4- Suministro de pilas alcalinas "AAA" (20 unidades) | V13: 10 | W13: UND | X13: 30000 | Y13: =950*3+2850 -> 5700 | Z13: =59500*3+357000 -> 535500 | AB13: 5 | AC13: LINTERNAS MARCA RIESTER | AD13: Realizar: 1- Inspección física. 2- Limpieza general. 3- Verificación de funcionamiento. 4- Suministro de pilas alcalinas "AAA" (20 unidades) | AE13: 10 | AF13: UND | AG13: =8000+10000+27000+8450 -> 53450 | AH13: =1520+1900+5130+1606 -> 10156 | AI13: =95200+119000+321300+201119 -> 736619 | AK13: 5 | AL13: LINTERNAS MARCA RIESTER | AM13: Realizar: 1- Inspección física. 2- Limpieza general. 3- Verificación de funcionamiento. 4- Suministro de pilas alcalinas "AAA" (20 unidades) | AN13: 10 | AO13: UND | AP13: =120000+8000 -> 128000 | AQ13: =22800+1520 -> 24320 | AR13: =1428000+190400 -> 1618400
A14: MANGOS DE LARINGOSCOPIO MARCA WELCH ALLYN | J14: MANGOS DE LARINGOSCOPIO MARCA WELCH ALLYN | S14: MANGOS DE LARINGOSCOPIO MARCA WELCH ALLYN | AB14: MANGOS DE LARINGOSCOPIO MARCA WELCH ALLYN | AK14: MANGOS DE LARINGOSCOPIO MARCA WELCH ALLYN
A15: 6 | B15: MANGOS DE LARINGOSCOPIO MARCA WELCH ALLYN | C15: Realizar: 1- Inspección física 2- Limpieza general 3- Verificación de accesorios 4- Verificación de funcionamiento 5- Suministro de pilas alcalinas "C2" | D15: 6 | E15: UND | F15: 64000 | G15: 12160 | H15: 592620 | J15: 6 | K15: MANGOS DE LARINGOSCOPIO MARCA WELCH ALLYN | L15: Realizar: 1- Inspección física 2- Limpieza general 3- Verificación de accesorios 4- Verificación de funcionamiento 5- Suministro de pilas alcalinas "C2" | M15: 6 | N15: UND | O15: =17000+16000 -> 33000 | P15: =3230+3040 -> 6270 | Q15: =121380+228480 -> 349860 | S15: 6 | T15: MANGOS DE LARINGOSCOPIO MARCA WELCH ALLYN | U15: Realizar: 1- Inspección física 2- Limpieza general 3- Verificación de accesorios 4- Verificación de funcionamiento 5- Suministro de pilas alcalinas "C2" | V15: 6 | W15: UND | X15: =10000+10000+5000+5000+35000 -> 65000 | Y15: =1900+1900+950+950+6650 -> 12350 | Z15: =71400+71400+35700+35700+499800 -> 714000 | AB15: 6 | AC15: MANGOS DE LARINGOSCOPIO MARCA WELCH ALLYN | AD15: Realizar: 1- Inspección física 2- Limpieza general 3- Verificación de accesorios 4- Verificación de funcionamiento 5- Suministro de pilas alcalinas "C2" | AE15: 6 | AF15: UND | AG15: =8000+10000+10000+17000+73000 -> 118000 | AH15: =1520+1900+1900+3230+13870 -> 22420 | AI15: =57120+71400+71400+121380+1042437 -> 1363737 | AK15: 6 | AL15: MANGOS DE LARINGOSCOPIO MARCA WELCH ALLYN | AM15: Realizar: 1- Inspección física 2- Limpieza general 3- Verificación de accesorios 4- Verificación de funcionamiento 5- Suministro de pilas alcalinas "C2" | AN15: 6 | AO15: UND | AP15: =250000+80000 -> 330000 | AQ15: =47500+15200 -> 62700 | AR15: =1785000+1142400 -> 2927400
A16: FONENDOSCOPIOS MARCA SPIRIT | J16: FONENDOSCOPIOS MARCA SPIRIT | S16: FONENDOSCOPIOS MARCA SPIRIT | AB16: FONENDOSCOPIOS MARCA SPIRIT | AK16: FONENDOSCOPIOS MARCA SPIRIT
A17: 7 | B17: FONENDOSCOPIOS MARCA SPIRIT | C17: Realizar: 1- Inspección física. 2- Limpieza general. 3- Verificación de accesorios. 4- Verificación de funcionamiento. | D17: 9 | E17: UND | F17: 25000 | G17: 4750 | H17: 267750 | J17: 7 | K17: FONENDOSCOPIOS MARCA SPIRIT | L17: Realizar: 1- Inspección física. 2- Limpieza general. 3- Verificación de accesorios. 4- Verificación de funcionamiento. | M17: 9 | N17: UND | O17: 16000 | P17: 3040 | Q17: 19040 | S17: 7 | T17: FONENDOSCOPIOS MARCA SPIRIT | U17: Realizar: 1- Inspección física. 2- Limpieza general. 3- Verificación de accesorios. 4- Verificación de funcionamiento. | V17: 9 | W17: UND | X17: 40000 | Y17: =1900*4 -> 7600 | Z17: =107100*4 -> 428400 | AB17: 7 | AC17: FONENDOSCOPIOS MARCA SPIRIT | AD17: Realizar: 1- Inspección física. 2- Limpieza general. 3- Verificación de accesorios. 4- Verificación de funcionamiento. | AE17: 9 | AF17: UND | AG17: =8000+10000+8000+12000 -> 38000 | AH17: =1520+1900+1520+2280 -> 7220 | AI17: =85680+107100+85680+128520 -> 406980 | AK17: 7 | AL17: FONENDOSCOPIOS MARCA SPIRIT | AM17: Realizar: 1- Inspección física. 2- Limpieza general. 3- Verificación de accesorios. 4- Verificación de funcionamiento. | AN17: 9 | AO17: UND | AP17: 250000 | AQ17: 47500 | AR17: 2677500
A18: FONENDOSCOPIOS MARCA RIESTER | J18: FONENDOSCOPIOS MARCA RIESTER | S18: FONENDOSCOPIOS MARCA RIESTER | AB18: FONENDOSCOPIOS MARCA RIESTER | AK18: FONENDOSCOPIOS MARCA RIESTER
A19: 8 | B19: FONENDOSCOPIOS MARCA RIESTER | C19: Realizar: 1- Inspección física. 2- Limpieza general. 3- Verificación de accesorios. 4- Verificación de funcionamiento. | D19: 33 | E19: UND | F19: 25000 | G19: 4750 | H19: 981750 | J19: 8 | K19: FONENDOSCOPIOS MARCA RIESTER | L19: Realizar: 1- Inspección física. 2- Limpieza general. 3- Verificación de accesorios. 4- Verificación de funcionamiento. | M19: 33 | N19: UND | O19: 16000 | P19: 3040 | Q19: 628320 | S19: 8 | T19: FONENDOSCOPIOS MARCA RIESTER | U19: Realizar: 1- Inspección física. 2- Limpieza general. 3- Verificación de accesorios. 4- Verificación de funcionamiento. | V19: 33 | W19: UND | X19: 40000 | Y19: =1900*4 -> 7600 | Z19: =392700*4 -> 1570800 | AB19: 8 | AC19: FONENDOSCOPIOS MARCA RIESTER | AD19: Realizar: 1- Inspección física. 2- Limpieza general. 3- Verificación de accesorios. 4- Verificación de funcionamiento. | AE19: 33 | AF19: UND | AG19: =8000+10000+8000+12000 -> 38000 | AH19: =1520+1900+1520+2280 -> 7220 | AI19: =314160+392700+314160+471240 -> 1492260 | AK19: 8 | AL19: FONENDOSCOPIOS MARCA RIESTER | AM19: Realizar: 1- Inspección física. 2- Limpieza general. 3- Verificación de accesorios. 4- Verificación de funcionamiento. | AN19: 33 | AO19: UND | AP19: 250000 | AQ19: 47500 | AR19: 9817500
A20: TENSIOMETROS MARCA ALPK2 | J20: TENSIOMETROS MARCA ALPK2 | S20: TENSIOMETROS MARCA ALPK2 | AB20: TENSIOMETROS MARCA ALPK2 | AK20: TENSIOMETROS MARCA ALPK2
A21: 9 | B21: TENSIOMETROS MARCA ALPK2 | C21: Realizar: 1- Inspección física. 2- Limpieza general. 3- Verificación de parámetros. 4- Verificación de accesorios 5- Verificación neumática 6- Verificación de funcionamiento 7- Calibración | D21: 22 | E21: UND | F21: 55000 | G21: 10450 | H21: 1439900 | J21: 9 | K21: TENSIOMETROS MARCA ALPK2 | L21: Realizar: 1- Inspección física. 2- Limpieza general. 3- Verificación de parámetros. 4- Verificación de accesorios 5- Verificación neumática 6- Verificación de funcionamiento 7- Calibración | M21: 22 | N21: UND | O21: =40000+188000 -> 228000 | P21: =7600+35720 -> 43320 | Q21: =1047200+4921840 -> 5969040 | S21: 9 | T21: TENSIOMETROS MARCA ALPK2 | U21: Realizar: 1- Inspección física. 2- Limpieza general. 3- Verificación de parámetros. 4- Verificación de accesorios 5- Verificación neumática 6- Verificación de funcionamiento 7- Calibración | V21: 22 | W21: UND | X21: =10000+15000+10000+5000+5000+5000+90000 -> 140000 | Y21: =1900+2850+1900+950+950+950+17100 -> 26600 | Z21: =261800+392700+261800+130900+130900+130900+2356200 -> 3665200 | AB21: 9 | AC21: TENSIOMETROS MARCA ALPK2 | AD21: Realizar: 1- Inspección física. 2- Limpieza general. 3- Verificación de parámetros. 4- Verificación de accesorios 5- Verificación neumática 6- Verificación de funcionamiento 7- Calibración | AE21: 22 | AF21: UND | AG21: =6000+8000+12000+11000+11000+12000+158000 -> 218000 | AH21: =1140+1520+2280+2090+2090+2280+30020 -> 41420 | AI21: =157080+209440+314160+287980+287980+314160+4136440 -> 5707240 | AK21: 9 | AL21: TENSIOMETROS MARCA ALPK2 | AM21: Realizar: 1- Inspección física. 2- Limpieza general. 3- Verificación de parámetros. 4- Verificación de accesorios 5- Verificación neumática 6- Verificación de funcionamiento 7- Calibración | AN21: 22 | AO21: UND | AP21: =250000+250000 -> 500000 | AQ21: =47500+47500 -> 95000 | AR21: =6545000+6545000 -> 13090000
A22: TENSIOMETROS MARCA PRESTIGE | J22: TENSIOMETROS MARCA PRESTIGE | S22: TENSIOMETROS MARCA PRESTIGE | AB22: TENSIOMETROS MARCA PRESTIGE | AK22: TENSIOMETROS MARCA PRESTIGE
A23: 10 | B23: TENSIOMETROS MARCA PRESTIGE | C23: Realizar: 1- Inspección física. 2- Limpieza general. 3- Verificación de parámetros. 4- Verificación de accesorios 5- Verificación neumática 6- Verificación de funcionamiento 7- Calibración | D23: 9 | E23: UND | F23: 315000 | G23: 59850 | H23: 3373650 | J23: 10 | K23: TENSIOMETROS MARCA PRESTIGE | L23: Realizar: 1- Inspección física. 2- Limpieza general. 3- Verificación de parámetros. 4- Verificación de accesorios 5- Verificación neumática 6- Verificación de funcionamiento 7- Calibración | M23: 9 | N23: UND | O23: =40000+188000 -> 228000 | P23: =7600+35720 -> 43320 | Q23: =428400+2013480 -> 2441880 | S23: 10 | T23: TENSIOMETROS MARCA PRESTIGE | U23: Realizar: 1- Inspección física. 2- Limpieza general. 3- Verificación de parámetros. 4- Verificación de accesorios 5- Verificación neumática 6- Verificación de funcionamiento 7- Calibración | V23: 9 | W23: UND | X23: =10000+15000+10000+5000+5000+5000+90000 -> 140000 | Y23: =1900+2850+1900+950+950+950+17100 -> 26600 | Z23: =107100+160650+107100+53550+53550+53550+963900 -> 1499400 | AB23: 10 | AC23: TENSIOMETROS MARCA PRESTIGE | AD23: Realizar: 1- Inspección física. 2- Limpieza general. 3- Verificación de parámetros. 4- Verificación de accesorios 5- Verificación neumática 6- Verificación de funcionamiento 7- Calibración | AE23: 9 | AF23: UND | AG23: =6000+8000+12000+11000+11000+12000+158000 -> 218000 | AH23: =1140+1520+2280+2090+2090+2280+30020 -> 41420 | AI23: =64260+85680+128520+117810+117810+128520+1692180 -> 2334780 | AK23: 10 | AL23: TENSIOMETROS MARCA PRESTIGE | AM23: Realizar: 1- Inspección física. 2- Limpieza general. 3- Verificación de parámetros. 4- Verificación de accesorios 5- Verificación neumática 6- Verificación de funcionamiento 7- Calibración | AN23: 9 | AO23: UND | AP23: =250000+250000 -> 500000 | AQ23: =47500+47500 -> 95000 | AR23: =2677500+2677500 -> 5355000
A24: TENSIOMETROS MARCA RIESTER | J24: TENSIOMETROS MARCA RIESTER | S24: TENSIOMETROS MARCA RIESTER | AB24: TENSIOMETROS MARCA RIESTER | AK24: TENSIOMETROS MARCA RIESTER
A25: 11 | B25: TENSIOMETROS MARCA RIESTER | C25: Realizar: 1- Inspección física. 2- Limpieza general. 3- Verificación de parámetros. 4- Verificación de accesorios 5- Verificación neumática 6- Verificación de funcionamiento 7- Calibración | D25: 5 | E25: UND | F25: 315000 | G25: 59850 | H25: 1874250 | J25: 11 | K25: TENSIOMETROS MARCA RIESTER | L25: Realizar: 1- Inspección física. 2- Limpieza general. 3- Verificación de parámetros. 4- Verificación de accesorios 5- Verificación neumática 6- Verificación de funcionamiento 7- Calibración | M25: 5 | N25: UND | O25: =40000+188000 -> 228000 | P25: =7600+35720 -> 43320 | Q25: =238000+1118600 -> 1356600 | S25: 11 | T25: TENSIOMETROS MARCA RIESTER | U25: Realizar: 1- Inspección física. 2- Limpieza general. 3- Verificación de parámetros. 4- Verificación de accesorios 5- Verificación neumática 6- Verificación de funcionamiento 7- Calibración | V25: 5 | W25: UND | X25: =10000+15000+10000+5000+5000+5000+90000 -> 140000 | Y25: =1900+2850+1900+950+950+950+17100 -> 26600 | Z25: =59500+89250+59500+29750+29750+29750+535500 -> 833000 | AB25: 11 | AC25: TENSIOMETROS MARCA RIESTER | AD25: Realizar: 1- Inspección física. 2- Limpieza general. 3- Verificación de parámetros. 4- Verificación de accesorios 5- Verificación neumática 6- Verificación de funcionamiento 7- Calibración | AE25: 5 | AF25: UND | AG25: =6000+8000+12000+11000+11000+12000+158000 -> 218000 | AH25: =1140+1520+2280+2090+2090+2280+30020 -> 41420 | AI25: =35700+47600+71400+65450+65450+71400+940100 -> 1297100 | AK25: 11 | AL25: TENSIOMETROS MARCA RIESTER | AM25: Realizar: 1- Inspección física. 2- Limpieza general. 3- Verificación de parámetros. 4- Verificación de accesorios 5- Verificación neumática 6- Verificación de funcionamiento 7- Calibración | AN25: 5 | AO25: UND | AP25: =250000+250000 -> 500000 | AQ25: =47500+47500 -> 95000 | AR25: =1487500+1487500 -> 2975000
A26: EQUIPO DE ÓRGANOS MARCA WELCH ALLYN | J26: EQUIPO DE ÓRGANOS MARCA WELCH ALLYN | S26: EQUIPO DE ÓRGANOS MARCA WELCH ALLYN | AB26: EQUIPO DE ÓRGANOS MARCA WELCH ALLYN | AK26: EQUIPO DE ÓRGANOS MARCA WELCH ALLYN
A27: 12 | B27: EQUIPO DE ÓRGANOS MARCA WELCH ALLYN | C27: Realizar: 1- Inspección física. 2- Limpieza general. 3- Verificación de parámetros. 4- Verificación de accesorios 5- Verificación de conectores 6- Verificación de funcionamiento 7- Suministro de pilas alcalinas "AA" (16 Unidades) | D27: 4 | E27: UND | F27: 135000 | G27: 25650 | H27: 376800 | J27: 12 | K27: EQUIPO DE ÓRGANOS MARCA WELCH ALLYN | L27: Realizar: 1- Inspección física. 2- Limpieza general. 3- Verificación de parámetros. 4- Verificación de accesorios 5- Verificación de conectores 6- Verificación de funcionamiento 7- Suministro de pilas alcalinas "AA" (16 Unidades) | M27: 4 | N27: UND | O27: =35000+7300 -> 42300 | P27: =6650+1387 -> 8037 | Q27: =166600+138992 -> 305592 | S27: 12 | T27: EQUIPO DE ÓRGANOS MARCA WELCH ALLYN | U27: Realizar: 1- Inspección física. 2- Limpieza general. 3- Verificación de parámetros. 4- Verificación de accesorios 5- Verificación de conectores 6- Verificación de funcionamiento 7- Suministro de pilas alcalinas "AA" (16 Unidades) | V27: 4 | W27: UND | X27: =10000+20000+10000+10000+10000+10000+15000 -> 85000 | Y27: =1900+3800+1900+1900+1900+1900+2850 -> 16150 | Z27: =47600+95200+47600+47600+47600+47600+285600 -> 618800 | AB27: 12 | AC27: EQUIPO DE ÓRGANOS MARCA WELCH ALLYN | AD27: Realizar: 1- Inspección física. 2- Limpieza general. 3- Verificación de parámetros. 4- Verificación de accesorios 5- Verificación de conectores 6- Verificación de funcionamiento 7- Suministro de pilas alcalinas "AA" (16 Unidades) | AE27: 4 | AF27: UND | AG27: =6000+8000+12000+11000+11000+12000+8600 -> 68600 | AH27: =1140+1520+2280+2090+2090+2280+1634 -> 13034 | AI27: =28560+38080+57120+52360+52360+57120+163752 -> 449352 | AK27: 12 | AL27: EQUIPO DE ÓRGANOS MARCA WELCH ALLYN | AM27: Realizar: 1- Inspección física. 2- Limpieza general. 3- Verificación de parámetros. 4- Verificación de accesorios 5- Verificación de conectores 6- Verificación de funcionamiento 7- Suministro de pilas alcalinas "AA" (16 Unidades) | AN27: 4 | AO27: UND | AP27: =250000+8000 -> 258000 | AQ27: =47500+1520 -> 49020 | AR27: =1190000+152320 -> 1342320
A28: GLUCÓMETROS MARCA FASTCHECK | J28: GLUCÓMETROS MARCA FASTCHECK | S28: GLUCÓMETROS MARCA FASTCHECK | AB28: GLUCÓMETROS MARCA FASTCHECK | AK28: GLUCÓMETROS MARCA FASTCHECK
A29: 13 | B29: GLUCÓMETROS MARCA FASTCHECK | C29: Realizar: 1- Inspección física. 2- Limpieza general. 3- Verificación de parámetros. 4- Verificación de accesorios 5- Verificación de funcionamiento 6- Suministro de tirillas 7- Suministro de lancetas 8- Suministro de pilas de litio "3V" | D29: 5 | E29: UND | F29: 163000 | G29: 30970 | H29: 969850 | J29: 13 | K29: GLUCÓMETROS MARCA FASTCHECK | L29: Realizar: 1- Inspección física. 2- Limpieza general. 3- Verificación de parámetros. 4- Verificación de accesorios 5- Verificación de funcionamiento 6- Suministro de tirillas 7- Suministro de lancetas 8- Suministro de pilas de litio "3V" | M29: 5 | N29: UND | O29: =35000+50000+35000+6200 -> 126200 | P29: 23978 | Q29: 750890 | S29: 13 | T29: GLUCÓMETROS MARCA FASTCHECK | U29: Realizar: 1- Inspección física. 2- Limpieza general. 3- Verificación de parámetros. 4- Verificación de accesorios 5- Verificación de funcionamiento 6- Suministro de tirillas 7- Suministro de lancetas 8- Suministro de pilas de litio "3V" | V29: 5 | W29: UND | X29: =5000+5000+5000+5000+5000+65000+18000+17000 -> 125000 | Y29: =950+950+950+950+950+12350+3420+3230 -> 23750 | Z29: =29750+29750+29750+29750+29750+386750+107100+101150 -> 743750 | AB29: 13 | AC29: GLUCÓMETROS MARCA FASTCHECK | AD29: Realizar: 1- Inspección física. 2- Limpieza general. 3- Verificación de parámetros. 4- Verificación de accesorios 5- Verificación de funcionamiento 6- Suministro de tirillas 7- Suministro de lancetas 8- Suministro de pilas de litio "3V" | AE29: 5 | AF29: UND | AG29: =6000+8000+12000+11000+11000+12000+52000+14500 -> 126500 | AH29: =1140+1520+2280+2090+2090+2280+9880+2755 -> 24035 | AI29: =35700+47600+71400+65450+65450+71400+309397+86273 -> 752670 | AK29: 13 | AL29: GLUCÓMETROS MARCA FASTCHECK | AM29: Realizar: 1- Inspección física. 2- Limpieza general. 3- Verificación de parámetros. 4- Verificación de accesorios 5- Verificación de funcionamiento 6- Suministro de tirillas 7- Suministro de lancetas 8- Suministro de pilas de litio "3V" | AN29: 5 | AO29: UND | AP29: =250000+140000+100000+20000 -> 510000 | AQ29: =47500+26600+19000+3800 -> 96900 | AR29: =1487500+833000+595000+119000 -> 3034500
A30: MONITORES DE SIGNOS VITALES MARCA MINDRAY MODELO VS-800 | J30: MONITORES DE SIGNOS VITALES MARCA MINDRAY MODELO VS-800 | S30: MONITORES DE SIGNOS VITALES MARCA MINDRAY MODELO VS-800 | AB30: MONITORES DE SIGNOS VITALES MARCA MINDRAY MODELO VS-800 | AK30: MONITORES DE SIGNOS VITALES MARCA MINDRAY MODELO VS-800
A31: 14 | B31: MONITORES DE SIGNOS VITALES MARCA MINDRAY MODELO VS-800 | C31: Realizar: 1- Inspección física. 2- Limpieza general. 3- Verificación de parámetros. 4- Verificación de accesorios 5- Verificación de conectores 6- Verificación neumática 7- Verificación de funcionamiento 8- Verificación del sistema eléctrico y electrónico 9- Calibración 10- Suministro de batería | D31: 5 | E31: UND | F31: 780000 | G31: 148200 | H31: 4641000 | J31: 14 | K31: MONITORES DE SIGNOS VITALES MARCA MINDRAY MODELO VS-800 | L31: Realizar: 1- Inspección física. 2- Limpieza general. 3- Verificación de parámetros. 4- Verificación de accesorios 5- Verificación de conectores 6- Verificación neumática 7- Verificación de funcionamiento 8- Verificación del sistema eléctrico y electrónico 9- Calibración 10- Suministro de batería | M31: 5 | N31: UND | O31: =166000+388000+850000 -> 1404000 | P31: =31540+73720+161500 -> 266760 | Q31: =987700+2308600+5057500 -> 8353800 | S31: 14 | T31: MONITORES DE SIGNOS VITALES MARCA MINDRAY MODELO VS-800 | U31: Realizar: 1- Inspección física. 2- Limpieza general. 3- Verificación de parámetros. 4- Verificación de accesorios 5- Verificación de conectores 6- Verificación neumática 7- Verificación de funcionamiento 8- Verificación del sistema eléctrico y electrónico 9- Calibración 10- Suministro de batería | V31: 5 | W31: UND | X31: =20000+20000+10000+10000+5000+5000+10000+10000+190000+850000 -> 1130000 | Y31: =3800+3800+1900+1900+950+950+1900+1900+36100+161500 -> 214700 | Z31: =119000+119000+59500+59500+29750+29750+59500+59500+1130500+5057500 -> 6723500 | AB31: 14 | AC31: MONITORES DE SIGNOS VITALES MARCA MINDRAY MODELO VS-800 | AD31: Realizar: 1- Inspección física. 2- Limpieza general. 3- Verificación de parámetros. 4- Verificación de accesorios 5- Verificación de conectores 6- Verificación neumática 7- Verificación de funcionamiento 8- Verificación del sistema eléctrico y electrónico 9- Calibración 10- Suministro de batería | AE31: 5 | AF31: UND | AG31: =15000+15000+20000+15000+15000+15000+20000+20000+120000+577000 -> 832000 | AH31: =2850+2850+3800+2850+2850+2850+3800+3800+22800+109630 -> 158080 | AI31: =89250+89250+119000+89250+89250+89250+119000+119000+714000+3433153 -> 4950403 | AK31: 14 | AL31: MONITORES DE SIGNOS VITALES MARCA MINDRAY MODELO VS-800 | AM31: Realizar: 1- Inspección física. 2- Limpieza general. 3- Verificación de parámetros. 4- Verificación de accesorios 5- Verificación de conectores 6- Verificación neumática 7- Verificación de funcionamiento 8- Verificación del sistema eléctrico y electrónico 9- Calibración 10- Suministro de batería | AN31: 5 | AO31: UND | AP31: =700000+2000000+1900000 -> 4600000 | AQ31: =133000+380000+361000 -> 874000 | AR31: =4165000+11900000+11305000 -> 27370000
A32: MONITORES DE SIGNOS VITALES MARCA EDAN MODELO M9B | J32: MONITORES DE SIGNOS VITALES MARCA EDAN MODELO M9B | S32: MONITORES DE SIGNOS VITALES MARCA EDAN MODELO M9B | AB32: MONITORES DE SIGNOS VITALES MARCA EDAN MODELO M9B | AK32: MONITORES DE SIGNOS VITALES MARCA EDAN MODELO M9B
A33: 15 | B33: MONITORES DE SIGNOS VITALES MARCA EDAN MODELO M9B | C33: Realizar: 1- Inspección física. 2- Limpieza general. 3- Verificación de parámetros. 4- Verificación de accesorios 5- Verificación de conectores 6- Verificación neumática 7- Verificación de funcionamiento 8- Verificación del sistema eléctrico y electrónico 9- Calibración 10- Suministro de batería 11- Sensor SPO2 | D33: 1 | E33: UND | F33: 1130000 | G33: 214700 | H33: 1344700 | J33: 15 | K33: MONITORES DE SIGNOS VITALES MARCA EDAN MODELO M9B | L33: Realizar: 1- Inspección física. 2- Limpieza general. 3- Verificación de parámetros. 4- Verificación de accesorios 5- Verificación de conectores 6- Verificación neumática 7- Verificación de funcionamiento 8- Verificación del sistema eléctrico y electrónico 9- Calibración 10- Suministro de batería 11- Sensor SPO2 | M33: 1 | N33: UND | O33: =166000+360000+545000+133000 -> 1204000 | P33: =31540+68400+103550+25270 -> 228760 | Q33: =197540+428400+648550+158270 -> 1432760 | S33: 15 | T33: MONITORES DE SIGNOS VITALES MARCA EDAN MODELO M9B | U33: Realizar: 1- Inspección física. 2- Limpieza general. 3- Verificación de parámetros. 4- Verificación de accesorios 5- Verificación de conectores 6- Verificación neumática 7- Verificación de funcionamiento 8- Verificación del sistema eléctrico y electrónico 9- Calibración 10- Suministro de batería 11- Sensor SPO2 | V33: 1 | W33: UND | X33: =20000+20000+10000+5000+5000+10000+5000+10000+190000+390000+140000 -> 805000 | Y33: =3800+3800+1900+950+950+1900+950+1900+36100+74100+26600 -> 152950 | Z33: =23800+23800+11900+5950+5950+11900+5950+11900+226100+464100+166600 -> 957950 | AB33: 15 | AC33: MONITORES DE SIGNOS VITALES MARCA EDAN MODELO M9B | AD33: Realizar: 1- Inspección física. 2- Limpieza general. 3- Verificación de parámetros. 4- Verificación de accesorios 5- Verificación de conectores 6- Verificación neumática 7- Verificación de funcionamiento 8- Verificación del sistema eléctrico y electrónico 9- Calibración 10- Suministro de batería 11- Sensor SPO2 | AE33: 1 | AF33: UND | AG33: =15000+15000+20000+15000+15000+15000+20000+20000+120000+652000+120000 -> 1027000 | AH33: =2850+2850+3800+2850+2850+2850+3800+3800+22800+123880+22800 -> 195130 | AI33: =17850+17850+23800+17850+17850+17850+23800+23800+142800+775880+142800 -> 1222130 | AK33: 15 | AL33: MONITORES DE SIGNOS VITALES MARCA EDAN MODELO M9B | AM33: Realizar: 1- Inspección física. 2- Limpieza general. 3- Verificación de parámetros. 4- Verificación de accesorios 5- Verificación de conectores 6- Verificación neumática 7- Verificación de funcionamiento 8- Verificación del sistema eléctrico y electrónico 9- Calibración 10- Suministro de batería 11- Sensor SPO2 | AN33: 1 | AO33: UND | AP33: =700000+2000000+1900000+850000 -> 5450000 | AQ33: =133000+380000+361000+161500 -> 1035500 | AR33: =833000+2380000+2261000+1011500 -> 6485500
A34: DESFIBRILADORES MARCA ZOLL AED PLUS | J34: DESFIBRILADORES MARCA ZOLL AED PLUS | S34: DESFIBRILADORES MARCA ZOLL AED PLUS | AB34: DESFIBRILADORES MARCA ZOLL AED PLUS | AK34: DESFIBRILADORES MARCA ZOLL AED PLUS
A35: 16 | B35: DESFIBRILADORES MARCA ZOLL AED PLUS | C35: Realizar: 1- Inspección física. 2- Limpieza general. 3- Verificación de parámetros. 4- Verificación de accesorios 5- Verificación de conectores 6- Verificación del sistema eléctrico y electrónico 7- Suministro de pilas Lithium "CR1234 3V" (10 Unidades) | D35: 1 | E35: UND | F35: 382000 | G35: 72580 | H35: 797300 | J35: 16 | K35: DESFIBRILADORES MARCA ZOLL AED PLUS | L35: Realizar: 1- Inspección física. 2- Limpieza general. 3- Verificación de parámetros. 4- Verificación de accesorios 5- Verificación de conectores 6- Verificación del sistema eléctrico y electrónico 7- Suministro de pilas Lithium "CR1234 3V" (10 Unidades) | M35: 1 | N35: UND | O35: =200000+22500 -> 222500 | P35: =38000+4275 -> 42275 | Q35: =238000+267750 -> 505750 | S35: 16 | T35: DESFIBRILADORES MARCA ZOLL AED PLUS | U35: Realizar: 1- Inspección física. 2- Limpieza general. 3- Verificación de parámetros. 4- Verificación de accesorios 5- Verificación de conectores 6- Verificación del sistema eléctrico y electrónico 7- Suministro de pilas Lithium "CR1234 3V" (10 Unidades) | V35: 1 | W35: UND | X35: =20000+30000+10000+10000+5000+20000+350000 -> 445000 | Y35: =3800+5700+1900+1900+950+3800+66500 -> 84550 | Z35: =23800+35700+11900+11900+5950+23800+416500 -> 529550 | AB35: 16 | AC35: DESFIBRILADORES MARCA ZOLL AED PLUS | AD35: Realizar: 1- Inspección física. 2- Limpieza general. 3- Verificación de parámetros. 4- Verificación de accesorios 5- Verificación de conectores 6- Verificación del sistema eléctrico y electrónico 7- Suministro de pilas Lithium "CR1234 3V" (10 Unidades) | AE35: 1 | AF35: UND | AG35: =25000+25000+190000+35000+30000+45000+45500 -> 395500 | AH35: =4750+4750+36100+6650+5700+8550+8645 -> 75145 | AI35: =29750+29750+226100+41650+35700+53550+541450 -> 957950 | AK35: 16 | AL35: DESFIBRILADORES MARCA ZOLL AED PLUS | AM35: Realizar: 1- Inspección física. 2- Limpieza general. 3- Verificación de parámetros. 4- Verificación de accesorios 5- Verificación de conectores 6- Verificación del sistema eléctrico y electrónico 7- Suministro de pilas Lithium "CR1234 3V" (10 Unidades) | AN35: 1 | AO35: UND | AP35: =700000+150000 -> 850000 | AQ35: =133000+28500 -> 161500 | AR35: =833000+1785000 -> 2618000
A36: DESFIBRILADORES MARCA ZOLL AEDPRO | J36: DESFIBRILADORES MARCA ZOLL AEDPRO | S36: DESFIBRILADORES MARCA ZOLL AEDPRO | AB36: DESFIBRILADORES MARCA ZOLL AEDPRO | AK36: DESFIBRILADORES MARCA ZOLL AEDPRO
A37: 17 | B37: DESFIBRILADORES MARCA ZOLL AEDPRO | C37: Realizar: 1- Inspección física. 2- Limpieza general. 3- Verificación de parámetros. 4- Verificación de accesorios 5- Verificación de conectores 6- Verificación del sistema eléctrico y electrónico 7- Suministro de pila especial | D37: 1 | E37: UND | F37: 2915000 | G37: 553850 | H37: 3468850 | J37: 17 | K37: DESFIBRILADORES MARCA ZOLL AEDPRO | L37: Realizar: 1- Inspección física. 2- Limpieza general. 3- Verificación de parámetros. 4- Verificación de accesorios 5- Verificación de conectores 6- Verificación del sistema eléctrico y electrónico 7- Suministro de pila especial | M37: 1 | N37: UND | O37: =200000+3500000 -> 3700000 | P37: =38000+665000 -> 703000 | Q37: =238000+4165000 -> 4403000 | S37: 17 | T37: DESFIBRILADORES MARCA ZOLL AEDPRO | U37: Realizar: 1- Inspección física. 2- Limpieza general. 3- Verificación de parámetros. 4- Verificación de accesorios 5- Verificación de conectores 6- Verificación del sistema eléctrico y electrónico 7- Suministro de pila especial | V37: 1 | W37: UND | X37: =20000+30000+10000+10000+5000+20000+1250000 -> 1345000 | Y37: =3800+5700+1900+1900+950+3800+237500 -> 255550 | Z37: =23800+35700+11900+11900+5950+23800+1487500 -> 1600550 | AB37: 17 | AC37: DESFIBRILADORES MARCA ZOLL AEDPRO | AD37: Realizar: 1- Inspección física. 2- Limpieza general. 3- Verificación de parámetros. 4- Verificación de accesorios 5- Verificación de conectores 6- Verificación del sistema eléctrico y electrónico 7- Suministro de pila especial | AE37: 1 | AF37: UND | AG37: =25000+25000+190000+35000+30000+45000+1584000 -> 1934000 | AH37: =4750+4750+36100+6650+5700+8550+300960 -> 367460 | AI37: =29750+29750+226100+41650+35700+53550+1884960 -> 2301460 | AK37: 17 | AL37: DESFIBRILADORES MARCA ZOLL AEDPRO | AM37: Realizar: 1- Inspección física. 2- Limpieza general. 3- Verificación de parámetros. 4- Verificación de accesorios 5- Verificación de conectores 6- Verificación del sistema eléctrico y electrónico 7- Suministro de pila especial | AN37: 1 | AO37: UND | AP37: =700000+2500000 -> 3200000 | AQ37: =133000+475000 -> 608000 | AR37: =833000+2975000 -> 3808000
A38: DESFIBRILADORES DE ENTRENAMIENTO MARCA SCHILLER | J38: DESFIBRILADORES DE ENTRENAMIENTO MARCA SCHILLER | S38: DESFIBRILADORES DE ENTRENAMIENTO MARCA SCHILLER | AB38: DESFIBRILADORES DE ENTRENAMIENTO MARCA SCHILLER | AK38: DESFIBRILADORES DE ENTRENAMIENTO MARCA SCHILLER
A39: 18 | B39: DESFIBRILADORES DE ENTRENAMIENTO MARCA SCHILLER | C39: Realizar: 1- Inspección física. 2- Limpieza general. 3- Verificación de parámetros. 4- Verificación de accesorios 5- Verificación de conectores 6- Verificación del sistema eléctrico y electrónico 7- Suministro de pilas alcalinas "AA" (8 Unidades) | D39: 2 | E39: UND | F39: 365000 | G39: 69350 | H39: 975800 | J39: 18 | K39: DESFIBRILADORES DE ENTRENAMIENTO MARCA SCHILLER | L39: Realizar: 1- Inspección física. 2- Limpieza general. 3- Verificación de parámetros. 4- Verificación de accesorios 5- Verificación de conectores 6- Verificación del sistema eléctrico y electrónico 7- Suministro de pilas alcalinas "AA" (8 Unidades) | M39: 2 | N39: UND | O39: =200000+7500 -> 207500 | P39: =38000+1425 -> 39425 | Q39: =476000+71400 -> 547400 | S39: 18 | T39: DESFIBRILADORES DE ENTRENAMIENTO MARCA SCHILLER | U39: Realizar: 1- Inspección física. 2- Limpieza general. 3- Verificación de parámetros. 4- Verificación de accesorios 5- Verificación de conectores 6- Verificación del sistema eléctrico y electrónico 7- Suministro de pilas alcalinas "AA" (8 Unidades) | V39: 2 | W39: UND | X39: =20000+30000+10000+10000+5000+20000+15000 -> 110000 | Y39: =3800+5700+1900+1900+950+3800+2850 -> 20900 | Z39: =47600+71400+23800+23800+11900+47600+142800 -> 368900 | AB39: 18 | AC39: DESFIBRILADORES DE ENTRENAMIENTO MARCA SCHILLER | AD39: Realizar: 1- Inspección física. 2- Limpieza general. 3- Verificación de parámetros. 4- Verificación de accesorios 5- Verificación de conectores 6- Verificación del sistema eléctrico y electrónico 7- Suministro de pilas alcalinas "AA" (8 Unidades) | AE39: 2 | AF39: UND | AG39: =15000+15000+50000+15000+15000+30000+8600 -> 148600 | AH39: =2850+2850+9500+2850+2850+5700+1634 -> 28234 | AI39: =35700+35700+119000+35700+35700+71400+81876 -> 415076 | AK39: 18 | AL39: DESFIBRILADORES DE ENTRENAMIENTO MARCA SCHILLER | AM39: Realizar: 1- Inspección física. 2- Limpieza general. 3- Verificación de parámetros. 4- Verificación de accesorios 5- Verificación de conectores 6- Verificación del sistema eléctrico y electrónico 7- Suministro de pilas alcalinas "AA" (8 Unidades) | AN39: 2 | AO39: UND | AP39: =700000+8000 -> 708000 | AQ39: =133000+1520 -> 134520 | AR39: =1666000+76160 -> 1742160
A40: DESFIBRILADORES DE ENTRENAMIENTO MARCA TRINER | J40: DESFIBRILADORES DE ENTRENAMIENTO MARCA TRINER | S40: DESFIBRILADORES DE ENTRENAMIENTO MARCA TRINER | AB40: DESFIBRILADORES DE ENTRENAMIENTO MARCA TRINER | AK40: DESFIBRILADORES DE ENTRENAMIENTO MARCA TRINER
A41: 19 | B41: DESFIBRILADORES DE ENTRENAMIENTO MARCA TRINER | C41: Realizar: 1- Inspección física. 2- Limpieza general. 3- Verificación de parámetros. 4- Verificación de accesorios 5- Verificación de conectores 6- Verificación del sistema eléctrico y electrónico 7- Suministro de pilas alcalinas "AA" (6 Unidades) 8- Suministro de pilas alcalinas "AAA" (4 Unidades) | D41: 2 | E41: UND | F41: 381500 | G41: 72485 | H41: 1018640 | J41: 19 | K41: DESFIBRILADORES DE ENTRENAMIENTO MARCA TRINER | L41: Realizar: 1- Inspección física. 2- Limpieza general. 3- Verificación de parámetros. 4- Verificación de accesorios 5- Verificación de conectores 6- Verificación del sistema eléctrico y electrónico 7- Suministro de pilas alcalinas "AA" (6 Unidades) 8- Suministro de pilas alcalinas "AAA" (4 Unidades) | M41: 2 | N41: UND | O41: =200000+7500+8000 -> 215500 | P41: =38000+1425+1520 -> 40945 | Q41: =476000+53550+38080 -> 567630 | S41: 19 | T41: DESFIBRILADORES DE ENTRENAMIENTO MARCA TRINER | U41: Realizar: 1- Inspección física. 2- Limpieza general. 3- Verificación de parámetros. 4- Verificación de accesorios 5- Verificación de conectores 6- Verificación del sistema eléctrico y electrónico 7- Suministro de pilas alcalinas "AA" (6 Unidades) 8- Suministro de pilas alcalinas "AAA" (4 Unidades) | V41: 2 | W41: UND | X41: =20000+30000+10000+10000+5000+20000+15000+15000 -> 125000 | Y41: =3800+5700+1900+1900+950+3800+2850+2850 -> 23750 | Z41: =47600+71400+23800+23800+11900+47600+107100+71400 -> 404600 | AB41: 19 | AC41: DESFIBRILADORES DE ENTRENAMIENTO MARCA TRINER | AD41: Realizar: 1- Inspección física. 2- Limpieza general. 3- Verificación de parámetros. 4- Verificación de accesorios 5- Verificación de conectores 6- Verificación del sistema eléctrico y electrónico 7- Suministro de pilas alcalinas "AA" (6 Unidades) 8- Suministro de pilas alcalinas "AAA" (4 Unidades) | AE41: 2 | AF41: UND | AG41: =15000+15000+50000+15000+15000+30000+8600+8450 -> 157050 | AH41: =2850+2850+9500+2850+2850+5700+1634+1606 -> 29840 | AI41: =35700+35700+119000+35700+35700+71400+61407+40224 -> 434831 | AK41: 19 | AL41: DESFIBRILADORES DE ENTRENAMIENTO MARCA TRINER | AM41: Realizar: 1- Inspección física. 2- Limpieza general. 3- Verificación de parámetros. 4- Verificación de accesorios 5- Verificación de conectores 6- Verificación del sistema eléctrico y electrónico 7- Suministro de pilas alcalinas "AA" (6 Unidades) 8- Suministro de pilas alcalinas "AAA" (4 Unidades) | AN41: 2 | AO41: UND | AP41: =700000+8000+8000 -> 716000 | AQ41: =133000+1520+1520 -> 136040 | AR41: =1666000+57120+38080 -> 1761200
A42: KIT LARINGOSCOPIOS MARCA GREENLINE | J42: KIT LARINGOSCOPIOS MARCA GREENLINE | S42: KIT LARINGOSCOPIOS MARCA GREENLINE | AB42: KIT LARINGOSCOPIOS MARCA GREENLINE | AK42: KIT LARINGOSCOPIOS MARCA GREENLINE
A43: 20 | B43: KIT LARINGOSCOPIOS MARCA GREENLINE | C43: Realizar: 1- Inspección física. 2- Limpieza general. 3- Verificación de parámetros. 4- Verificación de accesorios 5- Verificación de funcionamiento 6- Suministro de pilas alcalinas "C2" (20 Unidades) | D43: 10 | E43: UND | F43: 64000 | G43: 12160 | H43: 987700 | J43: 20 | K43: KIT LARINGOSCOPIOS MARCA GREENLINE | L43: Realizar: 1- Inspección física. 2- Limpieza general. 3- Verificación de parámetros. 4- Verificación de accesorios 5- Verificación de funcionamiento 6- Suministro de pilas alcalinas "C2" (20 Unidades) | M43: 10 | N43: UND | O43: =35000+16000 -> 51000 | P43: =6650+3040 -> 9690 | Q43: =416500+380800 -> 797300 | S43: 20 | T43: KIT LARINGOSCOPIOS MARCA GREENLINE | U43: Realizar: 1- Inspección física. 2- Limpieza general. 3- Verificación de parámetros. 4- Verificación de accesorios 5- Verificación de funcionamiento 6- Suministro de pilas alcalinas "C2" (20 Unidades) | V43: 10 | W43: UND | X43: =5000+10000+5000+5000+35000 -> 60000 | Y43: =950+1900+950+950+6650 -> 11400 | Z43: =59500+119000+59500+59500+833000 -> 1130500 | AB43: 20 | AC43: KIT LARINGOSCOPIOS MARCA GREENLINE | AD43: Realizar: 1- Inspección física. 2- Limpieza general. 3- Verificación de parámetros. 4- Verificación de accesorios 5- Verificación de funcionamiento 6- Suministro de pilas alcalinas "C2" (20 Unidades) | AE43: 10 | AF43: UND | AG43: =8000+10000+10000+17000+73000 -> 118000 | AH43: =1634+1606+1900+3230+13870 -> 22240 | AI43: =96341+116056+119000+202300+1737396 -> 2271093 | AK43: 20 | AL43: KIT LARINGOSCOPIOS MARCA GREENLINE | AM43: Realizar: 1- Inspección física. 2- Limpieza general. 3- Verificación de parámetros. 4- Verificación de accesorios 5- Verificación de funcionamiento 6- Suministro de pilas alcalinas "C2" (20 Unidades) | AN43: 10 | AO43: UND | AP43: =700000+80000 -> 780000 | AQ43: =133000+15200 -> 148200 | AR43: =8330000+1904000 -> 10234000
C45: TOTAL VALOR PROPUESTA | F45: =+F5+F7+F9+F11+F13+F15+F17+F19+F21+F23+F25+F27+F29+F31+F33+F35+F37+F39+F41+F43 -> 8214000 | G45: =+G5+G7+G9+G11+G13+G15+G17+G19+G21+G23+G25+G27+G29+G31+G33+G35+G37+G39+G41+G43 -> 1560660 | H45: =+H5+H7+H9+H11+H13+H15+H17+H19+H21+H23+H25+H27+H29+H31+H33+H35+H37+H39+H41+H43 -> 30801530 | L45: TOTAL VALOR PROPUESTA | O45: =+O5+O7+O9+O11+O13+O15+O17+O19+O21+O23+O25+O27+O29+O31+O33+O35+O37+O39+O41+O43 -> 9410600 | P45: =+P5+P7+P9+P11+P13+P15+P17+P19+P21+P23+P25+P27+P29+P31+P33+P35+P37+P39+P41+P43 -> 1788014 | Q45: =+Q5+Q7+Q9+Q11+Q13+Q15+Q17+Q19+Q21+Q23+Q25+Q27+Q29+Q31+Q33+Q35+Q37+Q39+Q41+Q43 -> 38922758 | U45: TOTAL VALOR PROPUESTA | X45: =+X5+X7+X9+X11+X13+X15+X17+X19+X21+X23+X25+X27+X29+X31+X33+X35+X37+X39+X41+X43 -> 5670000 | Y45: =+Y5+Y7+Y9+Y11+Y13+Y15+Y17+Y19+Y21+Y23+Y25+Y27+Y29+Y31+Y33+Y35+Y37+Y39+Y41+Y43 -> 1077300 | Z45: =+Z5+Z7+Z9+Z11+Z13+Z15+Z17+Z19+Z21+Z23+Z25+Z27+Z29+Z31+Z33+Z35+Z37+Z39+Z41+Z43 -> 28696850 | AD45: TOTAL VALOR PROPUESTA | AG45: =+AG5+AG7+AG9+AG11+AG13+AG15+AG17+AG19+AG21+AG23+AG25+AG27+AG29+AG31+AG33+AG35+AG37+AG39+AG41+AG43 -> 6602850 | AH45: =+AH5+AH7+AH9+AH11+AH13+AH15+AH17+AH19+AH21+AH23+AH25+AH27+AH29+AH31+AH33+AH35+AH37+AH39+AH41+AH43 -> 1254363 | AI45: =+AI5+AI7+AI9+AI11+AI13+AI15+AI17+AI19+AI21+AI23+AI25+AI27+AI29+AI31+AI33+AI35+AI37+AI39+AI41+AI43 -> 34170023 | AM45: TOTAL VALOR PROPUESTA | AP45: =+AP5+AP7+AP9+AP11+AP13+AP15+AP17+AP19+AP21+AP23+AP25+AP27+AP29+AP31+AP33+AP35+AP37+AP39+AP41+AP43 -> 21966000 | AQ45: =+AQ5+AQ7+AQ9+AQ11+AQ13+AQ15+AQ17+AQ19+AQ21+AQ23+AQ25+AQ27+AQ29+AQ31+AQ33+AQ35+AQ37+AQ39+AQ41+AQ43 -> 4173540 | AR45: =+AR5+AR7+AR9+AR11+AR13+AR15+AR17+AR19+AR21+AR23+AR25+AR27+AR29+AR31+AR33+AR35+AR37+AR39+AR41+AR43 -> 113671180
F47: =30801530-1560660 -> 29240870 | O47: =+Q45-P45 -> 37134744 | X47: =+Z45-Y45 -> 27619550 | AH47: =+AI45-AH45 -> 32915660 | AQ47: =+AR45-AQ45 -> 109497640

Sheet COMPARATIVO (2)
A1: A. S. MEDICAL LTDA | J1: SIBERMEDICAL SAS | S1: INGENIERIA Y MANTENIMIENTO COLOMBIANO SAS - IMC | AB1: JOTA MEDICS SAS | AK1: MANUFACTURAS LUCOLDI SAS
A2: 1. ACTIVIDADES MANTENIMIENTO EQUIPO MÉDICO Y BIOMÉDICO DEL CRUE | J2: 1. ACTIVIDADES MANTENIMIENTO EQUIPO MÉDICO Y BIOMÉDICO DEL CRUE | S2: 1. ACTIVIDADES MANTENIMIENTO EQUIPO MÉDICO Y BIOMÉDICO DEL CRUE | AB2: 1. ACTIVIDADES MANTENIMIENTO EQUIPO MÉDICO Y BIOMÉDICO DEL CRUE | AK2: 1. ACTIVIDADES MANTENIMIENTO EQUIPO MÉDICO Y BIOMÉDICO DEL CRUE
A3: ITEM | C3: REPUESTO | D3: CANTIDAD | E3: UNIDAD | F3: (INCLUYE MANO DE OBRA) | G3: IVA | H3: OFERTADO IVA INCLUIDO | J3: ITEM | L3: REPUESTO | M3: CANTIDAD | N3: UNIDAD | O3: (INCLUYE MANO DE OBRA) | P3: IVA | Q3: OFERTADO IVA INCLUIDO | S3: ITEM | U3: REPUESTO | V3: CANTIDAD | W3: UNIDAD | X3: (INCLUYE MANO DE OBRA) | Y3: IVA | Z3: OFERTADO IVA INCLUIDO | AB3: ITEM | AD3: REPUESTO | AE3: CANTIDAD | AF3: UNIDAD | AG3: (INCLUYE MANO DE OBRA) | AH3: IVA | AI3: OFERTADO IVA INCLUIDO | AK3: ITEM | AM3: REPUESTO | AN3: CANTIDAD | AO3: UNIDAD | AP3: (INCLUYE MANO DE OBRA) | AQ3: IVA | AR3: OFERTADO IVA INCLUIDO
A4: 1 | B4: BALA DE OXÍGENO DE 4.15 | C4: Realizar: 1- Inspección física 2- Recarga 3- Prueba hidrostática 4- Suministro de cánulas. (4 unidades) | D4: 15 | E4: UND | F4: =98000+145000+12000 -> 255000 | G4: =18620+27550+2280 -> 48450 | H4: 4394670 | J4: 1 | K4: BALA DE OXÍGENO DE 4.15 | L4: Realizar: 1- Inspección física 2- Recarga 3- Prueba hidrostática 4- Suministro de cánulas. (4 unidades) | M4: 15 | N4: UND | O4: =171000+200000+4600 -> 375600 | P4: =32490+38000+874 -> 71364 | Q4: =3052350+3570000+21896 -> 6644246 | S4: 1 | T4: BALA DE OXÍGENO DE 4.15 | U4: Realizar: 1- Inspección física 2- Recarga 3- Prueba hidrostática 4- Suministro de cánulas. (4 unidades) | V4: 15 | W4: UND | X4: =10000+70000+160000+20000 -> 260000 | Y4: =1900+13300+30400+3800 -> 49400 | Z4: =178500+1249500+2856000+95200 -> 4379200 | AB4: 1 | AC4: BALA DE OXÍGENO DE 4.15 | AD4: Realizar: 1- Inspección física 2- Recarga 3- Prueba hidrostática 4- Suministro de cánulas. (4 unidades) | AE4: 15 | AF4: UND | AG4: =15000+69000+195000+2250 -> 281250 | AH4: =2850+13110+37050+427 -> 53437 | AI4: =267750+1231658+3480745+10709 -> 4990862 | AK4: 1 | AL4: BALA DE OXÍGENO DE 4.15 | AM4: Realizar: 1- Inspección física 2- Recarga 3- Prueba hidrostática 4- Suministro de cánulas. (4 unidades) | AN4: 15 | AO4: UND | AP4: =120000+120000+360000+90000 -> 690000 | AQ4: =22800+22800+68400+17100 -> 131100 | AR4: =2142000+2142000+6426000+428400 -> 11138400
A5: 2 | B5: BALA DE OXÍGENO DE 6.5 | C5: Realizar: 1- Inspección física 2- recarga 3- Prueba hidrostática. | D5: 3 | E5: UND | F5: =130000+145000 -> 275000 | G5: =24700+27550 -> 52250 | H5: =(275000+52250)*3 -> 981750 | J5: 2 | K5: BALA DE OXÍGENO DE 6.5 | L5: Realizar: 1- Inspección física 2- recarga 3- Prueba hidrostática. | M5: 3 | N5: UND | O5: =180000+200000 -> 380000 | P5: =34200+38000 -> 72200 | Q5: =642600+714000 -> 1356600 | S5: 2 | T5: BALA DE OXÍGENO DE 6.5 | U5: Realizar: 1- Inspección física 2- recarga 3- Prueba hidrostática. | V5: 3 | W5: UND | X5: =10000+105000+160000 -> 275000 | Y5: =1900+19950+30400 -> 52250 | Z5: =35700+374850+571200 -> 981750 | AB5: 2 | AC5: BALA DE OXÍGENO DE 6.5 | AD5: Realizar: 1- Inspección física 2- recarga 3- Prueba hidrostática. | AE5: 3 | AF5: UND | AG5: =15000+146000+195000 -> 356000 | AH5: =2850+27740+37050 -> 67640 | AI5: =53550+521221+696149 -> 1270920 | AK5: 2 | AL5: BALA DE OXÍGENO DE 6.5 | AM5: Realizar: 1- Inspección física 2- recarga 3- Prueba hidrostática. | AN5: 3 | AO5: UND | AP5: =120000+250000+360000 -> 730000 | AQ5: =22800+47500+68400 -> 138700 | AR5: =428400+892500+1285200 -> 2606100
A6: 3 | B6: PULSOXIMETROS MARCA RIESTER | C6: Realizar: 1- Inspección física 2- Limpieza general 3- Verificación de parámetros 4- Verificación de funcionamiento 5- Verificación de sistema eléctrico y electrónico. 6-Calibración. 7- Suministro de pilas "AAA" (6 uds) | D6: 3 | E6: UND | F6: 266500 | G6: 50635 | H6: 1010310 | J6: 3 | K6: PULSOXIMETROS MARCA RIESTER | L6: Realizar: 1- Inspección física 2- Limpieza general 3- Verificación de parámetros 4- Verificación de funcionamiento 5- Verificación de sistema eléctrico y electrónico. 6-Calibración. 7- Suministro de pilas "AAA" (6 uds) | M6: 3 | N6: UND | O6: =72000+277000+8000 -> 357000 | P6: =13680+52630+1520 -> 67830 | Q6: =257040+988890+57120 -> 1303050 | S6: 3 | T6: PULSOXIMETROS MARCA RIESTER | U6: Realizar: 1- Inspección física 2- Limpieza general 3- Verificación de parámetros 4- Verificación de funcionamiento 5- Verificación de sistema eléctrico y electrónico. 6-Calibración. 7- Suministro de pilas "AAA" (6 uds) | V6: 3 | W6: UND | X6: =50000+90000+15000 -> 155000 | Y6: =1900*5+17100+2850 -> 29450 | Z6: =35700*5+321300+107100 -> 606900 | AB6: 3 | AC6: PULSOXIMETROS MARCA RIESTER | AD6: Realizar: 1- Inspección física 2- Limpieza general 3- Verificación de parámetros 4- Verificación de funcionamiento 5- Verificación de sistema eléctrico y electrónico. 6-Calibración. 7- Suministro de pilas "AAA" (6 uds) | AE6: 3 | AF6: UND | AG6: =6000+8000+12000+12000+12000+70000+8450 -> 128450 | AH6: =1140+1520+2280+2280+2280+13300+1606 -> 24406 | AI6: =21420+28560+42840+42840+42840+249900+60336 -> 488736 | AK6: 3 | AL6: PULSOXIMETROS MARCA RIESTER | AM6: Realizar: 1- Inspección física 2- Limpieza general 3- Verificación de parámetros 4- Verificación de funcionamiento 5- Verificación de sistema eléctrico y electrónico. 6-Calibración. 7- Suministro de pilas "AAA" (6 uds) | AN6: 3 | AO6: UND | AP6: =250000+250000+8000 -> 508000 | AQ6: =47500+47500+1520 -> 96520 | AR6: =892500+892500+57120 -> 1842120
A7: 4 | B7: PULSOXIMETROS MARCA LEMMAN | C7: Realizar: 1- Inspección física 2- Limpieza general 3- Verificación de parámetros 4- Verificación de funcionamiento 5- Verificación de sistema eléctrico y electrónico. 6-Calibración. 7- Suministro de pilas "AAA" (4 uds) | D7: 2 | E7: UND | F7: 266500 | G7: 50635 | H7: 673540 | J7: 4 | K7: PULSOXIMETROS MARCA LEMMAN | L7: Realizar: 1- Inspección física 2- Limpieza general 3- Verificación de parámetros 4- Verificación de funcionamiento 5- Verificación de sistema eléctrico y electrónico. 6-Calibración. 7- Suministro de pilas "AAA" (4 uds) | M7: 2 | N7: UND | O7: =72000+277000+8000 -> 357000 | P7: =13680+52630+1520 -> 67830 | Q7: =171360+659260+38080 -> 868700 | S7: 4 | T7: PULSOXIMETROS MARCA LEMMAN | U7: Realizar: 1- Inspección física 2- Limpieza general 3- Verificación de parámetros 4- Verificación de funcionamiento 5- Verificación de sistema eléctrico y electrónico. 6-Calibración. 7- Suministro de pilas "AAA" (4 uds) | V7: 2 | W7: UND | X7: =10000*5+90000+15000 -> 155000 | Y7: =1900*5+17100+2850 -> 29450 | Z7: =23800*5+214200+71400 -> 404600 | AB7: 4 | AC7: PULSOXIMETROS MARCA LEMMAN | AD7: Realizar: 1- Inspección física 2- Limpieza general 3- Verificación de parámetros 4- Verificación de funcionamiento 5- Verificación de sistema eléctrico y electrónico. 6-Calibración. 7- Suministro de pilas "AAA" (4 uds) | AE7: 2 | AF7: UND | AG7: =6000+8000+12000+12000+12000+70000+8450 -> 128450 | AH7: =1140+1520+2280+2280+2280+13300+1606 -> 24406 | AI7: =14280+19040+28560+28560+28560+166600+40224 -> 325824 | AK7: 4 | AL7: PULSOXIMETROS MARCA LEMMAN | AM7: Realizar: 1- Inspección física 2- Limpieza general 3- Verificación de parámetros 4- Verificación de funcionamiento 5- Verificación de sistema eléctrico y electrónico. 6-Calibración. 7- Suministro de pilas "AAA" (4 uds) | AN7: 2 | AO7: UND | AP7: =250000+250000+8000 -> 508000 | AQ7: =47500+47500+1520 -> 96520 | AR7: =595000+595000+38080 -> 1228080
A8: 5 | B8: LINTERNAS MARCA RIESTER | C8: Realizar: 1- Inspección física. 2- Limpieza general. 3- Verificación de funcionamiento. 4- Suministro de pilas alcalinas "AAA" (20 unidades) | D8: 10 | E8: UND | F8: 36500 | G8: 6935 | H8: 630700 | J8: 5 | K8: LINTERNAS MARCA RIESTER | L8: Realizar: 1- Inspección física. 2- Limpieza general. 3- Verificación de funcionamiento. 4- Suministro de pilas alcalinas "AAA" (20 unidades) | M8: 10 | N8: UND | O8: 19000 | P8: =2090+1520 -> 3610 | Q8: =130900+190400 -> 321300 | S8: 5 | T8: LINTERNAS MARCA RIESTER | U8: Realizar: 1- Inspección física. 2- Limpieza general. 3- Verificación de funcionamiento. 4- Suministro de pilas alcalinas "AAA" (20 unidades) | V8: 10 | W8: UND | X8: 30000 | Y8: =950*3+2850 -> 5700 | Z8: =59500*3+357000 -> 535500 | AB8: 5 | AC8: LINTERNAS MARCA RIESTER | AD8: Realizar: 1- Inspección física. 2- Limpieza general. 3- Verificación de funcionamiento. 4- Suministro de pilas alcalinas "AAA" (20 unidades) | AE8: 10 | AF8: UND | AG8: =8000+10000+27000+8450 -> 53450 | AH8: =1520+1900+5130+1606 -> 10156 | AI8: =95200+119000+321300+201119 -> 736619 | AK8: 5 | AL8: LINTERNAS MARCA RIESTER | AM8: Realizar: 1- Inspección física. 2- Limpieza general. 3- Verificación de funcionamiento. 4- Suministro de pilas alcalinas "AAA" (20 unidades) | AN8: 10 | AO8: UND | AP8: =120000+8000 -> 128000 | AQ8: =22800+1520 -> 24320 | AR8: =1428000+190400 -> 1618400
A9: 6 | B9: MANGOS DE LARINGOSCOPIO MARCA WELCH ALLYN | C9: Realizar: 1- Inspección física 2- Limpieza general 3- Verificación de accesorios 4- Verificación de funcionamiento 5- Suministro de pilas alcalinas "C2" | D9: 6 | E9: UND | F9: 64000 | G9: 12160 | H9: 592620 | J9: 6 | K9: MANGOS DE LARINGOSCOPIO MARCA WELCH ALLYN | L9: Realizar: 1- Inspección física 2- Limpieza general 3- Verificación de accesorios 4- Verificación de funcionamiento 5- Suministro de pilas alcalinas "C2" | M9: 6 | N9: UND | O9: =17000+16000 -> 33000 | P9: =3230+3040 -> 6270 | Q9: =121380+228480 -> 349860 | S9: 6 | T9: MANGOS DE LARINGOSCOPIO MARCA WELCH ALLYN | U9: Realizar: 1- Inspección física 2- Limpieza general 3- Verificación de accesorios 4- Verificación de funcionamiento 5- Suministro de pilas alcalinas "C2" | V9: 6 | W9: UND | X9: =10000+10000+5000+5000+35000 -> 65000 | Y9: =1900+1900+950+950+6650 -> 12350 | Z9: =71400+71400+35700+35700+499800 -> 714000 | AB9: 6 | AC9: MANGOS DE LARINGOSCOPIO MARCA WELCH ALLYN | AD9: Realizar: 1- Inspección física 2- Limpieza general 3- Verificación de accesorios 4- Verificación de funcionamiento 5- Suministro de pilas alcalinas "C2" | AE9: 6 | AF9: UND | AG9: =8000+10000+10000+17000+73000 -> 118000 | AH9: =1520+1900+1900+3230+13870 -> 22420 | AI9: =57120+71400+71400+121380+1042437 -> 1363737 | AK9: 6 | AL9: MANGOS DE LARINGOSCOPIO MARCA WELCH ALLYN | AM9: Realizar: 1- Inspección física 2- Limpieza general 3- Verificación de accesorios 4- Verificación de funcionamiento 5- Suministro de pilas alcalinas "C2" | AN9: 6 | AO9: UND | AP9: =250000+80000 -> 330000 | AQ9: =47500+15200 -> 62700 | AR9: =1785000+1142400 -> 2927400
A10: 7 | B10: FONENDOSCOPIOS MARCA SPIRIT | C10: Realizar: 1- Inspección física. 2- Limpieza general. 3- Verificación de accesorios. 4- Verificación de funcionamiento. | D10: 9 | E10: UND | F10: 25000 | G10: 4750 | H10: 267750 | J10: 7 | K10: FONENDOSCOPIOS MARCA SPIRIT | L10: Realizar: 1- Inspección física. 2- Limpieza general. 3- Verificación de accesorios. 4- Verificación de funcionamiento. | M10: 9 | N10: UND | O10: 16000 | P10: 3040 | Q10: 19040 | S10: 7 | T10: FONENDOSCOPIOS MARCA SPIRIT | U10: Realizar: 1- Inspección física. 2- Limpieza general. 3- Verificación de accesorios. 4- Verificación de funcionamiento. | V10: 9 | W10: UND | X10: 40000 | Y10: =1900*4 -> 7600 | Z10: =107100*4 -> 428400 | AB10: 7 | AC10: FONENDOSCOPIOS MARCA SPIRIT | AD10: Realizar: 1- Inspección física. 2- Limpieza general. 3- Verificación de accesorios. 4- Verificación de funcionamiento. | AE10: 9 | AF10: UND | AG10: =8000+10000+8000+12000 -> 38000 | AH10: =1520+1900+1520+2280 -> 7220 | AI10: =85680+107100+85680+128520 -> 406980 | AK10: 7 | AL10: FONENDOSCOPIOS MARCA SPIRIT | AM10: Realizar: 1- Inspección física. 2- Limpieza general. 3- Verificación de accesorios. 4- Verificación de funcionamiento. | AN10: 9 | AO10: UND | AP10: 250000 | AQ10: 47500 | AR10: 2677500
A11: 8 | B11: FONENDOSCOPIOS MARCA RIESTER | C11: Realizar: 1- Inspección física. 2- Limpieza general. 3- Verificación de accesorios. 4- Verificación de funcionamiento. | D11: 33 | E11: UND | F11: 25000 | G11: 4750 | H11: 981750 | J11: 8 | K11: FONENDOSCOPIOS MARCA RIESTER | L11: Realizar: 1- Inspección física. 2- Limpieza general. 3- Verificación de accesorios. 4- Verificación de funcionamiento. | M11: 33 | N11: UND | O11: 16000 | P11: 3040 | Q11: 628320 | S11: 8 | T11: FONENDOSCOPIOS MARCA RIESTER | U11: Realizar: 1- Inspección física. 2- Limpieza general. 3- Verificación de accesorios. 4- Verificación de funcionamiento. | V11: 33 | W11: UND | X11: 40000 | Y11: =1900*4 -> 7600 | Z11: =392700*4 -> 1570800 | AB11: 8 | AC11: FONENDOSCOPIOS MARCA RIESTER | AD11: Realizar: 1- Inspección física. 2- Limpieza general. 3- Verificación de accesorios. 4- Verificación de funcionamiento. | AE11: 33 | AF11: UND | AG11: =8000+10000+8000+12000 -> 38000 | AH11: =1520+1900+1520+2280 -> 7220 | AI11: =314160+392700+314160+471240 -> 1492260 | AK11: 8 | AL11: FONENDOSCOPIOS MARCA RIESTER | AM11: Realizar: 1- Inspección física. 2- Limpieza general. 3- Verificación de accesorios. 4- Verificación de funcionamiento. | AN11: 33 | AO11: UND | AP11: 250000 | AQ11: 47500 | AR11: 9817500
A12: 9 | B12: TENSIOMETROS MARCA ALPK2 | C12: Realizar: 1- Inspección física. 2- Limpieza general. 3- Verificación de parámetros. 4- Verificación de accesorios 5- Verificación neumática 6- Verificación de funcionamiento 7- Calibración | D12: 22 | E12: UND | F12: 55000 | G12: 10450 | H12: 1439900 | J12: 9 | K12: TENSIOMETROS MARCA ALPK2 | L12: Realizar: 1- Inspección física. 2- Limpieza general. 3- Verificación de parámetros. 4- Verificación de accesorios 5- Verificación neumática 6- Verificación de funcionamiento 7- Calibración | M12: 22 | N12: UND | O12: =40000+188000 -> 228000 | P12: =7600+35720 -> 43320 | Q12: =1047200+4921840 -> 5969040 | S12: 9 | T12: TENSIOMETROS MARCA ALPK2 | U12: Realizar: 1- Inspección física. 2- Limpieza general. 3- Verificación de parámetros. 4- Verificación de accesorios 5- Verificación neumática 6- Verificación de funcionamiento 7- Calibración | V12: 22 | W12: UND | X12: =10000+15000+10000+5000+5000+5000+90000 -> 140000 | Y12: =1900+2850+1900+950+950+950+17100 -> 26600 | Z12: =261800+392700+261800+130900+130900+130900+2356200 -> 3665200 | AB12: 9 | AC12: TENSIOMETROS MARCA ALPK2 | AD12: Realizar: 1- Inspección física. 2- Limpieza general. 3- Verificación de parámetros. 4- Verificación de accesorios 5- Verificación neumática 6- Verificación de funcionamiento 7- Calibración | AE12: 22 | AF12: UND | AG12: =6000+8000+12000+11000+11000+12000+158000 -> 218000 | AH12: =1140+1520+2280+2090+2090+2280+30020 -> 41420 | AI12: =157080+209440+314160+287980+287980+314160+4136440 -> 5707240 | AK12: 9 | AL12: TENSIOMETROS MARCA ALPK2 | AM12: Realizar: 1- Inspección física. 2- Limpieza general. 3- Verificación de parámetros. 4- Verificación de accesorios 5- Verificación neumática 6- Verificación de funcionamiento 7- Calibración | AN12: 22 | AO12: UND | AP12: =250000+250000 -> 500000 | AQ12: =47500+47500 -> 95000 | AR12: =6545000+6545000 -> 13090000
A13: 10 | B13: TENSIOMETROS MARCA PRESTIGE | C13: Realizar: 1- Inspección física. 2- Limpieza general. 3- Verificación de parámetros. 4- Verificación de accesorios 5- Verificación neumática 6- Verificación de funcionamiento 7- Calibración | D13: 9 | E13: UND | F13: 315000 | G13: 59850 | H13: 3373650 | J13: 10 | K13: TENSIOMETROS MARCA PRESTIGE | L13: Realizar: 1- Inspección física. 2- Limpieza general. 3- Verificación de parámetros. 4- Verificación de accesorios 5- Verificación neumática 6- Verificación de funcionamiento 7- Calibración | M13: 9 | N13: UND | O13: =40000+188000 -> 228000 | P13: =7600+35720 -> 43320 | Q13: =428400+2013480 -> 2441880 | S13: 10 | T13: TENSIOMETROS MARCA PRESTIGE | U13: Realizar: 1- Inspección física. 2- Limpieza general. 3- Verificación de parámetros. 4- Verificación de accesorios 5- Verificación neumática 6- Verificación de funcionamiento 7- Calibración | V13: 9 | W13: UND | X13: =10000+15000+10000+5000+5000+5000+90000 -> 140000 | Y13: =1900+2850+1900+950+950+950+17100 -> 26600 | Z13: =107100+160650+107100+53550+53550+53550+963900 -> 1499400 | AB13: 10 | AC13: TENSIOMETROS MARCA PRESTIGE | AD13: Realizar: 1- Inspección física. 2- Limpieza general. 3- Verificación de parámetros. 4- Verificación de accesorios 5- Verificación neumática 6- Verificación de funcionamiento 7- Calibración | AE13: 9 | AF13: UND | AG13: =6000+8000+12000+11000+11000+12000+158000 -> 218000 | AH13: =1140+1520+2280+2090+2090+2280+30020 -> 41420 | AI13: =64260+85680+128520+117810+117810+128520+1692180 -> 2334780 | AK13: 10 | AL13: TENSIOMETROS MARCA PRESTIGE | AM13: Realizar: 1- Inspección física. 2- Limpieza general. 3- Verificación de parámetros. 4- Verificación de accesorios 5- Verificación neumática 6- Verificación de funcionamiento 7- Calibración | AN13: 9 | AO13: UND | AP13: =250000+250000 -> 500000 | AQ13: =47500+47500 -> 95000 | AR13: =2677500+2677500 -> 5355000
A14: 11 | B14: TENSIOMETROS MARCA RIESTER | C14: Realizar: 1- Inspección física. 2- Limpieza general. 3- Verificación de parámetros. 4- Verificación de accesorios 5- Verificación neumática 6- Verificación de funcionamiento 7- Calibración | D14: 5 | E14: UND | F14: 315000 | G14: 59850 | H14: 1874250 | J14: 11 | K14: TENSIOMETROS MARCA RIESTER | L14: Realizar: 1- Inspección física. 2- Limpieza general. 3- Verificación de parámetros. 4- Verificación de accesorios 5- Verificación neumática 6- Verificación de funcionamiento 7- Calibración | M14: 5 | N14: UND | O14: =40000+188000 -> 228000 | P14: =7600+35720 -> 43320 | Q14: =238000+1118600 -> 1356600 | S14: 11 | T14: TENSIOMETROS MARCA RIESTER | U14: Realizar: 1- Inspección física. 2- Limpieza general. 3- Verificación de parámetros. 4- Verificación de accesorios 5- Verificación neumática 6- Verificación de funcionamiento 7- Calibración | V14: 5 | W14: UND | X14: =10000+15000+10000+5000+5000+5000+90000 -> 140000 | Y14: =1900+2850+1900+950+950+950+17100 -> 26600 | Z14: =59500+89250+59500+29750+29750+29750+535500 -> 833000 | AB14: 11 | AC14: TENSIOMETROS MARCA RIESTER | AD14: Realizar: 1- Inspección física. 2- Limpieza general. 3- Verificación de parámetros. 4- Verificación de accesorios 5- Verificación neumática 6- Verificación de funcionamiento 7- Calibración | AE14: 5 | AF14: UND | AG14: =6000+8000+12000+11000+11000+12000+158000 -> 218000 | AH14: =1140+1520+2280+2090+2090+2280+30020 -> 41420 | AI14: =35700+47600+71400+65450+65450+71400+940100 -> 1297100 | AK14: 11 | AL14: TENSIOMETROS MARCA RIESTER | AM14: Realizar: 1- Inspección física. 2- Limpieza general. 3- Verificación de parámetros. 4- Verificación de accesorios 5- Verificación neumática 6- Verificación de funcionamiento 7- Calibración | AN14: 5 | AO14: UND | AP14: =250000+250000 -> 500000 | AQ14: =47500+47500 -> 95000 | AR14: =1487500+1487500 -> 2975000
A15: 12 | B15: EQUIPO DE ÓRGANOS MARCA WELCH ALLYN | C15: Realizar: 1- Inspección física. 2- Limpieza general. 3- Verificación de parámetros. 4- Verificación de accesorios 5- Verificación de conectores 6- Verificación de funcionamiento 7- Suministro de pilas alcalinas "AA" (16 Unidades) | D15: 4 | E15: UND | F15: 135000 | G15: 25650 | H15: 376800 | J15: 12 | K15: EQUIPO DE ÓRGANOS MARCA WELCH ALLYN | L15: Realizar: 1- Inspección física. 2- Limpieza general. 3- Verificación de parámetros. 4- Verificación de accesorios 5- Verificación de conectores 6- Verificación de funcionamiento 7- Suministro de pilas alcalinas "AA" (16 Unidades) | M15: 4 | N15: UND | O15: =35000+7300 -> 42300 | P15: =6650+1387 -> 8037 | Q15: =166600+138992 -> 305592 | S15: 12 | T15: EQUIPO DE ÓRGANOS MARCA WELCH ALLYN | U15: Realizar: 1- Inspección física. 2- Limpieza general. 3- Verificación de parámetros. 4- Verificación de accesorios 5- Verificación de conectores 6- Verificación de funcionamiento 7- Suministro de pilas alcalinas "AA" (16 Unidades) | V15: 4 | W15: UND | X15: =10000+20000+10000+10000+10000+10000+15000 -> 85000 | Y15: =1900+3800+1900+1900+1900+1900+2850 -> 16150 | Z15: =47600+95200+47600+47600+47600+47600+285600 -> 618800 | AB15: 12 | AC15: EQUIPO DE ÓRGANOS MARCA WELCH ALLYN | AD15: Realizar: 1- Inspección física. 2- Limpieza general. 3- Verificación de parámetros. 4- Verificación de accesorios 5- Verificación de conectores 6- Verificación de funcionamiento 7- Suministro de pilas alcalinas "AA" (16 Unidades) | AE15: 4 | AF15: UND | AG15: =6000+8000+12000+11000+11000+12000+8600 -> 68600 | AH15: =1140+1520+2280+2090+2090+2280+1634 -> 13034 | AI15: =28560+38080+57120+52360+52360+57120+163752 -> 449352 | AK15: 12 | AL15: EQUIPO DE ÓRGANOS MARCA WELCH ALLYN | AM15: Realizar: 1- Inspección física. 2- Limpieza general. 3- Verificación de parámetros. 4- Verificación de accesorios 5- Verificación de conectores 6- Verificación de funcionamiento 7- Suministro de pilas alcalinas "AA" (16 Unidades) | AN15: 4 | AO15: UND | AP15: =250000+8000 -> 258000 | AQ15: =47500+1520 -> 49020 | AR15: =1190000+152320 -> 1342320
A16: 13 | B16: GLUCÓMETROS MARCA FASTCHECK | C16: Realizar: 1- Inspección física. 2- Limpieza general. 3- Verificación de parámetros. 4- Verificación de accesorios 5- Verificación de funcionamiento 6- Suministro de tirillas 7- Suministro de lancetas 8- Suministro de pilas de litio "3V" | D16: 5 | E16: UND | F16: 163000 | G16: 30970 | H16: 969850 | J16: 13 | K16: GLUCÓMETROS MARCA FASTCHECK | L16: Realizar: 1- Inspección física. 2- Limpieza general. 3- Verificación de parámetros. 4- Verificación de accesorios 5- Verificación de funcionamiento 6- Suministro de tirillas 7- Suministro de lancetas 8- Suministro de pilas de litio "3V" | M16: 5 | N16: UND | O16: =35000+50000+35000+6200 -> 126200 | P16: 23978 | Q16: 750890 | S16: 13 | T16: GLUCÓMETROS MARCA FASTCHECK | U16: Realizar: 1- Inspección física. 2- Limpieza general. 3- Verificación de parámetros. 4- Verificación de accesorios 5- Verificación de funcionamiento 6- Suministro de tirillas 7- Suministro de lancetas 8- Suministro de pilas de litio "3V" | V16: 5 | W16: UND | X16: =5000+5000+5000+5000+5000+65000+18000+17000 -> 125000 | Y16: =950+950+950+950+950+12350+3420+3230 -> 23750 | Z16: =29750+29750+29750+29750+29750+386750+107100+101150 -> 743750 | AB16: 13 | AC16: GLUCÓMETROS MARCA FASTCHECK | AD16: Realizar: 1- Inspección física. 2- Limpieza general. 3- Verificación de parámetros. 4- Verificación de accesorios 5- Verificación de funcionamiento 6- Suministro de tirillas 7- Suministro de lancetas 8- Suministro de pilas de litio "3V" | AE16: 5 | AF16: UND | AG16: =6000+8000+12000+11000+11000+12000+52000+14500 -> 126500 | AH16: =1140+1520+2280+2090+2090+2280+9880+2755 -> 24035 | AI16: =35700+47600+71400+65450+65450+71400+309397+86273 -> 752670 | AK16: 13 | AL16: GLUCÓMETROS MARCA FASTCHECK | AM16: Realizar: 1- Inspección física. 2- Limpieza general. 3- Verificación de parámetros. 4- Verificación de accesorios 5- Verificación de funcionamiento 6- Suministro de tirillas 7- Suministro de lancetas 8- Suministro de pilas de litio "3V" | AN16: 5 | AO16: UND | AP16: =250000+140000+100000+20000 -> 510000 | AQ16: =47500+26600+19000+3800 -> 96900 | AR16: =1487500+833000+595000+119000 -> 3034500
A17: 14 | B17: MONITORES DE SIGNOS VITALES MARCA MINDRAY MODELO VS-800 | C17: Realizar: 1- Inspección física. 2- Limpieza general. 3- Verificación de parámetros. 4- Verificación de accesorios 5- Verificación de conectores 6- Verificación neumática 7- Verificación de funcionamiento 8- Verificación del sistema eléctrico y electrónico 9- Calibración 10- Suministro de batería | D17: 5 | E17: UND | F17: 780000 | G17: 148200 | H17: 4641000 | J17: 14 | K17: MONITORES DE SIGNOS VITALES MARCA MINDRAY MODELO VS-800 | L17: Realizar: 1- Inspección física. 2- Limpieza general. 3- Verificación de parámetros. 4- Verificación de accesorios 5- Verificación de conectores 6- Verificación neumática 7- Verificación de funcionamiento 8- Verificación del sistema eléctrico y electrónico 9- Calibración 10- Suministro de batería | M17: 5 | N17: UND | O17: =166000+388000+850000 -> 1404000 | P17: =31540+73720+161500 -> 266760 | Q17: =987700+2308600+5057500 -> 8353800 | S17: 14 | T17: MONITORES DE SIGNOS VITALES MARCA MINDRAY MODELO VS-800 | U17: Realizar: 1- Inspección física. 2- Limpieza general. 3- Verificación de parámetros. 4- Verificación de accesorios 5- Verificación de conectores 6- Verificación neumática 7- Verificación de funcionamiento 8- Verificación del sistema eléctrico y electrónico 9- Calibración 10- Suministro de batería | V17: 5 | W17: UND | X17: =20000+20000+10000+10000+5000+5000+10000+10000+190000+850000 -> 1130000 | Y17: =3800+3800+1900+1900+950+950+1900+1900+36100+161500 -> 214700 | Z17: =119000+119000+59500+59500+29750+29750+59500+59500+1130500+5057500 -> 6723500 | AB17: 14 | AC17: MONITORES DE SIGNOS VITALES MARCA MINDRAY MODELO VS-800 | AD17: Realizar: 1- Inspección física. 2- Limpieza general. 3- Verificación de parámetros. 4- Verificación de accesorios 5- Verificación de conectores 6- Verificación neumática 7- Verificación de funcionamiento 8- Verificación del sistema eléctrico y electrónico 9- Calibración 10- Suministro de batería | AE17: 5 | AF17: UND | AG17: =15000+15000+20000+15000+15000+15000+20000+20000+120000+577000 -> 832000 | AH17: =2850+2850+3800+2850+2850+2850+3800+3800+22800+109630 -> 158080 | AI17: =89250+89250+119000+89250+89250+89250+119000+119000+714000+3433153 -> 4950403 | AK17: 14 | AL17: MONITORES DE SIGNOS VITALES MARCA MINDRAY MODELO VS-800 | AM17: Realizar: 1- Inspección física. 2- Limpieza general. 3- Verificación de parámetros. 4- Verificación de accesorios 5- Verificación de conectores 6- Verificación neumática 7- Verificación de funcionamiento 8- Verificación del sistema eléctrico y electrónico 9- Calibración 10- Suministro de batería | AN17: 5 | AO17: UND | AP17: =700000+2000000+1900000 -> 4600000 | AQ17: =133000+380000+361000 -> 874000 | AR17: =4165000+11900000+11305000 -> 27370000
A18: 15 | B18: MONITORES DE SIGNOS VITALES MARCA EDAN MODELO M9B | C18: Realizar: 1- Inspección física. 2- Limpieza general. 3- Verificación de parámetros. 4- Verificación de accesorios 5- Verificación de conectores 6- Verificación neumática 7- Verificación de funcionamiento 8- Verificación del sistema eléctrico y electrónico 9- Calibración 10- Suministro de batería 11- Sensor SPO2 | D18: 1 | E18: UND | F18: 1130000 | G18: 214700 | H18: 1344700 | J18: 15 | K18: MONITORES DE SIGNOS VITALES MARCA EDAN MODELO M9B | L18: Realizar: 1- Inspección física. 2- Limpieza general. 3- Verificación de parámetros. 4- Verificación de accesorios 5- Verificación de conectores 6- Verificación neumática 7- Verificación de funcionamiento 8- Verificación del sistema eléctrico y electrónico 9- Calibración 10- Suministro de batería 11- Sensor SPO2 | M18: 1 | N18: UND | O18: =166000+360000+545000+133000 -> 1204000 | P18: =31540+68400+103550+25270 -> 228760 | Q18: =197540+428400+648550+158270 -> 1432760 | S18: 15 | T18: MONITORES DE SIGNOS VITALES MARCA EDAN MODELO M9B | U18: Realizar: 1- Inspección física. 2- Limpieza general. 3- Verificación de parámetros. 4- Verificación de accesorios 5- Verificación de conectores 6- Verificación neumática 7- Verificación de funcionamiento 8- Verificación del sistema eléctrico y electrónico 9- Calibración 10- Suministro de batería 11- Sensor SPO2 | V18: 1 | W18: UND | X18: =20000+20000+10000+5000+5000+10000+5000+10000+190000+390000+140000 -> 805000 | Y18: =3800+3800+1900+950+950+1900+950+1900+36100+74100+26600 -> 152950 | Z18: =23800+23800+11900+5950+5950+11900+5950+11900+226100+464100+166600 -> 957950 | AB18: 15 | AC18: MONITORES DE SIGNOS VITALES MARCA EDAN MODELO M9B | AD18: Realizar: 1- Inspección física. 2- Limpieza general. 3- Verificación de parámetros. 4- Verificación de accesorios 5- Verificación de conectores 6- Verificación neumática 7- Verificación de funcionamiento 8- Verificación del sistema eléctrico y electrónico 9- Calibración 10- Suministro de batería 11- Sensor SPO2 | AE18: 1 | AF18: UND | AG18: =15000+15000+20000+15000+15000+15000+20000+20000+120000+652000+120000 -> 1027000 | AH18: =2850+2850+3800+2850+2850+2850+3800+3800+22800+123880+22800 -> 195130 | AI18: =17850+17850+23800+17850+17850+17850+23800+23800+142800+775880+142800 -> 1222130 | AK18: 15 | AL18: MONITORES DE SIGNOS VITALES MARCA EDAN MODELO M9B | AM18: Realizar: 1- Inspección física. 2- Limpieza general. 3- Verificación de parámetros. 4- Verificación de accesorios 5- Verificación de conectores 6- Verificación neumática 7- Verificación de funcionamiento 8- Verificación del sistema eléctrico y electrónico 9- Calibración 10- Suministro de batería 11- Sensor SPO2 | AN18: 1 | AO18: UND | AP18: =700000+2000000+1900000+850000 -> 5450000 | AQ18: =133000+380000+361000+161500 -> 1035500 | AR18: =833000+2380000+2261000+1011500 -> 6485500
A19: 16 | B19: DESFIBRILADORES MARCA ZOLL AED PLUS | C19: Realizar: 1- Inspección física. 2- Limpieza general. 3- Verificación de parámetros. 4- Verificación de accesorios 5- Verificación de conectores 6- Verificación del sistema eléctrico y electrónico 7- Suministro de pilas Lithium "CR1234 3V" (10 Unidades) | D19: 1 | E19: UND | F19: 382000 | G19: 72580 | H19: 797300 | J19: 16 | K19: DESFIBRILADORES MARCA ZOLL AED PLUS | L19: Realizar: 1- Inspección física. 2- Limpieza general. 3- Verificación de parámetros. 4- Verificación de accesorios 5- Verificación de conectores 6- Verificación del sistema eléctrico y electrónico 7- Suministro de pilas Lithium "CR1234 3V" (10 Unidades) | M19: 1 | N19: UND | O19: =200000+22500 -> 222500 | P19: =38000+4275 -> 42275 | Q19: =238000+267750 -> 505750 | S19: 16 | T19: DESFIBRILADORES MARCA ZOLL AED PLUS | U19: Realizar: 1- Inspección física. 2- Limpieza general. 3- Verificación de parámetros. 4- Verificación de accesorios 5- Verificación de conectores 6- Verificación del sistema eléctrico y electrónico 7- Suministro de pilas Lithium "CR1234 3V" (10 Unidades) | V19: 1 | W19: UND | X19: =20000+30000+10000+10000+5000+20000+350000 -> 445000 | Y19: =3800+5700+1900+1900+950+3800+66500 -> 84550 | Z19: =23800+35700+11900+11900+5950+23800+416500 -> 529550 | AB19: 16 | AC19: DESFIBRILADORES MARCA ZOLL AED PLUS | AD19: Realizar: 1- Inspección física. 2- Limpieza general. 3- Verificación de parámetros. 4- Verificación de accesorios 5- Verificación de conectores 6- Verificación del sistema eléctrico y electrónico 7- Suministro de pilas Lithium "CR1234 3V" (10 Unidades) | AE19: 1 | AF19: UND | AG19: =25000+25000+190000+35000+30000+45000+45500 -> 395500 | AH19: =4750+4750+36100+6650+5700+8550+8645 -> 75145 | AI19: =29750+29750+226100+41650+35700+53550+541450 -> 957950 | AK19: 16 | AL19: DESFIBRILADORES MARCA ZOLL AED PLUS | AM19: Realizar: 1- Inspección física. 2- Limpieza general. 3- Verificación de parámetros. 4- Verificación de accesorios 5- Verificación de conectores 6- Verificación del sistema eléctrico y electrónico 7- Suministro de pilas Lithium "CR1234 3V" (10 Unidades) | AN19: 1 | AO19: UND | AP19: =700000+150000 -> 850000 | AQ19: =133000+28500 -> 161500 | AR19: =833000+1785000 -> 2618000
A20: 17 | B20: DESFIBRILADORES MARCA ZOLL AEDPRO | C20: Realizar: 1- Inspección física. 2- Limpieza general. 3- Verificación de parámetros. 4- Verificación de accesorios 5- Verificación de conectores 6- Verificación del sistema eléctrico y electrónico 7- Suministro de pila especial | D20: 1 | E20: UND | F20: 2915000 | G20: 553850 | H20: 3468850 | J20: 17 | K20: DESFIBRILADORES MARCA ZOLL AEDPRO | L20: Realizar: 1- Inspección física. 2- Limpieza general. 3- Verificación de parámetros. 4- Verificación de accesorios 5- Verificación de conectores 6- Verificación del sistema eléctrico y electrónico 7- Suministro de pila especial | M20: 1 | N20: UND | O20: =200000+3500000 -> 3700000 | P20: =38000+665000 -> 703000 | Q20: =238000+4165000 -> 4403000 | S20: 17 | T20: DESFIBRILADORES MARCA ZOLL AEDPRO | U20: Realizar: 1- Inspección física. 2- Limpieza general. 3- Verificación de parámetros. 4- Verificación de accesorios 5- Verificación de conectores 6- Verificación del sistema eléctrico y electrónico 7- Suministro de pila especial | V20: 1 | W20: UND | X20: =20000+30000+10000+10000+5000+20000+1250000 -> 1345000 | Y20: =3800+5700+1900+1900+950+3800+237500 -> 255550 | Z20: =23800+35700+11900+11900+5950+23800+1487500 -> 1600550 | AB20: 17 | AC20: DESFIBRILADORES MARCA ZOLL AEDPRO | AD20: Realizar: 1- Inspección física. 2- Limpieza general. 3- Verificación de parámetros. 4- Verificación de accesorios 5- Verificación de conectores 6- Verificación del sistema eléctrico y electrónico 7- Suministro de pila especial | AE20: 1 | AF20: UND | AG20: =25000+25000+190000+35000+30000+45000+1584000 -> 1934000 | AH20: =4750+4750+36100+6650+5700+8550+300960 -> 367460 | AI20: =29750+29750+226100+41650+35700+53550+1884960 -> 2301460 | AK20: 17 | AL20: DESFIBRILADORES MARCA ZOLL AEDPRO | AM20: Realizar: 1- Inspección física. 2- Limpieza general. 3- Verificación de parámetros. 4- Verificación de accesorios 5- Verificación de conectores 6- Verificación del sistema eléctrico y electrónico 7- Suministro de pila especial | AN20: 1 | AO20: UND | AP20: =700000+2500000 -> 3200000 | AQ20: =133000+475000 -> 608000 | AR20: =833000+2975000 -> 3808000
A21: 18 | B21: DESFIBRILADORES DE ENTRENAMIENTO MARCA SCHILLER | C21: Realizar: 1- Inspección física. 2- Limpieza general. 3- Verificación de parámetros. 4- Verificación de accesorios 5- Verificación de conectores 6- Verificación del sistema eléctrico y electrónico 7- Suministro de pilas alcalinas "AA" (8 Unidades) | D21: 2 | E21: UND | F21: 365000 | G21: 69350 | H21: 975800 | J21: 18 | K21: DESFIBRILADORES DE ENTRENAMIENTO MARCA SCHILLER | L21: Realizar: 1- Inspección física. 2- Limpieza general. 3- Verificación de parámetros. 4- Verificación de accesorios 5- Verificación de conectores 6- Verificación del sistema eléctrico y electrónico 7- Suministro de pilas alcalinas "AA" (8 Unidades) | M21: 2 | N21: UND | O21: =200000+7500 -> 207500 | P21: =38000+1425 -> 39425 | Q21: =476000+71400 -> 547400 | S21: 18 | T21: DESFIBRILADORES DE ENTRENAMIENTO MARCA SCHILLER | U21: Realizar: 1- Inspección física. 2- Limpieza general. 3- Verificación de parámetros. 4- Verificación de accesorios 5- Verificación de conectores 6- Verificación del sistema eléctrico y electrónico 7- Suministro de pilas alcalinas "AA" (8 Unidades) | V21: 2 | W21: UND | X21: =20000+30000+10000+10000+5000+20000+15000 -> 110000 | Y21: =3800+5700+1900+1900+950+3800+2850 -> 20900 | Z21: =47600+71400+23800+23800+11900+47600+142800 -> 368900 | AB21: 18 | AC21: DESFIBRILADORES DE ENTRENAMIENTO MARCA SCHILLER | AD21: Realizar: 1- Inspección física. 2- Limpieza general. 3- Verificación de parámetros. 4- Verificación de accesorios 5- Verificación de conectores 6- Verificación del sistema eléctrico y electrónico 7- Suministro de pilas alcalinas "AA" (8 Unidades) | AE21: 2 | AF21: UND | AG21: =15000+15000+50000+15000+15000+30000+8600 -> 148600 | AH21: =2850+2850+9500+2850+2850+5700+1634 -> 28234 | AI21: =35700+35700+119000+35700+35700+71400+81876 -> 415076 | AK21: 18 | AL21: DESFIBRILADORES DE ENTRENAMIENTO MARCA SCHILLER | AM21: Realizar: 1- Inspección física. 2- Limpieza general. 3- Verificación de parámetros. 4- Verificación de accesorios 5- Verificación de conectores 6- Verificación del sistema eléctrico y electrónico 7- Suministro de pilas alcalinas "AA" (8 Unidades) | AN21: 2 | AO21: UND | AP21: =700000+8000 -> 708000 | AQ21: =133000+1520 -> 134520 | AR21: =1666000+76160 -> 1742160
A22: 19 | B22: DESFIBRILADORES DE ENTRENAMIENTO MARCA TRINER | C22: Realizar: 1- Inspección física. 2- Limpieza general. 3- Verificación de parámetros. 4- Verificación de accesorios 5- Verificación de conectores 6- Verificación del sistema eléctrico y electrónico 7- Suministro de pilas alcalinas "AA" (6 Unidades) 8- Suministro de pilas alcalinas "AAA" (4 Unidades) | D22: 2 | E22: UND | F22: 381500 | G22: 72485 | H22: 1018640 | J22: 19 | K22: DESFIBRILADORES DE ENTRENAMIENTO MARCA TRINER | L22: Realizar: 1- Inspección física. 2- Limpieza general. 3- Verificación de parámetros. 4- Verificación de accesorios 5- Verificación de conectores 6- Verificación del sistema eléctrico y electrónico 7- Suministro de pilas alcalinas "AA" (6 Unidades) 8- Suministro de pilas alcalinas "AAA" (4 Unidades) | M22: 2 | N22: UND | O22: =200000+7500+8000 -> 215500 | P22: =38000+1425+1520 -> 40945 | Q22: =476000+53550+38080 -> 567630 | S22: 19 | T22: DESFIBRILADORES DE ENTRENAMIENTO MARCA TRINER | U22: Realizar: 1- Inspección física. 2- Limpieza general. 3- Verificación de parámetros. 4- Verificación de accesorios 5- Verificación de conectores 6- Verificación del sistema eléctrico y electrónico 7- Suministro de pilas alcalinas "AA" (6 Unidades) 8- Suministro de pilas alcalinas "AAA" (4 Unidades) | V22: 2 | W22: UND | X22: =20000+30000+10000+10000+5000+20000+15000+15000 -> 125000 | Y22: =3800+5700+1900+1900+950+3800+2850+2850 -> 23750 | Z22: =47600+71400+23800+23800+11900+47600+107100+71400 -> 404600 | AB22: 19 | AC22: DESFIBRILADORES DE ENTRENAMIENTO MARCA TRINER | AD22: Realizar: 1- Inspección física. 2- Limpieza general. 3- Verificación de parámetros. 4- Verificación de accesorios 5- Verificación de conectores 6- Verificación del sistema eléctrico y electrónico 7- Suministro de pilas alcalinas "AA" (6 Unidades) 8- Suministro de pilas alcalinas "AAA" (4 Unidades) | AE22: 2 | AF22: UND | AG22: =15000+15000+50000+15000+15000+30000+8600+8450 -> 157050 | AH22: =2850+2850+9500+2850+2850+5700+1634+1606 -> 29840 | AI22: =35700+35700+119000+35700+35700+71400+61407+40224 -> 434831 | AK22: 19 | AL22: DESFIBRILADORES DE ENTRENAMIENTO MARCA TRINER | AM22: Realizar: 1- Inspección física. 2- Limpieza general. 3- Verificación de parámetros. 4- Verificación de accesorios 5- Verificación de conectores 6- Verificación del sistema eléctrico y electrónico 7- Suministro de pilas alcalinas "AA" (6 Unidades) 8- Suministro de pilas alcalinas "AAA" (4 Unidades) | AN22: 2 | AO22: UND | AP22: =700000+8000+8000 -> 716000 | AQ22: =133000+1520+1520 -> 136040 | AR22: =1666000+57120+38080 -> 1761200
A23: 20 | B23: KIT LARINGOSCOPIOS MARCA GREENLINE | C23: Realizar: 1- Inspección física. 2- Limpieza general. 3- Verificación de parámetros. 4- Verificación de accesorios 5- Verificación de funcionamiento 6- Suministro de pilas alcalinas "C2" (20 Unidades) | D23: 10 | E23: UND | F23: 64000 | G23: 12160 | H23: 987700 | J23: 20 | K23: KIT LARINGOSCOPIOS MARCA GREENLINE | L23: Realizar: 1- Inspección física. 2- Limpieza general. 3- Verificación de parámetros. 4- Verificación de accesorios 5- Verificación de funcionamiento 6- Suministro de pilas alcalinas "C2" (20 Unidades) | M23: 10 | N23: UND | O23: =35000+16000 -> 51000 | P23: =6650+3040 -> 9690 | Q23: =416500+380800 -> 797300 | S23: 20 | T23: KIT LARINGOSCOPIOS MARCA GREENLINE | U23: Realizar: 1- Inspección física. 2- Limpieza general. 3- Verificación de parámetros. 4- Verificación de accesorios 5- Verificación de funcionamiento 6- Suministro de pilas alcalinas "C2" (20 Unidades) | V23: 10 | W23: UND | X23: =5000+10000+5000+5000+35000 -> 60000 | Y23: =950+1900+950+950+6650 -> 11400 | Z23: =59500+119000+59500+59500+833000 -> 1130500 | AB23: 20 | AC23: KIT LARINGOSCOPIOS MARCA GREENLINE | AD23: Realizar: 1- Inspección física. 2- Limpieza general. 3- Verificación de parámetros. 4- Verificación de accesorios 5- Verificación de funcionamiento 6- Suministro de pilas alcalinas "C2" (20 Unidades) | AE23: 10 | AF23: UND | AG23: =8000+10000+10000+17000+73000 -> 118000 | AH23: =1634+1606+1900+3230+13870 -> 22240 | AI23: =96341+116056+119000+202300+1737396 -> 2271093 | AK23: 20 | AL23: KIT LARINGOSCOPIOS MARCA GREENLINE | AM23: Realizar: 1- Inspección física. 2- Limpieza general. 3- Verificación de parámetros. 4- Verificación de accesorios 5- Verificación de funcionamiento 6- Suministro de pilas alcalinas "C2" (20 Unidades) | AN23: 10 | AO23: UND | AP23: =700000+80000 -> 780000 | AQ23: =133000+15200 -> 148200 | AR23: =8330000+1904000 -> 10234000
C25: TOTAL VALOR PROPUESTA | F25: =+F4+F5+F6+F7+F8+F9+F10+F11+F12+F13+F14+F15+F16+F17+F18+F19+F20+F21+F22+F23 -> 8214000 | G25: =+G4+G5+G6+G7+G8+G9+G10+G11+G12+G13+G14+G15+G16+G17+G18+G19+G20+G21+G22+G23 -> 1560660 | H25: =+H4+H5+H6+H7+H8+H9+H10+H11+H12+H13+H14+H15+H16+H17+H18+H19+H20+H21+H22+H23 -> 30801530 | L25: TOTAL VALOR PROPUESTA | O25: =+O4+O5+O6+O7+O8+O9+O10+O11+O12+O13+O14+O15+O16+O17+O18+O19+O20+O21+O22+O23 -> 9410600 | P25: =+P4+P5+P6+P7+P8+P9+P10+P11+P12+P13+P14+P15+P16+P17+P18+P19+P20+P21+P22+P23 -> 1788014 | Q25: =+Q4+Q5+Q6+Q7+Q8+Q9+Q10+Q11+Q12+Q13+Q14+Q15+Q16+Q17+Q18+Q19+Q20+Q21+Q22+Q23 -> 38922758 | U25: TOTAL VALOR PROPUESTA | X25: =+X4+X5+X6+X7+X8+X9+X10+X11+X12+X13+X14+X15+X16+X17+X18+X19+X20+X21+X22+X23 -> 5670000 | Y25: =+Y4+Y5+Y6+Y7+Y8+Y9+Y10+Y11+Y12+Y13+Y14+Y15+Y16+Y17+Y18+Y19+Y20+Y21+Y22+Y23 -> 1077300 | Z25: =+Z4+Z5+Z6+Z7+Z8+Z9+Z10+Z11+Z12+Z13+Z14+Z15+Z16+Z17+Z18+Z19+Z20+Z21+Z22+Z23 -> 28696850 | AD25: TOTAL VALOR PROPUESTA | AG25: =+AG4+AG5+AG6+AG7+AG8+AG9+AG10+AG11+AG12+AG13+AG14+AG15+AG16+AG17+AG18+AG19+AG20+AG21+AG22+AG23 -> 6602850 | AH25: =+AH4+AH5+AH6+AH7+AH8+AH9+AH10+AH11+AH12+AH13+AH14+AH15+AH16+AH17+AH18+AH19+AH20+AH21+AH22+AH23 -> 1254363 | AI25: =+AI4+AI5+AI6+AI7+AI8+AI9+AI10+AI11+AI12+AI13+AI14+AI15+AI16+AI17+AI18+AI19+AI20+AI21+AI22+AI23 -> 34170023 | AM25: TOTAL VALOR PROPUESTA | AP25: =+AP4+AP5+AP6+AP7+AP8+AP9+AP10+AP11+AP12+AP13+AP14+AP15+AP16+AP17+AP18+AP19+AP20+AP21+AP22+AP23 -> 21966000 | AQ25: =+AQ4+AQ5+AQ6+AQ7+AQ8+AQ9+AQ10+AQ11+AQ12+AQ13+AQ14+AQ15+AQ16+AQ17+AQ18+AQ19+AQ20+AQ21+AQ22+AQ23 -> 4173540 | AR25: =+AR4+AR5+AR6+AR7+AR8+AR9+AR10+AR11+AR12+AR13+AR14+AR15+AR16+AR17+AR18+AR19+AR20+AR21+AR22+AR23 -> 113671180
F27: =30801530-1560660 -> 29240870 | O27: =+Q25-P25 -> 37134744 | X27: =+Z25-Y25 -> 27619550 | AH27: =+AI25-AH25 -> 32915660 | AQ27: =+AR25-AQ25 -> 109497640

Sheet Cálculos 
B1: OBJETO
B3: PRESTAR LOS SERVICIOS DE MANTENIMIENTO PREVENTIVO Y CORRECTIVO DEL EQUIPO MÉDICO Y BIOMÉDICO DEL CRUE DE CUNDINAMARCA
J6: COTIZACIONES | AR6: DATOS
J7: COTIZACION 1 | K7: COTIZACION 2 | L7: COTIZACION 3 | M7: COTIZACION 4 | N7: COTIZACION 5 | O7: COTIZACION 6 | P7: COTIZACION 7 | Q7: COTIZACION 8 | R7: COTIZACION 9 | S7: COTIZACION 10 | T7: COTIZACION 11 | U7: COTIZACION 12 | V7: COTIZACION 13 | W7: COTIZACION 14 | X7: COTIZACION 15 | Y7: COTIZACION 16 | Z7: COTIZACION 17 | AA7: COTIZACION 18 | AB7: COTIZACION 18 | AC7: COTIZACION 19 | AD7: COTIZACION 20 | AE7: COTIZACION 21 | AF7: COTIZACION 22 | AG7: COTIZACION 23 | AH7: COTIZACION 24 | AI7: COTIZACION 25 | AJ7: COTIZACION 26 | AK7: COTIZACION 27 | AL7: COTIZACION 28 | AM7: COTIZACION 29 | AN7: COTIZACION 30 | AO7: COTIZACION 31 | AP7: COTIZACION 32 | AQ7: COTIZACION 33
B8: num | C8: BIEN Y/O SERVICIO | D8: DESCRIPCIÓN | E8: ESPECIFICACIONES TECNICAS | F8: UNIDAD DE MEDIDA | G8: # DE UNIDADES | H8: # DE UNIDADES | I8: TOTAL | J8: A. S. MEDICAL LTDA | K8: SIBERMEDICAL SAS | L8: INGENIERIA Y MANTENIMIENTO COLOMBIANO SAS - IMC | M8: JOTA MEDICS SAS | N8: MANUFACTURAS LUCOLDI SAS | AR8: Media Aritmetica | AS8: Desviacion Estandar | AT8: Mediana | AU8: Media Geometrica | AV8: Media Armonica | AW8: Min | AX8: Max
B9: 1 | C9: 1. ACTIVIDADES MANTENIMIENTO EQUIPO MÉDICO Y BIOMÉDICO DEL CRUE | D9: BALA DE OXÍGENO DE 4.15 | E9: Realizar: 1- Inspección física 2- Recarga 3- Prueba hidrostática 4- Suministro de cánulas. (4 unidades) | F9: UNIDADES | G9: 15 | H9: 1 | I9: =+IF(D9="","",SUM(G9*H9)) -> 15 | J9: 255000 | K9: 375600 | L9: 260000 | M9: 281250 | N9: 690000 | AR9: =IF(D9="","",AVERAGE(J9:AQ9)) -> 372370 | AS9: =IF(D9="","",STDEVA(J9:AQ9)) -> 184122.81 | AT9: =IF(D9="","",MEDIAN(J9:AQ9)) -> 281250 | AU9: =IF(D9="","",GEOMEAN(J9:AQ9)) -> 344220.04 | AV9: =IF(D9="","",HARMEAN(J9:AQ9)) -> 323939.93 | AW9: =IF(D9="","",MIN(J9:AQ9)) -> 255000 | AX9: =IF(D9="","",MAX(J9:AQ9)) -> 690000
B10: =+B9+1 -> 2 | D10: BALA DE OXÍGENO DE 6.5 | E10: Realizar: 1- Inspección física 2- recarga 3- Prueba hidrostática. | F10: UNIDADES | G10: 3 | H10: 1 | I10: =+IF(D10="","",SUM(G10*H10)) -> 3 | J10: 275000 | K10: 380000 | L10: 275000 | M10: 356000 | N10: 730000 | AR10: =IF(D10="","",AVERAGE(J10:AQ10)) -> 403200 | AS10: =IF(D10="","",STDEVA(J10:AQ10)) -> 188702.68 | AT10: =IF(D10="","",MEDIAN(J10:AQ10)) -> 356000 | AU10: =IF(D10="","",GEOMEAN(J10:AQ10)) -> 375529.77 | AV10: =IF(D10="","",HARMEAN(J10:AQ10)) -> 355034.01 | AW10: =IF(D10="","",MIN(J10:AQ10)) -> 275000 | AX10: =IF(D10="","",MAX(J10:AQ10)) -> 730000
B11: =+B10+1 -> 3 | D11: PULSOXIMETROS MARCA RIESTER | E11: Realizar: 1- Inspección física 2- Limpieza general 3- Verificación de parámetros 4- Verificación de funcionamiento 5- Verificación de sistema eléctrico y electrónico. 6-Calibración. 7- Suministro de pilas "AAA" (6 uds) | F11: UNIDADES | G11: 3 | H11: 1 | I11: =+IF(D11="","",SUM(G11*H11)) -> 3 | J11: 266500 | K11: 357000 | L11: 155000 | M11: 128450 | N11: 508000 | AR11: =IF(D11="","",AVERAGE(J11:AQ11)) -> 282990 | AS11: =IF(D11="","",STDEVA(J11:AQ11)) -> 155437.25 | AT11: =IF(D11="","",MEDIAN(J11:AQ11)) -> 266500 | AU11: =IF(D11="","",GEOMEAN(J11:AQ11)) -> 249263.67 | AV11: =IF(D11="","",HARMEAN(J11:AQ11)) -> 219696.08 | AW11: =IF(D11="","",MIN(J11:AQ11)) -> 128450 | AX11: =IF(D11="","",MAX(J11:AQ11)) -> 508000
B12: =+B11+1 -> 4 | D12: PULSOXIMETROS MARCA LEMMAN | E12: Realizar: 1- Inspección física 2- Limpieza general 3- Verificación de parámetros 4- Verificación de funcionamiento 5- Verificación de sistema eléctrico y electrónico. 6-Calibración. 7- Suministro de pilas "AAA" (4 uds) | F12: UNIDADES | G12: 2 | H12: 1 | I12: =+IF(D12="","",SUM(G12*H12)) -> 2 | J12: 266500 | K12: 357000 | L12: 155000 | M12: 128450 | N12: 508000 | AR12: =IF(D12="","",AVERAGE(J12:AQ12)) -> 282990 | AS12: =IF(D12="","",STDEVA(J12:AQ12)) -> 155437.25 | AT12: =IF(D12="","",MEDIAN(J12:AQ12)) -> 266500 | AU12: =IF(D12="","",GEOMEAN(J12:AQ12)) -> 249263.67 | AV12: =IF(D12="","",HARMEAN(J12:AQ12)) -> 219696.08 | AW12: =IF(D12="","",MIN(J12:AQ12)) -> 128450 | AX12: =IF(D12="","",MAX(J12:AQ12)) -> 508000
B13: =+B12+1 -> 5 | D13: LINTERNAS MARCA RIESTER | E13: Realizar: 1- Inspección física. 2- Limpieza general. 3- Verificación de funcionamiento. 4- Suministro de pilas alcalinas "AAA" (20 unidades) | F13: UNIDADES | G13: 10 | H13: 1 | I13: =+IF(D13="","",SUM(G13*H13)) -> 10 | J13: 36500 | K13: 19000 | L13: 30000 | M13: 53450 | N13: 128000 | AR13: =IF(D13="","",AVERAGE(J13:AQ13)) -> 53390 | AS13: =IF(D13="","",STDEVA(J13:AQ13)) -> 43536.456 | AT13: =IF(D13="","",MEDIAN(J13:AQ13)) -> 36500 | AU13: =IF(D13="","",GEOMEAN(J13:AQ13)) -> 42723.328 | AV13: =IF(D13="","",HARMEAN(J13:AQ13)) -> 35743.967 | AW13: =IF(D13="","",MIN(J13:AQ13)) -> 19000 | AX13: =IF(D13="","",MAX(J13:AQ13)) -> 128000
B14: =+B13+1 -> 6 | D14: MANGOS DE LARINGOSCOPIO MARCA WELCH ALLYN | E14: Realizar: 1- Inspección física 2- Limpieza general 3- Verificación de accesorios 4- Verificación de funcionamiento 5- Suministro de pilas alcalinas "C2" | F14: UNIDADES | G14: 6 | H14: 1 | I14: =+IF(D14="","",SUM(G14*H14)) -> 6 | J14: 64000 | K14: 33000 | L14: 65000 | M14: 118000 | N14: 330000 | AR14: =IF(D14="","",AVERAGE(J14:AQ14)) -> 122000 | AS14: =IF(D14="","",STDEVA(J14:AQ14)) -> 120222.71 | AT14: =IF(D14="","",MEDIAN(J14:AQ14)) -> 65000 | AU14: =IF(D14="","",GEOMEAN(J14:AQ14)) -> 88226.824 | AV14: =IF(D14="","",HARMEAN(J14:AQ14)) -> 68664.789 | AW14: =IF(D14="","",MIN(J14:AQ14)) -> 33000 | AX14: =IF(D14="","",MAX(J14:AQ14)) -> 330000
B15: =+B14+1 -> 7 | D15: FONENDOSCOPIOS MARCA SPIRIT | E15: Realizar: 1- Inspección física. 2- Limpieza general. 3- Verificación de accesorios. 4- Verificación de funcionamiento. | F15: UNIDADES | G15: 9 | H15: 1 | I15: =+IF(D15="","",SUM(G15*H15)) -> 9 | J15: 25000 | K15: 16000 | L15: 40000 | M15: 38000 | N15: 250000 | AR15: =IF(D15="","",AVERAGE(J15:AQ15)) -> 73800 | AS15: =IF(D15="","",STDEVA(J15:AQ15)) -> 98985.858 | AT15: =IF(D15="","",MEDIAN(J15:AQ15)) -> 38000 | AU15: =IF(D15="","",GEOMEAN(J15:AQ15)) -> 43288.119 | AV15: =IF(D15="","",HARMEAN(J15:AQ15)) -> 31682.508 | AW15: =IF(D15="","",MIN(J15:AQ15)) -> 16000 | AX15: =IF(D15="","",MAX(J15:AQ15)) -> 250000
B16: =+B15+1 -> 8 | D16: FONENDOSCOPIOS MARCA RIESTER | E16: Realizar: 1- Inspección física. 2- Limpieza general. 3- Verificación de accesorios. 4- Verificación de funcionamiento. | F16: UNIDADES | G16: 33 | H16: 1 | I16: =+IF(D16="","",SUM(G16*H16)) -> 33 | J16: 25000 | K16: 16000 | L16: 40000 | M16: 38000 | N16: 250000 | AR16: =IF(D16="","",AVERAGE(J16:AQ16)) -> 73800 | AS16: =IF(D16="","",STDEVA(J16:AQ16)) -> 98985.858 | AT16: =IF(D16="","",MEDIAN(J16:AQ16)) -> 38000 | AU16: =IF(D16="","",GEOMEAN(J16:AQ16)) -> 43288.119 | AV16: =IF(D16="","",HARMEAN(J16:AQ16)) -> 31682.508 | AW16: =IF(D16="","",MIN(J16:AQ16)) -> 16000 | AX16: =IF(D16="","",MAX(J16:AQ16)) -> 250000
B17: =+B16+1 -> 9 | D17: TENSIOMETROS MARCA ALPK2 | E17: Realizar: 1- Inspección física. 2- Limpieza general. 3- Verificación de parámetros. 4- Verificación de accesorios 5- Verificación neumática 6- Verificación de funcionamiento 7- Calibración | F17: UNIDADES | G17: 22 | H17: 1 | I17: =+IF(D17="","",SUM(G17*H17)) -> 22 | J17: 55000 | K17: 228000 | L17: 140000 | M17: 218000 | N17: 500000 | AR17: =IF(D17="","",AVERAGE(J17:AQ17)) -> 228200 | AS17: =IF(D17="","",STDEVA(J17:AQ17)) -> 167150.23 | AT17: =IF(D17="","",MEDIAN(J17:AQ17)) -> 218000 | AU17: =IF(D17="","",GEOMEAN(J17:AQ17)) -> 180455.62 | AV17: =IF(D17="","",HARMEAN(J17:AQ17)) -> 137749.41 | AW17: =IF(D17="","",MIN(J17:AQ17)) -> 55000 | AX17: =IF(D17="","",MAX(J17:AQ17)) -> 500000
B18: =+B17+1 -> 10 | D18: TENSIOMETROS MARCA PRESTIGE | E18: Realizar: 1- Inspección física. 2- Limpieza general. 3- Verificación de parámetros. 4- Verificación de accesorios 5- Verificación neumática 6- Verificación de funcionamiento 7- Calibración | F18: UNIDADES | G18: 9 | H18: 1 | I18: =+IF(D18="","",SUM(G18*H18)) -> 9 | J18: 315000 | K18: 228000 | L18: 140000 | M18: 218000 | N18: 500000 | AR18: =IF(D18="","",AVERAGE(J18:AQ18)) -> 280200 | AS18: =IF(D18="","",STDEVA(J18:AQ18)) -> 137634.3 | AT18: =IF(D18="","",MEDIAN(J18:AQ18)) -> 228000 | AU18: =IF(D18="","",GEOMEAN(J18:AQ18)) -> 255835.02 | AV18: =IF(D18="","",HARMEAN(J18:AQ18)) -> 234845.63 | AW18: =IF(D18="","",MIN(J18:AQ18)) -> 140000 | AX18: =IF(D18="","",MAX(J18:AQ18)) -> 500000
B19: =+B18+1 -> 11 | D19: TENSIOMETROS MARCA RIESTER | E19: Realizar: 1- Inspección física. 2- Limpieza general. 3- Verificación de parámetros. 4- Verificación de accesorios 5- Verificación neumática 6- Verificación de funcionamiento 7- Calibración | F19: UNIDADES | G19: 5 | H19: 1 | I19: =+IF(D19="","",SUM(G19*H19)) -> 5 | J19: 315000 | K19: 228000 | L19: 140000 | M19: 218000 | N19: 500000 | AR19: =IF(D19="","",AVERAGE(J19:AQ19)) -> 280200 | AS19: =IF(D19="","",STDEVA(J19:AQ19)) -> 137634.3 | AT19: =IF(D19="","",MEDIAN(J19:AQ19)) -> 228000 | AU19: =IF(D19="","",GEOMEAN(J19:AQ19)) -> 255835.02 | AV19: =IF(D19="","",HARMEAN(J19:AQ19)) -> 234845.63 | AW19: =IF(D19="","",MIN(J19:AQ19)) -> 140000 | AX19: =IF(D19="","",MAX(J19:AQ19)) -> 500000
B20: =+B19+1 -> 12 | D20: EQUIPO DE ÓRGANOS MARCA WELCH ALLYN | E20: Realizar: 1- Inspección física. 2- Limpieza general. 3- Verificación de parámetros. 4- Verificación de accesorios 5- Verificación de conectores 6- Verificación de funcionamiento 7- Suministro de pilas alcalinas "AA" (16 Unidades) | F20: UNIDADES | G20: 4 | H20: 1 | I20: =+IF(D20="","",SUM(G20*H20)) -> 4 | J20: 135000 | K20: 42300 | L20: 85000 | M20: 68600 | N20: 258000 | AR20: =IF(D20="","",AVERAGE(J20:AQ20)) -> 117780 | AS20: =IF(D20="","",STDEVA(J20:AQ20)) -> 85364.817 | AT20: =IF(D20="","",MEDIAN(J20:AQ20)) -> 85000 | AU20: =IF(D20="","",GEOMEAN(J20:AQ20)) -> 97007.961 | AV20: =IF(D20="","",HARMEAN(J20:AQ20)) -> 81611.329 | AW20: =IF(D20="","",MIN(J20:AQ20)) -> 42300 | AX20: =IF(D20="","",MAX(J20:AQ20)) -> 258000
B21: =+B20+1 -> 13 | D21: GLUCÓMETROS MARCA FASTCHECK | E21: Realizar: 1- Inspección física. 2- Limpieza general. 3- Verificación de parámetros. 4- Verificación de accesorios 5- Verificación de funcionamiento 6- Suministro de tirillas 7- Suministro de lancetas 8- Suministro de pilas de litio "3V" | F21: UNIDADES | G21: 5 | H21: 1 | I21: =+IF(D21="","",SUM(G21*H21)) -> 5 | J21: 163000 | K21: 126200 | L21: 125000 | M21: 126500 | N21: 510000 | AR21: =IF(D21="","",AVERAGE(J21:AQ21)) -> 210140 | AS21: =IF(D21="","",STDEVA(J21:AQ21)) -> 168395.81 | AT21: =IF(D21="","",MEDIAN(J21:AQ21)) -> 126500 | AU21: =IF(D21="","",GEOMEAN(J21:AQ21)) -> 175373.32 | AV21: =IF(D21="","",HARMEAN(J21:AQ21)) -> 156617.94 | AW21: =IF(D21="","",MIN(J21:AQ21)) -> 125000 | AX21: =IF(D21="","",MAX(J21:AQ21)) -> 510000
... B28: =+B27+1 -> 20 | D28: KIT LARINGOSCOPIOS MARCA GREENLINE | E28: Realizar: 1- Inspección física. 2- Limpieza general. 3- Verificación de parámetros. 4- Verificación de accesorios 5- Verificación de funcionamiento 6- Suministro de pilas alcalinas "C2" (20 Unidades) | F28: UNIDADES | G28: 10 | H28: 1 | I28: =+IF(D28="","",SUM(G28*H28)) -> 10 | J28: 64000 | K28: 51000 | L28: 60000 | M28: 118000 | N28: 780000 | AR28: =IF(D28="","",AVERAGE(J28:AQ28)) -> 214600 | AS28: =IF(D28="","",STDEVA(J28:AQ28)) -> 317157.37 | AT28: =IF(D28="","",MEDIAN(J28:AQ28)) -> 64000 | AU28: =IF(D28="","",GEOMEAN(J28:AQ28)) -> 112505.98 | AV28: =IF(D28="","",HARMEAN(J28:AQ28)) -> 81094.928 | AW28: =IF(D28="","",MIN(J28:AQ28)) -> 51000 | AX28: =IF(D28="","",MAX(J28:AQ28)) -> 780000
B29: =+B28+1 -> 21 | H29: 1 | I29: =+IF(D29="","",SUM(G29*H29)) | AR29: =IF(C29="","",AVERAGE(J29:AQ29)) | AS29: =IF(C29="","",STDEVA(J29:AQ29)) | AT29: =IF(C29="","",MEDIAN(J29:AQ29)) | AU29: =IF(C29="","",GEOMEAN(J29:AQ29)) | AV29: =IF(C29="","",HARMEAN(J29:AQ29)) | AW29: =IF(C29="","",MIN(J29:AQ29)) | AX29: =IF(C29="","",MAX(J29:AQ29))
B30: =+B29+1 -> 22 | H30: 1 | I30: =+IF(D30="","",SUM(G30*H30)) | AR30: =IF(C30="","",AVERAGE(J30:AQ30)) | AS30: =IF(C30="","",STDEVA(J30:AQ30)) | AT30: =IF(C30="","",MEDIAN(J30:AQ30)) | AU30: =IF(C30="","",GEOMEAN(J30:AQ30)) | AV30: =IF(C30="","",HARMEAN(J30:AQ30)) | AW30: =IF(C30="","",MIN(J30:AQ30)) | AX30: =IF(C30="","",MAX(J30:AQ30))
B31: =+B30+1 -> 23 | H31: 1 | I31: =+IF(D31="","",SUM(G31*H31)) | AR31: =IF(C31="","",AVERAGE(J31:AQ31)) | AS31: =IF(C31="","",STDEVA(J31:AQ31)) | AT31: =IF(C31="","",MEDIAN(J31:AQ31)) | AU31: =IF(C31="","",GEOMEAN(J31:AQ31)) | AV31: =IF(C31="","",HARMEAN(J31:AQ31)) | AW31: =IF(C31="","",MIN(J31:AQ31)) | AX31: =IF(C31="","",MAX(J31:AQ31))
B32: =+B31+1 -> 24 | H32: 1 | I32: =+IF(D32="","",SUM(G32*H32)) | AR32: =IF(C32="","",AVERAGE(J32:AQ32)) | AS32: =IF(C32="","",STDEVA(J32:AQ32)) | AT32: =IF(C32="","",MEDIAN(J32:AQ32)) | AU32: =IF(C32="","",GEOMEAN(J32:AQ32)) | AV32: =IF(C32="","",HARMEAN(J32:AQ32)) | AW32: =IF(C32="","",MIN(J32:AQ32)) | AX32: =IF(C32="","",MAX(J32:AQ32))
B33: =+B32+1 -> 25 | H33: 1 | I33: =+IF(D33="","",SUM(G33*H33)) | AR33: =IF(C33="","",AVERAGE(J33:AQ33)) | AS33: =IF(C33="","",STDEVA(J33:AQ33)) | AT33: =IF(C33="","",MEDIAN(J33:AQ33)) | AU33: =IF(C33="","",GEOMEAN(J33:AQ33)) | AV33: =IF(C33="","",HARMEAN(J33:AQ33)) | AW33: =IF(C33="","",MIN(J33:AQ33)) | AX33: =IF(C33="","",MAX(J33:AQ33))
B34: =+B33+1 -> 26 | H34: 1 | I34: =+IF(D34="","",SUM(G34*H34)) | AR34: =IF(C34="","",AVERAGE(J34:AQ34)) | AS34: =IF(C34="","",STDEVA(J34:AQ34)) | AT34: =IF(C34="","",MEDIAN(J34:AQ34)) | AU34: =IF(C34="","",GEOMEAN(J34:AQ34)) | AV34: =IF(C34="","",HARMEAN(J34:AQ34)) | AW34: =IF(C34="","",MIN(J34:AQ34)) | AX34: =IF(C34="","",MAX(J34:AQ34))
B35: =+B34+1 -> 27 | H35: 1 | I35: =+IF(D35="","",SUM(G35*H35)) | AR35: =IF(C35="","",AVERAGE(J35:AQ35)) | AS35: =IF(C35="","",STDEVA(J35:AQ35)) | AT35: =IF(C35="","",MEDIAN(J35:AQ35)) | AU35: =IF(C35="","",GEOMEAN(J35:AQ35)) | AV35: =IF(C35="","",HARMEAN(J35:AQ35)) | AW35: =IF(C35="","",MIN(J35:AQ35)) | AX35: =IF(C35="","",MAX(J35:AQ35))
B36: =+B35+1 -> 28 | H36: 1 | I36: =+IF(D36="","",SUM(G36*H36)) | AR36: =IF(C36="","",AVERAGE(J36:AQ36)) | AS36: =IF(C36="","",STDEVA(J36:AQ36)) | AT36: =IF(C36="","",MEDIAN(J36:AQ36)) | AU36: =IF(C36="","",GEOMEAN(J36:AQ36)) | AV36: =IF(C36="","",HARMEAN(J36:AQ36)) | AW36: =IF(C36="","",MIN(J36:AQ36)) | AX36: =IF(C36="","",MAX(J36:AQ36))
B37: =+B36+1 -> 29 | H37: 1 | I37: =+IF(D37="","",SUM(G37*H37)) | AR37: =IF(C37="","",AVERAGE(J37:AQ37)) | AS37: =IF(C37="","",STDEVA(J37:AQ37)) | AT37: =IF(C37="","",MEDIAN(J37:AQ37)) | AU37: =IF(C37="","",GEOMEAN(J37:AQ37)) | AV37: =IF(C37="","",HARMEAN(J37:AQ37)) | AW37: =IF(C37="","",MIN(J37:AQ37)) | AX37: =IF(C37="","",MAX(J37:AQ37))
B38: =+B37+1 -> 30 | H38: 1 | I38: =+IF(D38="","",SUM(G38*H38)) | AR38: =IF(C38="","",AVERAGE(J38:AQ38)) | AS38: =IF(C38="","",STDEVA(J38:AQ38)) | AT38: =IF(C38="","",MEDIAN(J38:AQ38)) | AU38: =IF(C38="","",GEOMEAN(J38:AQ38)) | AV38: =IF(C38="","",HARMEAN(J38:AQ38)) | AW38: =IF(C38="","",MIN(J38:AQ38)) | AX38: =IF(C38="","",MAX(J38:AQ38))
B39: =+B38+1 -> 31 | H39: 1 | I39: =+IF(D39="","",SUM(G39*H39)) | AR39: =IF(C39="","",AVERAGE(J39:AQ39)) | AS39: =IF(C39="","",STDEVA(J39:AQ39)) | AT39: =IF(C39="","",MEDIAN(J39:AQ39)) | AU39: =IF(C39="","",GEOMEAN(J39:AQ39)) | AV39: =IF(C39="","",HARMEAN(J39:AQ39)) | AW39: =IF(C39="","",MIN(J39:AQ39)) | AX39: =IF(C39="","",MAX(J39:AQ39))
B40: =+B39+1 -> 32 | H40: 1 | I40: =+IF(D40="","",SUM(G40*H40)) | AR40: =IF(C40="","",AVERAGE(J40:AQ40)) | AS40: =IF(C40="","",STDEVA(J40:AQ40)) | AT40: =IF(C40="","",MEDIAN(J40:AQ40)) | AU40: =IF(C40="","",GEOMEAN(J40:AQ40)) | AV40: =IF(C40="","",HARMEAN(J40:AQ40)) | AW40: =IF(C40="","",MIN(J40:AQ40)) | AX40: =IF(C40="","",MAX(J40:AQ40))
... B1108: =+B1107+1 -> 1100 | H1108: 1 | I1108: =+IF(D1108="","",SUM(G1108*H1108)) | AR1108: =IF(C1108="","",AVERAGE(J1108:AQ1108)) | AS1108: =IF(C1108="","",STDEVA(J1108:AQ1108)) | AT1108: =IF(C1108="","",MEDIAN(J1108:AQ1108)) | AU1108: =IF(C1108="","",GEOMEAN(J1108:AQ1108)) | AV1108: =IF(C1108="","",HARMEAN(J1108:AQ1108)) | AW1108: =IF(C1108="","",MIN(J1108:AQ1108)) | AX1108: =IF(C1108="","",MAX(J1108:AQ1108))
B1109: TOTAL | G1109: =SUM(G9:G1108) -> 148 | H1109: =SUM(H9:H1108) -> 1100 | I1109: =SUM(I9:I1108) -> 148 | J1109: =SUM(J9:J1108) -> 8214000 | K1109: =SUM(K9:K1108) -> 9410600 | L1109: =SUM(L9:L1108) -> 5670000 | M1109: =SUM(M9:M1108) -> 6602850 | N1109: =SUM(N9:N1108) -> 21966000 | ... AX1109: =SUM(AX9:AX1108) -> 22466000

Sheet Precio unitario 
B1: ITEMS | C1: MEDIA ARITMETICA | D1: MEDIA GEOMETRICA | E1: MEDIA ARMONICA (APLICABLE A VARIACIONES PROMEDIO DE DATOS SUPERIORES AL 40%) | F1: PRECIO UNITARIO OFICIAL ESTIMADO DE ACUERDO CON LOS CRITERIOS PARA APLICAR LA MEDIA | H1: MEDIA GEOMETRICA | I1: MEDIA ARMONICA | J1: PRECIO UNITARIO OFICIAL ESTIMADO DE ACUERDO CON LOS CRITERIOS PARA APLICAR LA MEDIA | K1: DIF
C2: (APLICABLE A VARIACIONES PROMEDIO DE DATOS ENTRE EL 0% Y EL 10%) | D2: (APLICABLE A VARIACIONES PROMEDIO DE DATOS ENTRE EL 11% Y EL 40%) | H2: (APLICABLE A VARIACIONES PROMEDIO DE DATOS ENTRE EL 11% Y EL 40%) | I2: MEDIA ARMONICA (APLICABLE A VARIACIONES PROMEDIO DE DATOS SUPERIORES AL 40%) | K2: DIF
B3: 1 | C3: =IF('Cálculos '!AR9="","",'Cálculos '!AR9) -> 372370 | D3: =IF('Cálculos '!AU9="","",'Cálculos '!AU9) -> 344220.04 | E3: =IF('Cálculos '!AV9="","",'Cálculos '!AV9) -> 323939.93 | F3: =+IF(C3="","",C3) -> 372370 | H3: =IF(C3="","",IF(C3="","",+D3/C3)) -> 0.92440325 | I3: =IF(C3="","",SUM(E3/C3)) -> 0.86994101 | J3: =+IF(I3<=40%,E3,IF(AND(H3>40%,H3<60%),D3,C3)) -> 372370 | K3: =IF(C3="","",SUM(F3-J3)) -> 0
B4: =+B3+1 -> 2 | C4: =IF('Cálculos '!AR10="","",'Cálculos '!AR10) -> 403200 | D4: =IF('Cálculos '!AU10="","",'Cálculos '!AU10) -> 375529.77 | E4: =IF('Cálculos '!AV10="","",'Cálculos '!AV10) -> 355034.01 | F4: =+IF(C4="","",C4) -> 403200 | H4: =IF(C4="","",IF(C4="","",+D4/C4)) -> 0.93137343 | I4: =IF(C4="","",SUM(E4/C4)) -> 0.88054069 | J4: =+IF(I4<=40%,E4,IF(AND(H4>40%,H4<60%),D4,C4)) -> 403200 | K4: =IF(C4="","",SUM(F4-J4)) -> 0
B5: =+B4+1 -> 3 | C5: =IF('Cálculos '!AR11="","",'Cálculos '!AR11) -> 282990 | D5: =IF('Cálculos '!AU11="","",'Cálculos '!AU11) -> 249263.67 | E5: =IF('Cálculos '!AV11="","",'Cálculos '!AV11) -> 219696.08 | F5: =+IF(C5="","",C5) -> 282990 | H5: =IF(C5="","",IF(C5="","",+D5/C5)) -> 0.88082149 | I5: =IF(C5="","",SUM(E5/C5)) -> 0.77633867 | J5: =+IF(I5<=40%,E5,IF(AND(H5>40%,H5<60%),D5,C5)) -> 282990 | K5: =IF(C5="","",SUM(F5-J5)) -> 0
B6: =+B5+1 -> 4 | C6: =IF('Cálculos '!AR12="","",'Cálculos '!AR12) -> 282990 | D6: =IF('Cálculos '!AU12="","",'Cálculos '!AU12) -> 249263.67 | E6: =IF('Cálculos '!AV12="","",'Cálculos '!AV12) -> 219696.08 | F6: =+IF(C6="","",C6) -> 282990 | H6: =IF(C6="","",IF(C6="","",+D6/C6)) -> 0.88082149 | I6: =IF(C6="","",SUM(E6/C6)) -> 0.77633867 | J6: =+IF(I6<=40%,E6,IF(AND(H6>40%,H6<60%),D6,C6)) -> 282990 | K6: =IF(C6="","",SUM(F6-J6)) -> 0
B7: =+B6+1 -> 5 | C7: =IF('Cálculos '!AR13="","",'Cálculos '!AR13) -> 53390 | D7: =IF('Cálculos '!AU13="","",'Cálculos '!AU13) -> 42723.328 | E7: =IF('Cálculos '!AV13="","",'Cálculos '!AV13) -> 35743.967 | F7: =+IF(C7="","",C7) -> 53390 | H7: =IF(C7="","",IF(C7="","",+D7/C7)) -> 0.80021218 | I7: =IF(C7="","",SUM(E7/C7)) -> 0.66948805 | J7: =+IF(I7<=40%,E7,IF(AND(H7>40%,H7<60%),D7,C7)) -> 53390 | K7: =IF(C7="","",SUM(F7-J7)) -> 0
B8: =+B7+1 -> 6 | C8: =IF('Cálculos '!AR14="","",'Cálculos '!AR14) -> 122000 | D8: =IF('Cálculos '!AU14="","",'Cálculos '!AU14) -> 88226.824 | E8: =IF('Cálculos '!AV14="","",'Cálculos '!AV14) -> 68664.789 | F8: =+IF(C8="","",C8) -> 122000 | H8: =IF(C8="","",IF(C8="","",+D8/C8)) -> 0.72317068 | I8: =IF(C8="","",SUM(E8/C8)) -> 0.56282614 | J8: =+IF(I8<=40%,E8,IF(AND(H8>40%,H8<60%),D8,C8)) -> 122000 | K8: =IF(C8="","",SUM(F8-J8)) -> 0
B9: =+B8+1 -> 7 | C9: =IF('Cálculos '!AR15="","",'Cálculos '!AR15) -> 73800 | D9: =IF('Cálculos '!AU15="","",'Cálculos '!AU15) -> 43288.119 | E9: =IF('Cálculos '!AV15="","",'Cálculos '!AV15) -> 31682.508 | F9: =+IF(C9="","",C9) -> 73800 | H9: =IF(C9="","",IF(C9="","",+D9/C9)) -> 0.58655988 | I9: =IF(C9="","",SUM(E9/C9)) -> 0.42930228 | J9: =+IF(I9<=40%,E9,IF(AND(H9>40%,H9<60%),D9,C9)) -> 43288.119 | K9: =IF(C9="","",SUM(F9-J9)) -> 30511.881
B10: =+B9+1 -> 8 | C10: =IF('Cálculos '!AR16="","",'Cálculos '!AR16) -> 73800 | D10: =IF('Cálculos '!AU16="","",'Cálculos '!AU16) -> 43288.119 | E10: =IF('Cálculos '!AV16="","",'Cálculos '!AV16) -> 31682.508 | F10: =+IF(C10="","",C10) -> 73800 | H10: =IF(C10="","",IF(C10="","",+D10/C10)) -> 0.58655988 | I10: =IF(C10="","",SUM(E10/C10)) -> 0.42930228 | J10: =+IF(I10<=40%,E10,IF(AND(H10>40%,H10<60%),D10,C10)) -> 43288.119 | K10: =IF(C10="","",SUM(F10-J10)) -> 30511.881
B11: =+B10+1 -> 9 | C11: =IF('Cálculos '!AR17="","",'Cálculos '!AR17) -> 228200 | D11: =IF('Cálculos '!AU17="","",'Cálculos '!AU17) -> 180455.62 | E11: =IF('Cálculos '!AV17="","",'Cálculos '!AV17) -> 137749.41 | F11: =+IF(C11="","",C11) -> 228200 | H11: =IF(C11="","",IF(C11="","",+D11/C11)) -> 0.79077836 | I11: =IF(C11="","",SUM(E11/C11)) -> 0.60363457 | J11: =+IF(I11<=40%,E11,IF(AND(H11>40%,H11<60%),D11,C11)) -> 228200 | K11: =IF(C11="","",SUM(F11-J11)) -> 0
B12: =+B11+1 -> 10 | C12: =IF('Cálculos '!AR18="","",'Cálculos '!AR18) -> 280200 | D12: =IF('Cálculos '!AU18="","",'Cálculos '!AU18) -> 255835.02 | E12: =IF('Cálculos '!AV18="","",'Cálculos '!AV18) -> 234845.63 | F12: =+IF(C12="","",C12) -> 280200 | H12: =IF(C12="","",IF(C12="","",+D12/C12)) -> 0.91304431 | I12: =IF(C12="","",SUM(E12/C12)) -> 0.83813573 | J12: =+IF(I12<=40%,E12,IF(AND(H12>40%,H12<60%),D12,C12)) -> 280200 | K12: =IF(C12="","",SUM(F12-J12)) -> 0
B13: =+B12+1 -> 11 | C13: =IF('Cálculos '!AR19="","",'Cálculos '!AR19) -> 280200 | D13: =IF('Cálculos '!AU19="","",'Cálculos '!AU19) -> 255835.02 | E13: =IF('Cálculos '!AV19="","",'Cálculos '!AV19) -> 234845.63 | F13: =+IF(C13="","",C13) -> 280200 | H13: =IF(C13="","",IF(C13="","",+D13/C13)) -> 0.91304431 | I13: =IF(C13="","",SUM(E13/C13)) -> 0.83813573 | J13: =+IF(I13<=40%,E13,IF(AND(H13>40%,H13<60%),D13,C13)) -> 280200 | K13: =IF(C13="","",SUM(F13-J13)) -> 0
B14: =+B13+1 -> 12 | C14: =IF('Cálculos '!AR20="","",'Cálculos '!AR20) -> 117780 | D14: =IF('Cálculos '!AU20="","",'Cálculos '!AU20) -> 97007.961 | E14: =IF('Cálculos '!AV20="","",'Cálculos '!AV20) -> 81611.329 | F14: =+IF(C14="","",C14) -> 117780 | H14: =IF(C14="","",IF(C14="","",+D14/C14)) -> 0.82363696 | I14: =IF(C14="","",SUM(E14/C14)) -> 0.69291331 | J14: =+IF(I14<=40%,E14,IF(AND(H14>40%,H14<60%),D14,C14)) -> 117780 | K14: =IF(C14="","",SUM(F14-J14)) -> 0
B15: =+B14+1 -> 13 | C15: =IF('Cálculos '!AR21="","",'Cálculos '!AR21) -> 210140 | D15: =IF('Cálculos '!AU21="","",'Cálculos '!AU21) -> 175373.32 | E15: =IF('Cálculos '!AV21="","",'Cálculos '!AV21) -> 156617.94 | F15: =+IF(C15="","",C15) -> 210140 | H15: =IF(C15="","",IF(C15="","",+D15/C15)) -> 0.8345547 | I15: =IF(C15="","",SUM(E15/C15)) -> 0.74530286 | J15: =+IF(I15<=40%,E15,IF(AND(H15>40%,H15<60%),D15,C15)) -> 210140 | K15: =IF(C15="","",SUM(F15-J15)) -> 0
... B1102: =+B1101+1 -> 1100 | C1102: =IF('Cálculos '!AR1108="","",'Cálculos '!AR1108) | D1102: =IF('Cálculos '!AU1108="","",'Cálculos '!AU1108) | E1102: =IF('Cálculos '!AV1108="","",'Cálculos '!AV1108) | F1102: =+IF(C1102="","",C1102) | H1102: =IF(C1102="","",IF(C1102="","",+D1102/C1102)) | I1102: =IF(C1102="","",SUM(E1102/C1102)) | J1102: =+IF(I1102<=40%,E1102,IF(AND(H1102>40%,H1102<60%),D1102,C1102)) | K1102: =IF(C1102="","",SUM(F1102-J1102))
B1103: TOTAL | C1103: =SUM(C3:C1102) -> 10372690 | D1103: =SUM(D3:D1102) -> 8693992.2 | E1103: =SUM(E3:E1102) -> 7679598 | F1103: =SUM(F3:F1102) -> 10372690

Sheet Variación 
B1: COTIZACIONES | C1: =+'Cálculos '!J7 -> COTIZACION 1 | D1: =+'Cálculos '!K7 -> COTIZACION 2 | E1: =+'Cálculos '!L7 -> COTIZACION 3 | F1: =+'Cálculos '!M7 -> COTIZACION 4 | G1: =+'Cálculos '!N7 -> COTIZACION 5 | H1: =+'Cálculos '!O7 -> COTIZACION 6 | I1: =+'Cálculos '!P7 -> COTIZACION 7 | J1: =+'Cálculos '!Q7 -> COTIZACION 8 | ... AJ1: =+'Cálculos '!AQ7 -> COTIZACION 33 | AM1: =+B1 -> COTIZACIONES | AN1: =+C1 -> COTIZACION 1 | AO1: =+D1 -> COTIZACION 2 | AP1: =+E1 -> COTIZACION 3 | AQ1: =+F1 -> COTIZACION 4 | AR1: =+G1 -> COTIZACION 5 | AS1: =+H1 -> COTIZACION 6 | AT1: =+I1 -> COTIZACION 7 | ... BU1: =+AJ1 -> COTIZACION 33
B2: Item | C2: =IF('Cálculos '!J8="","",+'Cálculos '!J8) -> A. S. MEDICAL LTDA | D2: =IF('Cálculos '!K8="","",+'Cálculos '!K8) -> SIBERMEDICAL SAS | E2: =IF('Cálculos '!L8="","",+'Cálculos '!L8) -> INGENIERIA Y MANTENIMIENTO COLOMBIANO SAS - IMC | F2: =IF('Cálculos '!M8="","",+'Cálculos '!M8) -> JOTA MEDICS SAS | G2: =IF('Cálculos '!N8="","",+'Cálculos '!N8) -> MANUFACTURAS LUCOLDI SAS | H2: =IF('Cálculos '!O8="","",+'Cálculos '!O8) | I2: =IF('Cálculos '!P8="","",+'Cálculos '!P8) | J2: =IF('Cálculos '!Q8="","",+'Cálculos '!Q8) | ... AJ2: =IF('Cálculos '!AQ8="","",+'Cálculos '!AQ8) | AK2: % de variación promedio por Ítem | AM2: Item | AN2: =+C2 -> A. S. MEDICAL LTDA | AO2: =+D2 -> SIBERMEDICAL SAS | AP2: =+E2 -> INGENIERIA Y MANTENIMIENTO COLOMBIANO SAS - IMC | AQ2: =+F2 -> JOTA MEDICS SAS | AR2: =+G2 -> MANUFACTURAS LUCOLDI SAS | AS2: =+H2 | AT2: =+I2 | AU2: =+J2 | ... BU2: =+AJ2 | BV2: % de variación promedio por Ítem
B3: 1 | C3: =IF('Cálculos '!J9="","",'Cálculos '!J9) -> 255000 | D3: =IF('Cálculos '!K9="","",'Cálculos '!K9) -> 375600 | E3: =IF('Cálculos '!L9="","",'Cálculos '!L9) -> 260000 | F3: =IF('Cálculos '!M9="","",'Cálculos '!M9) -> 281250 | G3: =IF('Cálculos '!N9="","",'Cálculos '!N9) -> 690000 | H3: =IF('Cálculos '!O9="","",'Cálculos '!O9) | I3: =IF('Cálculos '!P9="","",'Cálculos '!P9) | J3: =IF('Cálculos '!Q9="","",'Cálculos '!Q9) | ... AJ3: =IF('Cálculos '!AQ9="","",'Cálculos '!AQ9) | AK3: =IF('Cálculos '!D9="","",AVERAGE(C3:AJ3)) -> 372370 | AM3: 1 | AN3: =+IF(OR(C3=0,C3=""),"",SUM(C3-$AK3)/C3) -> -0.46027451 | AO3: =+IF(OR(D3=0,D3=""),"",SUM(D3-$AK3)/D3) -> 0.008599574 | AP3: =+IF(OR(E3=0,E3=""),"",SUM(E3-$AK3)/E3) -> -0.43219231 | AQ3: =+IF(OR(F3=0,F3=""),"",SUM(F3-$AK3)/F3) -> -0.32398222 | AR3: =+IF(OR(G3=0,G3=""),"",SUM(G3-$AK3)/G3) -> 0.46033333 | AS3: =+IF(OR(H3=0,H3=""),"",SUM(H3-$AK3)/H3) | AT3: =+IF(OR(I3=0,I3=""),"",SUM(I3-$AK3)/I3) | AU3: =+IF(OR(J3=0,J3=""),"",SUM(J3-$AK3)/J3) | ... BU3: =+IF(OR(AJ3=0,AJ3=""),"",SUM(AJ3-$AK3)/AJ3) | BV3: =IF('Cálculos '!D9="","",AVERAGE(AN3:BU3)) -> -0.14950323
B4: =+B3+1 -> 2 | C4: =IF('Cálculos '!J10="","",'Cálculos '!J10) -> 275000 | D4: =IF('Cálculos '!K10="","",'Cálculos '!K10) -> 380000 | E4: =IF('Cálculos '!L10="","",'Cálculos '!L10) -> 275000 | F4: =IF('Cálculos '!M10="","",'Cálculos '!M10) -> 356000 | G4: =IF('Cálculos '!N10="","",'Cálculos '!N10) -> 730000 | H4: =IF('Cálculos '!O10="","",'Cálculos '!O10) | I4: =IF('Cálculos '!P10="","",'Cálculos '!P10) | J4: =IF('Cálculos '!Q10="","",'Cálculos '!Q10) | ... AJ4: =IF('Cálculos '!AQ10="","",'Cálculos '!AQ10) | AK4: =IF('Cálculos '!D10="","",AVERAGE(C4:AJ4)) -> 403200 | AM4: =+AM3+1 -> 2 | AN4: =+IF(OR(C4=0,C4=""),"",SUM(C4-$AK4)/C4) -> -0.46618182 | AO4: =+IF(OR(D4=0,D4=""),"",SUM(D4-$AK4)/D4) -> -0.061052632 | AP4: =+IF(OR(E4=0,E4=""),"",SUM(E4-$AK4)/E4) -> -0.46618182 | AQ4: =+IF(OR(F4=0,F4=""),"",SUM(F4-$AK4)/F4) -> -0.13258427 | AR4: =+IF(OR(G4=0,G4=""),"",SUM(G4-$AK4)/G4) -> 0.44767123 | AS4: =+IF(OR(H4=0,H4=""),"",SUM(H4-$AK4)/H4) | AT4: =+IF(OR(I4=0,I4=""),"",SUM(I4-$AK4)/I4) | AU4: =+IF(OR(J4=0,J4=""),"",SUM(J4-$AK4)/J4) | ... BU4: =+IF(OR(AJ4=0,AJ4=""),"",SUM(AJ4-$AK4)/AJ4) | BV4: =IF('Cálculos '!D10="","",AVERAGE(AN4:BU4)) -> -0.13566586
B5: =+B4+1 -> 3 | C5: =IF('Cálculos '!J11="","",'Cálculos '!J11) -> 266500 | D5: =IF('Cálculos '!K11="","",'Cálculos '!K11) -> 357000 | E5: =IF('Cálculos '!L11="","",'Cálculos '!L11) -> 155000 | F5: =IF('Cálculos '!M11="","",'Cálculos '!M11) -> 128450 | G5: =IF('Cálculos '!N11="","",'Cálculos '!N11) -> 508000 | H5: =IF('Cálculos '!O11="","",'Cálculos '!O11) | I5: =IF('Cálculos '!P11="","",'Cálculos '!P11) | J5: =IF('Cálculos '!Q11="","",'Cálculos '!Q11) | ... AJ5: =IF('Cálculos '!AQ11="","",'Cálculos '!AQ11) | AK5: =IF('Cálculos '!D11="","",AVERAGE(C5:AJ5)) -> 282990 | AM5: =+AM4+1 -> 3 | AN5: =+IF(OR(C5=0,C5=""),"",SUM(C5-$AK5)/C5) -> -0.061876173 | AO5: =+IF(OR(D5=0,D5=""),"",SUM(D5-$AK5)/D5) -> 0.20731092 | AP5: =+IF(OR(E5=0,E5=""),"",SUM(E5-$AK5)/E5) -> -0.82574194 | AQ5: =+IF(OR(F5=0,F5=""),"",SUM(F5-$AK5)/F5) -> -1.2031141 | AR5: =+IF(OR(G5=0,G5=""),"",SUM(G5-$AK5)/G5) -> 0.44293307 | AS5: =+IF(OR(H5=0,H5=""),"",SUM(H5-$AK5)/H5) | AT5: =+IF(OR(I5=0,I5=""),"",SUM(I5-$AK5)/I5) | AU5: =+IF(OR(J5=0,J5=""),"",SUM(J5-$AK5)/J5) | ... BU5: =+IF(OR(AJ5=0,AJ5=""),"",SUM(AJ5-$AK5)/AJ5) | BV5: =IF('Cálculos '!D11="","",AVERAGE(AN5:BU5)) -> -0.28809763
B6: =+B5+1 -> 4 | C6: =IF('Cálculos '!J12="","",'Cálculos '!J12) -> 266500 | D6: =IF('Cálculos '!K12="","",'Cálculos '!K12) -> 357000 | E6: =IF('Cálculos '!L12="","",'Cálculos '!L12) -> 155000 | F6: =IF('Cálculos '!M12="","",'Cálculos '!M12) -> 128450 | G6: =IF('Cálculos '!N12="","",'Cálculos '!N12) -> 508000 | H6: =IF('Cálculos '!O12="","",'Cálculos '!O12) | I6: =IF('Cálculos '!P12="","",'Cálculos '!P12) | J6: =IF('Cálculos '!Q12="","",'Cálculos '!Q12) | ... AJ6: =IF('Cálculos '!AQ12="","",'Cálculos '!AQ12) | AK6: =IF('Cálculos '!D12="","",AVERAGE(C6:AJ6)) -> 282990 | AM6: =+AM5+1 -> 4 | AN6: =+IF(OR(C6=0,C6=""),"",SUM(C6-$AK6)/C6) -> -0.061876173 | AO6: =+IF(OR(D6=0,D6=""),"",SUM(D6-$AK6)/D6) -> 0.20731092 | AP6: =+IF(OR(E6=0,E6=""),"",SUM(E6-$AK6)/E6) -> -0.82574194 | AQ6: =+IF(OR(F6=0,F6=""),"",SUM(F6-$AK6)/F6) -> -1.2031141 | AR6: =+IF(OR(G6=0,G6=""),"",SUM(G6-$AK6)/G6) -> 0.44293307 | AS6: =+IF(OR(H6=0,H6=""),"",SUM(H6-$AK6)/H6) | AT6: =+IF(OR(I6=0,I6=""),"",SUM(I6-$AK6)/I6) | AU6: =+IF(OR(J6=0,J6=""),"",SUM(J6-$AK6)/J6) | ... BU6: =+IF(OR(AJ6=0,AJ6=""),"",SUM(AJ6-$AK6)/AJ6) | BV6: =IF('Cálculos '!D12="","",AVERAGE(AN6:BU6)) -> -0.28809763
B7: =+B6+1 -> 5 | C7: =IF('Cálculos '!J13="","",'Cálculos '!J13) -> 36500 | D7: =IF('Cálculos '!K13="","",'Cálculos '!K13) -> 19000 | E7: =IF('Cálculos '!L13="","",'Cálculos '!L13) -> 30000 | F7: =IF('Cálculos '!M13="","",'Cálculos '!M13) -> 53450 | G7: =IF('Cálculos '!N13="","",'Cálculos '!N13) -> 128000 | H7: =IF('Cálculos '!O13="","",'Cálculos '!O13) | I7: =IF('Cálculos '!P13="","",'Cálculos '!P13) | J7: =IF('Cálculos '!Q13="","",'Cálculos '!Q13) | ... AJ7: =IF('Cálculos '!AQ13="","",'Cálculos '!AQ13) | AK7: =IF('Cálculos '!D13="","",AVERAGE(C7:AJ7)) -> 53390 | AM7: =+AM6+1 -> 5 | AN7: =+IF(OR(C7=0,C7=""),"",SUM(C7-$AK7)/C7) -> -0.46273973 | AO7: =+IF(OR(D7=0,D7=""),"",SUM(D7-$AK7)/D7) -> -1.81 | AP7: =+IF(OR(E7=0,E7=""),"",SUM(E7-$AK7)/E7) -> -0.77966667 | AQ7: =+IF(OR(F7=0,F7=""),"",SUM(F7-$AK7)/F7) -> 0.0011225444 | AR7: =+IF(OR(G7=0,G7=""),"",SUM(G7-$AK7)/G7) -> 0.58289062 | AS7: =+IF(OR(H7=0,H7=""),"",SUM(H7-$AK7)/H7) | AT7: =+IF(OR(I7=0,I7=""),"",SUM(I7-$AK7)/I7) | AU7: =+IF(OR(J7=0,J7=""),"",SUM(J7-$AK7)/J7) | ... BU7: =+IF(OR(AJ7=0,AJ7=""),"",SUM(AJ7-$AK7)/AJ7) | BV7: =IF('Cálculos '!D13="","",AVERAGE(AN7:BU7)) -> -0.49367864
B8: =+B7+1 -> 6 | C8: =IF('Cálculos '!J14="","",'Cálculos '!J14) -> 64000 | D8: =IF('Cálculos '!K14="","",'Cálculos '!K14) -> 33000 | E8: =IF('Cálculos '!L14="","",'Cálculos '!L14) -> 65000 | F8: =IF('Cálculos '!M14="","",'Cálculos '!M14) -> 118000 | G8: =IF('Cálculos '!N14="","",'Cálculos '!N14) -> 330000 | H8: =IF('Cálculos '!O14="","",'Cálculos '!O14) | I8: =IF('Cálculos '!P14="","",'Cálculos '!P14) | J8: =IF('Cálculos '!Q14="","",'Cálculos '!Q14) | ... AJ8: =IF('Cálculos '!AQ14="","",'Cálculos '!AQ14) | AK8: =IF('Cálculos '!D14="","",AVERAGE(C8:AJ8)) -> 122000 | AM8: =+AM7+1 -> 6 | AN8: =+IF(OR(C8=0,C8=""),"",SUM(C8-$AK8)/C8) -> -0.90625 | AO8: =+IF(OR(D8=0,D8=""),"",SUM(D8-$AK8)/D8) -> -2.6969697 | AP8: =+IF(OR(E8=0,E8=""),"",SUM(E8-$AK8)/E8) -> -0.87692308 | AQ8: =+IF(OR(F8=0,F8=""),"",SUM(F8-$AK8)/F8) -> -0.033898305 | AR8: =+IF(OR(G8=0,G8=""),"",SUM(G8-$AK8)/G8) -> 0.63030303 | AS8: =+IF(OR(H8=0,H8=""),"",SUM(H8-$AK8)/H8) | AT8: =+IF(OR(I8=0,I8=""),"",SUM(I8-$AK8)/I8) | AU8: =+IF(OR(J8=0,J8=""),"",SUM(J8-$AK8)/J8) | ... BU8: =+IF(OR(AJ8=0,AJ8=""),"",SUM(AJ8-$AK8)/AJ8) | BV8: =IF('Cálculos '!D14="","",AVERAGE(AN8:BU8)) -> -0.77674761
B9: =+B8+1 -> 7 | C9: =IF('Cálculos '!J15="","",'Cálculos '!J15) -> 25000 | D9: =IF('Cálculos '!K15="","",'Cálculos '!K15) -> 16000 | E9: =IF('Cálculos '!L15="","",'Cálculos '!L15) -> 40000 | F9: =IF('Cálculos '!M15="","",'Cálculos '!M15) -> 38000 | G9: =IF('Cálculos '!N15="","",'Cálculos '!N15) -> 250000 | H9: =IF('Cálculos '!O15="","",'Cálculos '!O15) | I9: =IF('Cálculos '!P15="","",'Cálculos '!P15) | J9: =IF('Cálculos '!Q15="","",'Cálculos '!Q15) | ... AJ9: =IF('Cálculos '!AQ15="","",'Cálculos '!AQ15) | AK9: =IF('Cálculos '!D15="","",AVERAGE(C9:AJ9)) -> 73800 | AM9: =+AM8+1 -> 7 | AN9: =+IF(OR(C9=0,C9=""),"",SUM(C9-$AK9)/C9) -> -1.952 | AO9: =+IF(OR(D9=0,D9=""),"",SUM(D9-$AK9)/D9) -> -3.6125 | AP9: =+IF(OR(E9=0,E9=""),"",SUM(E9-$AK9)/E9) -> -0.845 | AQ9: =+IF(OR(F9=0,F9=""),"",SUM(F9-$AK9)/F9) -> -0.94210526 | AR9: =+IF(OR(G9=0,G9=""),"",SUM(G9-$AK9)/G9) -> 0.7048 | AS9: =+IF(OR(H9=0,H9=""),"",SUM(H9-$AK9)/H9) | AT9: =+IF(OR(I9=0,I9=""),"",SUM(I9-$AK9)/I9) | AU9: =+IF(OR(J9=0,J9=""),"",SUM(J9-$AK9)/J9) | ... BU9: =+IF(OR(AJ9=0,AJ9=""),"",SUM(AJ9-$AK9)/AJ9) | BV9: =IF('Cálculos '!D15="","",AVERAGE(AN9:BU9)) -> -1.3293611
B10: =+B9+1 -> 8 | C10: =IF('Cálculos '!J16="","",'Cálculos '!J16) -> 25000 | D10: =IF('Cálculos '!K16="","",'Cálculos '!K16) -> 16000 | E10: =IF('Cálculos '!L16="","",'Cálculos '!L16) -> 40000 | F10: =IF('Cálculos '!M16="","",'Cálculos '!M16) -> 38000 | G10: =IF('Cálculos '!N16="","",'Cálculos '!N16) -> 250000 | H10: =IF('Cálculos '!O16="","",'Cálculos '!O16) | I10: =IF('Cálculos '!P16="","",'Cálculos '!P16) | J10: =IF('Cálculos '!Q16="","",'Cálculos '!Q16) | ... AJ10: =IF('Cálculos '!AQ16="","",'Cálculos '!AQ16) | AK10: =IF('Cálculos '!D16="","",AVERAGE(C10:AJ10)) -> 73800 | AM10: =+AM9+1 -> 8 | AN10: =+IF(OR(C10=0,C10=""),"",SUM(C10-$AK10)/C10) -> -1.952 | AO10: =+IF(OR(D10=0,D10=""),"",SUM(D10-$AK10)/D10) -> -3.6125 | AP10: =+IF(OR(E10=0,E10=""),"",SUM(E10-$AK10)/E10) -> -0.845 | AQ10: =+IF(OR(F10=0,F10=""),"",SUM(F10-$AK10)/F10) -> -0.94210526 | AR10: =+IF(OR(G10=0,G10=""),"",SUM(G10-$AK10)/G10) -> 0.7048 | AS10: =+IF(OR(H10=0,H10=""),"",SUM(H10-$AK10)/H10) | AT10: =+IF(OR(I10=0,I10=""),"",SUM(I10-$AK10)/I10) | AU10: =+IF(OR(J10=0,J10=""),"",SUM(J10-$AK10)/J10) | ... BU10: =+IF(OR(AJ10=0,AJ10=""),"",SUM(AJ10-$AK10)/AJ10) | BV10: =IF('Cálculos '!D16="","",AVERAGE(AN10:BU10)) -> -1.3293611
B11: =+B10+1 -> 9 | C11: =IF('Cálculos '!J17="","",'Cálculos '!J17) -> 55000 | D11: =IF('Cálculos '!K17="","",'Cálculos '!K17) -> 228000 | E11: =IF('Cálculos '!L17="","",'Cálculos '!L17) -> 140000 | F11: =IF('Cálculos '!M17="","",'Cálculos '!M17) -> 218000 | G11: =IF('Cálculos '!N17="","",'Cálculos '!N17) -> 500000 | H11: =IF('Cálculos '!O17="","",'Cálculos '!O17) | I11: =IF('Cálculos '!P17="","",'Cálculos '!P17) | J11: =IF('Cálculos '!Q17="","",'Cálculos '!Q17) | ... AJ11: =IF('Cálculos '!AQ17="","",'Cálculos '!AQ17) | AK11: =IF('Cálculos '!D17="","",AVERAGE(C11:AJ11)) -> 228200 | AM11: =+AM10+1 -> 9 | AN11: =+IF(OR(C11=0,C11=""),"",SUM(C11-$AK11)/C11) -> -3.1490909 | AO11: =+IF(OR(D11=0,D11=""),"",SUM(D11-$AK11)/D11) -> -0.00087719298 | AP11: =+IF(OR(E11=0,E11=""),"",SUM(E11-$AK11)/E11) -> -0.63 | AQ11: =+IF(OR(F11=0,F11=""),"",SUM(F11-$AK11)/F11) -> -0.046788991 | AR11: =+IF(OR(G11=0,G11=""),"",SUM(G11-$AK11)/G11) -> 0.5436 | AS11: =+IF(OR(H11=0,H11=""),"",SUM(H11-$AK11)/H11) | AT11: =+IF(OR(I11=0,I11=""),"",SUM(I11-$AK11)/I11) | AU11: =+IF(OR(J11=0,J11=""),"",SUM(J11-$AK11)/J11) | ... BU11: =+IF(OR(AJ11=0,AJ11=""),"",SUM(AJ11-$AK11)/AJ11) | BV11: =IF('Cálculos '!D17="","",AVERAGE(AN11:BU11)) -> -0.65663142
B12: =+B11+1 -> 10 | C12: =IF('Cálculos '!J18="","",'Cálculos '!J18) -> 315000 | D12: =IF('Cálculos '!K18="","",'Cálculos '!K18) -> 228000 | E12: =IF('Cálculos '!L18="","",'Cálculos '!L18) -> 140000 | F12: =IF('Cálculos '!M18="","",'Cálculos '!M18) -> 218000 | G12: =IF('Cálculos '!N18="","",'Cálculos '!N18) -> 500000 | H12: =IF('Cálculos '!O18="","",'Cálculos '!O18) | I12: =IF('Cálculos '!P18="","",'Cálculos '!P18) | J12: =IF('Cálculos '!Q18="","",'Cálculos '!Q18) | ... AJ12: =IF('Cálculos '!AQ18="","",'Cálculos '!AQ18) | AK12: =IF('Cálculos '!D18="","",AVERAGE(C12:AJ12)) -> 280200 | AM12: =+AM11+1 -> 10 | AN12: =+IF(OR(C12=0,C12=""),"",SUM(C12-$AK12)/C12) -> 0.11047619 | AO12: =+IF(OR(D12=0,D12=""),"",SUM(D12-$AK12)/D12) -> -0.22894737 | AP12: =+IF(OR(E12=0,E12=""),"",SUM(E12-$AK12)/E12) -> -1.0014286 | AQ12: =+IF(OR(F12=0,F12=""),"",SUM(F12-$AK12)/F12) -> -0.2853211 | AR12: =+IF(OR(G12=0,G12=""),"",SUM(G12-$AK12)/G12) -> 0.4396 | AS12: =+IF(OR(H12=0,H12=""),"",SUM(H12-$AK12)/H12) | AT12: =+IF(OR(I12=0,I12=""),"",SUM(I12-$AK12)/I12) | AU12: =+IF(OR(J12=0,J12=""),"",SUM(J12-$AK12)/J12) | ... BU12: =+IF(OR(AJ12=0,AJ12=""),"",SUM(AJ12-$AK12)/AJ12) | BV12: =IF('Cálculos '!D18="","",AVERAGE(AN12:BU12)) -> -0.19312417
B13: =+B12+1 -> 11 | C13: =IF('Cálculos '!J19="","",'Cálculos '!J19) -> 315000 | D13: =IF('Cálculos '!K19="","",'Cálculos '!K19) -> 228000 | E13: =IF('Cálculos '!L19="","",'Cálculos '!L19) -> 140000 | F13: =IF('Cálculos '!M19="","",'Cálculos '!M19) -> 218000 | G13: =IF('Cálculos '!N19="","",'Cálculos '!N19) -> 500000 | H13: =IF('Cálculos '!O19="","",'Cálculos '!O19) | I13: =IF('Cálculos '!P19="","",'Cálculos '!P19) | J13: =IF('Cálculos '!Q19="","",'Cálculos '!Q19) | ... AJ13: =IF('Cálculos '!AQ19="","",'Cálculos '!AQ19) | AK13: =IF('Cálculos '!D19="","",AVERAGE(C13:AJ13)) -> 280200 | AM13: =+AM12+1 -> 11 | AN13: =+IF(OR(C13=0,C13=""),"",SUM(C13-$AK13)/C13) -> 0.11047619 | AO13: =+IF(OR(D13=0,D13=""),"",SUM(D13-$AK13)/D13) -> -0.22894737 | AP13: =+IF(OR(E13=0,E13=""),"",SUM(E13-$AK13)/E13) -> -1.0014286 | AQ13: =+IF(OR(F13=0,F13=""),"",SUM(F13-$AK13)/F13) -> -0.2853211 | AR13: =+IF(OR(G13=0,G13=""),"",SUM(G13-$AK13)/G13) -> 0.4396 | AS13: =+IF(OR(H13=0,H13=""),"",SUM(H13-$AK13)/H13) | AT13: =+IF(OR(I13=0,I13=""),"",SUM(I13-$AK13)/I13) | AU13: =+IF(OR(J13=0,J13=""),"",SUM(J13-$AK13)/J13) | ... BU13: =+IF(OR(AJ13=0,AJ13=""),"",SUM(AJ13-$AK13)/AJ13) | BV13: =IF('Cálculos '!D19="","",AVERAGE(AN13:BU13)) -> -0.19312417
B14: =+B13+1 -> 12 | C14: =IF('Cálculos '!J20="","",'Cálculos '!J20) -> 135000 | D14: =IF('Cálculos '!K20="","",'Cálculos '!K20) -> 42300 | E14: =IF('Cálculos '!L20="","",'Cálculos '!L20) -> 85000 | F14: =IF('Cálculos '!M20="","",'Cálculos '!M20) -> 68600 | G14: =IF('Cálculos '!N20="","",'Cálculos '!N20) -> 258000 | H14: =IF('Cálculos '!O20="","",'Cálculos '!O20) | I14: =IF('Cálculos '!P20="","",'Cálculos '!P20) | J14: =IF('Cálculos '!Q20="","",'Cálculos '!Q20) | ... AJ14: =IF('Cálculos '!AQ20="","",'Cálculos '!AQ20) | AK14: =IF('Cálculos '!D20="","",AVERAGE(C14:AJ14)) -> 117780 | AM14: =+AM13+1 -> 12 | AN14: =+IF(OR(C14=0,C14=""),"",SUM(C14-$AK14)/C14) -> 0.12755556 | AO14: =+IF(OR(D14=0,D14=""),"",SUM(D14-$AK14)/D14) -> -1.7843972 | AP14: =+IF(OR(E14=0,E14=""),"",SUM(E14-$AK14)/E14) -> -0.38564706 | AQ14: =+IF(OR(F14=0,F14=""),"",SUM(F14-$AK14)/F14) -> -0.71690962 | AR14: =+IF(OR(G14=0,G14=""),"",SUM(G14-$AK14)/G14) -> 0.54348837 | AS14: =+IF(OR(H14=0,H14=""),"",SUM(H14-$AK14)/H14) | AT14: =+IF(OR(I14=0,I14=""),"",SUM(I14-$AK14)/I14) | AU14: =+IF(OR(J14=0,J14=""),"",SUM(J14-$AK14)/J14) | ... BU14: =+IF(OR(AJ14=0,AJ14=""),"",SUM(AJ14-$AK14)/AJ14) | BV14: =IF('Cálculos '!D20="","",AVERAGE(AN14:BU14)) -> -0.44318198
B15: =+B14+1 -> 13 | C15: =IF('Cálculos '!J21="","",'Cálculos '!J21) -> 163000 | D15: =IF('Cálculos '!K21="","",'Cálculos '!K21) -> 126200 | E15: =IF('Cálculos '!L21="","",'Cálculos '!L21) -> 125000 | F15: =IF('Cálculos '!M21="","",'Cálculos '!M21) -> 126500 | G15: =IF('Cálculos '!N21="","",'Cálculos '!N21) -> 510000 | H15: =IF('Cálculos '!O21="","",'Cálculos '!O21) | I15: =IF('Cálculos '!P21="","",'Cálculos '!P21) | J15: =IF('Cálculos '!Q21="","",'Cálculos '!Q21) | ... AJ15: =IF('Cálculos '!AQ21="","",'Cálculos '!AQ21) | AK15: =IF('Cálculos '!D21="","",AVERAGE(C15:AJ15)) -> 210140 | AM15: =+AM14+1 -> 13 | AN15: =+IF(OR(C15=0,C15=""),"",SUM(C15-$AK15)/C15) -> -0.28920245 | AO15: =+IF(OR(D15=0,D15=""),"",SUM(D15-$AK15)/D15) -> -0.66513471 | AP15: =+IF(OR(E15=0,E15=""),"",SUM(E15-$AK15)/E15) -> -0.68112 | AQ15: =+IF(OR(F15=0,F15=""),"",SUM(F15-$AK15)/F15) -> -0.66118577 | AR15: =+IF(OR(G15=0,G15=""),"",SUM(G15-$AK15)/G15) -> 0.58796078 | AS15: =+IF(OR(H15=0,H15=""),"",SUM(H15-$AK15)/H15) | AT15: =+IF(OR(I15=0,I15=""),"",SUM(I15-$AK15)/I15) | AU15: =+IF(OR(J15=0,J15=""),"",SUM(J15-$AK15)/J15) | ... BU15: =+IF(OR(AJ15=0,AJ15=""),"",SUM(AJ15-$AK15)/AJ15) | BV15: =IF('Cálculos '!D21="","",AVERAGE(AN15:BU15)) -> -0.34173643
... B22: =+B21+1 -> 20 | C22: =IF('Cálculos '!J28="","",'Cálculos '!J28) -> 64000 | D22: =IF('Cálculos '!K28="","",'Cálculos '!K28) -> 51000 | E22: =IF('Cálculos '!L28="","",'Cálculos '!L28) -> 60000 | F22: =IF('Cálculos '!M28="","",'Cálculos '!M28) -> 118000 | G22: =IF('Cálculos '!N28="","",'Cálculos '!N28) -> 780000 | H22: =IF('Cálculos '!O28="","",'Cálculos '!O28) | I22: =IF('Cálculos '!P28="","",'Cálculos '!P28) | J22: =IF('Cálculos '!Q28="","",'Cálculos '!Q28) | ... AJ22: =IF('Cálculos '!AQ28="","",'Cálculos '!AQ28) | AK22: =IF('Cálculos '!D28="","",AVERAGE(C22:AJ22)) -> 214600 | AM22: =+AM21+1 -> 20 | AN22: =+IF(OR(C22=0,C22=""),"",SUM(C22-$AK22)/C22) -> -2.353125 | AO22: =+IF(OR(D22=0,D22=""),"",SUM(D22-$AK22)/D22) -> -3.2078431 | AP22: =+IF(OR(E22=0,E22=""),"",SUM(E22-$AK22)/E22) -> -2.5766667 | AQ22: =+IF(OR(F22=0,F22=""),"",SUM(F22-$AK22)/F22) -> -0.81864407 | AR22: =+IF(OR(G22=0,G22=""),"",SUM(G22-$AK22)/G22) -> 0.72487179 | AS22: =+IF(OR(H22=0,H22=""),"",SUM(H22-$AK22)/H22) | AT22: =+IF(OR(I22=0,I22=""),"",SUM(I22-$AK22)/I22) | AU22: =+IF(OR(J22=0,J22=""),"",SUM(J22-$AK22)/J22) | ... BU22: =+IF(OR(AJ22=0,AJ22=""),"",SUM(AJ22-$AK22)/AJ22) | BV22: =IF('Cálculos '!D28="","",AVERAGE(AN22:BU22)) -> -1.6462814
B23: =+B22+1 -> 21 | C23: =IF('Cálculos '!J29="","",'Cálculos '!J29) | D23: =IF('Cálculos '!K29="","",'Cálculos '!K29) | E23: =IF('Cálculos '!L29="","",'Cálculos '!L29) | F23: =IF('Cálculos '!M29="","",'Cálculos '!M29) | G23: =IF('Cálculos '!N29="","",'Cálculos '!N29) | H23: =IF('Cálculos '!O29="","",'Cálculos '!O29) | I23: =IF('Cálculos '!P29="","",'Cálculos '!P29) | J23: =IF('Cálculos '!Q29="","",'Cálculos '!Q29) | ... AJ23: =IF('Cálculos '!AQ29="","",'Cálculos '!AQ29) | AK23: =IF('Cálculos '!D29="","",AVERAGE(C23:AJ23)) | AM23: =+AM22+1 -> 21 | AN23: =+IF(OR(C23=0,C23=""),"",SUM(C23-$AK23)/C23) | AO23: =+IF(OR(D23=0,D23=""),"",SUM(D23-$AK23)/D23) | AP23: =+IF(OR(E23=0,E23=""),"",SUM(E23-$AK23)/E23) | AQ23: =+IF(OR(F23=0,F23=""),"",SUM(F23-$AK23)/F23) | AR23: =+IF(OR(G23=0,G23=""),"",SUM(G23-$AK23)/G23) | AS23: =+IF(OR(H23=0,H23=""),"",SUM(H23-$AK23)/H23) | AT23: =+IF(OR(I23=0,I23=""),"",SUM(I23-$AK23)/I23) | AU23: =+IF(OR(J23=0,J23=""),"",SUM(J23-$AK23)/J23) | ... BU23: =+IF(OR(AJ23=0,AJ23=""),"",SUM(AJ23-$AK23)/AJ23) | BV23: =IF('Cálculos '!C29="","",AVERAGE(AN23:BU23))
B24: =+B23+1 -> 22 | C24: =IF('Cálculos '!J30="","",'Cálculos '!J30) | D24: =IF('Cálculos '!K30="","",'Cálculos '!K30) | E24: =IF('Cálculos '!L30="","",'Cálculos '!L30) | F24: =IF('Cálculos '!M30="","",'Cálculos '!M30) | G24: =IF('Cálculos '!N30="","",'Cálculos '!N30) | H24: =IF('Cálculos '!O30="","",'Cálculos '!O30) | I24: =IF('Cálculos '!P30="","",'Cálculos '!P30) | J24: =IF('Cálculos '!Q30="","",'Cálculos '!Q30) | ... AJ24: =IF('Cálculos '!AQ30="","",'Cálculos '!AQ30) | AK24: =IF('Cálculos '!D30="","",AVERAGE(C24:AJ24)) | AM24: =+AM23+1 -> 22 | AN24: =+IF(OR(C24=0,C24=""),"",SUM(C24-$AK24)/C24) | AO24: =+IF(OR(D24=0,D24=""),"",SUM(D24-$AK24)/D24) | AP24: =+IF(OR(E24=0,E24=""),"",SUM(E24-$AK24)/E24) | AQ24: =+IF(OR(F24=0,F24=""),"",SUM(F24-$AK24)/F24) | AR24: =+IF(OR(G24=0,G24=""),"",SUM(G24-$AK24)/G24) | AS24: =+IF(OR(H24=0,H24=""),"",SUM(H24-$AK24)/H24) | AT24: =+IF(OR(I24=0,I24=""),"",SUM(I24-$AK24)/I24) | AU24: =+IF(OR(J24=0,J24=""),"",SUM(J24-$AK24)/J24) | ... BU24: =+IF(OR(AJ24=0,AJ24=""),"",SUM(AJ24-$AK24)/AJ24) | BV24: =IF('Cálculos '!C30="","",AVERAGE(AN24:BU24))
B25: =+B24+1 -> 23 | C25: =IF('Cálculos '!J31="","",'Cálculos '!J31) | D25: =IF('Cálculos '!K31="","",'Cálculos '!K31) | E25: =IF('Cálculos '!L31="","",'Cálculos '!L31) | F25: =IF('Cálculos '!M31="","",'Cálculos '!M31) | G25: =IF('Cálculos '!N31="","",'Cálculos '!N31) | H25: =IF('Cálculos '!O31="","",'Cálculos '!O31) | I25: =IF('Cálculos '!P31="","",'Cálculos '!P31) | J25: =IF('Cálculos '!Q31="","",'Cálculos '!Q31) | ... AJ25: =IF('Cálculos '!AQ31="","",'Cálculos '!AQ31) | AK25: =IF('Cálculos '!D31="","",AVERAGE(C25:AJ25)) | AM25: =+AM24+1 -> 23 | AN25: =+IF(OR(C25=0,C25=""),"",SUM(C25-$AK25)/C25) | AO25: =+IF(OR(D25=0,D25=""),"",SUM(D25-$AK25)/D25) | AP25: =+IF(OR(E25=0,E25=""),"",SUM(E25-$AK25)/E25) | AQ25: =+IF(OR(F25=0,F25=""),"",SUM(F25-$AK25)/F25) | AR25: =+IF(OR(G25=0,G25=""),"",SUM(G25-$AK25)/G25) | AS25: =+IF(OR(H25=0,H25=""),"",SUM(H25-$AK25)/H25) | AT25: =+IF(OR(I25=0,I25=""),"",SUM(I25-$AK25)/I25) | AU25: =+IF(OR(J25=0,J25=""),"",SUM(J25-$AK25)/J25) | ... BU25: =+IF(OR(AJ25=0,AJ25=""),"",SUM(AJ25-$AK25)/AJ25) | BV25: =IF('Cálculos '!C31="","",AVERAGE(AN25:BU25))
B26: =+B25+1 -> 24 | C26: =IF('Cálculos '!J32="","",'Cálculos '!J32) | D26: =IF('Cálculos '!K32="","",'Cálculos '!K32) | E26: =IF('Cálculos '!L32="","",'Cálculos '!L32) | F26: =IF('Cálculos '!M32="","",'Cálculos '!M32) | G26: =IF('Cálculos '!N32="","",'Cálculos '!N32) | H26: =IF('Cálculos '!O32="","",'Cálculos '!O32) | I26: =IF('Cálculos '!P32="","",'Cálculos '!P32) | J26: =IF('Cálculos '!Q32="","",'Cálculos '!Q32) | ... AJ26: =IF('Cálculos '!AQ32="","",'Cálculos '!AQ32) | AK26: =IF('Cálculos '!D32="","",AVERAGE(C26:AJ26)) | AM26: =+AM25+1 -> 24 | AN26: =+IF(OR(C26=0,C26=""),"",SUM(C26-$AK26)/C26) | AO26: =+IF(OR(D26=0,D26=""),"",SUM(D26-$AK26)/D26) | AP26: =+IF(OR(E26=0,E26=""),"",SUM(E26-$AK26)/E26) | AQ26: =+IF(OR(F26=0,F26=""),"",SUM(F26-$AK26)/F26) | AR26: =+IF(OR(G26=0,G26=""),"",SUM(G26-$AK26)/G26) | AS26: =+IF(OR(H26=0,H26=""),"",SUM(H26-$AK26)/H26) | AT26: =+IF(OR(I26=0,I26=""),"",SUM(I26-$AK26)/I26) | AU26: =+IF(OR(J26=0,J26=""),"",SUM(J26-$AK26)/J26) | ... BU26: =+IF(OR(AJ26=0,AJ26=""),"",SUM(AJ26-$AK26)/AJ26) | BV26: =IF('Cálculos '!C32="","",AVERAGE(AN26:BU26))
B27: =+B26+1 -> 25 | C27: =IF('Cálculos '!J33="","",'Cálculos '!J33) | D27: =IF('Cálculos '!K33="","",'Cálculos '!K33) | E27: =IF('Cálculos '!L33="","",'Cálculos '!L33) | F27: =IF('Cálculos '!M33="","",'Cálculos '!M33) | G27: =IF('Cálculos '!N33="","",'Cálculos '!N33) | H27: =IF('Cálculos '!O33="","",'Cálculos '!O33) | I27: =IF('Cálculos '!P33="","",'Cálculos '!P33) | J27: =IF('Cálculos '!Q33="","",'Cálculos '!Q33) | ... AJ27: =IF('Cálculos '!AQ33="","",'Cálculos '!AQ33) | AK27: =IF('Cálculos '!D33="","",AVERAGE(C27:AJ27)) | AM27: =+AM26+1 -> 25 | AN27: =+IF(OR(C27=0,C27=""),"",SUM(C27-$AK27)/C27) | AO27: =+IF(OR(D27=0,D27=""),"",SUM(D27-$AK27)/D27) | AP27: =+IF(OR(E27=0,E27=""),"",SUM(E27-$AK27)/E27) | AQ27: =+IF(OR(F27=0,F27=""),"",SUM(F27-$AK27)/F27) | AR27: =+IF(OR(G27=0,G27=""),"",SUM(G27-$AK27)/G27) | AS27: =+IF(OR(H27=0,H27=""),"",SUM(H27-$AK27)/H27) | AT27: =+IF(OR(I27=0,I27=""),"",SUM(I27-$AK27)/I27) | AU27: =+IF(OR(J27=0,J27=""),"",SUM(J27-$AK27)/J27) | ... BU27: =+IF(OR(AJ27=0,AJ27=""),"",SUM(AJ27-$AK27)/AJ27) | BV27: =IF('Cálculos '!C33="","",AVERAGE(AN27:BU27))
B28: =+B27+1 -> 26 | C28: =IF('Cálculos '!J34="","",'Cálculos '!J34) | D28: =IF('Cálculos '!K34="","",'Cálculos '!K34) | E28: =IF('Cálculos '!L34="","",'Cálculos '!L34) | F28: =IF('Cálculos '!M34="","",'Cálculos '!M34) | G28: =IF('Cálculos '!N34="","",'Cálculos '!N34) | H28: =IF('Cálculos '!O34="","",'Cálculos '!O34) | I28: =IF('Cálculos '!P34="","",'Cálculos '!P34) | J28: =IF('Cálculos '!Q34="","",'Cálculos '!Q34) | ... AJ28: =IF('Cálculos '!AQ34="","",'Cálculos '!AQ34) | AK28: =IF('Cálculos '!D34="","",AVERAGE(C28:AJ28)) | AM28: =+AM27+1 -> 26 | AN28: =+IF(OR(C28=0,C28=""),"",SUM(C28-$AK28)/C28) | AO28: =+IF(OR(D28=0,D28=""),"",SUM(D28-$AK28)/D28) | AP28: =+IF(OR(E28=0,E28=""),"",SUM(E28-$AK28)/E28) | AQ28: =+IF(OR(F28=0,F28=""),"",SUM(F28-$AK28)/F28) | AR28: =+IF(OR(G28=0,G28=""),"",SUM(G28-$AK28)/G28) | AS28: =+IF(OR(H28=0,H28=""),"",SUM(H28-$AK28)/H28) | AT28: =+IF(OR(I28=0,I28=""),"",SUM(I28-$AK28)/I28) | AU28: =+IF(OR(J28=0,J28=""),"",SUM(J28-$AK28)/J28) | ... BU28: =+IF(OR(AJ28=0,AJ28=""),"",SUM(AJ28-$AK28)/AJ28) | BV28: =IF('Cálculos '!C34="","",AVERAGE(AN28:BU28))
B29: =+B28+1 -> 27 | C29: =IF('Cálculos '!J35="","",'Cálculos '!J35) | D29: =IF('Cálculos '!K35="","",'Cálculos '!K35) | E29: =IF('Cálculos '!L35="","",'Cálculos '!L35) | F29: =IF('Cálculos '!M35="","",'Cálculos '!M35) | G29: =IF('Cálculos '!N35="","",'Cálculos '!N35) | H29: =IF('Cálculos '!O35="","",'Cálculos '!O35) | I29: =IF('Cálculos '!P35="","",'Cálculos '!P35) | J29: =IF('Cálculos '!Q35="","",'Cálculos '!Q35) | ... AJ29: =IF('Cálculos '!AQ35="","",'Cálculos '!AQ35) | AK29: =IF('Cálculos '!D35="","",AVERAGE(C29:AJ29)) | AM29: =+AM28+1 -> 27 | AN29: =+IF(OR(C29=0,C29=""),"",SUM(C29-$AK29)/C29) | AO29: =+IF(OR(D29=0,D29=""),"",SUM(D29-$AK29)/D29) | AP29: =+IF(OR(E29=0,E29=""),"",SUM(E29-$AK29)/E29) | AQ29: =+IF(OR(F29=0,F29=""),"",SUM(F29-$AK29)/F29) | AR29: =+IF(OR(G29=0,G29=""),"",SUM(G29-$AK29)/G29) | AS29: =+IF(OR(H29=0,H29=""),"",SUM(H29-$AK29)/H29) | AT29: =+IF(OR(I29=0,I29=""),"",SUM(I29-$AK29)/I29) | AU29: =+IF(OR(J29=0,J29=""),"",SUM(J29-$AK29)/J29) | ... BU29: =+IF(OR(AJ29=0,AJ29=""),"",SUM(AJ29-$AK29)/AJ29) | BV29: =IF('Cálculos '!C35="","",AVERAGE(AN29:BU29))
B30: =+B29+1 -> 28 | C30: =IF('Cálculos '!J36="","",'Cálculos '!J36) | D30: =IF('Cálculos '!K36="","",'Cálculos '!K36) | E30: =IF('Cálculos '!L36="","",'Cálculos '!L36) | F30: =IF('Cálculos '!M36="","",'Cálculos '!M36) | G30: =IF('Cálculos '!N36="","",'Cálculos '!N36) | H30: =IF('Cálculos '!O36="","",'Cálculos '!O36) | I30: =IF('Cálculos '!P36="","",'Cálculos '!P36) | J30: =IF('Cálculos '!Q36="","",'Cálculos '!Q36) | ... AJ30: =IF('Cálculos '!AQ36="","",'Cálculos '!AQ36) | AK30: =IF('Cálculos '!D36="","",AVERAGE(C30:AJ30)) | AM30: =+AM29+1 -> 28 | AN30: =+IF(OR(C30=0,C30=""),"",SUM(C30-$AK30)/C30) | AP30: =+IF(OR(E30=0,E30=""),"",SUM(E30-$AK30)/E30) | AQ30: =+IF(OR(F30=0,F30=""),"",SUM(F30-$AK30)/F30) | AR30: =+IF(OR(G30=0,G30=""),"",SUM(G30-$AK30)/G30) | AS30: =+IF(OR(H30=0,H30=""),"",SUM(H30-$AK30)/H30) | AT30: =+IF(OR(I30=0,I30=""),"",SUM(I30-$AK30)/I30) | AU30: =+IF(OR(J30=0,J30=""),"",SUM(J30-$AK30)/J30) | AV30: =+IF(OR(K30=0,K30=""),"",SUM(K30-$AK30)/K30) | AW30: =+IF(OR(L30=0,L30=""),"",SUM(L30-$AK30)/L30) | ... BU30: =+IF(OR(AJ30=0,AJ30=""),"",SUM(AJ30-$AK30)/AJ30) | BV30: =IF('Cálculos '!C36="","",AVERAGE(AN30:BU30))
B31: =+B30+1 -> 29 | C31: =IF('Cálculos '!J37="","",'Cálculos '!J37) | D31: =IF('Cálculos '!K37="","",'Cálculos '!K37) | E31: =IF('Cálculos '!L37="","",'Cálculos '!L37) | F31: =IF('Cálculos '!M37="","",'Cálculos '!M37) | G31: =IF('Cálculos '!N37="","",'Cálculos '!N37) | H31: =IF('Cálculos '!O37="","",'Cálculos '!O37) | I31: =IF('Cálculos '!P37="","",'Cálculos '!P37) | J31: =IF('Cálculos '!Q37="","",'Cálculos '!Q37) | ... AJ31: =IF('Cálculos '!AQ37="","",'Cálculos '!AQ37) | AK31: =IF('Cálculos '!D37="","",AVERAGE(C31:AJ31)) | AM31: =+AM30+1 -> 29 | AN31: =+IF(OR(C31=0,C31=""),"",SUM(C31-$AK31)/C31) | AP31: =+IF(OR(E31=0,E31=""),"",SUM(E31-$AK31)/E31) | AQ31: =+IF(OR(F31=0,F31=""),"",SUM(F31-$AK31)/F31) | AR31: =+IF(OR(G31=0,G31=""),"",SUM(G31-$AK31)/G31) | AS31: =+IF(OR(H31=0,H31=""),"",SUM(H31-$AK31)/H31) | AT31: =+IF(OR(I31=0,I31=""),"",SUM(I31-$AK31)/I31) | AU31: =+IF(OR(J31=0,J31=""),"",SUM(J31-$AK31)/J31) | AV31: =+IF(OR(K31=0,K31=""),"",SUM(K31-$AK31)/K31) | AW31: =+IF(OR(L31=0,L31=""),"",SUM(L31-$AK31)/L31) | ... BU31: =+IF(OR(AJ31=0,AJ31=""),"",SUM(AJ31-$AK31)/AJ31) | BV31: =IF('Cálculos '!C37="","",AVERAGE(AN31:BU31))
B32: =+B31+1 -> 30 | C32: =IF('Cálculos '!J38="","",'Cálculos '!J38) | D32: =IF('Cálculos '!K38="","",'Cálculos '!K38) | E32: =IF('Cálculos '!L38="","",'Cálculos '!L38) | F32: =IF('Cálculos '!M38="","",'Cálculos '!M38) | G32: =IF('Cálculos '!N38="","",'Cálculos '!N38) | H32: =IF('Cálculos '!O38="","",'Cálculos '!O38) | I32: =IF('Cálculos '!P38="","",'Cálculos '!P38) | J32: =IF('Cálculos '!Q38="","",'Cálculos '!Q38) | ... AJ32: =IF('Cálculos '!AQ38="","",'Cálculos '!AQ38) | AK32: =IF('Cálculos '!D38="","",AVERAGE(C32:AJ32)) | AM32: =+AM31+1 -> 30 | AN32: =+IF(OR(C32=0,C32=""),"",SUM(C32-$AK32)/C32) | AP32: =+IF(OR(E32=0,E32=""),"",SUM(E32-$AK32)/E32) | AQ32: =+IF(OR(F32=0,F32=""),"",SUM(F32-$AK32)/F32) | AR32: =+IF(OR(G32=0,G32=""),"",SUM(G32-$AK32)/G32) | AS32: =+IF(OR(H32=0,H32=""),"",SUM(H32-$AK32)/H32) | AT32: =+IF(OR(I32=0,I32=""),"",SUM(I32-$AK32)/I32) | AU32: =+IF(OR(J32=0,J32=""),"",SUM(J32-$AK32)/J32) | AV32: =+IF(OR(K32=0,K32=""),"",SUM(K32-$AK32)/K32) | AW32: =+IF(OR(L32=0,L32=""),"",SUM(L32-$AK32)/L32) | ... BU32: =+IF(OR(AJ32=0,AJ32=""),"",SUM(AJ32-$AK32)/AJ32) | BV32: =IF('Cálculos '!C38="","",AVERAGE(AN32:BU32))
B33: =+B32+1 -> 31 | C33: =IF('Cálculos '!J39="","",'Cálculos '!J39) | D33: =IF('Cálculos '!K39="","",'Cálculos '!K39) | E33: =IF('Cálculos '!L39="","",'Cálculos '!L39) | F33: =IF('Cálculos '!M39="","",'Cálculos '!M39) | G33: =IF('Cálculos '!N39="","",'Cálculos '!N39) | H33: =IF('Cálculos '!O39="","",'Cálculos '!O39) | I33: =IF('Cálculos '!P39="","",'Cálculos '!P39) | J33: =IF('Cálculos '!Q39="","",'Cálculos '!Q39) | ... AJ33: =IF('Cálculos '!AQ39="","",'Cálculos '!AQ39) | AK33: =IF('Cálculos '!D39="","",AVERAGE(C33:AJ33)) | AM33: =+AM32+1 -> 31 | AN33: =+IF(OR(C33=0,C33=""),"",SUM(C33-$AK33)/C33) | AO33: =+IF(OR(D33=0,D33=""),"",SUM(D33-$AK33)/D33) | AP33: =+IF(OR(E33=0,E33=""),"",SUM(E33-$AK33)/E33) | AQ33: =+IF(OR(F33=0,F33=""),"",SUM(F33-$AK33)/F33) | AR33: =+IF(OR(G33=0,G33=""),"",SUM(G33-$AK33)/G33) | AS33: =+IF(OR(H33=0,H33=""),"",SUM(H33-$AK33)/H33) | AT33: =+IF(OR(I33=0,I33=""),"",SUM(I33-$AK33)/I33) | AU33: =+IF(OR(J33=0,J33=""),"",SUM(J33-$AK33)/J33) | ... BU33: =+IF(OR(AJ33=0,AJ33=""),"",SUM(AJ33-$AK33)/AJ33) | BV33: =IF('Cálculos '!C39="","",AVERAGE(AN33:BU33))
B34: =+B33+1 -> 32 | C34: =IF('Cálculos '!J40="","",'Cálculos '!J40) | D34: =IF('Cálculos '!K40="","",'Cálculos '!K40) | E34: =IF('Cálculos '!L40="","",'Cálculos '!L40) | F34: =IF('Cálculos '!M40="","",'Cálculos '!M40) | G34: =IF('Cálculos '!N40="","",'Cálculos '!N40) | H34: =IF('Cálculos '!O40="","",'Cálculos '!O40) | I34: =IF('Cálculos '!P40="","",'Cálculos '!P40) | J34: =IF('Cálculos '!Q40="","",'Cálculos '!Q40) | ... AJ34: =IF('Cálculos '!AQ40="","",'Cálculos '!AQ40) | AK34: =IF('Cálculos '!D40="","",AVERAGE(C34:AJ34)) | AM34: =+AM33+1 -> 32 | AN34: =+IF(OR(C34=0,C34=""),"",SUM(C34-$AK34)/C34) | AO34: =+IF(OR(D34=0,D34=""),"",SUM(D34-$AK34)/D34) | AP34: =+IF(OR(E34=0,E34=""),"",SUM(E34-$AK34)/E34) | AQ34: =+IF(OR(F34=0,F34=""),"",SUM(F34-$AK34)/F34) | AR34: =+IF(OR(G34=0,G34=""),"",SUM(G34-$AK34)/G34) | AS34: =+IF(OR(H34=0,H34=""),"",SUM(H34-$AK34)/H34) | AT34: =+IF(OR(I34=0,I34=""),"",SUM(I34-$AK34)/I34) | AU34: =+IF(OR(J34=0,J34=""),"",SUM(J34-$AK34)/J34) | ... BU34: =+IF(OR(AJ34=0,AJ34=""),"",SUM(AJ34-$AK34)/AJ34) | BV34: =IF('Cálculos '!C40="","",AVERAGE(AN34:BU34))
B35: =+B34+1 -> 33 | C35: =IF('Cálculos '!J41="","",'Cálculos '!J41) | D35: =IF('Cálculos '!K41="","",'Cálculos '!K41) | E35: =IF('Cálculos '!L41="","",'Cálculos '!L41) | F35: =IF('Cálculos '!M41="","",'Cálculos '!M41) | G35: =IF('Cálculos '!N41="","",'Cálculos '!N41) | H35: =IF('Cálculos '!O41="","",'Cálculos '!O41) | I35: =IF('Cálculos '!P41="","",'Cálculos '!P41) | J35: =IF('Cálculos '!Q41="","",'Cálculos '!Q41) | ... AJ35: =IF('Cálculos '!AQ41="","",'Cálculos '!AQ41) | AK35: =IF('Cálculos '!D41="","",AVERAGE(C35:AJ35)) | AM35: =+AM34+1 -> 33 | AN35: =+IF(OR(C35=0,C35=""),"",SUM(C35-$AK35)/C35) | AO35: =+IF(OR(D35=0,D35=""),"",SUM(D35-$AK35)/D35) | AP35: =+IF(OR(E35=0,E35=""),"",SUM(E35-$AK35)/E35) | AQ35: =+IF(OR(F35=0,F35=""),"",SUM(F35-$AK35)/F35) | AR35: =+IF(OR(G35=0,G35=""),"",SUM(G35-$AK35)/G35) | AS35: =+IF(OR(H35=0,H35=""),"",SUM(H35-$AK35)/H35) | AT35: =+IF(OR(I35=0,I35=""),"",SUM(I35-$AK35)/I35) | AU35: =+IF(OR(J35=0,J35=""),"",SUM(J35-$AK35)/J35) | ... BU35: =+IF(OR(AJ35=0,AJ35=""),"",SUM(AJ35-$AK35)/AJ35) | BV35: =IF('Cálculos '!C41="","",AVERAGE(AN35:BU35))
B36: =+B35+1 -> 34 | C36: =IF('Cálculos '!J42="","",'Cálculos '!J42) | D36: =IF('Cálculos '!K42="","",'Cálculos '!K42) | E36: =IF('Cálculos '!L42="","",'Cálculos '!L42) | F36: =IF('Cálculos '!M42="","",'Cálculos '!M42) | G36: =IF('Cálculos '!N42="","",'Cálculos '!N42) | H36: =IF('Cálculos '!O42="","",'Cálculos '!O42) | I36: =IF('Cálculos '!P42="","",'Cálculos '!P42) | J36: =IF('Cálculos '!Q42="","",'Cálculos '!Q42) | ... AJ36: =IF('Cálculos '!AQ42="","",'Cálculos '!AQ42) | AK36: =IF('Cálculos '!D42="","",AVERAGE(C36:AJ36)) | AM36: =+AM35+1 -> 34 | AN36: =+IF(OR(C36=0,C36=""),"",SUM(C36-$AK36)/C36) | AO36: =+IF(OR(D36=0,D36=""),"",SUM(D36-$AK36)/D36) | AP36: =+IF(OR(E36=0,E36=""),"",SUM(E36-$AK36)/E36) | AQ36: =+IF(OR(F36=0,F36=""),"",SUM(F36-$AK36)/F36) | AR36: =+IF(OR(G36=0,G36=""),"",SUM(G36-$AK36)/G36) | AS36: =+IF(OR(H36=0,H36=""),"",SUM(H36-$AK36)/H36) | AT36: =+IF(OR(I36=0,I36=""),"",SUM(I36-$AK36)/I36) | AU36: =+IF(OR(J36=0,J36=""),"",SUM(J36-$AK36)/J36) | ... BU36: =+IF(OR(AJ36=0,AJ36=""),"",SUM(AJ36-$AK36)/AJ36) | BV36: =IF('Cálculos '!C42="","",AVERAGE(AN36:BU36))
B37: =+B36+1 -> 35 | C37: =IF('Cálculos '!J43="","",'Cálculos '!J43) | D37: =IF('Cálculos '!K43="","",'Cálculos '!K43) | E37: =IF('Cálculos '!L43="","",'Cálculos '!L43) | F37: =IF('Cálculos '!M43="","",'Cálculos '!M43) | G37: =IF('Cálculos '!N43="","",'Cálculos '!N43) | H37: =IF('Cálculos '!O43="","",'Cálculos '!O43) | I37: =IF('Cálculos '!P43="","",'Cálculos '!P43) | J37: =IF('Cálculos '!Q43="","",'Cálculos '!Q43) | ... AJ37: =IF('Cálculos '!AQ43="","",'Cálculos '!AQ43) | AK37: =IF('Cálculos '!D43="","",AVERAGE(C37:AJ37)) | AM37: =+AM36+1 -> 35 | AN37: =+IF(OR(C37=0,C37=""),"",SUM(C37-$AK37)/C37) | AP37: =+IF(OR(E37=0,E37=""),"",SUM(E37-$AK37)/E37) | AQ37: =+IF(OR(F37=0,F37=""),"",SUM(F37-$AK37)/F37) | AR37: =+IF(OR(G37=0,G37=""),"",SUM(G37-$AK37)/G37) | AS37: =+IF(OR(H37=0,H37=""),"",SUM(H37-$AK37)/H37) | AT37: =+IF(OR(I37=0,I37=""),"",SUM(I37-$AK37)/I37) | AU37: =+IF(OR(J37=0,J37=""),"",SUM(J37-$AK37)/J37) | AV37: =+IF(OR(K37=0,K37=""),"",SUM(K37-$AK37)/K37) | AW37: =+IF(OR(L37=0,L37=""),"",SUM(L37-$AK37)/L37) | ... BU37: =+IF(OR(AJ37=0,AJ37=""),"",SUM(AJ37-$AK37)/AJ37) | BV37: =IF('Cálculos '!C43="","",AVERAGE(AN37:BU37))
B38: =+B37+1 -> 36 | C38: =IF('Cálculos '!J44="","",'Cálculos '!J44) | D38: =IF('Cálculos '!K44="","",'Cálculos '!K44) | E38: =IF('Cálculos '!L44="","",'Cálculos '!L44) | F38: =IF('Cálculos '!M44="","",'Cálculos '!M44) | G38: =IF('Cálculos '!N44="","",'Cálculos '!N44) | H38: =IF('Cálculos '!O44="","",'Cálculos '!O44) | I38: =IF('Cálculos '!P44="","",'Cálculos '!P44) | J38: =IF('Cálculos '!Q44="","",'Cálculos '!Q44) | ... AJ38: =IF('Cálculos '!AQ44="","",'Cálculos '!AQ44) | AK38: =IF('Cálculos '!D44="","",AVERAGE(C38:AJ38)) | AM38: =+AM37+1 -> 36 | AN38: =+IF(OR(C38=0,C38=""),"",SUM(C38-$AK38)/C38) | AO38: =+IF(OR(D38=0,D38=""),"",SUM(D38-$AK38)/D38) | AP38: =+IF(OR(E38=0,E38=""),"",SUM(E38-$AK38)/E38) | AQ38: =+IF(OR(F38=0,F38=""),"",SUM(F38-$AK38)/F38) | AR38: =+IF(OR(G38=0,G38=""),"",SUM(G38-$AK38)/G38) | AS38: =+IF(OR(H38=0,H38=""),"",SUM(H38-$AK38)/H38) | AT38: =+IF(OR(I38=0,I38=""),"",SUM(I38-$AK38)/I38) | AU38: =+IF(OR(J38=0,J38=""),"",SUM(J38-$AK38)/J38) | ... BU38: =+IF(OR(AJ38=0,AJ38=""),"",SUM(AJ38-$AK38)/AJ38) | BV38: =IF('Cálculos '!C44="","",AVERAGE(AN38:BU38))
B39: =+B38+1 -> 37 | C39: =IF('Cálculos '!J45="","",'Cálculos '!J45) | D39: =IF('Cálculos '!K45="","",'Cálculos '!K45) | E39: =IF('Cálculos '!L45="","",'Cálculos '!L45) | F39: =IF('Cálculos '!M45="","",'Cálculos '!M45) | G39: =IF('Cálculos '!N45="","",'Cálculos '!N45) | H39: =IF('Cálculos '!O45="","",'Cálculos '!O45) | I39: =IF('Cálculos '!P45="","",'Cálculos '!P45) | J39: =IF('Cálculos '!Q45="","",'Cálculos '!Q45) | ... AJ39: =IF('Cálculos '!AQ45="","",'Cálculos '!AQ45) | AK39: =IF('Cálculos '!D45="","",AVERAGE(C39:AJ39)) | AM39: =+AM38+1 -> 37 | AN39: =+IF(OR(C39=0,C39=""),"",SUM(C39-$AK39)/C39) | AP39: =+IF(OR(E39=0,E39=""),"",SUM(E39-$AK39)/E39) | AQ39: =+IF(OR(F39=0,F39=""),"",SUM(F39-$AK39)/F39) | AR39: =+IF(OR(G39=0,G39=""),"",SUM(G39-$AK39)/G39) | AS39: =+IF(OR(H39=0,H39=""),"",SUM(H39-$AK39)/H39) | AT39: =+IF(OR(I39=0,I39=""),"",SUM(I39-$AK39)/I39) | AU39: =+IF(OR(J39=0,J39=""),"",SUM(J39-$AK39)/J39) | AV39: =+IF(OR(K39=0,K39=""),"",SUM(K39-$AK39)/K39) | AW39: =+IF(OR(L39=0,L39=""),"",SUM(L39-$AK39)/L39) | ... BU39: =+IF(OR(AJ39=0,AJ39=""),"",SUM(AJ39-$AK39)/AJ39) | BV39: =IF('Cálculos '!C45="","",AVERAGE(AN39:BU39))
B40: =+B39+1 -> 38 | C40: =IF('Cálculos '!J46="","",'Cálculos '!J46) | D40: =IF('Cálculos '!K46="","",'Cálculos '!K46) | E40: =IF('Cálculos '!L46="","",'Cálculos '!L46) | F40: =IF('Cálculos '!M46="","",'Cálculos '!M46) | G40: =IF('Cálculos '!N46="","",'Cálculos '!N46) | H40: =IF('Cálculos '!O46="","",'Cálculos '!O46) | I40: =IF('Cálculos '!P46="","",'Cálculos '!P46) | J40: =IF('Cálculos '!Q46="","",'Cálculos '!Q46) | ... AJ40: =IF('Cálculos '!AQ46="","",'Cálculos '!AQ46) | AK40: =IF('Cálculos '!D46="","",AVERAGE(C40:AJ40)) | AM40: =+AM39+1 -> 38 | AN40: =+IF(OR(C40=0,C40=""),"",SUM(C40-$AK40)/C40) | AP40: =+IF(OR(E40=0,E40=""),"",SUM(E40-$AK40)/E40) | AQ40: =+IF(OR(F40=0,F40=""),"",SUM(F40-$AK40)/F40) | AR40: =+IF(OR(G40=0,G40=""),"",SUM(G40-$AK40)/G40) | AS40: =+IF(OR(H40=0,H40=""),"",SUM(H40-$AK40)/H40) | AT40: =+IF(OR(I40=0,I40=""),"",SUM(I40-$AK40)/I40) | AU40: =+IF(OR(J40=0,J40=""),"",SUM(J40-$AK40)/J40) | AV40: =+IF(OR(K40=0,K40=""),"",SUM(K40-$AK40)/K40) | AW40: =+IF(OR(L40=0,L40=""),"",SUM(L40-$AK40)/L40) | ... BU40: =+IF(OR(AJ40=0,AJ40=""),"",SUM(AJ40-$AK40)/AJ40) | BV40: =IF('Cálculos '!C46="","",AVERAGE(AN40:BU40))
B41: =+B40+1 -> 39 | C41: =IF('Cálculos '!J47="","",'Cálculos '!J47) | D41: =IF('Cálculos '!K47="","",'Cálculos '!K47) | E41: =IF('Cálculos '!L47="","",'Cálculos '!L47) | F41: =IF('Cálculos '!M47="","",'Cálculos '!M47) | G41: =IF('Cálculos '!N47="","",'Cálculos '!N47) | H41: =IF('Cálculos '!O47="","",'Cálculos '!O47) | I41: =IF('Cálculos '!P47="","",'Cálculos '!P47) | J41: =IF('Cálculos '!Q47="","",'Cálculos '!Q47) | ... AJ41: =IF('Cálculos '!AQ47="","",'Cálculos '!AQ47) | AK41: =IF('Cálculos '!D47="","",AVERAGE(C41:AJ41)) | AM41: =+AM40+1 -> 39 | AN41: =+IF(OR(C41=0,C41=""),"",SUM(C41-$AK41)/C41) | AP41: =+IF(OR(E41=0,E41=""),"",SUM(E41-$AK41)/E41) | AQ41: =+IF(OR(F41=0,F41=""),"",SUM(F41-$AK41)/F41) | AR41: =+IF(OR(G41=0,G41=""),"",SUM(G41-$AK41)/G41) | AS41: =+IF(OR(H41=0,H41=""),"",SUM(H41-$AK41)/H41) | AT41: =+IF(OR(I41=0,I41=""),"",SUM(I41-$AK41)/I41) | AU41: =+IF(OR(J41=0,J41=""),"",SUM(J41-$AK41)/J41) | AV41: =+IF(OR(K41=0,K41=""),"",SUM(K41-$AK41)/K41) | AW41: =+IF(OR(L41=0,L41=""),"",SUM(L41-$AK41)/L41) | ... BU41: =+IF(OR(AJ41=0,AJ41=""),"",SUM(AJ41-$AK41)/AJ41) | BV41: =IF('Cálculos '!C47="","",AVERAGE(AN41:BU41))
B42: =+B41+1 -> 40 | C42: =IF('Cálculos '!J48="","",'Cálculos '!J48) | D42: =IF('Cálculos '!K48="","",'Cálculos '!K48) | E42: =IF('Cálculos '!L48="","",'Cálculos '!L48) | F42: =IF('Cálculos '!M48="","",'Cálculos '!M48) | G42: =IF('Cálculos '!N48="","",'Cálculos '!N48) | H42: =IF('Cálculos '!O48="","",'Cálculos '!O48) | I42: =IF('Cálculos '!P48="","",'Cálculos '!P48) | J42: =IF('Cálculos '!Q48="","",'Cálculos '!Q48) | ... AJ42: =IF('Cálculos '!AQ48="","",'Cálculos '!AQ48) | AK42: =IF('Cálculos '!D48="","",AVERAGE(C42:AJ42)) | AM42: =+AM41+1 -> 40 | AN42: =+IF(OR(C42=0,C42=""),"",SUM(C42-$AK42)/C42) | AO42: =+IF(OR(D42=0,D42=""),"",SUM(D42-$AK42)/D42) | AP42: =+IF(OR(E42=0,E42=""),"",SUM(E42-$AK42)/E42) | AQ42: =+IF(OR(F42=0,F42=""),"",SUM(F42-$AK42)/F42) | AR42: =+IF(OR(G42=0,G42=""),"",SUM(G42-$AK42)/G42) | AS42: =+IF(OR(H42=0,H42=""),"",SUM(H42-$AK42)/H42) | AT42: =+IF(OR(I42=0,I42=""),"",SUM(I42-$AK42)/I42) | AU42: =+IF(OR(J42=0,J42=""),"",SUM(J42-$AK42)/J42) | ... BU42: =+IF(OR(AJ42=0,AJ42=""),"",SUM(AJ42-$AK42)/AJ42) | BV42: =IF('Cálculos '!C48="","",AVERAGE(AN42:BU42))
B43: =+B42+1 -> 41 | C43: =IF('Cálculos '!J49="","",'Cálculos '!J49) | D43: =IF('Cálculos '!K49="","",'Cálculos '!K49) | E43: =IF('Cálculos '!L49="","",'Cálculos '!L49) | F43: =IF('Cálculos '!M49="","",'Cálculos '!M49) | G43: =IF('Cálculos '!N49="","",'Cálculos '!N49) | H43: =IF('Cálculos '!O49="","",'Cálculos '!O49) | I43: =IF('Cálculos '!P49="","",'Cálculos '!P49) | J43: =IF('Cálculos '!Q49="","",'Cálculos '!Q49) | ... AJ43: =IF('Cálculos '!AQ49="","",'Cálculos '!AQ49) | AK43: =IF('Cálculos '!D49="","",AVERAGE(C43:AJ43)) | AM43: =+AM42+1 -> 41 | AN43: =+IF(OR(C43=0,C43=""),"",SUM(C43-$AK43)/C43) | AO43: =+IF(OR(D43=0,D43=""),"",SUM(D43-$AK43)/D43) | AP43: =+IF(OR(E43=0,E43=""),"",SUM(E43-$AK43)/E43) | AQ43: =+IF(OR(F43=0,F43=""),"",SUM(F43-$AK43)/F43) | AR43: =+IF(OR(G43=0,G43=""),"",SUM(G43-$AK43)/G43) | AS43: =+IF(OR(H43=0,H43=""),"",SUM(H43-$AK43)/H43) | AT43: =+IF(OR(I43=0,I43=""),"",SUM(I43-$AK43)/I43) | AU43: =+IF(OR(J43=0,J43=""),"",SUM(J43-$AK43)/J43) | ... BU43: =+IF(OR(AJ43=0,AJ43=""),"",SUM(AJ43-$AK43)/AJ43) | BV43: =IF('Cálculos '!C49="","",AVERAGE(AN43:BU43))
B44: =+B43+1 -> 42 | C44: =IF('Cálculos '!J50="","",'Cálculos '!J50) | D44: =IF('Cálculos '!K50="","",'Cálculos '!K50) | E44: =IF('Cálculos '!L50="","",'Cálculos '!L50) | F44: =IF('Cálculos '!M50="","",'Cálculos '!M50) | G44: =IF('Cálculos '!N50="","",'Cálculos '!N50) | H44: =IF('Cálculos '!O50="","",'Cálculos '!O50) | I44: =IF('Cálculos '!P50="","",'Cálculos '!P50) | J44: =IF('Cálculos '!Q50="","",'Cálculos '!Q50) | ... AJ44: =IF('Cálculos '!AQ50="","",'Cálculos '!AQ50) | AK44: =IF('Cálculos '!D50="","",AVERAGE(C44:AJ44)) | AM44: =+AM43+1 -> 42 | AN44: =+IF(OR(C44=0,C44=""),"",SUM(C44-$AK44)/C44) | AO44: =+IF(OR(D44=0,D44=""),"",SUM(D44-$AK44)/D44) | AP44: =+IF(OR(E44=0,E44=""),"",SUM(E44-$AK44)/E44) | AQ44: =+IF(OR(F44=0,F44=""),"",SUM(F44-$AK44)/F44) | AR44: =+IF(OR(G44=0,G44=""),"",SUM(G44-$AK44)/G44) | AS44: =+IF(OR(H44=0,H44=""),"",SUM(H44-$AK44)/H44) | AT44: =+IF(OR(I44=0,I44=""),"",SUM(I44-$AK44)/I44) | AU44: =+IF(OR(J44=0,J44=""),"",SUM(J44-$AK44)/J44) | ... BU44: =+IF(OR(AJ44=0,AJ44=""),"",SUM(AJ44-$AK44)/AJ44) | BV44: =IF('Cálculos '!C50="","",AVERAGE(AN44:BU44))
B45: =+B44+1 -> 43 | C45: =IF('Cálculos '!J51="","",'Cálculos '!J51) | D45: =IF('Cálculos '!K51="","",'Cálculos '!K51) | E45: =IF('Cálculos '!L51="","",'Cálculos '!L51) | F45: =IF('Cálculos '!M51="","",'Cálculos '!M51) | G45: =IF('Cálculos '!N51="","",'Cálculos '!N51) | H45: =IF('Cálculos '!O51="","",'Cálculos '!O51) | I45: =IF('Cálculos '!P51="","",'Cálculos '!P51) | J45: =IF('Cálculos '!Q51="","",'Cálculos '!Q51) | ... AJ45: =IF('Cálculos '!AQ51="","",'Cálculos '!AQ51) | AK45: =IF('Cálculos '!D51="","",AVERAGE(C45:AJ45)) | AM45: =+AM44+1 -> 43 | AN45: =+IF(OR(C45=0,C45=""),"",SUM(C45-$AK45)/C45) | AO45: =+IF(OR(D45=0,D45=""),"",SUM(D45-$AK45)/D45) | AP45: =+IF(OR(E45=0,E45=""),"",SUM(E45-$AK45)/E45) | AQ45: =+IF(OR(F45=0,F45=""),"",SUM(F45-$AK45)/F45) | AR45: =+IF(OR(G45=0,G45=""),"",SUM(G45-$AK45)/G45) | AS45: =+IF(OR(H45=0,H45=""),"",SUM(H45-$AK45)/H45) | AT45: =+IF(OR(I45=0,I45=""),"",SUM(I45-$AK45)/I45) | AU45: =+IF(OR(J45=0,J45=""),"",SUM(J45-$AK45)/J45) | ... BU45: =+IF(OR(AJ45=0,AJ45=""),"",SUM(AJ45-$AK45)/AJ45) | BV45: =IF('Cálculos '!C51="","",AVERAGE(AN45:BU45))
B46: =+B45+1 -> 44 | C46: =IF('Cálculos '!J52="","",'Cálculos '!J52) | D46: =IF('Cálculos '!K52="","",'Cálculos '!K52) | E46: =IF('Cálculos '!L52="","",'Cálculos '!L52) | F46: =IF('Cálculos '!M52="","",'Cálculos '!M52) | G46: =IF('Cálculos '!N52="","",'Cálculos '!N52) | H46: =IF('Cálculos '!O52="","",'Cálculos '!O52) | I46: =IF('Cálculos '!P52="","",'Cálculos '!P52) | J46: =IF('Cálculos '!Q52="","",'Cálculos '!Q52) | ... AJ46: =IF('Cálculos '!AQ52="","",'Cálculos '!AQ52) | AK46: =IF('Cálculos '!D52="","",AVERAGE(C46:AJ46)) | AM46: =+AM45+1 -> 44 | AN46: =+IF(OR(C46=0,C46=""),"",SUM(C46-$AK46)/C46) | AO46: =+IF(OR(D46=0,D46=""),"",SUM(D46-$AK46)/D46) | AP46: =+IF(OR(E46=0,E46=""),"",SUM(E46-$AK46)/E46) | AQ46: =+IF(OR(F46=0,F46=""),"",SUM(F46-$AK46)/F46) | AR46: =+IF(OR(G46=0,G46=""),"",SUM(G46-$AK46)/G46) | AS46: =+IF(OR(H46=0,H46=""),"",SUM(H46-$AK46)/H46) | AT46: =+IF(OR(I46=0,I46=""),"",SUM(I46-$AK46)/I46) | AU46: =+IF(OR(J46=0,J46=""),"",SUM(J46-$AK46)/J46) | ... BU46: =+IF(OR(AJ46=0,AJ46=""),"",SUM(AJ46-$AK46)/AJ46) | BV46: =IF('Cálculos '!C52="","",AVERAGE(AN46:BU46))
B47: =+B46+1 -> 45 | C47: =IF('Cálculos '!J53="","",'Cálculos '!J53) | D47: =IF('Cálculos '!K53="","",'Cálculos '!K53) | E47: =IF('Cálculos '!L53="","",'Cálculos '!L53) | F47: =IF('Cálculos '!M53="","",'Cálculos '!M53) | G47: =IF('Cálculos '!N53="","",'Cálculos '!N53) | H47: =IF('Cálculos '!O53="","",'Cálculos '!O53) | I47: =IF('Cálculos '!P53="","",'Cálculos '!P53) | J47: =IF('Cálculos '!Q53="","",'Cálculos '!Q53) | ... AJ47: =IF('Cálculos '!AQ53="","",'Cálculos '!AQ53) | AK47: =IF('Cálculos '!D53="","",AVERAGE(C47:AJ47)) | AM47: =+AM46+1 -> 45 | AN47: =+IF(OR(C47=0,C47=""),"",SUM(C47-$AK47)/C47) | AO47: =+IF(OR(D47=0,D47=""),"",SUM(D47-$AK47)/D47) | AP47: =+IF(OR(E47=0,E47=""),"",SUM(E47-$AK47)/E47) | AQ47: =+IF(OR(F47=0,F47=""),"",SUM(F47-$AK47)/F47) | AR47: =+IF(OR(G47=0,G47=""),"",SUM(G47-$AK47)/G47) | AS47: =+IF(OR(H47=0,H47=""),"",SUM(H47-$AK47)/H47) | AT47: =+IF(OR(I47=0,I47=""),"",SUM(I47-$AK47)/I47) | AU47: =+IF(OR(J47=0,J47=""),"",SUM(J47-$AK47)/J47) | ... BU47: =+IF(OR(AJ47=0,AJ47=""),"",SUM(AJ47-$AK47)/AJ47) | BV47: =IF('Cálculos '!C53="","",AVERAGE(AN47:BU47))
B48: =+B47+1 -> 46 | C48: =IF('Cálculos '!J54="","",'Cálculos '!J54) | D48: =IF('Cálculos '!K54="","",'Cálculos '!K54) | E48: =IF('Cálculos '!L54="","",'Cálculos '!L54) | F48: =IF('Cálculos '!M54="","",'Cálculos '!M54) | G48: =IF('Cálculos '!N54="","",'Cálculos '!N54) | H48: =IF('Cálculos '!O54="","",'Cálculos '!O54) | I48: =IF('Cálculos '!P54="","",'Cálculos '!P54) | J48: =IF('Cálculos '!Q54="","",'Cálculos '!Q54) | ... AJ48: =IF('Cálculos '!AQ54="","",'Cálculos '!AQ54) | AK48: =IF('Cálculos '!D54="","",AVERAGE(C48:AJ48)) | AM48: =+AM47+1 -> 46 | AN48: =+IF(OR(C48=0,C48=""),"",SUM(C48-$AK48)/C48) | AO48: =+IF(OR(D48=0,D48=""),"",SUM(D48-$AK48)/D48) | AP48: =+IF(OR(E48=0,E48=""),"",SUM(E48-$AK48)/E48) | AQ48: =+IF(OR(F48=0,F48=""),"",SUM(F48-$AK48)/F48) | AR48: =+IF(OR(G48=0,G48=""),"",SUM(G48-$AK48)/G48) | AS48: =+IF(OR(H48=0,H48=""),"",SUM(H48-$AK48)/H48) | AT48: =+IF(OR(I48=0,I48=""),"",SUM(I48-$AK48)/I48) | AU48: =+IF(OR(J48=0,J48=""),"",SUM(J48-$AK48)/J48) | ... BU48: =+IF(OR(AJ48=0,AJ48=""),"",SUM(AJ48-$AK48)/AJ48) | BV48: =IF('Cálculos '!C54="","",AVERAGE(AN48:BU48))
B49: =+B48+1 -> 47 | C49: =IF('Cálculos '!J55="","",'Cálculos '!J55) | D49: =IF('Cálculos '!K55="","",'Cálculos '!K55) | E49: =IF('Cálculos '!L55="","",'Cálculos '!L55) | F49: =IF('Cálculos '!M55="","",'Cálculos '!M55) | G49: =IF('Cálculos '!N55="","",'Cálculos '!N55) | H49: =IF('Cálculos '!O55="","",'Cálculos '!O55) | I49: =IF('Cálculos '!P55="","",'Cálculos '!P55) | J49: =IF('Cálculos '!Q55="","",'Cálculos '!Q55) | ... AJ49: =IF('Cálculos '!AQ55="","",'Cálculos '!AQ55) | AK49: =IF('Cálculos '!D55="","",AVERAGE(C49:AJ49)) | AM49: =+AM48+1 -> 47 | AN49: =+IF(OR(C49=0,C49=""),"",SUM(C49-$AK49)/C49) | AO49: =+IF(OR(D49=0,D49=""),"",SUM(D49-$AK49)/D49) | AP49: =+IF(OR(E49=0,E49=""),"",SUM(E49-$AK49)/E49) | AQ49: =+IF(OR(F49=0,F49=""),"",SUM(F49-$AK49)/F49) | AR49: =+IF(OR(G49=0,G49=""),"",SUM(G49-$AK49)/G49) | AS49: =+IF(OR(H49=0,H49=""),"",SUM(H49-$AK49)/H49) | AT49: =+IF(OR(I49=0,I49=""),"",SUM(I49-$AK49)/I49) | AU49: =+IF(OR(J49=0,J49=""),"",SUM(J49-$AK49)/J49) | ... BU49: =+IF(OR(AJ49=0,AJ49=""),"",SUM(AJ49-$AK49)/AJ49) | BV49: =IF('Cálculos '!C55="","",AVERAGE(AN49:BU49))
B50: =+B49+1 -> 48 | C50: =IF('Cálculos '!J56="","",'Cálculos '!J56) | D50: =IF('Cálculos '!K56="","",'Cálculos '!K56) | E50: =IF('Cálculos '!L56="","",'Cálculos '!L56) | F50: =IF('Cálculos '!M56="","",'Cálculos '!M56) | G50: =IF('Cálculos '!N56="","",'Cálculos '!N56) | H50: =IF('Cálculos '!O56="","",'Cálculos '!O56) | I50: =IF('Cálculos '!P56="","",'Cálculos '!P56) | J50: =IF('Cálculos '!Q56="","",'Cálculos '!Q56) | ... AJ50: =IF('Cálculos '!AQ56="","",'Cálculos '!AQ56) | AK50: =IF('Cálculos '!D56="","",AVERAGE(C50:AJ50)) | AM50: =+AM49+1 -> 48 | AN50: =+IF(OR(C50=0,C50=""),"",SUM(C50-$AK50)/C50) | AO50: =+IF(OR(D50=0,D50=""),"",SUM(D50-$AK50)/D50) | AP50: =+IF(OR(E50=0,E50=""),"",SUM(E50-$AK50)/E50) | AQ50: =+IF(OR(F50=0,F50=""),"",SUM(F50-$AK50)/F50) | AR50: =+IF(OR(G50=0,G50=""),"",SUM(G50-$AK50)/G50) | AS50: =+IF(OR(H50=0,H50=""),"",SUM(H50-$AK50)/H50) | AT50: =+IF(OR(I50=0,I50=""),"",SUM(I50-$AK50)/I50) | AU50: =+IF(OR(J50=0,J50=""),"",SUM(J50-$AK50)/J50) | ... BU50: =+IF(OR(AJ50=0,AJ50=""),"",SUM(AJ50-$AK50)/AJ50) | BV50: =IF('Cálculos '!C56="","",AVERAGE(AN50:BU50))
B51: =+B50+1 -> 49 | C51: =IF('Cálculos '!J57="","",'Cálculos '!J57) | D51: =IF('Cálculos '!K57="","",'Cálculos '!K57) | E51: =IF('Cálculos '!L57="","",'Cálculos '!L57) | F51: =IF('Cálculos '!M57="","",'Cálculos '!M57) | G51: =IF('Cálculos '!N57="","",'Cálculos '!N57) | H51: =IF('Cálculos '!O57="","",'Cálculos '!O57) | I51: =IF('Cálculos '!P57="","",'Cálculos '!P57) | J51: =IF('Cálculos '!Q57="","",'Cálculos '!Q57) | ... AJ51: =IF('Cálculos '!AQ57="","",'Cálculos '!AQ57) | AK51: =IF('Cálculos '!D57="","",AVERAGE(C51:AJ51)) | AM51: =+AM50+1 -> 49 | AN51: =+IF(OR(C51=0,C51=""),"",SUM(C51-$AK51)/C51) | AO51: =+IF(OR(D51=0,D51=""),"",SUM(D51-$AK51)/D51) | AP51: =+IF(OR(E51=0,E51=""),"",SUM(E51-$AK51)/E51) | AQ51: =+IF(OR(F51=0,F51=""),"",SUM(F51-$AK51)/F51) | AR51: =+IF(OR(G51=0,G51=""),"",SUM(G51-$AK51)/G51) | AS51: =+IF(OR(H51=0,H51=""),"",SUM(H51-$AK51)/H51) | AT51: =+IF(OR(I51=0,I51=""),"",SUM(I51-$AK51)/I51) | AU51: =+IF(OR(J51=0,J51=""),"",SUM(J51-$AK51)/J51) | ... BU51: =+IF(OR(AJ51=0,AJ51=""),"",SUM(AJ51-$AK51)/AJ51) | BV51: =IF('Cálculos '!C57="","",AVERAGE(AN51:BU51))
B52: =+B51+1 -> 50 | C52: =IF('Cálculos '!J58="","",'Cálculos '!J58) | D52: =IF('Cálculos '!K58="","",'Cálculos '!K58) | E52: =IF('Cálculos '!L58="","",'Cálculos '!L58) | F52: =IF('Cálculos '!M58="","",'Cálculos '!M58) | G52: =IF('Cálculos '!N58="","",'Cálculos '!N58) | H52: =IF('Cálculos '!O58="","",'Cálculos '!O58) | I52: =IF('Cálculos '!P58="","",'Cálculos '!P58) | J52: =IF('Cálculos '!Q58="","",'Cálculos '!Q58) | ... AJ52: =IF('Cálculos '!AQ58="","",'Cálculos '!AQ58) | AK52: =IF('Cálculos '!D58="","",AVERAGE(C52:AJ52)) | AM52: =+AM51+1 -> 50 | AN52: =+IF(OR(C52=0,C52=""),"",SUM(C52-$AK52)/C52) | AO52: =+IF(OR(D52=0,D52=""),"",SUM(D52-$AK52)/D52) | AP52: =+IF(OR(E52=0,E52=""),"",SUM(E52-$AK52)/E52) | AQ52: =+IF(OR(F52=0,F52=""),"",SUM(F52-$AK52)/F52) | AR52: =+IF(OR(G52=0,G52=""),"",SUM(G52-$AK52)/G52) | AS52: =+IF(OR(H52=0,H52=""),"",SUM(H52-$AK52)/H52) | AT52: =+IF(OR(I52=0,I52=""),"",SUM(I52-$AK52)/I52) | AU52: =+IF(OR(J52=0,J52=""),"",SUM(J52-$AK52)/J52) | ... BU52: =+IF(OR(AJ52=0,AJ52=""),"",SUM(AJ52-$AK52)/AJ52) | BV52: =IF('Cálculos '!C58="","",AVERAGE(AN52:BU52))
B53: =+B52+1 -> 51 | C53: =IF('Cálculos '!J59="","",'Cálculos '!J59) | D53: =IF('Cálculos '!K59="","",'Cálculos '!K59) | E53: =IF('Cálculos '!L59="","",'Cálculos '!L59) | F53: =IF('Cálculos '!M59="","",'Cálculos '!M59) | G53: =IF('Cálculos '!N59="","",'Cálculos '!N59) | H53: =IF('Cálculos '!O59="","",'Cálculos '!O59) | I53: =IF('Cálculos '!P59="","",'Cálculos '!P59) | J53: =IF('Cálculos '!Q59="","",'Cálculos '!Q59) | ... AJ53: =IF('Cálculos '!AQ59="","",'Cálculos '!AQ59) | AK53: =IF('Cálculos '!D59="","",AVERAGE(C53:AJ53)) | AM53: =+AM52+1 -> 51 | AN53: =+IF(OR(C53=0,C53=""),"",SUM(C53-$AK53)/C53) | AO53: =+IF(OR(D53=0,D53=""),"",SUM(D53-$AK53)/D53) | AP53: =+IF(OR(E53=0,E53=""),"",SUM(E53-$AK53)/E53) | AQ53: =+IF(OR(F53=0,F53=""),"",SUM(F53-$AK53)/F53) | AR53: =+IF(OR(G53=0,G53=""),"",SUM(G53-$AK53)/G53) | AS53: =+IF(OR(H53=0,H53=""),"",SUM(H53-$AK53)/H53) | AT53: =+IF(OR(I53=0,I53=""),"",SUM(I53-$AK53)/I53) | AU53: =+IF(OR(J53=0,J53=""),"",SUM(J53-$AK53)/J53) | ... BU53: =+IF(OR(AJ53=0,AJ53=""),"",SUM(AJ53-$AK53)/AJ53) | BV53: =IF('Cálculos '!C59="","",AVERAGE(AN53:BU53))
... B1102: =+B1101+1 -> 1100 | C1102: =IF('Cálculos '!J1108="","",'Cálculos '!J1108) | D1102: =IF('Cálculos '!K1108="","",'Cálculos '!K1108) | E1102: =IF('Cálculos '!L1108="","",'Cálculos '!L1108) | F1102: =IF('Cálculos '!M1108="","",'Cálculos '!M1108) | G1102: =IF('Cálculos '!N1108="","",'Cálculos '!N1108) | H1102: =IF('Cálculos '!O1108="","",'Cálculos '!O1108) | I1102: =IF('Cálculos '!P1108="","",'Cálculos '!P1108) | J1102: =IF('Cálculos '!Q1108="","",'Cálculos '!Q1108) | ... AJ1102: =IF('Cálculos '!AQ1108="","",'Cálculos '!AQ1108) | AK1102: =IF('Cálculos '!D1108="","",AVERAGE(C1102:AJ1102)) | AM1102: =+AM1101+1 -> 1100 | AN1102: =+IF(OR(C1102=0,C1102=""),"",SUM(C1102-$AK1102)/C1102) | AO1102: =+IF(OR(D1102=0,D1102=""),"",SUM(D1102-$AK1102)/D1102) | AP1102: =+IF(OR(E1102=0,E1102=""),"",SUM(E1102-$AK1102)/E1102) | AQ1102: =+IF(OR(F1102=0,F1102=""),"",SUM(F1102-$AK1102)/F1102) | AR1102: =+IF(OR(G1102=0,G1102=""),"",SUM(G1102-$AK1102)/G1102) | AS1102: =+IF(OR(H1102=0,H1102=""),"",SUM(H1102-$AK1102)/H1102) | AT1102: =+IF(OR(I1102=0,I1102=""),"",SUM(I1102-$AK1102)/I1102) | AU1102: =+IF(OR(J1102=0,J1102=""),"",SUM(J1102-$AK1102)/J1102) | ... BU1102: =+IF(OR(AJ1102=0,AJ1102=""),"",SUM(AJ1102-$AK1102)/AJ1102) | BV1102: =IF('Cálculos '!C1108="","",AVERAGE(AN1102:BU1102))
B1103: TOTAL | C1103: =SUM(C3:C1102) -> 8214000 | D1103: =SUM(D3:D1102) -> 9410600 | E1103: =SUM(E3:E1102) -> 5670000 | F1103: =SUM(F3:F1102) -> 6602850 | G1103: =SUM(G3:G1102) -> 21966000 | H1103: =SUM(H3:H1102) -> 0 | I1103: =SUM(I3:I1102) -> 0 | J1103: =SUM(J3:J1102) -> 0 | ... AK1103: =SUM(AK3:AK1102) -> 10372690 | AM1103: TOTAL | AN1103: =+IF(OR(C1103=0,C1103=""),"",SUM(C1103-$AK1103)/C1103) -> -0.26280618 | AO1103: =+IF(OR(D1103=0,D1103=""),"",SUM(D1103-$AK1103)/D1103) -> -0.10223471 | AP1103: =+IF(OR(E1103=0,E1103=""),"",SUM(E1103-$AK1103)/E1103) -> -0.82939859 | AQ1103: =+IF(OR(F1103=0,F1103=""),"",SUM(F1103-$AK1103)/F1103) -> -0.57094134 | AR1103: =+IF(OR(G1103=0,G1103=""),"",SUM(G1103-$AK1103)/G1103) -> 0.5277843 | AS1103: =+IF(OR(H1103=0,H1103=""),"",SUM(H1103-$AK1103)/H1103) | AT1103: =+IF(OR(I1103=0,I1103=""),"",SUM(I1103-$AK1103)/I1103) | AU1103: =+IF(OR(J1103=0,J1103=""),"",SUM(J1103-$AK1103)/J1103) | ... BU1103: =+IF(OR(AJ1103=0,AJ1103=""),"",SUM(AJ1103-$AK1103)/AJ1103) | BV1103: =IF(AN1103="","",AVERAGE(AN1103:BU1103)) -> -0.2475193

Sheet Valor total
B1: PRESUPUESTO OFICIAL ESTIMADO | XEX1: SI
B2: =+'Cálculos '!B1 -> OBJETO | XEX2: NO
B3: =IF('Cálculos '!B3="","",+'Cálculos '!B3) -> PRESTAR LOS SERVICIOS DE MANTENIMIENTO PREVENTIVO Y CORRECTIVO DEL EQUIPO MÉDICO Y BIOMÉDICO DEL CRUE DE CUNDINAMARCA
B7: PRESUPUESTO UNITARIO
B8: ITEM | C8: =+'Cálculos '!C8 -> BIEN Y/O SERVICIO | D8: =+'Cálculos '!D8 -> DESCRIPCIÓN | E8: =+'Cálculos '!E8 -> ESPECIFICACIONES TECNICAS | F8: UNIDAD DE MEDIDA | G8: UNIDADES | H8: VALOR UNITARIO ANTES DE IVA | I8: IVA | J8: ESTANPILLAS | K8: VALOR TOTAL INCLUIDO | L8: IVA INDIVIDUAL | M8: ESTAMPILLA | R8: IVA
B9: =+IF('Cálculos '!B9="","",'Cálculos '!B9) -> 1 | C9: =+IF('Cálculos '!C9="","",'Cálculos '!C9) -> 1. ACTIVIDADES MANTENIMIENTO EQUIPO MÉDICO Y BIOMÉDICO DEL CRUE | D9: =+IF('Cálculos '!D9="","",'Cálculos '!D9) -> BALA DE OXÍGENO DE 4.15 | E9: =+IF('Cálculos '!E9="","",'Cálculos '!E9) -> Realizar: 1- Inspección física 2- Recarga 3- Prueba hidrostática 4- Suministro de cánulas. (4 unidades) | F9: =+IF('Cálculos '!F9="","",'Cálculos '!F9) -> UNIDADES | G9: =+IF('Cálculos '!D9="","",'Cálculos '!H9) -> 1 | H9: =IF('Precio unitario '!D3="","",ROUNDUP('Precio unitario '!J3,0)) -> 372370 | I9: =IF(D9="","",IF(L9="","CONFIRMAR SI EL PRODOCTRO TIENE IVA O NO",IF(L9="NO",0,ROUNDUP(SUM(H9*19%),0)))) -> 70751 | J9: =IF(D9="","",IF(M9="","CONFIRMAR SI EL PRODOCTRO TIENE ESTANPILLA O NO",IF(M9="NO",0,ROUNDUP(SUM(H9*11.5%),0)))) -> 0 | K9: =+IF(D9="","",ROUNDUP(SUM(H9:J9),0)) -> 443121 | L9: SI | M9: NO | R9: SI
B10: =+B9+1 -> 2 | D10: =+IF('Cálculos '!D10="","",'Cálculos '!D10) -> BALA DE OXÍGENO DE 6.5 | E10: =+IF('Cálculos '!E10="","",'Cálculos '!E10) -> Realizar: 1- Inspección física 2- recarga 3- Prueba hidrostática. | F10: =+IF('Cálculos '!F10="","",'Cálculos '!F10) -> UNIDADES | G10: =+IF('Cálculos '!D10="","",'Cálculos '!H10) -> 1 | H10: =IF('Precio unitario '!D4="","",ROUNDUP('Precio unitario '!J4,0)) -> 403200 | I10: =IF(D10="","",IF(L10="","CONFIRMAR SI EL PRODOCTRO TIENE IVA O NO",IF(L10="NO",0,ROUNDUP(SUM(H10*19%),0)))) -> 76608 | J10: =IF(D10="","",IF(M10="","CONFIRMAR SI EL PRODOCTRO TIENE ESTANPILLA O NO",IF(M10="NO",0,ROUNDUP(SUM(H10*11.5%),0)))) -> 0 | K10: =+IF(D10="","",ROUNDUP(SUM(H10:J10),0)) -> 479808 | L10: SI | M10: NO
B11: =+B10+1 -> 3 | D11: =+IF('Cálculos '!D11="","",'Cálculos '!D11) -> PULSOXIMETROS MARCA RIESTER | E11: =+IF('Cálculos '!E11="","",'Cálculos '!E11) -> Realizar: 1- Inspección física 2- Limpieza general 3- Verificación de parámetros 4- Verificación de funcionamiento 5- Verificación de sistema eléctrico y electrónico. 6-Calibración. 7- Suministro de pilas "AAA" (6 uds) | F11: =+IF('Cálculos '!F11="","",'Cálculos '!F11) -> UNIDADES | G11: =+IF('Cálculos '!D11="","",'Cálculos '!H11) -> 1 | H11: =IF('Precio unitario '!D5="","",ROUNDUP('Precio unitario '!J5,0)) -> 282990 | I11: =IF(D11="","",IF(L11="","CONFIRMAR SI EL PRODOCTRO TIENE IVA O NO",IF(L11="NO",0,ROUNDUP(SUM(H11*19%),0)))) -> 53769 | J11: =IF(D11="","",IF(M11="","CONFIRMAR SI EL PRODOCTRO TIENE ESTANPILLA O NO",IF(M11="NO",0,ROUNDUP(SUM(H11*11.5%),0)))) -> 0 | K11: =+IF(D11="","",ROUNDUP(SUM(H11:J11),0)) -> 336759 | L11: SI | M11: NO
B12: =+B11+1 -> 4 | D12: =+IF('Cálculos '!D12="","",'Cálculos '!D12) -> PULSOXIMETROS MARCA LEMMAN | E12: =+IF('Cálculos '!E12="","",'Cálculos '!E12) -> Realizar: 1- Inspección física 2- Limpieza general 3- Verificación de parámetros 4- Verificación de funcionamiento 5- Verificación de sistema eléctrico y electrónico. 6-Calibración. 7- Suministro de pilas "AAA" (4 uds) | F12: =+IF('Cálculos '!F12="","",'Cálculos '!F12) -> UNIDADES | G12: =+IF('Cálculos '!D12="","",'Cálculos '!H12) -> 1 | H12: =IF('Precio unitario '!D6="","",ROUNDUP('Precio unitario '!J6,0)) -> 282990 | I12: =IF(D12="","",IF(L12="","CONFIRMAR SI EL PRODOCTRO TIENE IVA O NO",IF(L12="NO",0,ROUNDUP(SUM(H12*19%),0)))) -> 53769 | J12: =IF(D12="","",IF(M12="","CONFIRMAR SI EL PRODOCTRO TIENE ESTANPILLA O NO",IF(M12="NO",0,ROUNDUP(SUM(H12*11.5%),0)))) -> 0 | K12: =+IF(D12="","",ROUNDUP(SUM(H12:J12),0)) -> 336759 | L12: SI | M12: NO
B13: =+B12+1 -> 5 | D13: =+IF('Cálculos '!D13="","",'Cálculos '!D13) -> LINTERNAS MARCA RIESTER | E13: =+IF('Cálculos '!E13="","",'Cálculos '!E13) -> Realizar: 1- Inspección física. 2- Limpieza general. 3- Verificación de funcionamiento. 4- Suministro de pilas alcalinas "AAA" (20 unidades) | F13: =+IF('Cálculos '!F13="","",'Cálculos '!F13) -> UNIDADES | G13: =+IF('Cálculos '!D13="","",'Cálculos '!H13) -> 1 | H13: =IF('Precio unitario '!D7="","",ROUNDUP('Precio unitario '!J7,0)) -> 53390 | I13: =IF(D13="","",IF(L13="","CONFIRMAR SI EL PRODOCTRO TIENE IVA O NO",IF(L13="NO",0,ROUNDUP(SUM(H13*19%),0)))) -> 10145 | J13: =IF(D13="","",IF(M13="","CONFIRMAR SI EL PRODOCTRO TIENE ESTANPILLA O NO",IF(M13="NO",0,ROUNDUP(SUM(H13*11.5%),0)))) -> 0 | K13: =+IF(D13="","",ROUNDUP(SUM(H13:J13),0)) -> 63535 | L13: SI | M13: NO
B14: =+B13+1 -> 6 | D14: =+IF('Cálculos '!D14="","",'Cálculos '!D14) -> MANGOS DE LARINGOSCOPIO MARCA WELCH ALLYN | E14: =+IF('Cálculos '!E14="","",'Cálculos '!E14) -> Realizar: 1- Inspección física 2- Limpieza general 3- Verificación de accesorios 4- Verificación de funcionamiento 5- Suministro de pilas alcalinas "C2" | F14: =+IF('Cálculos '!F14="","",'Cálculos '!F14) -> UNIDADES | G14: =+IF('Cálculos '!D14="","",'Cálculos '!H14) -> 1 | H14: =IF('Precio unitario '!D8="","",ROUNDUP('Precio unitario '!J8,0)) -> 122000 | I14: =IF(D14="","",IF(L14="","CONFIRMAR SI EL PRODOCTRO TIENE IVA O NO",IF(L14="NO",0,ROUNDUP(SUM(H14*19%),0)))) -> 23180 | J14: =IF(D14="","",IF(M14="","CONFIRMAR SI EL PRODOCTRO TIENE ESTANPILLA O NO",IF(M14="NO",0,ROUNDUP(SUM(H14*11.5%),0)))) -> 0 | K14: =+IF(D14="","",ROUNDUP(SUM(H14:J14),0)) -> 145180 | L14: SI | M14: NO
B15: =+B14+1 -> 7 | D15: =+IF('Cálculos '!D15="","",'Cálculos '!D15) -> FONENDOSCOPIOS MARCA SPIRIT | E15: =+IF('Cálculos '!E15="","",'Cálculos '!E15) -> Realizar: 1- Inspección física. 2- Limpieza general. 3- Verificación de accesorios. 4- Verificación de funcionamiento. | F15: =+IF('Cálculos '!F15="","",'Cálculos '!F15) -> UNIDADES | G15: =+IF('Cálculos '!D15="","",'Cálculos '!H15) -> 1 | H15: =IF('Precio unitario '!D9="","",ROUNDUP('Precio unitario '!J9,0)) -> 43289 | I15: =IF(D15="","",IF(L15="","CONFIRMAR SI EL PRODOCTRO TIENE IVA O NO",IF(L15="NO",0,ROUNDUP(SUM(H15*19%),0)))) -> 8225 | J15: =IF(D15="","",IF(M15="","CONFIRMAR SI EL PRODOCTRO TIENE ESTANPILLA O NO",IF(M15="NO",0,ROUNDUP(SUM(H15*11.5%),0)))) -> 0 | K15: =+IF(D15="","",ROUNDUP(SUM(H15:J15),0)) -> 51514 | L15: SI | M15: NO
B16: =+B15+1 -> 8 | D16: =+IF('Cálculos '!D16="","",'Cálculos '!D16) -> FONENDOSCOPIOS MARCA RIESTER | E16: =+IF('Cálculos '!E16="","",'Cálculos '!E16) -> Realizar: 1- Inspección física. 2- Limpieza general. 3- Verificación de accesorios. 4- Verificación de funcionamiento. | F16: =+IF('Cálculos '!F16="","",'Cálculos '!F16) -> UNIDADES | G16: =+IF('Cálculos '!D16="","",'Cálculos '!H16) -> 1 | H16: =IF('Precio unitario '!D10="","",ROUNDUP('Precio unitario '!J10,0)) -> 43289 | I16: =IF(D16="","",IF(L16="","CONFIRMAR SI EL PRODOCTRO TIENE IVA O NO",IF(L16="NO",0,ROUNDUP(SUM(H16*19%),0)))) -> 8225 | J16: =IF(D16="","",IF(M16="","CONFIRMAR SI EL PRODOCTRO TIENE ESTANPILLA O NO",IF(M16="NO",0,ROUNDUP(SUM(H16*11.5%),0)))) -> 0 | K16: =+IF(D16="","",ROUNDUP(SUM(H16:J16),0)) -> 51514 | L16: SI | M16: NO
B17: =+B16+1 -> 9 | D17: =+IF('Cálculos '!D17="","",'Cálculos '!D17) -> TENSIOMETROS MARCA ALPK2 | E17: =+IF('Cálculos '!E17="","",'Cálculos '!E17) -> Realizar: 1- Inspección física. 2- Limpieza general. 3- Verificación de parámetros. 4- Verificación de accesorios 5- Verificación neumática 6- Verificación de funcionamiento 7- Calibración | F17: =+IF('Cálculos '!F17="","",'Cálculos '!F17) -> UNIDADES | G17: =+IF('Cálculos '!D17="","",'Cálculos '!H17) -> 1 | H17: =IF('Precio unitario '!D11="","",ROUNDUP('Precio unitario '!J11,0)) -> 228200 | I17: =IF(D17="","",IF(L17="","CONFIRMAR SI EL PRODOCTRO TIENE IVA O NO",IF(L17="NO",0,ROUNDUP(SUM(H17*19%),0)))) -> 43358 | J17: =IF(D17="","",IF(M17="","CONFIRMAR SI EL PRODOCTRO TIENE ESTANPILLA O NO",IF(M17="NO",0,ROUNDUP(SUM(H17*11.5%),0)))) -> 0 | K17: =+IF(D17="","",ROUNDUP(SUM(H17:J17),0)) -> 271558 | L17: SI | M17: NO
B18: =+B17+1 -> 10 | D18: =+IF('Cálculos '!D18="","",'Cálculos '!D18) -> TENSIOMETROS MARCA PRESTIGE | E18: =+IF('Cálculos '!E18="","",'Cálculos '!E18) -> Realizar: 1- Inspección física. 2- Limpieza general. 3- Verificación de parámetros. 4- Verificación de accesorios 5- Verificación neumática 6- Verificación de funcionamiento 7- Calibración | F18: =+IF('Cálculos '!F18="","",'Cálculos '!F18) -> UNIDADES | G18: =+IF('Cálculos '!D18="","",'Cálculos '!H18) -> 1 | H18: =IF('Precio unitario '!D12="","",ROUNDUP('Precio unitario '!J12,0)) -> 280200 | I18: =IF(D18="","",IF(L18="","CONFIRMAR SI EL PRODOCTRO TIENE IVA O NO",IF(L18="NO",0,ROUNDUP(SUM(H18*19%),0)))) -> 53238 | J18: =IF(D18="","",IF(M18="","CONFIRMAR SI EL PRODOCTRO TIENE ESTANPILLA O NO",IF(M18="NO",0,ROUNDUP(SUM(H18*11.5%),0)))) -> 0 | K18: =+IF(D18="","",ROUNDUP(SUM(H18:J18),0)) -> 333438 | L18: SI | M18: NO
B19: =+B18+1 -> 11 | D19: =+IF('Cálculos '!D19="","",'Cálculos '!D19) -> TENSIOMETROS MARCA RIESTER | E19: =+IF('Cálculos '!E19="","",'Cálculos '!E19) -> Realizar: 1- Inspección física. 2- Limpieza general. 3- Verificación de parámetros. 4- Verificación de accesorios 5- Verificación neumática 6- Verificación de funcionamiento 7- Calibración | F19: =+IF('Cálculos '!F19="","",'Cálculos '!F19) -> UNIDADES | G19: =+IF('Cálculos '!D19="","",'Cálculos '!H19) -> 1 | H19: =IF('Precio unitario '!D13="","",ROUNDUP('Precio unitario '!J13,0)) -> 280200 | I19: =IF(D19="","",IF(L19="","CONFIRMAR SI EL PRODOCTRO TIENE IVA O NO",IF(L19="NO",0,ROUNDUP(SUM(H19*19%),0)))) -> 53238 | J19: =IF(D19="","",IF(M19="","CONFIRMAR SI EL PRODOCTRO TIENE ESTANPILLA O NO",IF(M19="NO",0,ROUNDUP(SUM(H19*11.5%),0)))) -> 0 | K19: =+IF(D19="","",ROUNDUP(SUM(H19:J19),0)) -> 333438 | L19: SI | M19: NO
B20: =+B19+1 -> 12 | D20: =+IF('Cálculos '!D20="","",'Cálculos '!D20) -> EQUIPO DE ÓRGANOS MARCA WELCH ALLYN | E20: =+IF('Cálculos '!E20="","",'Cálculos '!E20) -> Realizar: 1- Inspección física. 2- Limpieza general. 3- Verificación de parámetros. 4- Verificación de accesorios 5- Verificación de conectores 6- Verificación de funcionamiento 7- Suministro de pilas alcalinas "AA" (16 Unidades) | F20: =+IF('Cálculos '!F20="","",'Cálculos '!F20) -> UNIDADES | G20: =+IF('Cálculos '!D20="","",'Cálculos '!H20) -> 1 | H20: =IF('Precio unitario '!D14="","",ROUNDUP('Precio unitario '!J14,0)) -> 117780 | I20: =IF(D20="","",IF(L20="","CONFIRMAR SI EL PRODOCTRO TIENE IVA O NO",IF(L20="NO",0,ROUNDUP(SUM(H20*19%),0)))) -> 22379 | J20: =IF(D20="","",IF(M20="","CONFIRMAR SI EL PRODOCTRO TIENE ESTANPILLA O NO",IF(M20="NO",0,ROUNDUP(SUM(H20*11.5%),0)))) -> 0 | K20: =+IF(D20="","",ROUNDUP(SUM(H20:J20),0)) -> 140159 | L20: SI | M20: NO
B21: =+B20+1 -> 13 | D21: =+IF('Cálculos '!D21="","",'Cálculos '!D21) -> GLUCÓMETROS MARCA FASTCHECK | E21: =+IF('Cálculos '!E21="","",'Cálculos '!E21) -> Realizar: 1- Inspección física. 2- Limpieza general. 3- Verificación de parámetros. 4- Verificación de accesorios 5- Verificación de funcionamiento 6- Suministro de tirillas 7- Suministro de lancetas 8- Suministro de pilas de litio "3V" | F21: =+IF('Cálculos '!F21="","",'Cálculos '!F21) -> UNIDADES | G21: =+IF('Cálculos '!D21="","",'Cálculos '!H21) -> 1 | H21: =IF('Precio unitario '!D15="","",ROUNDUP('Precio unitario '!J15,0)) -> 210140 | I21: =IF(D21="","",IF(L21="","CONFIRMAR SI EL PRODOCTRO TIENE IVA O NO",IF(L21="NO",0,ROUNDUP(SUM(H21*19%),0)))) -> 39927 | J21: =IF(D21="","",IF(M21="","CONFIRMAR SI EL PRODOCTRO TIENE ESTANPILLA O NO",IF(M21="NO",0,ROUNDUP(SUM(H21*11.5%),0)))) -> 0 | K21: =+IF(D21="","",ROUNDUP(SUM(H21:J21),0)) -> 250067 | L21: SI | M21: NO
... B28: =+B27+1 -> 20 | D28: =+IF('Cálculos '!D28="","",'Cálculos '!D28) -> KIT LARINGOSCOPIOS MARCA GREENLINE | E28: =+IF('Cálculos '!E28="","",'Cálculos '!E28) -> Realizar: 1- Inspección física. 2- Limpieza general. 3- Verificación de parámetros. 4- Verificación de accesorios 5- Verificación de funcionamiento 6- Suministro de pilas alcalinas "C2" (20 Unidades) | F28: =+IF('Cálculos '!F28="","",'Cálculos '!F28) -> UNIDADES | G28: =+IF('Cálculos '!D28="","",'Cálculos '!H28) -> 1 | H28: =IF('Precio unitario '!D22="","",ROUNDUP('Precio unitario '!J22,0)) -> 81095 | I28: =IF(D28="","",IF(L28="","CONFIRMAR SI EL PRODOCTRO TIENE IVA O NO",IF(L28="NO",0,ROUNDUP(SUM(H28*19%),0)))) -> 15409 | J28: =IF(D28="","",IF(M28="","CONFIRMAR SI EL PRODOCTRO TIENE ESTANPILLA O NO",IF(M28="NO",0,ROUNDUP(SUM(H28*11.5%),0)))) -> 0 | K28: =+IF(D28="","",ROUNDUP(SUM(H28:J28),0)) -> 96504 | L28: SI | M28: NO
B29: =+B28+1 -> 21 | C29: =+IF('Cálculos '!C29="","",'Cálculos '!C29) | D29: =+IF('Cálculos '!D29="","",'Cálculos '!D29) | E29: =+IF('Cálculos '!E29="","",'Cálculos '!E29) | F29: =+IF('Cálculos '!F29="","",'Cálculos '!F29) | G29: =+IF('Cálculos '!C29="","",'Cálculos '!H29) | H29: =IF('Precio unitario '!C23="","",ROUNDUP('Precio unitario '!J23,0)) | I29: =IF(C29="","",IF(L29="","CONFIRMAR SI EL PRODOCTRO TIENE IVA O NO",IF(L29="NO",0,ROUNDUP(SUM(H29*19%),0)))) | J29: =IF(C29="","",IF(M29="","CONFIRMAR SI EL PRODOCTRO TIENE ESTANPILLA O NO",IF(M29="NO",0,ROUNDUP(SUM(H29*11.5%),0)))) | K29: =+IF(C29="","",ROUNDUP(SUM(H29:J29),0))
B30: =+B29+1 -> 22 | C30: =+IF('Cálculos '!C30="","",'Cálculos '!C30) | D30: =+IF('Cálculos '!D30="","",'Cálculos '!D30) | E30: =+IF('Cálculos '!E30="","",'Cálculos '!E30) | F30: =+IF('Cálculos '!F30="","",'Cálculos '!F30) | G30: =+IF('Cálculos '!C30="","",'Cálculos '!H30) | H30: =IF('Precio unitario '!C24="","",ROUNDUP('Precio unitario '!J24,0)) | I30: =IF(C30="","",IF(L30="","CONFIRMAR SI EL PRODOCTRO TIENE IVA O NO",IF(L30="NO",0,ROUNDUP(SUM(H30*19%),0)))) | J30: =IF(C30="","",IF(M30="","CONFIRMAR SI EL PRODOCTRO TIENE ESTANPILLA O NO",IF(M30="NO",0,ROUNDUP(SUM(H30*11.5%),0)))) | K30: =+IF(C30="","",ROUNDUP(SUM(H30:J30),0))
B31: =+B30+1 -> 23 | C31: =+IF('Cálculos '!C31="","",'Cálculos '!C31) | D31: =+IF('Cálculos '!D31="","",'Cálculos '!D31) | E31: =+IF('Cálculos '!E31="","",'Cálculos '!E31) | F31: =+IF('Cálculos '!F31="","",'Cálculos '!F31) | G31: =+IF('Cálculos '!C31="","",'Cálculos '!H31) | H31: =IF('Precio unitario '!C25="","",ROUNDUP('Precio unitario '!J25,0)) | I31: =IF(C31="","",IF(L31="","CONFIRMAR SI EL PRODOCTRO TIENE IVA O NO",IF(L31="NO",0,ROUNDUP(SUM(H31*19%),0)))) | J31: =IF(C31="","",IF(M31="","CONFIRMAR SI EL PRODOCTRO TIENE ESTANPILLA O NO",IF(M31="NO",0,ROUNDUP(SUM(H31*11.5%),0)))) | K31: =+IF(C31="","",ROUNDUP(SUM(H31:J31),0))
B32: =+B31+1 -> 24 | C32: =+IF('Cálculos '!C32="","",'Cálculos '!C32) | D32: =+IF('Cálculos '!D32="","",'Cálculos '!D32) | E32: =+IF('Cálculos '!E32="","",'Cálculos '!E32) | F32: =+IF('Cálculos '!F32="","",'Cálculos '!F32) | G32: =+IF('Cálculos '!C32="","",'Cálculos '!H32) | H32: =IF('Precio unitario '!C26="","",ROUNDUP('Precio unitario '!J26,0)) | I32: =IF(C32="","",IF(L32="","CONFIRMAR SI EL PRODOCTRO TIENE IVA O NO",IF(L32="NO",0,ROUNDUP(SUM(H32*19%),0)))) | J32: =IF(C32="","",IF(M32="","CONFIRMAR SI EL PRODOCTRO TIENE ESTANPILLA O NO",IF(M32="NO",0,ROUNDUP(SUM(H32*11.5%),0)))) | K32: =+IF(C32="","",ROUNDUP(SUM(H32:J32),0))
B33: =+B32+1 -> 25 | C33: =+IF('Cálculos '!C33="","",'Cálculos '!C33) | D33: =+IF('Cálculos '!D33="","",'Cálculos '!D33) | E33: =+IF('Cálculos '!E33="","",'Cálculos '!E33) | F33: =+IF('Cálculos '!F33="","",'Cálculos '!F33) | G33: =+IF('Cálculos '!C33="","",'Cálculos '!H33) | H33: =IF('Precio unitario '!C27="","",ROUNDUP('Precio unitario '!J27,0)) | I33: =IF(C33="","",IF(L33="","CONFIRMAR SI EL PRODOCTRO TIENE IVA O NO",IF(L33="NO",0,ROUNDUP(SUM(H33*19%),0)))) | J33: =IF(C33="","",IF(M33="","CONFIRMAR SI EL PRODOCTRO TIENE ESTANPILLA O NO",IF(M33="NO",0,ROUNDUP(SUM(H33*11.5%),0)))) | K33: =+IF(C33="","",ROUNDUP(SUM(H33:J33),0))
B34: =+B33+1 -> 26 | C34: =+IF('Cálculos '!C34="","",'Cálculos '!C34) | D34: =+IF('Cálculos '!D34="","",'Cálculos '!D34) | E34: =+IF('Cálculos '!E34="","",'Cálculos '!E34) | F34: =+IF('Cálculos '!F34="","",'Cálculos '!F34) | G34: =+IF('Cálculos '!C34="","",'Cálculos '!H34) | H34: =IF('Precio unitario '!C28="","",ROUNDUP('Precio unitario '!J28,0)) | I34: =IF(C34="","",IF(L34="","CONFIRMAR SI EL PRODOCTRO TIENE IVA O NO",IF(L34="NO",0,ROUNDUP(SUM(H34*19%),0)))) | J34: =IF(C34="","",IF(M34="","CONFIRMAR SI EL PRODOCTRO TIENE ESTANPILLA O NO",IF(M34="NO",0,ROUNDUP(SUM(H34*11.5%),0)))) | K34: =+IF(C34="","",ROUNDUP(SUM(H34:J34),0))
B35: =+B34+1 -> 27 | C35: =+IF('Cálculos '!C35="","",'Cálculos '!C35) | D35: =+IF('Cálculos '!D35="","",'Cálculos '!D35) | E35: =+IF('Cálculos '!E35="","",'Cálculos '!E35) | F35: =+IF('Cálculos '!F35="","",'Cálculos '!F35) | G35: =+IF('Cálculos '!C35="","",'Cálculos '!H35) | H35: =IF('Precio unitario '!C29="","",ROUNDUP('Precio unitario '!J29,0)) | I35: =IF(C35="","",IF(L35="","CONFIRMAR SI EL PRODOCTRO TIENE IVA O NO",IF(L35="NO",0,ROUNDUP(SUM(H35*19%),0)))) | J35: =IF(C35="","",IF(M35="","CONFIRMAR SI EL PRODOCTRO TIENE ESTANPILLA O NO",IF(M35="NO",0,ROUNDUP(SUM(H35*11.5%),0)))) | K35: =+IF(C35="","",ROUNDUP(SUM(H35:J35),0))
B36: =+B35+1 -> 28 | C36: =+IF('Cálculos '!C36="","",'Cálculos '!C36) | D36: =+IF('Cálculos '!D36="","",'Cálculos '!D36) | E36: =+IF('Cálculos '!E36="","",'Cálculos '!E36) | F36: =+IF('Cálculos '!F36="","",'Cálculos '!F36) | G36: =+IF('Cálculos '!C36="","",'Cálculos '!H36) | H36: =IF('Precio unitario '!C30="","",ROUNDUP('Precio unitario '!J30,0)) | I36: =IF(C36="","",IF(L36="","CONFIRMAR SI EL PRODOCTRO TIENE IVA O NO",IF(L36="NO",0,ROUNDUP(SUM(H36*19%),0)))) | J36: =IF(C36="","",IF(M36="","CONFIRMAR SI EL PRODOCTRO TIENE ESTANPILLA O NO",IF(M36="NO",0,ROUNDUP(SUM(H36*11.5%),0)))) | K36: =+IF(C36="","",ROUNDUP(SUM(H36:J36),0))
B37: =+B36+1 -> 29 | C37: =+IF('Cálculos '!C37="","",'Cálculos '!C37) | D37: =+IF('Cálculos '!D37="","",'Cálculos '!D37) | E37: =+IF('Cálculos '!E37="","",'Cálculos '!E37) | F37: =+IF('Cálculos '!F37="","",'Cálculos '!F37) | G37: =+IF('Cálculos '!C37="","",'Cálculos '!H37) | H37: =IF('Precio unitario '!C31="","",ROUNDUP('Precio unitario '!J31,0)) | I37: =IF(C37="","",IF(L37="","CONFIRMAR SI EL PRODOCTRO TIENE IVA O NO",IF(L37="NO",0,ROUNDUP(SUM(H37*19%),0)))) | J37: =IF(C37="","",IF(M37="","CONFIRMAR SI EL PRODOCTRO TIENE ESTANPILLA O NO",IF(M37="NO",0,ROUNDUP(SUM(H37*11.5%),0)))) | K37: =+IF(C37="","",ROUNDUP(SUM(H37:J37),0))
B38: =+B37+1 -> 30 | C38: =+IF('Cálculos '!C38="","",'Cálculos '!C38) | D38: =+IF('Cálculos '!D38="","",'Cálculos '!D38) | E38: =+IF('Cálculos '!E38="","",'Cálculos '!E38) | F38: =+IF('Cálculos '!F38="","",'Cálculos '!F38) | G38: =+IF('Cálculos '!C38="","",'Cálculos '!H38) | H38: =IF('Precio unitario '!C32="","",ROUNDUP('Precio unitario '!J32,0)) | I38: =IF(C38="","",IF(L38="","CONFIRMAR SI EL PRODOCTRO TIENE IVA O NO",IF(L38="NO",0,ROUNDUP(SUM(H38*19%),0)))) | J38: =IF(C38="","",IF(M38="","CONFIRMAR SI EL PRODOCTRO TIENE ESTANPILLA O NO",IF(M38="NO",0,ROUNDUP(SUM(H38*11.5%),0)))) | K38: =+IF(C38="","",ROUNDUP(SUM(H38:J38),0))
B39: =+B38+1 -> 31 | C39: =+IF('Cálculos '!C39="","",'Cálculos '!C39) | D39: =+IF('Cálculos '!D39="","",'Cálculos '!D39) | E39: =+IF('Cálculos '!E39="","",'Cálculos '!E39) | F39: =+IF('Cálculos '!F39="","",'Cálculos '!F39) | G39: =+IF('Cálculos '!C39="","",'Cálculos '!H39) | H39: =IF('Precio unitario '!C33="","",ROUNDUP('Precio unitario '!J33,0)) | I39: =IF(C39="","",IF(L39="","CONFIRMAR SI EL PRODOCTRO TIENE IVA O NO",IF(L39="NO",0,ROUNDUP(SUM(H39*19%),0)))) | J39: =IF(C39="","",IF(M39="","CONFIRMAR SI EL PRODOCTRO TIENE ESTANPILLA O NO",IF(M39="NO",0,ROUNDUP(SUM(H39*11.5%),0)))) | K39: =+IF(C39="","",ROUNDUP(SUM(H39:J39),0))
B40: =+B39+1 -> 32 | C40: =+IF('Cálculos '!C40="","",'Cálculos '!C40) | D40: =+IF('Cálculos '!D40="","",'Cálculos '!D40) | E40: =+IF('Cálculos '!E40="","",'Cálculos '!E40) | F40: =+IF('Cálculos '!F40="","",'Cálculos '!F40) | G40: =+IF('Cálculos '!C40="","",'Cálculos '!H40) | H40: =IF('Precio unitario '!C34="","",ROUNDUP('Precio unitario '!J34,0)) | I40: =IF(C40="","",IF(L40="","CONFIRMAR SI EL PRODOCTRO TIENE IVA O NO",IF(L40="NO",0,ROUNDUP(SUM(H40*19%),0)))) | J40: =IF(C40="","",IF(M40="","CONFIRMAR SI EL PRODOCTRO TIENE ESTANPILLA O NO",IF(M40="NO",0,ROUNDUP(SUM(H40*11.5%),0)))) | K40: =+IF(C40="","",ROUNDUP(SUM(H40:J40),0))
... B379: =+B378+1 -> 371 | C379: =+IF('Cálculos '!C379="","",'Cálculos '!C379) | D379: =+IF('Cálculos '!D379="","",'Cálculos '!D379) | E379: =+IF('Cálculos '!E379="","",'Cálculos '!E379) | F379: =+IF('Cálculos '!F379="","",'Cálculos '!F379) | G379: =+IF('Cálculos '!C379="","",'Cálculos '!H379) | H379: =IF('Precio unitario '!C373="","",ROUNDUP('Precio unitario '!J373,0)) | I379: =IF(C379="","",IF(L379="","CONFIRMAR SI EL PRODOCTRO TIENE IVA O NO",IF(L379="NO",0,ROUNDUP(SUM(H379*19%),0)))) | J379: =IF(C379="","",IF(M379="","CONFIRMAR SI EL PRODOCTRO TIENE ESTANPILLA O NO",IF(M379="NO",0,ROUNDUP(SUM(H379*11.5%),0)))) | K379: =+IF(C379="","",ROUNDUP(SUM(H379:J379),0))
B380: =+B379+1 -> 372 | C380: =+IF('Cálculos '!C380="","",'Cálculos '!C380) | D380: =+IF('Cálculos '!D380="","",'Cálculos '!D380) | E380: =+IF('Cálculos '!E380="","",'Cálculos '!E380) | F380: =+IF('Cálculos '!F380="","",'Cálculos '!F380) | G380: =+IF('Cálculos '!C380="","",'Cálculos '!H380) | H380: =IF('Precio unitario '!C374="","",ROUNDUP('Precio unitario '!J374,0)) | I380: =IF(C380="","",IF(L380="","CONFIRMAR SI EL PRODOCTRO TIENE IVA O NO",IF(L380="NO",0,ROUNDUP(SUM(H380*19%),0)))) | J380: =IF(C380="","",IF(M380="","CONFIRMAR SI EL PRODOCTRO TIENE ESTANPILLA O NO",IF(M380="NO",0,ROUNDUP(SUM(H380*11.5%),0)))) | K380: =+IF(C380="","",ROUNDUP(SUM(H380:J380),0)) | R380: NO
B381: =+B380+1 -> 373 | C381: =+IF('Cálculos '!C381="","",'Cálculos '!C381) | D381: =+IF('Cálculos '!D381="","",'Cálculos '!D381) | E381: =+IF('Cálculos '!E381="","",'Cálculos '!E381) | F381: =+IF('Cálculos '!F381="","",'Cálculos '!F381) | G381: =+IF('Cálculos '!C381="","",'Cálculos '!H381) | H381: =IF('Precio unitario '!C375="","",ROUNDUP('Precio unitario '!J375,0)) | I381: =IF(C381="","",IF(L381="","CONFIRMAR SI EL PRODOCTRO TIENE IVA O NO",IF(L381="NO",0,ROUNDUP(SUM(H381*19%),0)))) | J381: =IF(C381="","",IF(M381="","CONFIRMAR SI EL PRODOCTRO TIENE ESTANPILLA O NO",IF(M381="NO",0,ROUNDUP(SUM(H381*11.5%),0)))) | K381: =+IF(C381="","",ROUNDUP(SUM(H381:J381),0))
B382: =+B381+1 -> 374 | C382: =+IF('Cálculos '!C382="","",'Cálculos '!C382) | D382: =+IF('Cálculos '!D382="","",'Cálculos '!D382) | E382: =+IF('Cálculos '!E382="","",'Cálculos '!E382) | F382: =+IF('Cálculos '!F382="","",'Cálculos '!F382) | G382: =+IF('Cálculos '!C382="","",'Cálculos '!H382) | H382: =IF('Precio unitario '!C376="","",ROUNDUP('Precio unitario '!J376,0)) | I382: =IF(C382="","",IF(L382="","CONFIRMAR SI EL PRODOCTRO TIENE IVA O NO",IF(L382="NO",0,ROUNDUP(SUM(H382*19%),0)))) | J382: =IF(C382="","",IF(M382="","CONFIRMAR SI EL PRODOCTRO TIENE ESTANPILLA O NO",IF(M382="NO",0,ROUNDUP(SUM(H382*11.5%),0)))) | K382: =+IF(C382="","",ROUNDUP(SUM(H382:J382),0))
B383: =+B382+1 -> 375 | C383: =+IF('Cálculos '!C383="","",'Cálculos '!C383) | D383: =+IF('Cálculos '!D383="","",'Cálculos '!D383) | E383: =+IF('Cálculos '!E383="","",'Cálculos '!E383) | F383: =+IF('Cálculos '!F383="","",'Cálculos '!F383) | G383: =+IF('Cálculos '!C383="","",'Cálculos '!H383) | H383: =IF('Precio unitario '!C377="","",ROUNDUP('Precio unitario '!J377,0)) | I383: =IF(C383="","",IF(L383="","CONFIRMAR SI EL PRODOCTRO TIENE IVA O NO",IF(L383="NO",0,ROUNDUP(SUM(H383*19%),0)))) | J383: =IF(C383="","",IF(M383="","CONFIRMAR SI EL PRODOCTRO TIENE ESTANPILLA O NO",IF(M383="NO",0,ROUNDUP(SUM(H383*11.5%),0)))) | K383: =+IF(C383="","",ROUNDUP(SUM(H383:J383),0))
B384: =+B383+1 -> 376 | C384: =+IF('Cálculos '!C384="","",'Cálculos '!C384) | D384: =+IF('Cálculos '!D384="","",'Cálculos '!D384) | E384: =+IF('Cálculos '!E384="","",'Cálculos '!E384) | F384: =+IF('Cálculos '!F384="","",'Cálculos '!F384) | G384: =+IF('Cálculos '!C384="","",'Cálculos '!H384) | H384: =IF('Precio unitario '!C378="","",ROUNDUP('Precio unitario '!J378,0)) | I384: =IF(C384="","",IF(L384="","CONFIRMAR SI EL PRODOCTRO TIENE IVA O NO",IF(L384="NO",0,ROUNDUP(SUM(H384*19%),0)))) | J384: =IF(C384="","",IF(M384="","CONFIRMAR SI EL PRODOCTRO TIENE ESTANPILLA O NO",IF(M384="NO",0,ROUNDUP(SUM(H384*11.5%),0)))) | K384: =+IF(C384="","",ROUNDUP(SUM(H384:J384),0))
B385: =+B384+1 -> 377 | C385: =+IF('Cálculos '!C385="","",'Cálculos '!C385) | D385: =+IF('Cálculos '!D385="","",'Cálculos '!D385) | E385: =+IF('Cálculos '!E385="","",'Cálculos '!E385) | F385: =+IF('Cálculos '!F385="","",'Cálculos '!F385) | G385: =+IF('Cálculos '!C385="","",'Cálculos '!H385) | H385: =IF('Precio unitario '!C379="","",ROUNDUP('Precio unitario '!J379,0)) | I385: =IF(C385="","",IF(L385="","CONFIRMAR SI EL PRODOCTRO TIENE IVA O NO",IF(L385="NO",0,ROUNDUP(SUM(H385*19%),0)))) | J385: =IF(C385="","",IF(M385="","CONFIRMAR SI EL PRODOCTRO TIENE ESTANPILLA O NO",IF(M385="NO",0,ROUNDUP(SUM(H385*11.5%),0)))) | K385: =+IF(C385="","",ROUNDUP(SUM(H385:J385),0))
B386: =+B385+1 -> 378 | C386: =+IF('Cálculos '!C386="","",'Cálculos '!C386) | D386: =+IF('Cálculos '!D386="","",'Cálculos '!D386) | E386: =+IF('Cálculos '!E386="","",'Cálculos '!E386) | F386: =+IF('Cálculos '!F386="","",'Cálculos '!F386) | G386: =+IF('Cálculos '!C386="","",'Cálculos '!H386) | H386: =IF('Precio unitario '!C380="","",ROUNDUP('Precio unitario '!J380,0)) | I386: =IF(C386="","",IF(L386="","CONFIRMAR SI EL PRODOCTRO TIENE IVA O NO",IF(L386="NO",0,ROUNDUP(SUM(H386*19%),0)))) | J386: =IF(C386="","",IF(M386="","CONFIRMAR SI EL PRODOCTRO TIENE ESTANPILLA O NO",IF(M386="NO",0,ROUNDUP(SUM(H386*11.5%),0)))) | K386: =+IF(C386="","",ROUNDUP(SUM(H386:J386),0))
B387: =+B386+1 -> 379 | C387: =+IF('Cálculos '!C387="","",'Cálculos '!C387) | D387: =+IF('Cálculos '!D387="","",'Cálculos '!D387) | E387: =+IF('Cálculos '!E387="","",'Cálculos '!E387) | F387: =+IF('Cálculos '!F387="","",'Cálculos '!F387) | G387: =+IF('Cálculos '!C387="","",'Cálculos '!H387) | H387: =IF('Precio unitario '!C381="","",ROUNDUP('Precio unitario '!J381,0)) | I387: =IF(C387="","",IF(L387="","CONFIRMAR SI EL PRODOCTRO TIENE IVA O NO",IF(L387="NO",0,ROUNDUP(SUM(H387*19%),0)))) | J387: =IF(C387="","",IF(M387="","CONFIRMAR SI EL PRODOCTRO TIENE ESTANPILLA O NO",IF(M387="NO",0,ROUNDUP(SUM(H387*11.5%),0)))) | K387: =+IF(C387="","",ROUNDUP(SUM(H387:J387),0))
B388: =+B387+1 -> 380 | C388: =+IF('Cálculos '!C388="","",'Cálculos '!C388) | D388: =+IF('Cálculos '!D388="","",'Cálculos '!D388) | E388: =+IF('Cálculos '!E388="","",'Cálculos '!E388) | F388: =+IF('Cálculos '!F388="","",'Cálculos '!F388) | G388: =+IF('Cálculos '!C388="","",'Cálculos '!H388) | H388: =IF('Precio unitario '!C382="","",ROUNDUP('Precio unitario '!J382,0)) | I388: =IF(C388="","",IF(L388="","CONFIRMAR SI EL PRODOCTRO TIENE IVA O NO",IF(L388="NO",0,ROUNDUP(SUM(H388*19%),0)))) | J388: =IF(C388="","",IF(M388="","CONFIRMAR SI EL PRODOCTRO TIENE ESTANPILLA O NO",IF(M388="NO",0,ROUNDUP(SUM(H388*11.5%),0)))) | K388: =+IF(C388="","",ROUNDUP(SUM(H388:J388),0))
B389: =+B388+1 -> 381 | C389: =+IF('Cálculos '!C389="","",'Cálculos '!C389) | D389: =+IF('Cálculos '!D389="","",'Cálculos '!D389) | E389: =+IF('Cálculos '!E389="","",'Cálculos '!E389) | F389: =+IF('Cálculos '!F389="","",'Cálculos '!F389) | G389: =+IF('Cálculos '!C389="","",'Cálculos '!H389) | H389: =IF('Precio unitario '!C383="","",ROUNDUP('Precio unitario '!J383,0)) | I389: =IF(C389="","",IF(L389="","CONFIRMAR SI EL PRODOCTRO TIENE IVA O NO",IF(L389="NO",0,ROUNDUP(SUM(H389*19%),0)))) | J389: =IF(C389="","",IF(M389="","CONFIRMAR SI EL PRODOCTRO TIENE ESTANPILLA O NO",IF(M389="NO",0,ROUNDUP(SUM(H389*11.5%),0)))) | K389: =+IF(C389="","",ROUNDUP(SUM(H389:J389),0))
B390: =+B389+1 -> 382 | C390: =+IF('Cálculos '!C390="","",'Cálculos '!C390) | D390: =+IF('Cálculos '!D390="","",'Cálculos '!D390) | E390: =+IF('Cálculos '!E390="","",'Cálculos '!E390) | F390: =+IF('Cálculos '!F390="","",'Cálculos '!F390) | G390: =+IF('Cálculos '!C390="","",'Cálculos '!H390) | H390: =IF('Precio unitario '!C384="","",ROUNDUP('Precio unitario '!J384,0)) | I390: =IF(C390="","",IF(L390="","CONFIRMAR SI EL PRODOCTRO TIENE IVA O NO",IF(L390="NO",0,ROUNDUP(SUM(H390*19%),0)))) | J390: =IF(C390="","",IF(M390="","CONFIRMAR SI EL PRODOCTRO TIENE ESTANPILLA O NO",IF(M390="NO",0,ROUNDUP(SUM(H390*11.5%),0)))) | K390: =+IF(C390="","",ROUNDUP(SUM(H390:J390),0))
B391: =+B390+1 -> 383 | C391: =+IF('Cálculos '!C391="","",'Cálculos '!C391) | D391: =+IF('Cálculos '!D391="","",'Cálculos '!D391) | E391: =+IF('Cálculos '!E391="","",'Cálculos '!E391) | F391: =+IF('Cálculos '!F391="","",'Cálculos '!F391) | G391: =+IF('Cálculos '!C391="","",'Cálculos '!H391) | H391: =IF('Precio unitario '!C385="","",ROUNDUP('Precio unitario '!J385,0)) | I391: =IF(C391="","",IF(L391="","CONFIRMAR SI EL PRODOCTRO TIENE IVA O NO",IF(L391="NO",0,ROUNDUP(SUM(H391*19%),0)))) | J391: =IF(C391="","",IF(M391="","CONFIRMAR SI EL PRODOCTRO TIENE ESTANPILLA O NO",IF(M391="NO",0,ROUNDUP(SUM(H391*11.5%),0)))) | K391: =+IF(C391="","",ROUNDUP(SUM(H391:J391),0))
B392: =+B391+1 -> 384 | C392: =+IF('Cálculos '!C392="","",'Cálculos '!C392) | D392: =+IF('Cálculos '!D392="","",'Cálculos '!D392) | E392: =+IF('Cálculos '!E392="","",'Cálculos '!E392) | F392: =+IF('Cálculos '!F392="","",'Cálculos '!F392) | G392: =+IF('Cálculos '!C392="","",'Cálculos '!H392) | H392: =IF('Precio unitario '!C386="","",ROUNDUP('Precio unitario '!J386,0)) | I392: =IF(C392="","",IF(L392="","CONFIRMAR SI EL PRODOCTRO TIENE IVA O NO",IF(L392="NO",0,ROUNDUP(SUM(H392*19%),0)))) | J392: =IF(C392="","",IF(M392="","CONFIRMAR SI EL PRODOCTRO TIENE ESTANPILLA O NO",IF(M392="NO",0,ROUNDUP(SUM(H392*11.5%),0)))) | K392: =+IF(C392="","",ROUNDUP(SUM(H392:J392),0))
