Workbook
Name ___EST12: #REF!
Name __aiu2: [1]AIU!$J$105
Name __EST1: #REF!
Name __EST10: #REF!
Name __EST11: #REF!
Name __EST12: #REF!
Name __EST13: #REF!
Name __EST14: #REF!
Name __EST15: #REF!
Name __EST16: #REF!
Name __EST17: #REF!
Name __EST18: #REF!
Name __EST19: #REF!
Name __EST2: #REF!
Name __EST23: #REF!
Name __EST3: #REF!
Name __EST4: #REF!
Name __EST5: #REF!
Name __EST6: #REF!
Name __EST7: #REF!
Name __EST8: #REF!
Name __EST9: #REF!
Name __EXC1: #REF!
Name __EXC10: #REF!
Name __EXC11: #REF!
Name __EXC12: #REF!
Name __EXC2: #REF!
Name __EXC3: #REF!
Name __EXC4: #REF!
Name __EXC5: #REF!
Name __EXC6: #REF!
Name __EXC7: #REF!
Name __EXC8: #REF!
Name __EXC9: #REF!
Name _aiu2: [1]AIU!$J$105
Name _EST1: #REF!
Name _EST10: #REF!
Name _EST11: #REF!
Name _EST12: #REF!
Name _EST13: #REF!
Name _EST14: #REF!
Name _EST15: #REF!
Name _EST16: #REF!
Name _EST17: #REF!
Name _EST18: #REF!
Name _EST19: #REF!
Name _EST2: #REF!
Name _EST23: #REF!
Name _EST3: #REF!
Name _EST4: #REF!
Name _EST5: #REF!
Name _EST6: #REF!
Name _EST7: #REF!
Name _EST8: #REF!
Name _EST9: #REF!
Name _EXC1: #REF!
Name _EXC10: #REF!
Name _EXC11: #REF!
Name _EXC12: #REF!
Name _EXC2: #REF!

Sheet CRON
A2: OBJETO: CONTRATO DE OBRA A TODO COSTO PARA LA CONSTRUCCION, MANTENIMIENTO Y MEJORAMIENTO DE DIFERENTES SEDES EDUCATIVAS DEL MUNICIPIO DE EL PITAL HUILA, CONFORME A LA FICHA TECNICA, EN CUMPLIMIENTO DEL PLAN DE DESARROLLO "UNIDOS SI PODEMOS 2024-2027"
A4: CRONOGRAMA DE ACTIVIDADES
A5: DESCRIPCIÓN | E5: MES 1 | AH5: MES 2 | BJ5: MES 3
A6: ITEM | B6: ACTIVIDAD | C6: UND | D6: CANT | E6: SEMANA 1 | L6: SEMANA 2 | S6: SEMANA 3 | AA6: SEMANA 4 | AH6: SEMANA 5 | AO6: SEMANA 6 | AV6: SEMANA 7 | BC6: SEMANA 8 | BJ6: SEMANA 9 | BK6: SEMANA 10 | BL6: SEMANA 11 | BM6: SEMANA 12
A7: A | B7: CONSTRUCCIÓN DE COMEDOR - COCINA EN LA INSTITUCIÓN EDUCATIVA NUESTRA SEÑORA DEL CARMEN SEDE EL AMPARO
A8: ='PRESUPUESTO OFICIAL (Entidad)'!B13 -> A1 | B8: ='PRESUPUESTO OFICIAL (Entidad)'!C13 -> PRELIMINARES Y DEMOLICIONES - DESMONTE DE ELEMENTOS
A9: ='PRESUPUESTO OFICIAL (Entidad)'!B14 -> A1,1 | B9: ='PRESUPUESTO OFICIAL (Entidad)'!C14 -> Localización y Replanteo manual. | C9: ='PRESUPUESTO OFICIAL (Entidad)'!D14 -> M2 | D9: ='PRESUPUESTO OFICIAL (Entidad)'!E14 -> 65.83
A10: ='PRESUPUESTO OFICIAL (Entidad)'!B15 -> A1,2 | B10: ='PRESUPUESTO OFICIAL (Entidad)'!C15 -> Demolición mecánica de concreto ciclópeo | C10: ='PRESUPUESTO OFICIAL (Entidad)'!D15 -> M3 | D10: ='PRESUPUESTO OFICIAL (Entidad)'!E15 -> 3.53
A11: ='PRESUPUESTO OFICIAL (Entidad)'!B16 -> A2 | B11: ='PRESUPUESTO OFICIAL (Entidad)'!C16 -> MOVIMIENTO DE TIERRA
A12: ='PRESUPUESTO OFICIAL (Entidad)'!B17 -> A2,1 | B12: ='PRESUPUESTO OFICIAL (Entidad)'!C17 -> Excavacion manual. Incluye retiro del material. | C12: ='PRESUPUESTO OFICIAL (Entidad)'!D17 -> M3 | D12: ='PRESUPUESTO OFICIAL (Entidad)'!E17 -> 15.61
A13: ='PRESUPUESTO OFICIAL (Entidad)'!B18 -> A2,2 | B13: ='PRESUPUESTO OFICIAL (Entidad)'!C18 -> Relleno en recebo compactado mecánicamente. | C13: ='PRESUPUESTO OFICIAL (Entidad)'!D18 -> M3 | D13: ='PRESUPUESTO OFICIAL (Entidad)'!E18 -> 15.09
A14: ='PRESUPUESTO OFICIAL (Entidad)'!B19 -> A3 | B14: ='PRESUPUESTO OFICIAL (Entidad)'!C19 -> CIMIENTOS
A15: ='PRESUPUESTO OFICIAL (Entidad)'!B20 -> A3,1 | B15: ='PRESUPUESTO OFICIAL (Entidad)'!C20 -> Concreto Ciclópeo (40% en piedra media zonga y 60% concreto 2500 PSI de 0,30*0,40 m). | C15: ='PRESUPUESTO OFICIAL (Entidad)'!D20 -> M3 | D15: ='PRESUPUESTO OFICIAL (Entidad)'!E20 -> 3.07
A16: ='PRESUPUESTO OFICIAL (Entidad)'!B21 -> A3,2 | B16: ='PRESUPUESTO OFICIAL (Entidad)'!C21 -> Cimentación tipo zapatas en concreto de 3000 P.S.I (0,70*0,70*0,30mts). | C16: ='PRESUPUESTO OFICIAL (Entidad)'!D21 -> M3 | D16: ='PRESUPUESTO OFICIAL (Entidad)'!E21 -> 0.74
A17: ='PRESUPUESTO OFICIAL (Entidad)'!B22 -> A3,3 | B17: ='PRESUPUESTO OFICIAL (Entidad)'!C22 -> Cimentación tipo zapatas en concreto de 3000 P.S.I (1,00*1,00*0,30mts). | C17: ='PRESUPUESTO OFICIAL (Entidad)'!D22 -> M3 | D17: ='PRESUPUESTO OFICIAL (Entidad)'!E22 -> 0.3
A18: ='PRESUPUESTO OFICIAL (Entidad)'!B23 -> A3,4 | B18: ='PRESUPUESTO OFICIAL (Entidad)'!C23 -> Viga de cimentación en concreto de 3000 PSI (0,30*0,30mts). Incluye acero de refuerzo de 60000 PSI (4Ø5/8" refuerzo y E=Ø3/8" c./d. 0,10 mts). | C18: ='PRESUPUESTO OFICIAL (Entidad)'!D23 -> ML | D18: ='PRESUPUESTO OFICIAL (Entidad)'!E23 -> 39.15
A19: ='PRESUPUESTO OFICIAL (Entidad)'!B24 -> A3,5 | B19: ='PRESUPUESTO OFICIAL (Entidad)'!C24 -> Cimentación tipo solado de limpieza concreto 1700 psi e=0,05 m. | C19: ='PRESUPUESTO OFICIAL (Entidad)'!D24 -> M2 | D19: ='PRESUPUESTO OFICIAL (Entidad)'!E24 -> 3.45
A20: ='PRESUPUESTO OFICIAL (Entidad)'!B25 -> A3,6 | B20: ='PRESUPUESTO OFICIAL (Entidad)'!C25 -> Acero de refuerzo 600000 PSI, para zapata (incluye amarre y figurado). | C20: ='PRESUPUESTO OFICIAL (Entidad)'!D25 -> KG | D20: ='PRESUPUESTO OFICIAL (Entidad)'!E25 -> 86.74
A21: ='PRESUPUESTO OFICIAL (Entidad)'!B26 -> A4 | B21: ='PRESUPUESTO OFICIAL (Entidad)'!C26 -> MAMPOSTERIA
A22: ='PRESUPUESTO OFICIAL (Entidad)'!B27 -> A4,1 | B22: ='PRESUPUESTO OFICIAL (Entidad)'!C27 -> Construccion de Muro en Bloque de arcilla #5 (12x20x30cm) Incluye mortero de pega y bloque. | C22: ='PRESUPUESTO OFICIAL (Entidad)'!D27 -> M2 | D22: ='PRESUPUESTO OFICIAL (Entidad)'!E27 -> 82.89
A23: ='PRESUPUESTO OFICIAL (Entidad)'!B28 -> A4,2 | B23: ='PRESUPUESTO OFICIAL (Entidad)'!C28 -> Construccion de Mesón en concreto 3000 psi, a=0,60, e=0.10 enchapado, inc. Acero (1Ø1/2"c.015 ambos sentidos). | C23: ='PRESUPUESTO OFICIAL (Entidad)'!D28 -> ML | D23: ='PRESUPUESTO OFICIAL (Entidad)'!E28 -> 7.85
A24: ='PRESUPUESTO OFICIAL (Entidad)'!B29 -> A4,3 | B24: ='PRESUPUESTO OFICIAL (Entidad)'!C29 -> Construccion de Alfajía en Concreto 3000 PSI, E= 0.15X0.25 MTS – Incluye: Acero de refuerzo de 60000 PSI (2Ø3/8" refuerzo y E=Ø1/4" c. 0,35 m). | C24: ='PRESUPUESTO OFICIAL (Entidad)'!D29 -> ML | D24: ='PRESUPUESTO OFICIAL (Entidad)'!E29 -> 5.9
A25: ='PRESUPUESTO OFICIAL (Entidad)'!B30 -> A5 | B25: ='PRESUPUESTO OFICIAL (Entidad)'!C30 -> ESTRUCTURA
A26: ='PRESUPUESTO OFICIAL (Entidad)'!B31 -> A5,1 | B26: ='PRESUPUESTO OFICIAL (Entidad)'!C31 -> Viga aérea en concreto de 3000 PSI. (0,30*0,30mts). Incluye acero de refuerzo fy= 60000 PSI. (4Ø5/8" refuerzo y E=Ø3/8" c./d. 0,10 mts). | C26: ='PRESUPUESTO OFICIAL (Entidad)'!D31 -> ML | D26: ='PRESUPUESTO OFICIAL (Entidad)'!E31 -> 33.3
A27: ='PRESUPUESTO OFICIAL (Entidad)'!B32 -> A5,2 | B27: ='PRESUPUESTO OFICIAL (Entidad)'!C32 -> Columna en concreto de 3000 PSI (0.30x0.30mts). Incluye acero de refuerzo de 60000 PSI (6Ø5/8", refuerzo y E=Ø3/8" c./d. 0,10 mts Y 0,15 mts). | C27: ='PRESUPUESTO OFICIAL (Entidad)'!D32 -> ML | D27: ='PRESUPUESTO OFICIAL (Entidad)'!E32 -> 22.56
A28: ='PRESUPUESTO OFICIAL (Entidad)'!B33 -> A5,3 | B28: ='PRESUPUESTO OFICIAL (Entidad)'!C33 -> Columna de confinamiento (0,20x0,15mts) en concreto de 3000 PSI. Incluye refuerzo de 6000 PSI ( 4Ø 1/2" refuerzo y E=Ø 1/4" c./d. 0,10 mts). | C28: ='PRESUPUESTO OFICIAL (Entidad)'!D33 -> ML | D28: ='PRESUPUESTO OFICIAL (Entidad)'!E33 -> 12.6
A29: ='PRESUPUESTO OFICIAL (Entidad)'!B34 -> A5,4 | B29: ='PRESUPUESTO OFICIAL (Entidad)'!C34 -> Viga cinta en concreto 3000 PSI ( 0.10x0.20mts). Incluye acero (2Ø3/8" refuerzo y E=Ø1/4" c/d. 0,10mts). | C29: ='PRESUPUESTO OFICIAL (Entidad)'!D34 -> ML | D29: ='PRESUPUESTO OFICIAL (Entidad)'!E34 -> 32.8
A30: ='PRESUPUESTO OFICIAL (Entidad)'!B35 -> A5,5 | B30: ='PRESUPUESTO OFICIAL (Entidad)'!C35 -> Construccion de Placa aerea en concreto armado de 3000 psi e = 10 cm. | C30: ='PRESUPUESTO OFICIAL (Entidad)'!D35 -> M2 | D30: ='PRESUPUESTO OFICIAL (Entidad)'!E35 -> 1.44
A31: ='PRESUPUESTO OFICIAL (Entidad)'!B36 -> A6 | B31: ='PRESUPUESTO OFICIAL (Entidad)'!C36 -> INSTALACIONES ELÉCTRICAS
A32: ='PRESUPUESTO OFICIAL (Entidad)'!B37 -> A6,1 | B32: ='PRESUPUESTO OFICIAL (Entidad)'!C37 -> Suministro e instalación de Tablero monofásico 4 circuitos. | C32: ='PRESUPUESTO OFICIAL (Entidad)'!D37 -> UND | D32: ='PRESUPUESTO OFICIAL (Entidad)'!E37 -> 1
A33: ='PRESUPUESTO OFICIAL (Entidad)'!B38 -> A6,2 | B33: ='PRESUPUESTO OFICIAL (Entidad)'!C38 -> Suministro e instalación de Salida toma corriente doble 110 v. | C33: ='PRESUPUESTO OFICIAL (Entidad)'!D38 -> UND | D33: ='PRESUPUESTO OFICIAL (Entidad)'!E38 -> 3
A34: ='PRESUPUESTO OFICIAL (Entidad)'!B39 -> A6,3 | B34: ='PRESUPUESTO OFICIAL (Entidad)'!C39 -> Suministro e instalación de Salida Interruptor Sencillo 110 v. | C34: ='PRESUPUESTO OFICIAL (Entidad)'!D39 -> UND | D34: ='PRESUPUESTO OFICIAL (Entidad)'!E39 -> 1
A35: ='PRESUPUESTO OFICIAL (Entidad)'!B40 -> A6,4 | B35: ='PRESUPUESTO OFICIAL (Entidad)'!C40 -> Suministro e instalación de Salida Interruptor Doble 110 v. | C35: ='PRESUPUESTO OFICIAL (Entidad)'!D40 -> UND | D35: ='PRESUPUESTO OFICIAL (Entidad)'!E40 -> 1
A36: ='PRESUPUESTO OFICIAL (Entidad)'!B41 -> A6,5 | B36: ='PRESUPUESTO OFICIAL (Entidad)'!C41 -> Suministro e instalación de Salida lampara fluorescente electrónica 2 X 48 w, incluye lampara. | C36: ='PRESUPUESTO OFICIAL (Entidad)'!D41 -> UND | D36: ='PRESUPUESTO OFICIAL (Entidad)'!E41 -> 3
A37: ='PRESUPUESTO OFICIAL (Entidad)'!B42 -> A6,6 | B37: ='PRESUPUESTO OFICIAL (Entidad)'!C42 -> Suministro e instalación de Puesta a tierra de tablero de distribicion, polo a tierra, varilla C. W. 2,40 ml. | C37: ='PRESUPUESTO OFICIAL (Entidad)'!D42 -> UND | D37: ='PRESUPUESTO OFICIAL (Entidad)'!E42 -> 1
A38: ='PRESUPUESTO OFICIAL (Entidad)'!B43 -> A6,7 | B38: ='PRESUPUESTO OFICIAL (Entidad)'!C43 -> Suministro e instalación de Red electrica en tuberia pvc de 1/2", incluye 1 linea No 10 + 1 neutro No 10 + 1 Linea No 14 para toma corrientes. | C38: ='PRESUPUESTO OFICIAL (Entidad)'!D43 -> ML | D38: ='PRESUPUESTO OFICIAL (Entidad)'!E43 -> 15.95
A39: ='PRESUPUESTO OFICIAL (Entidad)'!B44 -> A6,8 | B39: ='PRESUPUESTO OFICIAL (Entidad)'!C44 -> Suministro e instalación de Red electrica en tuberia pvc de 1/2", incluye 1 N° 12 + neutro N° 12 para luminarias. | C39: ='PRESUPUESTO OFICIAL (Entidad)'!D44 -> ML | D39: ='PRESUPUESTO OFICIAL (Entidad)'!E44 -> 16.51
A40: ='PRESUPUESTO OFICIAL (Entidad)'!B45 -> A6,9 | B40: ='PRESUPUESTO OFICIAL (Entidad)'!C45 -> Suministro e instalación de Cable concentrico monofasico. | C40: ='PRESUPUESTO OFICIAL (Entidad)'!D45 -> ML | D40: ='PRESUPUESTO OFICIAL (Entidad)'!E45 -> 6
A41: ='PRESUPUESTO OFICIAL (Entidad)'!B46 -> A7 | B41: ='PRESUPUESTO OFICIAL (Entidad)'!C46 -> INSTALACIONES HIDRAULICAS Y SANITARIAS
A42: ='PRESUPUESTO OFICIAL (Entidad)'!B47 -> A7,1 | B42: ='PRESUPUESTO OFICIAL (Entidad)'!C47 -> Suministro e instalacion de Punto de desague en pvc 2", incluye tuberia. | C42: ='PRESUPUESTO OFICIAL (Entidad)'!D47 -> UND | D42: ='PRESUPUESTO OFICIAL (Entidad)'!E47 -> 1
...

Sheet PRESUPUESTO OFICIAL (Entidad)
B1: ITEM | C1: DESCRIPCION | D1: UNID | E1: CANT. | F1: VR. UNIT | G1: VR. TOTAL
B9: OBJETO: CONTRATO DE OBRA A TODO COSTO PARA LA CONSTRUCCION, MANTENIMIENTO Y MEJORAMIENTO DE DIFERENTES SEDES EDUCATIVAS DEL MUNICIPIO DE EL PITAL HUILA, CONFORME A LA FICHA TECNICA, EN CUMPLIMIENTO DEL PLAN DE DESARROLLO "UNIDOS SI PODEMOS 2024-2027"
B11: ITEM | C11: DESCRIPCION | D11: UNIDAD | E11: CANTIDAD | F11: VALOR UNITARIO | G11: VALOR TOTAL
A12: 12 | B12: A | C12: CONSTRUCCIÓN DE COMEDOR - COCINA EN LA INSTITUCIÓN EDUCATIVA PROMOCION SOCIAL SEDE CHIMBAYACO | G12: =G13+G16+G19+G26+G30+G36+G46+G57+G59+G64+G69+G74+G77+G81 -> 78558548 | H12: =G12*0.3 -> 23567564 | I12: =G12+H12 -> 1.0212611e+08 | J12: =I12*0.01 -> 1021261.1 | K12: =I12+J12 -> 1.0314737e+08
A13: 13 | B13: A1 | C13: PRELIMINARES Y DEMOLICIONES - DESMONTE DE ELEMENTOS | G13: =SUM(G14:G15) -> 1026733
A14: 14 | B14: A1,1 | C14: Localización y Replanteo manual. | D14: M2 | E14: ='M.C. '!K22 -> 65.83 | F14: ='A1,1-B1,1-C1,1-E1,1-F1,1'!F48 -> 5209 | G14: =E14*F14 -> 342908.47 | I14: =F14*0.3 -> 1562.7
A15: 15 | B15: A1,2 | C15: Demolición mecánica de concreto ciclópeo | D15: M3 | E15: ='M.C. '!K24 -> 3.53 | F15: ='A1,2'!F48 -> 193718 | G15: =E15*F15 -> 683824.54
A16: 16 | B16: A2 | C16: MOVIMIENTO DE TIERRA | G16: =SUM(G17:G18) -> 1757188.9
A17: 17 | B17: A2,1 | C17: Excavacion manual. Incluye retiro del material. | D17: M3 | E17: ='M.C. '!K27 -> 15.61 | F17: ='A2,1-B2,1-C2,1-E2,2-F3,1'!F48 -> 58887 | G17: =E17*F17 -> 919226.07
A18: 18 | B18: A2,2 | C18: Relleno en recebo compactado mecánicamente. | D18: M3 | E18: ='M.C. '!K44 -> 15.09 | F18: ='A2,2-C2,2-E2,1-F3,2'!F48 -> 55531 | G18: =E18*F18 -> 837962.79
A19: 19 | B19: A3 | C19: CIMIENTOS | G19: =SUM(G20:G25) -> 9907465.1
A20: 20 | B20: A3,1 | C20: Concreto Ciclópeo (40% en piedra media zonga y 60% concreto 2500 PSI de 0,30*0,40 m). | D20: M3 | E20: ='M.C. '!K52 -> 3.07 | F20: ='A3,1-C3,1-E3,1'!F48 -> 634602 | G20: =E20*F20 -> 1948228.1
A21: 21 | B21: A3,2 | C21: Cimentación tipo zapatas en concreto de 3000 P.S.I (0,70*0,70*0,30mts). | D21: M3 | E21: ='M.C. '!K54 -> 0.74 | F21: ='A3,2'!F48 -> 810715 | G21: =E21*F21 -> 599929.1
A22: 22 | B22: A3,3 | C22: Cimentación tipo zapatas en concreto de 3000 P.S.I (1,00*1,00*0,30mts). | D22: M3 | E22: ='M.C. '!K56 -> 0.3 | F22: ='A3,3'!F48 -> 810715 | G22: =E22*F22 -> 243214.5
A23: 23 | B23: A3,4 | C23: Viga de cimentación en concreto de 3000 PSI (0,30*0,30mts). Incluye acero de refuerzo de 60000 PSI (4Ø5/8" refuerzo y E=Ø3/8" c./d. 0,10 mts). | D23: ML | E23: ='M.C. '!K58 -> 39.15 | F23: ='A3,4 '!F48 -> 157348 | G23: =E23*F23 -> 6160174.2
A24: 24 | B24: A3,5 | C24: Cimentación tipo solado de limpieza concreto 1700 psi e=0,05 m. | D24: M2 | E24: ='M.C. '!K68 -> 3.45 | F24: ='A3,5-C3,5'!F48 -> 43232 | G24: =E24*F24 -> 149150.4
A25: 25 | B25: A3,6 | C25: Acero de refuerzo 600000 PSI, para zapata (incluye amarre y figurado). | D25: KG | E25: ='M.C. '!K71 -> 86.74 | F25: ='A3,6'!F48 -> 9301 | G25: =E25*F25 -> 806768.74
A26: 26 | B26: A4 | C26: MAMPOSTERIA | G26: =SUM(G27:G29) -> 7901407.2
A27: 27 | B27: A4,1 | C27: Construccion de Muro en Bloque de arcilla #5 (12x20x30cm) Incluye mortero de pega y bloque. | D27: M2 | E27: ='M.C. '!K75 -> 82.89 | F27: ='A4,1 -B4,1-C5,1-F6,1'!F48 -> 60669 | G27: =E27*F27 -> 5028853.4
A28: 28 | B28: A4,2 | C28: Construccion de Mesón en concreto 3000 psi, a=0,60, e=0.10 enchapado, inc. Acero (1Ø1/2"c.015 ambos sentidos). | D28: ML | E28: ='M.C. '!K89 -> 7.85 | F28: ='A4,2-F6,2'!F48 -> 301897 | G28: =E28*F28 -> 2369891.4
A29: 29 | B29: A4,3 | C29: Construccion de Alfajía en Concreto 3000 PSI, E= 0.15X0.25 MTS – Incluye: Acero de refuerzo de 60000 PSI (2Ø3/8" refuerzo y E=Ø1/4" c. 0,35 m). | D29: ML | E29: ='M.C. '!K92 -> 5.9 | F29: ='A4,3-C5,2'!F48 -> 85197 | G29: =E29*F29 -> 502662.3
A30: 30 | B30: A5 | C30: ESTRUCTURA | G30: =SUM(G31:G35) -> 14489455
A31: 31 | B31: A5,1 | C31: Viga aérea en concreto de 3000 PSI. (0,30*0,30mts). Incluye acero de refuerzo fy= 60000 PSI. (4Ø5/8" refuerzo y E=Ø3/8" c./d. 0,10 mts). | D31: ML | E31: ='M.C. '!K96 -> 33.3 | F31: ='A5,1-C4,1'!F48 -> 189157 | G31: =E31*F31 -> 6298928.1
A32: 32 | B32: A5,2 | C32: Columna en concreto de 3000 PSI (0.30x0.30mts). Incluye acero de refuerzo de 60000 PSI (6Ø5/8", refuerzo y E=Ø3/8" c./d. 0,10 mts Y 0,15 mts). | D32: ML | E32: ='M.C. '!K104 -> 22.56 | F32: ='A5,2'!F48 -> 203421 | G32: =E32*F32 -> 4589177.8
A33: 33 | B33: A5,3 | C33: Columna de confinamiento (0,20x0,15mts) en concreto de 3000 PSI. Incluye refuerzo de 6000 PSI ( 4Ø 1/2" refuerzo y E=Ø 1/4" c./d. 0,10 mts). | D33: ML | E33: ='M.C. '!K111 -> 12.6 | F33: ='A5,3'!F48 -> 87398 | G33: =E33*F33 -> 1101214.8
A34: 34 | B34: A5,4 | C34: Viga cinta en concreto 3000 PSI ( 0.10x0.20mts). Incluye acero (2Ø3/8" refuerzo y E=Ø1/4" c/d. 0,10mts). | D34: ML | E34: ='M.C. '!K113 -> 32.8 | F34: ='A5,4'!F48 -> 61584 | G34: =E34*F34 -> 2019955.2
A35: 35 | B35: A5,5 | C35: Construccion de Placa aerea en concreto armado de 3000 psi e = 10 cm. | D35: M2 | E35: ='M.C. '!K116 -> 1.44 | F35: ='A5,5-B5,4'!F48 -> 333458 | G35: =E35*F35 -> 480179.52
A36: 36 | B36: A6 | C36: INSTALACIONES ELÉCTRICAS | G36: =SUM(G37:G45) -> 3124520.5
A37: 37 | B37: A6,1 | C37: Suministro e instalación de Tablero monofásico 4 circuitos. | D37: UND | E37: ='M.C. '!K119 -> 1 | F37: ='A6,1-C6,7'!F48 -> 388676 | G37: =E37*F37 -> 388676
A38: 38 | B38: A6,2 | C38: Suministro e instalación de Salida toma corriente doble 110 v. | D38: UND | E38: ='M.C. '!K121 -> 3 | F38: ='A6,2-C6,2'!F49 -> 58890 | G38: =E38*F38 -> 176670
A39: 39 | B39: A6,3 | C39: Suministro e instalación de Salida Interruptor Sencillo 110 v. | D39: UND | E39: ='M.C. '!K123 -> 1 | F39: ='A6,3'!F48 -> 32861 | G39: =E39*F39 -> 32861
A40: 40 | B40: A6,4 | C40: Suministro e instalación de Salida Interruptor Doble 110 v. | D40: UND | E40: ='M.C. '!K125 -> 1 | F40: ='A6,4-B6,2-C6,3'!F48 -> 38027 | G40: =E40*F40 -> 38027
A41: 41 | B41: A6,5 | C41: Suministro e instalación de Salida lampara fluorescente electrónica 2 X 48 w, incluye lampara. | D41: UND | E41: ='M.C. '!K127 -> 3 | F41: ='A6,5-C6,1'!F48 -> 259034 | G41: =E41*F41 -> 777102
A42: 42 | B42: A6,6 | C42: Suministro e instalación de Puesta a tierra de tablero de distribicion, polo a tierra, varilla C. W. 2,40 ml. | D42: UND | E42: ='M.C. '!K129 -> 1 | F42: ='A6,6-C6,6'!F50 -> 254119 | G42: =E42*F42 -> 254119
A43: 43 | B43: A6,7 | C43: Suministro e instalación de Red electrica en tuberia pvc de 1/2", incluye 1 linea No 10 + 1 neutro No 10 + 1 Linea No 14 para toma corrientes. | D43: ML | E43: ='M.C. '!K131 -> 15.95 | F43: ='A6,7-C6,5'!F48 -> 42760 | G43: =E43*F43 -> 682022
A44: 44 | B44: A6,8 | C44: Suministro e instalación de Red electrica en tuberia pvc de 1/2", incluye 1 N° 12 + neutro N° 12 para luminarias. | D44: ML | E44: ='M.C. '!K133 -> 16.51 | F44: ='A6,8-B6,4-C6,4'!F48 -> 35348 | G44: =E44*F44 -> 583595.48
A45: 45 | B45: A6,9 | C45: Suministro e instalación de Cable concentrico monofasico. | D45: ML | E45: ='M.C. '!K135 -> 6 | F45: ='A6,9-B6,5-C6,8'!F48 -> 31908 | G45: =E45*F45 -> 191448
A46: 46 | B46: A7 | C46: INSTALACIONES HIDRAULICAS Y SANITARIAS | G46: =SUM(G47:G56) -> 2019827
A47: 47 | B47: A7,1 | C47: Suministro e instalacion de Punto de desague en pvc 2", incluye tuberia. | D47: UND | E47: ='M.C. '!K138 -> 1 | F47: ='A7,1-B7,1-F7,1'!F48 -> 68127 | G47: =E47*F47 -> 68127
A48: 48 | B48: A7,2 | C48: Suministro e instalacion de Punto de desague en pvc 3", incluye tuberia. | D48: UND | E48: ='M.C. '!K140 -> 2 | F48: ='A7,2-B7,2-B7,2'!F48 -> 74715 | G48: =E48*F48 -> 149430
...

Sheet PROPUESTA ECONOMICA(Proponente)
B1: ITEM | C1: DESCRIPCION | D1: UNID | E1: CANT. | F1: VR. UNIT | G1: VR. TOTAL
B9: OBJETO: CONTRATO DE OBRA A TODO COSTO PARA LA CONSTRUCCION, MANTENIMIENTO Y MEJORAMIENTO DE DIFERENTES SEDES EDUCATIVAS DEL MUNICIPIO DE EL PITAL HUILA, CONFORME A LA FICHA TECNICA, EN CUMPLIMIENTO DEL PLAN DE DESARROLLO "UNIDOS SI PODEMOS 2024-2027"
B11: ITEM | C11: DESCRIPCION | D11: UNIDAD | E11: CANTIDAD | F11: VALOR UNITARIO | G11: VALOR TOTAL
A12: 12
A13: 13
A14: 14
A15: 15
A16: 16
A17: 17
A18: 18
A19: 19
A20: 20
A21: 21
A22: 22
A23: 23
... A208: 207
C272: VALOR TOTAL COSTOS DIRECTOS | G272: =G12+G84+G136+G194+G210+G224 -> 0
C273: ADMINISTRACION | F273: 0.24 | G273: =G272*F273 -> 0
C274: IMPREVISTOS | F274: 0.01 | G274: =G272*F274 -> 0
C275: UTILIDAD | F275: 0.05 | G275: =G272*F275 -> 0
C276: VALOR TOTAL COSTOS INDIRECTOS | G276: =SUM(G273:G275) -> 0
C277: VALOR BASICO DE OBRA | G277: =G272+G276 -> 0
C278: PMA | F278: 0.01 | G278: =G277*F278 -> 0
C279: VALOR TOTAL DE OBRA | G279: =G277+G278 -> 0
C280: INTERVENTORIA | F280: 0.07 | G280: =G279*F280 -> 0
C281: VALOR TOTAL DEL PROYECTO | G281: =G279+G280 -> 0
C287: KAREN TATIANA GUTIERREZ VILLAQUIRA | E287: HECTOR HORACIO GAITAN G.
C288: Profesional de apoyo | E288: Secretario de Planeaicon e Infraestructura

Sheet AIU-OK
B2: CONTRATO DE OBRA A TODO COSTO PARA LA CONSTRUCCION, MANTENIMIENTO Y MEJORAMIENTO DE DIFERENTES SEDES EDUCATIVAS DEL MUNICIPIO DE EL PITAL HUILA, CONFORME A LA FICHA TECNICA, EN CUMPLIMIENTO DEL PLAN DE DESARROLLO "UNIDOS SI PODEMOS 2024-2027"
B3: CÁLCULO DEL A.I.U
B4: ADMINISTRACION
B5: 1 | C5: COSTOS DE PERSONAL | D5: A | E5: B | F5: C | G5: D | H5: E
B6: ITEM. | C6: DESCRIPCCIÓN. | D6: CANTIDAD | E6: DEDICACION MENSUAL | F6: SALARIO | G6: FACTOR PRESTACIONAL | H6: SALARIO MÁS PRESTACIONES
H7: E=A*B*C*D
B8: 1.1 | C8: Director de obra | D8: 1 | E8: 0.2 | F8: 2000000 | G8: =M.O!D33+1 -> 1.8625664 | H8: =(D8*E8*F8*G8) -> 745026.57
B9: 1.2 | C9: Residente de obra | D9: 1 | E9: 1 | F9: 1750000 | G9: =M.O!D33+1 -> 1.8625664 | H9: =(D9*E9*F9*G9) -> 3259491.2
B10: SUBTOTAL COSTOS MENSUALES DE PERSONAL | H10: =SUM(H8:H9) -> 4004517.8
B11: F= TOTAL COSTOS DE PERSONAL (3 MESES) | H11: =H10*3 -> 12013553
B13: 2 | C13: COSTOS INDIRECTOS MENSUALES
B14: ITEM | C14: DESCRIPCION | D14: UND | E14: CANTIDAD | F14: VALOR UNITARIO | H14: VALOR TOTAL
B15: 2.1 | C15: Arriendo | D15: Mes | E15: 3 | F15: 300000 | H15: =E15*F15 -> 900000
B16: 2.2 | C16: Servicios | D16: MES | E16: 3 | F16: 54000 | H16: =E16*F16 -> 162000
B17: 2.4 | C17: Estampillas | D17: Und | E17: 1 | F17: =O38 -> 72507838 | H17: =E17*F17 -> 72507838
B18: 2.5 | C18: Papeleria, fotocopias, impresiónes, polizas y otros gastos | D18: Und | E18: 1 | F18: =2500000+255177.32 -> 2755177.3 | H18: =E18*F18 -> 2755177.3
B19: G=TOTAL COSTOS INDIRECTOS | H19: =SUM(H15:H18) -> 76325015
B20: H=F+G =COSTOS TOTALES ADMINISTRACION | H20: =H11+H19 -> 88338569 | I20: ='PRESUPUESTO OFICIAL (Entidad)'!G273 -> 88338569 | J20: =H20-I20 -> -5.4240227e-05
B21: IMPREVISTOS
B22: ITEM | C22: TIPO | F22: % | G22: VALOR UNITARIO | H22: VALOR TOTAL | N22: COSTO TOTAL PROYECTO | O22: ='PRESUPUESTO OFICIAL (Entidad)'!G279 -> 4.8328559e+08
B23: 1 | C23: Por variacion de precios | F23: 0.005 | G23: ='PRESUPUESTO OFICIAL (Entidad)'!G274*0.5 -> 1840386.9 | H23: =G23 -> 1840386.9
B24: 2 | C24: Por variacion climatica | F24: 0.0025 | G24: ='PRESUPUESTO OFICIAL (Entidad)'!G274*0.25 -> 920193.43 | H24: =G24 -> 920193.43
B25: 3 | C25: Por cantidades no estimadas | F25: 0.0025 | G25: ='PRESUPUESTO OFICIAL (Entidad)'!G274*0.25 -> 920193.43 | H25: =G25 -> 920193.43
B26: TOTAL COSTOS IMPREVISTOS | H26: =SUM(H23:H25) -> 3680773.7 | I26: ='PRESUPUESTO OFICIAL (Entidad)'!G274 -> 3680773.7 | O26: =O22 -> 4.8328559e+08
B27: UTILIDAD | M27: Aporte pro cultura | O27: =O26*0.02 -> 9665711.7 | P27: 2% del Valor Total del contrato
B28: ITEM | C28: DESCRIPCION | F28: % | G28: VALOR UNITARIO | H28: VALOR TOTAL | M28: Estampilla Pro tercera Edad | O28: =O26*0.04 -> 19331423 | P28: 4% del Valor Total del contrato
B29: 1 | C29: Utilidad | F29: 0.05 | G29: ='PRESUPUESTO OFICIAL (Entidad)'!G275 -> 18403869 | H29: =G29 -> 18403869 | M29: Tasa pro deporte y recreación | O29: =O26*0.02 -> 9665711.7 | P29: 2% del Valor Total del contrato
B30: TOTAL COSTOS UTILIDAD | H30: =H29 -> 18403869 | I30: ='PRESUPUESTO OFICIAL (Entidad)'!G275 -> 18403869 | M30: Estampilla Mal trato contra la mujer | O30: =O26*0.02 -> 9665711.7 | P30: 2% del Valor Total del contrato
B31: I=(H/PRESUPUESTO OFICIAL MENSUAL)=ADMINISTRACIÓN [ A ] 23% | H31: =H20 -> 88338569 | M31: Paz y Salvo | O31: 15000 | P31: 12000
B32: J =IMPREVISTOS [ I ] 2% | H32: =H26 -> 3680773.7 | M32: Retención en la fuente | O32: 0 | P32: 2% del Valor Total del contrato
B33: K= UTILIDAD ESPERADA [ U ] 5% | H33: =H29 -> 18403869 | M33: Rete ICA | O33: 0 | P33: 5 X 1000
B34: L= (I+J+K) =PORCENTAJE TOTAL AIU | H34: =H31+H32+H33 -> 1.1042321e+08 | I34: ='PRESUPUESTO OFICIAL (Entidad)'!G276 -> 1.1042321e+08 | J34: =I34-H34 -> 5.4240227e-05 | M34: Fondo de Seguridad | O34: =O26*0.05 -> 24164279 | P34: 5 X 100
M35: Impuesto de timbre | O35: 0 | P35: 0.5 % (si aplica)
M36: Rte IVA | O36: 0 | P36: 15% DEL IVA (si aplica)
O38: =SUM(O27:O35) -> 72507838
C41: KAREN TATIANA GUTIERREZ VILLAQUIRA | F41: HECTOR HORACIO GAITAN G. | P41: ,
C42: Profesional de apoyo | F42: Secretario de Planeaicon e Infraestructura

Sheet INTERVENTORIA
C1: MUNICIPIO DE EL PITAL DEPARTAMENTO DEL HUILA
C2: SECRETARIA DE PLANEACION E INFRAESTRUCTURA
C3: PRESUPUESTO INTERVENTORIA
C4: INTERVENTORIA TECNICA, ADMINISTRATIVA, FINANCIERA FRENTE A LA CONSTRUCCION, MANTENIMIENTO Y MEJORAMIENTO A TODO COSTO DE DIFERENTES SEDES EDUCATIVAS DEL MUNICIPIO DE EL PITAL HUILA EN LA VIGENCIA 2026, EN CUMPLIMIENTO DEL PLAN DE DESARROLLO "UNIDOS SI PODEMOS 2024-2027"
A5: A. COSTOS DIRECTOS (PERSONAL)
A6: ITEM | B6: CARGOS | C6: CANTIDAD (A) | D6: SUELDO MES BASE (B) | E6: PARTICIPACION (C) | F6: VALOR MES (D) | G6: TIEMPO MESES (E) | H6: TOTAL
A7: A1 | B7: Director de Interventoria | C7: 1 | D7: 3400000 | E7: 0.3 | F7: =D7*E7 -> 1020000 | G7: 3 | H7: =F7*G7 -> 3060000 | I7: =H7*H10 -> 5699556
A8: A2 | B8: Residente de Interventoria | C8: 1 | D8: 2800000 | E8: 1 | F8: =D8*E8 -> 2800000 | G8: 3 | H8: =F8*G8 -> 8400000 | I8: =H8*H10 -> 15645840
A9: SUBTOTAL COSTOS DIRECTOS DE PERSONAL (A) | H9: =H7+H8 -> 11460000
A10: FACTOR MULTIPLICADOR | H10: 1.8626
A11: VALOR TOTAL PERSONAL (A) | H11: =H9*H10 -> 21345396 | I11: =I7+I8 -> 21345396
A12: B. COSTOS DIRECTOS (NO PERSONAL) | O12: COSTO TOTAL PROYECTO | P12: ='PRESUPUESTO OFICIAL (Entidad)'!G280 -> 33829991
A13: ITEM | B13: DESCRIPCION | C13: UNIDAD | E13: CANTIDAD | G13: VALOR UNITARIO | H13: TOTAL
A14: B1 | B14: Estampillas | C14: GL | E14: 1 | G14: =P28 -> 5089498.7 | H14: =E14*G14 -> 5089498.7
A15: B2 | B15: Papeleria, fotocopias, impresión de planos y otro gastos | C15: GL | E15: 1 | G15: =825466.27-131797 -> 693669.27 | H15: =E15*G15 -> 693669.27
A16: B3 | B16: Ensayos de laboratorio | C16: GL | E16: 1 | G16: 1300000 | H16: =E16*G16 -> 1300000 | P16: =P12 -> 33829991
A17: TOTAL COSTOS DIRECTOS (B) | H17: =H14+H15+H16 -> 7083167.9 | N17: Aporte pro cultura | P17: =P16*0.02 -> 676599.82 | Q17: 2% del Valor Total del contrato
A18: VALOR BASICO INTERVENTORIA (A+B) | H18: =H11+H17 -> 28428564 | I18: 3541344.5 | N18: Estampilla Pro tercera Edad | P18: =P16*0.04 -> 1353199.6 | Q18: 4% del Valor Total del contrato
A19: IVA 19% | H19: =H18*19% -> 5401427.1 | I19: =H18-H19 -> 23027137 | J19: ='PRESUPUESTO OFICIAL (Entidad)'!G280 -> 33829991 | N19: Tasa pro deporte y recreación | P19: =P16*0.02 -> 676599.82 | Q19: 2% del Valor Total del contrato
A20: VALOR TOTAL DE LA INTERVENTORIA | H20: =H18+H19 -> 33829991 | N20: Estampilla Mal trato contra la mujer | P20: =P16*0.02 -> 676599.82 | Q20: 2% del Valor Total del contrato
I21: =J19-H20 -> 0.0012292191 | N21: Paz y Salvo | P21: 15000 | Q21: 12000
N22: Retención en la fuente | P22: 0 | Q22: 2% del Valor Total del contrato
N23: Rete ICA | P23: 0 | Q23: 5 X 1000
N24: Fondo de Seguridad | P24: =P16*0.05 -> 1691499.6 | Q24: 5 X 100
N25: Impuesto de timbre | P25: 0 | Q25: 0.5 % (si aplica)
B26: KAREN TATIANA GUTIERREZ VILLAQUIRA | E26: HECTOR HORACIO GAITAN G. | N26: Rte IVA | P26: 0 | Q26: 15% DEL IVA (si aplica)
B27: Profesional de apoyo | E27: Secretario de Planeaicon e Infraestructura
P28: =SUM(P17:P25) -> 5089498.7

Sheet M.C. 
C1: ACTIVIDAD | E1: DIMENSIONES | I1: BARRA Nº | J1: TRASLAPOS | K1: PESO/ml - m2 | L1: CANTIDAD | M1: PESO
B2: ÍTEM | C2: DESCRIPCIÓN | D2: UNIDAD | E2: L | F2: A | G2: H | H2: CANT
E3: mts. | F3: mts. | G3: mts. | H3: und | K3: Kg./ml - m2 | M3: Kg.
B11: MEMORIA DE CANTIDADES DE OBRA
B13: ='PRESUPUESTO OFICIAL (Entidad)'!B9:G9 -> OBJETO: CONTRATO DE OBRA A TODO COSTO PARA LA CONSTRUCCION, MANTENIMIENTO Y MEJORAMIENTO DE DIFERENTES SEDES EDUCATIVAS DEL MUNICIPIO DE EL PITAL HUILA, CONFORME A LA FICHA TECNICA, EN CUMPLIMIENTO DEL PLAN DE DESARROLLO "UNIDOS SI PODEMOS 2024-2027"
B15: MEMORIAS DE CANTIDADES DE OBRA GENERAL
C17: ACTIVIDAD | E17: DIMENSIONES | I17: BARRA Nº | J17: TRASLAPOS | K17: PESO/ml - m2 | L17: CANTIDAD | M17: PESO
B18: ÍTEM | C18: DESCRIPCIÓN | D18: UNIDAD | E18: L | F18: A | G18: H | H18: CANT
E19: mts. | F19: mts. | G19: mts. | H19: und | K19: Kg./ml - m2 | M19: Kg.
B20: ='PRESUPUESTO OFICIAL (Entidad)'!B12 -> A | C20: ='PRESUPUESTO OFICIAL (Entidad)'!C12 -> CONSTRUCCIÓN DE COMEDOR - COCINA EN LA INSTITUCIÓN EDUCATIVA PROMOCION SOCIAL SEDE CHIMBAYACO
B21: ='PRESUPUESTO OFICIAL (Entidad)'!B13 -> A1 | C21: ='PRESUPUESTO OFICIAL (Entidad)'!C13 -> PRELIMINARES Y DEMOLICIONES - DESMONTE DE ELEMENTOS
B22: ='PRESUPUESTO OFICIAL (Entidad)'!B14 -> A1,1 | C22: ='PRESUPUESTO OFICIAL (Entidad)'!C14 -> Localización y Replanteo manual. | D22: ='PRESUPUESTO OFICIAL (Entidad)'!D14 -> M2 | K22: =ROUND(K23,2) -> 65.83
C23: Area de intervencion | E23: =0.7+4.3+0.7+3.65+0.7 -> 10.05 | F23: 6.55 | K23: =E23*F23 -> 65.8275
B24: ='PRESUPUESTO OFICIAL (Entidad)'!B15 -> A1,2 | C24: ='PRESUPUESTO OFICIAL (Entidad)'!C15 -> Demolición mecánica de concreto ciclópeo | D24: ='PRESUPUESTO OFICIAL (Entidad)'!D15 -> M3 | K24: =ROUND(K25,2) -> 3.53
C25: Area de intervencion | E25: =6.8+6.8+7.9+7.9 -> 29.4 | F25: 0.3 | G25: 0.4 | K25: =E25*F25*G25 -> 3.528
B26: ='PRESUPUESTO OFICIAL (Entidad)'!B16 -> A2 | C26: ='PRESUPUESTO OFICIAL (Entidad)'!C16 -> MOVIMIENTO DE TIERRA
B27: ='PRESUPUESTO OFICIAL (Entidad)'!B17 -> A2,1 | C27: ='PRESUPUESTO OFICIAL (Entidad)'!C17 -> Excavacion manual. Incluye retiro del material. | D27: ='PRESUPUESTO OFICIAL (Entidad)'!D17 -> M3 | K27: =ROUND(SUM(K28:K43),2) -> 15.61
C28: Zapatas 1 ( 0.70x0.70x0.30) | D28: M3 | E28: 0.7 | F28: 0.7 | G28: =0.3+0.3 -> 0.6 | H28: 5 | K28: =E28*F28*G28*H28 -> 1.47
C29: Zapatas 2 ( 1,00x1,00x0.30) | D29: M3 | E29: 1 | F29: 1 | G29: =0.3+0.3 -> 0.6 | H29: 1 | K29: =E29*F29*G29*H29 -> 0.6
C30: VC Eje 1 Entre Eje A y B | D30: M3 | E30: 4.3 | F30: 0.4 | G30: =0.45+0.3 -> 0.75 | H30: 1 | K30: =E30*F30*G30*H30 -> 1.29
C31: VC Eje 1 Entre Eje B y C | D31: M3 | E31: 3.65 | F31: 0.4 | G31: 0.75 | H31: 1 | K31: =E31*F31*G31*H31 -> 1.095
C32: VC Eje 3 Entre Eje A y B | D32: M3 | E32: 4.3 | F32: 0.4 | G32: 0.75 | H32: 1 | K32: =E32*F32*G32*H32 -> 1.29
C33: VC Eje 3 Entre Eje B y C | D33: M3 | E33: 3.5 | F33: 0.4 | G33: 0.75 | H33: 1 | K33: =E33*F33*G33*H33 -> 1.05
C34: VC Eje A Entre Eje 1 y 3 | D34: M3 | E34: 5 | F34: 0.4 | G34: 0.75 | H34: 1 | K34: =E34*F34*G34*H34 -> 1.5
C35: VC Eje B Entre Eje 1 y 3 | D35: M3 | E35: 5 | F35: 0.4 | G35: 0.3 | H35: 1 | K35: =E35*F35*G35*H35 -> 0.6
C36: VC Eje C Entre Eje 1 y 3 | D36: M3 | E36: 4.85 | F36: 0.4 | G36: 0.75 | H36: 1 | K36: =E36*F36*G36*H36 -> 1.455
C37: VC Eje 2 Entre Eje B y C | D37: M3 | E37: 4.05 | F37: 0.4 | G37: 0.3 | H37: 1 | K37: =E37*F37*G37*H37 -> 0.486
C38: VC Eje B" Entre Eje 1 y 2 | D38: M3 | E38: 1.4 | F38: 0.4 | G38: 0.3 | H38: 1 | K38: =E38*F38*G38*H38 -> 0.168
C39: Tuberia Desague Pvc 4" | D39: M3 | E39: 6 | F39: 0.15 | G39: 0.6 | H39: 1 | K39: =E39*F39*G39*H39 -> 0.54
C40: Anden | D40: M3 | E40: 6 | F40: 1 | G40: 0.3 | H40: 1 | K40: =E40*F40*G40*H40 -> 1.8
C41: Sardinel | D41: M3 | E41: 6 | F41: 0.17 | G41: 0.6 | H41: 1 | K41: =E41*F41*G41*H41 -> 0.612
C42: Cuneta | D42: M3 | E42: 6 | F42: 0.6 | G42: 0.4 | H42: 1 | K42: =E42*F42*G42*H42 -> 1.44
C43: Caja De Inspeccion de 60X60 | D43: M3 | E43: 0.6 | F43: 0.6 | G43: 0.6 | H43: 1 | K43: =E43*F43*G43*H43 -> 0.216
B44: ='PRESUPUESTO OFICIAL (Entidad)'!B18 -> A2,2 | C44: ='PRESUPUESTO OFICIAL (Entidad)'!C18 -> Relleno en recebo compactado mecánicamente. | D44: ='PRESUPUESTO OFICIAL (Entidad)'!D18 -> M3 | K44: =ROUND(SUM(K45:K50),2) -> 15.09
C45: Area de intervencion | D45: M3 | E45: 9.65 | F45: 6 | G45: 0.37 | I45: =SUM(K30:K38) -> 8.934 | K45: =(E45*F45*G45)-I45 -> 12.489
C46: Zapatas 1 | D46: M3 | E46: =0.7-0.3 -> 0.4 | F46: =0.7-0.3 -> 0.4 | G46: 0.3 | H46: 5 | K46: =E46*F46*G46*H46 -> 0.24
C47: Zapatas 2 | D47: M3 | E47: =1-0.3 -> 0.7 | F47: =1-0.3 -> 0.7 | G47: 0.3 | H47: 1 | K47: =E47*F47*G47*H47 -> 0.147
C48: Tuberia Desague Pvc 4" | D48: M3 | E48: =E39 -> 6 | F48: 0.08 | G48: 0.52 | H48: 1 | K48: =E48*F48*G48*H48 -> 0.2496
C49: Anden | D49: M3 | E49: 6 | F49: 1 | G49: 0.2 | H49: 1 | K49: =E49*F49*G49*H49 -> 1.2
C50: Ciclopeo perimetral | D50: M3 | E50: =SUM(E30+E31+E32+E33+E34+E36) -> 25.6 | F50: 0.1 | G50: 0.3 | H50: 1 | K50: =E50*F50*G50*H50 -> 0.768
...

Sheet M.O
B7: ANÁLISIS DE PRECIOS UNITARIOS - SUBPRODUCTOS - VIGENCIA 2026
B9: ='PRESUPUESTO OFICIAL (Entidad)'!B9:G9 -> OBJETO: CONTRATO DE OBRA A TODO COSTO PARA LA CONSTRUCCION, MANTENIMIENTO Y MEJORAMIENTO DE DIFERENTES SEDES EDUCATIVAS DEL MUNICIPIO DE EL PITAL HUILA, CONFORME A LA FICHA TECNICA, EN CUMPLIMIENTO DEL PLAN DE DESARROLLO "UNIDOS SI PODEMOS 2024-2027"
B11: MANO DE OBRA
H12: SALARIO 2024 | I12: 1750905
B13: AYUDANTE (Incl. Prestaciones) | H13: SALARIO DIA PROMEDIO | I13: =I12/30 -> 58363.5
H14: SUB TRANSPORTE | I14: 249095
B15: DESCRIPCIÓN | C15: UNIDAD | D15: CANT | E15: V/r UNITARIO | F15: V/r PARCIAL
B17: AYUDANTE | C17: DIA | D17: 1 | E17: =I13 -> 58363.5 | F17: =D17*E17 -> 58363.5
B19: PRESTACIONES SOCIALES | I19: COSTO TOTAL | J19: PATRONO | K19: EMPLEADO
B20: Subsidio de transporte | C20: % | D20: =F20/E20 -> 0.14226643 | E20: =E17 -> 58363.5 | F20: =I14/30 -> 8303.1667 | H20: PENSION | I20: 0.16 | J20: 0.12 | K20: =I20-J20 -> 0.04
B21: Cesantias | C21: % | D21: 0.0833 | E21: =E17 -> 58363.5 | F21: =E21*D21 -> 4861.6795 | H21: SALUD | I21: 0.125 | J21: 0.085 | K21: =I21-J21 -> 0.04
B22: Intereses de cesantias | C22: % | D22: 0.01 | E22: =E17 -> 58363.5 | F22: =E22*D22 -> 583.635 | H22: RIESGOS | I22: 0.0696 | J22: 0.0696 | K22: =I22-J22 -> 0
B23: Prima de servicios | C23: % | D23: 0.0833 | E23: =E17 -> 58363.5 | F23: =E23*D23 -> 4861.6795 | I23: =SUM(I20:I22) -> 0.3546 | J23: =SUM(J20:J22) -> 0.2746 | K23: =SUM(K20:K22) -> 0.08
B24: Vacaciones | C24: % | D24: 0.0416 | E24: =E17 -> 58363.5 | F24: =E24*D24 -> 2427.9216
B25: Dotacion aproximada | C25: % | D25: 0.04 | E25: =E17 -> 58363.5 | F25: =E25*D25 -> 2334.54
B26: Seguridad Social (Salud, Pension, Arl) | C26: % | D26: =0.16+0.125+0.0696 -> 0.3546 | E26: =E17 -> 58363.5 | F26: =E26*D26 -> 20695.697
B27: APORTES PARAFISCALES:
B28: Caja de compensacion familiar | C28: % | D28: 0.04 | E28: =E17 -> 58363.5 | F28: =E28*D28 -> 2334.54
B29: Sena | C29: % | D29: 0.02 | E29: =E17 -> 58363.5 | F29: =E29*D29 -> 1167.27
B30: ICBF | C30: % | D30: 0.03 | E30: =E17 -> 58363.5 | F30: =E30*D30 -> 1750.905
B31: FIC | C31: % | D31: 0.0175 | E31: =E17 -> 58363.5 | F31: =E31*D31 -> 1021.3613
B33: INCREMENTO TOTAL | D33: =SUM(D20:D31) -> 0.86256643
C35: [ DIA ] | E35: V/r UNITARIO | F35: =SUM(F17:F31) -> 108705.9
C36: [ HR ] | F36: =F35/8 -> 13588.237
B38: OFICIAL (Incl. Prestaciones)
B40: DESCRIPCIÓN | C40: UNIDAD | D40: CANT | E40: V/r UNITARIO | F40: V/r PARCIAL | G40: PRESTACIONES
B42: OFICIAL | C42: DIA | D42: 1 | E42: =(I13*1.9) -> 110890.65 | F42: =E42*D42 -> 110890.65
B44: PRESTACIONES SOCIALES
B45: Subsidio de transporte | C45: % | D45: =F45/E45 -> 0.074877067 | E45: =E$42 -> 110890.65 | F45: =I14/30 -> 8303.1667
B46: Cesantias | C46: % | D46: =D21 -> 0.0833 | E46: =E$42 -> 110890.65 | F46: =D46*E46 -> 9237.1911
B47: Intereses de cesantias | C47: % | D47: =D22 -> 0.01 | E47: =E$42 -> 110890.65 | F47: =D47*E47 -> 1108.9065
B48: Prima de servicios | C48: % | D48: =D23 -> 0.0833 | E48: =E$42 -> 110890.65 | F48: =D48*E48 -> 9237.1911
B49: Vacaciones | C49: % | D49: =D24 -> 0.0416 | E49: =E$42 -> 110890.65 | F49: =D49*E49 -> 4613.051
B50: Dotacion aproximada | C50: % | D50: =D25 -> 0.04 | E50: =E$42 -> 110890.65 | F50: =D50*E50 -> 4435.626
B51: Seguridad Social (Salud, Pension, Arl) | C51: % | D51: =D26 -> 0.3546 | E51: =E$42 -> 110890.65 | F51: =D51*E51 -> 39321.824
B52: APORTES PARAFISCALES:
B53: Caja de compensacion familiar | C53: % | D53: =D28 -> 0.04 | E53: =E$42 -> 110890.65 | F53: =D53*E53 -> 4435.626
B54: Sena | C54: % | D54: =D29 -> 0.02 | E54: =E$42 -> 110890.65 | F54: =D54*E54 -> 2217.813
B55: ICBF | C55: % | D55: =D30 -> 0.03 | E55: =E$42 -> 110890.65 | F55: =D55*E55 -> 3326.7195
B56: FIC | C56: % | D56: =D31 -> 0.0175 | E56: =E$42 -> 110890.65 | F56: =D56*E56 -> 1940.5864
...

Sheet EQ
B8: INSUMOS - VIGENCIA 2026
B10: ='PRESUPUESTO OFICIAL (Entidad)'!B9:G9 -> OBJETO: CONTRATO DE OBRA A TODO COSTO PARA LA CONSTRUCCION, MANTENIMIENTO Y MEJORAMIENTO DE DIFERENTES SEDES EDUCATIVAS DEL MUNICIPIO DE EL PITAL HUILA, CONFORME A LA FICHA TECNICA, EN CUMPLIMIENTO DEL PLAN DE DESARROLLO "UNIDOS SI PODEMOS 2024-2027"
B12: EQUIPOS
B13: CÓDIGO | C13: MATERIALES | E13: UNIDAD | F13: V/r. UNITARIO
B14: EQ001 | C14: ANDAMIO TUBULAR. 1.5 X 1.5 | E14: DÍA | F14: 3000
B15: EQ002 | C15: MEZCLADORA | E15: DIA | F15: 60000
B16: EQ003 | C16: REGLA VIBRADORA | E16: DIA | F16: 30000
B17: EQ004 | C17: TACO METAL ICO | E17: DÍA | F17: 1000
B18: EQ005 | C18: VIBROCOMPACTADOR (TIPO RANA) | E18: DIA | F18: 50000
B19: EQ006 | C19: PULIDORA MANUAL | E19: DIA | F19: 35000
B20: EQ007 | C20: EQUIPO ELÉCTRICO SOLDADURA | E20: DIA | F20: 50000
B21: EQ008 | C21: VIBRADOR CONCRETO | E21: DIA | F21: 50000
B22: EQ009 | C22: HIDROLAVADORA | E22: DIA | F22: 40000
B23: EQ010 | C23: COMPRESOR | E23: DIA | F23: 80000
B24: EQ011 | C24: COMPRESOR HIDRAULICO 1 MARTILLO | E24: DIA | F24: 100000
B28: KAREN TATIANA GUTIERREZ V. | E28: HECTOR HORACIO GAITAN G.
B29: Profesional de apoyo | E29: Secretario de Planeaicon e Infraestructura

Sheet MAT
B8: INSUMOS - VIGENCIA 2026
B10: ='PRESUPUESTO OFICIAL (Entidad)'!B9:G9 -> OBJETO: CONTRATO DE OBRA A TODO COSTO PARA LA CONSTRUCCION, MANTENIMIENTO Y MEJORAMIENTO DE DIFERENTES SEDES EDUCATIVAS DEL MUNICIPIO DE EL PITAL HUILA, CONFORME A LA FICHA TECNICA, EN CUMPLIMIENTO DEL PLAN DE DESARROLLO "UNIDOS SI PODEMOS 2024-2027"
B12: INSUMOS | H12: COTIZACION DE MATERIALES
B14: MATERIALES BÁSICOS | H14: FERRETERIA ARGENTINA | I14: FERREAGRADO | J14: FERRIOBRAS | K14: OTROS
B15: CÓDIGO | C15: MATERIALES | D15: UNIDAD | E15: V/r. UNITARIO
A16: 16 | B16: MBA001 | C16: CEMENTO GRIS | D16: KG | E16: =AVERAGE(H16:K16) -> 726.66587 | H16: =37000/50 -> 740 | I16: =(30252/50)*1.19 -> 719.9976 | J16: =36000/50 -> 720
A17: 17 | B17: MBA002 | C17: GRAVILLA | D17: M3 | E17: 131000 | G17: +EQ
A18: 18 | B18: MBA003 | C18: ARENA | D18: M3 | E18: 111000 | G18: +EQ
A19: 19 | B19: MBA004 | C19: ARENA FINA | D19: M3 | E19: =450000/6 -> 75000 | G19: COTIZACION PITAL - VOLQUETERO
A20: 20 | B20: MBA005 | C20: RECEBO | D20: M3 | E20: =200000/6 -> 33333.333 | G20: MUNICIPIO
A21: 21 | B21: MBA006 | C21: AGUA | D21: LT | E21: 20 | G21: AGUAS Y ASEO
A22: 22 | B22: MBA007 | C22: PIEDRA DE RIO | D22: M3 | E22: =400000/6 -> 66666.667 | G22: COTIZACION PITAL - VOLQUETERO
A23: 23 | B23: A.P.U BÁSICOS
A24: 24 | B24: CÓDIGO | C24: MATERIALES | D24: UNIDAD | E24: V/r. UNITARIO
A25: 25 | B25: APU001 | C25: CONCRETO DE 3000 PSI | D25: M3 | E25: ='C. 3000 PSI'!F45 -> 607218 | G25: APU
A26: 26 | B26: APU002 | C26: CONCRETO DE 2500 PSI | D26: M3 | E26: ='C. 2500 PSI'!F45 -> 514121 | G26: APU
A27: 27 | B27: APU003 | C27: CONCRETO DE 2000 PSI | D27: M3 | E27: ='C. 2000 PSI'!F45 -> 470384 | G27: APU
A28: 28 | B28: APU004 | C28: CONCRETO DE 1700 PSI | D28: M3 | E28: ='C. 1700 PSI'!F45 -> 460681 | G28: APU
A29: 29 | B29: APU005 | C29: CONCRETO CICLOPEO | D29: M3 | E29: ='C. CICL'!F45 -> 513415 | G29: APU
B30: APU006 | C30: MORTERO 1:3 | D30: M3 | E30: ='M 1-3'!F46 -> 503936
A31: 30 | B31: APU007 | C31: MORTERO 1:4 | D31: M3 | E31: ='M 1-4'!F46 -> 442836 | G31: APU
A32: 31 | B32: MATERIALES VARIOS | H32: COTIZACION DE MATERIALES
A33: 32 | B33: CÓDIGO | C33: MATERIALES | D33: UNIDAD | E33: V/r. UNITARIO | H33: FERRETERIA ARGENTINA | I33: FERREAGRO EL SOCORRO | J33: FERRIOBRAS | K33: OTROS | M33: HOMECENTER
A34: 33 | B34: MT001 | C34: ACERO DE REFUERZO DE 60000 PSI | D34: KG | E34: =AVERAGE(H34:K34) -> 4750 | H34: 5300 | J34: 4200
A35: 34 | B35: MT002 | C35: ACERO DE REFUERZO FY = 4200 KG/CM2 | D35: KG | E35: =AVERAGE(H35:K35) -> 5050 | H35: 5300 | J35: 4800
A36: 35 | B36: MT003 | C36: ADAPTADOR MACHO PVC 1/2" | D36: UND | E36: =AVERAGE(H36:K36) -> 500 | H36: 400 | J36: 600
A37: 36 | B37: MT004 | C37: ADAPTADOR TERMINAL PVC 1/2" | D37: UND | E37: =AVERAGE(H37:K37) -> 500 | H37: 400 | J37: 600
A38: 37 | B38: MT005 | C38: ALAMBRE DE COBRE# 10 THWN | D38: ML | E38: =AVERAGE(H38:K38) -> 6250 | H38: 5000 | J38: 7500
A39: 38 | B39: MT006 | C39: ALAMBRE DE COBRE# 12 THWN | D39: ML | E39: =AVERAGE(H39:K39) -> 3096.3585 | H39: 2800 | I39: =268907.56/100 -> 2689.0756 | J39: 3800
A40: 39 | B40: MT007 | C40: ALAMBRE DE COBRE# 14 THWN | D40: ML | E40: =AVERAGE(H40:K40) -> 2000 | H40: 2000 | J40: 2000
A41: 40 | B41: MT008 | C41: ALAMBRE NEGRO C.18 | D41: KG | E41: =AVERAGE(H41:K41) -> 6894.1167 | H41: 7000 | I41: 5882.35 | J41: 7800
A42: 41 | B42: MT009 | C42: ANGULO 1"X1/8 | D42: ML | E42: =AVERAGE(H42:K42) -> 5322.2222 | H42: =34000/6 -> 5666.6667 | J42: =32800/6 -> 5466.6667 | K42: =29000/6 -> 4833.3333
A43: 42 | B43: MT010 | C43: ANGULO 1-1/2 X 3/16" | D43: ML | E43: =AVERAGE(H43:K43) -> 15844.444 | H43: =100000/6 -> 16666.667 | J43: =100200/6 -> 16700 | K43: =85000/6 -> 14166.667
A44: 43 | B44: MT011 | C44: ANGULO 1-1/4 X 1/8" | D44: ML | E44: =AVERAGE(H44:K44) -> 7383.3333 | H44: =55000/6 -> 9166.6667 | J44: =38600/6 -> 6433.3333 | K44: =39300/6 -> 6550
A45: 44 | B45: MT012 | C45: ANGULO 2 X 1/8" | D45: ML | E45: =AVERAGE(H45:K45) -> 13575 | H45: =93000/6 -> 15500 | J45: =69900/6 -> 11650
A46: 45 | B46: MT013 | C46: ANGULO DE 3/4" X 1/8" | D46: ML | E46: =AVERAGE(H46:K46) -> 4158.3333 | H46: =25000/6 -> 4166.6667 | J46: =24900/6 -> 4150
A47: 46 | B47: MT014 | C47: ANTICORROSIVO | D47: GAL | E47: =AVERAGE(H47:K47) -> 55913.167 | H47: 65000 | I47: 48739.5 | J47: 54000
A48: 47 | B48: MT015 | C48: BISAGRA 3" | D48: UND | E48: =AVERAGE(H48:K48) -> 3250 | H48: 4000 | J48: 2500
A49: 48 | B49: MT016 | C49: BLOQUE HUECO No. 5 12X20X30 | D49: UND | E49: =AVERAGE(H49:K49) -> 1950 | H49: 2500 | J49: 1400
A50: 49 | B50: MT017 | C50: BOQUILLA | D50: KG | E50: =AVERAGE(H50:K50) -> 5750 | H50: 5000 | J50: 6500
...

Sheet C. 1700 PSI
A7: ANÁLISIS DE PRECIOS UNITARIOS - SUBPRODUCTOS
A9: CAPITULO: | B9: ='[6]PRESUP. OBRA. '!B10:F10 -> PRELIMINARES | E9: UNIDAD: | F9: M3
A10: ITEM: | B10: CONCRETO DE 1.700 PSI (1:3:5)
A12: HERRAMIENTA Y EQUIPO
A13: DESCRIPCIÓN | C13: UNIDAD | D13: REND | E13: V. UNIT | F13: VR. PARCIAL
A14: HERRAMIENTA MENOR | C14: UND | D14: 1 | E14: 5000 | F14: =D14*E14 -> 5000
A15: MEZCLADORA | C15: DIA | D15: 0.1 | E15: =EQ!F15 -> 60000 | F15: =D15*E15 -> 6000
F16: =D16*E16 -> 0
F17: =D17*E17 -> 0
F18: =D18*E18 -> 0
A19: SUB-TOTAL HERRAMIENTA Y EQUIPO: | F19: =SUM(F14:F18) -> 11000
A21: MATERIALES
A22: DESCRIPCIÓN | C22: UND | D22: CANTIDAD | E22: VR. UNITARIO | F22: VR. PARCIAL
A23: CEMENTO GRIS | C23: KG | D23: 210 | E23: =MAT!E16 -> 726.66587 | F23: =D23*E23 -> 152599.83
A24: ARENA | C24: M3 | D24: 0.5 | E24: =MAT!E18 -> 111000 | F24: =D24*E24 -> 55500
A25: GRAVILLA | C25: M3 | D25: 1 | E25: =MAT!E17 -> 131000 | F25: =D25*E25 -> 131000
A26: AGUA | C26: Lt | D26: 143 | E26: =MAT!E21 -> 20 | F26: =D26*E26 -> 2860
F27: =D27*E27 -> 0
F28: =D28*E28 -> 0
A29: TOTAL MATERIALES: | F29: =SUM(F23:F28) -> 341959.83
A31: TRANSPORTE
A32: MATERIAL | B32: CANTIDAD | C32: DIST | D32: M3-KM | E32: TARIFA | F32: VR. UNITARIO
F33: =D33*E33 -> 0
F34: =D34*E34 -> 0
A35: TOTAL TRANSPORTE: | F35: =SUM(F33:F34) -> 0
A37: MANO DE OBRA
A38: DESCRIPCIÓN | C38: UNIDAD | D38: VALOR DIA | E38: REND | F38: VR. PARCIAL
A39: AYUIDANTE (Incl. Prestaciones) | C39: DIA | D39: =M.O!F35 -> 108705.9 | E39: 0.35 | F39: =D39*E39 -> 38047.064
A40: OFICIAL (incl. Prestaciones) | C40: DIA | D40: =M.O!F60 -> 199068.35 | E40: 0.35 | F40: =D40*E40 -> 69673.923
F41: =D41*E41 -> 0
F42: =D42*E42 -> 0
A43: TOTAL MANO DE OBRA: | F43: =SUM(F39:F42) -> 107720.99
A45: VALOR UNITARIO TOTAL | F45: =ROUND(SUM(F29+F43+F19+F35),0) -> 460681
A49: KAREN TATIANA GUTIERREZ V. | D49: HECTOR HORACIO GAITAN G.
A50: Profesional de apoyo | D50: Secretario de Planeaicon e Infraestructura

Sheet C. 2000 PSI
A7: ANÁLISIS DE PRECIOS UNITARIOS - SUBPRODUCTOS
A9: CAPITULO: | B9: ='[6]PRESUP. OBRA. '!B10:F10 -> PRELIMINARES | E9: UNIDAD: | F9: M3
A10: ITEM: | B10: CONCRETO DE 2.000 PSI (1:3:5)
A12: HERRAMIENTA Y EQUIPO
A13: DESCRIPCIÓN | C13: UNIDAD | D13: REND | E13: V. UNIT | F13: VR. PARCIAL
A14: HERRAMIENTA MENOR | C14: UND | D14: 1 | E14: 5000 | F14: =D14*E14 -> 5000
A15: MEZCLADORA | C15: DIA | D15: 0.1 | E15: =EQ!F15 -> 60000 | F15: =D15*E15 -> 6000
F16: =D16*E16 -> 0
F17: =D17*E17 -> 0
F18: =D18*E18 -> 0
A19: SUB-TOTAL HERRAMIENTA Y EQUIPO: | F19: =SUM(F14:F18) -> 11000
A21: MATERIALES
A22: DESCRIPCIÓN | C22: UND | D22: CANTIDAD | E22: VR. UNITARIO | F22: VR. PARCIAL
A23: CEMENTO GRIS | C23: KG | D23: 230 | E23: =MAT!E16 -> 726.66587 | F23: =D23*E23 -> 167133.15
A24: ARENA | C24: M3 | D24: 0.55 | E24: =MAT!E18 -> 111000 | F24: =D24*E24 -> 61050
A25: GRAVILLA | C25: M3 | D25: 0.92 | E25: =MAT!E17 -> 131000 | F25: =D25*E25 -> 120520
A26: AGUA | C26: Lt | D26: 148 | E26: =MAT!E21 -> 20 | F26: =D26*E26 -> 2960
F27: =D27*E27 -> 0
F28: =D28*E28 -> 0
A29: TOTAL MATERIALES: | F29: =SUM(F23:F28) -> 351663.15
A31: TRANSPORTE
A32: MATERIAL | B32: CANTIDAD | C32: DIST | D32: M3-KM | E32: TARIFA | F32: VR. UNITARIO
F33: =D33*E33 -> 0
F34: =D34*E34 -> 0
A35: TOTAL TRANSPORTE: | F35: =SUM(F33:F34) -> 0
A37: MANO DE OBRA
A38: DESCRIPCIÓN | C38: UNIDAD | D38: VALOR DIA | E38: REND | F38: VR. PARCIAL
A39: AYUIDANTE (Incl. Prestaciones) | C39: DIA | D39: =M.O!F35 -> 108705.9 | E39: 0.35 | F39: =D39*E39 -> 38047.064
A40: OFICIAL (incl. Prestaciones) | C40: DIA | D40: =M.O!F60 -> 199068.35 | E40: 0.35 | F40: =D40*E40 -> 69673.923
F41: =D41*E41 -> 0
F42: =D42*E42 -> 0
A43: TOTAL MANO DE OBRA: | F43: =SUM(F39:F42) -> 107720.99
A45: VALOR UNITARIO TOTAL | F45: =ROUND(SUM(F29+F43+F19+F35),0) -> 470384
A49: KAREN TATIANA GUTIERREZ V. | D49: HECTOR HORACIO GAITAN G.
A50: Profesional de apoyo | D50: Secretario de Planeaicon e Infraestructura

Sheet C. 2500 PSI
A7: ANÁLISIS DE PRECIOS UNITARIOS - SUBPRODUCTOS
A9: CAPITULO: | B9: ='[6]PRESUP. OBRA. '!B10:F10 -> PRELIMINARES | E9: UNIDAD: | F9: M3
A10: ITEM: | B10: CONCRETO DE 2.500 PSI (1:3:3)
A12: HERRAMIENTA Y EQUIPO
A13: DESCRIPCIÓN | C13: UNIDAD | D13: REND | E13: V. UNIT | F13: VR. PARCIAL
A14: HERRAMIENTA MENOR | C14: UND | D14: 1 | E14: 5000 | F14: =D14*E14 -> 5000
A15: MEZCLADORA | C15: DIA | D15: 0.1 | E15: =EQ!F15 -> 60000 | F15: =D15*E15 -> 6000
F16: =D16*E16 -> 0
F17: =D17*E17 -> 0
F18: =D18*E18 -> 0
A19: SUB-TOTAL HERRAMIENTA Y EQUIPO: | F19: =SUM(F14:F18) -> 11000
A21: MATERIALES
A22: DESCRIPCIÓN | C22: UND | D22: CANTIDAD | E22: VR. UNITARIO | F22: VR. PARCIAL
A23: CEMENTO GRIS | C23: KG | D23: 300 | E23: =MAT!E16 -> 726.66587 | F23: =D23*E23 -> 217999.76
A24: ARENA | C24: M3 | D24: 0.72 | E24: =MAT!E18 -> 111000 | F24: =D24*E24 -> 79920
A25: GRAVILLA | C25: M3 | D25: 0.72 | E25: =MAT!E17 -> 131000 | F25: =D25*E25 -> 94320
A26: AGUA | C26: Lt | D26: 158 | E26: =MAT!E21 -> 20 | F26: =D26*E26 -> 3160
C27: % | F27: =D27*E27 -> 0
F28: =D28*E28 -> 0
A29: TOTAL MATERIALES: | F29: =SUM(F23:F28) -> 395399.76
A31: TRANSPORTE
A32: MATERIAL | B32: CANTIDAD | C32: DIST | D32: M3-KM | E32: TARIFA | F32: VR. UNITARIO
F33: =D33*E33 -> 0
F34: =D34*E34 -> 0
A35: TOTAL TRANSPORTE: | F35: =SUM(F33:F34) -> 0
A37: MANO DE OBRA
A38: DESCRIPCIÓN | C38: UNIDAD | D38: VALOR DIA | E38: REND | F38: VR. PARCIAL
A39: AYUIDANTE (Incl. Prestaciones) | C39: DIA | D39: =M.O!F35 -> 108705.9 | E39: 0.35 | F39: =D39*E39 -> 38047.064
A40: OFICIAL (incl. Prestaciones) | C40: DIA | D40: =M.O!F60 -> 199068.35 | E40: 0.35 | F40: =D40*E40 -> 69673.923
F41: =D41*E41 -> 0
F42: =D42*E42 -> 0
A43: TOTAL MANO DE OBRA: | F43: =SUM(F39:F42) -> 107720.99
A45: VALOR UNITARIO TOTAL | F45: =ROUND(SUM(F29+F43+F19+F35),0) -> 514121
A49: KAREN TATIANA GUTIERREZ V. | D49: HECTOR HORACIO GAITAN G.
A50: Profesional de apoyo | D50: Secretario de Planeaicon e Infraestructura

Sheet C. 3000 PSI
A7: ANÁLISIS DE PRECIOS UNITARIOS - SUBPRODUCTOS
A9: CAPITULO: | B9: ='[6]PRESUP. OBRA. '!B10:F10 -> PRELIMINARES | E9: UNIDAD: | F9: M3
A10: ITEM: | B10: CONCRETO 3000 PSI (1:2:3,5)
A12: HERRAMIENTA Y EQUIPO
A13: DESCRIPCIÓN | C13: UNIDAD | D13: REND | E13: V. UNIT | F13: VR. PARCIAL
A14: HERRAMIENTA MENOR | C14: UND | D14: 1 | E14: 5000 | F14: =D14*E14 -> 5000
A15: MEZCLADORA | C15: DIA | D15: 0.1 | E15: =EQ!F15 -> 60000 | F15: =D15*E15 -> 6000
F16: =D16*E16 -> 0
F17: =D17*E17 -> 0
F18: =D18*E18 -> 0
A19: SUB-TOTAL HERRAMIENTA Y EQUIPO: | F19: =SUM(F14:F18) -> 11000
A21: MATERIALES
A22: DESCRIPCIÓN | C22: UND | D22: CANTIDAD | E22: VR. UNITARIO | F22: VR. PARCIAL
A23: CEMENTO GRIS | C23: KG | D23: 320 | E23: =MAT!E16 -> 726.66587 | F23: =D23*E23 -> 232533.08
A24: ARENA | C24: M3 | D24: 0.52 | E24: =MAT!E18 -> 111000 | F24: =D24*E24 -> 57720
A25: GRAVILLA | C25: M3 | D25: 0.9 | E25: =MAT!E17 -> 131000 | F25: =D25*E25 -> 117900
A26: AGUA | C26: Lt | D26: 170 | E26: =MAT!E21 -> 20 | F26: =D26*E26 -> 3400
C27: % | F27: =D27*E27 -> 0
F28: =D28*E28 -> 0
A29: TOTAL MATERIALES: | F29: =SUM(F23:F28) -> 411553.08
A31: TRANSPORTE
A32: MATERIAL | B32: CANTIDAD | C32: DIST | D32: M3-KM | E32: TARIFA | F32: VR. UNITARIO
F33: =D33*E33 -> 0
F34: =D34*E34 -> 0
A35: TOTAL TRANSPORTE: | F35: =SUM(F33:F34) -> 0
A37: MANO DE OBRA
A38: DESCRIPCIÓN | C38: UNIDAD | D38: VALOR DIA | E38: REND | F38: VR. PARCIAL
A39: AYUIDANTE (Incl. Prestaciones) | C39: DIA | D39: =M.O!F35 -> 108705.9 | E39: 0.6 | F39: =D39*E39 -> 65223.537
A40: OFICIAL (incl. Prestaciones) | C40: DIA | D40: =M.O!F60 -> 199068.35 | E40: 0.6 | F40: =D40*E40 -> 119441.01
F41: =D41*E41 -> 0
F42: =D42*E42 -> 0
A43: TOTAL MANO DE OBRA: | F43: =SUM(F39:F42) -> 184664.55
A45: VALOR UNITARIO TOTAL | F45: =ROUND(SUM(F29+F43+F19+F35),0) -> 607218
A49: KAREN TATIANA GUTIERREZ V. | D49: HECTOR HORACIO GAITAN G.
A50: Profesional de apoyo | D50: Secretario de Planeaicon e Infraestructura

Sheet C. CICL
A7: ANÁLISIS DE PRECIOS UNITARIOS - SUBPRODUCTOS
A9: CAPITULO: | B9: ='[6]PRESUP. OBRA. '!B10:F10 -> PRELIMINARES | E9: UNIDAD: | F9: M3
A10: ITEM: | B10: CONCRETO CICLOPEO
A12: HERRAMIENTA Y EQUIPO
A13: DESCRIPCIÓN | C13: UNIDAD | D13: REND | E13: V. UNIT | F13: VR. PARCIAL
A14: HERRAMIENTA MENOR | C14: UND | D14: 0.6 | E14: 5000 | F14: =D14*E14 -> 3000
A15: MEZCLADORA | C15: DIA | D15: 0.1 | E15: =EQ!F15 -> 60000 | F15: =D15*E15 -> 6000
F16: =D16*E16 -> 0
F17: =D17*E17 -> 0
F18: =D18*E18 -> 0
A19: SUB-TOTAL HERRAMIENTA Y EQUIPO: | F19: =SUM(F14:F18) -> 9000
A21: MATERIALES
A22: DESCRIPCIÓN | C22: UND | D22: CANTIDAD | E22: VR. UNITARIO | F22: VR. PARCIAL
A23: PIEDRA DE RIO MEDIA ZONGA | C23: M3 | D23: 0.4 | E23: =MAT!E22 -> 66666.667 | F23: =D23*E23 -> 26666.667
A24: MATERIAL CONCRETO DE 2500 PSI | C24: M3 | D24: 0.6 | E24: ='C. 2500 PSI'!F45 -> 514121 | F24: =D24*E24 -> 308472.6
F25: =D25*E25 -> 0
F26: =D26*E26 -> 0
F27: =D27*E27 -> 0
F28: =D28*E28 -> 0
A29: TOTAL MATERIALES: | F29: =SUM(F23:F28) -> 335139.27
A31: TRANSPORTE
A32: MATERIAL | B32: CANTIDAD | C32: DIST | D32: M3-KM | E32: TARIFA | F32: VR. UNITARIO
F33: =D33*E33 -> 0
F34: =D34*E34 -> 0
A35: TOTAL TRANSPORTE: | F35: =SUM(F33:F34) -> 0
A37: MANO DE OBRA
A38: DESCRIPCIÓN | C38: UNIDAD | D38: VALOR DIA | E38: REND | F38: VR. PARCIAL
A39: AYUIDANTE (Incl. Prestaciones) | C39: DIA | D39: =M.O!F35 -> 108705.9 | E39: 0.55 | F39: =D39*E39 -> 59788.243
A40: OFICIAL (incl. Prestaciones) | C40: DIA | D40: =M.O!F60 -> 199068.35 | E40: 0.55 | F40: =D40*E40 -> 109487.59
F41: =D41*E41 -> 0
F42: =D42*E42 -> 0
A43: TOTAL MANO DE OBRA: | F43: =SUM(F39:F42) -> 169275.84
A45: VALOR UNITARIO TOTAL | F45: =ROUND(SUM(F29+F43+F19+F35),0) -> 513415
A49: KAREN TATIANA GUTIERREZ V. | D49: HECTOR HORACIO GAITAN G.
A50: Profesional de apoyo | D50: Secretario de Planeaicon e Infraestructura

Sheet M 1-3
A7: ANÁLISIS DE PRECIOS UNITARIOS - SUBPRODUCTOS
A9: CAPITULO: | B9: ='[6]PRESUP. OBRA. '!B10:F10 -> PRELIMINARES | E9: UNIDAD: | F9: M3
A10: ITEM: | B10: Mortero 1:3
A12: HERRAMIENTA Y EQUIPO
A13: DESCRIPCIÓN | C13: UNIDAD | D13: REND | E13: V. UNIT | F13: VR. PARCIAL
A14: HERRAMIENTA MENOR | C14: UND | D14: 1 | E14: 5000 | F14: =D14*E14 -> 5000
F15: =D15*E15 -> 0
F16: =D16*E16 -> 0
F17: =D17*E17 -> 0
F18: =D18*E18 -> 0
A19: SUB-TOTAL HERRAMIENTA Y EQUIPO: | F19: =SUM(F14:F18) -> 5000
A21: MATERIALES
A22: DESCRIPCIÓN | C22: UND | D22: CANTIDAD | E22: VR. UNITARIO | F22: VR. PARCIAL
A23: CEMENTO | C23: KG | D23: 454 | E23: =MAT!E16 -> 726.66587 | F23: =D23*E23 -> 329906.3
A24: ARENA FINA | C24: M3 | D24: 1.1 | E24: =MAT!E19 -> 75000 | F24: =D24*E24 -> 82500
A25: AGUA | C25: LTS | D25: 250 | E25: =MAT!E21 -> 20 | F25: =D25*E25 -> 5000
F26: =(SUM(F23:F25)*D26) -> 0
F27: =(SUM(F24:F26)*D27) -> 0
F28: =(SUM(F25:F27)*D28) -> 0
F29: =(SUM(F26:F28)*D29) -> 0
A30: TOTAL MATERIALES: | F30: =SUM(F23:F29) -> 417406.3
A32: TRANSPORTE
A33: MATERIAL | B33: CANTIDAD | C33: DIST | D33: M3-KM | E33: TARIFA | F33: VR. UNITARIO
F34: =D34*E34 -> 0
F35: =D35*E35 -> 0
A36: TOTAL TRANSPORTE: | F36: =SUM(F34:F35) -> 0
A38: MANO DE OBRA
A39: DESCRIPCIÓN | C39: UNIDAD | D39: VALOR DIA | E39: REND | F39: VR. PARCIAL
A40: AYUIDANTE (Incl. Prestaciones) | C40: DIA | D40: =[7]M.O!F35 -> 108705.9 | E40: 0.75 | F40: =D40*E40 -> 81529.422
F41: =D41*E41 -> 0
F42: =D42*E42 -> 0
F43: =D43*E43 -> 0
A44: TOTAL MANO DE OBRA: | F44: =SUM(F40:F43) -> 81529.422
A46: VALOR UNITARIO TOTAL | F46: =ROUND(SUM(F30+F44+F19+F36),0) -> 503936
A50: KAREN TATIANA GUTIERREZ V. | D50: HECTOR HORACIO GAITAN G.
A51: Profesional de apoyo | D51: Secretario de Planeaicon e Infraestructura

Sheet M 1-4
A7: ANÁLISIS DE PRECIOS UNITARIOS - SUBPRODUCTOS
A9: CAPITULO: | B9: ='[6]PRESUP. OBRA. '!B10:F10 -> PRELIMINARES | E9: UNIDAD: | F9: M3
A10: ITEM: | B10: Mortero 1:4
A12: HERRAMIENTA Y EQUIPO
A13: DESCRIPCIÓN | C13: UNIDAD | D13: REND | E13: V. UNIT | F13: VR. PARCIAL
A14: HERRAMIENTA MENOR | C14: UND | D14: 1 | E14: 5000 | F14: =D14*E14 -> 5000
F15: =D15*E15 -> 0
F16: =D16*E16 -> 0
F17: =D17*E17 -> 0
F18: =D18*E18 -> 0
A19: SUB-TOTAL HERRAMIENTA Y EQUIPO: | F19: =SUM(F14:F18) -> 5000
A21: MATERIALES
A22: DESCRIPCIÓN | C22: UND | D22: CANTIDAD | E22: VR. UNITARIO | F22: VR. PARCIAL
A23: CEMENTO | C23: KG | D23: 364 | E23: =MAT!E16 -> 726.66587 | F23: =D23*E23 -> 264506.38
A24: ARENA FINA | C24: M3 | D24: 1.16 | E24: =MAT!E19 -> 75000 | F24: =D24*E24 -> 87000
A25: AGUA | C25: LTS | D25: 240 | E25: =MAT!E21 -> 20 | F25: =D25*E25 -> 4800
F26: =(SUM(F23:F25)*D26) -> 0
F27: =(SUM(F24:F26)*D27) -> 0
F28: =(SUM(F25:F27)*D28) -> 0
F29: =(SUM(F26:F28)*D29) -> 0
A30: TOTAL MATERIALES: | F30: =SUM(F23:F29) -> 356306.38
A32: TRANSPORTE
A33: MATERIAL | B33: CANTIDAD | C33: DIST | D33: M3-KM | E33: TARIFA | F33: VR. UNITARIO
F34: =D34*E34 -> 0
F35: =D35*E35 -> 0
A36: TOTAL TRANSPORTE: | F36: =SUM(F34:F35) -> 0
A38: MANO DE OBRA
A39: DESCRIPCIÓN | C39: UNIDAD | D39: VALOR DIA | E39: REND | F39: VR. PARCIAL
A40: AYUIDANTE (Incl. Prestaciones) | C40: DIA | D40: =M.O!F35 -> 108705.9 | E40: 0.75 | F40: =D40*E40 -> 81529.422
F41: =D41*E41 -> 0
F42: =D42*E42 -> 0
F43: =D43*E43 -> 0
A44: TOTAL MANO DE OBRA: | F44: =SUM(F40:F43) -> 81529.422
A46: VALOR UNITARIO TOTAL | F46: =ROUND(SUM(F30+F44+F19+F36),0) -> 442836
A50: KAREN TATIANA GUTIERREZ V. | D50: HECTOR HORACIO GAITAN G.
A51: Profesional de apoyo | D51: Secretario de Planeaicon e Infraestructura

Sheet A1,1-B1,1-C1,1-E1,1-F1,1
A7: ANALISIS DE PRECIOS UNITARIOS
A9: CAPITULO: | B9: ='PRESUPUESTO OFICIAL (Entidad)'!C13 -> PRELIMINARES Y DEMOLICIONES - DESMONTE DE ELEMENTOS | E9: UNIDAD: | F9: ='PRESUPUESTO OFICIAL (Entidad)'!D14 -> M2
A10: ITEM: | B10: ='PRESUPUESTO OFICIAL (Entidad)'!C14 -> Localización y Replanteo manual.
B11: A1,1 | C11: B1,1 | D11: C1,1 | E11: E1,1 | F11: F1,1
A13: HERRAMIENTA Y EQUIPO
A14: DESCRIPCIÓN | C14: UNIDAD | D14: CANT. | E14: V. UNIT | F14: VR. PARCIAL
A15: HERRAMIENTA MENOR (5% M.O) | C15: % | D15: =5/100 -> 0.05 | E15: =F46 -> 3847.2 | F15: =D15*E15 -> 192.36
F16: =D16*E16 -> 0
F17: =D17*E17 -> 0
F18: =D18*E18 -> 0
F19: =D19*E19 -> 0
A20: SUB-TOTAL HERRAMIENTA Y EQUIPO: | F20: =SUM(F15:F19) -> 192.36
A22: MATERIALES
A23: DESCRIPCIÓN | C23: UND | D23: CANTIDAD | E23: VR. UNITARIO | F23: VR. PARCIAL
A24: PUNTILLA 2" | C24: LB | D24: 0.06 | E24: =MAT!E108 -> 4250 | F24: =D24*E24 -> 255
A25: POLIN DE MADERA 5X5 | C25: ML | D25: 0.06 | E25: =MAT!E107 -> 7955.5556 | F25: =D25*E25 -> 477.33333
A26: CAL | C26: KG | D26: 0.05 | E26: =MAT!E60 -> 1500 | F26: =D26*E26 -> 75
A27: NYLON No. 80 | C27: UND | D27: 0.05 | E27: =MAT!E98 -> 7250 | F27: =D27*E27 -> 362.5
F28: =D28*E28 -> 0
F29: =D29*E29 -> 0
F30: =D30*E30 -> 0
F31: =D31*E31 -> 0
A32: TOTAL MATERIALES: | F32: =SUM(F24:F31) -> 1169.8333
A34: TRANSPORTE
A35: MATERIAL | C35: VOL (M3) | D35: DIST (KM) | E35: PESOS/(M3-KM) | F35: VR. UNITARIO
F36: =C36*D36*E36 -> 0
F37: =C37*D37*E37 -> 0
A38: TOTAL TRANSPORTE: | F38: =SUM(F36:F37) -> 0
A40: MANO DE OBRA
A41: DESCRIPCIÓN | C41: UNIDAD | D41: VALOR HR | E41: REND | F41: VR. PARCIAL
A42: =M.O!B63 -> MANO DE OBRA A (1 OF Y 1 AYUD) | C42: HR | D42: =M.O!F70 -> 38472 | E42: 0.1 | F42: =D42*E42 -> 3847.2
A46: TOTAL MANO DE OBRA: | F46: =SUM(F42:F45) -> 3847.2
A48: VALOR UNITARIO TOTAL | F48: =ROUND(SUM(F32+F46+F20+F38),0) -> 5209
A51: KAREN TATIANA GUTIERREZ V. | D51: HECTOR HORACIO GAITAN G.
A52: Profesional de apoyo | D52: Secretario de Planeaicon e Infraestructura

Sheet A1,2
A7: ANALISIS DE PRECIOS UNITARIOS
A9: CAPITULO: | B9: ='PRESUPUESTO OFICIAL (Entidad)'!C13 -> PRELIMINARES Y DEMOLICIONES - DESMONTE DE ELEMENTOS | E9: UNIDAD: | F9: ='PRESUPUESTO OFICIAL (Entidad)'!D15 -> M3
A10: ITEM: | B10: ='PRESUPUESTO OFICIAL (Entidad)'!C15 -> Demolición mecánica de concreto ciclópeo
B11: A1,2
A13: HERRAMIENTA Y EQUIPO | H13: ='PRESUPUESTO OFICIAL (Entidad)'!E15 -> 3.53
A14: DESCRIPCIÓN | C14: UNIDAD | D14: CANT. | E14: V. UNIT | F14: VR. PARCIAL
A15: HERRAMIENTA MENOR (5% M.O) | C15: % | D15: 0.05 | E15: =+F46 -> 134652 | F15: =D15*E15 -> 6732.6
A16: COMPRESOR HIDRAULICO 1 MARTILLO | C16: DIA | D16: 0.5 | E16: =EQ!F24 -> 100000 | F16: =D16*E16 -> 50000 | H16: =H13*F16 -> 176500
F17: =D17*E17 -> 0
F18: =D18*E18 -> 0
F19: =D19*E19 -> 0
A20: SUB-TOTAL HERRAMIENTA Y EQUIPO: | F20: =SUM(F15:F19) -> 56732.6
A22: MATERIALES
A23: DESCRIPCIÓN | C23: UND | D23: CANTIDAD | E23: VR. UNITARIO | F23: VR. PARCIAL
F24: =D24*E24 -> 0
F25: =D25*E25 -> 0
F26: =D26*E26 -> 0
F27: =D27*E27 -> 0
F28: =D28*E28 -> 0
F29: =D29*E29 -> 0
F30: =D30*E30 -> 0
F31: =D31*E31 -> 0
A32: TOTAL MATERIALES: | F32: =SUM(F24:F31) -> 0
A34: TRANSPORTE
A35: MATERIAL | B35: Vol - peso o cant | C35: DIST | D35: M3-KM | E35: TARIFA | F35: VR. UNITARIO
A36: TRANSPORTE | B36: 0.04 | C36: 2 | D36: =B36*C36 -> 0.08 | E36: =+H36 -> 29166.667 | F36: =D36*E36 -> 2333.3333 | H36: =350000/C36/6 -> 29166.667
F37: =C37*D37*E37 -> 0
A38: TOTAL TRANSPORTE: | F38: =SUM(F36:F37) -> 2333.3333
A40: MANO DE OBRA
A41: DESCRIPCIÓN | C41: UNIDAD | D41: VALOR HR | E41: REND | F41: VR. PARCIAL
A42: =M.O!B63 -> MANO DE OBRA A (1 OF Y 1 AYUD) | C42: HR | D42: =M.O!F70 -> 38472 | E42: 3.5 | F42: =D42*E42 -> 134652
F43: =D43*E43 -> 0
F44: =D44*E44 -> 0
F45: =D45*E45 -> 0
A46: TOTAL MANO DE OBRA: | F46: =SUM(F42:F45) -> 134652 | H46: =F46*H13 -> 475321.56
A48: VALOR UNITARIO TOTAL | F48: =ROUND(SUM(F32+F46+F20+F38),0) -> 193718
A51: KAREN TATIANA GUTIERREZ V. | D51: HECTOR HORACIO GAITAN G.
A52: Profesional de apoyo | D52: Secretario de Planeaicon e Infraestructura

Sheet A2,1-B2,1-C2,1-E2,2-F3,1
A7: ANALISIS DE PRECIOS UNITARIOS
A9: CAPITULO: | B9: ='PRESUPUESTO OFICIAL (Entidad)'!C16 -> MOVIMIENTO DE TIERRA | E9: UNIDAD: | F9: ='PRESUPUESTO OFICIAL (Entidad)'!D17 -> M3
A10: ITEM: | B10: ='PRESUPUESTO OFICIAL (Entidad)'!C17 -> Excavacion manual. Incluye retiro del material.
B11: A2,1 | C11: B2,1 | D11: C2,1 | E11: E2,2 | F11: F3,1
A13: HERRAMIENTA Y EQUIPO
A14: DESCRIPCIÓN | C14: UNIDAD | D14: CANT. | E14: V. UNIT | F14: VR. PARCIAL
A15: HERRAMIENTA MENOR (5% M.O) | C15: % | D15: =5/100 -> 0.05 | E15: =+F46 -> 53860.8 | F15: =D15*E15 -> 2693.04
F16: =D16*E16 -> 0
F17: =D17*E17 -> 0
F18: =D18*E18 -> 0
F19: =D19*E19 -> 0
A20: SUB-TOTAL HERRAMIENTA Y EQUIPO: | F20: =SUM(F15:F19) -> 2693.04
A22: MATERIALES
A23: DESCRIPCIÓN | C23: UND | D23: CANTIDAD | E23: VR. UNITARIO | F23: VR. PARCIAL
F24: =D24*E24 -> 0
F25: =D25*E25 -> 0
F26: =D26*E26 -> 0
F27: =D27*E27 -> 0
F28: =D28*E28 -> 0
F29: =D29*E29 -> 0
F30: =D30*E30 -> 0
F31: =D31*E31 -> 0
A32: TOTAL MATERIALES: | F32: =SUM(F24:F31) -> 0
A34: TRANSPORTE
