Workbook
Name ______________________i1: #REF!
Name ______________________i1: #REF!
Name ______________________i1: #REF!
Name ______________________i1: #REF!
Name ______________________i1: #REF!
Name _____________________i1: #REF!
Name _____________________i1: #REF!
Name _____________________i1: #REF!
Name _____________________i1: #REF!
Name _____________________i1: #REF!
Name ____________________i1: #REF!
Name ____________________i1: #REF!
Name ____________________i1: #REF!
Name ____________________i1: #REF!
Name ____________________i1: #REF!
Name ___________________i1: #REF!
Name ___________________i1: #REF!
Name ___________________i1: #REF!
Name ___________________i1: #REF!
Name ___________________i1: #REF!
Name __________________i1: #REF!
Name __________________i1: #REF!
Name __________________i1: #REF!
Name __________________i1: #REF!
Name __________________i1: #REF!
Name _________________i1: #REF!
Name _________________i1: #REF!
Name _________________i1: #REF!
Name _________________i1: #REF!
Name _________________i1: #REF!
Name ________________i1: #REF!
Name ________________i1: #REF!
Name ________________i1: #REF!
Name ________________i1: #REF!
Name ________________i1: #REF!
Name _______________i1: #REF!
Name _______________i1: #REF!
Name _______________i1: #REF!
Name _______________i1: #REF!
Name _______________i1: #REF!
Name ______________i1: #REF!
Name ______________i1: #REF!
Name ______________i1: #REF!
Name ______________i1: #REF!
Name ______________i1: #REF!
Name _____________i1: #REF!
Name _____________i1: #REF!
Name _____________i1: #REF!
Name _____________i1: #REF!
Name _____________i1: #REF!
Name ____________i1: #REF!
Name ____________i1: #REF!
Name ____________i1: #REF!
Name ____________i1: #REF!
Name ____________i1: #REF!
Name ___________i1: #REF!
Name ___________i1: #REF!
Name ___________i1: #REF!
Name ___________i1: #REF!
Name ___________i1: #REF!

Sheet 1 PY-PPTO
C1: DIAGNÓSTICOS, ESTUDIOS Y DISEÑOS PARA LA CONSERVACIÓN Y/O CONSTRUCCIÓN DE PUENTES VEHICULARES Y/O PEATONALES SOBRE CORRIENTES DE AGUA
C2: Puente No. 1 - La Playa (vehicular)
C3: PRESUPUESTO | I3: Versión: | J3: =[97]Datos!B1 -> V2 del 26 de enero de 2024
A5: N° | B5: CONSECUTIVO IDU / CÓDIGO | C5: DESCRIPCIÓN | H5: UNIDAD | I5: CANTIDAD | J5: VALOR UNITARIO | K5: SUBTOTAL
A6: 1 | B6: 3378 | C6: =VLOOKUP(B6,[98]APUs!$D$4:$G$4130,2,FALSE) -> DESCAPOTE A MANO EN MATERIAL COMUN (E=0.1M. INCLUYE CARGUE) | H6: =VLOOKUP(B6,[98]APUs!$D$4:$G$4130,3,FALSE) -> M2 | I6: ='1 PY-CANT'!M7 -> 40 | J6: =VLOOKUP(B6,[99]APUs!$D$4:$G$4149,4,FALSE) -> 3666 | K6: =I6*J6 -> 146640
A7: 2 | B7: 4947 | C7: =VLOOKUP(B7,[98]APUs!$D$4:$G$4130,2,FALSE) -> LAVADO DE ESTRUCTURA EN CONCRETO Y/O METÁLICAS. INCLUYE ALQUILER DE HIDROLAVADORA 1300W MOTOR A GASOLINA PRESIÓN 3200 PSI. INCLUYE IMPLEMENTOS DE ASEO (DETERGENTE INDUSTRIAL), AGUA, COMBUSTIBLE Y MANO DE OBRA. | H7: =VLOOKUP(B7,[98]APUs!$D$4:$G$4130,3,FALSE) -> M2 | I7: ='1 PY-CANT'!M102 -> 96 | J7: =VLOOKUP(B7,[99]APUs!$D$4:$G$4149,4,FALSE) -> 5395 | K7: =I7*J7 -> 517920
A8: 3 | B8: 7864 | C8: =VLOOKUP(B8,[98]APUs!$D$4:$G$4130,2,FALSE) -> LAVADO DE ESTRUCTURA EN CONCRETO Y/O METÁLICAS CON ANDAMIO CERTIFICADO. INCLUYE ALQUILER DE HIDROLAVADORA A GASOLINA PRESIÓN 3200 PSI. INCLUYE PLANTA ELÉCTRICA, AGUA Y MANO DE OBRA. | H8: =VLOOKUP(B8,[98]APUs!$D$4:$G$4130,3,FALSE) -> M2 | I8: ='1 PY-CANT'!M188 -> 410 | J8: =VLOOKUP(B8,[99]APUs!$D$4:$G$4149,4,FALSE) -> 7871 | K8: =I8*J8 -> 3227110
A9: 4 | B9: 6294 | C9: =VLOOKUP(B9,[98]APUs!$D$4:$G$4130,2,FALSE) -> REPARACIÓN DE BARANDAS EXISTENTES. INCLUYE LIMPIEZA, MORTERO DE REPARACIÓN, INHIBIDOR DE CORROSIÓN, PINTURA ANTICARBONATACIÓN, SUMINISTRO DE MANO DE OBRA, EQUIPOS Y MANEJO DE DESPERDICIOS. | H9: =VLOOKUP(B9,[98]APUs!$D$4:$G$4130,3,FALSE) -> ML | I9: ='1 PY-CANT'!M278 -> 60 | J9: =VLOOKUP(B9,[99]APUs!$D$4:$G$4149,4,FALSE) -> 39835 | K9: =I9*J9 -> 2390100
A10: 5 | B10: P-012 | C10: =[97]RESUMEN!C17 -> CONCRETO 3500 PSI GRAVA COMÚN PARA RECALCE DE 0.05M X 0.50M X 1.20M (HECHO EN OBRA, INCLUYE SUMIN., FORMALETEO Y COLOCACIÓN. NO INCL. REFUERZO, CURADO). | H10: =[97]RESUMEN!H15 -> M3 | I10: ='1 PY-CANT'!H407 -> 1 | J10: =[97]RESUMEN!J17 -> 935599 | K10: =I10*J10 -> 935599
A11: 6 | B11: 7720 | C11: =VLOOKUP(B11,[98]APUs!$D$4:$G$4130,2,FALSE) -> CURADO DE ELEMENTOS DE CONCRETO (SUMINISTRO Y APLICACIÓN) | H11: =VLOOKUP(B11,[98]APUs!$D$4:$G$4130,3,FALSE) -> M3 | I11: ='1 PY-CANT'!M469 -> 1 | J11: =VLOOKUP(B11,[99]APUs!$D$4:$G$4149,4,FALSE) -> 9803 | K11: =I11*J11 -> 9803
A12: 7 | B12: 4390 | C12: =VLOOKUP(B12,[98]APUs!$D$4:$G$4130,2,FALSE) -> EXCAVACIÓN MANUAL EN MATERIAL COMÚN (INCL CARGUE, TRANSPORTE Y DISPOSICION FINAL) | H12: =VLOOKUP(B12,[98]APUs!$D$4:$G$4130,3,FALSE) -> M3 | I12: ='1 PY-CANT'!M565 -> 12 | J12: =VLOOKUP(B12,[99]APUs!$D$4:$G$4149,4,FALSE) -> 91037 | K12: =I12*J12 -> 1092444
A13: 8 | B13: 4140 | C13: =VLOOKUP(B13,[98]APUs!$D$4:$G$4130,2,FALSE) -> BASE GRANULAR BG-A. (SUMINISTRO, EXTENDIDO, NIVELACIÓN Y HUMEDECIMIENTO MECÁNICO, COMPACTACIÓN MECÁNICA CON VIBROCOMPACTADOR TÁNDEM PEQUEÑO, INCLUYE OPERARIO Y COMBUSTIBLE). | H13: =VLOOKUP(B13,[98]APUs!$D$4:$G$4130,3,FALSE) -> M3 | I13: ='1 PY-CANT'!M663 -> 12 | J13: =VLOOKUP(B13,[99]APUs!$D$4:$G$4149,4,FALSE) -> 177596 | K13: =I13*J13 -> 2131152
A14: 9 | B14: P-003 | C14: INYECCIÓN DE FISURAS Y/O GRIETAS INACTIVAS (INCLUYE ALQUILER DE EQUIPO, SUMINISTRO DE MATERIALES Y MANO DE OBRA PARA SU INSTALACIÓN) | H14: ML | I14: ='1 PY-CANT'!M758 -> 232 | J14: ='[97]P-003'!K33 -> 26294 | K14: =I14*J14 -> 6100208
A15: 10 | B15: P-004 | C15: MORTERO DE REPARACIÓN PARA APLICACIÓN EN BAJOS ESPESORES > 5 MM (INCLUYE ALQUILER DE EQUIPOS MENORES Y ANDAMIO CON LÍNEA DE SEGURIDAD, SUMINISTRO DE MATERIALES Y MANO DE OBRA PARA SU INSTALACIÓN) | H15: M2 | I15: ='1 PY-CANT'!M839 -> 236 | J15: ='[97]P-004'!K35 -> 58435 | K15: =I15*J15 -> 13790660
A16: 11 | B16: P-005 | C16: APLICACIÓN DE HIDROFUGOS SOBRE LA SUPERFICIE DEL CONCRETO (INCLUYE ALQUILER DE EQUIPO, SUMINISTRO DE MATERIALES Y MANO DE OBRA PARA SU INSTALACION) | H16: M2 | I16: ='1 PY-CANT'!M921 -> 506 | J16: ='[97]P-005'!K31 -> 13977 | K16: =I16*J16 -> 7072362
A17: 12 | B17: 8780 | C17: =VLOOKUP(B17,[98]APUs!$D$4:$G$4130,2,FALSE) -> ENROCADO EN PIEDRA PARTIDA CON DIÁMETROS DE 25 A 75 MM (Suministro y colocación) | H17: =VLOOKUP(B17,[98]APUs!$D$4:$G$4130,3,FALSE) -> M3 | I17: ='1 PY-CANT'!M1003 -> 1205.5 | J17: =VLOOKUP(B17,[99]APUs!$D$4:$G$4149,4,FALSE) -> 84407 | K17: =I17*J17 -> 1.0175264e+08
A18: 13 | B18: =[97]RESUMEN!B33 -> P-007 | C18: =[97]RESUMEN!C33 -> TRANSPORTE ADICIONAL DE PETREOS DESDE ZONA SUR DE BOGOTÁ HASTA SITIO OBRA | H18: =[97]RESUMEN!H33 -> M3-KM | I18: ='1 PY-CANT'!M1093 -> 121750 | J18: =[97]RESUMEN!J33 -> 1800 | K18: =I18*J18 -> 219150000
C19: SUBTOTAL OBRAS | K19: =SUM(K6:K18) -> 3.5831664e+08
A20: SUBTOTAL OBRA (INCLUYE AIU) | K20: =ROUND(K19*(1+'1 PY-AIU'!L70),2) -> 4.6556081e+08
A21: VALOR IVA (OBRA) (19% SOBRE UTILIDAD OBRA) | K21: =ROUND(K19*'1 PY-AIU'!L68*0.19,2) -> 3404008
A22: SUBTOTAL OBRA (INCLUYE AIU E IVA) | K22: =K20+K21 -> 4.6896481e+08
A23: PLAN DE MANEJO AMBIENTAL, SOCIAL Y SST | K23: =#REF! -> #REF!
A24: APROPIACIÓN DE LOS DIAGNÓSTICOS, ESTUDIOS Y DISEÑOS DE LA OBRA | K24: =K19*0.03 -> 10749499
A25: VALOR TOTAL CONTRATO | K25: =K22+K23+K24 -> #REF!

Sheet 1 PY-CANT
C1: ='1 PY-PPTO'!$C$1 -> DIAGNÓSTICOS, ESTUDIOS Y DISEÑOS PARA LA CONSERVACIÓN Y/O CONSTRUCCIÓN DE PUENTES VEHICULARES Y/O PEATONALES SOBRE CORRIENTES DE AGUA
C2: Puente No. 1 - La Playa (vehicular)
C3: CANTIDADES DE OBRA | K3: =[97]Datos!B1 -> V2 del 26 de enero de 2024
A6: CONSECUTIVO / CÓDIGO | C6: DESCRIPCIÓN | K6: UNIDAD | M6: CANTIDAD
A7: ='1 PY-PPTO'!B6 -> 3378 | C7: ='1 PY-PPTO'!C6 -> DESCAPOTE A MANO EN MATERIAL COMUN (E=0.1M. INCLUYE CARGUE) | K7: ='1 PY-PPTO'!H6 -> M2 | M7: =G39 -> 40
A9: PLANO / ESQUEMA: | C9: Registro fotográfico | G9: COMPONENTE: | I9: INFORME DE PATOLOGÍA PUENTE VEHICULAR LA PLAYA
B11: TABLERO | F11: ESTRIBOS | I11: ZAPATAS
A32: CALCULO DE CANTIDADES:
B35: Elemento | C35: Ancho (m) | D35: Largo (m) | E35: Área (m2) | F35: Cantidad | G35: Área total (m2)
B36: Tablero ambos costados | C36: 0.2 | D36: 30 | E36: =D36*C36 -> 6 | F36: 2 | G36: =F36*E36 -> 12
B37: Estribos | C37: 4 | D37: 5 | E37: =D37*C37 -> 20 | F37: 1 | G37: =F37*E37 -> 20
B38: Zapatas | C38: 4 | D38: 2 | E38: =D38*C38 -> 8 | F38: 1 | G38: =F38*E38 -> 8
F39: Total | G39: =ROUND(SUM(G36:G38),2) -> 40
A101: CONSECUTIVO / CÓDIGO | C101: DESCRIPCIÓN | K101: UNIDAD | M101: CANTIDAD
A102: ='1 PY-PPTO'!B7 -> 4947 | C102: ='1 PY-PPTO'!C7 -> LAVADO DE ESTRUCTURA EN CONCRETO Y/O METÁLICAS. INCLUYE ALQUILER DE HIDROLAVADORA 1300W MOTOR A GASOLINA PRESIÓN 3200 PSI. INCLUYE IMPLEMENTOS DE ASEO (DETERGENTE INDUSTRIAL), AGUA, COMBUSTIBLE Y MANO DE OBRA. | K102: ='1 PY-PPTO'!H7 -> M2 | M102: =G135 -> 96
A104: PLANO / ESQUEMA: | C104: Registro fotográfico | G104: COMPONENTE: | I104: INFORME DE PATOLOGÍA PUENTE VEHICULAR LA PLAYA
B106: BORDILLO Y BARANDAS
A128: CALCULO DE CANTIDADES:
B131: Elemento | C131: Ancho (m) | D131: Largo (m) | E131: Área (m2) | F131: Cantidad | G131: Área total (m2)
B132: Bordillos (suma de sus lados vertical y horizontal) | C132: =0.2+0.2 -> 0.4 | D132: 30 | E132: =D132*C132 -> 12 | F132: 2 | G132: =F132*E132 -> 24
B133: Parte vertical de baranda (suma de sus lados) | C133: 4 | D133: 0.2 | E133: =D133*C133 -> 0.8 | F133: 30 | G133: =F133*E133 -> 24
B134: Parte horizontal de baranda (suma de sus lados) | C134: 8 | D134: 0.2 | E134: =D134*C134 -> 1.6 | F134: 30 | G134: =F134*E134 -> 48
F135: Total | G135: =ROUND(SUM(G132:G134),2) -> 96
A187: CONSECUTIVO / CÓDIGO | C187: DESCRIPCIÓN | K187: UNIDAD | M187: CANTIDAD
A188: ='1 PY-PPTO'!B8 -> 7864 | C188: ='1 PY-PPTO'!C8 -> LAVADO DE ESTRUCTURA EN CONCRETO Y/O METÁLICAS CON ANDAMIO CERTIFICADO. INCLUYE ALQUILER DE HIDROLAVADORA A GASOLINA PRESIÓN 3200 PSI. INCLUYE PLANTA ELÉCTRICA, AGUA Y MANO DE OBRA. | K188: ='1 PY-PPTO'!H8 -> M2 | M188: =G238 -> 410
A190: PLANO / ESQUEMA: | C190: Registro fotográfico | G190: COMPONENTE: | I190: INFORME DE PATOLOGÍA PUENTE VEHICULAR LA PLAYA
B192: PARTE INFERIOR DEL TABLERO Y RIOSTRAS | H192: UNION ESTRIBOS Y SUPERESTRUCTURA
D212: VIGAS LONGITUDINALES
A229: CALCULO DE CANTIDADES:
B232: Elemento | C232: Ancho (m) | D232: Largo (m) | E232: Área (m2) | F232: Cantidad | G232: Área total (m2)
B233: Tablero interior | C233: 4 | D233: 30 | E233: =D233*C233 -> 120 | F233: 1 | G233: =F233*E233 -> 120
B234: Riostras (suma de sus lados) | C234: 5 | D234: 2 | E234: =D234*C234 -> 10 | F234: 3 | G234: =F234*E234 -> 30
B235: Vigas longitudinales (interior) | C235: 2 | D235: 30 | E235: =D235*C235 -> 60 | F235: 2 | G235: =F235*E235 -> 120
B236: Vigas longitudinales (exterior) | C236: 2 | D236: 30 | E236: =D236*C236 -> 60 | F236: 2 | G236: =F236*E236 -> 120
B237: Estribos | C237: 4 | D237: 5 | E237: =D237*C237 -> 20 | F237: 1 | G237: =F237*E237 -> 20
F238: Total | G238: =ROUND(SUM(G233:G237),2) -> 410
A277: CONSECUTIVO / CÓDIGO | C277: DESCRIPCIÓN | K277: UNIDAD | M277: CANTIDAD
A278: ='1 PY-PPTO'!B9 -> 6294 | C278: ='1 PY-PPTO'!C9 -> REPARACIÓN DE BARANDAS EXISTENTES. INCLUYE LIMPIEZA, MORTERO DE REPARACIÓN, INHIBIDOR DE CORROSIÓN, PINTURA ANTICARBONATACIÓN, SUMINISTRO DE MANO DE OBRA, EQUIPOS Y MANEJO DE DESPERDICIOS. | K278: ='1 PY-PPTO'!H9 -> ML | M278: =E308 -> 60
A280: PLANO / ESQUEMA: | C280: Registro fotográfico | G280: COMPONENTE: | I280: INFORME DE PATOLOGÍA PUENTE VEHICULAR LA PLAYA
D282: TABLERO | H282: BORDILLO Y BARANDAS
...

Sheet 1 PY-AIU
C1: ='[97]4 NZ-PPTO'!$C$1 -> DIAGNÓSTICOS, ESTUDIOS Y DISEÑOS PARA LA CONSERVACIÓN Y/O CONSTRUCCIÓN DE PUENTES VEHICULARES Y/O PEATONALES SOBRE CORRIENTES DE AGUA
C2: Puente No. 1 - La Playa (vehicular)
C3: CALCULO DEL AIU | J3: =[97]Datos!B1 -> V2 del 26 de enero de 2024
B6: COSTO DIRECTO DE OBRA | E6: ='1 PY-PPTO'!K19 -> 3.5831664e+08 | H6: PLAZO EN MESES | J6: 2
A8: A. ADMINISTRACIÓN
A9: 1 | B9: PERSONAL (CARGO/OFICIO) | G9: CANTIDAD (1) | H9: DEDICACIÓN (2) | I9: MESES (3) | J9: Vr. UNITARIO (4) | L9: Vr. TOTAL (1)*(2)*(3)*(4)=(5)
A10: PERSONAL PROFESIONAL
A11: CÓDIGO IDU | B11: CATEGORIA | E11: CARGO
A12: 9468 | B12: =VLOOKUP(A12,[100]Insumos!$C$4:$F$3716,2,FALSE) -> TARIFA MES - PROFESIONAL CATEGORÍA 4 (INCLUYE FACTOR DE PRESTACIONES) | E12: DIRECTOR DE OBRA | G12: 1 | H12: 0.25 | I12: 2 | J12: =VLOOKUP(A12,[100]Insumos!$C$4:$F$3716,4,FALSE) -> 11440163 | L12: =G12*H12*I12*J12 -> 5720081.5 | N12: 13830994 | O12: =G12*H12*I12*N12 -> 6915497
A13: 9471 | B13: =VLOOKUP(A13,[100]Insumos!$C$4:$F$3716,2,FALSE) -> TARIFA MES - PROFESIONAL CATEGORÍA 7 (INCLUYE FACTOR DE PRESTACIONES) | E13: RESIDENTE DE OBRA | G13: 1 | H13: 1 | I13: 2 | J13: =VLOOKUP(A13,[100]Insumos!$C$4:$F$3716,4,FALSE) -> 6968945 | L13: =G13*H13*I13*J13 -> 13937890 | N13: 8428754 | O13: =G13*H13*I13*N13 -> 16857508
A14: 9468 | B14: =VLOOKUP(A14,[100]Insumos!$C$4:$F$3716,2,FALSE) -> TARIFA MES - PROFESIONAL CATEGORÍA 4 (INCLUYE FACTOR DE PRESTACIONES) | E14: ESPECIALISTA EN ESTRUCTURAS | G14: 1 | H14: 0.25 | I14: 2 | J14: =VLOOKUP(A14,[100]Insumos!$C$4:$F$3716,4,FALSE) -> 11440163 | L14: =G14*H14*I14*J14 -> 5720081.5 | N14: 13830994 | O14: =G14*H14*I14*N14 -> 6915497
A15: 9468 | B15: =VLOOKUP(A15,[100]Insumos!$C$4:$F$3716,2,FALSE) -> TARIFA MES - PROFESIONAL CATEGORÍA 4 (INCLUYE FACTOR DE PRESTACIONES) | E15: ESPECIALISTA EN HIDRAULICA | G15: 1 | H15: 0.25 | I15: 2 | J15: =VLOOKUP(A15,[100]Insumos!$C$4:$F$3716,4,FALSE) -> 11440163 | L15: =G15*H15*I15*J15 -> 5720081.5 | N15: 13830994 | O15: =G15*H15*I15*N15 -> 6915497
A16: 9471 | B16: =VLOOKUP(A16,[100]Insumos!$C$4:$F$3716,2,FALSE) -> TARIFA MES - PROFESIONAL CATEGORÍA 7 (INCLUYE FACTOR DE PRESTACIONES) | E16: RESIDENTE HSEQ | G16: 1 | H16: 0.25 | I16: 2 | J16: =VLOOKUP(A16,[100]Insumos!$C$4:$F$3716,4,FALSE) -> 6968945 | L16: =G16*H16*I16*J16 -> 3484472.5 | N16: 8428754 | O16: =G16*H16*I16*N16 -> 4214377
A18: SUBTOTAL | L18: =SUM(L12:L17) -> 34582607
A19: PORCENTAJE (%) RESPECTO A COSTO DIRECTO DE OBRA (A) | L19: =L18/$E$6 -> 0.096514098
A21: PERSONAL TECNICO / ADMINISTRATIVO
A22: CÓDIGO IDU | B22: CATEGORIA | E22: CARGO
A23: 9477 | B23: =VLOOKUP(A23,[100]Insumos!$C$4:$F$3716,2,FALSE) -> TARIFA MES - PERSONAL TÉCNICO - TOPÓGRAFO INSPECTOR (INCLUYE FACTOR DE PRESTACIONES) | E23: TOPOGRAFO | G23: 1 | H23: 0.5 | I23: 2 | J23: =VLOOKUP(A23,[100]Insumos!$C$4:$F$3716,4,FALSE) -> 4506009 | L23: =G23*H23*I23*J23 -> 4506009 | N23: 5453251 | O23: =G23*H23*I23*N23 -> 5453251
A24: 9489 | B24: =VLOOKUP(A24,[100]Insumos!$C$4:$F$3716,2,FALSE) -> TARIFA MES - PERSONAL AUXILIAR TÉCNICO - CADENERO 1 (INCLUYE FACTOR DE PRESTACIONES) | E24: CADENERO | G24: 1 | H24: 0.5 | I24: 2 | J24: =VLOOKUP(A24,[100]Insumos!$C$4:$F$3716,4,FALSE) -> 3007737 | L24: =G24*H24*I24*J24 -> 3007737 | N24: 3740609 | O24: =G24*H24*I24*N24 -> 3740609
A26: SUBTOTAL | L26: =SUM(L23:L24) -> 7513746
A27: PORCENTAJE (%) RESPECTO A COSTO DIRECTO DE OBRA (B) | L27: =L26/$E$6 -> 0.020969571
A29: 2 | B29: GASTOS OPERACIONALES | H29: CANTIDAD (1) | I29: MESES (2) | J29: Vr. UNITARIO (3) | L29: Vr. TOTAL (1)*(2)*(3)=(4)
A30: CÓDIGO IDU | B30: DESCRIPCIÓN | Q30: 2025 | R30: 2024
A31: 9577 | B31: =VLOOKUP(A31,[100]Insumos!$C$4:$F$3716,2,FALSE) -> TARIFA MES - ALQUILER CAMPAMENTOS INCL. SERVICIOS PÚBLICOS PROVISIONALES | H31: 1 | I31: 2 | J31: =VLOOKUP(A31,[100]Insumos!$C$4:$F$3716,4,FALSE)*16 -> 493616 | L31: =H31*I31*J31 -> 987232 | N31: =Q31*U31 -> 387501.31 | Q31: 25982 | R31: 33097 | S31: =J31/R31 -> 14.914222 | T31: estan tomando 15 m2 de area | U31: 14.914222
A32: 9456 | B32: =VLOOKUP(A32,[100]Insumos!$C$4:$F$3716,2,FALSE) -> TARIFA MES - ALQUILER DE VEHICULO: CAMPERO, PICK-UP, CAMIONETA, CAMION O SIMILAR DE 1300cc A 2000cc DE CILINDRADA, MODELO 2014 A 2011. 75% DE LA TARIFA ESTABLECIDA. INCLUYE TODOS LOS COSTOS DE OPERACIÓN Y MANTENIMIENTO EXCEPTO EL SALARIO DEL CONDUCTOR | H32: 0.5 | I32: 2 | J32: =VLOOKUP(A32,[100]Insumos!$C$4:$F$3716,4,FALSE) -> 5448750 | L32: =H32*I32*J32 -> 5448750 | N32: 6583500
A33: 9115 | B33: =VLOOKUP(A33,[100]Insumos!$C$4:$F$3716,2,FALSE) -> TARIFA MES - EQUIPO DE TOPOGRAFÍA. INCLUYE TRÁNSITO, NIVEL Y ELEMENTOS COMPLEMENTARIOS | H33: 0.5 | I33: 2 | J33: =VLOOKUP(A33,[100]Insumos!$C$4:$F$3716,4,FALSE) -> 4103000 | L33: =H33*I33*J33 -> 4103000 | N33: 5988.45
A35: SUBTOTAL PERSONAL PROFESIONAL | L35: =SUM(L31:L34) -> 10538982
A36: PORCENTAJE (%) RESPECTO A COSTO DIRECTO DE OBRA (C) | L36: =L35/$E$6 -> 0.029412483
A38: 3 | B38: IMPUESTOS | L38: TASA PROMEDIO %
A39: 3.1 | B39: Contribución Especial (Impuesto de Guerra Ley 1738 DIC18-2014 prorroga 4 años) | L39: 0.05
A40: 3.2 | B40: ICA (Ley 14 6jul1983, Res 219 25feb2004) | L40: 0.0069
A41: 3.3 | B41: Retefuente | L41: 0.02
A42: 3.4 | B42: Estampilla Unipedagógica (Dec 584 de 19 dic 2014) | L42: 0.005
A44: SUBTOTAL % IMPUESTOS (D) | L44: =SUM(L39:L43) -> 0.0819
A46: 4 | B46: GARANTIAS | G46: VR/BASE | I46: % ASEGURADO | J46: MESES VIGENTES | K46: TASA | L46: VR/TOTAL
A47: 4.1 | B47: Cumplimiento | E47: GARANTÍA ÚNICA | G47: =E6*(1+M70) -> 4.6556081e+08 | I47: 0.3 | J47: 14 | K47: 0.002 | L47: =ROUND((((((G47*I47)*J47)/12)*K47)+2500)*1.19,2) -> 390787.15
A48: 4.2 | B48: Buen Manejo de Anticipo | G48: =G47*0.2 -> 93112161 | I48: 1 | J48: 14 | K48: 0.002 | L48: =ROUND((((((G48*I48)*J48)/12)*K48)+2500)*1.19,2) -> 261516.43
A49: 4.2 | B49: Salarios y Prestaciones Sociales | G49: =G47 -> 4.6556081e+08 | I49: 0.1 | J49: 42 | K49: 0.002 | L49: =ROUND((((((G49*I49)*J49)/12)*K49)+2500)*1.19,2) -> 390787.15
A50: 4.3 | B50: Estabilidad de la Obra | G50: =G47 -> 4.6556081e+08 | I50: 0.3 | J50: 60 | K50: 0.002 | L50: =ROUND((((((G50*I50)*J50)/12)*K50)+2500)*1.19,2) -> 1665027.1
A51: 4.4 | B51: Calidad del servicio | G51: =G50 -> 4.6556081e+08 | I51: 0.1 | J51: 60 | K51: 0.002 | L51: =ROUND((((((G51*I51)*J51)/12)*K51)+2500)*1.19,2) -> 556992.36
...

Sheet 1 PY-PPTO (2)
C2: Puente No. 1 - La Playa (vehicular)
C3: PRESUPUESTO
A5: N° | B5: CONSECUTIVO IDU / CÓDIGO | C5: DESCRIPCIÓN | H5: UNIDAD | I5: CANTIDAD | J5: VALOR UNITARIO | K5: SUBTOTAL | M5: ACTUALIZACIÓN PRECIO IDU 2026
A6: 1 | B6: 3378 | C6: =VLOOKUP(B6,[98]APUs!$D$4:$G$4130,2,FALSE) -> DESCAPOTE A MANO EN MATERIAL COMUN (E=0.1M. INCLUYE CARGUE) | H6: =VLOOKUP(B6,[98]APUs!$D$4:$G$4130,3,FALSE) -> M2 | I6: ='1 PY-CANT'!M7 -> 40 | J6: 4872 | K6: =I6*J6 -> 194880 | M6: 4872
A7: 2 | B7: 4947 | C7: =VLOOKUP(B7,[98]APUs!$D$4:$G$4130,2,FALSE) -> LAVADO DE ESTRUCTURA EN CONCRETO Y/O METÁLICAS. INCLUYE ALQUILER DE HIDROLAVADORA 1300W MOTOR A GASOLINA PRESIÓN 3200 PSI. INCLUYE IMPLEMENTOS DE ASEO (DETERGENTE INDUSTRIAL), AGUA, COMBUSTIBLE Y MANO DE OBRA. | H7: =VLOOKUP(B7,[98]APUs!$D$4:$G$4130,3,FALSE) -> M2 | I7: ='1 PY-CANT'!M102 -> 96 | J7: 5988.45 | K7: =I7*J7 -> 574891.2 | M7: 5988.45 | O7: LAVADO DE ESTRUCTURA EN CONCRETO Y/O METÁLICAS. INCLUYE ALQUILER DE HIDROLAVADORA 1300W MOTOR A GASOLINA PRESIÓN 3200 PSI. INCLUYE IMPLEMENTOS DE ASEO (DETERGENTE INDUSTRIAL), AGUA, COMBUSTIBLE Y MANO DE OBRA.
A8: 3 | B8: 7864 | C8: =VLOOKUP(B8,[98]APUs!$D$4:$G$4130,2,FALSE) -> LAVADO DE ESTRUCTURA EN CONCRETO Y/O METÁLICAS CON ANDAMIO CERTIFICADO. INCLUYE ALQUILER DE HIDROLAVADORA A GASOLINA PRESIÓN 3200 PSI. INCLUYE PLANTA ELÉCTRICA, AGUA Y MANO DE OBRA. | H8: =VLOOKUP(B8,[98]APUs!$D$4:$G$4130,3,FALSE) -> M2 | I8: ='1 PY-CANT'!M188 -> 410 | J8: 9951 | K8: =I8*J8 -> 4079910 | M8: 9951
A9: 4 | B9: 6294 | C9: =VLOOKUP(B9,[98]APUs!$D$4:$G$4130,2,FALSE) -> REPARACIÓN DE BARANDAS EXISTENTES. INCLUYE LIMPIEZA, MORTERO DE REPARACIÓN, INHIBIDOR DE CORROSIÓN, PINTURA ANTICARBONATACIÓN, SUMINISTRO DE MANO DE OBRA, EQUIPOS Y MANEJO DE DESPERDICIOS. | H9: =VLOOKUP(B9,[98]APUs!$D$4:$G$4130,3,FALSE) -> ML | I9: ='1 PY-CANT'!M278 -> 60 | J9: 45256 | K9: =I9*J9 -> 2715360 | M9: 45256
A10: 5 | B10: P-012 | C10: =[97]RESUMEN!C17 -> CONCRETO 3500 PSI GRAVA COMÚN PARA RECALCE DE 0.05M X 0.50M X 1.20M (HECHO EN OBRA, INCLUYE SUMIN., FORMALETEO Y COLOCACIÓN. NO INCL. REFUERZO, CURADO). | H10: =[97]RESUMEN!H15 -> M3 | I10: ='1 PY-CANT'!H407 -> 1 | J10: 1032864.9 | K10: =I10*J10 -> 1032864.9 | M10: 1032864.9
A11: 6 | B11: 7720 | C11: =VLOOKUP(B11,[98]APUs!$D$4:$G$4130,2,FALSE) -> CURADO DE ELEMENTOS DE CONCRETO (SUMINISTRO Y APLICACIÓN) | H11: =VLOOKUP(B11,[98]APUs!$D$4:$G$4130,3,FALSE) -> M3 | I11: ='1 PY-CANT'!M469 -> 1 | J11: 14056 | K11: =I11*J11 -> 14056 | M11: 14056
A12: 7 | B12: 4390 | C12: =VLOOKUP(B12,[98]APUs!$D$4:$G$4130,2,FALSE) -> EXCAVACIÓN MANUAL EN MATERIAL COMÚN (INCL CARGUE, TRANSPORTE Y DISPOSICION FINAL) | H12: =VLOOKUP(B12,[98]APUs!$D$4:$G$4130,3,FALSE) -> M3 | I12: ='1 PY-CANT'!M565 -> 12 | J12: 115136 | K12: =I12*J12 -> 1381632 | M12: 115136
A13: 8 | B13: 4140 | C13: =VLOOKUP(B13,[98]APUs!$D$4:$G$4130,2,FALSE) -> BASE GRANULAR BG-A. (SUMINISTRO, EXTENDIDO, NIVELACIÓN Y HUMEDECIMIENTO MECÁNICO, COMPACTACIÓN MECÁNICA CON VIBROCOMPACTADOR TÁNDEM PEQUEÑO, INCLUYE OPERARIO Y COMBUSTIBLE). | H13: =VLOOKUP(B13,[98]APUs!$D$4:$G$4130,3,FALSE) -> M3 | I13: ='1 PY-CANT'!M663 -> 12 | J13: 210725 | K13: =I13*J13 -> 2528700 | M13: 210725
A14: 9 | B14: P-003 | C14: INYECCIÓN DE FISURAS Y/O GRIETAS INACTIVAS (INCLUYE ALQUILER DE EQUIPO, SUMINISTRO DE MATERIALES Y MANO DE OBRA PARA SU INSTALACIÓN) | H14: ML | I14: ='1 PY-CANT'!M758 -> 232 | J14: 29426.58 | K14: =I14*J14 -> 6826966.6 | M14: 26701.575
A15: 10 | B15: P-004 | C15: MORTERO DE REPARACIÓN PARA APLICACIÓN EN BAJOS ESPESORES > 5 MM (INCLUYE ALQUILER DE EQUIPOS MENORES Y ANDAMIO CON LÍNEA DE SEGURIDAD, SUMINISTRO DE MATERIALES Y MANO DE OBRA PARA SU INSTALACIÓN) | H15: M2 | I15: ='1 PY-CANT'!M839 -> 236 | J15: 64552.473 | K15: =I15*J15 -> 15234384 | M15: 64552.473
A16: 11 | B16: P-005 | C16: APLICACIÓN DE HIDROFUGOS SOBRE LA SUPERFICIE DEL CONCRETO (INCLUYE ALQUILER DE EQUIPO, SUMINISTRO DE MATERIALES Y MANO DE OBRA PARA SU INSTALACION) | H16: M2 | I16: ='1 PY-CANT'!M921 -> 506 | J16: 15570.475 | K16: =I16*J16 -> 7878660.4 | M16: 15570.475
A17: 12 | B17: 8780 | C17: =VLOOKUP(B17,[98]APUs!$D$4:$G$4130,2,FALSE) -> ENROCADO EN PIEDRA PARTIDA CON DIÁMETROS DE 25 A 75 MM (Suministro y colocación) | H17: =VLOOKUP(B17,[98]APUs!$D$4:$G$4130,3,FALSE) -> M3 | I17: ='1 PY-CANT'!M1003 -> 1205.5 | J17: 103996 | K17: =I17*J17 -> 125367178 | M17: 103996
A18: 13 | B18: =[97]RESUMEN!B33 -> P-007 | C18: =[97]RESUMEN!C33 -> TRANSPORTE ADICIONAL DE PETREOS DESDE ZONA SUR DE BOGOTÁ HASTA SITIO OBRA | H18: =[97]RESUMEN!H33 -> M3-KM | I18: ='1 PY-CANT'!M1093 -> 121750 | J18: 1800 | K18: =I18*J18 -> 219150000 | M18: 1800
C19: SUBTOTAL OBRAS | K19: =SUM(K6:K18) -> 3.8697948e+08
A20: SUBTOTAL OBRA (INCLUYE AIU) | K20: =ROUND(K19*(1+'AIU puentes 2026'!M85),2) -> 5.2787871e+08
A21: VALOR IVA (OBRA) (19% SOBRE UTILIDAD OBRA) | K21: =ROUND(K19*'AIU puentes 2026'!M83*0.19,2) -> 3676305.1
A22: SUBTOTAL OBRA (INCLUYE AIU E IVA) | K22: =K20+K21 -> 5.3155502e+08
A23: PLAN DE MANEJO AMBIENTAL, SOCIAL Y SST | K23: =#REF! -> #REF!
A24: APROPIACIÓN DE LOS DIAGNÓSTICOS, ESTUDIOS Y DISEÑOS DE LA OBRA | K24: =K19*0.03 -> 11609384
A25: PLAN DE MANEJO DE TRAFICO | K25: 3296620
A26: VALOR TOTAL CONTRATO | K26: =K22+K23+K24+K25 -> #REF!
J30: SMMLV 2026 | K30: 1750905 | L30: =K26/K30 -> #REF! | M30: =L26/L30 -> #REF!
J31: 60% del PO | K31: =K26*0.6 -> #REF!
M33: =K20/K19 -> 1.3641

Sheet CONSOLIDADO
C3: Formulario 1 - Propuesta económica - Documento tipo de licitación de obra pública de infraestructura de transporte - versión 4
C4: Código | D4: CCE-EICP-FM-14 | E4: Versión | F4: 4
C5: FORMULARIO 1
C6: PRESUPUESTO OFICIAL ESTABLECIDO
C7: [La entidad puede utilizar este formulario de presentación de propuesta económica de forma detallada, sin perjuicio que la entidad pueda modificarlo o establecer la presentación de la oferta económica con un formulario distinto al indicado.] [Los proponentes emplearán el formulario establecido por la entidad para determinar su propuesta económica conforme al Formulario 1 - Presupuesto Oficial publicado por la Entidad]
C9: Cuando el proceso de contratación es estructurado por precios unitarios, la Entidad debe aplicar las notas 1, 2 y 3 del presente formato y las casillas de "Descripción", "Porcentaje" de la Administración, Imprevisto, Utilidad y total A.I.U. resaltadas en color amarillo.
C11: Nº | D11: ÍTEM DE PAGO | E11: ESPECIFICACIONES | G11: DESCRIPCIÓN | H11: UND. | I11: CANTIDAD | J11: VALOR UNITARIO | K11: VALOR TOTAL | L11: VALOR UNITARIO (INCLUYE AIU) | M11: VALOR TOTAL (INCLUYE AIU)
E12: GENERAL | F12: PARTICULAR
G13: 1. PRELIMINARES
C14: 1 | D14: 1.1 | E14: IDU | F14: 3378 | G14: DESCAPOTE A MANO EN MATERIAL COMUN (E=0.1M. INCLUYE CARGUE) | H14: M2 | I14: 40 | J14: 5099 | K14: =ROUND(I14*J14,0) -> 203960 | L14: =ROUND(J14*(1+K$65),0) -> 6956 | M14: =+ROUND(K14*(1+$K$65),0) -> 278222
C15: Subtotal | K15: =ROUND(SUM(K14),2) -> 203960 | M15: =SUM(M14) -> 278222
G16: 2. LIMPIEZA Y PREPARACIÓN DE SUPERFICIES
C17: 2 | D17: 2.1 | E17: IDU | F17: 4947 | G17: LAVADO DE ESTRUCTURA EN CONCRETO Y/O METÁLICAS. INCLUYE ALQUILER DE HIDROLAVADORA 1300W MOTOR A GASOLINA PRESIÓN 3200 PSI. INCLUYE IMPLEMENTOS DE ASEO (DETERGENTE INDUSTRIAL), AGUA, COMBUSTIBLE Y MANO DE OBRA. | H17: M2 | I17: 96 | J17: 5988 | K17: =ROUND(I17*J17,0) -> 574848 | L17: =ROUND(J17*(1+K$65),0) -> 8168 | M17: =+ROUND(K17*(1+$K$65),0) -> 784150
C18: 3 | D18: 2.2 | E18: IDU | F18: 7864 | G18: LAVADO DE ESTRUCTURA EN CONCRETO Y/O METÁLICAS CON ANDAMIO CERTIFICADO. INCLUYE ALQUILER DE HIDROLAVADORA A GASOLINA PRESIÓN 3200 PSI. INCLUYE PLANTA ELÉCTRICA, AGUA Y MANO DE OBRA. | H18: M2 | I18: 410 | J18: 10166 | K18: =ROUND(I18*J18,0) -> 4168060 | L18: =ROUND(J18*(1+K$65),0) -> 13867 | M18: =+ROUND(K18*(1+$K$65),0) -> 5685651
C19: Subtotal | K19: =ROUND(SUM(K17:K18),2) -> 4742908 | M19: =SUM(M17:M18) -> 6469801
G20: 3. MOVIMIENTO DE TIERRAS
C21: 4 | D21: 3.1 | E21: IDU | F21: 4390 | G21: EXCAVACIÓN MANUAL EN MATERIAL COMÚN (INCL CARGUE, TRANSPORTE Y DISPOSICION FINAL) | H21: M3 | I21: 12 | J21: 117926 | K21: =ROUND(I21*J21,0) -> 1415112 | L21: =ROUND(J21*(1+K$65),0) -> 160863 | M21: =+ROUND(K21*(1+$K$65),0) -> 1930354
C22: Subtotal | K22: =ROUND(SUM(K21),2) -> 1415112 | M22: =SUM(M21) -> 1930354
G23: 4. OBRAS DE CONCRETO
C24: 5 | D24: 4.1 | E24: Consultoría FDRS- CCS-302-2022 | F24: P-012 | G24: CONCRETO 3500 PSI GRAVA COMÚN PARA RECALCE DE 0.05M X 0.50M X 1.20M (HECHO EN OBRA, INCLUYE SUMIN., FORMALETEO Y COLOCACIÓN. NO INCL. REFUERZO, CURADO). | H24: M3 | I24: 1 | J24: =+ROUND('P-012'!G35,0) -> 1045687 | K24: =ROUND(I24*J24,0) -> 1045687 | L24: =ROUND(J24*(1+K$65),0) -> 1426422 | M24: =+ROUND(K24*(1+$K$65),0) -> 1426422
C25: 6 | D25: 4.2 | E25: IDU | F25: 7720 | G25: CURADO DE ELEMENTOS DE CONCRETO (SUMINISTRO Y APLICACIÓN) | H25: M3 | I25: 1 | J25: 17441 | K25: =ROUND(I25*J25,0) -> 17441 | L25: =ROUND(J25*(1+K$65),0) -> 23791 | M25: =+ROUND(K25*(1+$K$65),0) -> 23791
C26: Subtotal | K26: =ROUND(SUM(K24:K25),2) -> 1063128 | M26: =SUM(M24:M25) -> 1450213
G27: 5. REPARACIONES ESTRUCTURALES EN CONCRETO
C28: 7 | D28: 5.1 | E28: Consultoría FDRS- CCS-302-2022 | F28: P-003 | G28: INYECCIÓN DE FISURAS Y/O GRIETAS INACTIVAS (INCLUYE ALQUILER DE EQUIPO, SUMINISTRO DE MATERIALES Y MANO DE OBRA PARA SU INSTALACIÓN) | H28: ML | I28: 232 | J28: =+ROUND('P-003'!G32,0) -> 29576 | K28: =ROUND(I28*J28,0) -> 6861632 | L28: =ROUND(J28*(1+K$65),0) -> 40345 | M28: =+ROUND(K28*(1+$K$65),0) -> 9359952
C29: 8 | D29: 5.2 | E29: Consultoría FDRS- CCS-302-2022 | F29: P-004 | G29: MORTERO DE REPARACIÓN PARA APLICACIÓN EN BAJOS ESPESORES > 5 MM (INCLUYE ALQUILER DE EQUIPOS MENORES Y ANDAMIO CON LÍNEA DE SEGURIDAD, SUMINISTRO DE MATERIALES Y MANO DE OBRA PARA SU INSTALACIÓN) | H29: M2 | I29: 236 | J29: =+ROUND('P-004'!G34,0) -> 65582 | K29: =ROUND(I29*J29,0) -> 15477352 | L29: =ROUND(J29*(1+K$65),0) -> 89460 | M29: =+ROUND(K29*(1+$K$65),0) -> 21112656
C30: 9 | D30: 5.3 | E30: Consultoría FDRS- CCS-302-2022 | F30: P-005 | G30: APLICACIÓN DE HIDROFUGOS SOBRE LA SUPERFICIE DEL CONCRETO (INCLUYE ALQUILER DE EQUIPO, SUMINISTRO DE MATERIALES Y MANO DE OBRA PARA SU INSTALACION) | H30: M2 | I30: 506 | J30: =+ROUND('P-005'!G30,0) -> 17220 | K30: =ROUND(I30*J30,0) -> 8713320 | L30: =ROUND(J30*(1+K$65),0) -> 23490 | M30: =+ROUND(K30*(1+$K$65),0) -> 11885840
C31: Subtotal | K31: =ROUND(SUM(K28:K30),2) -> 31052304 | M31: =SUM(M28:M30) -> 42358448
G32: 6, REPARACIÓN DE ELEMENTOS METÁLICOS
C33: 10 | D33: 6.1 | E33: IDU | F33: 6294 | G33: REPARACIÓN DE BARANDAS EXISTENTES. INCLUYE LIMPIEZA, MORTERO DE REPARACIÓN, INHIBIDOR DE CORROSIÓN, PINTURA ANTICARBONATACIÓN, SUMINISTRO DE MANO DE OBRA, EQUIPOS Y MANEJO DE DESPERDICIOS. | H33: ML | I33: 60 | J33: 44832 | K33: =ROUND(I33*J33,0) -> 2689920 | L33: =ROUND(J33*(1+K$65),0) -> 61155 | M33: =+ROUND(K33*(1+$K$65),0) -> 3669320
C34: Subtotal | K34: =ROUND(SUM(K33),2) -> 2689920 | M34: =SUM(M33) -> 3669320
G35: 7. BASES GRANULARES
C36: 11 | D36: 7.1 | E36: IDU | F36: 4140 | G36: BASE GRANULAR BG-A. (SUMINISTRO, EXTENDIDO, NIVELACIÓN Y HUMEDECIMIENTO MECÁNICO, COMPACTACIÓN MECÁNICA CON VIBROCOMPACTADOR TÁNDEM PEQUEÑO, INCLUYE OPERARIO Y COMBUSTIBLE). | H36: M3 | I36: 12 | J36: 262698 | K36: =ROUND(I36*J36,0) -> 3152376 | L36: =ROUND(J36*(1+K$65),0) -> 358346 | M36: =+ROUND(K36*(1+$K$65),0) -> 4300156
C37: Subtotal | K37: =SUM(K36) -> 3152376 | M37: =SUM(M36) -> 4300156
G38: 8. OBRAS DE ESTABILIZACIÓN Y PROTECCIÓN
C39: 12 | D39: 8.1 | E39: IDU | F39: 8780 | G39: ENROCADO EN PIEDRA PARTIDA CON DIÁMETROS DE 25 A 75 MM (Suministro y colocación) | H39: M3 | I39: 1205.5 | J39: 109359 | K39: =ROUND(I39*J39,0) -> 131832275 | L39: =ROUND(J39*(1+K$65),0) -> 149177 | M39: =+ROUND(K39*(1+$K$65),0) -> 179832406
C40: Subtotal | K40: =SUM(K39) -> 131832275 | M40: =SUM(M39) -> 179832406
G41: 9. TRANSPORTE DE MATERIALES
C42: 13 | D42: 9.1 | E42: Consultoría FDRS- CCS-302-2022 | F42: P-007 | G42: TRANSPORTE ADICIONAL DE PETREOS DESDE ZONA SUR DE BOGOTÁ HASTA SITIO OBRA | H42: M3-KM | I42: 121750 | J42: =+ROUND('P-007'!G27,0) -> 1800 | K42: =ROUND(I42*J42,0) -> 219150000 | L42: =ROUND(J42*(1+K$65),0) -> 2455 | M42: =+ROUND(K42*(1+$K$65),0) -> 298942515
C43: Subtotal | K43: =SUM(K42) -> 219150000 | M43: =SUM(M42) -> 298942515
C44: SUBTOTAL OBRAS | K44: =K15+K19+K22+K26+K31+K34+K37+K40+K43 -> 395301983 | M44: =ROUND(M15+M19+M22+M26+M31+M34+M37+M40+M43,0) -> 539231435
...

Sheet AIU puentes 2026
B5: CALCULO AIU - Puente - La Playa (vehicular)
B8: OBJETO A CONTRATAR: REALIZAR LA CONSERVACIÓN DEL PUENTE VEHICULAR LA PLAYA EN LA VEREDA LA UNIÓN SOBRE CORRIENTES DE AGUA EN LA LOCALIDAD DE SUMAPAZ, POR EL SISTEMA DE PRECIOS UNITARIOS FIJOS; DE ACUERDO CON LOS ESTUDIOS Y DISEÑOS ENTREGADOS POR EL FDRS”
C12: COSTO DIRECTO DE LAS OBRAS | E12: =+CONSOLIDADO!K44 -> 395301983 | G12: FECHA:
C13: A.I.U | E13: =+E12*M85 -> 1.4392945e+08 | G13: CONTRATO No.
C14: COSTO DIRECTO OBRAS MÁS + A.I.U. | E14: =SUM(E12:E13) -> 5.3923144e+08
C15: PMA + PGS | E15: =+'1 PY-PMA mod'!Q69 -> 27188902
C16: PMT | E16: =+PMT!M33 -> 7343396 | G16: PLAZO 3 MESES
C17: DIAGNOSTICOS, ESTUDIOS Y DISEÑOS | E17: =+CONSOLIDADO!K57 -> 13413488
C18: I.V.A. DIAGNOSTICOS, ESTUDIOS Y DISEÑOS | E18: =+(E17*19%) -> 2548562.7
C19: TOTAL COSTO DIAGNOSTICOS, ESTUDIOS Y DISEÑOS | E19: =SUM(E17+E18) -> 15962051
C20: I.V.A. SOBRE UTILIDAD | E20: =+CONSOLIDADO!K50 -> 3755369
C21: COSTO TOTAL DEL PROYECTO EN PESOS | E21: =ROUND(E14+E15+E16+E19+E20,0) -> 593481152 | F21: 588130085
C22: COSTO TOTAL DEL PROYECTO EN SMMLV 2026: | E22: =+E21/1750905 -> 338.9568
B25: A. ADMINISTRACIÓN
B26: 1 | C26: PERSONAL (CARGO/OFICIO) | F26: CANTIDAD (1) | G26: DEDICACIÓN Fase Obra (2) | H26: DEDICACIÓN Fase Preliminar (3) | I26: MESES Fase Obra (4) | J26: MESES Fase Preliminar (5) | K26: Vr. UNITARIO (6) | L26: Vr. TOTAL = (1)*(2)*(3)*(4)*(5)*(6)
B27: PERSONAL PROFESIONAL
B28: CÓDIGO IDU | C28: CATEGORIA | E28: CARGO
B29: 9470 | C29: TARIFA MES - PROFESIONAL CATEGORÍA 6 (INCLUYE FACTOR DE PRESTACIONES) | E29: DIRECTOR DE OBRA | F29: 1 | G29: 0.3 | H29: 0.25 | I29: 2 | J29: 1 | K29: 11133493 | L29: =ROUND((F29*K29)*((G29*I29+H29*J29)),0) -> 9463469
B30: 9471 | C30: =VLOOKUP(B30,[100]Insumos!$C$4:$F$3716,2,FALSE) -> TARIFA MES - PROFESIONAL CATEGORÍA 7 (INCLUYE FACTOR DE PRESTACIONES) | E30: RESIDENTE DE OBRA | F30: 1 | G30: 0.8 | H30: 0.3 | I30: =I$29 -> 2 | J30: 1 | K30: 8428754 | L30: =ROUND((F30*K30)*((G30*I30+H30*J30)),0) -> 16014633
B31: 9470 | C31: =VLOOKUP(B31,[100]Insumos!$C$4:$F$3716,2,FALSE) -> TARIFA MES - PROFESIONAL CATEGORÍA 6 (INCLUYE FACTOR DE PRESTACIONES) | E31: ESPECIALISTA EN ESTRUCTURAS | F31: 1 | G31: 0.2 | H31: 0.15 | I31: =I$29 -> 2 | J31: 1 | K31: 11133493 | L31: =ROUND((F31*K31)*((G31*I31+H31*J31)),0) -> 6123421
B32: 9470 | C32: =VLOOKUP(B32,[100]Insumos!$C$4:$F$3716,2,FALSE) -> TARIFA MES - PROFESIONAL CATEGORÍA 6 (INCLUYE FACTOR DE PRESTACIONES) | E32: ESPECIALISTA EN HIDRAULICA | F32: 1 | G32: 0.15 | H32: 0.15 | I32: =I$29 -> 2 | J32: 1 | K32: 11133493 | L32: =ROUND((F32*K32)*((G32*I32+H32*J32)),0) -> 5010072
B33: 9471 | C33: =VLOOKUP(B33,[100]Insumos!$C$4:$F$3716,2,FALSE) -> TARIFA MES - PROFESIONAL CATEGORÍA 7 (INCLUYE FACTOR DE PRESTACIONES) | E33: PROFESIONAL SOCIAL | F33: 1 | G33: 0.15 | H33: 0.1 | I33: 2 | J33: 1 | K33: 8428754 | L33: =ROUND((F33*K33)*((G33*I33+H33*J33)),0) -> 3371502
B34: 9471 | C34: =VLOOKUP(B34,[100]Insumos!$C$4:$F$3716,2,FALSE) -> TARIFA MES - PROFESIONAL CATEGORÍA 7 (INCLUYE FACTOR DE PRESTACIONES) | E34: PROFESIONAL AMBIENTAL | F34: 1 | G34: 0.15 | H34: 0.1 | I34: 2 | J34: 1 | K34: 8428754 | L34: =ROUND((F34*K34)*((G34*I34+H34*J34)),0) -> 3371502
B35: 9471 | C35: =VLOOKUP(B35,[100]Insumos!$C$4:$F$3716,2,FALSE) -> TARIFA MES - PROFESIONAL CATEGORÍA 7 (INCLUYE FACTOR DE PRESTACIONES) | E35: PROFESIONAL SST | F35: 1 | G35: 0.15 | H35: 0.1 | I35: 2 | J35: 1 | K35: 8428754 | L35: =ROUND((F35*K35)*((G35*I35+H35*J35)),0) -> 3371502
B36: SUBTOTAL | L36: =SUM(L29:M35) -> 46726101
B37: PORCENTAJE (%) RESPECTO A COSTO DIRECTO DE OBRA (A) | L37: =L36/E12 -> 0.11820356
B39: PERSONAL TECNICO / ADMINISTRATIVO
B40: CÓDIGO IDU | C40: CATEGORIA | E40: CARGO | F40: CANTIDAD | G40: DEDICACIÓN Fase Obra | H40: DEDICACIÓN Fase Preliminar | I40: MESES Fase Obra | J40: MESES Fase Preliminar | K40: Vr. UNITARIO | L40: Vr. TOTAL
B41: 9477 | C41: TARIFA MES - PERSONAL TÉCNICO - TOPÓGRAFO INSPECTOR ( incluye Factor de Prestaciones) | E41: TOPÓGRAFO | F41: 1 | G41: 0.2 | H41: 0.2 | I41: 2 | J41: 1 | K41: 5453251 | L41: =ROUND((F41*K41)*((G41*I41+H41*J41)),0) -> 3271951
B42: 9489 | C42: TARIFA MES - PERSONAL AUXILIAR TÉCNICO - CADENERO 1 (INCLUYE FACTOR DE PRESTACIONES) | E42: CADENERO | F42: 1 | G42: 0.3 | H42: =+G42 -> 0.3 | I42: =I$29 -> 2 | J42: 1 | K42: 3740609 | L42: =ROUND((F42*K42)*((G42*I42+H42*J42)),0) -> 3366548
B43: 13445 | C43: TARIFA MES - PERSONAL AUXILIAR TÉCNICO - CONDUCTOR O MOTORISTA ( incluye Factor de Prestaciones) | E43: CONDUCTOR | F43: 1 | G43: 1 | H43: 1 | I43: 2 | J43: 1 | K43: 3945223 | L43: =ROUND((F43*K43)*((G43*I43+H43*J43)),0) -> 11835669
B44: SUBTOTAL | L44: =SUM(L41:M43) -> 18474168
B45: PORCENTAJE (%) RESPECTO A COSTO DIRECTO DE OBRA (A) | L45: =L44/E12 -> 0.046734317
B47: GASTOS OPERACIONALES
B48: CÓDIGO IDU | C48: CATEGORIA | E48: AREA | F48: CANTIDAD (1) | G48: DEDICACIÓN Fase Obra | H48: DEDICACIÓN Fase Preliminar | I48: MESES Fase Obra (3) | J48: MESES Fase Preliminar | K48: Vr. UNITARIO (4) | L48: Vr. TOTAL (1)*(2)*(3)*(4)=(5)
B49: 9577 | C49: TARIFA MES - ALQUILER CAMPAMENTOS INCL. SERVICIOS PÚBLICOS PROVISIONALES | E49: 20 | F49: 1 | G49: 1 | H49: 0.64 | I49: 2 | J49: 1 | K49: 26189 | L49: =E49*F49*K49*(G49*I49+H49*J49) -> 1382779.2 | Z49: =Y49/U49 -> #DIV/0!
B50: 9456 | C50: ALQUILER MES - CAMPERO PICK-UP, CAMIONETA DE 1300-2000cc - TARIFA PLENA | F50: 1 | G50: 1 | H50: 1 | I50: 2 | J50: 1 | K50: 4785500 | L50: =F50*K50*(G50*I50+H50*J50) -> 14356500
B51: 9115 | C51: ALQUILER MES - EQUIPO DE TOPOGRAFÍA (Incluye tránsito, nivel y elementos complementarios). | F51: 1 | G51: =+G42 -> 0.3 | H51: =+G51 -> 0.3 | I51: 2 | J51: 1 | K51: 3627000 | L51: =F51*K51*(G51*I51+H51*J51) -> 3264300
B53: SUBTOTAL | L53: =SUM(L49:M51) -> 19003579
B54: PORCENTAJE (%) RESPECTO A COSTO DIRECTO DE OBRA (A) | L54: =L53/E12 -> 0.048073574
...

Sheet 1 PY-PMA mod
C1: PLAN DE MANEJO AMBIENTAL – PMA Puente - La Playa (vehicular)
A3: ITEM | B3: DESCRIPCIÓN | C3: COSTOS ASOCIADOS A: | G3: Preconstructiva | L3: Constructiva | Q3: VALOR TOTAL
C4: ITEM DE OBRA | D4: ADMÓN | E4: ITEM NO PREVISTO | F4: REMBOLSO DE GASTOS | G4: Unidad | H4: Cantidades | I4: Valor Unidad | J4: Dedicación | K4: SUBTOTAL | L4: Unidad | M4: Cantidades | N4: Valor Unidad | O4: Dedicación | P4: SUBTOTAL | R4: COD IDU
A5: PRESUPUESTO MEDIO ABIOTICO
A6: 1 | B6: GESTIÓN DEL PROYECTO | Q6: =Q7+Q10+Q12 -> 22116202
A7: DAGA-1.1-01 | B7: Conformación del Grupo de Gestión Ambiental y Social | Q7: =SUM(Q8:Q9) -> 7585878.6
A8: Residente Ambiental | B8: TARIFA MES - PROFESIONAL CATEGORÍA 7 (INCLUYE FACTOR DE PRESTACIONES) | D8: X | G8: Mes | H8: 1 | I8: 8428754 | J8: 0.15 | K8: =H8*I8*J8 -> 1264313.1 | L8: Mes | M8: 2 | N8: =I8 -> 8428754 | O8: 0.15 | P8: =M8*N8*O8 -> 2528626.2 | Q8: =+P8+K8 -> 3792939.3 | R8: 9471
A9: Residente Social | B9: TARIFA MES - PROFESIONAL CATEGORÍA 7 (INCLUYE FACTOR DE PRESTACIONES) | D9: X | G9: Mes | H9: 1 | I9: 8428754 | J9: 0.15 | K9: =H9*I9*J9 -> 1264313.1 | L9: Mes | M9: 2 | N9: =I9 -> 8428754 | O9: 0.15 | P9: =M9*N9*O9 -> 2528626.2 | Q9: =+P9+K9 -> 3792939.3 | R9: 9471
A10: DAGA-1.2-02 | B10: Capacitación y concienciación para el personal de obra | Q10: =SUM(Q8:Q9) -> 7585878.6
A11: 1 | B11: Talleres de capacitación | C11: X | K11: 0 | L11: Taller | N11: 300000 | P11: =M11*N11 -> 0 | Q11: =K11+P11 -> 0
A12: DAGA-1.3-03 | B12: Cumplimiento de Requerimientos Legales | Q12: =SUM(Q13+Q14+Q15+Q16+Q17+Q18) -> 6944444.5
A13: Permiso de Ocupación de cauce | B13: Pago Solicitud de permiso, evalaución y seguimiento CAR | C13: X | G13: Global | H13: 1 | I13: =0.6%*'[101]1 PY-PPTO (2)'!K22 -> 3192348.5 | K13: =+H13*I13 -> 3192348.5 | P13: =(M13*N13*O13) -> 0 | Q13: =+P13+K13 -> 3192348.5
A14: Permiso de Aprovechamiento Forestal | B14: Pago Solicitud de permiso, evalaución y seguimiento CAR | C14: X | G14: Global | H14: 1 | I14: =0.6%*'[101]1 PY-PPTO (2)'!K22 -> 3192348.5 | K14: =+H14*I14 -> 3192348.5 | P14: =(M14*N14*O14) -> 0 | Q14: =+P14+K14 -> 3192348.5
A15: Manejo de Epifitas | B15: Cumplimiento Guía técnica para intervención de Vedas | C15: X | G15: Global | H15: 0 | I15: ='[102]MANEJO DE EPIFITAS '!$E$17 -> 24357000 | J15: 1 | K15: =+H15*I15*J15 -> 0 | P15: =(M15*N15*O15) -> 0 | Q15: =+P15+K15 -> 0
A16: Talas | B16: Talas de Arbolado Viejo y / o Adulto | C16: X | G16: Global | H16: 0 | I16: ='[102]Tala La Playa'!$B$29 -> 2712704.2 | J16: 1 | K16: =+H16*I16*J16 -> 0 | P16: =(M16*N16*O16) -> 0 | Q16: =+P16+K16 -> 0
A17: Plantación de Arbolado Nuevo | B17: Compensación Forestal | C17: X | L17: Global | M17: 1 | N17: 559747.43 | O17: 1 | P17: =(M17*N17*O17) -> 559747.43 | Q17: =+P17+K17 -> 559747.43
A18: Mantenimiento Arbolado Nuevo | B18: Mantenimiento mes a mes durante 3 años | L18: Global | M18: 0 | N18: 0 | O18: 1 | P18: =(M18*N18*O18) -> 0 | Q18: =+P18+K18 -> 0
A19: 2 | B19: ACTIVIDADES CONSTRUCTIVAS | Q19: =Q20+Q25+Q27+Q28 -> 1098900
A20: PCA-2.1-04 | B20: Manejo Integral de materiales de construcción | Q20: =SUM(Q21) -> 0
A21: Recurso Hidrico Opción 1 | B21: Agua Industrial por Metro Cubico | C21: X | G21: M3 | H21: 0 | I21: 40000 | J21: 100 | K21: =+H21*I21*J21 -> 0 | L21: M3 | M21: 0 | N21: 40000 | O21: 100 | P21: =(M21*N21*O21) -> 0 | Q21: =+P21+K21 -> 0
A22: Recurso Hidrico Opción 2 | B22: Fast Thanks - Para Recolección de Aguas Lluvias | C22: X | G22: Global | H22: 0 | I22: 5000000
A23: PCA-2.2-05 | B23: Explotación de fuentes de materiales - El proyecto contempla la compra de materiales a terceros, los cuales deberan contar con permisos y licencias ambientales,.
A25: PCA-2.3-06 | B25: Señalización de frentes de obra y sitios temporales | Q25: =SUM(Q26) -> 0
A26: Señalizadores tubulares plasticos separados entre si maximo 3 mts triple cinta peligro cal 4. | B26: Se proponen para señalización, consta de señalizadores tubulares plásticos separados entre sí máximo 3mts triple cinta peligro cal 4 (incluye instalación, mantenimiento y desinstalación). Se proponen puntos de señalización de 6m de largo por 4 m de ancho, para un área total de 80 m2 | F26: X | K26: 0 | L26: ML | N26: 100000 | P26: =+N26*M26 -> 0 | Q26: =+P26+K26 -> 0
A27: PCA-2.4-07 | B27: Manejo y Disposición Final de RCDs (los costos asociados al transporte y disposición de RCD estan relacionados y costeados en el presupuesto general del proyecto) | Q27: 0
A28: PCA-2.5-08 | B28: Manejo y Disposición Final de Residuos Sólidos Convecionales y Especiales | Q28: =SUM(Q29:Q31) -> 1098900
A29: Punto Ecologico | B29: El punto ecológico estará conformado por 3 canecas plásticas de 55 galones, según la clasificación de los residuos sólidos (blanca, negra, verde); se propone instalar 2 puntos ecológicos uno por cada frente de obra. 2 puntos ecológicos x 3 canecas por punto = 6 Canecas | F29: X | K29: 0 | L29: Unidad | M29: 1 | N29: 99900 | P29: =+N29*M29 -> 99900 | Q29: =+P29+K29 -> 99900
A30: Bolsas para basura tipo industrial 60x90 cm calibre 2 (paquete 30 unidades) | B30: Se requieren bolsas de basura para estos puntos ecológicos, calibre 16 según color para colocar en cada recipiente, estimando una bolsa por caneca teniendo en cuenta una frecuencia de recolección diaria. El cálculo del número de días se toma a partir del dato de referencia de 20 días laborables al mes más un desperdicio. 2 canecas blancas x 1 bolsa diaria x 180 días=360 bolsas 2 canecas negras x 1 bolsa diaria x 180 días= 360 bolsas 2 canecas verdes x 1 bolsa diaria x 180 días=360 bolsas | F30: X | K30: 0 | L30: Paquete por 30 unidades | M30: 30 | N30: 33300 | P30: =+N30*M30 -> 999000 | Q30: =+P30+K30 -> 999000
A31: Disposición Final Residuos Solidos | B31: Costos por disposición final ante empresas de servicios públicos y empresa RESPEL | F31: X | K31: 0 | L31: 450 Kilos/mes | N31: =5000*450 -> 2250000 | P31: =+N31*M31 -> 0 | Q31: =+P31+K31 -> 0
A32: 3 | B32: GESTIÓN HÍDRICA | Q32: =Q33+Q47 -> 0
A33: PGH-3.1-09 | B33: Manejo y control de Aguas Superfciales | Q33: =SUM(Q34:Q46) -> 0
A34: Monitoreo de Calidad de Agua ( 2 puntos) | B34: SOLIDOS SUSPENDIDOS TOTALES, secado a 103°C - 105°C | F34: X | G34: UNIDAD | I34: 18000 | K34: =(H34*I34) -> 0 | L34: UNIDAD | N34: 18000 | P34: =+N34*M34 -> 0 | Q34: =+P34+K34 -> 0
B35: TEMPERATURA DEL AGUA | F35: X | G35: UNIDAD | I35: 3000 | K35: =(H35*I35) -> 0 | L35: UNIDAD | N35: 3000 | P35: =+N35*M35 -> 0 | Q35: =+P35+K35 -> 0
B36: GRASAS Y ACEITES | F36: X | G36: UNIDAD | I36: 65000 | K36: =(H36*I36) -> 0 | L36: UNIDAD | N36: 65000 | P36: =+N36*M36 -> 0 | Q36: =+P36+K36 -> 0
B37: Demanda química de oxigeno (DQO) | F37: X | G37: UNIDAD | I37: 57000 | K37: =(H37*I37) -> 0 | L37: UNIDAD | N37: 57000 | P37: =+N37*M37 -> 0 | Q37: =+P37+K37 -> 0
B38: Demanda bioquímica de oxigeno (DBO5) | F38: X | G38: UNIDAD | I38: 50000 | K38: =(H38*I38) -> 0 | L38: UNIDAD | N38: 50000 | P38: =+N38*M38 -> 0 | Q38: =+P38+K38 -> 0
B39: Oxígeno disuelto, modificación de azida | F39: X | G39: UNIDAD | I39: 16000 | K39: =(H39*I39) -> 0 | L39: UNIDAD | N39: 16000 | P39: =+N39*M39 -> 0 | Q39: =+P39+K39 -> 0
B40: TURBIEDAD, método nefelométrico | F40: X | G40: UNIDAD | I40: 11000 | K40: =(H40*I40) -> 0 | L40: UNIDAD | N40: 11000 | P40: =+N40*M40 -> 0 | Q40: =+P40+K40 -> 0
B41: SOLIDOS TOTALES, secado a 103°C - 105°C | F41: X | G41: UNIDAD | I41: 18000 | K41: =(H41*I41) -> 0 | L41: UNIDAD | N41: 18000 | P41: =+N41*M41 -> 0 | Q41: =+P41+K41 -> 0
B42: SOLIDOS SEDIMENTABLES | F42: X | G42: UNIDAD | I42: 18000 | K42: =(H42*I42) -> 0 | L42: UNIDAD | N42: 18000 | P42: =+N42*M42 -> 0 | Q42: =+P42+K42 -> 0
...

Sheet PMT
C2: FONDO DE DESARROLLO RURAL SUMAPAZ
C6: ='[103]DATOS ENTRADA'!B7 -> OBJETO DE LA LICITACIÓN: | E6: REALIZAR LA CONSERVACIÓN DEL PUENTE VEHICULAR LA PLAYA EN LA VEREDA LA UNIÓN SOBRE CORRIENTES DE AGUA EN LA LOCALIDAD DE SUMAPAZ, POR EL SISTEMA DE PRECIOS UNITARIOS FIJOS; DE ACUERDO CON LOS ESTUDIOS Y DISEÑOS ENTREGADOS POR EL FDRS”
C8: CONTROL DE INVERSIÓN PLAN DE MANEJO DE TRÁFICO
E10: PLAZO: | G10: 3 | H10: MESES
C12: No. | D12: DESCRIPCIÓN | E12: TIEMPO | G12: CAT | H12: VALOR UNITARIO (MENSUAL) | J12: CONSTRUCCION | L12: CANT TOTAL | M12: VR TOTAL
B13: CODIGO IDU | E13: Und | F13: Cant | J13: 1 | K13: 2
C14: 1 | D14: PERSONAL
D15: PROFESIONAL EN TRANSITO Y TRANSPORTE
B16: 9471 | C16: 1.1 | D16: TARIFA MES - PROFESIONAL CATEGORÍA 7 (INCLUYE FACTOR DE PRESTACIONES) | E16: UN/MES | F16: 1 | G16: 7 | H16: 8428754 | J16: 0.15 | K16: 0.15 | L16: =F16*(SUM(J16:K16)) -> 0.3 | M16: =ROUND(L16*H16*F16,0) -> 2528626
D17: AYUDANTE
B18: 9424 | C18: 1.2 | D18: TARIFA MES - PERSONAL DE OBRA - AYUDANTE (INCLUYE FACTOR DE PRESTACIONES) | E18: UN/MES | F18: 1 | H18: 2922389 | J18: 0.7 | K18: 0.7 | L18: =F18*(SUM(J18:K18)) -> 1.4 | M18: =ROUND(L18*H18*F18,0) -> 4091345
L19: SUBTOTAL COSTOS PERSONAL | M19: =SUM(M16:M18) -> 6619971
C20: 2 | D20: OTROS
B21: 6318 | C21: 2.2 | D21: =VLOOKUP(B21,[103]ITEMS!$B$5:$E$2466,2,FALSE) -> ALQUILER DE PORTATIL. CARACTERÍSTICAS: Procesador intel, Core i3 4005U, celeron o similar, Memoria RAM de 4 GB ( 2 x 2048 MB)Disco duro de 500gb a 7200 rpmPantalla LED HP BrightView widescreen de alta definición con 35,6 cm (14") o similar, HD INTEL GRAPH | E21: =VLOOKUP(B21,[103]ITEMS!$B$5:$E$2466,3,FALSE) -> UN/MES | F21: 1 | H21: 124818 | J21: 1 | K21: 1 | L21: =F21*(SUM(J21:K21)) -> 2 | M21: =ROUND(L21*H21*F21,0) -> 249636
D22: SEÑALIZACION TEMPORAL
B23: 4928 | C23: 2.3 | D23: =VLOOKUP(B23,[103]ITEMS!$B$4:$E$2468,2,FALSE) -> CANALIZACIÓN DE TRÁFICO (INSTALACIÓN, MANTENIMIENTO Y DESINSTALACIÓN MENSUAL) CON SEÑALIZADORES TUBULARES COLOMBINA PLÁSTICA Y TRIPLE CINTA DE SEÑALIZACIÓN (INCLUYE ALQUILER DE SEÑALIZADORES TUBULARES). LONGITUD 3 METROS. | E23: =VLOOKUP(B23,[103]ITEMS!$B$5:$E$2466,3,FALSE) -> UN/MES | F23: 4 | H23: 9617 | J23: 1 | K23: 1 | L23: =F23*(SUM(J23:K23)) -> 8 | M23: =ROUND(L23*H23*F23,0) -> 307744
B24: 6178 | C24: 2.4 | D24: =VLOOKUP(B24,[103]ITEMS!$B$4:$E$2468,2,FALSE) -> ALQUILER SEÑAL VERTICAL GRUPO I (75x75cm) (Incluye Suministro e Instalación) | E24: =VLOOKUP(B24,[103]ITEMS!$B$5:$E$2466,3,FALSE) -> UN/MES | F24: 1 | H24: 24980 | J24: 1 | K24: 1 | L24: =F24*(SUM(J24:K24)) -> 2 | M24: =ROUND(L24*H24*F24,0) -> 49960
B25: 6186 | C25: 2.5 | D25: =VLOOKUP(B25,[103]ITEMS!$B$4:$E$2468,2,FALSE) -> ALQUILER BARRERA RELLENABLE (2.00x0.55x1.00m) | E25: =VLOOKUP(B25,[103]ITEMS!$B$5:$E$2466,3,FALSE) -> UN/MES | F25: 1 | H25: 20609 | J25: 0.5 | K25: 0.5 | L25: =F25*(SUM(J25:K25)) -> 1 | M25: =ROUND(L25*H25*F25,0) -> 20609
F26: 1 | H26: 0 | J26: 0.3 | K26: 0.3 | L26: =F26*(SUM(J26:K26)) -> 0.6 | M26: =ROUND(L26*H26*F26,0) -> 0
B27: 7555 | C27: 2.8 | D27: =VLOOKUP(B27,[103]INSUMOS!$B$3:$F$2467,2,FALSE) -> CINTA DE SEÑALIZACION CAL 4 (ROLLO 500mx0.10m) | E27: =VLOOKUP(B27,[103]INSUMOS!$B$3:$F$2467,3,FALSE) -> UN | F27: 1 | H27: 42090 | J27: 1 | K27: 1 | L27: =F27*(SUM(J27:K27)) -> 2 | M27: =ROUND(L27*H27*F27,0) -> 84180
B28: 6181 | C28: 2.9 | D28: =VLOOKUP(B28,[103]ITEMS!$B$4:$E$2468,2,FALSE) -> ALQUILER DE PALETA PARE-SIGA EN POLIETILENO. | E28: =VLOOKUP(B28,[103]ITEMS!$B$5:$E$2466,3,FALSE) -> UN/MES | F28: 1 | H28: 2824 | J28: 2 | K28: 2 | L28: =F28*(SUM(J28:K28)) -> 4 | M28: =ROUND(L28*H28*F28,0) -> 11296
L29: SUBTOTAL OTROS COSTOS DIRECTOS | M29: =ROUND(SUM(M21:M28),0) -> 723425
H31: SUB TOTAL | M31: =ROUND(M29+M19,0) -> 7343396
H33: VALOR TOTAL | M33: =ROUND(M32+M31,0) -> 7343396

Sheet P-003
B2: ANÁLISIS DE PRECIOS UNITARIOS (APU)
A4: A. DATOS GENERALES | J4: 2024 | K4: 2025 | L4: 2026
A5: OBJETO | B5: REALIZAR LA CONSERVACIÓN DEL PUENTE VEHICULAR LA PLAYA EN LA VEREDA LA UNIÓN SOBRE CORRIENTES DE AGUA EN LA LOCALIDAD DE SUMAPAZ, POR EL SISTEMA DE PRECIOS UNITARIOS FIJOS; DE ACUERDO CON LOS ESTUDIOS Y DISEÑOS ENTREGADOS POR EL FDRS”
A7: B. DATOS ESPECÍFICOS
A8: Descripción | E8: Unidad de medida | G8: Item Presupuesto
A9: INYECCIÓN DE FISURAS Y/O GRIETAS INACTIVAS (INCLUYE ALQUILER DE EQUIPO, SUMINISTRO DE MATERIALES Y MANO DE OBRA PARA SU INSTALACIÓN) | E9: ML | G9: P-003 | I9: =J12*D12 -> 428.4
A10: 1. EQUIPO
A11: Código Insumo | B11: Descripción | C11: Unidad de medida | D11: Rendimiento | E11: Valor Unitario | G11: Valor Parcial
A12: 7698 | B12: PULIDORA MANUAL ELECTRICA | C12: HR | D12: 0.2 | E12: 2549 | G12: =D12*E12 -> 509.8 | J12: 2142 | K12: 2549 | L12: 2549 | N12: ig
A13: 7701 | B13: TALADRO ROTOPERCUTOR - POTENCIA DE 860 A 1030 WATTS | C13: HR | D13: 0.2 | E13: 3363 | G13: =D13*E13 -> 672.6 | J13: 3750 | K13: 3363 | L13: 3363 | N13: ig
A14: I-002 | B14: EQUIPO DE INYECCIÓN DE MORTEROS FLUIDOS Y RESINAS | C14: HR | D14: 0.2 | E14: 4551 | G14: =D14*E14 -> 910.2 | I14: 4469
A15: 12920 | B15: ANDAMIO MULTIDIRECCIONAL - ALTURA 9 m - ÁREA 4 m2 | C15: DIA | D15: 0.025 | E15: 79195 | G15: =D15*E15 -> 1979.875 | J15: 67285 | K15: 73233 | L15: 73233 | N15: camb
A16: 6092 | B16: HERRAMIENTA MENOR | C16: GLB | D16: 1 | E16: 2000 | G16: =D16*E16 -> 2000 | J16: 2000 | K16: 2000 | L16: 2000 | N16: ig
A17: SUBTOTAL | G17: =SUM(G12:G16) -> 6072.475
A18: 2. MATERIALES
A19: Código Insumo | B19: Descripción | C19: Unidad de medida | D19: Cantidad | E19: Valor Unitario | G19: Valor Parcial
A20: I-003 | B20: SISTEMA EPÓXICO DE DOS COMPONENTES EUCO INYECCIÓN 100 DE TOXEMENT O SIMILAR POR 3 KG | C20: UN | D20: 0.05 | E20: 360750 | G20: =D20*E20 -> 18037.5 | I20: 314584.32 | L20: 360750 | M20: indexado
A21: SUBTOTAL | G21: =SUM(G20) -> 18037.5
A22: 3. TRANSPORTES
A23: Código Insumo | B23: Descripción | C23: Unidad de medida | D23: Cantidad | E23: Valor Unitario | G23: Valor Parcial
A25: SUBTOTAL | G25: =SUM(G24) -> 0
A26: 4. MANO DE OBRA
A27: Código Insumo | B27: Descripción | C27: Unidad de medida | D27: Rendimiento | E27: Valor Unitario | G27: Valor Parcial
A28: 6087 | B28: TARIFA JORNAL - PERSONAL DE OBRA - AYUDANTE | C28: JR | D28: 0.025 | E28: 97414 | G28: =D28*E28 -> 2435.35 | I28: 71580 | J28: 79411 | L28: 97414 | N28: ig
A29: 6088 | B29: TARIFA JORNAL - PERSONAL DE OBRA - OFICIAL | C29: JR | D29: 0.025 | E29: 121212 | G29: =D29*E29 -> 3030.3 | I29: 102952 | J29: 113763 | L29: 121212 | N29: ig
A30: SUBTOTAL | G30: =SUM(G28:G29) -> 5465.65
A32: TOTAL COSTO DIRECTO | G32: =G17+G21+G30 -> 29575.625

Sheet P-004
B2: ANÁLISIS DE PRECIOS UNITARIOS (APU)
A4: A. DATOS GENERALES
A5: OBJETO | B5: REALIZAR LA CONSERVACIÓN DEL PUENTE VEHICULAR LA PLAYA EN LA VEREDA LA UNIÓN SOBRE CORRIENTES DE AGUA EN LA LOCALIDAD DE SUMAPAZ, POR EL SISTEMA DE PRECIOS UNITARIOS FIJOS; DE ACUERDO CON LOS ESTUDIOS Y DISEÑOS ENTREGADOS POR EL FDRS”
A7: B. DATOS ESPECÍFICOS
A8: Descripción | E8: Unidad de medida | G8: Item Presupuesto
A9: MORTERO DE REPARACIÓN PARA APLICACIÓN EN BAJOS ESPESORES > 5 MM (INCLUYE ALQUILER DE EQUIPOS MENORES Y ANDAMIO CON LÍNEA DE SEGURIDAD, SUMINISTRO DE MATERIALES Y MANO DE OBRA PARA SU INSTALACIÓN) | E9: M2 | G9: P-004
A10: 1. EQUIPO
A11: Código Insumo | B11: Descripción | C11: Unidad de medida | D11: Rendimiento | E11: Valor Unitario | G11: Valor Parcial
A12: 7698 | B12: PULIDORA MANUAL ELECTRICA | C12: HR | D12: 0.25 | E12: 2549 | G12: =D12*E12 -> 637.25
A13: 7701 | B13: TALADRO ROTOPERCUTOR - POTENCIA DE 860 A 1030 WATTS | C13: HR | D13: 0.25 | E13: 3363 | G13: =D13*E13 -> 840.75
A14: I-002 | B14: EQUIPO DE INYECCIÓN DE MORTEROS FLUIDOS Y RESINAS | C14: HR | D14: 0.25 | E14: 4551 | G14: =D14*E14 -> 1137.75
A15: 12920 | B15: ANDAMIO MULTIDIRECCIONAL - ALTURA 9 m - ÁREA 4 m2 | C15: DIA | D15: 0.031 | E15: 79195 | G15: =D15*E15 -> 2455.045
A16: 6092 | B16: HERRAMIENTA MENOR | C16: GLB | D16: 1 | E16: 2000 | G16: =D16*E16 -> 2000
A17: SUBTOTAL | G17: =SUM(G12:G16) -> 7070.795
A18: 2. MATERIALES
A19: Código Insumo | B19: Descripción | C19: Unidad de medida | D19: Cantidad | E19: Valor Unitario | G19: Valor Parcial
A20: I-004 | B20: MORTERO CEMENTOSO DE REPARACIÓN SIKATOP 122 O SIMILAR POR 30 KG. | C20: UN | D20: 0.2 | E20: 244200 | G20: =D20*E20 -> 48840
A21: 2307 | B21: ARENA DE PEÑA | C21: M3 | D21: 0.05 | E21: 82110 | G21: =D21*E21 -> 4105.5
A22: 6098 | B22: AGUA | C22: LT | D22: 4 | E22: 28 | G22: =D22*E22 -> 112
A23: SUBTOTAL | G23: =SUM(G20:G22) -> 53057.5
A24: 3. TRANSPORTES
A25: Código Insumo | B25: Descripción | C25: Unidad de medida | D25: Cantidad | E25: Valor Unitario | G25: Valor Parcial
A27: SUBTOTAL | G27: 0
A28: 4. MANO DE OBRA
A29: Código Insumo | B29: Descripción | C29: Unidad de medida | D29: Rendimiento | E29: Valor Unitario | G29: Valor Parcial
A30: 6087 | B30: TARIFA JORNAL - PERSONAL DE OBRA - AYUDANTE | C30: JR | D30: 0.031 | E30: 97414 | G30: 2237
A31: 6088 | B31: TARIFA JORNAL - PERSONAL DE OBRA - OFICIAL | C31: JR | D31: 0.031 | E31: 121212 | G31: 3217
A32: SUBTOTAL | G32: =SUM(G30:G31) -> 5454
A34: TOTAL COSTO DIRECTO | G34: =G17+G23+G32 -> 65582.295

Sheet P-005
B2: ANÁLISIS DE PRECIOS UNITARIOS (APU)
A4: A. DATOS GENERALES
A5: OBJETO | B5: REALIZAR LA CONSERVACIÓN DEL PUENTE VEHICULAR LA PLAYA EN LA VEREDA LA UNIÓN SOBRE CORRIENTES DE AGUA EN LA LOCALIDAD DE SUMAPAZ, POR EL SISTEMA DE PRECIOS UNITARIOS FIJOS; DE ACUERDO CON LOS ESTUDIOS Y DISEÑOS ENTREGADOS POR EL FDRS”
A7: B. DATOS ESPECÍFICOS
A8: Descripción | E8: Unidad de medida | G8: Item Presupuesto
A9: APLICACIÓN DE HIDROFUGOS SOBRE LA SUPERFICIE DEL CONCRETO (INCLUYE ALQUILER DE EQUIPO, SUMINISTRO DE MATERIALES Y MANO DE OBRA PARA SU INSTALACION) | E9: M2 | G9: P-005
A10: 1. EQUIPO
A11: Código Insumo | B11: Descripción | C11: Unidad de medida | D11: Rendimiento | E11: Valor Unitario | G11: Valor Parcial
A12: 12920 | B12: ANDAMIO MULTIDIRECCIONAL - ALTURA 9 m - ÁREA 4 m2 | C12: DIA | D12: 0.025 | E12: 79195 | G12: =D12*E12 -> 1979.875
A13: 6092 | B13: HERRAMIENTA MENOR | C13: GLB | D13: 1 | E13: 2000 | G13: =D13*E13 -> 2000
A14: SUBTOTAL | G14: =SUM(G12:G13) -> 3979.875
A15: 2. MATERIALES
A16: Código Insumo | B16: Descripción | C16: Unidad de medida | D16: Cantidad | E16: Valor Unitario | G16: Valor Parcial
A17: 7115 | B17: ADITIVO IMPERMEABILIZANTE PARA CONCRETOS Y MORTEROS | C17: KG | D17: 0.4 | E17: 15312 | G17: =D17*E17 -> 6124.8
A18: I-005 | B18: SOLUCIÓN DE HIPOCLORITO DE SODIO AL 3%. | C18: GL | D18: 0.05 | E18: 36630 | G18: 1650
A19: SUBTOTAL | G19: =SUM(G17:G18) -> 7774.8
A20: 3. TRANSPORTES
A21: Código Insumo | B21: Descripción | C21: Unidad de medida | D21: Cantidad | E21: Valor Unitario | G21: Valor Parcial
A23: SUBTOTAL | G23: 0
A24: 4. MANO DE OBRA
A25: Código Insumo | B25: Descripción | C25: Unidad de medida | D25: Rendimiento | E25: Valor Unitario | G25: Valor Parcial
A26: 6087 | B26: TARIFA JORNAL - PERSONAL DE OBRA - AYUDANTE | C26: JR | D26: 0.025 | E26: 97414 | G26: =D26*E26 -> 2435.35
A27: 6088 | B27: TARIFA JORNAL - PERSONAL DE OBRA - OFICIAL | C27: JR | D27: 0.025 | E27: 121212 | G27: =D27*E27 -> 3030.3
A28: SUBTOTAL | G28: =SUM(G26:G27) -> 5465.65
A30: TOTAL COSTO DIRECTO | G30: =G14+G19+G28 -> 17220.325

Sheet P-007
B2: ANÁLISIS DE PRECIOS UNITARIOS (APU)
A4: A. DATOS GENERALES
A5: OBJETO | B5: REALIZAR LA CONSERVACIÓN DEL PUENTE VEHICULAR LA PLAYA EN LA VEREDA LA UNIÓN SOBRE CORRIENTES DE AGUA EN LA LOCALIDAD DE SUMAPAZ, POR EL SISTEMA DE PRECIOS UNITARIOS FIJOS; DE ACUERDO CON LOS ESTUDIOS Y DISEÑOS ENTREGADOS POR EL FDRS”
A7: B. DATOS ESPECÍFICOS
A8: Descripción | E8: Unidad de medida | G8: Item Presupuesto
A9: TRANSPORTE ADICIONAL DE PETREOS DESDE ZONA SUR DE BOGOTÁ HASTA SITIO OBRA | E9: M3-KM | G9: P-007
A10: 1. EQUIPO
A11: Código Insumo | B11: Descripción | C11: Unidad de medida | D11: Rendimiento | E11: Valor Unitario | G11: Valor Parcial
A13: SUBTOTAL | G13: 0
A14: 2. MATERIALES
A15: Código Insumo | B15: Descripción | C15: Unidad de medida | D15: Cantidad | E15: Valor Unitario | G15: Valor Parcial
A17: SUBTOTAL | G17: 0
A18: 3. TRANSPORTES
A19: Código Insumo | B19: Descripción | C19: Unidad de medida | D19: Cantidad | E19: Valor Unitario | G19: Valor Parcial
A20: 7462 | B20: TRANSPORTE DE PETREOS | C20: M3-KM | D20: 1 | E20: 1800 | G20: =D20*E20 -> 1800
A21: SUBTOTAL | G21: 1800
A22: 4. MANO DE OBRA
A23: Código Insumo | B23: Descripción | C23: Unidad de medida | D23: Rendimiento | E23: Valor Unitario | G23: Valor Parcial
A25: SUBTOTAL | G25: 0
A27: TOTAL COSTO DIRECTO | G27: =G21 -> 1800

Sheet P-012
B2: ANÁLISIS DE PRECIOS UNITARIOS (APU)
A4: A. DATOS GENERALES
A5: OBJETO | B5: REALIZAR LA CONSERVACIÓN DEL PUENTE VEHICULAR LA PLAYA EN LA VEREDA LA UNIÓN SOBRE CORRIENTES DE AGUA EN LA LOCALIDAD DE SUMAPAZ, POR EL SISTEMA DE PRECIOS UNITARIOS FIJOS; DE ACUERDO CON LOS ESTUDIOS Y DISEÑOS ENTREGADOS POR EL FDRS”
A7: B. DATOS ESPECÍFICOS
A8: Descripción | E8: Unidad de medida | G8: Item Presupuesto
A9: CONCRETO 3500 PSI GRAVA COMÚN PARA RECALCE DE 0.05M X 0.50M X 1.20M (HECHO EN OBRA, INCLUYE SUMIN., FORMALETEO Y COLOCACIÓN. NO INCL. REFUERZO, CURADO). | E9: M3 | G9: P-012
A10: 1. EQUIPO
A11: Código Insumo | B11: Descripción | C11: Unidad de medida | D11: Rendimiento | E11: Valor Unitario | G11: Valor Parcial
A12: I-018 | B12: ASPERSOR MANUAL DE 20 LITROS | C12: HR | D12: 1 | E12: 3973.63 | G12: =D12*E12 -> 3973.63
A13: I-019 | B13: VIBRADOR DE CONCRETO, POTENCIA APROXIMADA DE 3 HP, MANGUERAS DE 4 A 6 METROS | C13: HR | D13: 1 | E13: 8083.92 | G13: =D13*E13 -> 8083.92
A14: I-020 | B14: FORMALETA METÁLICA PARA CONCRETO (M2) | C14: HR | D14: 314 | E14: 983.77 | G14: =D14*E14 -> 308903.78
A15: I-021 | B15: PLANTA DOSIFICADORA (MEZCLADORA) DE CONCRETO | C15: HR | D15: 1 | E15: 183150 | G15: =D15*E15 -> 183150
A16: 6092 | B16: HERRAMIENTA MENOR | C16: GLB | D16: 0.0005 | E16: 2000 | G16: =D16*E16 -> 1
A17: SUBTOTAL | G17: =SUM(G12:G16) -> 504112.33
A18: 2. MATERIALES
A19: Código Insumo | B19: Descripción | C19: Unidad de medida | D19: Cantidad | E19: Valor Unitario | G19: Valor Parcial
A20: I-022 | B20: AGREGADO GRUESO (GRAVA, GRAVA TRITURADA Y/O ROCA TRITURADA) | C20: M3 | D20: 0.67 | E20: 76590 | G20: =D20*E20 -> 51315.3
A21: 4675 | B21: CEMENTO GRIS TIPO III (Bulto x 50 Kg) | C21: UN | D21: 10 | E21: 32600 | G21: =D21*E21 -> 326000
A22: 2307 | B22: ARENA DE PEÑA | C22: M3 | D22: 0.67 | E22: 82110 | G22: =D22*E22 -> 55013.7
A23: 6098 | B23: AGUA | C23: LT | D23: 220 | E23: 28 | G23: =D23*E23 -> 6160
A24: SUBTOTAL | G24: =SUM(G20:G23) -> 438489
A25: 3. TRANSPORTES
A26: Código Insumo | B26: Descripción | C26: Unidad de medida | D26: Cantidad | E26: Valor Unitario | G26: Valor Parcial
A28: SUBTOTAL | G28: 0
A29: 4. MANO DE OBRA
A30: Código Insumo | B30: Descripción | C30: Unidad de medida | D30: Rendimiento | E30: Valor Unitario | G30: Valor Parcial
A31: 6088 | B31: TARIFA JORNAL - PERSONAL DE OBRA - OFICIAL (INCLUYE FACTOR DE PRESTACIONES) | C31: JR | D31: 0.75 | E31: 121212 | G31: =D31*E31 -> 90909
A32: 6087 | B32: TARIFA JORNAL - PERSONAL DE OBRA - AYUDANTE (INCLUYE FACTOR DE PRESTACIONES) | C32: JR | D32: 0.125 | E32: 97414 | G32: =D32*E32 -> 12176.75
A33: SUBTOTAL | G33: =SUM(G31:G32) -> 103085.75
A35: TOTAL COSTO DIRECTO | G35: =G17+G24+G33 -> 1045687.1
