Workbook
Name contratación: 'IDENTIFICACION Y ANALISIS'!$B$35:$B$38
Name ejecución: 'IDENTIFICACION Y ANALISIS'!$B$40:$B$54
Name OP: '[1]ASIGNACION Y TRATAMIENTO'!$B$69:$B$71
Name OPCIONES: 'ASIGNACION Y TRATAMIENTO'!$B$70:$B$72
Name planeación: 'IDENTIFICACION Y ANALISIS'!$B$19:$B$25
Name selección: 'IDENTIFICACION Y ANALISIS'!$B$27:$B$33

Sheet CONTEXTO
C1: MATRIZ DE RIESGOS EN CONTRATACIÓN | F1: Código: GCO-GCI-F164 Versión: 01 Vigencia: 16 diciembre de 2021 Caso HOLA: 206942
B5: ESTABLECER EL CONTEXTO
B6: El punto inicial es identificar el contexto en el cual interactúa la Entidad Estatal para conocer el ambiente social, económico y político, e identificar (i) sus propios Riesgos; (ii) los Riesgos comunes a sus Procesos de Contratación; y (iii) los Riesgos del Proceso de Contratación en particular. (Aplica igual para contratos interadministrativos) En este paso la Entidad Estatal debe identificar los aspectos que se mencionan a continuación y los posibles efectos adversos que estos pueden generar.
B7: Objeto del Proceso de Contratación: El contrato que se pretende celebrar tendrá por objeto “CONTRATAR LA PRESTACIÓN DE SERVICIOS PARA LA EJECUCIÓN DE LAS METAS DE LOS PROYECTOS DE INVERSIÓN No. 2635 ‘REVERDECIENDO RAFAEL URIBE URIBE’ y 2700 ‘RESTAURACIÓN ECOLÓGICA INTEGRAL EN RAFAEL URIBE URIBE’ , A TRAVÉS DEL DESARROLLO DE ACCIONES DE RESTAURACIÓN ECOLÓGICA, EDUCACIÓN AMBIENTAL, AGRICULTURA URBANA, JARDINERÍA, ARBOLADO URBANO Y GESTIÓN INTEGRAL DE RESIDUOS SÓLIDOS EN LA LOCALIDAD DE RAFAEL URIBE URIBE”
B8: Partícipes del Proceso de Contratación: Oficina de Planeación local, veedurías ciudadanas, Fondo Local de Desarrollo de Rafael Uribe Uribe
B9: Ciudadanía que se beneficia del Proceso de Contratación: Ciudadanía perteneciente a la localidad de Rafael Uribe Uribe
B10: Capacidad de la Entidad Estatal entendida como la disponibilidad de recursos y conocimientos para el Proceso de Contratación: La disponibilidad de la Entidad de sus recursos y el conocimiento de su equipo humano se refleja en los diferentes funcionarios que participarán en las diversas etapas del proceso de selección: participan las áreas que requieren los procesos de contratación (Etapa de Estudios previos), el área de Contratos de la Secretaría General (Etapa contractual), los evaluadores designados, idóneos y con experiencia en el tema.
B11: Suficiencia del presupuesto oficial del Proceso de Contratación: De acuerdo al Plan de contratación para la vigencia 2026, se estimaron los recursos necesarios para el desarrollo del proceso de la contratación, el cual tendrá el soporte presupuestal suficiente para su desarrollo.
B12: Condiciones geográficas y de acceso del lugar en el cual se debe cumplir el objeto del Proceso de Contratación: Las actividades se realizaraán en la localidad de RUU
B13: Entorno socio ambiental: La localidad Rafael Uribe Uribe cuenta con cinco UPZ a saber: 36 San José, 39 Quiroga, 53 Marco Fidel Suárez, 54 Marruecos, 55 Diana Turbay. De igual forma La Localidad está compuesta por 114 barrios. La UPZ que presenta mayor población y desarrollo urbanístico es la No.39 Quiroga, la cual en su gran mayoría en sectores donde se ubican barrios tradicionales de la ciudad, con tendencia a la densificación no planificada y al cambio de usos del suelo, donde el predominante es el residencial con presencia de familias de estratos medios.
B14: Condiciones políticas: Si aplican
B15: Factores ambientales: El contratista debe manejar normas ambientales para el destino final de los elementos utilizados durante la realización de las diferentes actividades mencionadas en el anexo técnico del presente proceso.
B16: Sector del objeto del Proceso de Contratación y su mercado: Todos los clientes (entidades privadas, Estatales y Gubernamentales), alrededor en todo el Territorio Nacional Colombiano y el exterior, quienes prestan servicios en procesos de formación en temáticas medio ambientales y manejo de residuos sólidos
... B19: Experiencia propia y de otras Entidades Estatales en Procesos de Contratación del mismo tipo: En el marco del Plan de Desarrollo Local por el cual se adopta el Plan de Desarrollo Económico, Social, Ambiental y de obras públicas para la Localidad de Rafael Uribe Uribe 2021-2024 “Un nuevo contrato social y ambiental para la localidad de Rafael Uribe Uribe”, aprobado mediante acuerdo 005 del 07 de octubre de 2020, dentro de su propósito Propósito 2. Cambiar nuestros hábitos de vida para reverdecer a Bogotá y adaptarnos y mitigar el cambio climático.. El Plan de Desarrollo para Bogotá D.C. 2025– 2028, “BOGOTÁ CAMINA SEGURA”, dentro del OBJETIVO 4. BOGOTÁ ORDENA SU TERRITORIO Y AVANZA ES SU ACCIÓN CLIMÁTICA, y desde el Programa 25. Aumento de la resiliencia al cambio climático y reducción de la vulnerabilidad.

Sheet IDENTIFICACION Y ANALISIS
C2: MATRIZ DE RIESGOS DE CONTRATACIÓN | F2: Código: GCO-GCI-F164 Versión: 01 Vigencia: 16 diciembre de 2021 Caso HOLA: 206942
B6: DEFINICIONES
B7: RIESGO: evento que puede generar efectos adversos y de distinta magnitud en el logro de los objetivos del Proceso de Contratación o en la ejecución de un contrato
B8: RIESGOS PREVISIBLES: Son los posibles hechos o circunstancias que por la naturaleza del contrato y de la actividad a ejecutar es factible su ocurrencia.
B9: ETAPA DE PLANEACIÓN: Está comprendida entre la elaboración del Plan Anual de Adquisiciones y la fecha en la cual decide continuar o no con el Proceso de Contratación
B10: ETAPA DE SELECCIÓN: Está comprendida entre el acto de Apertura del Proceso de Contratación y la Adjudicación o la declaración de desierto del Proceso de Contratación
B11: ETAPA DE CONTRATACIÓN: Una vez adjudicado el contrato objeto del Proceso de Contratación, inicia la etapa de contratación en la cual se debe cumplir con el cronograma previsto para la celebración del contrato, el registro presupuestal, la publicación en el SECOP y el cumplimiento de los requisitos para el perfeccionamiento, ejecución y pago.
B12: ETAPA DE EJECUCIÓN: Inicia una vez cumplidos los requisitos previstos para iniciar la ejecución del contrato respectivo y termina con el vencimiento del plazo del contrato o la fecha de liquidación si hay lugar a ella.
B13: RIESGO GENERAL: Es un riesgo de todos los procesos de contratación adelantados por la Entidad Estatal, por lo cual está presente en toda su actividad contractual.
B14: RIEGO ESPECIFICO: Es un riesgo propio del proceso de contratación objeto de análisis.
B15: INSTRUCCIONES PARA LA IDENTIFICACIÓN, ANALISIS, EVALUACIÓN , ASIGNACIÓN Y TRATAMIENTO DE RIESGOS EN LA CONTRATACIÓN
B16: 1) Identifique los riesgos previsibles que le apliquen al objeto contractual que se adelante; En caso de identificar otro riesgo inclúyalo en la proforma e informe al Área de Contratos de la Secretaría General para que sea actualizada en el SIG.
C17: ETAPAS | D17: CLASE | E17: FUENTE | F17: TIPO
C18: PLANEACIÓN
B19: Inadecuada escogencia de la modalidad de contratación | D19: General | E19: Interno | F19: Operacionales
B20: Requisitos habilitantes inapropiados para el proceso de selección | D20: General | E20: Interno | F20: Operacionales
B21: Inadecuado análisis económico estimativo del valor del contrato | D21: General | E21: Interno | F21: Economicos
B22: Inadecuada descripción del bien o servicio requerido | D22: Estatal | E22: Interno | F22: Operacionales
B23: Falta de profundidad en el estudio de sector no identificandose claramente aspectos de oferta y demanda | D23: Estatal | E23: Interno | F23: Economicos
B24: Ausencia de fundamentación de la justificación y conveniencia de la contratación | D24: Estatal | E24: Interno | F24: Operacionales
B25: Inadecuada identificación de las condiciones contractuales | D25: Estatal | E25: Interno | F25: Operacionales
C26: SELECCIÓN
B27: Inadecuada evaluación de las ofertas y/o verificación de requisitos habilitantes | D27: General | E27: Interno | F27: Operacionales
B28: Inadecuado manejo administrativo del proceso contractual | D28: Especifico | E28: Interno | F28: Operacionales
B29: Falta de claridad en la elaboración de los actos administrativos | D29: Estatal | E29: Interno | F29: Operacionales
B30: Contestación inoportuna a todas las observaciones formuladas a los documentos de la contratación | D30: Estatal | E30: Interno | F30: Operacionales
B31: No publicación de la documentación del proceso de selección en el SECOP | D31: Estatal | E31: Interno | F31: Operacionales
B32: Confabulacion de los proponentes (Colusión) | D32: General | E32: Externo | F32: Operacionales
B33: Selección de ofertas con precios artificialmente bajos. | D33: General | E33: Interno | F33: Operacionales
C34: CONTRATACIÓN
B35: Riesgo de que no se firme el contrato. | D35: General | E35: Externo | F35: Operacionales
B36: Falta de constitución o constitución tardía de la garantía única. Aceptación de garantías que no se ajustan a lo contemplado en el contrato | D36: General | E36: Interno | F36: Operacionales
B37: Falta de solicitud o solicitud tardía del registro presupuestal | D37: Estatal | E37: Interno | F37: Operacionales
B38: Presentación de reclamos de terceros sobre la selección del oferente que retrasen el perfeccionamiento del contrato. | D38: General | E38: Externo | F38: Operacionales
C39: EJECUCIÓN
B40: Fluctuaciones del valor de la moneda | D40: General | E40: Externo | F40: Economicos
B41: Variación de los precios del mercado | D41: General | E41: Externo | F41: Economicos
B42: Factores políticos o macroeconómicos. | D42: General | E42: Externo | F42: Sociales o Políticos
B43: Variación en la disponibilidad o en el costo de los insumos necesarios para prestar los servicios. | D43: General | E43: Externo | F43: Economicos
B44: Incumplimiento de compromisos adquiridos por el contratista seleccionado con sus subcontratistas, suministradores de bienes y servicios. | D44: General | E44: Externo | F44: Economicos
...

Sheet EVALUACION
D1: MATRIZ DE RIESGOS DE CONTRATACIÓN | K1: Código: GCO-GCI-F164 Versión: 01 Vigencia: 16 diciembre de 2021 Caso HOLA: 206942
B5: Objeto Contractual: “CONTRATAR LA PRESTACIÓN DE SERVICIOS PARA LA EJECUCIÓN DE LAS METAS DE LOS PROYECTOS DE INVERSIÓN No. 2635 ‘REVERDECIENDO RAFAEL URIBE URIBE’ y 2700 ‘RESTAURACIÓN ECOLÓGICA INTEGRAL EN RAFAEL URIBE URIBE’ , A TRAVÉS DEL DESARROLLO DE ACCIONES DE RESTAURACIÓN ECOLÓGICA, EDUCACIÓN AMBIENTAL, AGRICULTURA URBANA, JARDINERÍA, ARBOLADO URBANO Y GESTIÓN INTEGRAL DE RESIDUOS SÓLIDOS EN LA LOCALIDAD DE RAFAEL URIBE URIBE”
B6: INSTRUCCIONES PARA LA IDENTIFICACIÓN, ANALISIS, EVALUACIÓN , ASIGNACIÓN Y TRATAMIENTO DE RIESGOS EN LA CONTRATACIÓN
B7: 1) Seleccione el tipo de calificación (Cualitativa ó Monetaria)
B8: 2) Seleccione la(s) etapas y los riesgos que aplican al objeto contractual
B9: 3) Asigne la probabilidad de ocurrencia del riesgo, de conformidad con la tabla de probabilidad
B10: 4) Asigne el impacto que generaría la materialización del riesgo, de conformidad con la tabla de impacto
B11: 5) Al realizar las anteriores actividades se obtendrá la calificación total y la valoración del riesgo (prioridad) , traslde al formato evaluación con controles, los que tengan un nivel de criticidad diferente a bajo.
B12: 6) Continúe en la hoja de evaluación de controles
B14: CALIFICACIÓN | H14: Cualitativa
B15: ETAPA | C15: Descripción (Que puede pasar y, cómo puede ocurrir) | H15: Consecuencias de la ocurrencia del evento | I15: Probabilidad de Ocurrencia | J15: Impacto | K15: Calificación Total | L15: Prioridad
B16: PLANEACIÓN | C16: =+'IDENTIFICACION Y ANALISIS'!B19 -> Inadecuada escogencia de la modalidad de contratación | H16: Retraso en la ejecución de las labores como consecuencia del error en la seleción de la modalidad de contratación | I16: 1 | J16: 2 | K16: =+I16+J16 -> 3 | L16: =IF(K16<=4,"BAJO",IF(K16=5,"MEDIO",IF(K16=6,"ALTO",IF(K16=7,"ALTO","EXTREMO")))) -> BAJO
B17: PLANEACIÓN | C17: =+'IDENTIFICACION Y ANALISIS'!B20 -> Requisitos habilitantes inapropiados para el proceso de selección | H17: No adjudicación del proceso | I17: 1 | J17: 3 | K17: =+I17+J17 -> 4 | L17: =IF(K17<=4,"BAJO",IF(K17=5,"MEDIO",IF(K17=6,"ALTO",IF(K17=7,"ALTO","EXTREMO")))) -> BAJO
B18: PLANEACIÓN | C18: =+'IDENTIFICACION Y ANALISIS'!B21 -> Inadecuado análisis económico estimativo del valor del contrato | H18: No adjudicación del proceso | I18: 1 | J18: 3 | K18: =+I18+J18 -> 4 | L18: =IF(K18<=4,"BAJO",IF(K18=5,"MEDIO",IF(K18=6,"ALTO",IF(K18=7,"ALTO","EXTREMO")))) -> BAJO
B19: PLANEACIÓN | C19: =+'IDENTIFICACION Y ANALISIS'!B22 -> Inadecuada descripción del bien o servicio requerido | H19: Retraso en la ejecución de las labores como consecuencia del error en la descripción del bien o servicio requerido | I19: 1 | J19: 3 | K19: =+I19+J19 -> 4 | L19: =IF(K19<=4,"BAJO",IF(K19=5,"MEDIO",IF(K19=6,"ALTO",IF(K19=7,"ALTO","EXTREMO")))) -> BAJO
B20: PLANEACIÓN | C20: =+'IDENTIFICACION Y ANALISIS'!B23 -> Falta de profundidad en el estudio de sector no identificandose claramente aspectos de oferta y demanda | H20: Retraso en la ejecución de las labores como consecuencia de las deficiencias en la construcción del estudio de sector | I20: 1 | J20: 3 | K20: =+I20+J20 -> 4 | L20: =IF(K20<=4,"BAJO",IF(K20=5,"MEDIO",IF(K20=6,"ALTO",IF(K20=7,"ALTO","EXTREMO")))) -> BAJO
B21: PLANEACIÓN | C21: =+'IDENTIFICACION Y ANALISIS'!B24 -> Ausencia de fundamentación de la justificación y conveniencia de la contratación | H21: Retraso en la ejecución de las labores como consecuencia de las deficiencias en la construcción de la justificación y/o la conveniencia de la contratación | I21: 1 | J21: 3 | K21: =+I21+J21 -> 4 | L21: =IF(K21<=4,"BAJO",IF(K21=5,"MEDIO",IF(K21=6,"ALTO",IF(K21=7,"ALTO","EXTREMO")))) -> BAJO
B22: PLANEACIÓN | C22: =+'IDENTIFICACION Y ANALISIS'!B25 -> Inadecuada identificación de las condiciones contractuales | H22: Retraso en la ejecución de las labores como consecuencia de la inadecuada identificación de las condiciones contractuales | I22: 1 | J22: 3 | K22: =+I22+J22 -> 4 | L22: =IF(K22<=4,"BAJO",IF(K22=5,"MEDIO",IF(K22=6,"ALTO",IF(K22=7,"ALTO","EXTREMO")))) -> BAJO
B23: SELECCIÓN | C23: =+'IDENTIFICACION Y ANALISIS'!B27 -> Inadecuada evaluación de las ofertas y/o verificación de requisitos habilitantes | H23: No adjudicación del proceso | I23: 1 | J23: 3 | K23: =+I23+J23 -> 4 | L23: =IF(K23<=4,"BAJO",IF(K23=5,"MEDIO",IF(K23=6,"ALTO",IF(K23=7,"ALTO","EXTREMO")))) -> BAJO
B24: SELECCIÓN | C24: =+'IDENTIFICACION Y ANALISIS'!B28 -> Inadecuado manejo administrativo del proceso contractual | H24: No adjudicación del proceso | I24: 1 | J24: 3 | K24: =+I24+J24 -> 4 | L24: =IF(K24<=4,"BAJO",IF(K24=5,"MEDIO",IF(K24=6,"ALTO",IF(K24=7,"ALTO","EXTREMO")))) -> BAJO
B25: SELECCIÓN | C25: =+'IDENTIFICACION Y ANALISIS'!B29 -> Falta de claridad en la elaboración de los actos administrativos | H25: Retraso en el inicio de la ejecución de las labores | I25: 1 | J25: 3 | K25: =+I25+J25 -> 4 | L25: =IF(K25<=4,"BAJO",IF(K25=5,"MEDIO",IF(K25=6,"ALTO",IF(K25=7,"ALTO","EXTREMO")))) -> BAJO
B26: SELECCIÓN | C26: =+'IDENTIFICACION Y ANALISIS'!B30 -> Contestación inoportuna a todas las observaciones formuladas a los documentos de la contratación | H26: No adjudicación del proceso | I26: 1 | J26: 3 | K26: =+I26+J26 -> 4 | L26: =IF(K26<=4,"BAJO",IF(K26=5,"MEDIO",IF(K26=6,"ALTO",IF(K26=7,"ALTO","EXTREMO")))) -> BAJO
B27: SELECCIÓN | C27: =+'IDENTIFICACION Y ANALISIS'!B31 -> No publicación de la documentación del proceso de selección en el SECOP | H27: No adjudicación del proceso | I27: 1 | J27: 3 | K27: =+I27+J27 -> 4 | L27: =IF(K27<=4,"BAJO",IF(K27=5,"MEDIO",IF(K27=6,"ALTO",IF(K27=7,"ALTO","EXTREMO")))) -> BAJO
B28: SELECCIÓN | C28: =+'IDENTIFICACION Y ANALISIS'!B32 -> Confabulacion de los proponentes (Colusión) | H28: Que el proceso de selección se vea afectado en cuanto objetividad y transparencia | I28: 2 | J28: 1 | K28: =+I28+J28 -> 3 | L28: =IF(K28<=4,"BAJO",IF(K28=5,"MEDIO",IF(K28=6,"ALTO",IF(K28=7,"ALTO","EXTREMO")))) -> BAJO
B29: SELECCIÓN | C29: =+'IDENTIFICACION Y ANALISIS'!B33 -> Selección de ofertas con precios artificialmente bajos. | H29: Dificultades al momento de iniciar ejecución por posibles desequilibrios financieros | I29: 1 | J29: 4 | K29: =+I29+J29 -> 5 | L29: =IF(K29<=4,"BAJO",IF(K29=5,"MEDIO",IF(K29=6,"ALTO",IF(K29=7,"ALTO","EXTREMO")))) -> MEDIO
B30: CONTRATACIÓN | C30: =+'IDENTIFICACION Y ANALISIS'!B35 -> Riesgo de que no se firme el contrato. | H30: Retraso en el inicio de la ejecución de las labores | I30: 1 | J30: 3 | K30: =+I30+J30 -> 4 | L30: =IF(K30<=4,"BAJO",IF(K30=5,"MEDIO",IF(K30=6,"ALTO",IF(K30=7,"ALTO","EXTREMO")))) -> BAJO
B31: CONTRATACIÓN | C31: =+'IDENTIFICACION Y ANALISIS'!B36 -> Falta de constitución o constitución tardía de la garantía única. Aceptación de garantías que no se ajustan a lo contemplado en el contrato | H31: Retraso en el inicio de la ejecución de las labores | I31: 2 | J31: 3 | K31: =+I31+J31 -> 5 | L31: =IF(K31<=4,"BAJO",IF(K31=5,"MEDIO",IF(K31=6,"ALTO",IF(K31=7,"ALTO","EXTREMO")))) -> MEDIO
B32: CONTRATACIÓN | C32: =+'IDENTIFICACION Y ANALISIS'!B37 -> Falta de solicitud o solicitud tardía del registro presupuestal | H32: Retraso en el inicio de la ejecución de las labores | I32: 2 | J32: 2 | K32: =+I32+J32 -> 4 | L32: =IF(K32<=4,"BAJO",IF(K32=5,"MEDIO",IF(K32=6,"ALTO",IF(K32=7,"ALTO","EXTREMO")))) -> BAJO
B33: CONTRATACIÓN | C33: =+'IDENTIFICACION Y ANALISIS'!B38 -> Presentación de reclamos de terceros sobre la selección del oferente que retrasen el perfeccionamiento del contrato. | H33: Retraso en el inicio de la ejecución de las labores | I33: 2 | J33: 3 | K33: =+I33+J33 -> 5 | L33: =IF(K33<=4,"BAJO",IF(K33=5,"MEDIO",IF(K33=6,"ALTO",IF(K33=7,"ALTO","EXTREMO")))) -> MEDIO
B34: EJECUCIÓN | C34: =+'IDENTIFICACION Y ANALISIS'!B40 -> Fluctuaciones del valor de la moneda | H34: Dificultades al momento de la ejecución por posibles desequilibrios financieros | I34: 2 | J34: 4 | K34: =+I34+J34 -> 6 | L34: =IF(K34<=4,"BAJO",IF(K34=5,"MEDIO",IF(K34=6,"ALTO",IF(K34=7,"ALTO","EXTREMO")))) -> ALTO
B35: EJECUCIÓN | C35: Variación de los precios del mercado | H35: Dificultades al momento de la ejecución por posibles desequilibrios financieros | I35: 2 | J35: 4 | K35: =+I35+J35 -> 6 | L35: =IF(K35<=4,"BAJO",IF(K35=5,"MEDIO",IF(K35=6,"ALTO",IF(K35=7,"ALTO","EXTREMO")))) -> ALTO
B36: EJECUCIÓN | C36: Factores políticos o macroeconómicos. | H36: Afectación de los términos contractuales pactados entre las partes | I36: 1 | J36: 3 | K36: =+I36+J36 -> 4 | L36: =IF(K36<=4,"BAJO",IF(K36=5,"MEDIO",IF(K36=6,"ALTO",IF(K36=7,"ALTO","EXTREMO")))) -> BAJO
B37: EJECUCIÓN | C37: Variación en la disponibilidad o en el costo de los insumos necesarios para prestar los servicios. | H37: Dificultades al momento de la ejecución por posibles desequilibrios financieros | I37: 2 | J37: 4 | K37: =+I37+J37 -> 6 | L37: =IF(K37<=4,"BAJO",IF(K37=5,"MEDIO",IF(K37=6,"ALTO",IF(K37=7,"ALTO","EXTREMO")))) -> ALTO
B38: EJECUCIÓN | C38: Incumplimiento de compromisos adquiridos por el contratista seleccionado con sus subcontratistas, suministradores de bienes y servicios. | H38: Retraso en el inicio de la ejecución de las labores | I38: 1 | J38: 3 | K38: =+I38+J38 -> 4 | L38: =IF(K38<=4,"BAJO",IF(K38=5,"MEDIO",IF(K38=6,"ALTO",IF(K38=7,"ALTO","EXTREMO")))) -> BAJO
B39: EJECUCIÓN | C39: Incumplimiento de la administración en los pagos. | H39: Afectación de los términos contractuales pactados entre las partes | I39: 3 | J39: 4 | K39: =+I39+J39 -> 7 | L39: =IF(K39<=4,"BAJO",IF(K39=5,"MEDIO",IF(K39=6,"ALTO",IF(K39=7,"ALTO","EXTREMO")))) -> ALTO
B40: EJECUCIÓN | C40: Cambios en el marco regulatorio o normatividad aplicable al proyecto. | H40: Retraso en el inicio de la ejecución de las labores | I40: 1 | J40: 3 | K40: =+I40+J40 -> 4 | L40: =IF(K40<=4,"BAJO",IF(K40=5,"MEDIO",IF(K40=6,"ALTO",IF(K40=7,"ALTO","EXTREMO")))) -> BAJO
B41: EJECUCIÓN | C41: Nuevos desarrollos técnologicos o estandares que influyen en la ejecución del contrato | H41: Afectación de los términos contractuales pactados entre las partes | I41: 1 | J41: 3 | K41: =+I41+J41 -> 4 | L41: =IF(K41<=4,"BAJO",IF(K41=5,"MEDIO",IF(K41=6,"ALTO",IF(K41=7,"ALTO","EXTREMO")))) -> BAJO
B42: EJECUCIÓN | C42: Eventos naturales tales como lluvias, inundaciones y sequias entre otros | H42: Retraso en el inicio de la ejecución de las labores | I42: 1 | J42: 2 | K42: =+I42+J42 -> 3 | L42: =IF(K42<=4,"BAJO",IF(K42=5,"MEDIO",IF(K42=6,"ALTO",IF(K42=7,"ALTO","EXTREMO")))) -> BAJO
B43: EJECUCIÓN | C43: Vinculación extemporánea de los profesionales por causas externas al conveniante. | H43: Retraso en el cumplimiento de lo definido en el cronograma de actividades | I43: 4 | J43: 4 | K43: 7 | L43: =IF(K43<=4,"BAJO",IF(K43=5,"MEDIO",IF(K43=6,"ALTO",IF(K43=7,"ALTO","EXTREMO")))) -> ALTO
B44: EJECUCIÓN | C44: Baja participación de los beneficiarios a los talleres de sensibilización | H44: Afectación en la ejecución de los tiempos de las actividades estipuladas en el cronograma y afectación de los terminos contractuales pactados. | I44: 3 | J44: 3 | K44: 6 | L44: =IF(K44<=4,"BAJO",IF(K44=5,"MEDIO",IF(K44=6,"ALTO",IF(K44=7,"ALTO","EXTREMO")))) -> ALTO
...

Sheet EVALUACION CON CONTROLES
D2: MATRIZ DE RIESGOS DE CONTRATACIÓN | P2: Código: GCO-GCI-F164 Versión: 01 Vigencia: 16 diciembre de 2021 Caso HOLA: 206942
A6: =+EVALUACION!B5 -> Objeto Contractual: “CONTRATAR LA PRESTACIÓN DE SERVICIOS PARA LA EJECUCIÓN DE LAS METAS DE LOS PROYECTOS DE INVERSIÓN No. 2635 ‘REVERDECIENDO RAFAEL URIBE URIBE’ y 2700 ‘RESTAURACIÓN ECOLÓGICA INTEGRAL EN RAFAEL URIBE URIBE’ , A TRAVÉS DEL DESARROLLO DE ACCIONES DE RESTAURACIÓN ECOLÓGICA, EDUCACIÓN AMBIENTAL, AGRICULTURA URBANA, JARDINERÍA, ARBOLADO URBANO Y GESTIÓN INTEGRAL DE RESIDUOS SÓLIDOS EN LA LOCALIDAD DE RAFAEL URIBE URIBE”
A7: INSTRUCCIONES PARA LA IDENTIFICACIÓN, ANALISIS, EVALUACIÓN , ASIGNACIÓN Y TRATAMIENTO DE RIESGOS EN LA CONTRATACIÓN
A8: 1) Describa el tratamiento/controles a ser implementados
A9: 2) Teniendo en cuenta el tratamiento descrito, asigne la probabilidad de ocurrencia del riesgo, de conformidad con la tabla de probabilidad
A10: 3) Teniendo en cuenta el tratamiento descrito, asigne el impacto que generaría la materialización del riesgo, de conformidad con la tabla de impacto
A11: 4) Al realizar las anteriores actividades se obtendrá la calificación total y la valoración del riesgo (prioridad)
A12: 5) Diligencie la información de las démas columnas
A13: 7) Continúe en la hoja de asignación y tratamiento
A15: ETAPA | B15: Descripción (Que puede pasar y, cómo puede ocurrir) | F15: Tratamiento/Controles a ser implementados | H15: Probabilidad de Ocurrencia | I15: Impacto | J15: Calificación Total | K15: Prioridad | L15: ¿Afecta el equilibrio económico del contrato? | M15: Persona responsable por implementar el tratamiento | N15: Fecha estimada en que se inicia el tratamiento | O15: Fecha estimada en que se completa el tratamiento | P15: ¿Cómo se realiza el monitoreo? | Q15: Periodicidad ¿Cuándo?
A16: =+EVALUACION!B16 -> PLANEACIÓN | B16: =+EVALUACION!C16 -> Inadecuada escogencia de la modalidad de contratación | F16: Realizar una evaluación detallada con forme a pliegos de condiciones y demas requisistos | H16: =+EVALUACION!I16 -> 1 | I16: =+EVALUACION!J16 -> 2 | J16: =+H16+I16 -> 3 | K16: =IF(J16<=4,"BAJO",IF(J16=5,"MEDIO",IF(J16=6,"ALTO",IF(J16=7,"ALTO","EXTREMO")))) -> BAJO | L16: NO | M16: FFDLRUU | N16: ETAPA PRECONTRACTUAL | O16: FECHA DE ADJUDICACIÓN DEL PROCESO | P16: DE MANERA INMEDIATA CUANDO SE PERSIVA O SE EVIDENCIE | Q16: DE ACUERDO A LA POSIBILIDAD DE OCURRENCIA
A17: =+EVALUACION!B17 -> PLANEACIÓN | B17: =+EVALUACION!C17 -> Requisitos habilitantes inapropiados para el proceso de selección | F17: Claridad en la construcción de los anexos técnicos y estudios previos | H17: =+EVALUACION!I17 -> 1 | I17: =+EVALUACION!J17 -> 3 | J17: =+H17+I17 -> 4 | K17: =IF(J17<=4,"BAJO",IF(J17=5,"MEDIO",IF(J17=6,"ALTO",IF(J17=7,"ALTO","EXTREMO")))) -> BAJO | L17: NO | M17: FFDLRUU | N17: ETAPA PRECONTRACTUAL | O17: FECHA DE ADJUDICACIÓN DEL PROCESO | P17: DE MANERA INMEDIATA CUANDO SE PERSIVA O SE EVIDENCIE | Q17: DE ACUERDO A LA POSIBILIDAD DE OCURRENCIA
A18: =+EVALUACION!B18 -> PLANEACIÓN | B18: =+EVALUACION!C18 -> Inadecuado análisis económico estimativo del valor del contrato | F18: Realizar un estudio de mercado adecuado | H18: =+EVALUACION!I18 -> 1 | I18: =+EVALUACION!J18 -> 3 | J18: =+H18+I18 -> 4 | K18: =IF(J18<=4,"BAJO",IF(J18=5,"MEDIO",IF(J18=6,"ALTO",IF(J18=7,"ALTO","EXTREMO")))) -> BAJO | L18: SI | M18: FFDLRUU | N18: ETAPA PRECONTRACTUAL | O18: FECHA DE ADJUDICACIÓN DEL PROCESO | P18: DE MANERA INMEDIATA CUANDO SE PERSIVA O SE EVIDENCIE | Q18: DE ACUERDO A LA POSIBILIDAD DE OCURRENCIA
A19: =+EVALUACION!B19 -> PLANEACIÓN | B19: =+EVALUACION!C19 -> Inadecuada descripción del bien o servicio requerido | F19: Claridad en la construcción de los anexos técnicos y estudios previos | H19: =+EVALUACION!I19 -> 1 | I19: =+EVALUACION!J19 -> 3 | J19: =+H19+I19 -> 4 | K19: =IF(J19<=4,"BAJO",IF(J19=5,"MEDIO",IF(J19=6,"ALTO",IF(J19=7,"ALTO","EXTREMO")))) -> BAJO | L19: NO | M19: FFDLRUU | N19: ETAPA PRECONTRACTUAL | O19: FECHA DE ADJUDICACIÓN DEL PROCESO | P19: DE MANERA INMEDIATA CUANDO SE PERSIVA O SE EVIDENCIE | Q19: DE ACUERDO A LA POSIBILIDAD DE OCURRENCIA
A20: =+EVALUACION!B20 -> PLANEACIÓN | B20: =+EVALUACION!C20 -> Falta de profundidad en el estudio de sector no identificandose claramente aspectos de oferta y demanda | F20: Realizar un adecuado estudio del sector en el que se desarrolla el objeto contractual | H20: =+EVALUACION!I20 -> 1 | I20: =+EVALUACION!J20 -> 3 | J20: =+H20+I20 -> 4 | K20: =IF(J20<=4,"BAJO",IF(J20=5,"MEDIO",IF(J20=6,"ALTO",IF(J20=7,"ALTO","EXTREMO")))) -> BAJO | L20: SI | M20: FFDLRUU | N20: ETAPA PRECONTRACTUAL | O20: FECHA DE ADJUDICACIÓN DEL PROCESO | P20: DE MANERA INMEDIATA CUANDO SE PERSIVA O SE EVIDENCIE | Q20: DE ACUERDO A LA POSIBILIDAD DE OCURRENCIA
A21: =+EVALUACION!B21 -> PLANEACIÓN | B21: =+EVALUACION!C21 -> Ausencia de fundamentación de la justificación y conveniencia de la contratación | F21: Claridad en la construcción de los anexos técnicos y estudios previos | H21: =+EVALUACION!I21 -> 1 | I21: =+EVALUACION!J21 -> 3 | J21: =+H21+I21 -> 4 | K21: =IF(J21<=4,"BAJO",IF(J21=5,"MEDIO",IF(J21=6,"ALTO",IF(J21=7,"ALTO","EXTREMO")))) -> BAJO | L21: NO | M21: FFDLRUU | N21: ETAPA PRECONTRACTUAL | O21: FECHA DE ADJUDICACIÓN DEL PROCESO | P21: DE MANERA INMEDIATA CUANDO SE PERSIVA O SE EVIDENCIE | Q21: DE ACUERDO A LA POSIBILIDAD DE OCURRENCIA
A22: =+EVALUACION!B22 -> PLANEACIÓN | B22: =+EVALUACION!C22 -> Inadecuada identificación de las condiciones contractuales | F22: Claridad en la construcción de los anexos técnicos y estudios previos | H22: =+EVALUACION!I22 -> 1 | I22: =+EVALUACION!J22 -> 3 | J22: =+H22+I22 -> 4 | K22: =IF(J22<=4,"BAJO",IF(J22=5,"MEDIO",IF(J22=6,"ALTO",IF(J22=7,"ALTO","EXTREMO")))) -> BAJO | L22: NO | M22: FFDLRUU | N22: ETAPA PRECONTRACTUAL | O22: FECHA DE ADJUDICACIÓN DEL PROCESO | P22: DE MANERA INMEDIATA CUANDO SE PERSIVA O SE EVIDENCIE | Q22: DE ACUERDO A LA POSIBILIDAD DE OCURRENCIA
A23: =+EVALUACION!B23 -> SELECCIÓN | B23: =+EVALUACION!C23 -> Inadecuada evaluación de las ofertas y/o verificación de requisitos habilitantes | F23: Realizar una evaluación detallada con forme a pliegos de condiciones y demas requisistos | H23: =+EVALUACION!I23 -> 1 | I23: =+EVALUACION!J23 -> 3 | J23: =+H23+I23 -> 4 | K23: =IF(J23<=4,"BAJO",IF(J23=5,"MEDIO",IF(J23=6,"ALTO",IF(J23=7,"ALTO","EXTREMO")))) -> BAJO | L23: SI | M23: FFDLRUU | N23: ETAPA PRECONTRACTUAL | O23: FECHA DE ADJUDICACIÓN DEL PROCESO | P23: DE MANERA INMEDIATA CUANDO SE PERSIVA O SE EVIDENCIE | Q23: DE ACUERDO A LA POSIBILIDAD DE OCURRENCIA
A24: =+EVALUACION!B24 -> SELECCIÓN | B24: =+EVALUACION!C24 -> Inadecuado manejo administrativo del proceso contractual | F24: Realizar los procedimientos administrativos a lugar en los tiempos que se requieren | H24: =+EVALUACION!I24 -> 1 | I24: =+EVALUACION!J24 -> 3 | J24: =+H24+I24 -> 4 | K24: =IF(J24<=4,"BAJO",IF(J24=5,"MEDIO",IF(J24=6,"ALTO",IF(J24=7,"ALTO","EXTREMO")))) -> BAJO | L24: NO | M24: CONTRATISTA Y FDLRUU | N24: ETAPA DE FORMALIZACIÓN DEL CONTRATO | O24: UNA VEZ SUSCRITO Y APROBADO EL CONTRATO POR LAS PARTES | P24: DE MANERA INMEDIATA CUANDO SE PERSIVA O SE EVIDENCIE | Q24: DE ACUERDO A LA POSIBILIDAD DE OCURRENCIA
A25: =+EVALUACION!B25 -> SELECCIÓN | B25: =+EVALUACION!C25 -> Falta de claridad en la elaboración de los actos administrativos | F25: Realización clara, oportuna y adecuada de los actos administrativos | H25: =+EVALUACION!I25 -> 1 | I25: =+EVALUACION!J25 -> 3 | J25: =+H25+I25 -> 4 | K25: =IF(J25<=4,"BAJO",IF(J25=5,"MEDIO",IF(J25=6,"ALTO",IF(J25=7,"ALTO","EXTREMO")))) -> BAJO | L25: NO | M25: FFDLRUU | N25: ETAPA DE FORMALIZACIÓN DEL CONTRATO | O25: UNA VEZ SUSCRITO Y APROBADO EL CONTRATO POR LAS PARTES | P25: DE MANERA INMEDIATA CUANDO SE PERSIVA O SE EVIDENCIE | Q25: DE ACUERDO A LA POSIBILIDAD DE OCURRENCIA
A26: =+EVALUACION!B26 -> SELECCIÓN | B26: =+EVALUACION!C26 -> Contestación inoportuna a todas las observaciones formuladas a los documentos de la contratación | F26: Realizar una evaluación detallada con forme a pliegos de condiciones y demas requisistos | H26: =+EVALUACION!I26 -> 1 | I26: =+EVALUACION!J26 -> 3 | J26: =+H26+I26 -> 4 | K26: =IF(J26<=4,"BAJO",IF(J26=5,"MEDIO",IF(J26=6,"ALTO",IF(J26=7,"ALTO","EXTREMO")))) -> BAJO | L26: NO | M26: FFDLRUU | N26: ETAPA PRECONTRACTUAL | O26: FECHA DE ADJUDICACIÓN DEL PROCESO | P26: DE MANERA INMEDIATA CUANDO SE PERSIVA O SE EVIDENCIE | Q26: DE ACUERDO A LA POSIBILIDAD DE OCURRENCIA
A27: =+EVALUACION!B27 -> SELECCIÓN | B27: =+EVALUACION!C27 -> No publicación de la documentación del proceso de selección en el SECOP | F27: Realizar los procedimientos administrativos a lugar en los tiempos que se requieren | H27: =+EVALUACION!I27 -> 1 | I27: =+EVALUACION!J27 -> 3 | J27: =+H27+I27 -> 4 | K27: =IF(J27<=4,"BAJO",IF(J27=5,"MEDIO",IF(J27=6,"ALTO",IF(J27=7,"ALTO","EXTREMO")))) -> BAJO | L27: NO | M27: FFDLRUU | N27: ETAPA PRECONTRACTUAL | O27: FECHA DE ADJUDICACIÓN DEL PROCESO | P27: DE MANERA INMEDIATA CUANDO SE PERSIVA O SE EVIDENCIE | Q27: DE ACUERDO A LA POSIBILIDAD DE OCURRENCIA
... A33: =+EVALUACION!B33 -> CONTRATACIÓN | B33: =+EVALUACION!C33 -> Presentación de reclamos de terceros sobre la selección del oferente que retrasen el perfeccionamiento del contrato. | F33: Realizar una evaluación detallada con forme a pliegos de condiciones y demas requisistos | H33: =+EVALUACION!I33 -> 2 | I33: =+EVALUACION!J33 -> 3 | J33: =+H33+I33 -> 5 | K33: =IF(J33<=4,"BAJO",IF(J33=5,"MEDIO",IF(J33=6,"ALTO",IF(J33=7,"ALTO","EXTREMO")))) -> MEDIO | L33: NO | M33: FFDLRUU | N33: ETAPA DE FORMALIZACIÓN DEL CONTRATO | O33: UNA VEZ SUSCRITO Y APROBADO EL CONTRATO POR LAS PARTES | P33: DE MANERA INMEDIATA CUANDO SE PERSIVA O SE EVIDENCIE | Q33: DE ACUERDO A LA POSIBILIDAD DE OCURRENCIA
A34: =+EVALUACION!B34 -> EJECUCIÓN | B34: =+[2]EVALUACION!C34 -> Fluctuaciones del valor de la moneda | F34: Velar por la ejecución dentro de los tiempos pactados al inicio del proceso contractual | H34: =+EVALUACION!I34 -> 2 | I34: =+EVALUACION!J34 -> 4 | J34: =+H34+I34 -> 6 | K34: =IF(J34<=4,"BAJO",IF(J34=5,"MEDIO",IF(J34=6,"ALTO",IF(J34=7,"ALTO","EXTREMO")))) -> ALTO | L34: SI | M34: CONTRATISTA Y FDLRUU | N34: UNA VEZ SUSCRITA EL ACTA DE INICIO | O34: UNA VEZ SE CUENTE CON EJECUCIÓN FÍSICA Y FINANCIERA DEL 100% | P34: DE MANERA INMEDIATA CUANDO SE PERSIVA O SE EVIDENCIE | Q34: DE ACUERDO A LA POSIBILIDAD DE OCURRENCIA
A35: =+EVALUACION!B35 -> EJECUCIÓN | B35: =+[2]EVALUACION!C35 -> Variación de los precios del mercado | F35: Velar por la ejecución dentro de los tiempos pactados al inicio del proceso contractual | H35: =+EVALUACION!I35 -> 2 | I35: =+EVALUACION!J35 -> 4 | J35: =+H35+I35 -> 6 | K35: =IF(J35<=4,"BAJO",IF(J35=5,"MEDIO",IF(J35=6,"ALTO",IF(J35=7,"ALTO","EXTREMO")))) -> ALTO | L35: SI | M35: CONTRATISTA Y FDLRUU | N35: UNA VEZ SUSCRITA EL ACTA DE INICIO | O35: UNA VEZ SE CUENTE CON EJECUCIÓN FÍSICA Y FINANCIERA DEL 100% | P35: DE MANERA INMEDIATA CUANDO SE PERSIVA O SE EVIDENCIE | Q35: DE ACUERDO A LA POSIBILIDAD DE OCURRENCIA
A36: =+EVALUACION!B36 -> EJECUCIÓN | B36: =+[2]EVALUACION!C36 -> Factores políticos o macroeconómicos. | F36: Verificación continua del estado de expedición de normas relacionadas con la modalidad del contrato y el objeto del mismo y en caso de que se presenten cambios significativos realizar un análisis desde un punto de vista técnico jurídico y financiero a fin de proceder con las modificaciones contractuales que sean requeridas | H36: =+EVALUACION!I36 -> 1 | I36: =+EVALUACION!J36 -> 3 | J36: =+H36+I36 -> 4 | K36: =IF(J36<=4,"BAJO",IF(J36=5,"MEDIO",IF(J36=6,"ALTO",IF(J36=7,"ALTO","EXTREMO")))) -> BAJO | L36: SI | M36: CONTRATISTA Y FDLRUU | N36: DESDE LA ETAPA PRECONTRACTUAL HASTA LA FINALIZACIÓN DEL PROCESO | O36: UNA VEZ SE CUENTE CON EJECUCIÓN FÍSICA Y FINANCIERA DEL 100% | P36: DE MANERA INMEDIATA CUANDO SE PERSIVA O SE EVIDENCIE | Q36: DE ACUERDO A LA POSIBILIDAD DE OCURRENCIA
A37: =+EVALUACION!B37 -> EJECUCIÓN | B37: =+[2]EVALUACION!C37 -> Variación en la disponibilidad o en el costo de los insumos necesarios para prestar los servicios. | F37: Contemplar formas alternativas para iniciar tramites contractuales para procedimiento sancionatori, a través de la ejecución de las garantías suscritas. | H37: =+EVALUACION!I37 -> 2 | I37: =+EVALUACION!J37 -> 4 | J37: =+H37+I37 -> 6 | K37: =IF(J37<=4,"BAJO",IF(J37=5,"MEDIO",IF(J37=6,"ALTO",IF(J37=7,"ALTO","EXTREMO")))) -> ALTO | L37: SI | M37: CONTRATISTA | N37: UNA VEZ SUSCRITA EL ACTA DE INICIO | O37: UNA VEZ SE CUENTE CON EJECUCIÓN FÍSICA Y FINANCIERA DEL 100% | P37: DE MANERA INMEDIATA CUANDO SE PERSIVA O SE EVIDENCIE | Q37: DE ACUERDO A LA POSIBILIDAD DE OCURRENCIA
A38: =+EVALUACION!B38 -> EJECUCIÓN | B38: =+[2]EVALUACION!C38 -> Incumplimiento de compromisos adquiridos por el contratista seleccionado con sus subcontratistas, suministradores de bienes y servicios. | F38: Contar con alternativas para el suministro de insumos para la realización de las actividades pactadas | H38: =+EVALUACION!I38 -> 1 | I38: =+EVALUACION!J38 -> 3 | J38: =+H38+I38 -> 4 | K38: =IF(J38<=4,"BAJO",IF(J38=5,"MEDIO",IF(J38=6,"ALTO",IF(J38=7,"ALTO","EXTREMO")))) -> BAJO | L38: SI | M38: CONTRATISTA | N38: UNA VEZ SUSCRITA EL ACTA DE INICIO | O38: UNA VEZ SE CUENTE CON EJECUCIÓN FÍSICA Y FINANCIERA DEL 100% | P38: DE MANERA INMEDIATA CUANDO SE PERSIVA O SE EVIDENCIE | Q38: DE ACUERDO A LA POSIBILIDAD DE OCURRENCIA
A39: =+EVALUACION!B39 -> EJECUCIÓN | B39: =+[2]EVALUACION!C39 -> Incumplimiento de la administración en los pagos. | F39: Verificación estricta por parte de la supervisión del cumplimiento de las condiciones y requisitos requeridos para la prestación del servicio | H39: =+EVALUACION!I39 -> 3 | I39: =+EVALUACION!J39 -> 4 | J39: =+H39+I39 -> 7 | K39: =IF(J39<=4,"BAJO",IF(J39=5,"MEDIO",IF(J39=6,"ALTO",IF(J39=7,"ALTO","EXTREMO")))) -> ALTO | L39: SI | M39: CONTRATISTA Y FDLRUU | N39: UNA VEZ SUSCRITA EL ACTA DE INICIO | O39: UNA VEZ SE CUENTE CON EJECUCIÓN FÍSICA Y FINANCIERA DEL 100% | P39: DE MANERA INMEDIATA CUANDO SE PERSIVA O SE EVIDENCIE | Q39: DE ACUERDO A LA POSIBILIDAD DE OCURRENCIA
A40: =+EVALUACION!B40 -> EJECUCIÓN | B40: =+[2]EVALUACION!C40 -> Cambios en el marco regulatorio o normatividad aplicable al proyecto. | F40: Realizar los procedimientos administrativos a lugar en los tiempos que se requieren | H40: =+EVALUACION!I40 -> 1 | I40: =+EVALUACION!J40 -> 3 | J40: =+H40+I40 -> 4 | K40: =IF(J40<=4,"BAJO",IF(J40=5,"MEDIO",IF(J40=6,"ALTO",IF(J40=7,"ALTO","EXTREMO")))) -> BAJO | L40: SI | M40: CONTRATISTA Y FDLRUU | N40: UNA VEZ SUSCRITA EL ACTA DE INICIO | O40: UNA VEZ SE CUENTE CON EJECUCIÓN FÍSICA Y FINANCIERA DEL 100% | P40: DE MANERA INMEDIATA CUANDO SE PERSIVA O SE EVIDENCIE | Q40: DE ACUERDO A LA POSIBILIDAD DE OCURRENCIA
A41: =+EVALUACION!B41 -> EJECUCIÓN | B41: =+[2]EVALUACION!C41 -> Nuevos desarrollos técnologicos o estandares que influyen en la ejecución del contrato | F41: Verificación continua del estado de expedición de normas relacionadas con la modalidad del contrato y el objeto del mismo y en caso de que se presenten cambios significativos realizar un análisis desde un punto de vista técnico jurídico y financiero a fin de proceder con las modificaciones contractuales que sean requeridas | H41: =+EVALUACION!I41 -> 1 | I41: =+EVALUACION!J41 -> 3 | J41: =+H41+I41 -> 4 | K41: =IF(J41<=4,"BAJO",IF(J41=5,"MEDIO",IF(J41=6,"ALTO",IF(J41=7,"ALTO","EXTREMO")))) -> BAJO | L41: NO | M41: CONTRATISTA Y FDLRUU | N41: UNA VEZ SUSCRITA EL ACTA DE INICIO | O41: UNA VEZ SE CUENTE CON EJECUCIÓN FÍSICA Y FINANCIERA DEL 100% | P41: DE MANERA INMEDIATA CUANDO SE PERSIVA O SE EVIDENCIE | Q41: DE ACUERDO A LA POSIBILIDAD DE OCURRENCIA
A42: =+EVALUACION!B42 -> EJECUCIÓN | B42: =+[2]EVALUACION!C42 -> Eventos naturales tales como lluvias, inundaciones y sequias entre otros | F42: Verificación continua del estado de expedición de normas relacionadas con la modalidad del contrato y el objeto del mismo y en caso de que se presenten cambios significativos realizar un análisis desde un punto de vista técnico jurídico y financiero a fin de proceder con las modificaciones contractuales que sean requeridas | H42: =+EVALUACION!I42 -> 1 | I42: =+EVALUACION!J42 -> 2 | J42: =+H42+I42 -> 3 | K42: =IF(J42<=4,"BAJO",IF(J42=5,"MEDIO",IF(J42=6,"ALTO",IF(J42=7,"ALTO","EXTREMO")))) -> BAJO | L42: NO | M42: CONTRATISTA | N42: UNA VEZ SUSCRITA EL ACTA DE INICIO | O42: UNA VEZ SE CUENTE CON EJECUCIÓN FÍSICA Y FINANCIERA DEL 100% | P42: DE MANERA INMEDIATA CUANDO SE PERSIVA O SE EVIDENCIE | Q42: DE ACUERDO A LA POSIBILIDAD DE OCURRENCIA
A43: =+EVALUACION!B43 -> EJECUCIÓN | B43: =+[2]EVALUACION!C43 -> Vinculación extemporánea de los profesionales y/o facilitadores por causas externas al conveniante. | F43: Verificación de la vinculación de los profesionales de formación acorde con el anexo técnico, una vez sea formalizado el contrato. | H43: 2 | I43: 1 | J43: 3 | K43: =IF(J43<=4,"BAJO",IF(J43=5,"MEDIO",IF(J43=6,"ALTO",IF(J43=7,"ALTO","EXTREMO")))) -> BAJO | L43: NO | M43: CONTRATISTA | N43: UNA VEZ SUSCRITA EL ACTA DE INICIO | O43: UNA VEZ SE CUENTE CON EJECUCIÓN FÍSICA Y FINANCIERA DEL 100% | P43: DE MANERA INMEDIATA CUANDO SE PERSIVA O SE EVIDENCIE | Q43: DE ACUERDO A LA POSIBILIDAD DE OCURRENCIA
A44: =+EVALUACION!B44 -> EJECUCIÓN | B44: Baja participación de los beneficiarios a los talleres de sensibilización | F44: Inscripcion del doble de propuestas que permita tomar otra en lista que pueda empezar el proceso inmediatamente. Acta de compromiso al iniciar el proyecto firmada por cada benefiiario con el fin de evitar la desercion y garantizar el cuidado del recurso . | H44: 1 | I44: 2 | J44: 3 | K44: =IF(J44<=4,"BAJO",IF(J44=5,"MEDIO",IF(J44=6,"ALTO",IF(J44=7,"ALTO","EXTREMO")))) -> BAJO | L44: NO | M44: CONTRATISTA | N44: DURANTE CUALQUIER TIEMPO EN LA EJECUCIÓN | O44: UNA VEZ SE CUENTE CON EJECUCIÓN FÍSICA Y FINANCIERA DEL 100% | P44: DE MANERA INMEDIATA CUANDO SE PERSIVA O SE EVIDENCIE | Q44: DE ACUERDO A LA POSIBILIDAD DE OCURRENCIA
A45: =+EVALUACION!B45 -> EJECUCIÓN | B45: Contigencias por el contratista en la entrega de las áeas mantenidas en campo | F45: Realizar seguimiento y verificación de las areas a intervenir de manera semanal que concuerde con las actividades plasmadas en el cronograma de ejecución | H45: 2 | I45: 2 | J45: 4 | K45: =IF(J45<=4,"BAJO",IF(J45=5,"MEDIO",IF(J45=6,"ALTO",IF(J45=7,"ALTO","EXTREMO")))) -> BAJO | L45: SI | M45: CONTRATISTA | N45: UNA VEZ SUSCRITA EL ACTA DE INICIO | O45: UNA VEZ SE CUENTE CON EJECUCIÓN FÍSICA Y FINANCIERA DEL 100% | P45: DE MANERA INMEDIATA CUANDO SE PERSIVA O SE EVIDENCIE | Q45: DE ACUERDO A LA POSIBILIDAD DE OCURRENCIA
A46: =+EVALUACION!B46 -> EJECUCIÓN | B46: No contar con los espacios abiertos adecuados para realizar las actividades de capacitación/sensibilización | F46: Transferir el riesgo. Exigir al contratista la suscripción de una póliza que tenga cobertura como la calidad de los Bienes y/o Servicios y el Cumplimiento en la entrega de los mismos. | H46: 3 | I46: 4 | J46: 7 | K46: =IF(J46<=4,"BAJO",IF(J46=5,"MEDIO",IF(J46=6,"ALTO",IF(J46=7,"ALTO","EXTREMO")))) -> ALTO | L46: SI | M46: CONTRATISTA | N46: UNA VEZ SUSCRITA EL ACTA DE INICIO | O46: UNA VEZ SE CUENTE CON EJECUCIÓN FÍSICA Y FINANCIERA DEL 100% | P46: DE MANERA INMEDIATA CUANDO SE PERSIVA O SE EVIDENCIE | Q46: DE ACUERDO A LA POSIBILIDAD DE OCURRENCIA
A47: =+EVALUACION!B47 -> EJECUCIÓN | B47: Incumplimiento en la realización de las actividades asignadas de acuerdo a las obligaciones contractuales | F47: Realizar Control y verificación de la ejecución y aplicación de las clausulas del contrato . | H47: 3 | I47: 4 | J47: 7 | K47: =IF(J47<=4,"BAJO",IF(J47=5,"MEDIO",IF(J47=6,"ALTO",IF(J47=7,"ALTO","EXTREMO")))) -> ALTO | L47: SI | M47: CONTRATISTA | N47: UNA VEZ SUSCRITA EL ACTA DE INICIO | O47: UNA VEZ SE CUENTE CON EJECUCIÓN FÍSICA Y FINANCIERA DEL 100% | P47: DE MANERA INMEDIATA CUANDO SE PERSIVA O SE EVIDENCIE | Q47: DE ACUERDO A LA POSIBILIDAD DE OCURRENCIA
A48: =+EVALUACION!B48 -> EJECUCIÓN | B48: Incumplimiento en los tiempos de entrega y/o en la calidad de los bienes y/o servicios contratados | F48: Exigir al contratista la suscripción de una poliza que tenga coberturas como la calidad de los bienes y/o servicios y el cumplimiento de la entrega de los mismos, planeación técnica del cronograma de actividades | H48: 3 | I48: 4 | J48: 7 | K48: =IF(J48<=4,"BAJO",IF(J48=5,"MEDIO",IF(J48=6,"ALTO",IF(J48=7,"ALTO","EXTREMO")))) -> ALTO | L48: SI | M48: CONTRATISTA | N48: UNA VEZ SUSCRITA EL ACTA DE INICIO | O48: UNA VEZ SE CUENTE CON EJECUCIÓN FÍSICA Y FINANCIERA DEL 100% | P48: DE MANERA INMEDIATA CUANDO SE PERSIVA O SE EVIDENCIE | Q48: DE ACUERDO A LA POSIBILIDAD DE OCURRENCIA
A49: =+EVALUACION!B49 -> EJECUCIÓN | B49: Incumplimiento en el cronograma de pagos por radicación fuera de fecha (fuera del PAC), documentación incompleta | F49: Hacer seguimiento y requerimientos de radicación y entrega adecuada de la documentación requerida para pago. | H49: 2 | I49: 4 | J49: 6 | K49: =IF(J49<=4,"BAJO",IF(J49=5,"MEDIO",IF(J49=6,"ALTO",IF(J49=7,"ALTO","EXTREMO")))) -> ALTO | L49: SI | M49: CONTRATISTA | N49: UNA VEZ SUSCRITA EL ACTA DE INICIO | O49: UNA VEZ SE CUENTE CON EJECUCIÓN FÍSICA Y FINANCIERA DEL 100% | P49: DE MANERA INMEDIATA CUANDO SE PERSIVA O SE EVIDENCIE | Q49: DE ACUERDO A LA POSIBILIDAD DE OCURRENCIA
A50: EJECUCIÓN | B50: Beneficiarios de los procesos de formacion e implementación de PROCEDAS desistan | F50: Inscripcion del doble de propuestas que permita tomar otra en lista que pueda empezar el proceso inmediatamente. Acta de compromiso al iniciar el proyecto firmada por cada benefiiario con el fin de evitar la desercion y garantizar el cuidado del recurso . | H50: 1 | I50: 1 | J50: 2 | K50: =IF(J50<=4,"BAJO",IF(J50=5,"MEDIO",IF(J50=6,"ALTO",IF(J50=7,"ALTO","EXTREMO")))) -> BAJO | L50: SI | M50: CONTRATISTA | N50: UNA VEZ SUSCRITA EL ACTA DE INICIO | O50: UNA VEZ SE CUENTE CON EJECUCIÓN FÍSICA Y FINANCIERA DEL 100% | P50: DE MANERA INMEDIATA CUANDO SE PERSIVA O SE EVIDENCIE | Q50: DE ACUERDO A LA POSIBILIDAD DE OCURRENCIA
...

Sheet ASIGNACION Y TRATAMIENTO
D2: MATRIZ DE RIESGOS DE CONTRATACIÓN SECTOR AMIBIENTE | V2: Código: GCO-GCI-F164 Versión: 01 Vigencia: 16 diciembre de 2021 Caso HOLA: 206942
B6: OBJETO: “CONTRATAR LA PRESTACIÓN DE SERVICIOS PARA LA EJECUCIÓN DE LAS METAS DE LOS PROYECTOS DE INVERSIÓN No. 2635 ‘REVERDECIENDO RAFAEL URIBE URIBE’ y 2700 ‘RESTAURACIÓN ECOLÓGICA INTEGRAL EN RAFAEL URIBE URIBE’ , A TRAVÉS DEL DESARROLLO DE ACCIONES DE RESTAURACIÓN ECOLÓGICA, EDUCACIÓN AMBIENTAL, AGRICULTURA URBANA, JARDINERÍA, ARBOLADO URBANO Y GESTIÓN INTEGRAL DE RESIDUOS SÓLIDOS EN LA LOCALIDAD DE RAFAEL URIBE URIBE”
B7: IDENTIFICACIÓN, ANALISIS, EVALUACIÓN , ASIGNACIÓN Y TRATAMIENTO DE RIESGOS EN LA CONTRATACIÓN
B8: Esta matriz es un documento anexo del Estudio Previo
B10: No | C10: Descripción (Que puede pasar y, cómo puede ocurrir) | D10: Etapa | E10: Clase | F10: Fuente | G10: Consecuencias de la ocurrencia del evento | H10: Probabilidad | I10: Impacto | J10: Calificación total | K10: Prioridad | L10: ¿A quien se le asigna? | M10: Tratamiento/Controles a ser implementados | N10: Probabilidad | O10: Impacto | P10: Calificación total | Q10: Prioridad | R10: ¿Afecta el equilibrio económico del contrato? | S10: Persona responsable por implementar el tratamiento | T10: Fecha estimada en que se inicia el tratamiento | U10: Fecha estimada en que se completa el tratamiento | V10: ¿Cómo se realiza el monitoreo | W10: Periodicidad ¿Cuándo?
B11: 1 | C11: =+'EVALUACION CON CONTROLES'!B16 -> Inadecuada escogencia de la modalidad de contratación | D11: =+'EVALUACION CON CONTROLES'!A16 -> PLANEACIÓN | E11: =VLOOKUP(C11,'IDENTIFICACION Y ANALISIS'!$B$19:$F$54,3,FALSE) -> General | F11: =VLOOKUP(C11,'IDENTIFICACION Y ANALISIS'!$B$19:$F$54,4,FALSE) -> Interno | G11: =+EVALUACION!H16 -> Retraso en la ejecución de las labores como consecuencia del error en la seleción de la modalidad de contratación | H11: =+EVALUACION!I16 -> 1 | I11: =+EVALUACION!J16 -> 2 | J11: =+EVALUACION!K16 -> 3 | K11: =+EVALUACION!L16 -> BAJO | L11: FFDLRUU | M11: =+'EVALUACION CON CONTROLES'!F16 -> Realizar una evaluación detallada con forme a pliegos de condiciones y demas requisistos | N11: =+'EVALUACION CON CONTROLES'!H16 -> 1 | O11: =+'EVALUACION CON CONTROLES'!I16 -> 2 | P11: =+'EVALUACION CON CONTROLES'!J16 -> 3 | Q11: =+'EVALUACION CON CONTROLES'!K16 -> BAJO | R11: =+'EVALUACION CON CONTROLES'!L16 -> NO | S11: =+'EVALUACION CON CONTROLES'!M16 -> FFDLRUU | T11: =+'EVALUACION CON CONTROLES'!N16 -> ETAPA PRECONTRACTUAL | U11: =+'EVALUACION CON CONTROLES'!O16 -> FECHA DE ADJUDICACIÓN DEL PROCESO | ... W11: =+'EVALUACION CON CONTROLES'!Q16 -> DE ACUERDO A LA POSIBILIDAD DE OCURRENCIA
B12: 2 | C12: =+'EVALUACION CON CONTROLES'!B17 -> Requisitos habilitantes inapropiados para el proceso de selección | D12: =+'EVALUACION CON CONTROLES'!A17 -> PLANEACIÓN | E12: =VLOOKUP(C12,'IDENTIFICACION Y ANALISIS'!$B$19:$F$54,3,FALSE) -> General | F12: =VLOOKUP(C12,'IDENTIFICACION Y ANALISIS'!$B$19:$F$54,4,FALSE) -> Interno | G12: =+EVALUACION!H17 -> No adjudicación del proceso | H12: =+EVALUACION!I17 -> 1 | I12: =+EVALUACION!J17 -> 3 | J12: =+EVALUACION!K17 -> 4 | K12: =+EVALUACION!L17 -> BAJO | L12: FFDLRUU | M12: =+'EVALUACION CON CONTROLES'!F17 -> Claridad en la construcción de los anexos técnicos y estudios previos | N12: =+'EVALUACION CON CONTROLES'!H17 -> 1 | O12: =+'EVALUACION CON CONTROLES'!I17 -> 3 | P12: =+'EVALUACION CON CONTROLES'!J17 -> 4 | Q12: =+'EVALUACION CON CONTROLES'!K17 -> BAJO | R12: =+'EVALUACION CON CONTROLES'!L17 -> NO | S12: =+'EVALUACION CON CONTROLES'!M17 -> FFDLRUU | T12: =+'EVALUACION CON CONTROLES'!N17 -> ETAPA PRECONTRACTUAL | U12: =+'EVALUACION CON CONTROLES'!O17 -> FECHA DE ADJUDICACIÓN DEL PROCESO | ... W12: =+'EVALUACION CON CONTROLES'!Q17 -> DE ACUERDO A LA POSIBILIDAD DE OCURRENCIA
B13: 3 | C13: =+'EVALUACION CON CONTROLES'!B18 -> Inadecuado análisis económico estimativo del valor del contrato | D13: =+'EVALUACION CON CONTROLES'!A18 -> PLANEACIÓN | E13: =VLOOKUP(C13,'IDENTIFICACION Y ANALISIS'!$B$19:$F$54,3,FALSE) -> General | F13: =VLOOKUP(C13,'IDENTIFICACION Y ANALISIS'!$B$19:$F$54,4,FALSE) -> Interno | G13: =+EVALUACION!H18 -> No adjudicación del proceso | H13: =+EVALUACION!I18 -> 1 | I13: =+EVALUACION!J18 -> 3 | J13: =+EVALUACION!K18 -> 4 | K13: =+EVALUACION!L18 -> BAJO | L13: FFDLRUU | M13: =+'EVALUACION CON CONTROLES'!F18 -> Realizar un estudio de mercado adecuado | N13: =+'EVALUACION CON CONTROLES'!H18 -> 1 | O13: =+'EVALUACION CON CONTROLES'!I18 -> 3 | P13: =+'EVALUACION CON CONTROLES'!J18 -> 4 | Q13: =+'EVALUACION CON CONTROLES'!K18 -> BAJO | R13: =+'EVALUACION CON CONTROLES'!L18 -> SI | S13: =+'EVALUACION CON CONTROLES'!M18 -> FFDLRUU | T13: =+'EVALUACION CON CONTROLES'!N18 -> ETAPA PRECONTRACTUAL | U13: =+'EVALUACION CON CONTROLES'!O18 -> FECHA DE ADJUDICACIÓN DEL PROCESO | ... W13: =+'EVALUACION CON CONTROLES'!Q18 -> DE ACUERDO A LA POSIBILIDAD DE OCURRENCIA
B14: 4 | C14: =+'EVALUACION CON CONTROLES'!B19 -> Inadecuada descripción del bien o servicio requerido | D14: =+'EVALUACION CON CONTROLES'!A19 -> PLANEACIÓN | E14: =VLOOKUP(C14,'IDENTIFICACION Y ANALISIS'!$B$19:$F$54,3,FALSE) -> Estatal | F14: =VLOOKUP(C14,'IDENTIFICACION Y ANALISIS'!$B$19:$F$54,4,FALSE) -> Interno | G14: =+EVALUACION!H19 -> Retraso en la ejecución de las labores como consecuencia del error en la descripción del bien o servicio requerido | H14: =+EVALUACION!I19 -> 1 | I14: =+EVALUACION!J19 -> 3 | J14: =+EVALUACION!K19 -> 4 | K14: =+EVALUACION!L19 -> BAJO | L14: FFDLRUU | M14: =+'EVALUACION CON CONTROLES'!F19 -> Claridad en la construcción de los anexos técnicos y estudios previos | N14: =+'EVALUACION CON CONTROLES'!H19 -> 1 | O14: =+'EVALUACION CON CONTROLES'!I19 -> 3 | P14: =+'EVALUACION CON CONTROLES'!J19 -> 4 | Q14: =+'EVALUACION CON CONTROLES'!K19 -> BAJO | R14: =+'EVALUACION CON CONTROLES'!L19 -> NO | S14: =+'EVALUACION CON CONTROLES'!M19 -> FFDLRUU | T14: =+'EVALUACION CON CONTROLES'!N19 -> ETAPA PRECONTRACTUAL | U14: =+'EVALUACION CON CONTROLES'!O19 -> FECHA DE ADJUDICACIÓN DEL PROCESO | ... W14: =+'EVALUACION CON CONTROLES'!Q19 -> DE ACUERDO A LA POSIBILIDAD DE OCURRENCIA
B15: 5 | C15: =+'EVALUACION CON CONTROLES'!B20 -> Falta de profundidad en el estudio de sector no identificandose claramente aspectos de oferta y demanda | D15: =+'EVALUACION CON CONTROLES'!A20 -> PLANEACIÓN | E15: =VLOOKUP(C15,'IDENTIFICACION Y ANALISIS'!$B$19:$F$54,3,FALSE) -> Estatal | F15: =VLOOKUP(C15,'IDENTIFICACION Y ANALISIS'!$B$19:$F$54,4,FALSE) -> Interno | G15: =+EVALUACION!H20 -> Retraso en la ejecución de las labores como consecuencia de las deficiencias en la construcción del estudio de sector | H15: =+EVALUACION!I20 -> 1 | I15: =+EVALUACION!J20 -> 3 | J15: =+EVALUACION!K20 -> 4 | K15: =+EVALUACION!L20 -> BAJO | L15: FFDLRUU | M15: =+'EVALUACION CON CONTROLES'!F20 -> Realizar un adecuado estudio del sector en el que se desarrolla el objeto contractual | N15: =+'EVALUACION CON CONTROLES'!H20 -> 1 | O15: =+'EVALUACION CON CONTROLES'!I20 -> 3 | P15: =+'EVALUACION CON CONTROLES'!J20 -> 4 | Q15: =+'EVALUACION CON CONTROLES'!K20 -> BAJO | R15: =+'EVALUACION CON CONTROLES'!L20 -> SI | S15: =+'EVALUACION CON CONTROLES'!M20 -> FFDLRUU | T15: =+'EVALUACION CON CONTROLES'!N20 -> ETAPA PRECONTRACTUAL | U15: =+'EVALUACION CON CONTROLES'!O20 -> FECHA DE ADJUDICACIÓN DEL PROCESO | ... W15: =+'EVALUACION CON CONTROLES'!Q20 -> DE ACUERDO A LA POSIBILIDAD DE OCURRENCIA
B16: 6 | C16: =+'EVALUACION CON CONTROLES'!B21 -> Ausencia de fundamentación de la justificación y conveniencia de la contratación | D16: =+'EVALUACION CON CONTROLES'!A21 -> PLANEACIÓN | E16: =VLOOKUP(C16,'IDENTIFICACION Y ANALISIS'!$B$19:$F$54,3,FALSE) -> Estatal | F16: =VLOOKUP(C16,'IDENTIFICACION Y ANALISIS'!$B$19:$F$54,4,FALSE) -> Interno | G16: =+EVALUACION!H21 -> Retraso en la ejecución de las labores como consecuencia de las deficiencias en la construcción de la justificación y/o la conveniencia de la contratación | H16: =+EVALUACION!I21 -> 1 | I16: =+EVALUACION!J21 -> 3 | J16: =+EVALUACION!K21 -> 4 | K16: =+EVALUACION!L21 -> BAJO | L16: FFDLRUU | M16: =+'EVALUACION CON CONTROLES'!F21 -> Claridad en la construcción de los anexos técnicos y estudios previos | N16: =+'EVALUACION CON CONTROLES'!H21 -> 1 | O16: =+'EVALUACION CON CONTROLES'!I21 -> 3 | P16: =+'EVALUACION CON CONTROLES'!J21 -> 4 | Q16: =+'EVALUACION CON CONTROLES'!K21 -> BAJO | R16: =+'EVALUACION CON CONTROLES'!L21 -> NO | S16: =+'EVALUACION CON CONTROLES'!M21 -> FFDLRUU | T16: =+'EVALUACION CON CONTROLES'!N21 -> ETAPA PRECONTRACTUAL | U16: =+'EVALUACION CON CONTROLES'!O21 -> FECHA DE ADJUDICACIÓN DEL PROCESO | ... W16: =+'EVALUACION CON CONTROLES'!Q21 -> DE ACUERDO A LA POSIBILIDAD DE OCURRENCIA
B17: 7 | C17: =+'EVALUACION CON CONTROLES'!B22 -> Inadecuada identificación de las condiciones contractuales | D17: =+'EVALUACION CON CONTROLES'!A22 -> PLANEACIÓN | E17: =VLOOKUP(C17,'IDENTIFICACION Y ANALISIS'!$B$19:$F$54,3,FALSE) -> Estatal | F17: =VLOOKUP(C17,'IDENTIFICACION Y ANALISIS'!$B$19:$F$54,4,FALSE) -> Interno | G17: =+EVALUACION!H22 -> Retraso en la ejecución de las labores como consecuencia de la inadecuada identificación de las condiciones contractuales | H17: =+EVALUACION!I22 -> 1 | I17: =+EVALUACION!J22 -> 3 | J17: =+EVALUACION!K22 -> 4 | K17: =+EVALUACION!L22 -> BAJO | L17: FFDLRUU | M17: =+'EVALUACION CON CONTROLES'!F22 -> Claridad en la construcción de los anexos técnicos y estudios previos | N17: =+'EVALUACION CON CONTROLES'!H22 -> 1 | O17: =+'EVALUACION CON CONTROLES'!I22 -> 3 | P17: =+'EVALUACION CON CONTROLES'!J22 -> 4 | Q17: =+'EVALUACION CON CONTROLES'!K22 -> BAJO | R17: =+'EVALUACION CON CONTROLES'!L22 -> NO | S17: =+'EVALUACION CON CONTROLES'!M22 -> FFDLRUU | T17: =+'EVALUACION CON CONTROLES'!N22 -> ETAPA PRECONTRACTUAL | U17: =+'EVALUACION CON CONTROLES'!O22 -> FECHA DE ADJUDICACIÓN DEL PROCESO | ... W17: =+'EVALUACION CON CONTROLES'!Q22 -> DE ACUERDO A LA POSIBILIDAD DE OCURRENCIA
B18: 8 | C18: =+'EVALUACION CON CONTROLES'!B23 -> Inadecuada evaluación de las ofertas y/o verificación de requisitos habilitantes | D18: =+'EVALUACION CON CONTROLES'!A23 -> SELECCIÓN | E18: =VLOOKUP(C18,'IDENTIFICACION Y ANALISIS'!$B$19:$F$54,3,FALSE) -> General | F18: =VLOOKUP(C18,'IDENTIFICACION Y ANALISIS'!$B$19:$F$54,4,FALSE) -> Interno | G18: =+EVALUACION!H23 -> No adjudicación del proceso | H18: =+EVALUACION!I23 -> 1 | I18: =+EVALUACION!J23 -> 3 | J18: =+EVALUACION!K23 -> 4 | K18: =+EVALUACION!L23 -> BAJO | L18: FFDLRUU | M18: =+'EVALUACION CON CONTROLES'!F23 -> Realizar una evaluación detallada con forme a pliegos de condiciones y demas requisistos | N18: =+'EVALUACION CON CONTROLES'!H23 -> 1 | O18: =+'EVALUACION CON CONTROLES'!I23 -> 3 | P18: =+'EVALUACION CON CONTROLES'!J23 -> 4 | Q18: =+'EVALUACION CON CONTROLES'!K23 -> BAJO | R18: =+'EVALUACION CON CONTROLES'!L23 -> SI | S18: =+'EVALUACION CON CONTROLES'!M23 -> FFDLRUU | T18: =+'EVALUACION CON CONTROLES'!N23 -> ETAPA PRECONTRACTUAL | U18: =+'EVALUACION CON CONTROLES'!O23 -> FECHA DE ADJUDICACIÓN DEL PROCESO | ... W18: =+'EVALUACION CON CONTROLES'!Q23 -> DE ACUERDO A LA POSIBILIDAD DE OCURRENCIA
B19: 9 | C19: =+'EVALUACION CON CONTROLES'!B24 -> Inadecuado manejo administrativo del proceso contractual | D19: =+'EVALUACION CON CONTROLES'!A24 -> SELECCIÓN | E19: =VLOOKUP(C19,'IDENTIFICACION Y ANALISIS'!$B$19:$F$54,3,FALSE) -> Especifico | F19: =VLOOKUP(C19,'IDENTIFICACION Y ANALISIS'!$B$19:$F$54,4,FALSE) -> Interno | G19: =+EVALUACION!H24 -> No adjudicación del proceso | H19: =+EVALUACION!I24 -> 1 | I19: =+EVALUACION!J24 -> 3 | J19: =+EVALUACION!K24 -> 4 | K19: =+EVALUACION!L24 -> BAJO | L19: CONTRATISTA Y FDLRUU | M19: =+'EVALUACION CON CONTROLES'!F24 -> Realizar los procedimientos administrativos a lugar en los tiempos que se requieren | N19: =+'EVALUACION CON CONTROLES'!H24 -> 1 | O19: =+'EVALUACION CON CONTROLES'!I24 -> 3 | P19: =+'EVALUACION CON CONTROLES'!J24 -> 4 | Q19: =+'EVALUACION CON CONTROLES'!K24 -> BAJO | R19: =+'EVALUACION CON CONTROLES'!L24 -> NO | S19: =+'EVALUACION CON CONTROLES'!M24 -> CONTRATISTA Y FDLRUU | T19: =+'EVALUACION CON CONTROLES'!N24 -> ETAPA DE FORMALIZACIÓN DEL CONTRATO | U19: =+'EVALUACION CON CONTROLES'!O24 -> UNA VEZ SUSCRITO Y APROBADO EL CONTRATO POR LAS PARTES | ... W19: =+'EVALUACION CON CONTROLES'!Q24 -> DE ACUERDO A LA POSIBILIDAD DE OCURRENCIA
B20: 10 | C20: =+'EVALUACION CON CONTROLES'!B25 -> Falta de claridad en la elaboración de los actos administrativos | D20: =+'EVALUACION CON CONTROLES'!A25 -> SELECCIÓN | E20: =VLOOKUP(C20,'IDENTIFICACION Y ANALISIS'!$B$19:$F$54,3,FALSE) -> Estatal | F20: =VLOOKUP(C20,'IDENTIFICACION Y ANALISIS'!$B$19:$F$54,4,FALSE) -> Interno | G20: =+EVALUACION!H25 -> Retraso en el inicio de la ejecución de las labores | H20: =+EVALUACION!I25 -> 1 | I20: =+EVALUACION!J25 -> 3 | J20: =+EVALUACION!K25 -> 4 | K20: =+EVALUACION!L25 -> BAJO | L20: FFDLRUU | M20: =+'EVALUACION CON CONTROLES'!F25 -> Realización clara, oportuna y adecuada de los actos administrativos | N20: =+'EVALUACION CON CONTROLES'!H25 -> 1 | O20: =+'EVALUACION CON CONTROLES'!I25 -> 3 | P20: =+'EVALUACION CON CONTROLES'!J25 -> 4 | Q20: =+'EVALUACION CON CONTROLES'!K25 -> BAJO | R20: =+'EVALUACION CON CONTROLES'!L25 -> NO | S20: =+'EVALUACION CON CONTROLES'!M25 -> FFDLRUU | T20: =+'EVALUACION CON CONTROLES'!N25 -> ETAPA DE FORMALIZACIÓN DEL CONTRATO | U20: =+'EVALUACION CON CONTROLES'!O25 -> UNA VEZ SUSCRITO Y APROBADO EL CONTRATO POR LAS PARTES | ... W20: =+'EVALUACION CON CONTROLES'!Q25 -> DE ACUERDO A LA POSIBILIDAD DE OCURRENCIA
B21: 11 | C21: =+'EVALUACION CON CONTROLES'!B26 -> Contestación inoportuna a todas las observaciones formuladas a los documentos de la contratación | D21: =+'EVALUACION CON CONTROLES'!A26 -> SELECCIÓN | E21: =VLOOKUP(C21,'IDENTIFICACION Y ANALISIS'!$B$19:$F$54,3,FALSE) -> Estatal | F21: =VLOOKUP(C21,'IDENTIFICACION Y ANALISIS'!$B$19:$F$54,4,FALSE) -> Interno | G21: =+EVALUACION!H26 -> No adjudicación del proceso | H21: =+EVALUACION!I26 -> 1 | I21: =+EVALUACION!J26 -> 3 | J21: =+EVALUACION!K26 -> 4 | K21: =+EVALUACION!L26 -> BAJO | L21: FFDLRUU | M21: =+'EVALUACION CON CONTROLES'!F26 -> Realizar una evaluación detallada con forme a pliegos de condiciones y demas requisistos | N21: =+'EVALUACION CON CONTROLES'!H26 -> 1 | O21: =+'EVALUACION CON CONTROLES'!I26 -> 3 | P21: =+'EVALUACION CON CONTROLES'!J26 -> 4 | Q21: =+'EVALUACION CON CONTROLES'!K26 -> BAJO | R21: =+'EVALUACION CON CONTROLES'!L26 -> NO | S21: =+'EVALUACION CON CONTROLES'!M26 -> FFDLRUU | T21: =+'EVALUACION CON CONTROLES'!N26 -> ETAPA PRECONTRACTUAL | U21: =+'EVALUACION CON CONTROLES'!O26 -> FECHA DE ADJUDICACIÓN DEL PROCESO | ... W21: =+'EVALUACION CON CONTROLES'!Q26 -> DE ACUERDO A LA POSIBILIDAD DE OCURRENCIA
B22: 12 | C22: =+'EVALUACION CON CONTROLES'!B27 -> No publicación de la documentación del proceso de selección en el SECOP | D22: =+'EVALUACION CON CONTROLES'!A27 -> SELECCIÓN | E22: =VLOOKUP(C22,'IDENTIFICACION Y ANALISIS'!$B$19:$F$54,3,FALSE) -> Estatal | F22: =VLOOKUP(C22,'IDENTIFICACION Y ANALISIS'!$B$19:$F$54,4,FALSE) -> Interno | G22: =+EVALUACION!H27 -> No adjudicación del proceso | H22: =+EVALUACION!I27 -> 1 | I22: =+EVALUACION!J27 -> 3 | J22: =+EVALUACION!K27 -> 4 | K22: =+EVALUACION!L27 -> BAJO | L22: FFDLRUU | M22: =+'EVALUACION CON CONTROLES'!F27 -> Realizar los procedimientos administrativos a lugar en los tiempos que se requieren | N22: =+'EVALUACION CON CONTROLES'!H27 -> 1 | O22: =+'EVALUACION CON CONTROLES'!I27 -> 3 | P22: =+'EVALUACION CON CONTROLES'!J27 -> 4 | Q22: =+'EVALUACION CON CONTROLES'!K27 -> BAJO | R22: =+'EVALUACION CON CONTROLES'!L27 -> NO | S22: =+'EVALUACION CON CONTROLES'!M27 -> FFDLRUU | T22: =+'EVALUACION CON CONTROLES'!N27 -> ETAPA PRECONTRACTUAL | U22: =+'EVALUACION CON CONTROLES'!O27 -> FECHA DE ADJUDICACIÓN DEL PROCESO | ... W22: =+'EVALUACION CON CONTROLES'!Q27 -> DE ACUERDO A LA POSIBILIDAD DE OCURRENCIA
